{"text_format":"1","workbook":"xlsx","n_sheets":12,"sheets":["Introduction","Start","Start - expert","Données de production","Données de prix","Données de coûts","Scénario à définir","Calcul de LCOE","Calcul de variation des prix","Scénarios choisis - défaut","Scénarios choisis","Données - Graphiques"],"not_rendered":{"charts":14,"images":3,"macros":1,"external_links":0,"defined_names":55,"comments":0,"pivot_tables":0},"unopened":[],"bounds":{"document_bytes":16777216,"sheet_cells":100000,"rows_first":2000,"rows_last":500,"rows_between":2000,"halvings":0,"cell_chars":16384,"cell_head_chars":4096},"cells_cut":0,"cells_raw":0,"read":"whole","date_system":"1900"}

{"sheet":"Introduction","index":0,"n_rows":74,"n_cols":5,"rows_kept":74,"cut":false,"hidden":false,"merged":[[30,2,30,4],[3,2,3,4],[1,2,1,4],[6,2,6,4],[5,2,5,4],[4,2,4,4],[11,2,11,4],[17,2,17,4],[26,2,26,4]]}
[null," "]
[null,null,"Outil d’évaluation du besoin de soutien public des ENR électriques - Guide de démarrage rapide"]
[]
[null,null,"Notes importantes"]
[]
[null,null,"1. Les macros doivent être approuvées pour l'utilisation de l'outil."]
[null,null,"2. L'outil a été conçu avec des virgules comme séparateur de décimales. S'il ne s'agit pas de la configuration par défaut de l'utilisateur, il est possible de le modifier via le chemin suivant: Fichier/Options/Options avancées/Utiliser les séparateurs systèmes"]
[]
[]
[null,null,"GUIDE UTILISATEUR"]
[]
[null,null,"Cet outil Excel a pour objectif de présenter l'évolution du besoin de soutien public suivant le déploiement des énergies renouvelables électriques en France. \nIl présente trois scénarios:\n- Un scénario respectant les objectifs de la PPE jusqu’à 2028 et prolongé jusqu’à 2040 à partir du scénario « Ampère » du BP RTE.\n- Le scénario de référence de l’étude ADEME Trajectoires d’évolution du mix électrique 2020-2060\n- Le scénario « Prolongement nucléaire aisé » de l’étude ADEME Trajectoires d’évolution du mix électrique 2020-2060\n\nL'outil se présente sous deux modes, un mode par défaut avec des fonctionnalités limitées, et un mode dit \"expert\" permettant de faire varier davantage de paramètres, définir son propre scénario d'évolution des EnRe et d'accèder au détail des calculs.Toutes les cellules modifiables de l'outil sont en couleur bleu cyan, le reste est en lecture seule. Les variations de % proposées s'appliquent sur la pente de trajectoires tendancielles explicitées dans un document complémentaire.\n\nPour commencer, appuyer sur le bouton \"Démarrer\" qui vous redirigera vers l'onglet principal du mode par défaut.\n\nMode par défaut:\nAu sein de ce mode, il vous sera possible de visualiser les hypothèses et résultats des trois scénarios présentés plus haut. Pour sélectionner le scénario voulu, il est possible de le faire via le menu déroulant de la cellule E3. Il sera par ailleurs possible de faire évoluer la trajectoire de coût des technologies (variation en % sur la pente) afin d'évaluer la sensibilité des soutiens publics nécessaires suivant ces hypothèses.\nPar défaut les valeurs présentées sont dites en prix courants (tenant compte de l'inflation), il est possible de passer en prix constants via le menu déroulant de la cellule F3.\nUn bouton \"Réinitialiser\" permet de réinitialiser les valeurs modifiables de l'onglet à 0.\n\nMode expert:\nPour passer au mode expert, il suffit d'appuyer sur le bouton \"Mode expert\" dans l'onglet \"Start\".\nAu sein de ce mode, plus de liberté est laissé à l'utilisateur. Comme présenté plus haut, un onglet \"Scénario à définir\" permet de définir son propre scénario sur la base des trois scénario existants. Il est aussi possible d'appliquer de plus simples variations sur quelques paramètres (capacités installées, coûts, prix de marché...) via la colonne D et J.\nPar défaut les valeurs présentées sont dites en prix courants (tenant compte de l'inflation), il est possible de passer en prix constants via le menu déroulant de la cellule F3. Les cellules de couleur bleu cyan peuvent être modifiées en sélectionnant une valeur proposée dans le menu déroulant.\nUn bouton \"Réinitialiser\" permet de réinitialiser les valeurs modifiables de l'onglet à 0."]
[]
[]
[]
[null,null,"DESCRIPTION DES ONGLETS"]
[]
[null,null,"ONGLETS COMMUNS A TOUS LES MODES"]
[]
[null,null,"Données de production",null,"Présente l'historique et les projections par scénario des capacités installées et de production"]
[]
[null,null,"Données de prix",null,"Présente l'historique et les projections de l'inflation, des prix de marché, du CO2 et des revenus de marché par technologie"]
[]
[null,null,"Données de coûts",null,"Présente les hypothèses utilisées dans le calcul des coûts des technologies (CAPEX/OPEX, taux d'actualisation/financement, durée de vie, facteur de charge) ou les prix d'attribution des projets selon la technologie"]
[]
[]
[null,null,"MODE PAR DEFAUT"]
[]
[null,null,"Start",null,"Onglet principal du mode par défaut présentant les hypothèses et résultats par scénario"]
[]
[null,null,"MODE  EXPERT"]
[]
[null,null,"Start - expert",null,"Onglet principal du mode expert présentant les hypothèses et résultats par scénario"]
[]
[null,null,"Scénario à définir",null,"Onglet libre permettant à l'utilisateur de définir son propre scénario"]
[]
[null,null,"Calcul LCOE ",null,"Détail du calcul des LCOE par technologie, sur la base de l'onglet \"Données de coûts\""]
[]
[null,null,"Calcul de variation des prix ",null,"Détail du calcul de passage de prix courant à prix constant"]
[]
[null,null,"Scénarios choisis",null,"Détail du calcul des compléments de rémunération"]
[]
[]
[]
[null,null,"LEXIQUE"]
[]
[null,null,"PPE - AMPERE",null,"Scénario prenant en compte les éléments de la PPE jusqu'à 2028 et prolongé grâce au scénario \"Ampère\" du Bilan Prévisionnel RTE 2017"]
[null,null,"Référence ADEME",null,"Scénario de référence de l’étude ADEME Trajectoires d’évolution du mix électrique 2020-2060"]
[null,null,"Prolongement nucléaire aisé ADEME",null,"Scénario « Prolongement nucléaire aisé » de l’étude ADEME Trajectoires d’évolution du mix électrique 2020-2060"]
[null,null,"LCOE nucléaire",null,"Le LCOE associé au nucléaire correspond à celui des EPR comme considéré dans l’étude ADEME Trajectoires d’évolution du mix électrique 2020-2060"]
[]
[]
[null,null,"LICENCE"]
[]
[null,null,"Produit de","Agora Energiewende"]
[null,null,null,"Anna-Louisa-Karsch-Str. 2"]
[null,null,null,"10178 Berlin"]
[null,null,null,"Allemagne"]
[null,null,null,"www.agora-energiewende.de/fr"]
[]
[null,null,"Auteure","Murielle Gagnebin (Agora Energiewende)"]
[null,null,"En coopération avec","Nicolas Berghmans (Institut du développement durable et des relations internationales, Iddri)"]
[null,null,"Avec le soutien de","Igor Arduin (Artelys)"]
[]
[null,null,"Dernière actualisation :","05/12/2019"]
[null,null,"Version :","01.2"]
[]
[null,null,"Contact :","info@agora-energiewende.de"]
[]
[]
[null,null,"© Agora Energiewende, Smart Energy for Europe Platform (SEFEP) gGmbH. Tous droits réservés."]
[null,null,"L'utilisation du modèle, des données et des résultats sous réserve de mention de l'auteure et de Agora Energiewende."]
[]
[null,null,"Citation : Agora Energiewende (2019) : Outil d’évaluation du besoin de soutien public des ENR électriques"]

{"sheet":"Start","index":1,"n_rows":28,"n_cols":16,"rows_kept":28,"cut":false,"hidden":false,"merged":[[4,1,4,12],[4,15,4,23],[21,3,21,4],[6,8,6,10],[6,6,6,7],[6,3,6,5]]}
[]
[]
[null,null,"Sélectionnez le scénario","PPE - AMPERE","Prix","CONSTANT"]
[]
[null,"HYPOTHESES",null,null,null,null,null,null,null,null,null,null,null,null,null,"RESULTATS"]
[]
[null,null,null,"Capacité installée de production d'électricité (GW)",null,null,"Production d'électricité (TWh)",null,"Variation prix d'attribution des projets (€2017/MWh)"]
[null,null,"Technologie",2017,2040,"Croissance annuelle moyenne",2017,2040,"Evolution trajectoire",2017,2040]
[null,null,{"$f":"'Données de production'!C5","v":"Nucléaire"},{"$f":"'Scénarios choisis - défaut'!E5","v":63.13},{"$f":"'Scénarios choisis - défaut'!N5","v":40.714285714285715},{"$f":"(E9-D9)/($E$8-$D$8)","v":-0.97459627329192555},{"$f":"'Scénarios choisis - défaut'!E16","v":379.1},{"$f":"'Scénarios choisis - défaut'!N16","v":234.72857142857146},null,{"$f":"'Scénarios choisis - défaut'!E28","v":0},{"$f":"'Scénarios choisis - défaut'!J28","v":85}]
[null,null,{"$f":"'Données de production'!C6","v":"Eolien terrestre"},{"$f":"'Scénarios choisis - défaut'!E6","v":13.55},{"$f":"'Scénarios choisis - défaut'!N6","v":64.764285714285705},{"$f":"(E10-D10)/($E$8-$D$8)","v":2.2267080745341614},{"$f":"'Scénarios choisis - défaut'!E17","v":24},{"$f":"'Scénarios choisis - défaut'!N17","v":138.6},"Trajectoire de référence",{"$f":"'Scénarios choisis - défaut'!E29","v":65.400000000000006},{"$f":"'Scénarios choisis - défaut'!J29","v":43.062987340873931}]
[null,null,{"$f":"'Données de production'!C7","v":"Eolien en mer"},{"$f":"'Scénarios choisis - défaut'!E7","v":0},{"$f":"'Scénarios choisis - défaut'!N7","v":22.178571428571431},0.96428571428571441,{"$f":"'Scénarios choisis - défaut'!E18","v":0},{"$f":"'Scénarios choisis - défaut'!N18","v":73.785714285714292},"Trajectoire de référence",{"$f":"'Scénarios choisis - défaut'!E30","v":140},{"$f":"'Scénarios choisis - défaut'!J30","v":45}]
[null,null,{"$f":"'Données de production'!C8","v":"PV au sol"},{"$f":"'Scénarios choisis - défaut'!E8","v":4.178612324929972},{"$f":"'Scénarios choisis - défaut'!N8","v":33.082983960240128},1.2567118102308763,{"$f":"'Scénarios choisis - défaut'!E19","v":5.0226330532212877},{"$f":"'Scénarios choisis - défaut'!N19","v":39.622187695720406},"Trajectoire de référence",{"$f":"'Scénarios choisis - défaut'!E31","v":63.9},{"$f":"'Scénarios choisis - défaut'!J31","v":37.555297814500541}]
[null,null,{"$f":"'Données de production'!C9","v":"PV sur toiture"},{"$f":"'Scénarios choisis - défaut'!E9","v":3.4753876750700283},{"$f":"'Scénarios choisis - défaut'!N9","v":21.452730325474157},0.78162359349583166,{"$f":"'Scénarios choisis - défaut'!E20","v":4.1773669467787116},{"$f":"'Scénarios choisis - défaut'!N20","v":25.692098018565311},"Trajectoire de référence",{"$f":"'Scénarios choisis - défaut'!E32","v":85},{"$f":"'Scénarios choisis - défaut'!J32","v":48.581929444874824}]
[null,null,{"$f":"'Données de production'!C10","v":"Autres EnRe"},{"$f":"'Scénarios choisis - défaut'!E10","v":1.9528000000000001},{"$f":"'Scénarios choisis - défaut'!N10","v":6.1721428571428563},0.18344968944099377,{"$f":"'Scénarios choisis - défaut'!E21","v":9.5},{"$f":"'Scénarios choisis - défaut'!N21","v":24.071428571428569}]
[null,null,{"$f":"'Données de production'!C11","v":"Hydraulique"},{"$f":"'Scénarios choisis - défaut'!E11","v":25.521100000000001},{"$f":"'Scénarios choisis - défaut'!N11","v":25.5},-9.1739130434785056E-4,{"$f":"'Scénarios choisis - défaut'!E22","v":53.5},{"$f":"'Scénarios choisis - défaut'!N22","v":71.942857142857136}]
[null,null,{"$f":"'Données de production'!C12","v":"Fossile"},{"$f":"'Scénarios choisis - défaut'!E12","v":19.027699999999999},{"$f":"'Scénarios choisis - défaut'!N12","v":12.5},-0.28381304347826086,{"$f":"'Scénarios choisis - défaut'!E23","v":53.900000000000006},{"$f":"'Scénarios choisis - défaut'!N23","v":22.742857142857147}]
[]
[null,null,null,2017,2040]
[null,null,"Prix de marché moyen (€/MWh)",{"$f":"'Scénarios choisis - défaut'!E52","v":50.497976729383467},{"$f":"'Scénarios choisis - défaut'!J52","v":71.721678689258695}]
[null,null,"Prix du CO2 (€/tCO2)",{"$f":"'Scénarios choisis - défaut'!E53","v":8.15},{"$f":"'Scénarios choisis - défaut'!J53","v":124.35}]
[]
[null,null,null,"Revenus de marché (€2017/MWh)"]
[null,null,"Technologie",2017,2040]
[null,null,{"$f":"'Calcul de variation des prix'!C37","v":"Nucléaire"},{"$f":"'Scénarios choisis - défaut'!E36","v":47.902135933104503},{"$f":"'Scénarios choisis - défaut'!J36","v":66.777527955554149}]
[null,null,{"$f":"'Calcul de variation des prix'!C38","v":"Eolien terrestre"},{"$f":"'Scénarios choisis - défaut'!E37","v":48.228490576657116},{"$f":"'Scénarios choisis - défaut'!J37","v":50.252688237157606}]
[null,null,{"$f":"'Calcul de variation des prix'!C39","v":"Eolien en mer"},{"$f":"'Scénarios choisis - défaut'!E38","v":0},{"$f":"'Scénarios choisis - défaut'!J38","v":54.946779004418509}]
[null,null,{"$f":"'Calcul de variation des prix'!C40","v":"PV au sol"},{"$f":"'Scénarios choisis - défaut'!E39","v":43.137359111091079},{"$f":"'Scénarios choisis - défaut'!J39","v":51.326513111441244}]
[null,null,{"$f":"'Calcul de variation des prix'!C41","v":"PV sur toiture"},{"$f":"'Scénarios choisis - défaut'!E40","v":43.137359111091079},{"$f":"'Scénarios choisis - défaut'!J40","v":51.326513111441244}]

{"sheet":"Start - expert","index":2,"n_rows":78,"n_cols":23,"rows_kept":78,"cut":false,"hidden":true,"merged":[[66,5,66,9],[71,5,71,9],[4,1,5,24],[23,3,23,5],[6,1,6,13],[6,15,6,24],[58,5,58,9],[8,3,8,6],[8,7,8,8],[8,9,8,11],[43,17,43,22],[65,17,65,22],[21,17,21,22]]}
[]
[]
[null,null,"Sélectionnez le scénario","PPE - AMPERE","Prix","CONSTANT"]
[]
[null,"!! La variation des paramètres dans les cellules bleues dans le mode expert n’assure plus la cohérence interne entre les valeurs du scénario (capacité, production, prix, etc.) !!\nIl permet d’évaluer - en première estimation - des tendances d’évolution autour des trajectoires de référence. Vous pouvez importer des scénarios cohérents complémentaires dans l'onglet \"scénario à définir\"."]
[]
[null,"HYPOTHESES",null,null,null,null,null,null,null,null,null,null,null,null,null,"RESULTATS"]
[]
[null,null,null,"Capacité installée de production d'électricité (GW)",null,null,null,"Production d'électricité (TWh)",null,"Variation prix d'attribution des projets (€2017/MWh)"]
[null,null,"Technologie","Evolution /  scénario (%)",2017,2040,"Croissance annuelle moyenne",2017,2040,"Evolution trajectoire",2017,2040]
[null,null,{"$f":"'Données de production'!C5","v":"Nucléaire"},0,{"$f":"'Scénarios choisis'!E5","v":63.13},{"$f":"'Scénarios choisis'!N5","v":40.714285714285715},{"$f":"(F11-E11)/($F$10-$E$10)","v":-0.97459627329192555},{"$f":"'Scénarios choisis'!E16","v":379.1},{"$f":"'Scénarios choisis'!N16","v":234.72857142857146},null,{"$f":"'Scénarios choisis'!E28","v":0},{"$f":"'Scénarios choisis'!J28","v":85}]
[null,null,{"$f":"'Données de production'!C6","v":"Eolien terrestre"},0,{"$f":"'Scénarios choisis'!E6","v":13.55},{"$f":"'Scénarios choisis'!N6","v":64.764285714285705},{"$f":"(F12-E12)/($F$10-$E$10)","v":2.2267080745341614},{"$f":"'Scénarios choisis'!E17","v":24},{"$f":"'Scénarios choisis'!N17","v":138.6},"Trajectoire de référence",{"$f":"'Scénarios choisis'!E29","v":65.400000000000006},{"$f":"'Scénarios choisis'!J29","v":43.062987340873931}]
[null,null,{"$f":"'Données de production'!C7","v":"Eolien en mer"},0,{"$f":"'Scénarios choisis'!E7","v":0},{"$f":"'Scénarios choisis'!N7","v":22.178571428571431},0.96428571428571441,{"$f":"'Scénarios choisis'!E18","v":0},{"$f":"'Scénarios choisis'!N18","v":73.785714285714292},"Trajectoire de référence",{"$f":"'Scénarios choisis'!E30","v":140},{"$f":"'Scénarios choisis'!J30","v":45}]
[null,null,{"$f":"'Données de production'!C8","v":"PV au sol"},0,{"$f":"'Scénarios choisis'!E8","v":4.178612324929972},{"$f":"'Scénarios choisis'!N8","v":33.082983960240128},1.2567118102308763,{"$f":"'Scénarios choisis'!E19","v":5.0226330532212877},{"$f":"'Scénarios choisis'!N19","v":39.622187695720406},"Trajectoire de référence",{"$f":"'Scénarios choisis'!E31","v":63.9},{"$f":"'Scénarios choisis'!J31","v":37.555297814500541}]
[null,null,{"$f":"'Données de production'!C9","v":"PV sur toiture"},0,{"$f":"'Scénarios choisis'!E9","v":3.4753876750700283},{"$f":"'Scénarios choisis'!N9","v":21.452730325474157},0.78162359349583166,{"$f":"'Scénarios choisis'!E20","v":4.1773669467787116},{"$f":"'Scénarios choisis'!N20","v":25.692098018565314},"Trajectoire de référence",{"$f":"'Scénarios choisis'!E32","v":85},{"$f":"'Scénarios choisis'!J32","v":48.581929444874824}]
[null,null,{"$f":"'Données de production'!C10","v":"Autres EnRe"},0,{"$f":"'Scénarios choisis'!E10","v":1.9528000000000001},{"$f":"'Scénarios choisis'!N10","v":6.1721428571428563},0.18344968944099377,{"$f":"'Scénarios choisis'!E21","v":9.5},{"$f":"'Scénarios choisis'!N21","v":24.071428571428569}]
[null,null,{"$f":"'Données de production'!C11","v":"Hydraulique"},0,{"$f":"'Scénarios choisis'!E11","v":25.521100000000001},{"$f":"'Scénarios choisis'!N11","v":25.5},-9.1739130434785056E-4,{"$f":"'Scénarios choisis'!E22","v":53.5},{"$f":"'Scénarios choisis'!N22","v":71.942857142857136}]
[null,null,{"$f":"'Données de production'!C12","v":"Fossile"},0,{"$f":"'Scénarios choisis'!E12","v":19.027699999999999},{"$f":"'Scénarios choisis'!N12","v":12.5},-0.28381304347826086,{"$f":"'Scénarios choisis'!E23","v":53.900000000000006},{"$f":"'Scénarios choisis'!N23","v":22.742857142857147}]
[]
[null,null,null,"Evolution / scénario (%)",2017,2040]
[null,null,"Prix de marché moyen (€/MWh)",0,{"$f":"'Scénarios choisis'!E52","v":50.497976729383467},{"$f":"'Scénarios choisis'!J52","v":71.721678689258695}]
[null,null,"Prix du CO2 (€/tCO2)",null,{"$f":"'Scénarios choisis'!E53","v":8.15},{"$f":"'Scénarios choisis'!J53","v":124.35},null,null,null,null,null,null,null,null,null,null,null,"Evolution du besoin cumulé de compléments rémunération (Milliards €)"]
[null,null,null,null,null,null,null,null,null,null,null,null,null,null,null,null,"Technologie",2018,2020,2025,2030,2035,2040]
[null,null,null,"Revenus de marché (€2017/MWh)",null,null,null,null,null,null,null,null,null,null,null,null,{"$f":"'Scénarios choisis'!C194","v":"Charges engagées avant 2018"},{"$f":"'Scénarios choisis'!F194","v":3.8135013016383827},{"$f":"'Scénarios choisis'!H194","v":4.1771166187607607},{"$f":"'Scénarios choisis'!M194","v":3.6949124065952907},{"$f":"'Scénarios choisis'!R194","v":2.4685985274341338},{"$f":"'Scénarios choisis'!W194","v":0.37588671950201197},{"$f":"'Scénarios choisis'!AB194","v":0}]
[null,null,"Technologie","Evolution / scénario (%)",2017,2040,null,null,null,null,null,null,null,null,null,null,{"$f":"'Scénarios choisis'!C195","v":"AO éolien en mer 2011 & 2013 renégociés"},{"$f":"'Scénarios choisis'!F195","v":0},{"$f":"'Scénarios choisis'!H195","v":0},{"$f":"'Scénarios choisis'!M195","v":0.62775374706889042},{"$f":"'Scénarios choisis'!R195","v":0.47518621772612923},{"$f":"'Scénarios choisis'!W195","v":0.45843322879452159},{"$f":"'Scénarios choisis'!AB195","v":0.28789777521360627}]
[null,null,{"$f":"'Calcul de variation des prix'!C37","v":"Nucléaire"},0,{"$f":"'Scénarios choisis'!E36","v":47.902135933104503},{"$f":"ROUND('Scénarios choisis'!J36,12)","v":66.777527955554007},null,null,null,null,null,null,null,null,null,null,{"$f":"'Scénarios choisis'!C196","v":"Eolien terrestre"},{"$f":"'Scénarios choisis'!F196+'Scénarios choisis'!F197","v":0},{"$f":"'Scénarios choisis'!H196+'Scénarios choisis'!H197","v":0},{"$f":"'Scénarios choisis'!M196+'Scénarios choisis'!M197","v":0.47281174114738156},{"$f":"'Scénarios choisis'!R196+'Scénarios choisis'!R197","v":0.65889807085164631},{"$f":"'Scénarios choisis'!W196+'Scénarios choisis'!W197","v":0.66508829249704071},{"$f":"'Scénarios choisis'!AB196+'Scénarios choisis'!AB197","v":0.52546672276853856}]
[null,null,{"$f":"'Calcul de variation des prix'!C38","v":"Eolien terrestre"},0,{"$f":"'Scénarios choisis'!E37","v":48.228490576657116},{"$f":"ROUND('Scénarios choisis'!J37,12)","v":50.252688237157997},null,null,null,null,null,null,null,null,null,null,{"$f":"'Scénarios choisis'!C198","v":"Eolien en mer"},{"$f":"'Scénarios choisis'!F198+'Scénarios choisis'!F199","v":0},{"$f":"'Scénarios choisis'!H198+'Scénarios choisis'!H199","v":0},{"$f":"'Scénarios choisis'!M198+'Scénarios choisis'!M199","v":8.8744197262916429E-7},{"$f":"'Scénarios choisis'!R198+'Scénarios choisis'!R199","v":5.9590164014381865E-2},{"$f":"'Scénarios choisis'!W198+'Scénarios choisis'!W199","v":4.1708107200243615E-2},{"$f":"'Scénarios choisis'!AB198+'Scénarios choisis'!AB199","v":-0.1741579538584965}]
[null,null,{"$f":"'Calcul de variation des prix'!C39","v":"Eolien en mer"},0,{"$f":"'Scénarios choisis'!E38","v":0},{"$f":"ROUND('Scénarios choisis'!J38,12)","v":54.946779004419},null,null,null,null,null,null,null,null,null,null,{"$f":"'Scénarios choisis'!C200","v":"PV au sol"},{"$f":"'Scénarios choisis'!F200+'Scénarios choisis'!F201","v":0},{"$f":"'Scénarios choisis'!H200+'Scénarios choisis'!H201","v":3.2220226162647921E-2},{"$f":"'Scénarios choisis'!M200+'Scénarios choisis'!M201","v":0.19030404635976733},{"$f":"'Scénarios choisis'!R200+'Scénarios choisis'!R201","v":0.16675684358776358},{"$f":"'Scénarios choisis'!W200+'Scénarios choisis'!W201","v":7.289696912777606E-2},{"$f":"'Scénarios choisis'!AB200+'Scénarios choisis'!AB201","v":-8.9047283484357601E-2}]
[null,null,{"$f":"'Calcul de variation des prix'!C40","v":"PV au sol"},0,{"$f":"'Scénarios choisis'!E39","v":43.137359111091079},{"$f":"ROUND('Scénarios choisis'!J39,12)","v":51.326513111441002},null,null,null,null,null,null,null,null,null,null,{"$f":"'Scénarios choisis'!C202","v":"PV sur toiture"},{"$f":"'Scénarios choisis'!F202+'Scénarios choisis'!F203","v":0},{"$f":"'Scénarios choisis'!H202+'Scénarios choisis'!H203","v":4.7838766898218352E-2},{"$f":"'Scénarios choisis'!M202+'Scénarios choisis'!M203","v":0.33659597081085574},{"$f":"'Scénarios choisis'!R202+'Scénarios choisis'!R203","v":0.48289215171783989},{"$f":"'Scénarios choisis'!W202+'Scénarios choisis'!W203","v":0.46113337269300381},{"$f":"'Scénarios choisis'!AB202+'Scénarios choisis'!AB203","v":0.37070306374288065}]
[null,null,{"$f":"'Calcul de variation des prix'!C41","v":"PV sur toiture"},0,{"$f":"'Scénarios choisis'!E40","v":43.137359111091079},{"$f":"ROUND('Scénarios choisis'!J40,12)","v":51.326513111441002}]
[]
[]
[]
[]
[]
[]
[]
[]
[]
[]
[]
[]
[]
[null,null,null,null,null,null,null,null,null,null,null,null,null,null,null,null,null,"Complément de rémunération nécessaire en fonction de l'année de mise en fonctionnement (€2017/MWh)"]
[null,null,null,null,null,null,null,null,null,null,null,null,null,null,null,null,"Technologie",2017,2020,2025,2030,2035,2040]
[null,null,null,null,null,null,null,null,null,null,null,null,null,null,null,null,{"$f":"'Calcul de variation des prix'!C37","v":"Nucléaire"},{"$f":"IF(ISNA('Données - Graphiques'!E66), 0,'Données - Graphiques'!E66)","v":0},{"$f":"IF(ISNA('Données - Graphiques'!F66), 0,'Données - Graphiques'!F66)","v":0},{"$f":"IF(ISNA('Données - Graphiques'!G66), 0,'Données - Graphiques'!G66)","v":0},{"$f":"IF(ISNA('Données - Graphiques'!H66), 0,'Données - Graphiques'!H66)","v":26.42916422811961},{"$f":"IF(ISNA('Données - Graphiques'!I66), 0,'Données - Graphiques'!I66)","v":22.325818136282734},{"$f":"IF(ISNA('Données - Graphiques'!J66), 0,'Données - Graphiques'!J66)","v":18.222472044445851}]
[null,null,null,null,null,null,null,null,null,null,null,null,null,null,null,null,{"$f":"'Calcul de variation des prix'!C38","v":"Eolien terrestre"},{"$f":"IF(ISNA('Données - Graphiques'!E67), 0,'Données - Graphiques'!E67)","v":17.17150942334289},{"$f":"IF(ISNA('Données - Graphiques'!F67), 0,'Données - Graphiques'!F67)","v":20.0616609077871},{"$f":"IF(ISNA('Données - Graphiques'!G67), 0,'Données - Graphiques'!G67)","v":18.269083189641613},{"$f":"IF(ISNA('Données - Graphiques'!H67), 0,'Données - Graphiques'!H67)","v":5.4257006885440688},{"$f":"IF(ISNA('Données - Graphiques'!I67), 0,'Données - Graphiques'!I67)","v":-0.94772030313016131},{"$f":"IF(ISNA('Données - Graphiques'!J67), 0,'Données - Graphiques'!J67)","v":-7.189700896283675}]
[null,null,null,null,null,null,null,null,null,null,null,null,null,null,null,null,{"$f":"'Calcul de variation des prix'!C39","v":"Eolien en mer"},{"$f":"IF(ISNA('Données - Graphiques'!E68), 0,'Données - Graphiques'!E68)","v":0},{"$f":"IF(ISNA('Données - Graphiques'!F68), 0,'Données - Graphiques'!F68)","v":0},{"$f":"IF(ISNA('Données - Graphiques'!G68), 0,'Données - Graphiques'!G68)","v":10.799999999999997},{"$f":"IF(ISNA('Données - Graphiques'!H68), 0,'Données - Graphiques'!H68)","v":2.842203499263583},{"$f":"IF(ISNA('Données - Graphiques'!I68), 0,'Données - Graphiques'!I68)","v":-2.0522877525774632},{"$f":"IF(ISNA('Données - Graphiques'!J68), 0,'Données - Graphiques'!J68)","v":-9.9467790044185094}]
[null,null,null,null,null,null,null,null,null,null,null,null,null,null,null,null,{"$f":"'Calcul de variation des prix'!C40","v":"PV au sol"},{"$f":"IF(ISNA('Données - Graphiques'!E69), 0,'Données - Graphiques'!E69)","v":20.762640888908919},{"$f":"IF(ISNA('Données - Graphiques'!F69), 0,'Données - Graphiques'!F69)","v":17.860395406969644},{"$f":"IF(ISNA('Données - Graphiques'!G69), 0,'Données - Graphiques'!G69)","v":8.5775332333748295},{"$f":"IF(ISNA('Données - Graphiques'!H69), 0,'Données - Graphiques'!H69)","v":0.24818586885700711},{"$f":"IF(ISNA('Données - Graphiques'!I69), 0,'Données - Graphiques'!I69)","v":-6.2464333407995056},{"$f":"IF(ISNA('Données - Graphiques'!J69), 0,'Données - Graphiques'!J69)","v":-13.771215296940703}]
[null,null,null,null,null,null,null,null,null,null,null,null,null,null,null,null,{"$f":"'Calcul de variation des prix'!C41","v":"PV sur toiture"},{"$f":"IF(ISNA('Données - Graphiques'!E70), 0,'Données - Graphiques'!E70)","v":41.862640888908921},{"$f":"IF(ISNA('Données - Graphiques'!F70), 0,'Données - Graphiques'!F70)","v":40.804172046038914},{"$f":"IF(ISNA('Données - Graphiques'!G70), 0,'Données - Graphiques'!G70)","v":34.594270937559237},{"$f":"IF(ISNA('Données - Graphiques'!H70), 0,'Données - Graphiques'!H70)","v":20.140037761837227},{"$f":"IF(ISNA('Données - Graphiques'!I70), 0,'Données - Graphiques'!I70)","v":7.0137520230261643},{"$f":"IF(ISNA('Données - Graphiques'!J70), 0,'Données - Graphiques'!J70)","v":-2.7445836665664203}]
[]
[]
[]
[]
[]
[]
[]
[]
[null,null,null,null,"Données historiques","Scénario choisi (€2017/MWh)"]
[null,null,"Prix d'attribution des projets","Unité",2017,2020,2025,2030,2035,2040]
[null,null,{"$f":"'Calcul de variation des prix'!C73","v":"Nucléaire"},"€/MWh",{"$f":"'Scénarios choisis'!E28","v":0},{"$f":"'Scénarios choisis'!F28","v":0},{"$f":"'Scénarios choisis'!G28","v":0},{"$f":"'Scénarios choisis'!H28","v":85},{"$f":"'Scénarios choisis'!I28","v":85},{"$f":"'Scénarios choisis'!J28","v":85}]
[null,null,{"$f":"'Calcul de variation des prix'!C74","v":"Eolien terrestre"},"€/MWh",{"$f":"'Scénarios choisis'!E29","v":65.400000000000006},{"$f":"'Scénarios choisis'!F29","v":63.175906196115662},{"$f":"'Scénarios choisis'!G29","v":59.469083189641616},{"$f":"'Scénarios choisis'!H29","v":52.134482061403666},{"$f":"'Scénarios choisis'!I29","v":47.533014501878441},{"$f":"'Scénarios choisis'!J29","v":43.062987340873931}]
[null,null,{"$f":"'Calcul de variation des prix'!C75","v":"Eolien en mer"},"€/MWh",{"$f":"'Scénarios choisis'!E30","v":140},{"$f":"'Scénarios choisis'!F30","v":56},{"$f":"'Scénarios choisis'!G30","v":54},{"$f":"'Scénarios choisis'!H30","v":52},{"$f":"'Scénarios choisis'!I30","v":50},{"$f":"'Scénarios choisis'!J30","v":45}]
[null,null,{"$f":"'Calcul de variation des prix'!C76","v":"PV au sol"},"€/MWh",{"$f":"'Scénarios choisis'!E31","v":63.9},{"$f":"'Scénarios choisis'!F31","v":57.929074962515188},{"$f":"'Scénarios choisis'!G31","v":47.977533233374828},{"$f":"'Scénarios choisis'!H31","v":44.635938054097217},{"$f":"'Scénarios choisis'!I31","v":41.610699307541218},{"$f":"'Scénarios choisis'!J31","v":37.555297814500541}]
[null,null,{"$f":"'Calcul de variation des prix'!C77","v":"PV sur toiture"},"€/MWh",{"$f":"'Scénarios choisis'!E32","v":85},{"$f":"'Scénarios choisis'!F32","v":80.872851601584458},{"$f":"'Scénarios choisis'!G32","v":73.994270937559236},{"$f":"'Scénarios choisis'!H32","v":64.527789947077437},{"$f":"'Scénarios choisis'!I32","v":54.870884671366888},{"$f":"'Scénarios choisis'!J32","v":48.581929444874824}]
[null,null,null,null,null,null,null,null,null,null,null,null,null,null,null,null,null,"Coûts totaux (CAPEX+OPEX) annualisés (Milliards €)"]
[null,null,null,null,"Données historiques","Scénario choisi (€2017/MWh)",null,null,null,null,null,null,null,null,null,null,"Technologie",2018,2020,2025,2030,2035,2040]
[null,null,"Variables","Unité",2017,2020,2025,2030,2035,2040,null,null,null,null,null,null,{"$f":"'Scénarios choisis'!C306","v":"Charges engagées avant 2018"},{"$f":"'Scénarios choisis'!F306","v":5.9786278859420419},{"$f":"'Scénarios choisis'!H306","v":6.3942110781353954},{"$f":"'Scénarios choisis'!M306","v":5.7487922534976885},{"$f":"'Scénarios choisis'!R306","v":4.2298416740737608},{"$f":"'Scénarios choisis'!W306","v":0.66261136925099773},{"$f":"'Scénarios choisis'!AB306","v":0}]
[null,null,"Prix de marché moyen","€/MWh",{"$f":"'Scénarios choisis'!E52","v":50.497976729383467},{"$f":"'Scénarios choisis'!F52","v":47.248988364691733},{"$f":"'Scénarios choisis'!G52","v":48.8},{"$f":"'Scénarios choisis'!H52","v":58.620279781543118},{"$f":"'Scénarios choisis'!I52","v":65.170979235400907},{"$f":"'Scénarios choisis'!J52","v":71.721678689258695},null,null,null,null,null,null,{"$f":"'Scénarios choisis'!C307","v":"AO éolien en mer 2011 & 2013 renégociés"},{"$f":"'Scénarios choisis'!F307","v":0},{"$f":"'Scénarios choisis'!H307","v":0},{"$f":"'Scénarios choisis'!M307","v":0.97638532601625916},{"$f":"'Scénarios choisis'!R307","v":0.81983591806404954},{"$f":"'Scénarios choisis'!W307","v":0.92655331782331873},{"$f":"'Scénarios choisis'!AB307","v":0.76314199934977023}]
[null,null,"Prix du CO2","€/tCO2",{"$f":"'Scénarios choisis'!E53","v":8.15},{"$f":"'Scénarios choisis'!F53","v":17.760000000000002},{"$f":"'Scénarios choisis'!G53","v":53.29},{"$f":"'Scénarios choisis'!H53","v":88.82},{"$f":"'Scénarios choisis'!I53","v":106.58},{"$f":"'Scénarios choisis'!J53","v":124.35},null,null,null,null,null,null,{"$f":"'Scénarios choisis'!C308","v":"Eolien terrestre"},{"$f":"'Scénarios choisis'!F308","v":0},{"$f":"'Scénarios choisis'!H308","v":0},{"$f":"'Scénarios choisis'!M308","v":1.3580335940084169},{"$f":"'Scénarios choisis'!R308","v":2.8059165787667015},{"$f":"'Scénarios choisis'!W308","v":4.136193032798551},{"$f":"'Scénarios choisis'!AB308","v":5.3080030702500736}]
[null,null,null,null,null,null,null,null,null,null,null,null,null,null,null,null,{"$f":"'Scénarios choisis'!C309","v":"Eolien en mer"},{"$f":"'Scénarios choisis'!F309","v":0},{"$f":"'Scénarios choisis'!H309","v":0},{"$f":"'Scénarios choisis'!M309","v":4.8809308494604207E-2},{"$f":"'Scénarios choisis'!R309","v":0.72295747226596974},{"$f":"'Scénarios choisis'!W309","v":2.0641129940137204},{"$f":"'Scénarios choisis'!AB309","v":3.4048441683498822}]
[null,null,null,null,"Données historiques","Scénario choisi (€2017/MWh)",null,null,null,null,null,null,null,null,null,null,{"$f":"'Scénarios choisis'!C310","v":"PV au sol"},{"$f":"'Scénarios choisis'!F310","v":0},{"$f":"'Scénarios choisis'!H310","v":9.1330212068454722E-2},{"$f":"'Scénarios choisis'!M310","v":0.63400795198808602},{"$f":"'Scénarios choisis'!R310","v":1.1168131411609359},{"$f":"'Scénarios choisis'!W310","v":1.3425245432317983},{"$f":"'Scénarios choisis'!AB310","v":1.4596520403290629}]
[null,null,"Revenus de marché","Unité",2017,2020,2025,2030,2035,2040,null,null,null,null,null,null,{"$f":"'Scénarios choisis'!C311","v":"PV sur toiture"},{"$f":"'Scénarios choisis'!F311","v":0},{"$f":"'Scénarios choisis'!H311","v":9.1847712508564661E-2},{"$f":"'Scénarios choisis'!M311","v":0.66523453380589381},{"$f":"'Scénarios choisis'!R311","v":1.1548817037874306},{"$f":"'Scénarios choisis'!W311","v":1.2858047057885911},{"$f":"'Scénarios choisis'!AB311","v":1.3059617626184559}]
[null,null,{"$f":"'Calcul de variation des prix'!C73","v":"Nucléaire"},"€/MWh",{"$f":"'Scénarios choisis'!E36","v":47.902135933104503},{"$f":"ROUND('Scénarios choisis'!F36,12)","v":50.364143588207},{"$f":"ROUND('Scénarios choisis'!G36,12)","v":54.467489680043997},{"$f":"ROUND('Scénarios choisis'!H36,12)","v":58.570835771879999},{"$f":"ROUND('Scénarios choisis'!I36,12)","v":62.674181863717003},{"$f":"ROUND('Scénarios choisis'!J36,12)","v":66.777527955554007}]
[null,null,{"$f":"'Calcul de variation des prix'!C74","v":"Eolien terrestre"},"€/MWh",{"$f":"'Scénarios choisis'!E37","v":48.228490576657116},{"$f":"ROUND('Scénarios choisis'!F37,12)","v":43.114245288329002},{"$f":"ROUND('Scénarios choisis'!G37,12)","v":41.2},{"$f":"ROUND('Scénarios choisis'!H37,12)","v":46.708781372860003},{"$f":"ROUND('Scénarios choisis'!I37,12)","v":48.480734805009},{"$f":"ROUND('Scénarios choisis'!J37,12)","v":50.252688237157997}]
[null,null,{"$f":"'Calcul de variation des prix'!C75","v":"Eolien en mer"},"€/MWh",{"$f":"'Scénarios choisis'!E38","v":0},{"$f":"ROUND('Scénarios choisis'!F38,12)","v":0},{"$f":"ROUND('Scénarios choisis'!G38,12)","v":43.2},{"$f":"ROUND('Scénarios choisis'!H38,12)","v":49.157796500735998},{"$f":"ROUND('Scénarios choisis'!I38,12)","v":52.052287752578003},{"$f":"ROUND('Scénarios choisis'!J38,12)","v":54.946779004419}]
[null,null,{"$f":"'Calcul de variation des prix'!C76","v":"PV au sol"},"€/MWh",{"$f":"'Scénarios choisis'!E39","v":43.137359111091079},{"$f":"ROUND('Scénarios choisis'!F39,12)","v":40.068679555545998},{"$f":"ROUND('Scénarios choisis'!G39,12)","v":39.4},{"$f":"ROUND('Scénarios choisis'!H39,12)","v":44.387752185239997},{"$f":"ROUND('Scénarios choisis'!I39,12)","v":47.857132648341},{"$f":"ROUND('Scénarios choisis'!J39,12)","v":51.326513111441002}]
[null,null,{"$f":"'Calcul de variation des prix'!C77","v":"PV sur toiture"},"€/MWh",{"$f":"'Scénarios choisis'!E40","v":43.137359111091079},{"$f":"ROUND('Scénarios choisis'!F40,12)","v":40.068679555545998},{"$f":"ROUND('Scénarios choisis'!G40,12)","v":39.4},{"$f":"ROUND('Scénarios choisis'!H40,12)","v":44.387752185239997},{"$f":"ROUND('Scénarios choisis'!I40,12)","v":47.857132648341},{"$f":"ROUND('Scénarios choisis'!J40,12)","v":51.326513111441002}]

{"sheet":"Données de production","index":3,"n_rows":53,"n_cols":31,"rows_kept":53,"cut":false,"hidden":false,"merged":[[35,4,35,26],[50,4,50,12],[50,13,50,21],[50,22,50,30],[2,4,2,26],[24,4,24,26],[39,4,39,12],[39,13,39,21],[39,22,39,30],[13,4,13,12],[13,13,13,21],[13,22,13,30]]}
[]
[]
[null,null,null,null,"Données historiques"]
[null,null,"Capacité installée de production d'électricité","Unité",2000,2001,2002,2003,2004,2005,2006,2007,2008,2009,2010,2011,2012,2013,2014,2015,2016,2017,2018,2019,2020,2021,2022]
[null,null,"Nucléaire","GW",63.13,63.13,63.13,63.13,63.13,63.13,63.13,63.13,63.13,63.13,63.13,63.13,63.13,63.13,63.13,63.13,63.1,63.13]
[null,null,"Eolien terrestre","GW",0,9.4E-2,0.129,0.219,0.39300000000000002,0.752,1.502,2.25,3.327,4.5730000000000004,5.7619999999999996,6.7140000000000004,7.5359999999999996,8.157,9.3130000000000006,10.324,11.760999999999999,13.55]
[null,null,"Eolien en mer","GW",0,0,0,0,0,0,0,0,0,0,0,0,0,0,0,0,0,0]
[null,null,"PV au sol","GW",0,0,0,0,0,0,2.0693017403669886E-3,3.6397329805567934E-3,3.1878494691964632E-2,9.9794591653331974E-2,0.46347083649911719,1.3708314612908099,1.9870275043811487,2.3392170954475491,2.8519937328151967,3.3523656801964159,3.6767714285714281,4.178612324929972]
[null,null,"PV sur toiture","GW",0,0,0,0,0,0,1.9306982596330115E-3,3.3602670194432067E-3,2.912150530803537E-2,9.0205408346668028E-2,0.41452916350088281,1.2131685387091902,1.7399724956188511,2.0267829045524506,2.445006267184803,2.8436343198035838,3.0962285714285716,3.4753876750700283]
[null,null,"Autres EnRe","GW",null,null,null,0.66700000000000004,0.77200000000000002,0.92700000000000005,1.0409999999999999,0.95299999999999996,0.98629999999999995,1.0289999999999999,1.2239,1.2370000000000001,1.3459000000000001,1.4961,1.5981000000000001,1.7029000000000001,1.9181999999999999,1.9528000000000001]
[null,null,"Hydraulique","GW",null,null,null,null,null,null,null,25.413,25.36,25.3569,25.391999999999999,25.393899999999999,25.407,25.434000000000001,25.415299999999998,25.430199999999999,25.469799999999999,25.521100000000001]
[null,null,"Fossile","GW",null,null,null,null,null,null,null,null,null,null,27.399000000000001,27.813000000000002,27.826499999999999,25.707000000000001,23.751000000000001,22.334899999999998,21.8032,19.027699999999999]
[]
[null,null,null,null,"PPE - AMPERE",null,null,null,null,null,null,null,null,"Référence ADEME",null,null,null,null,null,null,null,null,"Prolongement nucléaire aisé ADEME"]
[null,null,"Capacité installée de production d'électricité","Unité",2018,2019,2020,2021,2022,2025,2030,2035,2040,2018,2019,2020,2021,2022,2025,2030,2035,2040,2018,2019,2020,2021,2022,2025,2030,2035,2040]
[null,null,{"$f":"+C5","v":"Nucléaire"},"GW",63.108333333333334,63.086666666666666,63.064999999999998,63.043333333333337,63.021666666666668,63,56.285714285714285,48.5,40.714285714285715,63.093333333333334,63.056666666666672,63.02,61.589600000000004,60.159200000000006,55.868000000000002,48.74,41.387599999999999,36.398000000000003,63.093333333333334,63.056666666666672,63.02,61.849015399719981,60.678030799439959,57.165076998599901,57.165076998599901,57.161578841799901,57.161578841799901]
[null,null,{"$f":"+C6","v":"Eolien terrestre"},"GW",15.575000000000001,17.600000000000001,19.625,21.65,23.674999999999997,29.36,39.835714285714289,52.3,64.764285714285705,14.947666666666667,16.345333333333333,17.742999999999999,19.5687,21.394400000000001,26.871500000000001,36.000000004,46.000000004,56.000000004,14.947666666666667,16.345333333333333,17.742999999999999,19.5687,21.394400000000001,26.871500000000001,36.000000004,36.000000004,46.000000004]
[null,null,{"$f":"C7","v":"Eolien en mer"},"GW",0,0,0,0.79999999999999993,1.5999999999999999,3.42,7.8214285714285712,15,22.178571428571431,0,0,0,0.6,1.2,3,6,6,6,0,0,0,0.6,1.2,3,6,6,6]
[null,null,{"$f":"C8","v":"PV au sol"},"GW",5.4155102707749769,6.6524082166199818,7.889306162464985,9.1262041083099916,10.363102054154997,16.079999999999998,24.513830660040021,28.798407310140075,33.082983960240128,5.3759637721755347,6.5733152194210973,7.7706666666666608,8.6077901303833286,9.4449135940999973,11.95628398525,14.000999999999999,14.6,27.037875901519904,5.3759637721755347,6.5733152194210973,7.7706666666666608,8.1269333333333282,8.4831999999999965,9.5519999999999996,14,14,14]
[null,null,{"$f":"C9","v":"PV sur toiture"},"GW",4.3961563958916905,5.3169251167133522,6.2376938375350139,7.1584625583566766,8.0792312791783392,12.3,17.950455054245694,19.701592689859925,21.452730325474157,3.6120362278244622,3.7486847805788965,3.8853333333333304,5.5634666666666641,7.2415999999999983,12.276,17.998999999999999,19.332000000000001,20.665666666666599,3.6120362278244622,3.7486847805788965,3.8853333333333304,5.5634666666666641,7.2415999999999983,12.276,17.998999999999999,19.332000000000001,20.665666666666599]
[null,null,{"$f":"+C10","v":"Autres EnRe"},"GW",1.8096666666666668,1.6665333333333334,1.5234000000000001,1.3802666666666668,1.2371333333333334,1.1360000000000001,2.027857142857143,4.0999999999999996,6.1721428571428563,2.1405333333333334,2.3282666666666669,2.516,2.5430000000000001,2.57,2.6509999999999998,4.375,7.4100355000000002,8.3630709999999997,2.1405333333333334,2.3282666666666669,2.516,2.5178600000000002,2.51972,2.5253000000000001,4.2492999999999999,5.6225500000000004,6.9958000000000009]
[null,null,{"$f":"+C11","v":"Hydraulique"},"GW",25.517583333333334,25.514066666666668,25.510550000000002,25.507033333333332,25.503516666666666,25.5,25.5,25.5,25.5,26.2454,26.9697,27.693999999999999,27.694488571031616,27.69497714206323,27.696442855158079,29.010999999999999,29.010999999999999,29.010999999999999,26.2454,26.9697,27.693999999999999,27.717488164148399,27.740976328296799,27.811440820742,29.010999999999999,29.010999999999999,29.010999999999999]
[null,null,{"$f":"+C12","v":"Fossile"},"GW",17.93975,16.851800000000001,15.76385,14.675899999999999,13.587949999999999,12.5,12.5,12.5,12.5,18.405799999999999,17.783899999999999,17.161999999999999,16.429085799999999,15.6961716,13.497429,13.139535,11.351621999999999,8.694283723298998,18.405799999999999,17.783899999999999,17.161999999999999,16.429085799999999,15.6961716,13.497429,13.139535,11.351621999999999,8.1667269999999998]
[]
[null,null,null,null,"Données historiques"]
[null,null,"Production d'électricité","Unité",2000,2001,2002,2003,2004,2005,2006,2007,2008,2009,2010,2011,2012,2013,2014,2015,2016,2017,2018,2019,2020,2021,2022]
[null,null,{"$f":"+C5","v":"Nucléaire"},"TWh",null,null,null,null,null,null,null,null,null,null,null,null,405,404,415.9,416.8,384,379.1]
[null,null,"Eolien terrestre","TWh",0,0,0,0.4,0.6,1,2.2999999999999998,4,5.6,7.9,9.6999999999999993,12.1,14.9,15.9,17.100000000000001,21.1,20.9,24]
[null,null,"Eolien en mer","TWh",0,0,0,0,0,0,0,0,0,0,0,0,0,0,0,0,0,0]
[null,null,"PV au sol","TWh",0,0,0,0,0,0,0,0,0,0.10504693858245472,0.26393555609289132,1.1140658160645127,2.1858901980044836,2.5181677390296571,3.1766590567509274,4.0037937432946222,4.5600000000000005,5.0226330532212877]
[null,null,"PV sur toiture","TWh",0,0,0,0,0,0,0,0,0,9.4953061417545295E-2,0.23606444390710868,0.98593418393548737,1.9141098019955163,2.1818322609703431,2.7233409432490729,3.3962062567053781,3.8400000000000003,4.1773669467787116]
[null,null,"Autres EnRe","TWh",null,null,null,null,null,null,null,null,null,null,null,null,5.8,7.1,7.5,8,8.6999999999999993,9.5]
[null,null,"Hydraulique","TWh",null,null,null,null,null,null,null,63,68,62,68,50,63.8,75.5,68.099999999999994,59.1,64,53.5]
[null,null,"Fossile","TWh",null,null,null,null,null,null,null,null,null,null,null,null,48.1,43.599999999999994,26.000000000000004,34.299999999999997,45.3,53.900000000000006]
[]
[null,null,null,null,"Données historiques"]
[null,null,"Consommation d'électricité","Unité",2000,2001,2002,2003,2004,2005,2006,2007,2008,2009,2010,2011,2012,2013,2014,2015,2016,2017,2018,2019,2020,2021,2022]
[null,null,"Consommation","TWh",null,null,null,null,null,null,null,null,null,null,null,null,null,null,null,438.6,442.5,441.5]
[]
[null,null,null,null,{"$f":"E14","v":"PPE - AMPERE"},null,null,null,null,null,null,null,null,{"$f":"N14","v":"Référence ADEME"},null,null,null,null,null,null,null,null,{"$f":"W14","v":"Prolongement nucléaire aisé ADEME"}]
[null,null,"Production d'électricité","Unité",2018,2019,2020,2021,2022,2025,2030,2035,2040,2018,2019,2020,2021,2022,2025,2030,2035,2040,2018,2019,2020,2021,2022,2025,2030,2035,2040]
[null,null,{"$f":"+C5","v":"Nucléaire"},"TWh",381.41666666666669,383.73333333333335,386.05,388.36666666666667,390.68333333333334,386.4,352.87142857142857,293.8,234.72857142857146,393.38751678123401,407.675033562468,421.96255034370199,410.29248342896079,398.62241651421959,363.612215769996,301.190098922282,252.39775146250699,215.459193939182,393.38751678123401,407.675033562468,421.96255034370199,411.89745786801461,401.83236539232718,371.63708796526498,345.94592590610802,339.374442743739,326.06538284935499]
[null,null,"Eolien terrestre","TWh",29,34,39,44,49,64.8,90.6,114.6,138.6,27.175649352290833,30.351298704581666,33.526948056872499,39.243368640290882,44.959789223709258,62.109050973964401,90.483520308170995,119.55015422446679,149.4756176364225,27.175649352290833,30.351298704581666,33.526948056872499,39.243368640290882,44.959789223709258,62.109050973964401,90.483520308170995,90.483520308170995,119.55015422446679]
[null,null,"Eolien en mer","TWh",0,0,0,3,6,9.1999999999999993,20.214285714285715,47,73.785714285714292,0,0,0,2.75224849258236,5.5044969851647201,13.761242462911801,27.024639284114301,27.024639284114301,27.024639284114301,0,0,0,2.75224849258236,5.5044969851647201,13.761242462911801,27.024639284114301,27.024639284114301,27.024639284114301]
[null,null,"PV au sol","TWh",6.484880295160135,7.9471275370989822,9.4093747790378295,10.871622020976677,12.333869262915524,19.208006981564306,29.375233529811076,34.498710612765741,39.622187695720406,7.546008311743325,10.069383570265362,12.592758828787401,13.889599822031162,15.186440815274921,19.076963795006201,22.2445205547887,23.172456994579001,41.060910639848899,7.546008311743325,10.069383570265362,12.592758828787401,13.144666712294541,13.69657459580168,15.3522982463231,22.242884697387399,22.242884697387399,22.242884697387399]
[null,null,"PV sur toiture","TWh",5.2651197048398632,6.3528724629010167,7.4406252209621702,8.5283779790233236,9.6161307370844771,14.691993018435696,21.51048075590321,23.60128938723426,25.692098018565311,4.5755781584696562,4.9737893701606035,5.3720005818515499,7.6922476419638013,10.012494702076054,16.973235882412808,24.707613914109722,26.44659434691992,28.090325714295822,4.575578158469658,4.9737893701606035,5.3720005818515499,7.6922476419638013,10.012494702076054,16.973235882412808,24.707613914109722,26.44659434691992,28.090325714295822]
[null,null,"Autres EnRe","TWh",9.4166666666666679,9.3333333333333339,9.25,9.1666666666666661,9.0833333333333339,9.1999999999999993,11.928571428571429,18,24.071428571428569,13.078915695134627,16.657831390269255,20.236747085403881,20.380728782168724,20.524710478933564,20.95665556922809,30.754206036291013,53.321062780396389,56.972100194326934,13.078915695134627,16.657831390269255,20.236747085403881,20.155861877269455,20.074976669135033,19.83232104473176,28.753225152433892,39.08939306403915,45.808453928534263]
[null,null,"Hydraulique","TWh",54.916666666666671,56.333333333333336,57.75,59.166666666666664,60.583333333333336,62,63.657142857142858,67.8,71.942857142857136,56.085225204357577,58.670450408715148,61.255675613072725,61.597145587541725,61.938615562010725,62.963025485417731,65.580008743529433,65.419840917544363,66.504474543390018,56.085225204357506,58.670450408715006,61.255675613072512,61.607860073607924,61.960044534143329,63.016597915749557,65.937448072601285,65.649162424743665,65.426625886447368]
[null,null,{"$f":"+C12","v":"Fossile"},"TWh",50.583333333333343,47.266666666666673,43.95,40.633333333333333,37.316666666666663,33.200000000000003,30.457142857142859,26.6,22.742857142857147,44.754151682594966,35.608303365189926,26.462455047784886,24.196604071783625,21.930753095782368,15.13320016777859,16.662415744263885,14.955537577719832,15.279928632048925,44.754151682594966,35.608303365189926,26.462455047784889,24.159325081509213,21.856195115233536,14.946805216406505,14.916444585968918,12.69129794989494,10.001499115846405]
[]
[null,null,null,null,{"$f":"E14","v":"PPE - AMPERE"},null,null,null,null,null,null,null,null,{"$f":"N14","v":"Référence ADEME"},null,null,null,null,null,null,null,null,{"$f":"W14","v":"Prolongement nucléaire aisé ADEME"}]
[null,null,"Consommation d'électricité","Unité",2018,2019,2020,2021,2022,2025,2030,2035,2040,2018,2019,2020,2021,2022,2025,2030,2035,2040,2018,2019,2020,2021,2022,2025,2030,2035,2040]
[null,null,{"$f":"C38","v":"Consommation"},"TWh",460.15,478.8,477.40000000000003,475.90000000000003,474.20000000000005,471,480.4,501.2,522,450.78253882020232,460.0650776404047,469.34761646060701,468.14936404846731,466.9511116363276,463.35635439990853,467.65263276779848,478.98377488893232,493.31250049454991,450.78253882020232,460.0650776404047,469.34761646060701,468.14936404846731,466.9511116363276,463.35635439990853,467.65263276779848,478.98377488893232,493.31250049454991]

{"sheet":"Données de prix","index":4,"n_rows":31,"n_cols":48,"rows_kept":31,"cut":false,"hidden":false,"merged":[[24,5,24,9],[24,10,24,14],[24,15,24,19],[3,2,3,3],[5,1,5,48],[7,3,7,26],[19,5,19,9],[19,10,19,14],[19,15,19,19],[17,1,17,48],[13,3,13,26]]}
[]
[]
[null,null,null,null,2017,2018,2019,2020,2021,2022,2023,2024,2025,2026,2027,2028,2029,2030,2031,2032,2033,2034,2035,2036,2037,2038,2039,2040,2041,2042,2043,2044,2045,2046,2047,2048,2049,2050,2051,2052,2053,2054,2055,2056,2057,2058,2059,2060]
[null,null,"Inflation annuelle",null,1.03E-2,1.8499999999999999E-2,1.84E-2,1.84E-2,1.84E-2,1.84E-2,1.84E-2,1.84E-2,1.84E-2,1.84E-2,1.84E-2,1.84E-2,1.84E-2,1.84E-2,1.84E-2,1.84E-2,1.84E-2,1.84E-2,1.84E-2,1.84E-2,1.84E-2,1.84E-2,1.84E-2,1.84E-2,1.84E-2,1.84E-2,1.84E-2,1.84E-2,1.84E-2,1.84E-2,1.84E-2,1.84E-2,1.84E-2,1.84E-2,1.84E-2,1.84E-2,1.84E-2,1.84E-2,1.84E-2,1.84E-2,1.84E-2,1.84E-2,1.84E-2,1.84E-2]
[]
[null,"PRIX COURANTS"]
[]
[null,null,null,"Estimation des compléments de rémunération passés par la Cour des Comptes"]
[null,null,null,"Unité",2018,2019,2020,2021,2022,2023,2024,2025,2026,2027,2028,2029,2030,2031,2032,2033,2034,2035,2036,2037,2038,2039,2040]
[null,null,"Dépenses au titre des engagements passés","M€",{"$f":"5205*0.84","v":4372.2},{"$f":"5640*0.84","v":4737.5999999999995},{"$f":"5651*0.84","v":4746.84},4942.4400000000005,5009.5199999999995,5110.3845317220266,5376.226635071087,5428.4863157894733,5153.6505657685175,4927.8681807522325,4804.0639266633225,4715.6556680784579,4504.415057124379,3898.0127698184442,2764.5613200881735,2039.0314611391284,1703.782005055094,1554.2986811041026,1417.0320539753641,1191.946373521306,1046.3983272863702,890.8827573839601,805.69499749274496]
[null,null,"Part de l'éolien en mer dans les dépenses au titre des engagements passés (AO 2011&2013)","M€",0,0,0,189.96937500000001,378.48813749999999,482.95395771302788,723.79583547832135,804.97026205856491,790.27510249910051,779.51525919935307,770.96254047400737,763.76528521883074,757.45510259946559,806.07928313731838,840.33760286164602,865.31452117627668,883.94163096426882,898.02795668769306,908.7502526763285,916.90697056310546,923.05891381241452,890.8827573839601,805.69499749274496]
[null,null,"Dépenses au titre des engagements passés hors éolien en mer","M€",{"$f":"E10-E11","v":4372.2},{"$f":"F10-F11","v":4737.5999999999995},4746.84,4752.4706250000008,4631.0318625,4627.4305740089985,4652.4307995927657,4623.5160537309084,4363.3754632694172,4148.3529215528797,4033.1013861893152,3951.8903828596272,3746.9599545249134,3091.9334866811259,1924.2237172265275,1173.7169399628517,819.84037409082521,656.27072441640951,508.28180129903558,275.03940295820053,123.33941347395569,0,0]
[]
[null,null,null,"Estimation des compléments de rémunération passés par la Cour des Comptes"]
[null,null,null,"Unité",2018,2019,2020,2021,2022,2023,2024,2025,2026,2027,2028,2029,2030,2031,2032,2033,2034,2035,2036,2037,2038,2039,2040]
[null,null,"Hypothèse de prix marché de la Cour des Comptes","€/MWh",35.909999999999997,36.090000000000003,38.299999999999997,38.683,39.069830000000003,39.4605283,39.855133582999997,40.253684918829997,40.656221768018298,41.062783985698481,41.473411825555466,41.888145943811018,42.30702740324913,42.73009767728162,43.15739865405444,43.588972640594982,44.024862367000935,44.465110990670944,44.909762100577652,45.358859721583428,45.812448318799262,46.270572801987257,46.733278530007127]
[]
[null,"PRIX CONSTANTS"]
[]
[null,null,null,null,"Données historiques",{"$f":"'Données de production'!E14","v":"PPE - AMPERE"},null,null,null,null,{"$f":"'Données de production'!N14","v":"Référence ADEME"},null,null,null,null,{"$f":"'Données de production'!W14","v":"Prolongement nucléaire aisé ADEME"}]
[null,null,null,"Unité",2017,2020,2025,2030,2035,2040,2020,2025,2030,2035,2040,2020,2025,2030,2035,2040]
[null,null,"Prix de marché moyen","€/MWh",50.497976729383467,47.248988364691733,48.8,58.620279781543118,65.170979235400907,71.721678689258695,39,48,49,54,60,39,47,40,43,42]
[null,null,"Prix du CO2","€/tCO2",8.15,17.760000000000002,53.29,88.82,106.58,124.35,17.760000000000002,25.31,32.86,38.64,44.41,17.760000000000002,25.31,32.86,38.64,44.41]
[]
[null,null,null,null,"Données historiques",{"$f":"'Données de production'!E14","v":"PPE - AMPERE"},null,null,null,null,{"$f":"'Données de production'!N14","v":"Référence ADEME"},null,null,null,null,{"$f":"'Données de production'!W14","v":"Prolongement nucléaire aisé ADEME"}]
[null,null,"Revenus de marché","Unité",2017,2020,2025,2030,2035,2040,2020,2025,2030,2035,2040,2020,2025,2030,2035,2040]
[null,null,{"$f":"'Données de coûts'!C24","v":"Nucléaire"},"€/MWh",47.902135933104503,50.36414358820663,54.467489680043506,58.57083577188039,62.674181863717266,66.777527955554149,39,49,51,57,65,39,48,42,46,46]
[null,null,{"$f":"'Données de coûts'!C25","v":"Eolien terrestre"},"€/MWh",48.228490576657116,43.114245288328561,41.2,46.708781372859598,48.480734805008602,50.252688237157606,37,41,39,44,45,37,42,32,35,35]
[null,null,"Eolien en mer","€/MWh",null,null,43.2,49.157796500736417,52.052287752577463,54.946779004418509,null,44,42,48,51,null,43,35,37,35]
[null,null,{"$f":"'Données de coûts'!C27","v":"PV au sol"},"€/MWh",43.137359111091079,40.068679555545543,39.4,44.38775218524021,47.857132648340723,51.326513111441244,39,43,40,44,42,39,43,34,36,33]
[null,null,{"$f":"'Données de coûts'!C28","v":"PV sur toiture"},"€/MWh",43.137359111091079,40.068679555545543,39.4,44.38775218524021,47.857132648340723,51.326513111441244,39,43,40,44,42,39,43,34,36,33]

{"sheet":"Données de coûts","index":5,"n_rows":28,"n_cols":14,"rows_kept":28,"cut":false,"hidden":false,"merged":[[21,5,21,9],[13,1,13,14]]}
[]
[]
[null,null,null,"Taux"]
[null,null,"Actualisation",2.5000000000000001E-2]
[null,null,"Financement",5.2499999999999998E-2]
[]
[null,null,null,"Durée de vie","OPEX","Facteur de charge"]
[null,null,"Unité","année","% CAPEX/an","%"]
[null,null,"Eolien terrestre",25,0.03,0.33543470319634699]
[null,null,"Eolien en mer",30,0.02,0.48100970319634706]
[null,null,"PV au sol",25,2.3E-2,0.1610087899543379]
[null,null,"PV sur toiture",25,2.5000000000000001E-2,0.15166225272817699]
[]
[null,"PRIX CONSTANTS"]
[]
[null,null,"CAPEX","Unité",2020,2025,2030,2035,2040,2045,2050,2055,2060,2065]
[null,null,"Eolien terrestre","€/MW",1959013.684294851,1863200,1609400,1448000,1276700,1276700,1276700,1276700,1276700]
[null,null,"Eolien en mer","€/MW",7344417.7010906134,3379181.3781508771,3379181.3781508771,2934590.6890754383,2490000,2440000,2390000,2390000,2390000,2390000]
[null,null,"PV au sol","€/MW",932593.36582954193,758000,708000,662100,592900,532000,482600,482600,482600]
[null,null,"PV sur toiture","€/MW",1198838.3932380043,1106000,960000,800000,691600,675000,657200,657200,657200]
[]
[null,null,null,null,"Données historiques","Scénario par défaut"]
[null,null,"Prix d'attribution des projets","Unité",2017,2020,2025,2030,2035,2040]
[null,null,"Nucléaire","€/MWh",null,null,null,85,85,85]
[null,null,"Eolien terrestre","€/MWh",65.400000000000006]
[null,null,"Eolien en mer (nouvelle trajectoire AO 2019 comme référence)","€/MWh",140,56,54,52,50,45]
[null,null,"PV au sol","€/MWh",63.9]
[null,null,"PV sur toiture","€/MWh",85]

{"sheet":"Scénario à définir","index":6,"n_rows":46,"n_cols":13,"rows_kept":46,"cut":false,"hidden":true,"merged":[[4,3,4,4],[42,4,42,8],[34,4,34,8],[6,4,6,12],[17,4,17,12],[32,1,32,13],[28,4,28,12]]}
[]
[]
[null,null,"Choisisez le nom de votre scénario","Scénario à définir"]
[]
[null,null,"Partir des données d'un scénario intégré"]
[]
[null,null,null,null,{"$f":"D3","v":"Scénario à définir"}]
[null,null,"Capacité installée de production d'électricité","Unité",2018,2019,2020,2021,2022,2025,2030,2035,2040]
[null,null,{"$f":"'Données de production'!C5","v":"Nucléaire"},"GW",0,0,0,0,0,0,0,0,0]
[null,null,{"$f":"'Données de production'!C6","v":"Eolien terrestre"},"GW",0,0,0,0,0,0,0,0,0]
[null,null,{"$f":"'Données de production'!C7","v":"Eolien en mer"},"GW",0,0,0,0,0,0,0,0,0]
[null,null,{"$f":"'Données de production'!C8","v":"PV au sol"},"GW",0,0,0,0,0,0,0,0,0]
[null,null,{"$f":"'Données de production'!C9","v":"PV sur toiture"},"GW",0,0,0,0,0,0,0,0,0]
[null,null,{"$f":"'Données de production'!C10","v":"Autres EnRe"},"GW",0,0,0,0,0,0,0,0,0]
[null,null,{"$f":"'Données de production'!C11","v":"Hydraulique"},"GW",0,0,0,0,0,0,0,0,0]
[null,null,{"$f":"'Données de production'!C12","v":"Fossile"},"GW",0,0,0,0,0,0,0,0,0]
[]
[null,null,null,null,{"$f":"E7","v":"Scénario à définir"}]
[null,null,"Production d'électricité","Unité",2018,2019,2020,2021,2022,2025,2030,2035,2040]
[null,null,{"$f":"'Données de production'!C5","v":"Nucléaire"},"TWh",0,0,0,0,0,0,0,0,0]
[null,null,{"$f":"'Données de production'!C6","v":"Eolien terrestre"},"TWh",0,0,0,0,0,0,0,0,0]
[null,null,{"$f":"'Données de production'!C7","v":"Eolien en mer"},"TWh",0,0,0,0,0,0,0,0,0]
[null,null,{"$f":"'Données de production'!C8","v":"PV au sol"},"TWh",0,0,0,0,0,0,0,0,0]
[null,null,{"$f":"'Données de production'!C9","v":"PV sur toiture"},"TWh",0,0,0,0,0,0,0,0,0]
[null,null,{"$f":"'Données de production'!C10","v":"Autres EnRe"},"TWh",0,0,0,0,0,0,0,0,0]
[null,null,{"$f":"'Données de production'!C11","v":"Hydraulique"},"TWh",0,0,0,0,0,0,0,0,0]
[null,null,{"$f":"'Données de production'!C12","v":"Fossile"},"TWh",0,0,0,0,0,0,0,0,0]
[]
[null,null,null,null,{"$f":"E7","v":"Scénario à définir"}]
[null,null,"Consommation d'électricité","Unité",2018,2019,2020,2021,2022,2025,2030,2035,2040]
[null,null,"Consommation","TWh",0,0,0,0,0,0,0,0,0]
[]
[null,"PRIX CONSTANTS"]
[]
[null,null,null,null,{"$f":"E7","v":"Scénario à définir"}]
[null,null,"Revenus de marché","Unité",2020,2025,2030,2035,2040]
[null,null,{"$f":"'Données de coûts'!C24","v":"Nucléaire"},"€/MWh",0,0,0,0,0]
[null,null,{"$f":"'Calcul de LCOE'!C35","v":"Eolien terrestre"},"€/MWh",0,0,0,0,0]
[null,null,{"$f":"'Calcul de LCOE'!C36","v":"Eolien en mer"},"€/MWh",0,0,0,0,0]
[null,null,{"$f":"'Calcul de LCOE'!C37","v":"PV au sol"},"€/MWh",0,0,0,0,0]
[null,null,{"$f":"'Calcul de LCOE'!C38","v":"PV sur toiture"},"€/MWh",0,0,0,0,0]
[]
[null,null,null,null,{"$f":"E7","v":"Scénario à définir"}]
[null,null,"Variables","Unité",2020,2025,2030,2035,2040]
[null,null,"Prix de marché moyen","€/MWh",0,0,0,0,0]
[null,null,"Prix du CO2","€/tCO2",0,0,0,0,0]

{"sheet":"Calcul de LCOE","index":7,"n_rows":38,"n_cols":14,"rows_kept":38,"cut":false,"hidden":true,"merged":[[17,1,17,14],[31,5,31,9]]}
[]
[]
[null,null,null,"Taux","Q = 1/(1+taux)","Coefficient somme de 5 ans"]
[null,null,"Actualisation",{"$f":"'Données de coûts'!D4","v":2.5000000000000001E-2},{"$f":"1/(1+D4)","v":0.97560975609756106},{"$f":"(1-E4^5)/(1-E4)","v":4.7619742080098106}]
[null,null,"Financement",{"$f":"'Données de coûts'!D5","v":5.2499999999999998E-2},{"$f":"1/(1+D5)","v":0.95011876484560576},{"$f":"(1-E5^5)/(1-E5)","v":4.5254546586014239}]
[]
[null,null,"Année",0,5,10,15,20,25]
[null,null,"Coefficient de financement",1,{"$f":"$E5^(E7-$D7)","v":0.77426473199375345},{"$f":"$E5^(F7-$D7)","v":0.59948587520935892},{"$f":"$E5^(G7-$D7)","v":0.46416077050301502},{"$f":"$E5^(H7-$D7)","v":0.35938331457553102},{"$f":"$E5^(I7-$D7)","v":0.27825782574285035}]
[null,null,"Coefficient d'actualisation",1,{"$f":"$E4^(E7-$D7)","v":0.88385428760951723},{"$f":"$E4^(F7-$D7)","v":0.78119840172572719},{"$f":"$E4^(G7-$D7)","v":0.69046555683898614},{"$f":"$E4^(H7-$D7)","v":0.61027094285883055},{"$f":"$E4^(I7-$D7)","v":0.53939058944928009}]
[]
[null,null,null,"Durée de vie","OPEX","Facteur de charge","Prime"]
[null,null,"Unité","années","% CAPEX/an","%"]
[null,null,"Eolien terrestre",{"$f":"'Données de coûts'!D9","v":25},{"$f":"'Données de coûts'!E9","v":0.03},{"$f":"'Données de coûts'!F9","v":0.33543470319634699},{"$f":"(1-E$5)*(1-E$4^D13)/(1-E$4)/(1-E$5^D13)","v":1.3051841125563468},null,null," "]
[null,null,"Eolien en mer",{"$f":"'Données de coûts'!D10","v":30},{"$f":"'Données de coûts'!E10","v":0.02},{"$f":"'Données de coûts'!F10","v":0.48100970319634706},{"$f":"(1-E$5)*(1-E$4^D14)/(1-E$4)/(1-E$5^D14)","v":1.3639959838478224}]
[null,null,"PV au sol",{"$f":"'Données de coûts'!D11","v":25},{"$f":"'Données de coûts'!E11","v":2.3E-2},{"$f":"'Données de coûts'!F11","v":0.1610087899543379},{"$f":"(1-E$5)*(1-E$4^D15)/(1-E$4)/(1-E$5^D15)","v":1.3051841125563468}]
[null,null,"PV sur toiture",{"$f":"'Données de coûts'!D12","v":25},{"$f":"'Données de coûts'!E12","v":2.5000000000000001E-2},{"$f":"'Données de coûts'!F12","v":0.15166225272817699},{"$f":"(1-E$5)*(1-E$4^D16)/(1-E$4)/(1-E$5^D16)","v":1.3051841125563468}]
[]
[null,"PRIX CONSTANTS"]
[]
[null,null,"CAPEX","Unité",2020,2025,2030,2035,2040,2045,2050,2055,2060,2065]
[null,null,"Eolien terrestre","€/MW",{"$f":"'Données de coûts'!E17","v":1959013.684294851},{"$f":"'Données de coûts'!F17","v":1863200},{"$f":"'Données de coûts'!G17","v":1609400},{"$f":"'Données de coûts'!H17","v":1448000},{"$f":"'Données de coûts'!I17","v":1276700},{"$f":"'Données de coûts'!J17","v":1276700},{"$f":"'Données de coûts'!K17","v":1276700},{"$f":"'Données de coûts'!L17","v":1276700},{"$f":"'Données de coûts'!M17","v":1276700}]
[null,null,"Eolien en mer","€/MW",{"$f":"'Données de coûts'!E18","v":7344417.7010906134},{"$f":"'Données de coûts'!F18","v":3379181.3781508771},{"$f":"'Données de coûts'!G18","v":3379181.3781508771},{"$f":"'Données de coûts'!H18","v":2934590.6890754383},{"$f":"'Données de coûts'!I18","v":2490000},{"$f":"'Données de coûts'!J18","v":2440000},{"$f":"'Données de coûts'!K18","v":2390000},{"$f":"'Données de coûts'!L18","v":2390000},{"$f":"'Données de coûts'!M18","v":2390000},{"$f":"'Données de coûts'!N18","v":2390000}]
[null,null,"PV au sol","€/MW",{"$f":"'Données de coûts'!E19","v":932593.36582954193},{"$f":"'Données de coûts'!F19","v":758000},{"$f":"'Données de coûts'!G19","v":708000},{"$f":"'Données de coûts'!H19","v":662100},{"$f":"'Données de coûts'!I19","v":592900},{"$f":"'Données de coûts'!J19","v":532000},{"$f":"'Données de coûts'!K19","v":482600},{"$f":"'Données de coûts'!L19","v":482600},{"$f":"'Données de coûts'!M19","v":482600}]
[null,null,"PV sur toiture","€/MW",{"$f":"'Données de coûts'!E20","v":1198838.3932380043},{"$f":"'Données de coûts'!F20","v":1106000},{"$f":"'Données de coûts'!G20","v":960000},{"$f":"'Données de coûts'!H20","v":800000},{"$f":"'Données de coûts'!I20","v":691600},{"$f":"'Données de coûts'!J20","v":675000},{"$f":"'Données de coûts'!K20","v":657200},{"$f":"'Données de coûts'!L20","v":657200},{"$f":"'Données de coûts'!M20","v":657200}]
[]
[null,null,"OPEX annuel","Unité",2020,2025,2030,2035,2040,2045,2050,2055,2060,2065]
[null,null,"Eolien terrestre","€/MW/an",{"$f":"E21*$E13","v":58770.410528845532},{"$f":"F21*$E13","v":55896},{"$f":"G21*$E13","v":48282},43440,38301,38301,38301,38301,38301]
[null,null,"Eolien en mer","€/MW/an",{"$f":"E22*$E14","v":146888.35402181227},{"$f":"F22*$E14","v":67583.627563017537},67583.627563017537,58691.813781508768,49800,48800,47800,47800,47800,47800]
[null,null,"PV au sol","€/MW/an",{"$f":"E23*$E15","v":21449.647414079463},{"$f":"F23*$E15","v":17434},16284,15228.3,13636.699999999999,12236,11099.8,11099.8,11099.8]
[null,null,"PV sur toiture","€/MW/an",{"$f":"E24*$E16","v":29970.959830950109},27650,24000,20000,17290,16875,16430,16430,16430]
[]
[null,null,null,null,{"$f":"'Données de coûts'!E22","v":"Données historiques"},{"$f":"'Données de coûts'!F22:J22","v":"Scénario par défaut"}]
[null,null,"LCOE= prix d'attribution des projets","Unité",2017,2020,2025,2030,2035,2040]
[null,null,"Nucléaire","€/MWh",{"$f":"'Données de coûts'!E24","v":0},{"$f":"'Données de coûts'!F24","v":0},{"$f":"'Données de coûts'!G24","v":0},{"$f":"'Données de coûts'!H24","v":85},{"$f":"'Données de coûts'!I24","v":85},{"$f":"'Données de coûts'!J24","v":85}]
[null,null,"Eolien terrestre","€/MWh",{"$f":"'Données de coûts'!E25","v":65.400000000000006},{"$f":"(E21*$G13+$F$4*SUMPRODUCT(E27:I27,$D$9:$H$9))*(1-$E$4)/$F13/8760/(1-$E$4^$D13)","v":63.175906196115662},{"$f":"(F21*$G13+$F$4*SUMPRODUCT(F27:J27,$D$9:$H$9))*(1-$E$4)/$F13/8760/(1-$E$4^$D13)","v":59.469083189641616},{"$f":"(G21*$G13+$F$4*SUMPRODUCT(G27:K27,$D$9:$H$9))*(1-$E$4)/$F13/8760/(1-$E$4^$D13)","v":52.134482061403666},{"$f":"(H21*$G13+$F$4*SUMPRODUCT(H27:L27,$D$9:$H$9))*(1-$E$4)/$F13/8760/(1-$E$4^$D13)","v":47.533014501878441},{"$f":"(I21*$G13+$F$4*SUMPRODUCT(I27:M27,$D$9:$H$9))*(1-$E$4)/$F13/8760/(1-$E$4^$D13)","v":43.062987340873931}]
[null,null,"Eolien en mer","€/MWh",{"$f":"'Données de coûts'!E26","v":140},{"$f":"(E22*$G14+$F$4*SUMPRODUCT(E28:J28,$D$9:$I$9))*(1-$E$4)/$F14/8760/(1-$E$4^$D14)","v":129.60678683117126},{"$f":"(F22*$G14+$F$4*SUMPRODUCT(F28:K28,$D$9:$I$9))*(1-$E$4)/$F14/8760/(1-$E$4^$D14)","v":64.848437090862646},{"$f":"(G22*$G14+$F$4*SUMPRODUCT(G28:L28,$D$9:$I$9))*(1-$E$4)/$F14/8760/(1-$E$4^$D14)","v":63.99999999999978},{"$f":"(H22*$G14+$F$4*SUMPRODUCT(H28:M28,$D$9:$I$9))*(1-$E$4)/$F14/8760/(1-$E$4^$D14)","v":56.331711529131191},{"$f":"(I22*$G14+$F$4*SUMPRODUCT(I28:N28,$D$9:$I$9))*(1-$E$4)/$F14/8760/(1-$E$4^$D14)","v":49.067236303544988}]
[null,null,"PV au sol","€/MWh",{"$f":"'Données de coûts'!E27","v":63.9},{"$f":"(E23*$G15+$F$4*SUMPRODUCT(E29:I29,$D$9:$H$9))*(1-$E$4)/$F15/8760/(1-$E$4^$D15)","v":57.929074962515188},47.977533233374828,44.635938054097217,41.610699307541218,37.555297814500541]
[null,null,"PV sur toiture","€/MWh",{"$f":"'Données de coûts'!E28","v":85},80.872851601584458,73.994270937559236,64.527789947077437,54.870884671366888,48.581929444874824]

{"sheet":"Calcul de variation des prix","index":8,"n_rows":77,"n_cols":48,"rows_kept":77,"cut":false,"hidden":true,"merged":[[3,2,3,3],[4,2,4,3],[8,3,8,26],[6,1,6,48],[70,5,70,9],[51,5,51,9],[51,10,51,14],[51,15,51,19],[59,5,59,9],[59,10,59,14],[59,15,59,19],[44,4,44,26],[59,20,59,24],[15,20,15,24],[51,20,51,24],[23,20,23,24],[42,1,42,48],[34,5,34,9],[15,15,15,19],[23,5,23,9],[23,10,23,14],[23,15,23,19],[15,5,15,9],[15,10,15,14]]}
[]
[]
[null,null,null,null,2017,2018,2019,2020,2021,2022,2023,2024,2025,2026,2027,2028,2029,2030,2031,2032,2033,2034,2035,2036,2037,2038,2039,2040,2041,2042,2043,2044,2045,2046,2047,2048,2049,2050,2051,2052,2053,2054,2055,2056,2057,2058,2059,2060]
[null,null,"Inflation annuelle",null,{"$f":"'Données de prix'!E4","v":1.03E-2},{"$f":"'Données de prix'!F4","v":1.8499999999999999E-2},{"$f":"'Données de prix'!G4","v":1.84E-2},{"$f":"'Données de prix'!H4","v":1.84E-2},{"$f":"'Données de prix'!I4","v":1.84E-2},{"$f":"'Données de prix'!J4","v":1.84E-2},{"$f":"'Données de prix'!K4","v":1.84E-2},{"$f":"'Données de prix'!L4","v":1.84E-2},{"$f":"'Données de prix'!M4","v":1.84E-2},{"$f":"'Données de prix'!N4","v":1.84E-2},{"$f":"'Données de prix'!O4","v":1.84E-2},{"$f":"'Données de prix'!P4","v":1.84E-2},{"$f":"'Données de prix'!Q4","v":1.84E-2},{"$f":"'Données de prix'!R4","v":1.84E-2},{"$f":"'Données de prix'!S4","v":1.84E-2},{"$f":"'Données de prix'!T4","v":1.84E-2},{"$f":"'Données de prix'!U4","v":1.84E-2},{"$f":"'Données de prix'!V4","v":1.84E-2},{"$f":"'Données de prix'!W4","v":1.84E-2},{"$f":"'Données de prix'!X4","v":1.84E-2},{"$f":"'Données de prix'!Y4","v":1.84E-2},{"$f":"'Données de prix'!Z4","v":1.84E-2},{"$f":"'Données de prix'!AA4","v":1.84E-2},{"$f":"'Données de prix'!AB4","v":1.84E-2},{"$f":"'Données de prix'!AC4","v":1.84E-2},{"$f":"'Données de prix'!AD4","v":1.84E-2},{"$f":"'Données de prix'!AE4","v":1.84E-2},{"$f":"'Données de prix'!AF4","v":1.84E-2},{"$f":"'Données de prix'!AG4","v":1.84E-2},{"$f":"'Données de prix'!AH4","v":1.84E-2},{"$f":"'Données de prix'!AI4","v":1.84E-2},{"$f":"'Données de prix'!AJ4","v":1.84E-2},{"$f":"'Données de prix'!AK4","v":1.84E-2},{"$f":"'Données de prix'!AL4","v":1.84E-2},{"$f":"'Données de prix'!AM4","v":1.84E-2},{"$f":"'Données de prix'!AN4","v":1.84E-2},{"$f":"'Données de prix'!AO4","v":1.84E-2},{"$f":"'Données de prix'!AP4","v":1.84E-2},{"$f":"'Données de prix'!AQ4","v":1.84E-2},{"$f":"'Données de prix'!AR4","v":1.84E-2},{"$f":"'Données de prix'!AS4","v":1.84E-2},{"$f":"'Données de prix'!AT4","v":1.84E-2},{"$f":"'Données de prix'!AU4","v":1.84E-2},{"$f":"'Données de prix'!AV4","v":1.84E-2}]
[null,null,"Conversion de prix constants 2017 à courants",null,{"$f":"IF(E3<2017,F5/(1+F4),IF(E3>2017,D5*(1+E4),1))","v":1},{"$f":"IF(F3<2017,G5/(1+G4),IF(F3>2017,E5*(1+F4),1))","v":1.0185},{"$f":"IF(G3<2017,H5/(1+H4),IF(G3>2017,F5*(1+G4),1))","v":1.0372404},1.05632562336,1.0757620148298239,1.0955560359026926,1.115714266963302,1.1362434094754268,1.1571502882097746,1.1784418535128345,1.2001251836174707,1.222207486996032,1.2446961047567588,1.2675985130842833,1.290922325725034,1.3146752965183746,1.3388653219743125,1.3635004438986398,1.3885888520663747,1.414138886944396,1.4401590424641728,1.4666579688455135,1.4936444754722709,1.5211275338209607,1.5491162804432663,1.5776200200034223,1.6066482283714851,1.6362105557735205,1.6663168299997533,1.6969770596717486,1.7282014375697088,1.7600003440209915,1.7923843503509778,1.8253642223974358,1.8589509240895485,1.8931556210927962,1.9279896845209037,1.9634646947160883,1.9995924450988642,2.0363849460886834,2.0738544290967149,2.1120133505920946,2.150874396242989,2.19045048513386]
[]
[null,"PRIX COURANTS"]
[]
[null,null,null,{"$f":"'Données de prix'!D8:AA8","v":"Estimation des compléments de rémunération passés par la Cour des Comptes"}]
[null,null,null,{"$f":"'Données de prix'!D9","v":"Unité"},{"$f":"'Données de prix'!E9","v":2018},{"$f":"'Données de prix'!F9","v":2019},{"$f":"'Données de prix'!G9","v":2020},{"$f":"'Données de prix'!H9","v":2021},{"$f":"'Données de prix'!I9","v":2022},{"$f":"'Données de prix'!J9","v":2023},{"$f":"'Données de prix'!K9","v":2024},{"$f":"'Données de prix'!L9","v":2025},{"$f":"'Données de prix'!M9","v":2026},{"$f":"'Données de prix'!N9","v":2027},{"$f":"'Données de prix'!O9","v":2028},{"$f":"'Données de prix'!P9","v":2029},{"$f":"'Données de prix'!Q9","v":2030},{"$f":"'Données de prix'!R9","v":2031},{"$f":"'Données de prix'!S9","v":2032},{"$f":"'Données de prix'!T9","v":2033},{"$f":"'Données de prix'!U9","v":2034},{"$f":"'Données de prix'!V9","v":2035},{"$f":"'Données de prix'!W9","v":2036},{"$f":"'Données de prix'!X9","v":2037},{"$f":"'Données de prix'!Y9","v":2038},{"$f":"'Données de prix'!Z9","v":2039},{"$f":"'Données de prix'!AA9","v":2040}]
[null,null,{"$f":"'Données de prix'!C10","v":"Dépenses au titre des engagements passés"},{"$f":"'Données de prix'!D10","v":"M€"},{"$f":"'Données de prix'!E10","v":4372.2},{"$f":"'Données de prix'!F10","v":4737.5999999999995},{"$f":"'Données de prix'!G10","v":4746.84},{"$f":"'Données de prix'!H10","v":4942.4400000000005},{"$f":"'Données de prix'!I10","v":5009.5199999999995},{"$f":"'Données de prix'!J10","v":5110.3845317220266},{"$f":"'Données de prix'!K10","v":5376.226635071087},{"$f":"'Données de prix'!L10","v":5428.4863157894733},{"$f":"'Données de prix'!M10","v":5153.6505657685175},{"$f":"'Données de prix'!N10","v":4927.8681807522325},{"$f":"'Données de prix'!O10","v":4804.0639266633225},{"$f":"'Données de prix'!P10","v":4715.6556680784579},{"$f":"'Données de prix'!Q10","v":4504.415057124379},{"$f":"'Données de prix'!R10","v":3898.0127698184442},{"$f":"'Données de prix'!S10","v":2764.5613200881735},{"$f":"'Données de prix'!T10","v":2039.0314611391284},{"$f":"'Données de prix'!U10","v":1703.782005055094},{"$f":"'Données de prix'!V10","v":1554.2986811041026},{"$f":"'Données de prix'!W10","v":1417.0320539753641},{"$f":"'Données de prix'!X10","v":1191.946373521306},{"$f":"'Données de prix'!Y10","v":1046.3983272863702},{"$f":"'Données de prix'!Z10","v":890.8827573839601},{"$f":"'Données de prix'!AA10","v":805.69499749274496}]
[null,null,{"$f":"'Données de prix'!C11","v":"Part de l'éolien en mer dans les dépenses au titre des engagements passés (AO 2011&2013)"},{"$f":"'Données de prix'!D11","v":"M€"},{"$f":"'Données de prix'!E11","v":0},{"$f":"'Données de prix'!F11","v":0},{"$f":"'Données de prix'!G11","v":0},{"$f":"'Données de prix'!H11","v":189.96937500000001},{"$f":"'Données de prix'!I11","v":378.48813749999999},{"$f":"'Données de prix'!J11","v":482.95395771302788},{"$f":"'Données de prix'!K11","v":723.79583547832135},{"$f":"'Données de prix'!L11","v":804.97026205856491},{"$f":"'Données de prix'!M11","v":790.27510249910051},{"$f":"'Données de prix'!N11","v":779.51525919935307},{"$f":"'Données de prix'!O11","v":770.96254047400737},{"$f":"'Données de prix'!P11","v":763.76528521883074},{"$f":"'Données de prix'!Q11","v":757.45510259946559},{"$f":"'Données de prix'!R11","v":806.07928313731838},{"$f":"'Données de prix'!S11","v":840.33760286164602},{"$f":"'Données de prix'!T11","v":865.31452117627668},{"$f":"'Données de prix'!U11","v":883.94163096426882},{"$f":"'Données de prix'!V11","v":898.02795668769306},{"$f":"'Données de prix'!W11","v":908.7502526763285},{"$f":"'Données de prix'!X11","v":916.90697056310546},{"$f":"'Données de prix'!Y11","v":923.05891381241452},{"$f":"'Données de prix'!Z11","v":890.8827573839601},{"$f":"'Données de prix'!AA11","v":805.69499749274496}]
[null,null,{"$f":"'Données de prix'!C12","v":"Dépenses au titre des engagements passés hors éolien en mer"},{"$f":"'Données de prix'!D12","v":"M€"},{"$f":"'Données de prix'!E12","v":4372.2},{"$f":"'Données de prix'!F12","v":4737.5999999999995},{"$f":"'Données de prix'!G12","v":4746.84},{"$f":"'Données de prix'!H12","v":4752.4706250000008},{"$f":"'Données de prix'!I12","v":4631.0318625},{"$f":"'Données de prix'!J12","v":4627.4305740089985},{"$f":"'Données de prix'!K12","v":4652.4307995927657},{"$f":"'Données de prix'!L12","v":4623.5160537309084},{"$f":"'Données de prix'!M12","v":4363.3754632694172},{"$f":"'Données de prix'!N12","v":4148.3529215528797},{"$f":"'Données de prix'!O12","v":4033.1013861893152},{"$f":"'Données de prix'!P12","v":3951.8903828596272},{"$f":"'Données de prix'!Q12","v":3746.9599545249134},{"$f":"'Données de prix'!R12","v":3091.9334866811259},{"$f":"'Données de prix'!S12","v":1924.2237172265275},{"$f":"'Données de prix'!T12","v":1173.7169399628517},{"$f":"'Données de prix'!U12","v":819.84037409082521},{"$f":"'Données de prix'!V12","v":656.27072441640951},{"$f":"'Données de prix'!W12","v":508.28180129903558},{"$f":"'Données de prix'!X12","v":275.03940295820053},{"$f":"'Données de prix'!Y12","v":123.33941347395569},{"$f":"'Données de prix'!Z12","v":0},{"$f":"'Données de prix'!AA12","v":0}]
[null,null,{"$f":"'Données de prix'!C16","v":"Hypothèse de prix marché de la Cour des Comptes"},{"$f":"'Données de prix'!D16","v":"€/MWh"},{"$f":"'Données de prix'!E16","v":35.909999999999997},{"$f":"'Données de prix'!F16","v":36.090000000000003},{"$f":"'Données de prix'!G16","v":38.299999999999997},{"$f":"'Données de prix'!H16","v":38.683},{"$f":"'Données de prix'!I16","v":39.069830000000003},{"$f":"'Données de prix'!J16","v":39.4605283},{"$f":"'Données de prix'!K16","v":39.855133582999997},{"$f":"'Données de prix'!L16","v":40.253684918829997},{"$f":"'Données de prix'!M16","v":40.656221768018298},{"$f":"'Données de prix'!N16","v":41.062783985698481},{"$f":"'Données de prix'!O16","v":41.473411825555466},{"$f":"'Données de prix'!P16","v":41.888145943811018},{"$f":"'Données de prix'!Q16","v":42.30702740324913},{"$f":"'Données de prix'!R16","v":42.73009767728162},{"$f":"'Données de prix'!S16","v":43.15739865405444},{"$f":"'Données de prix'!T16","v":43.588972640594982},{"$f":"'Données de prix'!U16","v":44.024862367000935},{"$f":"'Données de prix'!V16","v":44.465110990670944},{"$f":"'Données de prix'!W16","v":44.909762100577652},{"$f":"'Données de prix'!X16","v":45.358859721583428},{"$f":"'Données de prix'!Y16","v":45.812448318799262},{"$f":"'Données de prix'!Z16","v":46.270572801987257},{"$f":"'Données de prix'!AA16","v":46.733278530007127}]
[]
[null,null,null,null,"Données historiques",{"$f":"+'Données de production'!E14","v":"PPE - AMPERE"},null,null,null,null,{"$f":"'Données de production'!N14","v":"Référence ADEME"},null,null,null,null,{"$f":"'Données de production'!W14","v":"Prolongement nucléaire aisé ADEME"},null,null,null,null,{"$f":"'Scénario à définir'!E7","v":"Scénario à définir"}]
[null,null,{"$f":"'Données de prix'!C26","v":"Revenus de marché"},{"$f":"'Données de prix'!D26","v":"Unité"},{"$f":"'Données de prix'!E26","v":2017},{"$f":"'Données de prix'!F26","v":2020},{"$f":"'Données de prix'!G26","v":2025},{"$f":"'Données de prix'!H26","v":2030},{"$f":"'Données de prix'!I26","v":2035},{"$f":"'Données de prix'!J26","v":2040},{"$f":"'Données de prix'!K26","v":2020},{"$f":"'Données de prix'!L26","v":2025},{"$f":"'Données de prix'!M26","v":2030},{"$f":"'Données de prix'!N26","v":2035},{"$f":"'Données de prix'!O26","v":2040},{"$f":"'Données de prix'!P26","v":2020},{"$f":"'Données de prix'!Q26","v":2025},{"$f":"'Données de prix'!R26","v":2030},{"$f":"'Données de prix'!S26","v":2035},{"$f":"'Données de prix'!T26","v":2040},2020,2025,2030,2035,2040]
[null,null,{"$f":"'Données de coûts'!C24","v":"Nucléaire"},{"$f":"'Données de prix'!D27","v":"€/MWh"},{"$f":"'Données de prix'!E27","v":47.902135933104503},{"$f":"F54*HLOOKUP(F$17, $E$3:$AB$5, 3, FALSE)","v":53.20093537080492},{"$f":"G54*HLOOKUP(G$17, $E$3:$AB$5, 3, FALSE)","v":63.027071381325271},74.244304334539336,87.028670248338358,101.57713641369234,{"$f":"K54*HLOOKUP(K$17, $E$3:$AB$5, 3, FALSE)","v":41.19669931104},{"$f":"L54*HLOOKUP(L$17, $E$3:$AB$5, 3, FALSE)","v":56.700364122278955},64.647524167298442,79.149564567783358,98.873289698362441,41.19669931104,55.543213834069178,53.239137549539898,63.87508719505324,69.971866555764194,{"$f":"U54*HLOOKUP(U$17, $E$3:$AB$5, 3, FALSE)","v":0},{"$f":"V54*HLOOKUP(V$17, $E$3:$AB$5, 3, FALSE)","v":0},0,0,0]
[null,null,{"$f":"'Calcul de LCOE'!C35","v":"Eolien terrestre"},{"$f":"'Données de prix'!D28","v":"€/MWh"},{"$f":"'Données de prix'!E28","v":48.228490576657116},{"$f":"F55*HLOOKUP(F$17, $E$3:$AB$5, 3, FALSE)","v":45.542682029889612},{"$f":"G55*HLOOKUP(G$17, $E$3:$AB$5, 3, FALSE)","v":47.674591874242715},59.207981816215693,67.319807890221227,76.440747726061147,{"$f":"K55*HLOOKUP(K$17, $E$3:$AB$5, 3, FALSE)","v":39.084048064320001},47.443161816600757,49.436342010287049,61.097909490920486,68.450739021943235,39.084048064320001,48.600312104810534,40.563152418697065,48.600609822323115,53.239463683733625,0,0,0,0,0]
[null,null,{"$f":"'Calcul de LCOE'!C36","v":"Eolien en mer"},{"$f":"'Données de prix'!D29","v":"€/MWh"},{"$f":"'Données de prix'!E29","v":0},{"$f":"F56*HLOOKUP(F$17, $E$3:$AB$5, 3, FALSE)","v":0},49.98889245066227,62.312349750833263,72.279226497780158,83.581058438396468,{"$f":"K56*HLOOKUP(K$17, $E$3:$AB$5, 3, FALSE)","v":0},50.914612681230082,53.239137549539898,66.65226489918598,77.577504224868989,0,49.757462393020312,44.365947957949913,51.377787526455862,53.239463683733625,0,0,0,0,0]
[null,null,{"$f":"'Calcul de LCOE'!C37","v":"PV au sol"},{"$f":"'Données de prix'!D30","v":"€/MWh"},{"$f":"'Données de prix'!E30","v":43.137359111091079},{"$f":"F57*HLOOKUP(F$17, $E$3:$AB$5, 3, FALSE)","v":42.325572908723736},45.591721355465118,56.265848669164136,66.453880887347665,78.074172308835827,{"$f":"K57*HLOOKUP(K$17, $E$3:$AB$5, 3, FALSE)","v":41.19669931104},49.757462393020312,50.70394052337133,61.097909490920486,63.887356420480344,41.19669931104,49.757462393020312,43.098349444865633,49.989198674389492,50.1972086160917,0,0,0,0,0]
[null,null,{"$f":"'Calcul de LCOE'!C38","v":"PV sur toiture"},{"$f":"'Données de prix'!D31","v":"€/MWh"},{"$f":"'Données de prix'!E31","v":43.137359111091079},{"$f":"F58*HLOOKUP(F$17, $E$3:$AB$5, 3, FALSE)","v":42.325572908723736},45.591721355465118,56.265848669164136,66.453880887347665,78.074172308835827,{"$f":"K58*HLOOKUP(K$17, $E$3:$AB$5, 3, FALSE)","v":41.19669931104},49.757462393020312,50.70394052337133,61.097909490920486,63.887356420480344,41.19669931104,49.757462393020312,43.098349444865633,49.989198674389492,50.1972086160917,0,0,0,0,0]
[]
[null,null,null,null,"Données historiques",{"$f":"'Données de production'!E14","v":"PPE - AMPERE"},null,null,null,null,{"$f":"'Données de production'!N14","v":"Référence ADEME"},null,null,null,null,{"$f":"'Données de production'!W14","v":"Prolongement nucléaire aisé ADEME"},null,null,null,null,{"$f":"'Scénario à définir'!E7","v":"Scénario à définir"}]
[null,null,"Variables","Unité",2017,2020,2025,2030,2035,2040,2020,2025,2030,2035,2040,2020,2025,2030,2035,2040,2020,2025,2030,2035,2040]
[null,null,"Prix de marché moyen","€/MWh",{"$f":"'Données de prix'!E22","v":50.497976729383467},{"$f":"F62*HLOOKUP(F$17, $E$3:$AB$5, 3, FALSE)","v":49.910317087462381},{"$f":"G62*HLOOKUP(G$17, $E$3:$AB$5, 3, FALSE)","v":56.468934064636997},74.306979487668727,90.495695244526885,109.09782022609143,{"$f":"K62*HLOOKUP(K$17, $E$3:$AB$5, 3, FALSE)","v":41.19669931104},{"$f":"L62*HLOOKUP(L$17, $E$3:$AB$5, 3, FALSE)","v":55.543213834069178},62.112327141129882,74.983798011584241,91.267652029257647,41.19669931104,54.386063545859407,50.70394052337133,59.709320638854116,63.887356420480344,{"$f":"U62*HLOOKUP(U$17, $E$3:$AB$5, 3, FALSE)","v":0},{"$f":"V62*HLOOKUP(V$17, $E$3:$AB$5, 3, FALSE)","v":0},0,0,0]
[null,null,"Prix du CO2","€/tCO2",{"$f":"'Données de prix'!E23","v":8.15},{"$f":"F63*HLOOKUP(F$17, $E$3:$AB$5, 3, FALSE)","v":18.760343070873603},61.66453885869889,112.58809993214604,147.99579985323422,189.15220883063645,{"$f":"K63*HLOOKUP(K$17, $E$3:$AB$5, 3, FALSE)","v":18.760343070873603},29.287473794589395,41.653287139949548,53.655073243844718,67.55327377698886,{"$f":"P63*HLOOKUP(P$17, $E$3:$AB$5, 3, FALSE)","v":18.760343070873603},29.287473794589395,41.653287139949548,53.655073243844718,67.55327377698886,{"$f":"U63*HLOOKUP(U$17, $E$3:$AB$5, 3, FALSE)","v":0},0,0,0,0]
[]
[null,null,"CAPEX","Unité",2020,2025,2030,2035,2040,2045,2050,2055,2060]
[null,null,"Eolien terrestre","€/MW",{"$f":"E66*HLOOKUP(E$29, $E$3:$AV$5, 3, FALSE)","v":2069356.3512335287},{"$f":"F66*HLOOKUP(F$29, $E$3:$AV$5, 3, FALSE)","v":2156002.416992452},{"$f":"G66*HLOOKUP(G$29, $E$3:$AV$5, 3, FALSE)","v":2040073.0469578456},2010676.6577921107,1942023.5224292204,2127386.696860685,2330442.5027348064,2552879.6746577201,2796548.1343703992]
[null,null,"Eolien en mer","€/MW",{"$f":"E67*HLOOKUP(E$29, $E$3:$AV$5, 3, FALSE)","v":7758096.6063207602},3910220.705640391,4283445.2903861506,4074939.9162279344,3787607.559214192,4065813.065199398,4362620.4915298717,4779025.9437862858,5235176.6594699258]
[null,null,"PV au sol","€/MW",{"$f":"E68*HLOOKUP(E$29, $E$3:$AV$5, 3, FALSE)","v":985122.2685012914},877119.91846300918,897459.74726367253,919384.67895314668,901876.51480244752,886480.55355986871,880920.77372900257,965003.31400471192,1057111.4041256008]
[null,null,"PV sur toiture","€/MW",{"$f":"E69*HLOOKUP(E$29, $E$3:$AV$5, 3, FALSE)","v":1266363.7130450357},1279808.2187600108,1216894.572560912,1110871.0816530997,1052011.8023905763,1124763.8602498334,1199629.3669595949,1314132.1549189736,{"$f":"M69*HLOOKUP(M$29, $E$3:$AV$5, 3, FALSE)","v":1439564.0588299728}]
[]
[null,null,null,null,"Données historiques",{"$f":"'Calcul de LCOE'!F32:J32","v":"Scénario par défaut"}]
[null,null,{"$f":"'Données de coûts'!C23","v":"Prix d'attribution des projets"},{"$f":"'Calcul de LCOE'!D33","v":"Unité"},2017,{"$f":"'Calcul de LCOE'!F33","v":2020},{"$f":"'Calcul de LCOE'!G33","v":2025},{"$f":"'Calcul de LCOE'!H33","v":2030},{"$f":"'Calcul de LCOE'!I33","v":2035},{"$f":"'Calcul de LCOE'!J33","v":2040}]
[null,null,{"$f":"'Données de coûts'!C24","v":"Nucléaire"},{"$f":"'Calcul de LCOE'!D34","v":"€/MWh"},{"$f":"E73","v":0},{"$f":"F73*HLOOKUP(F$36, $E$3:$AV$5, 3, FALSE)","v":0},{"$f":"G73*HLOOKUP(G$36, $E$3:$AV$5, 3, FALSE)","v":0},107.74587361216408,118.03005242564186,129.29584037478165]
[null,null,{"$f":"'Calcul de LCOE'!C35","v":"Eolien terrestre"},{"$f":"'Calcul de LCOE'!D35","v":"€/MWh"},{"$f":"E74","v":65.400000000000006},{"$f":"F74*HLOOKUP(F$36, $E$3:$AV$5, 3, FALSE)","v":66.734328493944759},68.814666752464859,66.085591941454524,66.00381404241773,65.504295732786815]
[null,null,{"$f":"'Calcul de LCOE'!C36","v":"Eolien en mer"},{"$f":"'Calcul de LCOE'!D36","v":"€/MWh"},140,{"$f":"F75*HLOOKUP(F$36, $E$3:$AV$5, 3, FALSE)","v":59.154234908159999},62.486115563327829,65.915122680382737,69.429442603318734,68.450739021943235]
[null,null,{"$f":"'Calcul de LCOE'!C37","v":"PV au sol"},{"$f":"'Calcul de LCOE'!D37","v":"€/MWh"},63.9,{"$f":"F76*HLOOKUP(F$36, $E$3:$AV$5, 3, FALSE)","v":61.191966220447028},55.517216408593725,56.580448707495812,57.780153185137756,57.12639754648292]
[null,null,{"$f":"'Calcul de LCOE'!C38","v":"PV sur toiture"},{"$f":"'Calcul de LCOE'!D38","v":"€/MWh"},85,{"$f":"F77*HLOOKUP(F$36, $E$3:$AV$5, 3, FALSE)","v":85.428065380944474},{"$f":"G77*HLOOKUP(G$36, $E$3:$AV$5, 3, FALSE)","v":85.622491941268819},81.795330589530323,76.193098757679778,73.899310524746355]
[]
[null,"PRIX CONSTANTS"]
[]
[null,null,null,null,{"$f":"D9","v":"Estimation des compléments de rémunération passés par la Cour des Comptes"}]
[null,null,null,"Unité",2018,2019,2020,2021,2022,2023,2024,2025,2026,2027,2028,2029,2030,2031,2032,2033,2034,2035,2036,2037,2038,2039,2040]
[null,null,{"$f":"+C11","v":"Dépenses au titre des engagements passés"},"M€",{"$f":"E11/HLOOKUP(E$46, $E$3:$AB$5, 3, FALSE)","v":4292.783505154639},{"$f":"F11/HLOOKUP(F$46, $E$3:$AB$5, 3, FALSE)","v":4567.5043124043368},{"$f":"G11/HLOOKUP(G$46, $E$3:$AB$5, 3, FALSE)","v":4493.7279708325868},4594.3618866128591,4572.582173646977,4580.3703358846778,4731.5800384295717,4691.2543436236583,4373.275228137838,4106.1284672807496,3930.6451464070597,3788.6000044966809,3553.5029511547541,3019.5563994364752,2102.8472409951719,1522.954869077003,1249.5646867436958,1119.3368568321237,1002.0458860566514,827.64912650330302,713.45763600906037,596.44900243230541,529.66959020779689]
[null,null,{"$f":"+C12","v":"Part de l'éolien en mer dans les dépenses au titre des engagements passés (AO 2011&2013)"},{"$f":"+D12","v":"M€"},{"$f":"E12/HLOOKUP(E$46, $E$3:$AB$5, 3, FALSE)","v":0},{"$f":"F12/HLOOKUP(F$46, $E$3:$AB$5, 3, FALSE)","v":0},0,176.5905213060079,345.47583610193112,432.86527026987739,637.00773042325375,695.64884549606188,670.61017914745469,649.5282907485564,630.79513804067403,613.61587161718273,597.55127099072422,624.42121193046364,639.19783469507149,646.30437951762758,648.28848052064109,646.71983744599959,642.61739852152198,636.67063395598234,629.36208265312507,596.44900243230541,529.66959020779689]
[null,null,{"$f":"+C13","v":"Dépenses au titre des engagements passés hors éolien en mer"},{"$f":"+D13","v":"M€"},{"$f":"E13/HLOOKUP(E$46, $E$3:$AB$5, 3, FALSE)","v":4292.783505154639},4567.5043124043368,4493.7279708325868,4417.7713653068513,4227.1063375450467,4147.5050656148005,4094.5723080063176,3995.6054981275965,3702.6650489903832,3456.600176532193,3299.8500083663857,3174.9841328794982,2955.9516801640302,2395.1351875060118,1463.6494063001005,876.65048955937527,601.27620622305471,472.61701938612401,359.42848753512936,190.97849254732068,84.09555335593538,0,0]
[null,null,{"$f":"+C14","v":"Hypothèse de prix marché de la Cour des Comptes"},"€/MWh",{"$f":"'Données de prix'!E16/HLOOKUP(E$46, $E$3:$AB$5, 3, FALSE)","v":35.257731958762882},{"$f":"'Données de prix'!F16/HLOOKUP(F$46, $E$3:$AB$5, 3, FALSE)","v":34.794248276484417},{"$f":"'Données de prix'!G16/HLOOKUP(G$46, $E$3:$AB$5, 3, FALSE)","v":36.257759116146332},{"$f":"'Données de prix'!H16/HLOOKUP(H$46, $E$3:$AB$5, 3, FALSE)","v":35.95869668824411},{"$f":"'Données de prix'!I16/HLOOKUP(I$46, $E$3:$AB$5, 3, FALSE)","v":35.662100996785703},{"$f":"'Données de prix'!J16/HLOOKUP(J$46, $E$3:$AB$5, 3, FALSE)","v":35.367951695555341},{"$f":"'Données de prix'!K16/HLOOKUP(K$46, $E$3:$AB$5, 3, FALSE)","v":35.076228606157592},{"$f":"'Données de prix'!L16/HLOOKUP(L$46, $E$3:$AB$5, 3, FALSE)","v":34.786911716633114},{"$f":"'Données de prix'!M16/HLOOKUP(M$46, $E$3:$AB$5, 3, FALSE)","v":34.499981180085868},{"$f":"'Données de prix'!N16/HLOOKUP(N$46, $E$3:$AB$5, 3, FALSE)","v":34.215417313321609},{"$f":"'Données de prix'!O16/HLOOKUP(O$46, $E$3:$AB$5, 3, FALSE)","v":33.933200595497674},{"$f":"'Données de prix'!P16/HLOOKUP(P$46, $E$3:$AB$5, 3, FALSE)","v":33.653311666783829},{"$f":"'Données de prix'!Q16/HLOOKUP(Q$46, $E$3:$AB$5, 3, FALSE)","v":33.375731327034238},{"$f":"'Données de prix'!R16/HLOOKUP(R$46, $E$3:$AB$5, 3, FALSE)","v":33.100440534470323},{"$f":"'Données de prix'!S16/HLOOKUP(S$46, $E$3:$AB$5, 3, FALSE)","v":32.827420404374543},{"$f":"'Données de prix'!T16/HLOOKUP(T$46, $E$3:$AB$5, 3, FALSE)","v":32.556652207794862},{"$f":"'Données de prix'!U16/HLOOKUP(U$46, $E$3:$AB$5, 3, FALSE)","v":32.288117370260032},{"$f":"'Données de prix'!V16/HLOOKUP(V$46, $E$3:$AB$5, 3, FALSE)","v":32.021797470505334},{"$f":"'Données de prix'!W16/HLOOKUP(W$46, $E$3:$AB$5, 3, FALSE)","v":31.757674239208942},{"$f":"'Données de prix'!X16/HLOOKUP(X$46, $E$3:$AB$5, 3, FALSE)","v":31.495729557738642},{"$f":"'Données de prix'!Y16/HLOOKUP(Y$46, $E$3:$AB$5, 3, FALSE)","v":31.235945456908908},{"$f":"'Données de prix'!Z16/HLOOKUP(Z$46, $E$3:$AB$5, 3, FALSE)","v":30.97830411574823},{"$f":"'Données de prix'!AA16/HLOOKUP(AA$46, $E$3:$AB$5, 3, FALSE)","v":30.722787860276622}]
[]
[null,null,null,null,"Données historiques",{"$f":"'Données de production'!E14","v":"PPE - AMPERE"},null,null,null,null,{"$f":"'Données de production'!N14","v":"Référence ADEME"},null,null,null,null,{"$f":"'Données de production'!W14","v":"Prolongement nucléaire aisé ADEME"},null,null,null,null,{"$f":"'Scénario à définir'!E7","v":"Scénario à définir"}]
[null,null,"Revenus de marché","Unité",2017,2020,2025,2030,2035,2040,2020,2025,2030,2035,2040,2020,2025,2030,2035,2040,2020,2025,2030,2035,2040]
[null,null,{"$f":"'Données de coûts'!C24","v":"Nucléaire"},"€/MWh",{"$f":"E18/HLOOKUP(E$53, $E$3:$AB$5, 3, FALSE)","v":47.902135933104503},{"$f":"'Données de prix'!F27","v":50.36414358820663},{"$f":"'Données de prix'!G27","v":54.467489680043506},{"$f":"'Données de prix'!H27","v":58.57083577188039},{"$f":"'Données de prix'!I27","v":62.674181863717266},{"$f":"'Données de prix'!J27","v":66.777527955554149},{"$f":"'Données de prix'!K27","v":39},{"$f":"'Données de prix'!L27","v":49},{"$f":"'Données de prix'!M27","v":51},{"$f":"'Données de prix'!N27","v":57},{"$f":"'Données de prix'!O27","v":65},{"$f":"'Données de prix'!P27","v":39},{"$f":"'Données de prix'!Q27","v":48},{"$f":"'Données de prix'!R27","v":42},{"$f":"'Données de prix'!S27","v":46},{"$f":"'Données de prix'!T27","v":46},{"$f":"'Scénario à définir'!E37","v":0},{"$f":"'Scénario à définir'!F37","v":0},{"$f":"'Scénario à définir'!G37","v":0},{"$f":"'Scénario à définir'!H37","v":0},{"$f":"'Scénario à définir'!I37","v":0}]
[null,null,{"$f":"'Calcul de LCOE'!C35","v":"Eolien terrestre"},"€/MWh",{"$f":"E19/HLOOKUP(E$53, $E$3:$AB$5, 3, FALSE)","v":48.228490576657116},{"$f":"'Données de prix'!F28","v":43.114245288328561},{"$f":"'Données de prix'!G28","v":41.2},{"$f":"'Données de prix'!H28","v":46.708781372859598},{"$f":"'Données de prix'!I28","v":48.480734805008602},{"$f":"'Données de prix'!J28","v":50.252688237157606},{"$f":"'Données de prix'!K28","v":37},{"$f":"'Données de prix'!L28","v":41},{"$f":"'Données de prix'!M28","v":39},{"$f":"'Données de prix'!N28","v":44},{"$f":"'Données de prix'!O28","v":45},{"$f":"'Données de prix'!P28","v":37},{"$f":"'Données de prix'!Q28","v":42},{"$f":"'Données de prix'!R28","v":32},{"$f":"'Données de prix'!S28","v":35},{"$f":"'Données de prix'!T28","v":35},{"$f":"'Scénario à définir'!E38","v":0},{"$f":"'Scénario à définir'!F38","v":0},{"$f":"'Scénario à définir'!G38","v":0},{"$f":"'Scénario à définir'!H38","v":0},{"$f":"'Scénario à définir'!I38","v":0}]
[null,null,{"$f":"'Calcul de LCOE'!C36","v":"Eolien en mer"},"€/MWh",{"$f":"E20/HLOOKUP(E$53, $E$3:$AB$5, 3, FALSE)","v":0},{"$f":"'Données de prix'!F29","v":0},{"$f":"'Données de prix'!G29","v":43.2},{"$f":"'Données de prix'!H29","v":49.157796500736417},{"$f":"'Données de prix'!I29","v":52.052287752577463},{"$f":"'Données de prix'!J29","v":54.946779004418509},{"$f":"'Données de prix'!K29","v":0},{"$f":"'Données de prix'!L29","v":44},{"$f":"'Données de prix'!M29","v":42},{"$f":"'Données de prix'!N29","v":48},{"$f":"'Données de prix'!O29","v":51},{"$f":"'Données de prix'!P29","v":0},{"$f":"'Données de prix'!Q29","v":43},{"$f":"'Données de prix'!R29","v":35},{"$f":"'Données de prix'!S29","v":37},{"$f":"'Données de prix'!T29","v":35},{"$f":"'Scénario à définir'!E39","v":0},{"$f":"'Scénario à définir'!F39","v":0},{"$f":"'Scénario à définir'!G39","v":0},{"$f":"'Scénario à définir'!H39","v":0},{"$f":"'Scénario à définir'!I39","v":0}]
[null,null,{"$f":"'Calcul de LCOE'!C37","v":"PV au sol"},"€/MWh",{"$f":"E21/HLOOKUP(E$53, $E$3:$AB$5, 3, FALSE)","v":43.137359111091079},{"$f":"'Données de prix'!F30","v":40.068679555545543},{"$f":"'Données de prix'!G30","v":39.4},{"$f":"'Données de prix'!H30","v":44.38775218524021},{"$f":"'Données de prix'!I30","v":47.857132648340723},{"$f":"'Données de prix'!J30","v":51.326513111441244},{"$f":"'Données de prix'!K30","v":39},{"$f":"'Données de prix'!L30","v":43},{"$f":"'Données de prix'!M30","v":40},{"$f":"'Données de prix'!N30","v":44},{"$f":"'Données de prix'!O30","v":42},{"$f":"'Données de prix'!P30","v":39},{"$f":"'Données de prix'!Q30","v":43},{"$f":"'Données de prix'!R30","v":34},{"$f":"'Données de prix'!S30","v":36},{"$f":"'Données de prix'!T30","v":33},{"$f":"'Scénario à définir'!E40","v":0},{"$f":"'Scénario à définir'!F40","v":0},{"$f":"'Scénario à définir'!G40","v":0},{"$f":"'Scénario à définir'!H40","v":0},{"$f":"'Scénario à définir'!I40","v":0}]
[null,null,{"$f":"'Calcul de LCOE'!C38","v":"PV sur toiture"},"€/MWh",{"$f":"E22/HLOOKUP(E$53, $E$3:$AB$5, 3, FALSE)","v":43.137359111091079},{"$f":"'Données de prix'!F31","v":40.068679555545543},{"$f":"'Données de prix'!G31","v":39.4},{"$f":"'Données de prix'!H31","v":44.38775218524021},{"$f":"'Données de prix'!I31","v":47.857132648340723},{"$f":"'Données de prix'!J31","v":51.326513111441244},{"$f":"'Données de prix'!K31","v":39},{"$f":"'Données de prix'!L31","v":43},{"$f":"'Données de prix'!M31","v":40},{"$f":"'Données de prix'!N31","v":44},{"$f":"'Données de prix'!O31","v":42},{"$f":"'Données de prix'!P31","v":39},{"$f":"'Données de prix'!Q31","v":43},{"$f":"'Données de prix'!R31","v":34},{"$f":"'Données de prix'!S31","v":36},{"$f":"'Données de prix'!T31","v":33},{"$f":"'Scénario à définir'!E41","v":0},{"$f":"'Scénario à définir'!F41","v":0},{"$f":"'Scénario à définir'!G41","v":0},{"$f":"'Scénario à définir'!H41","v":0},{"$f":"'Scénario à définir'!I41","v":0}]
[]
[null,null,null,null,"Données historiques",{"$f":"'Données de production'!E14","v":"PPE - AMPERE"},null,null,null,null,{"$f":"'Données de production'!N14","v":"Référence ADEME"},null,null,null,null,{"$f":"'Données de production'!W14","v":"Prolongement nucléaire aisé ADEME"},null,null,null,null,{"$f":"'Scénario à définir'!E7","v":"Scénario à définir"}]
[null,null,"Variables","Unité",2017,2020,2025,2030,2035,2040,2020,2025,2030,2035,2040,2020,2025,2030,2035,2040,2020,2025,2030,2035,2040]
[null,null,"Prix de marché moyen","€/MWh",{"$f":"E26/HLOOKUP(E$53, $E$3:$AB$5, 3, FALSE)","v":50.497976729383467},{"$f":"'Données de prix'!F22","v":47.248988364691733},{"$f":"'Données de prix'!G22","v":48.8},{"$f":"'Données de prix'!H22","v":58.620279781543118},{"$f":"'Données de prix'!I22","v":65.170979235400907},{"$f":"'Données de prix'!J22","v":71.721678689258695},{"$f":"'Données de prix'!K22","v":39},{"$f":"'Données de prix'!L22","v":48},{"$f":"'Données de prix'!M22","v":49},{"$f":"'Données de prix'!N22","v":54},{"$f":"'Données de prix'!O22","v":60},{"$f":"'Données de prix'!P22","v":39},{"$f":"'Données de prix'!Q22","v":47},{"$f":"'Données de prix'!R22","v":40},{"$f":"'Données de prix'!S22","v":43},{"$f":"'Données de prix'!T22","v":42},{"$f":"'Scénario à définir'!E45","v":0},{"$f":"'Scénario à définir'!F45","v":0},{"$f":"'Scénario à définir'!G45","v":0},{"$f":"'Scénario à définir'!H45","v":0},{"$f":"'Scénario à définir'!I45","v":0}]
[null,null,"Prix du CO2","€/tCO2",{"$f":"E27/HLOOKUP(E$61, $E$3:$AB$5, 3, FALSE)","v":8.15},{"$f":"'Données de prix'!F23","v":17.760000000000002},{"$f":"'Données de prix'!G23","v":53.29},{"$f":"'Données de prix'!H23","v":88.82},{"$f":"'Données de prix'!I23","v":106.58},{"$f":"'Données de prix'!J23","v":124.35},{"$f":"'Données de prix'!K23","v":17.760000000000002},{"$f":"'Données de prix'!L23","v":25.31},{"$f":"'Données de prix'!M23","v":32.86},{"$f":"'Données de prix'!N23","v":38.64},{"$f":"'Données de prix'!O23","v":44.41},{"$f":"'Données de prix'!P23","v":17.760000000000002},{"$f":"'Données de prix'!Q23","v":25.31},{"$f":"'Données de prix'!R23","v":32.86},{"$f":"'Données de prix'!S23","v":38.64},{"$f":"'Données de prix'!T23","v":44.41},{"$f":"'Scénario à définir'!E46","v":0},{"$f":"'Scénario à définir'!F46","v":0},{"$f":"'Scénario à définir'!G46","v":0},{"$f":"'Scénario à définir'!H46","v":0},{"$f":"'Scénario à définir'!I46","v":0}]
[]
[null,null,"CAPEX","Unité",2020,2025,2030,2035,2040,2045,2050,2055,2060]
[null,null,"Eolien terrestre","€/MW",{"$f":"'Données de coûts'!E17","v":1959013.684294851},{"$f":"'Données de coûts'!F17","v":1863200},{"$f":"'Données de coûts'!G17","v":1609400},{"$f":"'Données de coûts'!H17","v":1448000},{"$f":"'Données de coûts'!I17","v":1276700},{"$f":"'Données de coûts'!J17","v":1276700},{"$f":"'Données de coûts'!K17","v":1276700},{"$f":"'Données de coûts'!L17","v":1276700},{"$f":"'Données de coûts'!M17","v":1276700}]
[null,null,"Eolien en mer","€/MW",{"$f":"'Données de coûts'!E18","v":7344417.7010906134},{"$f":"'Données de coûts'!F18","v":3379181.3781508771},{"$f":"'Données de coûts'!G18","v":3379181.3781508771},{"$f":"'Données de coûts'!H18","v":2934590.6890754383},{"$f":"'Données de coûts'!I18","v":2490000},{"$f":"'Données de coûts'!J18","v":2440000},{"$f":"'Données de coûts'!K18","v":2390000},{"$f":"'Données de coûts'!L18","v":2390000},{"$f":"'Données de coûts'!M18","v":2390000}]
[null,null,"PV au sol","€/MW",{"$f":"'Données de coûts'!E19","v":932593.36582954193},{"$f":"'Données de coûts'!F19","v":758000},{"$f":"'Données de coûts'!G19","v":708000},{"$f":"'Données de coûts'!H19","v":662100},{"$f":"'Données de coûts'!I19","v":592900},{"$f":"'Données de coûts'!J19","v":532000},{"$f":"'Données de coûts'!K19","v":482600},{"$f":"'Données de coûts'!L19","v":482600},{"$f":"'Données de coûts'!M19","v":482600}]
[null,null,"PV sur toiture","€/MW",{"$f":"'Données de coûts'!E20","v":1198838.3932380043},{"$f":"'Données de coûts'!F20","v":1106000},{"$f":"'Données de coûts'!G20","v":960000},{"$f":"'Données de coûts'!H20","v":800000},{"$f":"'Données de coûts'!I20","v":691600},{"$f":"'Données de coûts'!J20","v":675000},{"$f":"'Données de coûts'!K20","v":657200},{"$f":"'Données de coûts'!L20","v":657200},{"$f":"'Données de coûts'!M20","v":657200}]
[]
[null,null,null,null,"Données historiques",{"$f":"F35","v":"Scénario par défaut"}]
[null,null,{"$f":"C36","v":"Prix d'attribution des projets"},"Unité",2017,2020,2025,2030,2035,2040]
[null,null,{"$f":"C54","v":"Nucléaire"},"€/MWh",{"$f":"'Données de coûts'!E24","v":0},{"$f":"'Données de coûts'!F24","v":0},{"$f":"'Données de coûts'!G24","v":0},{"$f":"'Données de coûts'!H24","v":85},{"$f":"'Données de coûts'!I24","v":85},{"$f":"'Données de coûts'!J24","v":85}]
[null,null,{"$f":"'Calcul de LCOE'!C35","v":"Eolien terrestre"},"€/MWh",{"$f":"'Calcul de LCOE'!E35","v":65.400000000000006},{"$f":"'Calcul de LCOE'!F35","v":63.175906196115662},{"$f":"'Calcul de LCOE'!G35","v":59.469083189641616},{"$f":"'Calcul de LCOE'!H35","v":52.134482061403666},{"$f":"'Calcul de LCOE'!I35","v":47.533014501878441},{"$f":"'Calcul de LCOE'!J35","v":43.062987340873931}]
[null,null,{"$f":"'Calcul de LCOE'!C36","v":"Eolien en mer"},"€/MWh",{"$f":"'Données de coûts'!E26","v":140},{"$f":"'Données de coûts'!F26","v":56},{"$f":"'Données de coûts'!G26","v":54},{"$f":"'Données de coûts'!H26","v":52},{"$f":"'Données de coûts'!I26","v":50},{"$f":"'Données de coûts'!J26","v":45}]
[null,null,{"$f":"'Calcul de LCOE'!C37","v":"PV au sol"},"€/MWh",{"$f":"'Calcul de LCOE'!E37","v":63.9},{"$f":"'Calcul de LCOE'!F37","v":57.929074962515188},{"$f":"'Calcul de LCOE'!G37","v":47.977533233374828},{"$f":"'Calcul de LCOE'!H37","v":44.635938054097217},{"$f":"'Calcul de LCOE'!I37","v":41.610699307541218},{"$f":"'Calcul de LCOE'!J37","v":37.555297814500541}]
[null,null,{"$f":"'Calcul de LCOE'!C38","v":"PV sur toiture"},"€/MWh",{"$f":"'Calcul de LCOE'!E38","v":85},{"$f":"'Calcul de LCOE'!F38","v":80.872851601584458},{"$f":"'Calcul de LCOE'!G38","v":73.994270937559236},{"$f":"'Calcul de LCOE'!H38","v":64.527789947077437},{"$f":"'Calcul de LCOE'!I38","v":54.870884671366888},{"$f":"'Calcul de LCOE'!J38","v":48.581929444874824}]

{"sheet":"Scénarios choisis - défaut","index":9,"n_rows":311,"n_cols":84,"rows_kept":311,"cut":false,"hidden":true,"merged":[[306,3,306,4],[126,2,126,27],[103,2,103,27],[104,2,104,27],[144,2,144,27],[167,2,167,27],[305,3,305,4],[191,5,191,27],[207,2,207,27],[205,1,205,28],[200,3,200,4],[201,3,201,4],[203,3,203,4],[216,2,216,27],[238,2,238,27],[303,5,303,27],[2,5,2,13],[13,5,13,13],[25,5,25,9],[25,10,25,14],[33,5,33,9],[41,5,41,9],[197,3,197,4],[49,5,49,9],[54,5,54,27],[90,2,90,27],[95,2,95,27],[88,1,88,28],[100,2,100,27],[194,3,194,4],[196,3,196,4],[56,2,56,27],[61,2,61,27],[72,2,72,27],[77,2,77,27],[82,2,82,27],[70,2,70,27],[322,4,322,5],[192,3,192,4],[195,3,195,4],[193,3,193,4],[202,3,202,4],[199,3,199,4],[304,3,304,4],[212,2,212,27],[215,2,215,27],[307,3,307,4],[308,3,308,4],[309,3,309,4],[310,3,310,4],[256,2,256,27],[279,2,279,27],[198,3,198,4],[167,31,167,56],[167,58,167,83],[103,31,103,56],[103,58,103,83],[104,31,104,56],[104,58,104,83],[144,31,144,56],[144,58,144,83]]}
[]
[]
[null,null,null,null,"Données historiques","Scénario sélectionné"]
[null,null,"Capacité installée de production d'électricité","Unité",2017,2018,2019,2020,2021,2022,2025,2030,2035,2040]
[null,null,{"$f":"'Données de production'!C5","v":"Nucléaire"},"GW",{"$f":"'Données de production'!V5","v":63.13},{"$f":"IF(ISBLANK('Données de production'!W5), IF(Start!$D$3='Données de production'!$E$14,'Données de production'!E16,IF(Start!$D$3='Données de production'!$N$14,'Données de production'!N16,IF(Start!$D$3='Données de production'!$W$14,'Données de production'!W16,\"ENTRER UN CALCUL\"))), 'Données de production'!W5)","v":63.108333333333334},{"$f":"IF(ISBLANK('Données de production'!X5), IF(Start!$D$3='Données de production'!$E$14,'Données de production'!F16,IF(Start!$D$3='Données de production'!$N$14,'Données de production'!O16,IF(Start!$D$3='Données de production'!$W$14,'Données de production'!X16,\"ENTRER UN CALCUL\"))), 'Données de production'!X5)","v":63.086666666666666},{"$f":"IF(ISBLANK('Données de production'!Y5), IF(Start!$D$3='Données de production'!$E$14,'Données de production'!G16,IF(Start!$D$3='Données de production'!$N$14,'Données de production'!P16,IF(Start!$D$3='Données de production'!$W$14,'Données de production'!Y16,\"ENTRER UN CALCUL\"))), 'Données de production'!Y5)","v":63.064999999999998},{"$f":"IF(ISBLANK('Données de production'!Z5), IF(Start!$D$3='Données de production'!$E$14,'Données de production'!H16,IF(Start!$D$3='Données de production'!$N$14,'Données de production'!Q16,IF(Start!$D$3='Données de production'!$W$14,'Données de production'!Z16,\"ENTRER UN CALCUL\"))), 'Données de production'!Z5)","v":63.043333333333337},{"$f":"IF(ISBLANK('Données de production'!AA5), IF(Start!$D$3='Données de production'!$E$14,'Données de production'!I16,IF(Start!$D$3='Données de production'!$N$14,'Données de production'!R16,IF(Start!$D$3='Données de production'!$W$14,'Données de production'!AA16,\"ENTRER UN CALCUL\"))), 'Données de production'!AA5)","v":63.021666666666668},{"$f":"IF(ISBLANK('Données de production'!AB5), IF(Start!$D$3='Données de production'!$E$14,'Données de production'!J16,IF(Start!$D$3='Données de production'!$N$14,'Données de production'!S16,IF(Start!$D$3='Données de production'!$W$14,'Données de production'!AB16,\"ENTRER UN CALCUL\"))), 'Données de production'!AB5)","v":63},{"$f":"IF(ISBLANK('Données de production'!AC5), IF(Start!$D$3='Données de production'!$E$14,'Données de production'!K16,IF(Start!$D$3='Données de production'!$N$14,'Données de production'!T16,IF(Start!$D$3='Données de production'!$W$14,'Données de production'!AC16,\"ENTRER UN CALCUL\"))), 'Données de production'!AC5)","v":56.285714285714285},{"$f":"IF(ISBLANK('Données de production'!AD5), IF(Start!$D$3='Données de production'!$E$14,'Données de production'!L16,IF(Start!$D$3='Données de production'!$N$14,'Données de production'!U16,IF(Start!$D$3='Données de production'!$W$14,'Données de production'!AD16,\"ENTRER UN CALCUL\"))), 'Données de production'!AD5)","v":48.5},{"$f":"IF(ISBLANK('Données de production'!AE5), IF(Start!$D$3='Données de production'!$E$14,'Données de production'!M16,IF(Start!$D$3='Données de production'!$N$14,'Données de production'!V16,IF(Start!$D$3='Données de production'!$W$14,'Données de production'!AE16,\"ENTRER UN CALCUL\"))), 'Données de production'!AE5)","v":40.714285714285715}]
[null,null,{"$f":"'Données de production'!C6","v":"Eolien terrestre"},"GW",{"$f":"'Données de production'!V6","v":13.55},{"$f":"IF(ISBLANK('Données de production'!W6), IF(Start!$D$3='Données de production'!$E$14,'Données de production'!E17,IF(Start!$D$3='Données de production'!$N$14,'Données de production'!N17,IF(Start!$D$3='Données de production'!$W$14,'Données de production'!W17,\"ENTRER UN CALCUL\"))), 'Données de production'!W6)","v":15.575000000000001},{"$f":"IF(ISBLANK('Données de production'!X6), IF(Start!$D$3='Données de production'!$E$14,'Données de production'!F17,IF(Start!$D$3='Données de production'!$N$14,'Données de production'!O17,IF(Start!$D$3='Données de production'!$W$14,'Données de production'!X17,\"ENTRER UN CALCUL\"))), 'Données de production'!X6)","v":17.600000000000001},{"$f":"IF(ISBLANK('Données de production'!Y6), IF(Start!$D$3='Données de production'!$E$14,'Données de production'!G17,IF(Start!$D$3='Données de production'!$N$14,'Données de production'!P17,IF(Start!$D$3='Données de production'!$W$14,'Données de production'!Y17,\"ENTRER UN CALCUL\"))), 'Données de production'!Y6)","v":19.625},{"$f":"IF(ISBLANK('Données de production'!Z6), IF(Start!$D$3='Données de production'!$E$14,'Données de production'!H17,IF(Start!$D$3='Données de production'!$N$14,'Données de production'!Q17,IF(Start!$D$3='Données de production'!$W$14,'Données de production'!Z17,\"ENTRER UN CALCUL\"))), 'Données de production'!Z6)","v":21.65},{"$f":"IF(ISBLANK('Données de production'!AA6), IF(Start!$D$3='Données de production'!$E$14,'Données de production'!I17,IF(Start!$D$3='Données de production'!$N$14,'Données de production'!R17,IF(Start!$D$3='Données de production'!$W$14,'Données de production'!AA17,\"ENTRER UN CALCUL\"))), 'Données de production'!AA6)","v":23.674999999999997},{"$f":"IF(ISBLANK('Données de production'!AB6), IF(Start!$D$3='Données de production'!$E$14,'Données de production'!J17,IF(Start!$D$3='Données de production'!$N$14,'Données de production'!S17,IF(Start!$D$3='Données de production'!$W$14,'Données de production'!AB17,\"ENTRER UN CALCUL\"))), 'Données de production'!AB6)","v":29.36},{"$f":"IF(ISBLANK('Données de production'!AC6), IF(Start!$D$3='Données de production'!$E$14,'Données de production'!K17,IF(Start!$D$3='Données de production'!$N$14,'Données de production'!T17,IF(Start!$D$3='Données de production'!$W$14,'Données de production'!AC17,\"ENTRER UN CALCUL\"))), 'Données de production'!AC6)","v":39.835714285714289},{"$f":"IF(ISBLANK('Données de production'!AD6), IF(Start!$D$3='Données de production'!$E$14,'Données de production'!L17,IF(Start!$D$3='Données de production'!$N$14,'Données de production'!U17,IF(Start!$D$3='Données de production'!$W$14,'Données de production'!AD17,\"ENTRER UN CALCUL\"))), 'Données de production'!AD6)","v":52.3},{"$f":"IF(ISBLANK('Données de production'!AE6), IF(Start!$D$3='Données de production'!$E$14,'Données de production'!M17,IF(Start!$D$3='Données de production'!$N$14,'Données de production'!V17,IF(Start!$D$3='Données de production'!$W$14,'Données de production'!AE17,\"ENTRER UN CALCUL\"))), 'Données de production'!AE6)","v":64.764285714285705}]
[null,null,{"$f":"'Données de production'!C7","v":"Eolien en mer"},"GW",{"$f":"'Données de production'!V7","v":0},{"$f":"IF(ISBLANK('Données de production'!W7), IF(Start!$D$3='Données de production'!$E$14,'Données de production'!E18,IF(Start!$D$3='Données de production'!$N$14,'Données de production'!N18,IF(Start!$D$3='Données de production'!$W$14,'Données de production'!W18,\"ENTRER UN CALCUL\"))), 'Données de production'!W7)","v":0},{"$f":"IF(ISBLANK('Données de production'!X7), IF(Start!$D$3='Données de production'!$E$14,'Données de production'!F18,IF(Start!$D$3='Données de production'!$N$14,'Données de production'!O18,IF(Start!$D$3='Données de production'!$W$14,'Données de production'!X18,\"ENTRER UN CALCUL\"))), 'Données de production'!X7)","v":0},{"$f":"IF(ISBLANK('Données de production'!Y7), IF(Start!$D$3='Données de production'!$E$14,'Données de production'!G18,IF(Start!$D$3='Données de production'!$N$14,'Données de production'!P18,IF(Start!$D$3='Données de production'!$W$14,'Données de production'!Y18,\"ENTRER UN CALCUL\"))), 'Données de production'!Y7)","v":0},{"$f":"IF(ISBLANK('Données de production'!Z7), IF(Start!$D$3='Données de production'!$E$14,'Données de production'!H18,IF(Start!$D$3='Données de production'!$N$14,'Données de production'!Q18,IF(Start!$D$3='Données de production'!$W$14,'Données de production'!Z18,\"ENTRER UN CALCUL\"))), 'Données de production'!Z7)","v":0.79999999999999993},{"$f":"IF(ISBLANK('Données de production'!AA7), IF(Start!$D$3='Données de production'!$E$14,'Données de production'!I18,IF(Start!$D$3='Données de production'!$N$14,'Données de production'!R18,IF(Start!$D$3='Données de production'!$W$14,'Données de production'!AA18,\"ENTRER UN CALCUL\"))), 'Données de production'!AA7)","v":1.5999999999999999},{"$f":"IF(ISBLANK('Données de production'!AB7), IF(Start!$D$3='Données de production'!$E$14,'Données de production'!J18,IF(Start!$D$3='Données de production'!$N$14,'Données de production'!S18,IF(Start!$D$3='Données de production'!$W$14,'Données de production'!AB18,\"ENTRER UN CALCUL\"))), 'Données de production'!AB7)","v":3.42},{"$f":"IF(ISBLANK('Données de production'!AC7), IF(Start!$D$3='Données de production'!$E$14,'Données de production'!K18,IF(Start!$D$3='Données de production'!$N$14,'Données de production'!T18,IF(Start!$D$3='Données de production'!$W$14,'Données de production'!AC18,\"ENTRER UN CALCUL\"))), 'Données de production'!AC7)","v":7.8214285714285712},{"$f":"IF(ISBLANK('Données de production'!AD7), IF(Start!$D$3='Données de production'!$E$14,'Données de production'!L18,IF(Start!$D$3='Données de production'!$N$14,'Données de production'!U18,IF(Start!$D$3='Données de production'!$W$14,'Données de production'!AD18,\"ENTRER UN CALCUL\"))), 'Données de production'!AD7)","v":15},{"$f":"IF(ISBLANK('Données de production'!AE7), IF(Start!$D$3='Données de production'!$E$14,'Données de production'!M18,IF(Start!$D$3='Données de production'!$N$14,'Données de production'!V18,IF(Start!$D$3='Données de production'!$W$14,'Données de production'!AE18,\"ENTRER UN CALCUL\"))), 'Données de production'!AE7)","v":22.178571428571431}]
[null,null,{"$f":"'Données de production'!C8","v":"PV au sol"},"GW",{"$f":"'Données de production'!V8","v":4.178612324929972},{"$f":"IF(ISBLANK('Données de production'!W8), IF(Start!$D$3='Données de production'!$E$14,'Données de production'!E19,IF(Start!$D$3='Données de production'!$N$14,'Données de production'!N19,IF(Start!$D$3='Données de production'!$W$14,'Données de production'!W19,\"ENTRER UN CALCUL\"))), 'Données de production'!W8)","v":5.4155102707749769},{"$f":"IF(ISBLANK('Données de production'!X8), IF(Start!$D$3='Données de production'!$E$14,'Données de production'!F19,IF(Start!$D$3='Données de production'!$N$14,'Données de production'!O19,IF(Start!$D$3='Données de production'!$W$14,'Données de production'!X19,\"ENTRER UN CALCUL\"))), 'Données de production'!X8)","v":6.6524082166199818},{"$f":"IF(ISBLANK('Données de production'!Y8), IF(Start!$D$3='Données de production'!$E$14,'Données de production'!G19,IF(Start!$D$3='Données de production'!$N$14,'Données de production'!P19,IF(Start!$D$3='Données de production'!$W$14,'Données de production'!Y19,\"ENTRER UN CALCUL\"))), 'Données de production'!Y8)","v":7.889306162464985},{"$f":"IF(ISBLANK('Données de production'!Z8), IF(Start!$D$3='Données de production'!$E$14,'Données de production'!H19,IF(Start!$D$3='Données de production'!$N$14,'Données de production'!Q19,IF(Start!$D$3='Données de production'!$W$14,'Données de production'!Z19,\"ENTRER UN CALCUL\"))), 'Données de production'!Z8)","v":9.1262041083099916},{"$f":"IF(ISBLANK('Données de production'!AA8), IF(Start!$D$3='Données de production'!$E$14,'Données de production'!I19,IF(Start!$D$3='Données de production'!$N$14,'Données de production'!R19,IF(Start!$D$3='Données de production'!$W$14,'Données de production'!AA19,\"ENTRER UN CALCUL\"))), 'Données de production'!AA8)","v":10.363102054154997},{"$f":"IF(ISBLANK('Données de production'!AB8), IF(Start!$D$3='Données de production'!$E$14,'Données de production'!J19,IF(Start!$D$3='Données de production'!$N$14,'Données de production'!S19,IF(Start!$D$3='Données de production'!$W$14,'Données de production'!AB19,\"ENTRER UN CALCUL\"))), 'Données de production'!AB8)","v":16.079999999999998},{"$f":"IF(ISBLANK('Données de production'!AC8), IF(Start!$D$3='Données de production'!$E$14,'Données de production'!K19,IF(Start!$D$3='Données de production'!$N$14,'Données de production'!T19,IF(Start!$D$3='Données de production'!$W$14,'Données de production'!AC19,\"ENTRER UN CALCUL\"))), 'Données de production'!AC8)","v":24.513830660040021},{"$f":"IF(ISBLANK('Données de production'!AD8), IF(Start!$D$3='Données de production'!$E$14,'Données de production'!L19,IF(Start!$D$3='Données de production'!$N$14,'Données de production'!U19,IF(Start!$D$3='Données de production'!$W$14,'Données de production'!AD19,\"ENTRER UN CALCUL\"))), 'Données de production'!AD8)","v":28.798407310140075},{"$f":"IF(ISBLANK('Données de production'!AE8), IF(Start!$D$3='Données de production'!$E$14,'Données de production'!M19,IF(Start!$D$3='Données de production'!$N$14,'Données de production'!V19,IF(Start!$D$3='Données de production'!$W$14,'Données de production'!AE19,\"ENTRER UN CALCUL\"))), 'Données de production'!AE8)","v":33.082983960240128}]
[null,null,{"$f":"'Données de production'!C9","v":"PV sur toiture"},"GW",{"$f":"'Données de production'!V9","v":3.4753876750700283},{"$f":"IF(ISBLANK('Données de production'!W9), IF(Start!$D$3='Données de production'!$E$14,'Données de production'!E20,IF(Start!$D$3='Données de production'!$N$14,'Données de production'!N20,IF(Start!$D$3='Données de production'!$W$14,'Données de production'!W20,\"ENTRER UN CALCUL\"))), 'Données de production'!W9)","v":4.3961563958916905},{"$f":"IF(ISBLANK('Données de production'!X9), IF(Start!$D$3='Données de production'!$E$14,'Données de production'!F20,IF(Start!$D$3='Données de production'!$N$14,'Données de production'!O20,IF(Start!$D$3='Données de production'!$W$14,'Données de production'!X20,\"ENTRER UN CALCUL\"))), 'Données de production'!X9)","v":5.3169251167133522},{"$f":"IF(ISBLANK('Données de production'!Y9), IF(Start!$D$3='Données de production'!$E$14,'Données de production'!G20,IF(Start!$D$3='Données de production'!$N$14,'Données de production'!P20,IF(Start!$D$3='Données de production'!$W$14,'Données de production'!Y20,\"ENTRER UN CALCUL\"))), 'Données de production'!Y9)","v":6.2376938375350139},{"$f":"IF(ISBLANK('Données de production'!Z9), IF(Start!$D$3='Données de production'!$E$14,'Données de production'!H20,IF(Start!$D$3='Données de production'!$N$14,'Données de production'!Q20,IF(Start!$D$3='Données de production'!$W$14,'Données de production'!Z20,\"ENTRER UN CALCUL\"))), 'Données de production'!Z9)","v":7.1584625583566766},{"$f":"IF(ISBLANK('Données de production'!AA9), IF(Start!$D$3='Données de production'!$E$14,'Données de production'!I20,IF(Start!$D$3='Données de production'!$N$14,'Données de production'!R20,IF(Start!$D$3='Données de production'!$W$14,'Données de production'!AA20,\"ENTRER UN CALCUL\"))), 'Données de production'!AA9)","v":8.0792312791783392},{"$f":"IF(ISBLANK('Données de production'!AB9), IF(Start!$D$3='Données de production'!$E$14,'Données de production'!J20,IF(Start!$D$3='Données de production'!$N$14,'Données de production'!S20,IF(Start!$D$3='Données de production'!$W$14,'Données de production'!AB20,\"ENTRER UN CALCUL\"))), 'Données de production'!AB9)","v":12.3},{"$f":"IF(ISBLANK('Données de production'!AC9), IF(Start!$D$3='Données de production'!$E$14,'Données de production'!K20,IF(Start!$D$3='Données de production'!$N$14,'Données de production'!T20,IF(Start!$D$3='Données de production'!$W$14,'Données de production'!AC20,\"ENTRER UN CALCUL\"))), 'Données de production'!AC9)","v":17.950455054245694},{"$f":"IF(ISBLANK('Données de production'!AD9), IF(Start!$D$3='Données de production'!$E$14,'Données de production'!L20,IF(Start!$D$3='Données de production'!$N$14,'Données de production'!U20,IF(Start!$D$3='Données de production'!$W$14,'Données de production'!AD20,\"ENTRER UN CALCUL\"))), 'Données de production'!AD9)","v":19.701592689859925},{"$f":"IF(ISBLANK('Données de production'!AE9), IF(Start!$D$3='Données de production'!$E$14,'Données de production'!M20,IF(Start!$D$3='Données de production'!$N$14,'Données de production'!V20,IF(Start!$D$3='Données de production'!$W$14,'Données de production'!AE20,\"ENTRER UN CALCUL\"))), 'Données de production'!AE9)","v":21.452730325474157}]
[null,null,{"$f":"'Données de production'!C10","v":"Autres EnRe"},"GW",{"$f":"'Données de production'!V10","v":1.9528000000000001},{"$f":"IF(ISBLANK('Données de production'!W10), IF(Start!$D$3='Données de production'!$E$14,'Données de production'!E21,IF(Start!$D$3='Données de production'!$N$14,'Données de production'!N21,IF(Start!$D$3='Données de production'!$W$14,'Données de production'!W21,\"ENTRER UN CALCUL\"))), 'Données de production'!W10)","v":1.8096666666666668},{"$f":"IF(ISBLANK('Données de production'!X10), IF(Start!$D$3='Données de production'!$E$14,'Données de production'!F21,IF(Start!$D$3='Données de production'!$N$14,'Données de production'!O21,IF(Start!$D$3='Données de production'!$W$14,'Données de production'!X21,\"ENTRER UN CALCUL\"))), 'Données de production'!X10)","v":1.6665333333333334},{"$f":"IF(ISBLANK('Données de production'!Y10), IF(Start!$D$3='Données de production'!$E$14,'Données de production'!G21,IF(Start!$D$3='Données de production'!$N$14,'Données de production'!P21,IF(Start!$D$3='Données de production'!$W$14,'Données de production'!Y21,\"ENTRER UN CALCUL\"))), 'Données de production'!Y10)","v":1.5234000000000001},{"$f":"IF(ISBLANK('Données de production'!Z10), IF(Start!$D$3='Données de production'!$E$14,'Données de production'!H21,IF(Start!$D$3='Données de production'!$N$14,'Données de production'!Q21,IF(Start!$D$3='Données de production'!$W$14,'Données de production'!Z21,\"ENTRER UN CALCUL\"))), 'Données de production'!Z10)","v":1.3802666666666668},{"$f":"IF(ISBLANK('Données de production'!AA10), IF(Start!$D$3='Données de production'!$E$14,'Données de production'!I21,IF(Start!$D$3='Données de production'!$N$14,'Données de production'!R21,IF(Start!$D$3='Données de production'!$W$14,'Données de production'!AA21,\"ENTRER UN CALCUL\"))), 'Données de production'!AA10)","v":1.2371333333333334},{"$f":"IF(ISBLANK('Données de production'!AB10), IF(Start!$D$3='Données de production'!$E$14,'Données de production'!J21,IF(Start!$D$3='Données de production'!$N$14,'Données de production'!S21,IF(Start!$D$3='Données de production'!$W$14,'Données de production'!AB21,\"ENTRER UN CALCUL\"))), 'Données de production'!AB10)","v":1.1360000000000001},{"$f":"IF(ISBLANK('Données de production'!AC10), IF(Start!$D$3='Données de production'!$E$14,'Données de production'!K21,IF(Start!$D$3='Données de production'!$N$14,'Données de production'!T21,IF(Start!$D$3='Données de production'!$W$14,'Données de production'!AC21,\"ENTRER UN CALCUL\"))), 'Données de production'!AC10)","v":2.027857142857143},{"$f":"IF(ISBLANK('Données de production'!AD10), IF(Start!$D$3='Données de production'!$E$14,'Données de production'!L21,IF(Start!$D$3='Données de production'!$N$14,'Données de production'!U21,IF(Start!$D$3='Données de production'!$W$14,'Données de production'!AD21,\"ENTRER UN CALCUL\"))), 'Données de production'!AD10)","v":4.0999999999999996},{"$f":"IF(ISBLANK('Données de production'!AE10), IF(Start!$D$3='Données de production'!$E$14,'Données de production'!M21,IF(Start!$D$3='Données de production'!$N$14,'Données de production'!V21,IF(Start!$D$3='Données de production'!$W$14,'Données de production'!AE21,\"ENTRER UN CALCUL\"))), 'Données de production'!AE10)","v":6.1721428571428563}]
[null,null,{"$f":"'Données de production'!C11","v":"Hydraulique"},"GW",{"$f":"'Données de production'!V11","v":25.521100000000001},{"$f":"IF(ISBLANK('Données de production'!W11), IF(Start!$D$3='Données de production'!$E$14,'Données de production'!E22,IF(Start!$D$3='Données de production'!$N$14,'Données de production'!N22,IF(Start!$D$3='Données de production'!$W$14,'Données de production'!W22,\"ENTRER UN CALCUL\"))), 'Données de production'!W11)","v":25.517583333333334},{"$f":"IF(ISBLANK('Données de production'!X11), IF(Start!$D$3='Données de production'!$E$14,'Données de production'!F22,IF(Start!$D$3='Données de production'!$N$14,'Données de production'!O22,IF(Start!$D$3='Données de production'!$W$14,'Données de production'!X22,\"ENTRER UN CALCUL\"))), 'Données de production'!X11)","v":25.514066666666668},{"$f":"IF(ISBLANK('Données de production'!Y11), IF(Start!$D$3='Données de production'!$E$14,'Données de production'!G22,IF(Start!$D$3='Données de production'!$N$14,'Données de production'!P22,IF(Start!$D$3='Données de production'!$W$14,'Données de production'!Y22,\"ENTRER UN CALCUL\"))), 'Données de production'!Y11)","v":25.510550000000002},{"$f":"IF(ISBLANK('Données de production'!Z11), IF(Start!$D$3='Données de production'!$E$14,'Données de production'!H22,IF(Start!$D$3='Données de production'!$N$14,'Données de production'!Q22,IF(Start!$D$3='Données de production'!$W$14,'Données de production'!Z22,\"ENTRER UN CALCUL\"))), 'Données de production'!Z11)","v":25.507033333333332},{"$f":"IF(ISBLANK('Données de production'!AA11), IF(Start!$D$3='Données de production'!$E$14,'Données de production'!I22,IF(Start!$D$3='Données de production'!$N$14,'Données de production'!R22,IF(Start!$D$3='Données de production'!$W$14,'Données de production'!AA22,\"ENTRER UN CALCUL\"))), 'Données de production'!AA11)","v":25.503516666666666},{"$f":"IF(ISBLANK('Données de production'!AB11), IF(Start!$D$3='Données de production'!$E$14,'Données de production'!J22,IF(Start!$D$3='Données de production'!$N$14,'Données de production'!S22,IF(Start!$D$3='Données de production'!$W$14,'Données de production'!AB22,\"ENTRER UN CALCUL\"))), 'Données de production'!AB11)","v":25.5},{"$f":"IF(ISBLANK('Données de production'!AC11), IF(Start!$D$3='Données de production'!$E$14,'Données de production'!K22,IF(Start!$D$3='Données de production'!$N$14,'Données de production'!T22,IF(Start!$D$3='Données de production'!$W$14,'Données de production'!AC22,\"ENTRER UN CALCUL\"))), 'Données de production'!AC11)","v":25.5},{"$f":"IF(ISBLANK('Données de production'!AD11), IF(Start!$D$3='Données de production'!$E$14,'Données de production'!L22,IF(Start!$D$3='Données de production'!$N$14,'Données de production'!U22,IF(Start!$D$3='Données de production'!$W$14,'Données de production'!AD22,\"ENTRER UN CALCUL\"))), 'Données de production'!AD11)","v":25.5},{"$f":"IF(ISBLANK('Données de production'!AE11), IF(Start!$D$3='Données de production'!$E$14,'Données de production'!M22,IF(Start!$D$3='Données de production'!$N$14,'Données de production'!V22,IF(Start!$D$3='Données de production'!$W$14,'Données de production'!AE22,\"ENTRER UN CALCUL\"))), 'Données de production'!AE11)","v":25.5}]
[null,null,{"$f":"'Données de production'!C12","v":"Fossile"},"GW",{"$f":"'Données de production'!V12","v":19.027699999999999},{"$f":"IF(ISBLANK('Données de production'!W12), IF(Start!$D$3='Données de production'!$E$14,'Données de production'!E23,IF(Start!$D$3='Données de production'!$N$14,'Données de production'!N23,IF(Start!$D$3='Données de production'!$W$14,'Données de production'!W23,\"ENTRER UN CALCUL\"))), 'Données de production'!W12)","v":17.93975},{"$f":"IF(ISBLANK('Données de production'!X12), IF(Start!$D$3='Données de production'!$E$14,'Données de production'!F23,IF(Start!$D$3='Données de production'!$N$14,'Données de production'!O23,IF(Start!$D$3='Données de production'!$W$14,'Données de production'!X23,\"ENTRER UN CALCUL\"))), 'Données de production'!X12)","v":16.851800000000001},{"$f":"IF(ISBLANK('Données de production'!Y12), IF(Start!$D$3='Données de production'!$E$14,'Données de production'!G23,IF(Start!$D$3='Données de production'!$N$14,'Données de production'!P23,IF(Start!$D$3='Données de production'!$W$14,'Données de production'!Y23,\"ENTRER UN CALCUL\"))), 'Données de production'!Y12)","v":15.76385},{"$f":"IF(ISBLANK('Données de production'!Z12), IF(Start!$D$3='Données de production'!$E$14,'Données de production'!H23,IF(Start!$D$3='Données de production'!$N$14,'Données de production'!Q23,IF(Start!$D$3='Données de production'!$W$14,'Données de production'!Z23,\"ENTRER UN CALCUL\"))), 'Données de production'!Z12)","v":14.675899999999999},{"$f":"IF(ISBLANK('Données de production'!AA12), IF(Start!$D$3='Données de production'!$E$14,'Données de production'!I23,IF(Start!$D$3='Données de production'!$N$14,'Données de production'!R23,IF(Start!$D$3='Données de production'!$W$14,'Données de production'!AA23,\"ENTRER UN CALCUL\"))), 'Données de production'!AA12)","v":13.587949999999999},{"$f":"IF(ISBLANK('Données de production'!AB12), IF(Start!$D$3='Données de production'!$E$14,'Données de production'!J23,IF(Start!$D$3='Données de production'!$N$14,'Données de production'!S23,IF(Start!$D$3='Données de production'!$W$14,'Données de production'!AB23,\"ENTRER UN CALCUL\"))), 'Données de production'!AB12)","v":12.5},{"$f":"IF(ISBLANK('Données de production'!AC12), IF(Start!$D$3='Données de production'!$E$14,'Données de production'!K23,IF(Start!$D$3='Données de production'!$N$14,'Données de production'!T23,IF(Start!$D$3='Données de production'!$W$14,'Données de production'!AC23,\"ENTRER UN CALCUL\"))), 'Données de production'!AC12)","v":12.5},{"$f":"IF(ISBLANK('Données de production'!AD12), IF(Start!$D$3='Données de production'!$E$14,'Données de production'!L23,IF(Start!$D$3='Données de production'!$N$14,'Données de production'!U23,IF(Start!$D$3='Données de production'!$W$14,'Données de production'!AD23,\"ENTRER UN CALCUL\"))), 'Données de production'!AD12)","v":12.5},{"$f":"IF(ISBLANK('Données de production'!AE12), IF(Start!$D$3='Données de production'!$E$14,'Données de production'!M23,IF(Start!$D$3='Données de production'!$N$14,'Données de production'!V23,IF(Start!$D$3='Données de production'!$W$14,'Données de production'!AE23,\"ENTRER UN CALCUL\"))), 'Données de production'!AE12)","v":12.5}]
[]
[null,null,null,null,"Données historiques","Scénario sélectionné"]
[null,null,"Production d'électricité","Unité",2017,2018,2019,2020,2021,2022,2025,2030,2035,2040]
[null,null,{"$f":"'Données de production'!C5","v":"Nucléaire"},"TWh",{"$f":"'Données de production'!V27","v":379.1},{"$f":"IF(ISBLANK('Données de production'!W27), IF(Start!$D$3='Données de production'!$E$40,'Données de production'!E42,IF(Start!$D$3='Données de production'!$N$40,'Données de production'!N42,IF(Start!$D$3='Données de production'!$W$40,'Données de production'!W42,\"ENTRER UN CALCUL\"))), 'Données de production'!W27)","v":381.41666666666669},{"$f":"IF(ISBLANK('Données de production'!X27), IF(Start!$D$3='Données de production'!$E$40,'Données de production'!F42,IF(Start!$D$3='Données de production'!$N$40,'Données de production'!O42,IF(Start!$D$3='Données de production'!$W$40,'Données de production'!X42,\"ENTRER UN CALCUL\"))), 'Données de production'!X27)","v":383.73333333333335},{"$f":"IF(ISBLANK('Données de production'!Y27), IF(Start!$D$3='Données de production'!$E$40,'Données de production'!G42,IF(Start!$D$3='Données de production'!$N$40,'Données de production'!P42,IF(Start!$D$3='Données de production'!$W$40,'Données de production'!Y42,\"ENTRER UN CALCUL\"))), 'Données de production'!Y27)","v":386.05},{"$f":"IF(ISBLANK('Données de production'!Z27), IF(Start!$D$3='Données de production'!$E$40,'Données de production'!H42,IF(Start!$D$3='Données de production'!$N$40,'Données de production'!Q42,IF(Start!$D$3='Données de production'!$W$40,'Données de production'!Z42,\"ENTRER UN CALCUL\"))), 'Données de production'!Z27)","v":388.36666666666667},{"$f":"IF(ISBLANK('Données de production'!AA27), IF(Start!$D$3='Données de production'!$E$40,'Données de production'!I42,IF(Start!$D$3='Données de production'!$N$40,'Données de production'!R42,IF(Start!$D$3='Données de production'!$W$40,'Données de production'!AA42,\"ENTRER UN CALCUL\"))), 'Données de production'!AA27)","v":390.68333333333334},{"$f":"IF(ISBLANK('Données de production'!AB27), IF(Start!$D$3='Données de production'!$E$40,'Données de production'!J42,IF(Start!$D$3='Données de production'!$N$40,'Données de production'!S42,IF(Start!$D$3='Données de production'!$W$40,'Données de production'!AB42,\"ENTRER UN CALCUL\"))), 'Données de production'!AB27)","v":386.4},{"$f":"IF(ISBLANK('Données de production'!AC27), IF(Start!$D$3='Données de production'!$E$40,'Données de production'!K42,IF(Start!$D$3='Données de production'!$N$40,'Données de production'!T42,IF(Start!$D$3='Données de production'!$W$40,'Données de production'!AC42,\"ENTRER UN CALCUL\"))), 'Données de production'!AC27)","v":352.87142857142857},{"$f":"IF(ISBLANK('Données de production'!AD27), IF(Start!$D$3='Données de production'!$E$40,'Données de production'!L42,IF(Start!$D$3='Données de production'!$N$40,'Données de production'!U42,IF(Start!$D$3='Données de production'!$W$40,'Données de production'!AD42,\"ENTRER UN CALCUL\"))), 'Données de production'!AD27)","v":293.8},{"$f":"IF(ISBLANK('Données de production'!AE27), IF(Start!$D$3='Données de production'!$E$40,'Données de production'!M42,IF(Start!$D$3='Données de production'!$N$40,'Données de production'!V42,IF(Start!$D$3='Données de production'!$W$40,'Données de production'!AE42,\"ENTRER UN CALCUL\"))), 'Données de production'!AE27)","v":234.72857142857146}]
[null,null,{"$f":"'Données de production'!C6","v":"Eolien terrestre"},"TWh",{"$f":"'Données de production'!V28","v":24},{"$f":"IF(ISBLANK('Données de production'!W28), IF(Start!$D$3='Données de production'!$E$40,'Données de production'!E43,IF(Start!$D$3='Données de production'!$N$40,'Données de production'!N43,IF(Start!$D$3='Données de production'!$W$40,'Données de production'!W43,\"ENTRER UN CALCUL\"))), 'Données de production'!W28)","v":29},{"$f":"IF(ISBLANK('Données de production'!X28), IF(Start!$D$3='Données de production'!$E$40,'Données de production'!F43,IF(Start!$D$3='Données de production'!$N$40,'Données de production'!O43,IF(Start!$D$3='Données de production'!$W$40,'Données de production'!X43,\"ENTRER UN CALCUL\"))), 'Données de production'!X28)","v":34},{"$f":"IF(ISBLANK('Données de production'!Y28), IF(Start!$D$3='Données de production'!$E$40,'Données de production'!G43,IF(Start!$D$3='Données de production'!$N$40,'Données de production'!P43,IF(Start!$D$3='Données de production'!$W$40,'Données de production'!Y43,\"ENTRER UN CALCUL\"))), 'Données de production'!Y28)","v":39},{"$f":"IF(ISBLANK('Données de production'!Z28), IF(Start!$D$3='Données de production'!$E$40,'Données de production'!H43,IF(Start!$D$3='Données de production'!$N$40,'Données de production'!Q43,IF(Start!$D$3='Données de production'!$W$40,'Données de production'!Z43,\"ENTRER UN CALCUL\"))), 'Données de production'!Z28)","v":44},{"$f":"IF(ISBLANK('Données de production'!AA28), IF(Start!$D$3='Données de production'!$E$40,'Données de production'!I43,IF(Start!$D$3='Données de production'!$N$40,'Données de production'!R43,IF(Start!$D$3='Données de production'!$W$40,'Données de production'!AA43,\"ENTRER UN CALCUL\"))), 'Données de production'!AA28)","v":49},{"$f":"IF(ISBLANK('Données de production'!AB28), IF(Start!$D$3='Données de production'!$E$40,'Données de production'!J43,IF(Start!$D$3='Données de production'!$N$40,'Données de production'!S43,IF(Start!$D$3='Données de production'!$W$40,'Données de production'!AB43,\"ENTRER UN CALCUL\"))), 'Données de production'!AB28)","v":64.8},{"$f":"IF(ISBLANK('Données de production'!AC28), IF(Start!$D$3='Données de production'!$E$40,'Données de production'!K43,IF(Start!$D$3='Données de production'!$N$40,'Données de production'!T43,IF(Start!$D$3='Données de production'!$W$40,'Données de production'!AC43,\"ENTRER UN CALCUL\"))), 'Données de production'!AC28)","v":90.6},{"$f":"IF(ISBLANK('Données de production'!AD28), IF(Start!$D$3='Données de production'!$E$40,'Données de production'!L43,IF(Start!$D$3='Données de production'!$N$40,'Données de production'!U43,IF(Start!$D$3='Données de production'!$W$40,'Données de production'!AD43,\"ENTRER UN CALCUL\"))), 'Données de production'!AD28)","v":114.6},{"$f":"IF(ISBLANK('Données de production'!AE28), IF(Start!$D$3='Données de production'!$E$40,'Données de production'!M43,IF(Start!$D$3='Données de production'!$N$40,'Données de production'!V43,IF(Start!$D$3='Données de production'!$W$40,'Données de production'!AE43,\"ENTRER UN CALCUL\"))), 'Données de production'!AE28)","v":138.6}]
[null,null,{"$f":"'Données de production'!C7","v":"Eolien en mer"},"TWh",{"$f":"'Données de production'!V29","v":0},{"$f":"IF(ISBLANK('Données de production'!W29), IF(Start!$D$3='Données de production'!$E$40,'Données de production'!E44,IF(Start!$D$3='Données de production'!$N$40,'Données de production'!N44,IF(Start!$D$3='Données de production'!$W$40,'Données de production'!W44,\"ENTRER UN CALCUL\"))), 'Données de production'!W29)","v":0},{"$f":"IF(ISBLANK('Données de production'!X29), IF(Start!$D$3='Données de production'!$E$40,'Données de production'!F44,IF(Start!$D$3='Données de production'!$N$40,'Données de production'!O44,IF(Start!$D$3='Données de production'!$W$40,'Données de production'!X44,\"ENTRER UN CALCUL\"))), 'Données de production'!X29)","v":0},{"$f":"IF(ISBLANK('Données de production'!Y29), IF(Start!$D$3='Données de production'!$E$40,'Données de production'!G44,IF(Start!$D$3='Données de production'!$N$40,'Données de production'!P44,IF(Start!$D$3='Données de production'!$W$40,'Données de production'!Y44,\"ENTRER UN CALCUL\"))), 'Données de production'!Y29)","v":0},{"$f":"IF(ISBLANK('Données de production'!Z29), IF(Start!$D$3='Données de production'!$E$40,'Données de production'!H44,IF(Start!$D$3='Données de production'!$N$40,'Données de production'!Q44,IF(Start!$D$3='Données de production'!$W$40,'Données de production'!Z44,\"ENTRER UN CALCUL\"))), 'Données de production'!Z29)","v":3},{"$f":"IF(ISBLANK('Données de production'!AA29), IF(Start!$D$3='Données de production'!$E$40,'Données de production'!I44,IF(Start!$D$3='Données de production'!$N$40,'Données de production'!R44,IF(Start!$D$3='Données de production'!$W$40,'Données de production'!AA44,\"ENTRER UN CALCUL\"))), 'Données de production'!AA29)","v":6},{"$f":"IF(ISBLANK('Données de production'!AB29), IF(Start!$D$3='Données de production'!$E$40,'Données de production'!J44,IF(Start!$D$3='Données de production'!$N$40,'Données de production'!S44,IF(Start!$D$3='Données de production'!$W$40,'Données de production'!AB44,\"ENTRER UN CALCUL\"))), 'Données de production'!AB29)","v":9.1999999999999993},{"$f":"IF(ISBLANK('Données de production'!AC29), IF(Start!$D$3='Données de production'!$E$40,'Données de production'!K44,IF(Start!$D$3='Données de production'!$N$40,'Données de production'!T44,IF(Start!$D$3='Données de production'!$W$40,'Données de production'!AC44,\"ENTRER UN CALCUL\"))), 'Données de production'!AC29)","v":20.214285714285715},{"$f":"IF(ISBLANK('Données de production'!AD29), IF(Start!$D$3='Données de production'!$E$40,'Données de production'!L44,IF(Start!$D$3='Données de production'!$N$40,'Données de production'!U44,IF(Start!$D$3='Données de production'!$W$40,'Données de production'!AD44,\"ENTRER UN CALCUL\"))), 'Données de production'!AD29)","v":47},{"$f":"IF(ISBLANK('Données de production'!AE29), IF(Start!$D$3='Données de production'!$E$40,'Données de production'!M44,IF(Start!$D$3='Données de production'!$N$40,'Données de production'!V44,IF(Start!$D$3='Données de production'!$W$40,'Données de production'!AE44,\"ENTRER UN CALCUL\"))), 'Données de production'!AE29)","v":73.785714285714292}]
[null,null,{"$f":"'Données de production'!C8","v":"PV au sol"},"TWh",{"$f":"'Données de production'!V30","v":5.0226330532212877},{"$f":"IF(ISBLANK('Données de production'!W30), IF(Start!$D$3='Données de production'!$E$40,'Données de production'!E45,IF(Start!$D$3='Données de production'!$N$40,'Données de production'!N45,IF(Start!$D$3='Données de production'!$W$40,'Données de production'!W45,\"ENTRER UN CALCUL\"))), 'Données de production'!W30)","v":6.484880295160135},{"$f":"IF(ISBLANK('Données de production'!X30), IF(Start!$D$3='Données de production'!$E$40,'Données de production'!F45,IF(Start!$D$3='Données de production'!$N$40,'Données de production'!O45,IF(Start!$D$3='Données de production'!$W$40,'Données de production'!X45,\"ENTRER UN CALCUL\"))), 'Données de production'!X30)","v":7.9471275370989822},{"$f":"IF(ISBLANK('Données de production'!Y30), IF(Start!$D$3='Données de production'!$E$40,'Données de production'!G45,IF(Start!$D$3='Données de production'!$N$40,'Données de production'!P45,IF(Start!$D$3='Données de production'!$W$40,'Données de production'!Y45,\"ENTRER UN CALCUL\"))), 'Données de production'!Y30)","v":9.4093747790378295},{"$f":"IF(ISBLANK('Données de production'!Z30), IF(Start!$D$3='Données de production'!$E$40,'Données de production'!H45,IF(Start!$D$3='Données de production'!$N$40,'Données de production'!Q45,IF(Start!$D$3='Données de production'!$W$40,'Données de production'!Z45,\"ENTRER UN CALCUL\"))), 'Données de production'!Z30)","v":10.871622020976677},{"$f":"IF(ISBLANK('Données de production'!AA30), IF(Start!$D$3='Données de production'!$E$40,'Données de production'!I45,IF(Start!$D$3='Données de production'!$N$40,'Données de production'!R45,IF(Start!$D$3='Données de production'!$W$40,'Données de production'!AA45,\"ENTRER UN CALCUL\"))), 'Données de production'!AA30)","v":12.333869262915524},{"$f":"IF(ISBLANK('Données de production'!AB30), IF(Start!$D$3='Données de production'!$E$40,'Données de production'!J45,IF(Start!$D$3='Données de production'!$N$40,'Données de production'!S45,IF(Start!$D$3='Données de production'!$W$40,'Données de production'!AB45,\"ENTRER UN CALCUL\"))), 'Données de production'!AB30)","v":19.208006981564306},{"$f":"IF(ISBLANK('Données de production'!AC30), IF(Start!$D$3='Données de production'!$E$40,'Données de production'!K45,IF(Start!$D$3='Données de production'!$N$40,'Données de production'!T45,IF(Start!$D$3='Données de production'!$W$40,'Données de production'!AC45,\"ENTRER UN CALCUL\"))), 'Données de production'!AC30)","v":29.375233529811076},{"$f":"IF(ISBLANK('Données de production'!AD30), IF(Start!$D$3='Données de production'!$E$40,'Données de production'!L45,IF(Start!$D$3='Données de production'!$N$40,'Données de production'!U45,IF(Start!$D$3='Données de production'!$W$40,'Données de production'!AD45,\"ENTRER UN CALCUL\"))), 'Données de production'!AD30)","v":34.498710612765741},{"$f":"IF(ISBLANK('Données de production'!AE30), IF(Start!$D$3='Données de production'!$E$40,'Données de production'!M45,IF(Start!$D$3='Données de production'!$N$40,'Données de production'!V45,IF(Start!$D$3='Données de production'!$W$40,'Données de production'!AE45,\"ENTRER UN CALCUL\"))), 'Données de production'!AE30)","v":39.622187695720406}]
[null,null,{"$f":"'Données de production'!C9","v":"PV sur toiture"},"TWh",{"$f":"'Données de production'!V31","v":4.1773669467787116},{"$f":"IF(ISBLANK('Données de production'!W31), IF(Start!$D$3='Données de production'!$E$40,'Données de production'!E46,IF(Start!$D$3='Données de production'!$N$40,'Données de production'!N46,IF(Start!$D$3='Données de production'!$W$40,'Données de production'!W46,\"ENTRER UN CALCUL\"))), 'Données de production'!W31)","v":5.2651197048398632},{"$f":"IF(ISBLANK('Données de production'!X31), IF(Start!$D$3='Données de production'!$E$40,'Données de production'!F46,IF(Start!$D$3='Données de production'!$N$40,'Données de production'!O46,IF(Start!$D$3='Données de production'!$W$40,'Données de production'!X46,\"ENTRER UN CALCUL\"))), 'Données de production'!X31)","v":6.3528724629010167},{"$f":"IF(ISBLANK('Données de production'!Y31), IF(Start!$D$3='Données de production'!$E$40,'Données de production'!G46,IF(Start!$D$3='Données de production'!$N$40,'Données de production'!P46,IF(Start!$D$3='Données de production'!$W$40,'Données de production'!Y46,\"ENTRER UN CALCUL\"))), 'Données de production'!Y31)","v":7.4406252209621702},{"$f":"IF(ISBLANK('Données de production'!Z31), IF(Start!$D$3='Données de production'!$E$40,'Données de production'!H46,IF(Start!$D$3='Données de production'!$N$40,'Données de production'!Q46,IF(Start!$D$3='Données de production'!$W$40,'Données de production'!Z46,\"ENTRER UN CALCUL\"))), 'Données de production'!Z31)","v":8.5283779790233236},{"$f":"IF(ISBLANK('Données de production'!AA31), IF(Start!$D$3='Données de production'!$E$40,'Données de production'!I46,IF(Start!$D$3='Données de production'!$N$40,'Données de production'!R46,IF(Start!$D$3='Données de production'!$W$40,'Données de production'!AA46,\"ENTRER UN CALCUL\"))), 'Données de production'!AA31)","v":9.6161307370844771},{"$f":"IF(ISBLANK('Données de production'!AB31), IF(Start!$D$3='Données de production'!$E$40,'Données de production'!J46,IF(Start!$D$3='Données de production'!$N$40,'Données de production'!S46,IF(Start!$D$3='Données de production'!$W$40,'Données de production'!AB46,\"ENTRER UN CALCUL\"))), 'Données de production'!AB31)","v":14.691993018435696},{"$f":"IF(ISBLANK('Données de production'!AC31), IF(Start!$D$3='Données de production'!$E$40,'Données de production'!K46,IF(Start!$D$3='Données de production'!$N$40,'Données de production'!T46,IF(Start!$D$3='Données de production'!$W$40,'Données de production'!AC46,\"ENTRER UN CALCUL\"))), 'Données de production'!AC31)","v":21.51048075590321},{"$f":"IF(ISBLANK('Données de production'!AD31), IF(Start!$D$3='Données de production'!$E$40,'Données de production'!L46,IF(Start!$D$3='Données de production'!$N$40,'Données de production'!U46,IF(Start!$D$3='Données de production'!$W$40,'Données de production'!AD46,\"ENTRER UN CALCUL\"))), 'Données de production'!AD31)","v":23.60128938723426},{"$f":"IF(ISBLANK('Données de production'!AE31), IF(Start!$D$3='Données de production'!$E$40,'Données de production'!M46,IF(Start!$D$3='Données de production'!$N$40,'Données de production'!V46,IF(Start!$D$3='Données de production'!$W$40,'Données de production'!AE46,\"ENTRER UN CALCUL\"))), 'Données de production'!AE31)","v":25.692098018565311}]
[null,null,{"$f":"'Données de production'!C10","v":"Autres EnRe"},"TWh",{"$f":"'Données de production'!V32","v":9.5},{"$f":"IF(ISBLANK('Données de production'!W32), IF(Start!$D$3='Données de production'!$E$40,'Données de production'!E47,IF(Start!$D$3='Données de production'!$N$40,'Données de production'!N47,IF(Start!$D$3='Données de production'!$W$40,'Données de production'!W47,\"ENTRER UN CALCUL\"))), 'Données de production'!W32)","v":9.4166666666666679},{"$f":"IF(ISBLANK('Données de production'!X32), IF(Start!$D$3='Données de production'!$E$40,'Données de production'!F47,IF(Start!$D$3='Données de production'!$N$40,'Données de production'!O47,IF(Start!$D$3='Données de production'!$W$40,'Données de production'!X47,\"ENTRER UN CALCUL\"))), 'Données de production'!X32)","v":9.3333333333333339},{"$f":"IF(ISBLANK('Données de production'!Y32), IF(Start!$D$3='Données de production'!$E$40,'Données de production'!G47,IF(Start!$D$3='Données de production'!$N$40,'Données de production'!P47,IF(Start!$D$3='Données de production'!$W$40,'Données de production'!Y47,\"ENTRER UN CALCUL\"))), 'Données de production'!Y32)","v":9.25},{"$f":"IF(ISBLANK('Données de production'!Z32), IF(Start!$D$3='Données de production'!$E$40,'Données de production'!H47,IF(Start!$D$3='Données de production'!$N$40,'Données de production'!Q47,IF(Start!$D$3='Données de production'!$W$40,'Données de production'!Z47,\"ENTRER UN CALCUL\"))), 'Données de production'!Z32)","v":9.1666666666666661},{"$f":"IF(ISBLANK('Données de production'!AA32), IF(Start!$D$3='Données de production'!$E$40,'Données de production'!I47,IF(Start!$D$3='Données de production'!$N$40,'Données de production'!R47,IF(Start!$D$3='Données de production'!$W$40,'Données de production'!AA47,\"ENTRER UN CALCUL\"))), 'Données de production'!AA32)","v":9.0833333333333339},{"$f":"IF(ISBLANK('Données de production'!AB32), IF(Start!$D$3='Données de production'!$E$40,'Données de production'!J47,IF(Start!$D$3='Données de production'!$N$40,'Données de production'!S47,IF(Start!$D$3='Données de production'!$W$40,'Données de production'!AB47,\"ENTRER UN CALCUL\"))), 'Données de production'!AB32)","v":9.1999999999999993},{"$f":"IF(ISBLANK('Données de production'!AC32), IF(Start!$D$3='Données de production'!$E$40,'Données de production'!K47,IF(Start!$D$3='Données de production'!$N$40,'Données de production'!T47,IF(Start!$D$3='Données de production'!$W$40,'Données de production'!AC47,\"ENTRER UN CALCUL\"))), 'Données de production'!AC32)","v":11.928571428571429},{"$f":"IF(ISBLANK('Données de production'!AD32), IF(Start!$D$3='Données de production'!$E$40,'Données de production'!L47,IF(Start!$D$3='Données de production'!$N$40,'Données de production'!U47,IF(Start!$D$3='Données de production'!$W$40,'Données de production'!AD47,\"ENTRER UN CALCUL\"))), 'Données de production'!AD32)","v":18},{"$f":"IF(ISBLANK('Données de production'!AE32), IF(Start!$D$3='Données de production'!$E$40,'Données de production'!M47,IF(Start!$D$3='Données de production'!$N$40,'Données de production'!V47,IF(Start!$D$3='Données de production'!$W$40,'Données de production'!AE47,\"ENTRER UN CALCUL\"))), 'Données de production'!AE32)","v":24.071428571428569}]
[null,null,{"$f":"'Données de production'!C11","v":"Hydraulique"},"TWh",{"$f":"'Données de production'!V33","v":53.5},{"$f":"IF(ISBLANK('Données de production'!W33), IF(Start!$D$3='Données de production'!$E$40,'Données de production'!E48,IF(Start!$D$3='Données de production'!$N$40,'Données de production'!N48,IF(Start!$D$3='Données de production'!$W$40,'Données de production'!W48,\"ENTRER UN CALCUL\"))), 'Données de production'!W33)","v":54.916666666666671},{"$f":"IF(ISBLANK('Données de production'!X33), IF(Start!$D$3='Données de production'!$E$40,'Données de production'!F48,IF(Start!$D$3='Données de production'!$N$40,'Données de production'!O48,IF(Start!$D$3='Données de production'!$W$40,'Données de production'!X48,\"ENTRER UN CALCUL\"))), 'Données de production'!X33)","v":56.333333333333336},{"$f":"IF(ISBLANK('Données de production'!Y33), IF(Start!$D$3='Données de production'!$E$40,'Données de production'!G48,IF(Start!$D$3='Données de production'!$N$40,'Données de production'!P48,IF(Start!$D$3='Données de production'!$W$40,'Données de production'!Y48,\"ENTRER UN CALCUL\"))), 'Données de production'!Y33)","v":57.75},{"$f":"IF(ISBLANK('Données de production'!Z33), IF(Start!$D$3='Données de production'!$E$40,'Données de production'!H48,IF(Start!$D$3='Données de production'!$N$40,'Données de production'!Q48,IF(Start!$D$3='Données de production'!$W$40,'Données de production'!Z48,\"ENTRER UN CALCUL\"))), 'Données de production'!Z33)","v":59.166666666666664},{"$f":"IF(ISBLANK('Données de production'!AA33), IF(Start!$D$3='Données de production'!$E$40,'Données de production'!I48,IF(Start!$D$3='Données de production'!$N$40,'Données de production'!R48,IF(Start!$D$3='Données de production'!$W$40,'Données de production'!AA48,\"ENTRER UN CALCUL\"))), 'Données de production'!AA33)","v":60.583333333333336},{"$f":"IF(ISBLANK('Données de production'!AB33), IF(Start!$D$3='Données de production'!$E$40,'Données de production'!J48,IF(Start!$D$3='Données de production'!$N$40,'Données de production'!S48,IF(Start!$D$3='Données de production'!$W$40,'Données de production'!AB48,\"ENTRER UN CALCUL\"))), 'Données de production'!AB33)","v":62},{"$f":"IF(ISBLANK('Données de production'!AC33), IF(Start!$D$3='Données de production'!$E$40,'Données de production'!K48,IF(Start!$D$3='Données de production'!$N$40,'Données de production'!T48,IF(Start!$D$3='Données de production'!$W$40,'Données de production'!AC48,\"ENTRER UN CALCUL\"))), 'Données de production'!AC33)","v":63.657142857142858},{"$f":"IF(ISBLANK('Données de production'!AD33), IF(Start!$D$3='Données de production'!$E$40,'Données de production'!L48,IF(Start!$D$3='Données de production'!$N$40,'Données de production'!U48,IF(Start!$D$3='Données de production'!$W$40,'Données de production'!AD48,\"ENTRER UN CALCUL\"))), 'Données de production'!AD33)","v":67.8},{"$f":"IF(ISBLANK('Données de production'!AE33), IF(Start!$D$3='Données de production'!$E$40,'Données de production'!M48,IF(Start!$D$3='Données de production'!$N$40,'Données de production'!V48,IF(Start!$D$3='Données de production'!$W$40,'Données de production'!AE48,\"ENTRER UN CALCUL\"))), 'Données de production'!AE33)","v":71.942857142857136}]
[null,null,{"$f":"'Données de production'!C12","v":"Fossile"},"TWh",{"$f":"'Données de production'!V34","v":53.900000000000006},{"$f":"IF(ISBLANK('Données de production'!W34), IF(Start!$D$3='Données de production'!$E$40,'Données de production'!E49,IF(Start!$D$3='Données de production'!$N$40,'Données de production'!N49,IF(Start!$D$3='Données de production'!$W$40,'Données de production'!W49,\"ENTRER UN CALCUL\"))), 'Données de production'!W34)","v":50.583333333333343},{"$f":"IF(ISBLANK('Données de production'!X34), IF(Start!$D$3='Données de production'!$E$40,'Données de production'!F49,IF(Start!$D$3='Données de production'!$N$40,'Données de production'!O49,IF(Start!$D$3='Données de production'!$W$40,'Données de production'!X49,\"ENTRER UN CALCUL\"))), 'Données de production'!X34)","v":47.266666666666673},{"$f":"IF(ISBLANK('Données de production'!Y34), IF(Start!$D$3='Données de production'!$E$40,'Données de production'!G49,IF(Start!$D$3='Données de production'!$N$40,'Données de production'!P49,IF(Start!$D$3='Données de production'!$W$40,'Données de production'!Y49,\"ENTRER UN CALCUL\"))), 'Données de production'!Y34)","v":43.95},{"$f":"IF(ISBLANK('Données de production'!Z34), IF(Start!$D$3='Données de production'!$E$40,'Données de production'!H49,IF(Start!$D$3='Données de production'!$N$40,'Données de production'!Q49,IF(Start!$D$3='Données de production'!$W$40,'Données de production'!Z49,\"ENTRER UN CALCUL\"))), 'Données de production'!Z34)","v":40.633333333333333},{"$f":"IF(ISBLANK('Données de production'!AA34), IF(Start!$D$3='Données de production'!$E$40,'Données de production'!I49,IF(Start!$D$3='Données de production'!$N$40,'Données de production'!R49,IF(Start!$D$3='Données de production'!$W$40,'Données de production'!AA49,\"ENTRER UN CALCUL\"))), 'Données de production'!AA34)","v":37.316666666666663},{"$f":"IF(ISBLANK('Données de production'!AB34), IF(Start!$D$3='Données de production'!$E$40,'Données de production'!J49,IF(Start!$D$3='Données de production'!$N$40,'Données de production'!S49,IF(Start!$D$3='Données de production'!$W$40,'Données de production'!AB49,\"ENTRER UN CALCUL\"))), 'Données de production'!AB34)","v":33.200000000000003},{"$f":"IF(ISBLANK('Données de production'!AC34), IF(Start!$D$3='Données de production'!$E$40,'Données de production'!K49,IF(Start!$D$3='Données de production'!$N$40,'Données de production'!T49,IF(Start!$D$3='Données de production'!$W$40,'Données de production'!AC49,\"ENTRER UN CALCUL\"))), 'Données de production'!AC34)","v":30.457142857142859},{"$f":"IF(ISBLANK('Données de production'!AD34), IF(Start!$D$3='Données de production'!$E$40,'Données de production'!L49,IF(Start!$D$3='Données de production'!$N$40,'Données de production'!U49,IF(Start!$D$3='Données de production'!$W$40,'Données de production'!AD49,\"ENTRER UN CALCUL\"))), 'Données de production'!AD34)","v":26.6},{"$f":"IF(ISBLANK('Données de production'!AE34), IF(Start!$D$3='Données de production'!$E$40,'Données de production'!M49,IF(Start!$D$3='Données de production'!$N$40,'Données de production'!V49,IF(Start!$D$3='Données de production'!$W$40,'Données de production'!AE49,\"ENTRER UN CALCUL\"))), 'Données de production'!AE34)","v":22.742857142857147}]
[null,null,{"$f":"'Données de production'!C38","v":"Consommation"},"TWh",{"$f":"'Données de production'!V38","v":441.5},{"$f":"IF(ISBLANK('Données de production'!W38), IF(Start!$D$3='Données de production'!$E$40,'Données de production'!E53,IF(Start!$D$3='Données de production'!$N$40,'Données de production'!N53,IF(Start!$D$3='Données de production'!$W$40,'Données de production'!W53,\"ENTRER UN CALCUL\"))), 'Données de production'!W38)","v":460.15},{"$f":"IF(ISBLANK('Données de production'!X38), IF(Start!$D$3='Données de production'!$E$40,'Données de production'!F53,IF(Start!$D$3='Données de production'!$N$40,'Données de production'!O53,IF(Start!$D$3='Données de production'!$W$40,'Données de production'!X53,\"ENTRER UN CALCUL\"))), 'Données de production'!X38)","v":478.8},{"$f":"IF(ISBLANK('Données de production'!Y38), IF(Start!$D$3='Données de production'!$E$40,'Données de production'!G53,IF(Start!$D$3='Données de production'!$N$40,'Données de production'!P53,IF(Start!$D$3='Données de production'!$W$40,'Données de production'!Y53,\"ENTRER UN CALCUL\"))), 'Données de production'!Y38)","v":477.40000000000003},{"$f":"IF(ISBLANK('Données de production'!Z38), IF(Start!$D$3='Données de production'!$E$40,'Données de production'!H53,IF(Start!$D$3='Données de production'!$N$40,'Données de production'!Q53,IF(Start!$D$3='Données de production'!$W$40,'Données de production'!Z53,\"ENTRER UN CALCUL\"))), 'Données de production'!Z38)","v":475.90000000000003},{"$f":"IF(ISBLANK('Données de production'!AA38), IF(Start!$D$3='Données de production'!$E$40,'Données de production'!I53,IF(Start!$D$3='Données de production'!$N$40,'Données de production'!R53,IF(Start!$D$3='Données de production'!$W$40,'Données de production'!AA53,\"ENTRER UN CALCUL\"))), 'Données de production'!AA38)","v":474.20000000000005},{"$f":"IF(ISBLANK('Données de production'!AB38), IF(Start!$D$3='Données de production'!$E$40,'Données de production'!J53,IF(Start!$D$3='Données de production'!$N$40,'Données de production'!S53,IF(Start!$D$3='Données de production'!$W$40,'Données de production'!AB53,\"ENTRER UN CALCUL\"))), 'Données de production'!AB38)","v":471},{"$f":"IF(ISBLANK('Données de production'!AC38), IF(Start!$D$3='Données de production'!$E$40,'Données de production'!K53,IF(Start!$D$3='Données de production'!$N$40,'Données de production'!T53,IF(Start!$D$3='Données de production'!$W$40,'Données de production'!AC53,\"ENTRER UN CALCUL\"))), 'Données de production'!AC38)","v":480.4},{"$f":"IF(ISBLANK('Données de production'!AD38), IF(Start!$D$3='Données de production'!$E$40,'Données de production'!L53,IF(Start!$D$3='Données de production'!$N$40,'Données de production'!U53,IF(Start!$D$3='Données de production'!$W$40,'Données de production'!AD53,\"ENTRER UN CALCUL\"))), 'Données de production'!AD38)","v":501.2},{"$f":"IF(ISBLANK('Données de production'!AE38), IF(Start!$D$3='Données de production'!$E$40,'Données de production'!M53,IF(Start!$D$3='Données de production'!$N$40,'Données de production'!V53,IF(Start!$D$3='Données de production'!$W$40,'Données de production'!AE53,\"ENTRER UN CALCUL\"))), 'Données de production'!AE38)","v":522}]
[]
[null,null,"Euros constants",null,"Données historiques","Scénario sélectionné",null,null,null,null,{"$f":"'Calcul de LCOE'!F32","v":"Scénario par défaut"}]
[null,null,{"$f":"'Calcul de variation des prix'!C36","v":"Prix d'attribution des projets"},"Unité",2017,2020,2025,2030,2035,2040,2020,2025,2030,2035,2040]
[null,null,{"$f":"'Calcul de variation des prix'!C37","v":"Nucléaire"},"€/MWh",{"$f":"IF(Start!$F$3=\"COURANT\",'Calcul de variation des prix'!E37,'Calcul de variation des prix'!E73)","v":0},{"$f":"IF(Start!$F$3=\"COURANT\",'Calcul de variation des prix'!F37,'Calcul de variation des prix'!F73)","v":0},{"$f":"IF(Start!$F$3=\"COURANT\",'Calcul de variation des prix'!G37,'Calcul de variation des prix'!G73)","v":0},{"$f":"'Calcul de variation des prix'!H73","v":85},{"$f":"'Calcul de variation des prix'!I73","v":85},{"$f":"'Calcul de variation des prix'!J73","v":85}]
[null,null,{"$f":"'Calcul de variation des prix'!C38","v":"Eolien terrestre"},"€/MWh",{"$f":"IF(Start!$F$3=\"COURANT\",'Calcul de variation des prix'!E38,'Calcul de variation des prix'!E74)","v":65.400000000000006},{"$f":"((K29-E29)/(K$27-E$27)+ABS((K29-E29)/(K$27-E$27))*VLOOKUP(Start!$I10,'Données - Graphiques'!$R$8:$S$14,2,FALSE))*(K$27-E$27)+E29","v":63.175906196115662},{"$f":"((L29-K29)/(L$27-K$27)+ABS((L29-K29)/(L$27-K$27))*VLOOKUP(Start!$I10,'Données - Graphiques'!$R$8:$S$14,2,FALSE))*(L$27-K$27)+F29","v":59.469083189641616},{"$f":"((M29-L29)/(M$27-L$27)+ABS((M29-L29)/(M$27-L$27))*VLOOKUP(Start!$I10,'Données - Graphiques'!$R$8:$S$14,2,FALSE))*(M$27-L$27)+G29","v":52.134482061403666},{"$f":"((N29-M29)/(N$27-M$27)+ABS((N29-M29)/(N$27-M$27))*VLOOKUP(Start!$I10,'Données - Graphiques'!$R$8:$S$14,2,FALSE))*(N$27-M$27)+H29","v":47.533014501878441},{"$f":"((O29-N29)/(O$27-N$27)+ABS((O29-N29)/(O$27-N$27))*VLOOKUP(Start!$I10,'Données - Graphiques'!$R$8:$S$14,2,FALSE))*(O$27-N$27)+I29","v":43.062987340873931},{"$f":"'Calcul de variation des prix'!F74","v":63.175906196115662},{"$f":"'Calcul de variation des prix'!G74","v":59.469083189641616},{"$f":"'Calcul de variation des prix'!H74","v":52.134482061403666},{"$f":"'Calcul de variation des prix'!I74","v":47.533014501878441},{"$f":"'Calcul de variation des prix'!J74","v":43.062987340873931}]
[null,null,{"$f":"'Calcul de variation des prix'!C39","v":"Eolien en mer"},"€/MWh",{"$f":"IF(Start!$I11=\"Tendance AO 2019\",IF(Start!$F$3=\"COURANT\",'Données de coûts'!E26,'Données de coûts'!E26/HLOOKUP(E27,'Calcul de variation des prix'!$E$3:$AB$5,3,FALSE)),IF(Start!$F$3=\"COURANT\",'Calcul de variation des prix'!E39,'Calcul de variation des prix'!E75))","v":140},{"$f":"((K30-E30)/(K$27-E$27)+ABS((K30-E30)/(K$27-E$27))*VLOOKUP(Start!$I11,'Données - Graphiques'!$R$8:$S$14,2,FALSE))*(K$27-E$27)+E30","v":56},{"$f":"((L30-F30)/(L$27-F$27)+ABS((L30-F30)/(L$27-F$27))*VLOOKUP(Start!$I11,'Données - Graphiques'!$R$8:$S$14,2,FALSE))*(L$27-F$27)+F30","v":54},{"$f":"((M30-G30)/(M$27-G$27)+ABS((M30-G30)/(M$27-G$27))*VLOOKUP(Start!$I11,'Données - Graphiques'!$R$8:$S$14,2,FALSE))*(M$27-G$27)+G30","v":52},{"$f":"((N30-H30)/(N$27-H$27)+ABS((N30-H30)/(N$27-H$27))*VLOOKUP(Start!$I11,'Données - Graphiques'!$R$8:$S$14,2,FALSE))*(N$27-H$27)+H30","v":50},{"$f":"((O30-I30)/(O$27-I$27)+ABS((O30-I30)/(O$27-I$27))*VLOOKUP(Start!$I11,'Données - Graphiques'!$R$8:$S$14,2,FALSE))*(O$27-I$27)+I30","v":45},{"$f":"'Calcul de variation des prix'!F75","v":56},{"$f":"'Calcul de variation des prix'!G75","v":54},{"$f":"'Calcul de variation des prix'!H75","v":52},{"$f":"'Calcul de variation des prix'!I75","v":50},{"$f":"'Calcul de variation des prix'!J75","v":45}]
[null,null,{"$f":"'Calcul de variation des prix'!C40","v":"PV au sol"},"€/MWh",{"$f":"IF(Start!$F$3=\"COURANT\",'Calcul de variation des prix'!E40,'Calcul de variation des prix'!E76)","v":63.9},{"$f":"((K31-E31)/(K$27-E$27)+ABS((K31-E31)/(K$27-E$27))*VLOOKUP(Start!$I12,'Données - Graphiques'!$R$8:$S$14,2,FALSE))*(K$27-E$27)+E31","v":57.929074962515188},{"$f":"((L31-K31)/(L$27-K$27)+ABS((L31-K31)/(L$27-K$27))*VLOOKUP(Start!$I12,'Données - Graphiques'!$R$8:$S$14,2,FALSE))*(L$27-K$27)+F31","v":47.977533233374828},{"$f":"((M31-L31)/(M$27-L$27)+ABS((M31-L31)/(M$27-L$27))*VLOOKUP(Start!$I12,'Données - Graphiques'!$R$8:$S$14,2,FALSE))*(M$27-L$27)+G31","v":44.635938054097217},{"$f":"((N31-M31)/(N$27-M$27)+ABS((N31-M31)/(N$27-M$27))*VLOOKUP(Start!$I12,'Données - Graphiques'!$R$8:$S$14,2,FALSE))*(N$27-M$27)+H31","v":41.610699307541218},{"$f":"((O31-N31)/(O$27-N$27)+ABS((O31-N31)/(O$27-N$27))*VLOOKUP(Start!$I12,'Données - Graphiques'!$R$8:$S$14,2,FALSE))*(O$27-N$27)+I31","v":37.555297814500541},{"$f":"'Calcul de variation des prix'!F76","v":57.929074962515188},{"$f":"'Calcul de variation des prix'!G76","v":47.977533233374828},{"$f":"'Calcul de variation des prix'!H76","v":44.635938054097217},{"$f":"'Calcul de variation des prix'!I76","v":41.610699307541218},{"$f":"'Calcul de variation des prix'!J76","v":37.555297814500541}]
[null,null,{"$f":"'Calcul de variation des prix'!C41","v":"PV sur toiture"},"€/MWh",{"$f":"IF(Start!$F$3=\"COURANT\",'Calcul de variation des prix'!E41,'Calcul de variation des prix'!E77)","v":85},{"$f":"((K32-E32)/(K$27-E$27)+ABS((K32-E32)/(K$27-E$27))*VLOOKUP(Start!$I13,'Données - Graphiques'!$R$8:$S$14,2,FALSE))*(K$27-E$27)+E32","v":80.872851601584458},{"$f":"((L32-K32)/(L$27-K$27)+ABS((L32-K32)/(L$27-K$27))*VLOOKUP(Start!$I13,'Données - Graphiques'!$R$8:$S$14,2,FALSE))*(L$27-K$27)+F32","v":73.994270937559236},{"$f":"((M32-L32)/(M$27-L$27)+ABS((M32-L32)/(M$27-L$27))*VLOOKUP(Start!$I13,'Données - Graphiques'!$R$8:$S$14,2,FALSE))*(M$27-L$27)+G32","v":64.527789947077437},{"$f":"((N32-M32)/(N$27-M$27)+ABS((N32-M32)/(N$27-M$27))*VLOOKUP(Start!$I13,'Données - Graphiques'!$R$8:$S$14,2,FALSE))*(N$27-M$27)+H32","v":54.870884671366888},{"$f":"((O32-N32)/(O$27-N$27)+ABS((O32-N32)/(O$27-N$27))*VLOOKUP(Start!$I13,'Données - Graphiques'!$R$8:$S$14,2,FALSE))*(O$27-N$27)+I32","v":48.581929444874824},{"$f":"'Calcul de variation des prix'!F77","v":80.872851601584458},{"$f":"'Calcul de variation des prix'!G77","v":73.994270937559236},{"$f":"'Calcul de variation des prix'!H77","v":64.527789947077437},{"$f":"'Calcul de variation des prix'!I77","v":54.870884671366888},{"$f":"'Calcul de variation des prix'!J77","v":48.581929444874824}]
[]
[null,null,"Euros constants",null,"Données historiques","Scénario sélectionné"]
[null,null,"Revenus de marché","Unité",2017,2020,2025,2030,2035,2040]
[null,null,{"$f":"'Calcul de variation des prix'!C37","v":"Nucléaire"},"€/MWh",{"$f":"'Calcul de variation des prix'!E54","v":47.902135933104503},{"$f":"IF(Start!$D$3='Données de production'!$E$14,'Calcul de variation des prix'!F54,IF(Start!$D$3='Données de production'!$N$14,'Calcul de variation des prix'!K54,IF(Start!$D$3='Données de production'!$W$14,'Calcul de variation des prix'!P54,\"ENTRER UN CALCUL\")))","v":50.36414358820663},{"$f":"IF(Start!$D$3='Données de production'!$E$14,'Calcul de variation des prix'!G54,IF(Start!$D$3='Données de production'!$N$14,'Calcul de variation des prix'!L54,IF(Start!$D$3='Données de production'!$W$14,'Calcul de variation des prix'!Q54,\"ENTRER UN CALCUL\")))","v":54.467489680043506},{"$f":"IF(Start!$D$3='Données de production'!$E$14,'Calcul de variation des prix'!H54,IF(Start!$D$3='Données de production'!$N$14,'Calcul de variation des prix'!M54,IF(Start!$D$3='Données de production'!$W$14,'Calcul de variation des prix'!R54,\"ENTRER UN CALCUL\")))","v":58.57083577188039},{"$f":"IF(Start!$D$3='Données de production'!$E$14,'Calcul de variation des prix'!I54,IF(Start!$D$3='Données de production'!$N$14,'Calcul de variation des prix'!N54,IF(Start!$D$3='Données de production'!$W$14,'Calcul de variation des prix'!S54,\"ENTRER UN CALCUL\")))","v":62.674181863717266},{"$f":"IF(Start!$D$3='Données de production'!$E$14,'Calcul de variation des prix'!J54,IF(Start!$D$3='Données de production'!$N$14,'Calcul de variation des prix'!O54,IF(Start!$D$3='Données de production'!$W$14,'Calcul de variation des prix'!T54,\"ENTRER UN CALCUL\")))","v":66.777527955554149}]
[null,null,{"$f":"'Calcul de variation des prix'!C38","v":"Eolien terrestre"},"€/MWh",{"$f":"'Calcul de variation des prix'!E55","v":48.228490576657116},{"$f":"IF(Start!$D$3='Données de production'!$E$14,'Calcul de variation des prix'!F55,IF(Start!$D$3='Données de production'!$N$14,'Calcul de variation des prix'!K55,IF(Start!$D$3='Données de production'!$W$14,'Calcul de variation des prix'!P55,\"ENTRER UN CALCUL\")))","v":43.114245288328561},{"$f":"IF(Start!$D$3='Données de production'!$E$14,'Calcul de variation des prix'!G55,IF(Start!$D$3='Données de production'!$N$14,'Calcul de variation des prix'!L55,IF(Start!$D$3='Données de production'!$W$14,'Calcul de variation des prix'!Q55,\"ENTRER UN CALCUL\")))","v":41.2},{"$f":"IF(Start!$D$3='Données de production'!$E$14,'Calcul de variation des prix'!H55,IF(Start!$D$3='Données de production'!$N$14,'Calcul de variation des prix'!M55,IF(Start!$D$3='Données de production'!$W$14,'Calcul de variation des prix'!R55,\"ENTRER UN CALCUL\")))","v":46.708781372859598},{"$f":"IF(Start!$D$3='Données de production'!$E$14,'Calcul de variation des prix'!I55,IF(Start!$D$3='Données de production'!$N$14,'Calcul de variation des prix'!N55,IF(Start!$D$3='Données de production'!$W$14,'Calcul de variation des prix'!S55,\"ENTRER UN CALCUL\")))","v":48.480734805008602},{"$f":"IF(Start!$D$3='Données de production'!$E$14,'Calcul de variation des prix'!J55,IF(Start!$D$3='Données de production'!$N$14,'Calcul de variation des prix'!O55,IF(Start!$D$3='Données de production'!$W$14,'Calcul de variation des prix'!T55,\"ENTRER UN CALCUL\")))","v":50.252688237157606}]
[null,null,{"$f":"'Calcul de variation des prix'!C39","v":"Eolien en mer"},"€/MWh",{"$f":"'Calcul de variation des prix'!E56","v":0},{"$f":"IF(Start!$D$3='Données de production'!$E$14,'Calcul de variation des prix'!F56,IF(Start!$D$3='Données de production'!$N$14,'Calcul de variation des prix'!K56,IF(Start!$D$3='Données de production'!$W$14,'Calcul de variation des prix'!P56,\"ENTRER UN CALCUL\")))","v":0},{"$f":"IF(Start!$D$3='Données de production'!$E$14,'Calcul de variation des prix'!G56,IF(Start!$D$3='Données de production'!$N$14,'Calcul de variation des prix'!L56,IF(Start!$D$3='Données de production'!$W$14,'Calcul de variation des prix'!Q56,\"ENTRER UN CALCUL\")))","v":43.2},{"$f":"IF(Start!$D$3='Données de production'!$E$14,'Calcul de variation des prix'!H56,IF(Start!$D$3='Données de production'!$N$14,'Calcul de variation des prix'!M56,IF(Start!$D$3='Données de production'!$W$14,'Calcul de variation des prix'!R56,\"ENTRER UN CALCUL\")))","v":49.157796500736417},{"$f":"IF(Start!$D$3='Données de production'!$E$14,'Calcul de variation des prix'!I56,IF(Start!$D$3='Données de production'!$N$14,'Calcul de variation des prix'!N56,IF(Start!$D$3='Données de production'!$W$14,'Calcul de variation des prix'!S56,\"ENTRER UN CALCUL\")))","v":52.052287752577463},{"$f":"IF(Start!$D$3='Données de production'!$E$14,'Calcul de variation des prix'!J56,IF(Start!$D$3='Données de production'!$N$14,'Calcul de variation des prix'!O56,IF(Start!$D$3='Données de production'!$W$14,'Calcul de variation des prix'!T56,\"ENTRER UN CALCUL\")))","v":54.946779004418509}]
[null,null,{"$f":"'Calcul de variation des prix'!C40","v":"PV au sol"},"€/MWh",{"$f":"'Calcul de variation des prix'!E57","v":43.137359111091079},{"$f":"IF(Start!$D$3='Données de production'!$E$14,'Calcul de variation des prix'!F57,IF(Start!$D$3='Données de production'!$N$14,'Calcul de variation des prix'!K57,IF(Start!$D$3='Données de production'!$W$14,'Calcul de variation des prix'!P57,\"ENTRER UN CALCUL\")))","v":40.068679555545543},{"$f":"IF(Start!$D$3='Données de production'!$E$14,'Calcul de variation des prix'!G57,IF(Start!$D$3='Données de production'!$N$14,'Calcul de variation des prix'!L57,IF(Start!$D$3='Données de production'!$W$14,'Calcul de variation des prix'!Q57,\"ENTRER UN CALCUL\")))","v":39.4},{"$f":"IF(Start!$D$3='Données de production'!$E$14,'Calcul de variation des prix'!H57,IF(Start!$D$3='Données de production'!$N$14,'Calcul de variation des prix'!M57,IF(Start!$D$3='Données de production'!$W$14,'Calcul de variation des prix'!R57,\"ENTRER UN CALCUL\")))","v":44.38775218524021},{"$f":"IF(Start!$D$3='Données de production'!$E$14,'Calcul de variation des prix'!I57,IF(Start!$D$3='Données de production'!$N$14,'Calcul de variation des prix'!N57,IF(Start!$D$3='Données de production'!$W$14,'Calcul de variation des prix'!S57,\"ENTRER UN CALCUL\")))","v":47.857132648340723},{"$f":"IF(Start!$D$3='Données de production'!$E$14,'Calcul de variation des prix'!J57,IF(Start!$D$3='Données de production'!$N$14,'Calcul de variation des prix'!O57,IF(Start!$D$3='Données de production'!$W$14,'Calcul de variation des prix'!T57,\"ENTRER UN CALCUL\")))","v":51.326513111441244}]
[null,null,{"$f":"'Calcul de variation des prix'!C41","v":"PV sur toiture"},"€/MWh",{"$f":"'Calcul de variation des prix'!E58","v":43.137359111091079},{"$f":"IF(Start!$D$3='Données de production'!$E$14,'Calcul de variation des prix'!F58,IF(Start!$D$3='Données de production'!$N$14,'Calcul de variation des prix'!K58,IF(Start!$D$3='Données de production'!$W$14,'Calcul de variation des prix'!P58,\"ENTRER UN CALCUL\")))","v":40.068679555545543},{"$f":"IF(Start!$D$3='Données de production'!$E$14,'Calcul de variation des prix'!G58,IF(Start!$D$3='Données de production'!$N$14,'Calcul de variation des prix'!L58,IF(Start!$D$3='Données de production'!$W$14,'Calcul de variation des prix'!Q58,\"ENTRER UN CALCUL\")))","v":39.4},{"$f":"IF(Start!$D$3='Données de production'!$E$14,'Calcul de variation des prix'!H58,IF(Start!$D$3='Données de production'!$N$14,'Calcul de variation des prix'!M58,IF(Start!$D$3='Données de production'!$W$14,'Calcul de variation des prix'!R58,\"ENTRER UN CALCUL\")))","v":44.38775218524021},{"$f":"IF(Start!$D$3='Données de production'!$E$14,'Calcul de variation des prix'!I58,IF(Start!$D$3='Données de production'!$N$14,'Calcul de variation des prix'!N58,IF(Start!$D$3='Données de production'!$W$14,'Calcul de variation des prix'!S58,\"ENTRER UN CALCUL\")))","v":47.857132648340723},{"$f":"IF(Start!$D$3='Données de production'!$E$14,'Calcul de variation des prix'!J58,IF(Start!$D$3='Données de production'!$N$14,'Calcul de variation des prix'!O58,IF(Start!$D$3='Données de production'!$W$14,'Calcul de variation des prix'!T58,\"ENTRER UN CALCUL\")))","v":51.326513111441244}]
[]
[null,null,"Euros constants",null,"Données historiques","Scénario sélectionné"]
[null,null,"Complément de rémunération nécessaire en fonction de l'année de mise en fonctionnement","Unité",2017,2020,2025,2030,2035,2040]
[null,null,{"$f":"'Données de coûts'!C24","v":"Nucléaire"},"€/MWh",{"$f":"IF(E28=0, 0, E28-E36)","v":0},{"$f":"IF(F28=0, 0, F28-F36)","v":0},0,{"$f":"IF(H28=0, 0, H28-H36)","v":26.42916422811961},22.325818136282734,18.222472044445851]
[null,null,{"$f":"'Données de prix'!C28","v":"Eolien terrestre"},"€/MWh",{"$f":"IF(E29=0, 0, E29-E37)","v":17.17150942334289},{"$f":"IF(F29=0, 0, F29-F37)","v":20.0616609077871},{"$f":"IF(G29=0, 0, G29-G37)","v":18.269083189641613},5.4257006885440688,-0.94772030313016131,-7.189700896283675]
[null,null,{"$f":"'Données de prix'!C29","v":"Eolien en mer"},"€/MWh",0,0,{"$f":"IF(G30=0, 0, G30-G38)","v":10.799999999999997},{"$f":"IF(H30=0, 0, H30-H38)","v":2.842203499263583},-2.0522877525774632,-9.9467790044185094]
[null,null,{"$f":"'Données de prix'!C30","v":"PV au sol"},"€/MWh",{"$f":"IF(E31=0, 0, E31-E39)","v":20.762640888908919},{"$f":"IF(F31=0, 0, F31-F39)","v":17.860395406969644},{"$f":"IF(G31=0, 0, G31-G39)","v":8.5775332333748295},0.24818586885700711,-6.2464333407995056,-13.771215296940703]
[null,null,{"$f":"'Données de prix'!C31","v":"PV sur toiture"},"€/MWh",{"$f":"IF(E32=0, 0, E32-E40)","v":41.862640888908921},{"$f":"IF(F32=0, 0, F32-F40)","v":40.804172046038914},{"$f":"IF(G32=0, 0, G32-G40)","v":34.594270937559237},20.140037761837227,7.0137520230261643,-2.7445836665664203]
[]
[null,null,"Euros constants",null,"Données historiques","Scénario sélectionné"]
[null,null,"Variables","Unité",2017,2020,2025,2030,2035,2040]
[null,null,"Prix de marché moyen","€/MWh",{"$f":"'Calcul de variation des prix'!E62","v":50.497976729383467},{"$f":"IF(Start!$D$3='Données de production'!$E$14,'Calcul de variation des prix'!F62,IF(Start!$D$3='Données de production'!$N$14,'Calcul de variation des prix'!K62,IF(Start!$D$3='Données de production'!$W$14,'Calcul de variation des prix'!P62,IF(Start!$D$3='Calcul de variation des prix'!$U$16, 'Calcul de variation des prix'!U62,\"ENTRER UN CALCUL\"))))","v":47.248988364691733},{"$f":"IF(Start!$D$3='Données de production'!$E$14,'Calcul de variation des prix'!G62,IF(Start!$D$3='Données de production'!$N$14,'Calcul de variation des prix'!L62,IF(Start!$D$3='Données de production'!$W$14,'Calcul de variation des prix'!Q62,IF(Start!$D$3='Calcul de variation des prix'!$U$16, 'Calcul de variation des prix'!V62,\"ENTRER UN CALCUL\"))))","v":48.8},{"$f":"IF(Start!$D$3='Données de production'!$E$14,'Calcul de variation des prix'!H62,IF(Start!$D$3='Données de production'!$N$14,'Calcul de variation des prix'!M62,IF(Start!$D$3='Données de production'!$W$14,'Calcul de variation des prix'!R62,IF(Start!$D$3='Calcul de variation des prix'!$U$16, 'Calcul de variation des prix'!W62,\"ENTRER UN CALCUL\"))))","v":58.620279781543118},{"$f":"IF(Start!$D$3='Données de production'!$E$14,'Calcul de variation des prix'!I62,IF(Start!$D$3='Données de production'!$N$14,'Calcul de variation des prix'!N62,IF(Start!$D$3='Données de production'!$W$14,'Calcul de variation des prix'!S62,IF(Start!$D$3='Calcul de variation des prix'!$U$16, 'Calcul de variation des prix'!X62,\"ENTRER UN CALCUL\"))))","v":65.170979235400907},{"$f":"IF(Start!$D$3='Données de production'!$E$14,'Calcul de variation des prix'!J62,IF(Start!$D$3='Données de production'!$N$14,'Calcul de variation des prix'!O62,IF(Start!$D$3='Données de production'!$W$14,'Calcul de variation des prix'!T62,IF(Start!$D$3='Calcul de variation des prix'!$U$16, 'Calcul de variation des prix'!Y62,\"ENTRER UN CALCUL\"))))","v":71.721678689258695}]
[null,null,"Prix du CO2","€/tCO2",{"$f":"'Calcul de variation des prix'!E63","v":8.15},{"$f":"IF(Start!$D$3='Données de production'!$E$14,'Calcul de variation des prix'!F63,IF(Start!$D$3='Données de production'!$N$14,'Calcul de variation des prix'!K63,IF(Start!$D$3='Données de production'!$W$14,'Calcul de variation des prix'!P63,IF(Start!$D$3='Calcul de variation des prix'!$U$16, 'Calcul de variation des prix'!U63,\"ENTRER UN CALCUL\"))))","v":17.760000000000002},{"$f":"IF(Start!$D$3='Données de production'!$E$14,'Calcul de variation des prix'!G63,IF(Start!$D$3='Données de production'!$N$14,'Calcul de variation des prix'!L63,IF(Start!$D$3='Données de production'!$W$14,'Calcul de variation des prix'!Q63,IF(Start!$D$3='Calcul de variation des prix'!$U$16, 'Calcul de variation des prix'!V63,\"ENTRER UN CALCUL\"))))","v":53.29},{"$f":"IF(Start!$D$3='Données de production'!$E$14,'Calcul de variation des prix'!H63,IF(Start!$D$3='Données de production'!$N$14,'Calcul de variation des prix'!M63,IF(Start!$D$3='Données de production'!$W$14,'Calcul de variation des prix'!R63,IF(Start!$D$3='Calcul de variation des prix'!$U$16, 'Calcul de variation des prix'!W63,\"ENTRER UN CALCUL\"))))","v":88.82},{"$f":"IF(Start!$D$3='Données de production'!$E$14,'Calcul de variation des prix'!I63,IF(Start!$D$3='Données de production'!$N$14,'Calcul de variation des prix'!N63,IF(Start!$D$3='Données de production'!$W$14,'Calcul de variation des prix'!S63,IF(Start!$D$3='Calcul de variation des prix'!$U$16, 'Calcul de variation des prix'!X63,\"ENTRER UN CALCUL\"))))","v":106.58},{"$f":"IF(Start!$D$3='Données de production'!$E$14,'Calcul de variation des prix'!J63,IF(Start!$D$3='Données de production'!$N$14,'Calcul de variation des prix'!O63,IF(Start!$D$3='Données de production'!$W$14,'Calcul de variation des prix'!T63,IF(Start!$D$3='Calcul de variation des prix'!$U$16, 'Calcul de variation des prix'!Y63,\"ENTRER UN CALCUL\"))))","v":124.35}]
[]
[null,null,null,null,"Données historiques","Scénario sélectionné"]
[null,null,null,"Unité",2017,2018,2019,2020,2021,2022,2023,2024,2025,2026,2027,2028,2029,2030,2031,2032,2033,2034,2035,2036,2037,2038,2039,2040]
[null,null,"Capacité installée de production d'électricité"]
[null,null,{"$f":"'Données de production'!C6","v":"Eolien terrestre"},"GW",{"$f":"E6","v":13.55},15.575000000000001,17.600000000000001,19.625,21.65,23.674999999999997,{"$f":"K$56*($M58-$J58)/($M$56-$J$56)+$J58-($M58-$J58)/($M$56-$J$56)*$J$56","v":25.570000000000164},27.465000000000146,{"$f":"K6","v":29.36},{"$f":"N$56*($R58-$M58)/($R$56-$M$56)+$M58-($R58-$M58)/($R$56-$M$56)*$M$56","v":31.455142857142164},{"$f":"O$56*($R58-$M58)/($R$56-$M$56)+$M58-($R58-$M58)/($R$56-$M$56)*$M$56","v":33.550285714284655},{"$f":"P$56*($R58-$M58)/($R$56-$M$56)+$M58-($R58-$M58)/($R$56-$M$56)*$M$56","v":35.645428571428056},37.740571428570547,{"$f":"L6","v":39.835714285714289},{"$f":"S$56*($W58-$R58)/($W$56-$R$56)+$R58-($W58-$R58)/($W$56-$R$56)*$R$56","v":42.328571428571195},{"$f":"T$56*($W58-$R58)/($W$56-$R$56)+$R58-($W58-$R58)/($W$56-$R$56)*$R$56","v":44.821428571428442},{"$f":"U$56*($W58-$R58)/($W$56-$R$56)+$R58-($W58-$R58)/($W$56-$R$56)*$R$56","v":47.314285714285688},{"$f":"V$56*($W58-$R58)/($W$56-$R$56)+$R58-($W58-$R58)/($W$56-$R$56)*$R$56","v":49.807142857142935},{"$f":"M6","v":52.3},{"$f":"X$56*($AB58-$W58)/($AB$56-$W$56)+$W58-($AB58-$W58)/($AB$56-$W$56)*$W$56","v":54.792857142857429},{"$f":"Y$56*($AB58-$W58)/($AB$56-$W$56)+$W58-($AB58-$W58)/($AB$56-$W$56)*$W$56","v":57.285714285714675},59.778571428571013,62.27142857142826,{"$f":"N6","v":64.764285714285705}]
[null,null,{"$f":"'Données de production'!C7","v":"Eolien en mer"},"GW",0,0,0,0,0.79999999999999993,1.5999999999999999,2.2066666666664787,2.8133333333332757,{"$f":"K7","v":3.42},4.300285714285792,5.1805714285712838,6.0608571428572304,6.9411428571427223,{"$f":"L7","v":7.8214285714285712},9.2571428571427532,10.692857142857065,12.128571428571377,{"$f":"V$56*($W59-$R59)/($W$56-$R$56)+$R59-($W59-$R59)/($W$56-$R$56)*$R$56","v":13.564285714285688},{"$f":"M7","v":15},{"$f":"X$56*($AB59-$W59)/($AB$56-$W$56)+$W59-($AB59-$W59)/($AB$56-$W$56)*$W$56","v":16.435714285714312},17.871428571428169,19.307142857142935,20.742857142856792,{"$f":"N7","v":22.178571428571431}]
[null,null,{"$f":"'Données de production'!C8","v":"PV au sol"},"GW",4.178612324929972,5.4155102707749769,6.6524082166199818,7.889306162464985,9.1262041083099916,10.363102054154997,12.268734702770416,14.174367351385172,{"$f":"K8","v":16.079999999999998},17.766766132007888,19.453532264015848,21.140298396023809,22.827064528031769,{"$f":"L8","v":24.513830660040021},25.370745990059959,26.227661320080188,27.084576650100189,27.941491980119963,{"$f":"M8","v":28.798407310140075},29.655322640160193,{"$f":"Y$56*($AB60-$W60)/($AB$56-$W$56)+$W60-($AB60-$W60)/($AB$56-$W$56)*$W$56","v":30.512237970180195},{"$f":"Z$56*($AB60-$W60)/($AB$56-$W$56)+$W60-($AB60-$W60)/($AB$56-$W$56)*$W$56","v":31.369153300199969},32.226068630220425,{"$f":"N8","v":33.082983960240128}]
[null,null,{"$f":"'Données de production'!C9","v":"PV sur toiture"},"GW",3.4753876750700283,4.3961563958916905,5.3169251167133522,6.2376938375350139,7.1584625583566766,8.0792312791783392,9.4861541861191654,10.893077093059674,{"$f":"K9","v":12.3},13.430091010849083,14.560182021698438,15.690273032547793,16.820364043396694,{"$f":"L9","v":17.950455054245694},18.300682581368619,18.650910108491416,19.001137635614214,19.351365162737125,{"$f":"M9","v":19.701592689859925},20.051820216982833,20.402047744105744,20.752275271228541,21.102502798351452,{"$f":"N9","v":21.452730325474157}]
[null,null,"Production"]
[null,null,{"$f":"'Données de production'!C5","v":"Nucléaire"},"TWh",{"$f":"E16","v":379.1},381.41666666666669,383.73333333333335,386.05,388.36666666666667,390.68333333333334,{"$f":"K$56*($M63-$J63)/($M$56-$J$56)+$J63-($M63-$J63)/($M$56-$J$56)*$J$56","v":389.25555555555593},387.82777777777846,{"$f":"K16","v":386.4},{"$f":"N$56*($R63-$M63)/($R$56-$M$56)+$M63-($R63-$M63)/($R$56-$M$56)*$M$56","v":379.6942857142858},372.98857142857196,366.2828571428563,359.57714285714246,{"$f":"L16","v":352.87142857142857},{"$f":"S$56*($W63-$R63)/($W$56-$R$56)+$R63-($W63-$R63)/($W$56-$R$56)*$R$56","v":341.05714285714203},329.24285714285361,317.42857142856883,305.61428571428405,{"$f":"M16","v":293.8},{"$f":"X$56*($AB63-$W63)/($AB$56-$W$56)+$W63-($AB63-$W63)/($AB$56-$W$56)*$W$56","v":281.98571428571449},270.17142857142971,258.35714285714494,246.54285714285652,{"$f":"N16","v":234.72857142857146}]
[null,null,{"$f":"'Données de production'!C6","v":"Eolien terrestre"},"TWh",24,29,34,39,44,49,54.266666666666424,59.533333333332848,64.8,69.960000000000946,75.119999999998981,80.280000000000655,85.440000000000509,90.6,95.399999999999636,100.20000000000073,105,109.80000000000109,114.6,{"$f":"X$56*($AB64-$W64)/($AB$56-$W$56)+$W64-($AB64-$W64)/($AB$56-$W$56)*$W$56","v":119.39999999999964},124.20000000000073,129,133.80000000000109,138.6]
[null,null,{"$f":"'Données de production'!C7","v":"Eolien en mer"},"TWh",0,0,0,0,3,6,7.066666666666606,8.1333333333332121,9.1999999999999993,11.402857142856192,13.605714285713475,15.808571428570758,18.011428571428041,20.214285714285715,25.571428571427532,30.928571428572468,36.285714285713766,41.642857142856883,47,{"$f":"X$56*($AB65-$W65)/($AB$56-$W$56)+$W65-($AB65-$W65)/($AB$56-$W$56)*$W$56","v":52.357142857141298},57.714285714286234,63.071428571427532,68.428571428570649,73.785714285714292]
[null,null,{"$f":"'Données de production'!C8","v":"PV au sol"},"TWh",5.0226330532212877,6.484880295160135,7.9471275370989822,9.4093747790378295,10.871622020976677,12.333869262915524,14.625248502466093,16.916627742015407,19.208006981564306,21.241452291214046,23.274897600863369,25.308342910512692,27.341788220162016,29.375233529811076,30.399928946401815,31.424624362992745,32.449319779583675,33.47401519617415,34.498710612765741,35.523406029356465,{"$f":"Y$56*($AB66-$W66)/($AB$56-$W$56)+$W66-($AB66-$W66)/($AB$56-$W$56)*$W$56","v":36.548101445947395},{"$f":"Z$56*($AB66-$W66)/($AB$56-$W$56)+$W66-($AB66-$W66)/($AB$56-$W$56)*$W$56","v":37.572796862537871},38.597492279129256,39.622187695720406]
[null,null,{"$f":"'Données de production'!C9","v":"PV sur toiture"},"TWh",4.1773669467787116,5.2651197048398632,6.3528724629010167,7.4406252209621702,8.5283779790233236,9.6161307370844771,11.308084830867756,13.000038924652017,14.691993018435696,16.055690565929126,17.419388113422883,18.78308566091664,20.146783208409943,21.51048075590321,21.92864248216938,22.346804208435628,22.764965934701763,23.183127660968012,23.60128938723426,24.019451113500509,24.437612839766757,24.855774566032892,25.27393629229914,25.692098018565311]
[null,null,{"$f":"'Données de production'!C10","v":"Autres EnRe"},"TWh",9.5,9.4166666666666679,9.3333333333333339,9.25,9.1666666666666661,9.0833333333333339,9.1222222222222342,9.1611111111111256,9.1999999999999993,9.7457142857144845,10.291428571428696,10.837142857142908,11.382857142857119,11.928571428571429,13.142857142856883,14.357142857143117,15.571428571428442,16.785714285714221,18,{"$f":"X$56*($AB68-$W68)/($AB$56-$W$56)+$W68-($AB68-$W68)/($AB$56-$W$56)*$W$56","v":19.214285714285325},20.428571428571104,21.642857142856883,22.857142857142662,24.071428571428569]
[null,null,{"$f":"'Données de production'!C11","v":"Hydraulique"},"TWh",53.5,54.916666666666671,56.333333333333336,57.75,59.166666666666664,60.583333333333336,61.055555555555543,61.527777777777715,62,62.331428571428546,62.662857142857092,62.994285714285638,63.325714285714184,63.657142857142858,64.485714285714266,65.314285714285688,66.14285714285711,66.971428571428532,67.8,68.628571428571149,69.457142857142571,70.285714285714448,71.114285714285643,71.942857142857136]
[null,null,{"$f":"'Données de production'!C12","v":"Fossile"},"TWh",53.900000000000006,50.583333333333343,47.266666666666673,43.95,40.633333333333333,37.316666666666663,35.944444444443889,34.572222222221626,33.200000000000003,32.651428571428596,32.102857142857147,31.554285714285697,31.005714285714248,30.457142857142859,29.685714285714312,28.914285714285597,28.14285714285711,27.371428571428623,26.6,25.828571428571422,25.057142857142708,24.285714285713993,23.514285714285506,22.742857142857147]
[null,null,"Part EnRe"]
[null,null,"Part des EnR dans le mix de production électrique","%",{"$f":"SUM(E64:E69)/SUM(E63:E70)","v":0.18178382464096748},{"$f":"SUM(F64:F69)/SUM(F63:F70)","v":0.19565554693560899},0.20912594042449079,0.22221217328389253,0.23900189214758749,0.25515561098703488,0.27022388344330484,0.28488257258678912,0.29914815433439118,0.31627021162692692,0.33314519808290016,0.34977842323264052,0.36617504555338737,0.38234007780309825,0.40363536089344265,0.42485834231837261,0.44600938967136255,0.46708886805825589,0.48809714011822974,0.50903456604461228,0.52990150360546806,0.55069830816395759,0.5714253326985429,0.59208292782291827]
[null,null,"Facteur de charge"]
[null,null,{"$f":"'Données de production'!C6","v":"Eolien terrestre"},"%",{"$f":"IF(E58=0,0,E64*1000/8760/E58)","v":0.20219380275994539},0.21255231352199183,0.22052718970527188,0.2268562952621935,{"$f":"IF(I58=0,0,I64*1000/8760/I58)","v":0.23200143419068411},0.23626641207755328,0.24226925936441857,0.24744375088149773,0.25195028181105594,0.25389493241642558,0.25559670456404482,0.25709842549037865,0.25843341232906508,0.25962797301048085,0.25728274286982417,0.25519838454401833,0.25333366421811943,0.25165560311888141,0.25013751014955865,0.24875755156852772,0.24749769412086201,0.24634291260801205,0.24528058779348358,0.24430004336061378]
[null,null,{"$f":"'Données de production'!C7","v":"Eolien en mer"},"%",{"$f":"IF(E59=0,0,E65*1000/8760/E59)","v":0},0,{"$f":"IF(G59=0,0,G65*1000/8760/G59)","v":0},0,0.42808219178082191,0.42808219178082191,0.3655727075832475,0.33002229003008254,0.30708430131645709,0.30269989190478364,0.29980548529453777,0.29775185243302416,0.29621910891427505,0.29503137966264253,0.31533626472742743,0.3301885353660271,0.34152454405128441,0.35046082893904595,0.35768645357686452,0.36364971354522108,0.36865484781126034,0.37291560028852683,0.37658653785677654,0.37978220428091386]
[null,null,{"$f":"'Données de production'!C8","v":"PV au sol"},"%",{"$f":"IF(E60=0,0,E66*1000/8760/E60)","v":0.13721300111082871},0.13669683957795789,0.13637262030687947,{"$f":"IF(H60=0,0,H66*1000/8760/H60)","v":0.13615006425995335},0.13598783540142034,0.13586433250367161,0.13608158919840602,0.1362404289718939,0.13636162070330646,0.13648084873174424,0.13657940084409093,0.1366622261807573,0.13673281104974641,0.136793682205026,0.13678397651064297,0.13677490502898634,0.13676640756344327,0.13675843130188495,0.13675092971802474,0.13674386166323035,0.13673719061140452,0.13673088402759678,0.13672491283737442,0.13671925097864918]
[null,null,{"$f":"'Données de production'!C9","v":"PV sur toiture"},"%",{"$f":"IF(E61=0,0,E67*1000/8760/E61)","v":0.13721300111082871},0.13671967238427146,0.13639720995751176,0.13616994723882814,0.13600114858308171,0.13587082500422251,0.1360801478102259,0.13623539938399293,0.13635513437312707,0.13647274521997585,0.13657209929495132,0.13665714142687924,0.13673075629735407,0.1367951021545202,0.13678559139066579,0.13677643781381188,0.13676762167302531,0.13675912464721168,0.13675092971802477,0.13674302105609393,0.13673538391897724,0.1367280045594404,0.13672087014287226,0.13671396867279098]
[null,null,{"$f":"C27","v":"Prix d'attribution des projets"}]
[null,null,{"$f":"'Données de production'!C6","v":"Eolien terrestre"},"€/MWh",{"$f":"E29","v":65.400000000000006},{"$f":"F$56*($E79-$H79)/($E$56-$H$56)+$H79-($E79-$H79)/($E$56-$H$56)*$H$56","v":64.658635398705201},{"$f":"G$56*($E79-$H79)/($E$56-$H$56)+$H79-($E79-$H79)/($E$56-$H$56)*$H$56","v":63.91727079741031},{"$f":"F29","v":63.175906196115662},{"$f":"I$56*($M79-$H79)/($M$56-$H$56)+$H79-($M79-$H79)/($M$56-$H$56)*$H$56","v":62.434541594820757},61.693176993525867,60.951812392231204,60.210447790936314,{"$f":"G29","v":59.469083189641616},{"$f":"N$56*($R79-$M79)/($R$56-$M$56)+$M79-($R79-$M79)/($R$56-$M$56)*$M$56","v":58.002162963994124},{"$f":"O$56*($R79-$M79)/($R$56-$M$56)+$M79-($R79-$M79)/($R$56-$M$56)*$M$56","v":56.535242738346369},{"$f":"P$56*($R79-$M79)/($R$56-$M$56)+$M79-($R79-$M79)/($R$56-$M$56)*$M$56","v":55.068322512698614},{"$f":"Q$56*($R79-$M79)/($R$56-$M$56)+$M79-($R79-$M79)/($R$56-$M$56)*$M$56","v":53.601402287051314},{"$f":"H29","v":52.134482061403666},{"$f":"S$56*($W79-$R79)/($W$56-$R$56)+$R79-($W79-$R79)/($W$56-$R$56)*$R$56","v":51.214188549498431},50.293895037593529,49.3736015256884,48.453308013783499,{"$f":"I29","v":47.533014501878441},{"$f":"X$56*($AB79-$W79)/($AB$56-$W$56)+$W79-($AB79-$W79)/($AB$56-$W$56)*$W$56","v":46.639009069677513},45.74500363747643,44.850998205275573,43.956992773074944,{"$f":"J29","v":43.062987340873931}]
[null,null,{"$f":"'Données de production'!C7","v":"Eolien en mer"},"€/MWh",{"$f":"E30","v":140},{"$f":"44/'Calcul de variation des prix'!F5","v":43.200785468826709},{"$f":"44/'Calcul de variation des prix'!G5","v":42.420252816994015},{"$f":"F30","v":56},{"$f":"I$56*($M80-$H80)/($M$56-$H$56)+$H80-($M80-$H80)/($M$56-$H$56)*$H$56","v":55.600000000000023},55.200000000000045,54.799999999999955,54.399999999999977,{"$f":"G30","v":54},{"$f":"N$56*($R80-$M80)/($R$56-$M$56)+$M80-($R80-$M80)/($R$56-$M$56)*$M$56","v":53.600000000000023},53.200000000000045,{"$f":"P$56*($R80-$M80)/($R$56-$M$56)+$M80-($R80-$M80)/($R$56-$M$56)*$M$56","v":52.799999999999955},{"$f":"Q$56*($R80-$M80)/($R$56-$M$56)+$M80-($R80-$M80)/($R$56-$M$56)*$M$56","v":52.399999999999977},{"$f":"H30","v":52},51.600000000000023,51.200000000000045,50.799999999999955,50.399999999999977,{"$f":"I30","v":50},49,48,47,46,{"$f":"J30","v":45}]
[null,null,{"$f":"'Données de production'!C8","v":"PV au sol"},"€/MWh",{"$f":"E31","v":63.9},{"$f":"F$56*($E81-$H81)/($E$56-$H$56)+$H81-($E81-$H81)/($E$56-$H$56)*$H$56","v":61.909691654171638},{"$f":"G$56*($E81-$H81)/($E$56-$H$56)+$H81-($E81-$H81)/($E$56-$H$56)*$H$56","v":59.919383308343185},{"$f":"F31","v":57.929074962515188},55.938766616686735,53.948458270858737,51.958149925030739,49.967841579202286,{"$f":"G31","v":47.977533233374828},{"$f":"N$56*($R81-$M81)/($R$56-$M$56)+$M81-($R81-$M81)/($R$56-$M$56)*$M$56","v":47.309214197518941},{"$f":"O$56*($R81-$M81)/($R$56-$M$56)+$M81-($R81-$M81)/($R$56-$M$56)*$M$56","v":46.640895161663593},{"$f":"P$56*($R81-$M81)/($R$56-$M$56)+$M81-($R81-$M81)/($R$56-$M$56)*$M$56","v":45.972576125808018},{"$f":"Q$56*($R81-$M81)/($R$56-$M$56)+$M81-($R81-$M81)/($R$56-$M$56)*$M$56","v":45.304257089952443},{"$f":"H31","v":44.635938054097217},44.030890304786226,43.425842555475128,42.820794806163804,42.215747056852479,{"$f":"I31","v":41.610699307541218},40.79961900893295,39.988538710324974,39.177458411716998,38.366378113108794,37.555297814500541]
[null,null,{"$f":"'Données de production'!C9","v":"PV sur toiture"},"€/MWh",{"$f":"E32","v":85},{"$f":"F$56*($E82-$H82)/($E$56-$H$56)+$H82-($E82-$H82)/($E$56-$H$56)*$H$56","v":83.624283867195118},{"$f":"G$56*($E82-$H82)/($E$56-$H$56)+$H82-($E82-$H82)/($E$56-$H$56)*$H$56","v":82.248567734389781},{"$f":"F32","v":80.872851601584458},79.497135468779561,78.121419335974679,76.745703203169342,75.369987070364459,{"$f":"G32","v":73.994270937559236},{"$f":"N$56*($R82-$M82)/($R$56-$M$56)+$M82-($R82-$M82)/($R$56-$M$56)*$M$56","v":72.100974739462799},{"$f":"O$56*($R82-$M82)/($R$56-$M$56)+$M82-($R82-$M82)/($R$56-$M$56)*$M$56","v":70.207678541366477},{"$f":"P$56*($R82-$M82)/($R$56-$M$56)+$M82-($R82-$M82)/($R$56-$M$56)*$M$56","v":68.314382343269699},{"$f":"Q$56*($R82-$M82)/($R$56-$M$56)+$M82-($R82-$M82)/($R$56-$M$56)*$M$56","v":66.421086145173376},{"$f":"H32","v":64.527789947077437},62.596408891935425,60.665027836793797,58.733646781651714,56.802265726509177,{"$f":"I32","v":54.870884671366888},53.613093626068803,52.355302580770513,51.097511535471767,49.839720490173477,48.581929444874824]
[null,null,"Revenus de marché"]
[null,null,{"$f":"'Données de production'!C6","v":"Eolien terrestre"},"€/MWh",{"$f":"E37","v":48.228490576657116},{"$f":"F$56*($H84-$E84)/($H$56-$E$56)+$E84-($H84-$E84)/($H$56-$E$56)*$E$56","v":46.523742147213852},44.818993717771264,{"$f":"F37","v":43.114245288328561},{"$f":"I$56*($M84-$H84)/($M$56-$H$56)+$H84-($M84-$H84)/($M$56-$H$56)*$H$56","v":42.731396230662767},{"$f":"J$56*($M84-$H84)/($M$56-$H$56)+$H84-($M84-$H84)/($M$56-$H$56)*$H$56","v":42.348547172997087},{"$f":"K$56*($M84-$H84)/($M$56-$H$56)+$H84-($M84-$H84)/($M$56-$H$56)*$H$56","v":41.965698115331406},{"$f":"L$56*($M84-$H84)/($M$56-$H$56)+$H84-($M84-$H84)/($M$56-$H$56)*$H$56","v":41.582849057665612},{"$f":"G37","v":41.2},{"$f":"N$56*($R84-$M84)/($R$56-$M$56)+$M84-($R84-$M84)/($R$56-$M$56)*$M$56","v":42.301756274571744},{"$f":"O$56*($R84-$M84)/($R$56-$M$56)+$M84-($R84-$M84)/($R$56-$M$56)*$M$56","v":43.40351254914367},44.505268823715596,45.607025098287522,{"$f":"H37","v":46.708781372859598},{"$f":"S$56*($W84-$R84)/($W$56-$R$56)+$R84-($W84-$R84)/($W$56-$R$56)*$R$56","v":47.0631720592894},{"$f":"T$56*($W84-$R84)/($W$56-$R$56)+$R84-($W84-$R84)/($W$56-$R$56)*$R$56","v":47.417562745719124},47.771953432148962,48.1263441185788,{"$f":"I37","v":48.480734805008602},{"$f":"X$56*($W84-$R84)/($W$56-$R$56)+$R84-($W84-$R84)/($W$56-$R$56)*$R$56","v":48.835125491438362},{"$f":"Y$56*($W84-$R84)/($W$56-$R$56)+$R84-($W84-$R84)/($W$56-$R$56)*$R$56","v":49.1895161778682},49.543906864298037,49.898297550727762,50.252688237157599]
[null,null,{"$f":"'Données de production'!C7","v":"Eolien en mer"},"€/MWh",{"$f":"E38","v":0},0,0,{"$f":"F38","v":0},{"$f":"I$56*($R85-$M85)/($R$56-$M$56)+$M85-($R85-$M85)/($R$56-$M$56)*$M$56","v":38.433762799410943},{"$f":"J$56*($R85-$M85)/($R$56-$M$56)+$M85-($R85-$M85)/($R$56-$M$56)*$M$56","v":39.625322099557707},{"$f":"K$56*($R85-$M85)/($R$56-$M$56)+$M85-($R85-$M85)/($R$56-$M$56)*$M$56","v":40.816881399704926},{"$f":"L$56*($R85-$M85)/($R$56-$M$56)+$M85-($R85-$M85)/($R$56-$M$56)*$M$56","v":42.008440699852599},{"$f":"G38","v":43.2},{"$f":"N$56*($R85-$M85)/($R$56-$M$56)+$M85-($R85-$M85)/($R$56-$M$56)*$M$56","v":44.391559300147037},45.583118600294256,46.774677900441475,47.966237200588694,{"$f":"H38","v":49.157796500736417},{"$f":"S$56*($W85-$R85)/($W$56-$R$56)+$R85-($W85-$R85)/($W$56-$R$56)*$R$56","v":49.736694751104778},50.315593001472962,50.894491251841146,51.473389502209329,{"$f":"I38","v":52.052287752577463},{"$f":"X$56*($W85-$R85)/($W$56-$R$56)+$R85-($W85-$R85)/($W$56-$R$56)*$R$56","v":52.631186002945697},53.21008425331388,53.788982503682291,54.367880754050475,54.946779004418659]
[null,null,{"$f":"'Données de production'!C8","v":"PV au sol"},"€/MWh",{"$f":"E39","v":43.137359111091079},42.114465925908917,41.091572740727315,{"$f":"F39","v":40.068679555545543},{"$f":"I$56*($M86-$H86)/($M$56-$H$56)+$H86-($M86-$H86)/($M$56-$H$56)*$H$56","v":39.93494364443643},39.801207733327317,39.667471822218147,39.53373591110909,{"$f":"G39","v":39.4},40.397550437048039,41.39510087409576,{"$f":"P$56*($R86-$M86)/($R$56-$M$56)+$M86-($R86-$M86)/($R$56-$M$56)*$M$56","v":42.392651311143936},43.390201748192112,{"$f":"H39","v":44.38775218524021},45.081628277860545,45.775504370480576,46.469380463100606,47.163256555720636,{"$f":"I39","v":47.857132648340723},48.551008740960924,49.244884833580954,49.938760926201212,50.632637018821242,51.326513111441272]
[null,null,{"$f":"'Données de production'!C9","v":"PV sur toiture"},"€/MWh",{"$f":"E40","v":43.137359111091079},42.114465925908917,41.091572740727315,{"$f":"F40","v":40.068679555545543},39.93494364443643,39.801207733327317,39.667471822218147,39.53373591110909,{"$f":"G40","v":39.4},40.397550437048039,41.39510087409576,{"$f":"P$56*($R87-$M87)/($R$56-$M$56)+$M87-($R87-$M87)/($R$56-$M$56)*$M$56","v":42.392651311143936},43.390201748192112,{"$f":"H40","v":44.38775218524021},45.081628277860545,45.775504370480576,46.469380463100606,47.163256555720636,{"$f":"I40","v":47.857132648340723},48.551008740960924,49.244884833580954,49.938760926201212,50.632637018821242,51.326513111441272]
[]
[null,"Calcul des compléments de rémunération"]
[]
[null,null,"Estimation compléments de rémunération passés de la Cour des Comptes (euros courants ou constants)"]
[null,null,{"$f":"'Calcul de variation des prix'!C11","v":"Dépenses au titre des engagements passés"},"M€",null,{"$f":"'Calcul de variation des prix'!E47","v":4292.783505154639},{"$f":"'Calcul de variation des prix'!F47","v":4567.5043124043368},{"$f":"'Calcul de variation des prix'!G47","v":4493.7279708325868},{"$f":"'Calcul de variation des prix'!H47","v":4594.3618866128591},{"$f":"'Calcul de variation des prix'!I47","v":4572.582173646977},{"$f":"'Calcul de variation des prix'!J47","v":4580.3703358846778},{"$f":"'Calcul de variation des prix'!K47","v":4731.5800384295717},{"$f":"'Calcul de variation des prix'!L47","v":4691.2543436236583},{"$f":"'Calcul de variation des prix'!M47","v":4373.275228137838},{"$f":"'Calcul de variation des prix'!N47","v":4106.1284672807496},{"$f":"'Calcul de variation des prix'!O47","v":3930.6451464070597},{"$f":"'Calcul de variation des prix'!P47","v":3788.6000044966809},{"$f":"'Calcul de variation des prix'!Q47","v":3553.5029511547541},{"$f":"'Calcul de variation des prix'!R47","v":3019.5563994364752},{"$f":"'Calcul de variation des prix'!S47","v":2102.8472409951719},{"$f":"'Calcul de variation des prix'!T47","v":1522.954869077003},{"$f":"'Calcul de variation des prix'!U47","v":1249.5646867436958},{"$f":"'Calcul de variation des prix'!V47","v":1119.3368568321237},{"$f":"'Calcul de variation des prix'!W47","v":1002.0458860566514},{"$f":"'Calcul de variation des prix'!X47","v":827.64912650330302},{"$f":"'Calcul de variation des prix'!Y47","v":713.45763600906037},{"$f":"'Calcul de variation des prix'!Z47","v":596.44900243230541},{"$f":"'Calcul de variation des prix'!AA47","v":529.66959020779689}]
[null,null,{"$f":"'Calcul de variation des prix'!C12","v":"Part de l'éolien en mer dans les dépenses au titre des engagements passés (AO 2011&2013)"},"M€",null,{"$f":"'Calcul de variation des prix'!E48","v":0},{"$f":"'Calcul de variation des prix'!F48","v":0},{"$f":"'Calcul de variation des prix'!G48","v":0},{"$f":"'Calcul de variation des prix'!H48","v":176.5905213060079},{"$f":"'Calcul de variation des prix'!I48","v":345.47583610193112},{"$f":"'Calcul de variation des prix'!J48","v":432.86527026987739},{"$f":"'Calcul de variation des prix'!K48","v":637.00773042325375},{"$f":"'Calcul de variation des prix'!L48","v":695.64884549606188},{"$f":"'Calcul de variation des prix'!M48","v":670.61017914745469},{"$f":"'Calcul de variation des prix'!N48","v":649.5282907485564},{"$f":"'Calcul de variation des prix'!O48","v":630.79513804067403},{"$f":"'Calcul de variation des prix'!P48","v":613.61587161718273},{"$f":"'Calcul de variation des prix'!Q48","v":597.55127099072422},{"$f":"'Calcul de variation des prix'!R48","v":624.42121193046364},{"$f":"'Calcul de variation des prix'!S48","v":639.19783469507149},{"$f":"'Calcul de variation des prix'!T48","v":646.30437951762758},{"$f":"'Calcul de variation des prix'!U48","v":648.28848052064109},{"$f":"'Calcul de variation des prix'!V48","v":646.71983744599959},{"$f":"'Calcul de variation des prix'!W48","v":642.61739852152198},{"$f":"'Calcul de variation des prix'!X48","v":636.67063395598234},{"$f":"'Calcul de variation des prix'!Y48","v":629.36208265312507},{"$f":"'Calcul de variation des prix'!Z48","v":596.44900243230541},{"$f":"'Calcul de variation des prix'!AA48","v":529.66959020779689}]
[null,null,{"$f":"'Calcul de variation des prix'!C13","v":"Dépenses au titre des engagements passés hors éolien en mer"},"M€",null,{"$f":"'Calcul de variation des prix'!E49","v":4292.783505154639},{"$f":"'Calcul de variation des prix'!F49","v":4567.5043124043368},{"$f":"'Calcul de variation des prix'!G49","v":4493.7279708325868},{"$f":"'Calcul de variation des prix'!H49","v":4417.7713653068513},{"$f":"'Calcul de variation des prix'!I49","v":4227.1063375450467},{"$f":"'Calcul de variation des prix'!J49","v":4147.5050656148005},{"$f":"'Calcul de variation des prix'!K49","v":4094.5723080063176},{"$f":"'Calcul de variation des prix'!L49","v":3995.6054981275965},{"$f":"'Calcul de variation des prix'!M49","v":3702.6650489903832},{"$f":"'Calcul de variation des prix'!N49","v":3456.600176532193},{"$f":"'Calcul de variation des prix'!O49","v":3299.8500083663857},{"$f":"'Calcul de variation des prix'!P49","v":3174.9841328794982},{"$f":"'Calcul de variation des prix'!Q49","v":2955.9516801640302},{"$f":"'Calcul de variation des prix'!R49","v":2395.1351875060118},{"$f":"'Calcul de variation des prix'!S49","v":1463.6494063001005},{"$f":"'Calcul de variation des prix'!T49","v":876.65048955937527},{"$f":"'Calcul de variation des prix'!U49","v":601.27620622305471},{"$f":"'Calcul de variation des prix'!V49","v":472.61701938612401},{"$f":"'Calcul de variation des prix'!W49","v":359.42848753512936},{"$f":"'Calcul de variation des prix'!X49","v":190.97849254732068},{"$f":"'Calcul de variation des prix'!Y49","v":84.09555335593538},{"$f":"'Calcul de variation des prix'!Z49","v":0},{"$f":"'Calcul de variation des prix'!AA49","v":0}]
[null,null,{"$f":"'Calcul de variation des prix'!C14","v":"Hypothèse de prix marché de la Cour des Comptes"},"€/MWh",null,{"$f":"'Calcul de variation des prix'!E50","v":35.257731958762882},{"$f":"'Calcul de variation des prix'!F50","v":34.794248276484417},{"$f":"'Calcul de variation des prix'!G50","v":36.257759116146332},{"$f":"'Calcul de variation des prix'!H50","v":35.95869668824411},{"$f":"'Calcul de variation des prix'!I50","v":35.662100996785703},{"$f":"'Calcul de variation des prix'!J50","v":35.367951695555341},{"$f":"'Calcul de variation des prix'!K50","v":35.076228606157592},{"$f":"'Calcul de variation des prix'!L50","v":34.786911716633114},{"$f":"'Calcul de variation des prix'!M50","v":34.499981180085868},{"$f":"'Calcul de variation des prix'!N50","v":34.215417313321609},{"$f":"'Calcul de variation des prix'!O50","v":33.933200595497674},{"$f":"'Calcul de variation des prix'!P50","v":33.653311666783829},{"$f":"'Calcul de variation des prix'!Q50","v":33.375731327034238},{"$f":"'Calcul de variation des prix'!R50","v":33.100440534470323},{"$f":"'Calcul de variation des prix'!S50","v":32.827420404374543},{"$f":"'Calcul de variation des prix'!T50","v":32.556652207794862},{"$f":"'Calcul de variation des prix'!U50","v":32.288117370260032},{"$f":"'Calcul de variation des prix'!V50","v":32.021797470505334},{"$f":"'Calcul de variation des prix'!W50","v":31.757674239208942},{"$f":"'Calcul de variation des prix'!X50","v":31.495729557738642},{"$f":"'Calcul de variation des prix'!Y50","v":31.235945456908908},{"$f":"'Calcul de variation des prix'!Z50","v":30.97830411574823},{"$f":"'Calcul de variation des prix'!AA50","v":30.722787860276622}]
[null,null,"Delta prix "]
[null,null,"Eolien terrestre","€/MWh",null,{"$f":"F$95-F84","v":-11.26601018845097},{"$f":"G$95-G84","v":-10.024745441286846},{"$f":"H$95-H84","v":-6.8564861721822297},-6.7726995424186569,-6.6864461762113834,-6.5977464197760654,-6.5066204515080202,-6.4130882833668892,-7.8017750944858761,-9.1880952358220611,-10.572068228217923,-11.953713431503694,-13.33305004582536,-13.962731524819077,-14.590142341344581,-15.2153012243541,-15.838226748318768,-16.458937334503268,-17.07745125222942,-17.693786620129558,-18.307961407389129,-18.919993434979531,-19.529900376880978]
[null,null,"Eolien en mer","€/MWh",null,{"$f":"F$95-F85","v":35.257731958762882},34.794248276484417,{"$f":"H$95-H85","v":36.257759116146332},-2.4750661111668322,-3.9632211027720032,-5.4489297041495846,-6.9322120936950071,-8.4130882833668892,-9.891578120061169,-11.367701286972647,-12.841477304943801,-14.312925533804865,-15.782065173702179,-16.636254216634455,-17.488172597098419,-18.337839044046284,-19.185272131949297,-20.03049028207213,-20.873511763736754,-21.714354695575238,-22.553037046773383,-23.389576638302245,-24.223991144142037]
[null,null,"PV au sol","€/MWh",null,{"$f":"F$95-F86","v":-6.8567339671460346},-6.297324464242898,-3.8109204393992115,-3.9762469561923197,-4.1391067365416134,-4.2995201266628058,-4.4575073049514984,-4.6130882833668849,-5.8975692569621714,-7.1796835607741514,-8.4594507156462626,-9.7368900814082835,-11.012020858205972,-11.981187743390223,-12.948083966106033,-13.912728255305744,-14.875139185460604,-15.83533517783539,-16.793334501751982,-17.749155275842313,-18.702815469292304,-19.654332903073012,-20.603725251164651]
[null,null,{"$f":"C87","v":"PV sur toiture"},"€/MWh",null,{"$f":"F$95-F87","v":-6.8567339671460346},-6.297324464242898,-3.8109204393992115,-3.9762469561923197,-4.1391067365416134,-4.2995201266628058,-4.4575073049514984,-4.6130882833668849,-5.8975692569621714,-7.1796835607741514,-8.4594507156462626,-9.7368900814082835,-11.012020858205972,-11.981187743390223,-12.948083966106033,-13.912728255305744,-14.875139185460604,-15.83533517783539,-16.793334501751982,-17.749155275842313,-18.702815469292304,-19.654332903073012,-20.603725251164651]
[null,null,"Ajustement des compléments rémunération passés sur la base des prix de marché du scénario considéré"]
[null,null,"Ajustement des dépenses au titre des engagements passés hors éolien en mer","M€",null,{"$f":"F$94+(SUMPRODUCT('Données - Graphiques'!$F$13:$F$14,F$76:F$77,F99:F100)+SUMPRODUCT('Données - Graphiques'!$F$11,F$74,F97))*8760*1000/1000000*F$94/MAX($F$94:$AB$94)","v":3813.5013016383828},{"$f":"G$94+(SUMPRODUCT('Données - Graphiques'!$F$13:$F$14,G$76:G$77,G99:G100)+SUMPRODUCT('Données - Graphiques'!$F$11,G$74,G97))*8760*1000/1000000*G$94/MAX($F$94:$AB$94)","v":4097.3951069009672},{"$f":"H$94+(SUMPRODUCT('Données - Graphiques'!$F$13:$F$14,H$76:H$77,H99:H100)+SUMPRODUCT('Données - Graphiques'!$F$11,H$74,H97))*8760*1000/1000000*H$94/MAX($F$94:$AB$94)","v":4177.1166187607605},{"$f":"I$94+(SUMPRODUCT('Données - Graphiques'!$F$13:$F$14,I$76:I$77,I99:I100)+SUMPRODUCT('Données - Graphiques'!$F$11,I$74,I97))*8760*1000/1000000*I$94/MAX($F$94:$AB$94)","v":4101.6616387347221},{"$f":"J$94+(SUMPRODUCT('Données - Graphiques'!$F$13:$F$14,J$76:J$77,J99:J100)+SUMPRODUCT('Données - Graphiques'!$F$11,J$74,J97))*8760*1000/1000000*J$94/MAX($F$94:$AB$94)","v":3921.1876978337768},{"$f":"K$94+(SUMPRODUCT('Données - Graphiques'!$F$13:$F$14,K$76:K$77,K99:K100)+SUMPRODUCT('Données - Graphiques'!$F$11,K$74,K97))*8760*1000/1000000*K$94/MAX($F$94:$AB$94)","v":3842.2734852991471},{"$f":"L$94+(SUMPRODUCT('Données - Graphiques'!$F$13:$F$14,L$76:L$77,L99:L100)+SUMPRODUCT('Données - Graphiques'!$F$11,L$74,L97))*8760*1000/1000000*L$94/MAX($F$94:$AB$94)","v":3789.363174350518},{"$f":"M$94+(SUMPRODUCT('Données - Graphiques'!$F$13:$F$14,M$76:M$77,M99:M100)+SUMPRODUCT('Données - Graphiques'!$F$11,M$74,M97))*8760*1000/1000000*M$94/MAX($F$94:$AB$94)","v":3694.9124065952906},{"$f":"N$94+(SUMPRODUCT('Données - Graphiques'!$F$13:$F$14,N$76:N$77,N99:N100)+SUMPRODUCT('Données - Graphiques'!$F$11,N$74,N97))*8760*1000/1000000*N$94/MAX($F$94:$AB$94)","v":3358.1957044002907},{"$f":"O$94+(SUMPRODUCT('Données - Graphiques'!$F$13:$F$14,O$76:O$77,O99:O100)+SUMPRODUCT('Données - Graphiques'!$F$11,O$74,O97))*8760*1000/1000000*O$94/MAX($F$94:$AB$94)","v":3073.2545222936865},{"$f":"P$94+(SUMPRODUCT('Données - Graphiques'!$F$13:$F$14,P$76:P$77,P99:P100)+SUMPRODUCT('Données - Graphiques'!$F$11,P$74,P97))*8760*1000/1000000*P$94/MAX($F$94:$AB$94)","v":2874.6874219444476},{"$f":"Q$94+(SUMPRODUCT('Données - Graphiques'!$F$13:$F$14,Q$76:Q$77,Q99:Q100)+SUMPRODUCT('Données - Graphiques'!$F$11,Q$74,Q97))*8760*1000/1000000*Q$94/MAX($F$94:$AB$94)","v":2708.7782532907886},{"$f":"R$94+(SUMPRODUCT('Données - Graphiques'!$F$13:$F$14,R$76:R$77,R99:R100)+SUMPRODUCT('Données - Graphiques'!$F$11,R$74,R97))*8760*1000/1000000*R$94/MAX($F$94:$AB$94)","v":2468.5985274341338},{"$f":"S$94+(SUMPRODUCT('Données - Graphiques'!$F$13:$F$14,S$76:S$77,S99:S100)+SUMPRODUCT('Données - Graphiques'!$F$11,S$74,S97))*8760*1000/1000000*S$94/MAX($F$94:$AB$94)","v":1981.1758856667507},{"$f":"T$94+(SUMPRODUCT('Données - Graphiques'!$F$13:$F$14,T$76:T$77,T99:T100)+SUMPRODUCT('Données - Graphiques'!$F$11,T$74,T97))*8760*1000/1000000*T$94/MAX($F$94:$AB$94)","v":1199.0247756423946},{"$f":"U$94+(SUMPRODUCT('Données - Graphiques'!$F$13:$F$14,U$76:U$77,U99:U100)+SUMPRODUCT('Données - Graphiques'!$F$11,U$74,U97))*8760*1000/1000000*U$94/MAX($F$94:$AB$94)","v":711.17321027081971},{"$f":"V$94+(SUMPRODUCT('Données - Graphiques'!$F$13:$F$14,V$76:V$77,V99:V100)+SUMPRODUCT('Données - Graphiques'!$F$11,V$74,V97))*8760*1000/1000000*V$94/MAX($F$94:$AB$94)","v":482.99376455175053},{"$f":"W$94+(SUMPRODUCT('Données - Graphiques'!$F$13:$F$14,W$76:W$77,W99:W100)+SUMPRODUCT('Données - Graphiques'!$F$11,W$74,W97))*8760*1000/1000000*W$94/MAX($F$94:$AB$94)","v":375.88671950201194},{"$f":"X$94+(SUMPRODUCT('Données - Graphiques'!$F$13:$F$14,X$76:X$77,X99:X100)+SUMPRODUCT('Données - Graphiques'!$F$11,X$74,X97))*8760*1000/1000000*X$94/MAX($F$94:$AB$94)","v":283.010300413614},{"$f":"Y$94+(SUMPRODUCT('Données - Graphiques'!$F$13:$F$14,Y$76:Y$77,Y99:Y100)+SUMPRODUCT('Données - Graphiques'!$F$11,Y$74,Y97))*8760*1000/1000000*Y$94/MAX($F$94:$AB$94)","v":148.86020364126281},{"$f":"Z$94+(SUMPRODUCT('Données - Graphiques'!$F$13:$F$14,Z$76:Z$77,Z99:Z100)+SUMPRODUCT('Données - Graphiques'!$F$11,Z$74,Z97))*8760*1000/1000000*Z$94/MAX($F$94:$AB$94)","v":64.883455346624245},{"$f":"AA$94+(SUMPRODUCT('Données - Graphiques'!$F$13:$F$14,AA$76:AA$77,AA99:AA100)+SUMPRODUCT('Données - Graphiques'!$F$11,AA$74,AA97))*8760*1000/1000000*AA$94/MAX($F$94:$AB$94)","v":0},{"$f":"AB$94+(SUMPRODUCT('Données - Graphiques'!$F$13:$F$14,AB$76:AB$77,AB99:AB100)+SUMPRODUCT('Données - Graphiques'!$F$11,AB$74,AB97))*8760*1000/1000000*AB$94/MAX($F$94:$AB$94)","v":0}]
[null,null,"Ajustement des dépenses au titre des engagements AO éolien en mer 2011-2013","M€",null,{"$f":"F$93+(SUMPRODUCT('Données - Graphiques'!$F$12,F$75,F98))*8760*1000/1000000","v":0},{"$f":"G$93+(SUMPRODUCT('Données - Graphiques'!$F$12,G$75,G98))*8760*1000/1000000","v":0},{"$f":"H$93+(SUMPRODUCT('Données - Graphiques'!$F$12,H$75,H98))*8760*1000/1000000","v":0},{"$f":"I$93+(SUMPRODUCT('Données - Graphiques'!$F$12,I$75,I98))*8760*1000/1000000","v":148.74602755538103},{"$f":"J$93+(SUMPRODUCT('Données - Graphiques'!$F$12,J$75,J98))*8760*1000/1000000","v":300.88959869574609},{"$f":"K$93+(SUMPRODUCT('Données - Graphiques'!$F$12,K$75,K98))*8760*1000/1000000","v":380.51603625417647},{"$f":"L$93+(SUMPRODUCT('Données - Graphiques'!$F$12,L$75,L98))*8760*1000/1000000","v":576.88475349689384},{"$f":"M$93+(SUMPRODUCT('Données - Graphiques'!$F$12,M$75,M98))*8760*1000/1000000","v":627.75374706889045},{"$f":"N$93+(SUMPRODUCT('Données - Graphiques'!$F$12,N$75,N98))*8760*1000/1000000","v":591.9231385312296},{"$f":"O$93+(SUMPRODUCT('Données - Graphiques'!$F$12,O$75,O98))*8760*1000/1000000","v":559.96344374564103},{"$f":"P$93+(SUMPRODUCT('Données - Graphiques'!$F$12,P$75,P98))*8760*1000/1000000","v":530.31162237351236},{"$f":"Q$93+(SUMPRODUCT('Données - Graphiques'!$F$12,Q$75,Q98))*8760*1000/1000000","v":502.19492500677893},{"$f":"R$93+(SUMPRODUCT('Données - Graphiques'!$F$12,R$75,R98))*8760*1000/1000000","v":475.18621772612926},{"$f":"S$93+(SUMPRODUCT('Données - Graphiques'!$F$12,S$75,S98))*8760*1000/1000000","v":486.55595707965438},{"$f":"T$93+(SUMPRODUCT('Données - Graphiques'!$F$12,T$75,T98))*8760*1000/1000000","v":487.4467578505039},{"$f":"U$93+(SUMPRODUCT('Données - Graphiques'!$F$12,U$75,U98))*8760*1000/1000000","v":481.71741424597712},{"$f":"V$93+(SUMPRODUCT('Données - Graphiques'!$F$12,V$75,V98))*8760*1000/1000000","v":471.59000259131415},{"$f":"W$93+(SUMPRODUCT('Données - Graphiques'!$F$12,W$75,W98))*8760*1000/1000000","v":458.4332287945216},{"$f":"X$93+(SUMPRODUCT('Données - Graphiques'!$F$12,X$75,X98))*8760*1000/1000000","v":443.13520656821612},{"$f":"Y$93+(SUMPRODUCT('Données - Graphiques'!$F$12,Y$75,Y98))*8760*1000/1000000","v":426.29655009476716},{"$f":"Z$93+(SUMPRODUCT('Données - Graphiques'!$F$12,Z$75,Z98))*8760*1000/1000000","v":408.3373133712106},{"$f":"AA$93+(SUMPRODUCT('Données - Graphiques'!$F$12,AA$75,AA98))*8760*1000/1000000","v":364.96951462761871},{"$f":"AB$93+(SUMPRODUCT('Données - Graphiques'!$F$12,AB$75,AB98))*8760*1000/1000000","v":287.89777521360628}]
[null,null,"Estimation de l'évolution du besoin cumulé de compléments rémunération futurs par technologie - incluant le remboursement des compléments de rémunération à hauteur maximale des compléments de rémunération touchés",null,null,null,null,null,null,null,null,null,null,null,null,null,null,null,null,null,null,null,null,null,null,null,null,null,null,null,null,"Retraitement des compléments de rémunération négatifs",null,null,null,null,null,null,null,null,null,null,null,null,null,null,null,null,null,null,null,null,null,null,null,null,null,null,"Estimation de l'évolution du besoin cumulé de compléments rémunération futurs par technologie"]
[null,null,{"$f":"'Données de production'!C6","v":"Eolien terrestre"},null,null,null,null,null,null,null,null,null,null,null,null,null,null,null,null,null,null,null,null,null,null,null,null,null,null,null,null,{"$f":"C105","v":"Eolien terrestre"},null,null,null,null,null,null,null,null,null,null,null,null,null,null,null,null,null,null,null,null,null,null,null,null,null,null,{"$f":"AF105","v":"Eolien terrestre"}]
[null,null,2021,"M€",null,null,null,null,{"$f":"AL106","v":90.240970432913613},{"$f":"AM106-AL106","v":93.504477473955077},{"$f":"AN106-AM106","v":97.525493862726506},101.28896494971741,104.84475943522119,100.69185579673007,96.371363426360404,91.912833575032096,87.339255421070561,82.668781717634261,80.304613893268083,78.049717694276296,75.886821473348846,73.802111380347469,71.784407290175977,69.824563682699363,67.915026951262462,66.049503476648852,{"$f":"BD106-BC106","v":64.222707427258683},62.43016680416963,null,null,null,2021,"M€",null,null,null,null,{"$f":"IF(BM106>0,BM106,0)","v":90.240970432913613},{"$f":"IF(AL106+BN106>0,AL106+BN106,0)","v":183.74544790686869},{"$f":"IF(AM106+BO106>0,AM106+BO106,0)","v":281.2709417695952},382.55990671931261,487.4046661545338,588.09652195126387,684.46788537762427,776.38071895265637,863.71997437372693,946.38875609136119,1026.6933699846293,1104.7430876789056,1180.6299091522544,1254.4320205326019,1326.2164278227779,1396.0409915054772,1463.9560184567397,1530.0055219333885,{"$f":"IF(BC106+CE106>0,BC106+CE106,0)","v":1594.2282293606472},{"$f":"IF(BD106+CF106>0,BD106+CF106,0)","v":1656.6583961648168},null,2021,"M€",null,null,null,null,{"$f":"($I$58-$H$58)*1000*I$74*8760*($F$79-I$84)/1000000","v":90.240970432913613},{"$f":"($I$58-$H$58)*1000*J$74*8760*($F$79-J$84)/1000000","v":93.504477473955077},{"$f":"($I$58-$H$58)*1000*K$74*8760*($F$79-K$84)/1000000","v":97.525493862726535},101.2889649497174,104.84475943522118,100.69185579673008,96.371363426360432,91.912833575032067,87.339255421070618,82.668781717634289,80.304613893268041,78.049717694276382,75.886821473348874,73.802111380347426,71.784407290175892,69.824563682699377,67.915026951262405,66.049503476648951,64.22270742725874,62.430166804169595]
[null,null,2022,"M€",null,null,null,null,null,{"$f":"AM107","v":90.397322138644185},94.339394682582068,98.034815686687921,101.53134448352108,97.352866615283745,93.009994125956553,88.531715042617748,83.940580387747332,79.25439693715748,76.921071390709585,74.693586727008892,72.555213567393821,70.492571767772006,68.494832219439786,66.553136539253728,64.660168277096091,62.809831411138475,60.997006066201266,59.217360648314298,null,null,null,2022,"M€",null,null,null,null,null,{"$f":"IF(BN107>0,BN107,0)","v":90.397322138644185},184.73671682122625,282.77153250791417,384.30287699143526,481.655743606719,574.66573773267555,663.1974527752933,747.13803316304063,826.39243010019811,903.3135014909077,978.00708821791659,1050.5623017853104,1121.0548735530824,1189.5497057725222,1256.1028423117759,1320.763010588872,1383.5728420000105,1444.5698480662118,{"$f":"IF(BD107+CF107>0,BD107+CF107,0)","v":1503.7872087145261},null,2022,"M€",null,null,null,null,null,{"$f":"($J$58-$I$58)*1000*J$74*8760*($G$79-J$84)/1000000","v":90.397322138644185},{"$f":"($J$58-$I$58)*1000*K$74*8760*($G$79-K$84)/1000000","v":94.339394682582068},98.034815686687935,101.53134448352105,97.352866615283745,93.009994125956567,88.531715042617719,83.940580387747318,79.254396937157438,76.921071390709571,74.693586727008849,72.555213567393892,70.492571767772091,68.494832219439772,66.553136539253728,64.660168277096076,62.809831411138589,60.997006066201322,59.217360648314276]
[null,null,2023,"M€",null,null,null,null,null,null,{"$f":"AN108","v":85.301479001055014},88.695981665605274,91.912580969293458,87.978418635624507,83.893404466389882,79.684138462642863,75.371313899579832,70.971270635518295,68.816601107684278,66.757767241838906,64.779621100464396,62.870047374869728,61.019240640398266,59.219179903737654,57.463240344476162,55.745902202457955,54.06252958827622,52.409200376899207,null,null,null,2023,"M€",null,null,null,null,null,null,{"$f":"IF(BO108>0,BO108,0)","v":85.301479001055014},173.99746066666029,265.91004163595375,353.88846027157825,437.78186473796814,517.466003200611,592.83731710019083,663.80858773570912,732.6251888433934,799.38295608523231,864.1625771856967,927.03262456056643,988.0518652009647,1047.2710451047024,1104.7342854491785,1160.4801876516365,1214.5427172399127,1266.9519176168119,null,2023,"M€",null,null,null,null,null,null,{"$f":"($K$58-$J$58)*1000*K$74*8760*($H$79-K$84)/1000000","v":85.301479001055014},{"$f":"($K$58-$J$58)*1000*L$74*8760*($H$79-L$84)/1000000","v":88.695981665605288},91.912580969293444,87.978418635624521,83.893404466389882,79.684138462642835,75.371313899579789,70.971270635518295,68.81660110768432,66.75776724183892,64.779621100464425,62.870047374869692,61.019240640398223,59.219179903737739,57.463240344476148,55.745902202458019,54.062529588276242,52.4092003768993]
[null,null,2024,"M€",null,null,null,null,null,null,null,{"$f":"AO109","v":85.650740750317183},88.811879076212008,84.853784315200699,80.747826775386443,76.520079391560898,72.190825411598269,67.77608092736142,65.650273679357383,63.617091595920328,61.66189419587306,59.77297203371279,57.940848166789806,56.157770305297618,54.417335560497577,52.714209084357663,51.043910289898804,49.402648443390035,null,null,null,2024,"M€",null,null,null,null,null,null,null,{"$f":"IF(BP109>0,BP109,0)","v":85.650740750317183},174.46261982652919,259.31640414172989,340.06423091711633,416.58431030867723,488.7751357202755,556.55121664763692,622.2014903269943,685.81858192291463,747.48047611878769,807.25344815250048,865.19429631929029,921.35206662458791,975.76940218508548,1028.4836112694431,1079.5275215593419,1128.930170002732,null,2024,"M€",null,null,null,null,null,null,null,{"$f":"($L$58-$K$58)*1000*L$74*8760*($I$79-L$84)/1000000","v":85.650740750317183},{"$f":"($L$58-$K$58)*1000*M$74*8760*($I$79-M$84)/1000000","v":88.811879076211994},84.853784315200699,80.747826775386457,76.52007939156087,72.190825411598283,67.776080927361434,65.650273679357426,63.617091595920307,61.661894195873074,59.772972033712783,57.940848166789806,56.157770305297603,54.417335560497584,52.714209084357663,51.04391028989869,49.402648443390042]
[null,null,2025,"M€",null,null,null,null,null,null,null,null,{"$f":"AP110","v":85.711177183133799},81.729149994779988,77.602249084386017,73.356020320481775,69.010336923619491,64.58089121920716,62.483946251033046,60.476415950004139,58.544167291284111,56.67589669255824,54.862455693183733,53.096360706859741,51.371430776521265,49.682515966259416,48.025290991523207,46.396096509882796,null,null,null,2025,"M€",null,null,null,null,null,null,null,null,{"$f":"IF(BQ110>0,BQ110,0)","v":85.711177183133799},167.44032717791379,245.0425762622998,318.39859658278158,387.40893350640107,451.98982472560823,514.47377097664128,574.95018692664542,633.49435421792953,690.17025091048777,745.0327066036715,798.12906731053124,849.50049808705251,899.18301405331192,947.20830504483513,993.60440155471792,null,2025,"M€",null,null,null,null,null,null,null,null,{"$f":"($M$58-$L$58)*1000*M$74*8760*($J$79-M$84)/1000000","v":85.711177183133799},{"$f":"($M$58-$L$58)*1000*N$74*8760*($J$79-N$84)/1000000","v":81.729149994779988},77.602249084386031,73.356020320481775,69.010336923619491,64.58089121920716,62.483946251033089,60.476415950004167,58.544167291284154,56.675896692558226,54.862455693183705,53.096360706859706,51.371430776521215,49.682515966259459,48.025290991523242,46.396096509882824]
[null,null,2026,"M€",null,null,null,null,null,null,null,null,null,{"$f":"AQ111","v":86.906432482469555},82.320508304199834,77.605375324807284,72.782552367655313,67.869031161775695,65.582525266016205,63.391328104004401,61.28037502534039,59.237617334305355,57.253303518899656,55.319456687221873,53.429488443765536,51.577909377385936,49.760109087945921,47.97218701523002,null,null,null,2026,"M€",null,null,null,null,null,null,null,null,null,{"$f":"IF(BR111>0,BR111,0)","v":86.906432482469555},169.22694078666939,246.83231611147667,319.61486847913199,387.48389964090768,453.06642490692388,516.45775301092829,577.73812803626868,636.97574537057403,694.22904888947369,749.54850557669556,802.9779940204611,854.55590339784703,904.31601248579295,952.28819950102297,null,2026,"M€",null,null,null,null,null,null,null,null,null,{"$f":"($N$58-$M$58)*1000*N$74*8760*($K$79-N$84)/1000000","v":86.906432482469555},{"$f":"($N$58-$M$58)*1000*O$74*8760*($K$79-O$84)/1000000","v":82.320508304199819},77.605375324807284,72.782552367655313,67.869031161775723,65.582525266016219,63.391328104004437,61.280375025340426,59.23761733430532,57.253303518899628,55.31945668722183,53.429488443765578,51.577909377385978,49.760109087945878,47.97218701522997]
[null,null,2027,"M€",null,null,null,null,null,null,null,null,null,null,{"$f":"AR112","v":78.842706388183444},74.107140094034207,69.266152506029215,64.336377391735908,62.081782102533396,59.918945968851233,57.833365392282872,55.813440406059044,53.849782673236064,51.93471238488371,50.061886516767572,48.226020099597463,46.42267443812932,44.648094240509749,null,null,null,2027,"M€",null,null,null,null,null,null,null,null,null,null,{"$f":"IF(BS112>0,BS112,0)","v":78.842706388183444},152.94984648221765,222.21599898824687,286.55237637998277,348.63415848251617,408.5531044513674,466.38646984365027,522.19991024970932,576.04969292294538,627.98440530782909,678.04629182459666,726.27231192419413,772.69498636232345,817.3430806028332,null,2027,"M€",null,null,null,null,null,null,null,null,null,null,{"$f":"($O$58-$N$58)*1000*O$74*8760*($L$79-O$84)/1000000","v":78.842706388183444},{"$f":"($O$58-$N$58)*1000*P$74*8760*($L$79-P$84)/1000000","v":74.107140094034193},69.266152506029215,64.336377391735894,62.08178210253341,59.918945968851226,57.833365392282843,55.813440406059058,53.849782673236078,51.934712384883674,50.061886516767551,48.226020099597442,46.422674438129313,44.6480942405097]
[null,null,2028,"M€",null,null,null,null,null,null,null,null,null,null,null,{"$f":"AS113","v":70.608904863280571},65.749752644421193,60.803723621712777,58.581038939066701,56.446563833713498,54.386355759240189,52.389263477827228,50.446261827586397,48.549968082558792,46.694284589782342,44.874130821821154,43.085239788324543,41.324001465800734,null,null,null,2028,"M€",null,null,null,null,null,null,null,null,null,null,null,{"$f":"IF(BT113>0,BT113,0)","v":70.608904863280571},136.35865750770176,197.16238112941454,255.74342006848124,312.18998390219474,366.57633966143493,418.96560313926216,469.41186496684855,517.96183304940735,564.65611763918969,609.53024846101084,652.61548824933539,693.93948971513612,null,2028,"M€",null,null,null,null,null,null,null,null,null,null,null,{"$f":"($P$58-$O$58)*1000*P$74*8760*($M$79-P$84)/1000000","v":70.608904863280571},{"$f":"($P$58-$O$58)*1000*Q$74*8760*($M$79-Q$84)/1000000","v":65.749752644421207},{"$f":"($P$58-$O$58)*1000*R$74*8760*($M$79-R$84)/1000000","v":60.803723621712777},58.581038939066708,56.446563833713526,54.386355759240189,52.3892634778272,50.446261827586383,48.549968082558834,46.694284589782349,44.874130821821183,43.085239788324564,41.324001465800734]
[null,null,2029,"M€",null,null,null,null,null,null,null,null,null,null,null,null,{"$f":"AT114","v":58.791937192332504},53.813746953734373,51.654203017342766,49.575845193561122,47.565841076001163,45.613927315975047,43.711797357303283,41.852656304924778,40.030892016085488,38.24182848750803,36.4815384771656,34.746699400564182,null,null,null,2029,"M€",null,null,null,null,null,null,null,null,null,null,null,null,{"$f":"IF(BU114>0,BU114,0)","v":58.791937192332504},112.60568414606688,164.25988716340964,213.83573235697077,261.40157343297193,307.01550074894698,350.72729810625026,392.57995441117504,432.61084642726053,470.85267491476856,507.33421339193416,542.08091279249834,null,2029,"M€",null,null,null,null,null,null,null,null,null,null,null,null,{"$f":"($Q$58-$P$58)*1000*Q$74*8760*($N$79-Q$84)/1000000","v":58.791937192332504},{"$f":"($Q$58-$P$58)*1000*R$74*8760*($N$79-R$84)/1000000","v":53.813746953734373},51.654203017342766,49.575845193561122,47.565841076001149,45.613927315975069,43.711797357303261,41.852656304924786,40.030892016085467,38.241828487508045,36.481538477165586,34.746699400564196]
[null,null,2030,"M€",null,null,null,null,null,null,null,null,null,null,null,null,null,{"$f":"AU115","v":46.823770285809061},44.727367095669734,42.705126553457475,40.745326392808835,38.838591154167688,36.977332887062914,35.155344527331579,33.367499442427572,31.609526153232082,29.877837166041957,28.169397335361225,null,null,null,2030,"M€",null,null,null,null,null,null,null,null,null,null,null,null,null,{"$f":"IF(BV115>0,BV115,0)","v":46.823770285809061},91.551137381478796,134.25626393493627,175.00159032774511,213.84018148191279,250.81751436897571,285.97285889630729,319.34035833873486,350.94988449196694,380.8277216580089,408.99711899337012,null,2030,"M€",null,null,null,null,null,null,null,null,null,null,null,null,null,{"$f":"($R$58-$Q$58)*1000*R$74*8760*($O$79-R$84)/1000000","v":46.823770285809061},{"$f":"($R$58-$Q$58)*1000*S$74*8760*($O$79-S$84)/1000000","v":44.727367095669734},42.705126553457482,40.745326392808828,38.838591154167673,36.9773328870629,35.155344527331593,33.367499442427594,31.609526153232061,29.877837166041967,28.169397335361236]
[null,null,2031,"M€",null,null,null,null,null,null,null,null,null,null,null,null,null,null,{"$f":"AV116","v":44.976085434703606},42.636739266820186,40.364650506750721,38.149720415649966,35.983775662950023,33.860130334258969,31.773262297789017,29.718570546853925,27.692190826928595,25.690853843154571,null,null,null,2031,"M€",null,null,null,null,null,null,null,null,null,null,null,null,null,null,{"$f":"IF(BW116>0,BW116,0)","v":44.976085434703606},87.612824701523792,127.97747520827451,166.12719562392448,202.1109712868745,235.97110162113347,267.74436391892249,297.46293446577641,325.15512529270501,350.84597913585958,null,2031,"M€",null,null,null,null,null,null,null,null,null,null,null,null,null,null,{"$f":"($S$58-$R$58)*1000*S$74*8760*($P$79-S$84)/1000000","v":44.976085434703606},{"$f":"($S$58-$R$58)*1000*T$74*8760*($P$79-T$84)/1000000","v":42.636739266820186},{"$f":"($S$58-$R$58)*1000*U$74*8760*($P$79-U$84)/1000000","v":40.364650506750728},38.149720415649952,35.983775662950023,33.860130334258983,31.773262297788992,29.718570546853925,27.692190826928606,25.690853843154571]
[null,null,2032,"M€",null,null,null,null,null,null,null,null,null,null,null,null,null,null,null,{"$f":"AW117","v":34.461774022707516},32.249419276555827,30.08824380145002,27.970929283160288,25.891489224257029,23.844979166014639,21.827279415436038,19.834929959660627,17.865003506455906,null,null,null,2032,"M€",null,null,null,null,null,null,null,null,null,null,null,null,null,null,null,{"$f":"IF(BX117>0,BX117,0)","v":34.461774022707516},66.711193299263343,96.799437100713362,124.77036638387365,150.66185560813068,174.50683477414532,196.33411418958136,216.16904414924198,234.03404765569789,null,2032,"M€",null,null,null,null,null,null,null,null,null,null,null,null,null,null,null,{"$f":"($T$58-$S$58)*1000*T$74*8760*($Q$79-T$84)/1000000","v":34.461774022707516},{"$f":"($T$58-$S$58)*1000*U$74*8760*($Q$79-U$84)/1000000","v":32.249419276555827},30.088243801450023,27.970929283160292,25.891489224257036,23.844979166014625,21.827279415436042,19.834929959660634,17.865003506455899]
[null,null,2033,"M€",null,null,null,null,null,null,null,null,null,null,null,null,null,null,null,null,{"$f":"AX118","v":24.134188046353479},22.02676718724296,19.958082903363731,17.92284811424858,15.916696034234022,13.935988284012211,11.977669092387004,10.039153169751856,null,null,null,2033,"M€",null,null,null,null,null,null,null,null,null,null,null,null,null,null,null,null,{"$f":"IF(BY118>0,BY118,0)","v":24.134188046353479},46.160955233596439,66.119038136960171,84.041886251208751,99.958582285442773,113.89457056945498,125.87223966184199,135.91139283159384,null,2033,"M€",null,null,null,null,null,null,null,null,null,null,null,null,null,null,null,null,{"$f":"($U$58-$T$58)*1000*U$74*8760*($R$79-U$84)/1000000","v":24.134188046353479},{"$f":"($U$58-$T$58)*1000*V$74*8760*($R$79-V$84)/1000000","v":22.026767187242964},19.958082903363735,17.922848114248573,15.916696034234024,13.935988284012213,11.977669092387007,10.039153169751849]
[null,null,2034,"M€",null,null,null,null,null,null,null,null,null,null,null,null,null,null,null,null,null,{"$f":"AY119","v":16.969283832171573},14.931108425617737,12.923606448598779,10.942773526959265,8.9852732404601028,7.0483034247302498,5.1294933504318152,null,null,null,2034,"M€",null,null,null,null,null,null,null,null,null,null,null,null,null,null,null,null,null,{"$f":"IF(BZ119>0,BZ119,0)","v":16.969283832171573},31.90039225778931,44.823998706388089,55.766772233347353,64.752045473807456,71.800348898537706,76.929842248969521,null,2034,"M€",null,null,null,null,null,null,null,null,null,null,null,null,null,null,null,null,null,{"$f":"($V$58-$U$58)*1000*V$74*8760*($S$79-V$84)/1000000","v":16.969283832171573},{"$f":"($V$58-$U$58)*1000*W$74*8760*($S$79-W$84)/1000000","v":14.931108425617737},{"$f":"($V$58-$U$58)*1000*X$74*8760*($S$79-X$84)/1000000","v":12.923606448598777},10.942773526959261,8.985273240460101,7.0483034247302481,5.1294933504318116]
[null,null,2035,"M€",null,null,null,null,null,null,null,null,null,null,null,null,null,null,null,null,null,null,{"$f":"AZ120","v":9.9041339478728272},7.9243647829502084,5.9688510196858608,4.0345581969094866,2.1189377570751198,0.2198335311135402,null,null,null,2035,"M€",null,null,null,null,null,null,null,null,null,null,null,null,null,null,null,null,null,null,{"$f":"IF(CA120>0,CA120,0)","v":9.9041339478728272},17.828498730823036,23.797349750508896,27.831907947418383,29.950845704493503,30.170679235607043,null,2035,"M€",null,null,null,null,null,null,null,null,null,null,null,null,null,null,null,null,null,null,{"$f":"($W$58-$V$58)*1000*W$74*8760*($T$79-W$84)/1000000","v":9.9041339478728272},{"$f":"($W$58-$V$58)*1000*X$74*8760*($T$79-X$84)/1000000","v":7.9243647829502084},5.9688510196858608,4.0345581969094857,2.1189377570751211,0.21983353111354054]
[null,null,2036,"M€",null,null,null,null,null,null,null,null,null,null,null,null,null,null,null,null,null,null,null,{"$f":"BA121","v":2.9251231173017946},0.99492851241219116,-0.91615684664182284,-2.8104279105811178,-0.19346687249104511,null,null,null,2036,"M€",null,null,null,null,null,null,null,null,null,null,null,null,null,null,null,null,null,null,null,{"$f":"IF(CB121>0,CB121,0)","v":2.9251231173017946},3.9200516297139858,3.003894783072163,0.19346687249104511,0,null,2036,"M€",null,null,null,null,null,null,null,null,null,null,null,null,null,null,null,null,null,null,null,{"$f":"($X$58-$W$58)*1000*X$74*8760*($U$79-X$84)/1000000","v":2.9251231173017946},{"$f":"($X$58-$W$58)*1000*Y$74*8760*($U$79-Y$84)/1000000","v":0.99492851241219105},-0.91615684664182284,-2.8104279105811178,-4.6898262882062589]
[null,null,2037,"M€",null,null,null,null,null,null,null,null,null,null,null,null,null,null,null,null,null,null,null,null,{"$f":"BB122","v":0},{"$f":"BC122-BB122","v":0},0,0,null,null,null,2037,"M€",null,null,null,null,null,null,null,null,null,null,null,null,null,null,null,null,null,null,null,null,{"$f":"IF(CC122>0,CC122,0)","v":0},{"$f":"IF(BB122+CD122>0,BB122+CD122,0)","v":0},0,0,null,2037,"M€",null,null,null,null,null,null,null,null,null,null,null,null,null,null,null,null,null,null,null,null,{"$f":"($Y$58-$X$58)*1000*Y$74*8760*($V$79-Y$84)/1000000","v":-3.9789939948608395},{"$f":"($Y$58-$X$58)*1000*Z$74*8760*($V$79-Z$84)/1000000","v":-5.8668718901920718},-7.7397935782358793,-9.5994861075241662]
[null,null,2038,"M€",null,null,null,null,null,null,null,null,null,null,null,null,null,null,null,null,null,null,null,null,null,{"$f":"BC123","v":0},0,0,null,null,null,2038,"M€",null,null,null,null,null,null,null,null,null,null,null,null,null,null,null,null,null,null,null,null,null,{"$f":"IF(CD123>0,CD123,0)","v":0},0,0,null,2038,"M€",null,null,null,null,null,null,null,null,null,null,null,null,null,null,null,null,null,null,null,null,null,{"$f":"($Z$58-$Y$58)*1000*Z$74*8760*($W$79-Z$84)/1000000","v":-10.81758693373928},{"$f":"($Z$58-$Y$58)*1000*AA$74*8760*($W$79-AA$84)/1000000","v":-12.669159245887064},-14.509145926837965]
[null,null,2039,"M€",null,null,null,null,null,null,null,null,null,null,null,null,null,null,null,null,null,null,null,null,null,null,{"$f":"BD124","v":0},0,null,null,null,2039,"M€",null,null,null,null,null,null,null,null,null,null,null,null,null,null,null,null,null,null,null,null,null,null,{"$f":"IF(CE124>0,CE124,0)","v":0},0,null,2039,"M€",null,null,null,null,null,null,null,null,null,null,null,null,null,null,null,null,null,null,null,null,null,null,{"$f":"($AA$58-$Z$58)*1000*AA$74*8760*($X$79-AA$84)/1000000","v":-17.457718142788135},{"$f":"($AA$58-$Z$58)*1000*AB$74*8760*($X$79-AB$84)/1000000","v":-19.278561870723891}]
[null,null,2040,"M€",null,null,null,null,null,null,null,null,null,null,null,null,null,null,null,null,null,null,null,null,null,null,null,{"$f":"BE125","v":0},null,null,null,2040,"M€",null,null,null,null,null,null,null,null,null,null,null,null,null,null,null,null,null,null,null,null,null,null,null,{"$f":"IF(CF125>0,CF125,0)","v":0},null,2040,"M€",null,null,null,null,null,null,null,null,null,null,null,null,null,null,null,null,null,null,null,null,null,null,null,{"$f":"($AB$58-$AA$58)*1000*AB$74*8760*($Y$79-AB$84)/1000000","v":-24.04797781460729}]
[null,null,"Total","M€",null,{"$f":"SUM(F106:F125)","v":0},{"$f":"SUM(G106:G125)","v":0},0,90.240970432913613,183.90179961259926,277.16636754636363,373.67050305232777,472.81174114738155,539.51250784008857,592.78805257086265,632.32620707445744,654.44270675405369,658.89807085164637,681.77950817738474,692.73090215216394,691.98723910369779,682.74045417410912,665.0882924970407,639.11071114638423,608.85274347577706,579.11688991743699,549.84044647096619,{"$f":"SUM(AB106:AB125)","v":525.4667227685386},null,null,null,"Total","M€",null,{"$f":"SUM(AI106:AI125)","v":0},{"$f":"SUM(AJ106:AJ125)","v":0},0,90.240970432913613,274.14277004551286,551.30913759187649,924.97964064420432,1397.7913817915858,1937.3038896316743,2530.0919422025372,3162.4181492769944,3816.8608560310486,4475.7589268826941,5157.5384350600789,5850.269337212243,6542.2565763159409,7224.9970304900507,7890.0853229870918,8529.1960341334761,9138.0487776092505,9717.1656675266895,10267.006113997657,{"$f":"SUM(BE106:BE125)","v":10792.472836766194},null,"Total","M€",null,{"$f":"SUM(BJ106:BJ125)","v":0},{"$f":"SUM(BK106:BK125)","v":0},0,90.240970432913613,183.90179961259926,277.16636754636363,373.67050305232783,472.81174114738144,539.51250784008857,592.78805257086265,632.32620707445733,654.44270675405369,658.89807085164637,681.77950817738486,692.73090215216416,691.98723910369802,682.74045417410912,665.08829249704036,639.11071114638423,604.87374948091622,562.43243109350601,511.97377550405503,{"$f":"SUM(CF106:CF125)","v":453.53519163312995}]
[null,null,{"$f":"C7","v":"Eolien en mer"}]
[null,null,2025,"M€",null,null,null,null,null,null,null,null,{"$f":"($M$59-3)*1000*M$75*8760*($F$80-M$85)/1000000","v":8.8744197262916426E-4},{"$f":"($M$59-3)*1000*N$75*8760*($F$80-N$85)/1000000","v":-1.3261570071992279},-2.6278190802229213,-3.9151584717540269,-5.1936244509555634,-6.4662130708017145,-7.5828651210131293,-8.6432792110026746,-9.6674267718724565,-10.666823715713848,-11.648577005415991,-12.617310336522294,-13.576161612724512,-14.527335376790456,-15.472425822874168,-16.412614348959494]
[null,null,2026,"M€",null,null,null,null,null,null,null,null,null,{"$f":"IF(Start!$D$3=\"PPE - AMPERE\",0.2*1000*N$75*8760*($G$80-N$85)/1000000+($N$59-$M$59+0.2)*1000*N$75*8760*($H$80-N$85)/1000000,($N$59-$M$59)*1000*N$75*8760*($G$80-N$85)/1000000)","v":32.207408068569094},{"$f":"IF(Start!$D$3=\"PPE - AMPERE\",0.2*1000*O$75*8760*($G$80-O$85)/1000000+($N$59-$M$59+0.2)*1000*O$75*8760*($H$80-O$85)/1000000,($N$59-$M$59)*1000*O$75*8760*($G$80-O$85)/1000000)","v":27.892931779519643},{"$f":"IF(Start!$D$3=\"PPE - AMPERE\",0.2*1000*P$75*8760*($G$80-P$85)/1000000+($N$59-$M$59+0.2)*1000*P$75*8760*($H$80-P$85)/1000000,($N$59-$M$59)*1000*P$75*8760*($G$80-P$85)/1000000)","v":23.722802465469425},{"$f":"IF(Start!$D$3=\"PPE - AMPERE\",0.2*1000*Q$75*8760*($G$80-Q$85)/1000000+($N$59-$M$59+0.2)*1000*Q$75*8760*($H$80-Q$85)/1000000,($N$59-$M$59)*1000*Q$75*8760*($G$80-Q$85)/1000000)","v":19.642101253864084},{"$f":"IF(Start!$D$3=\"PPE - AMPERE\",0.2*1000*R$75*8760*($G$80-R$85)/1000000+($N$59-$M$59+0.2)*1000*R$75*8760*($H$80-R$85)/1000000,($N$59-$M$59)*1000*R$75*8760*($G$80-R$85)/1000000)","v":15.620633297178532},{"$f":"IF(Start!$D$3=\"PPE - AMPERE\",0.2*1000*S$75*8760*($G$80-S$85)/1000000+($N$59-$M$59+0.2)*1000*S$75*8760*($H$80-S$85)/1000000,($N$59-$M$59)*1000*S$75*8760*($G$80-S$85)/1000000)","v":14.648362234581857},{"$f":"IF(Start!$D$3=\"PPE - AMPERE\",0.2*1000*T$75*8760*($G$80-T$85)/1000000+($N$59-$M$59+0.2)*1000*T$75*8760*($H$80-T$85)/1000000,($N$59-$M$59)*1000*T$75*8760*($G$80-T$85)/1000000)","v":13.19454155756253},{"$f":"IF(Start!$D$3=\"PPE - AMPERE\",0.2*1000*U$75*8760*($G$80-U$85)/1000000+($N$59-$M$59+0.2)*1000*U$75*8760*($H$80-U$85)/1000000,($N$59-$M$59)*1000*U$75*8760*($G$80-U$85)/1000000)","v":11.430180934843715},{"$f":"IF(Start!$D$3=\"PPE - AMPERE\",0.2*1000*V$75*8760*($G$80-V$85)/1000000+($N$59-$M$59+0.2)*1000*V$75*8760*($H$80-V$85)/1000000,($N$59-$M$59)*1000*V$75*8760*($G$80-V$85)/1000000)","v":9.4538878373365609},{"$f":"IF(Start!$D$3=\"PPE - AMPERE\",0.2*1000*W$75*8760*($G$80-W$85)/1000000+($N$59-$M$59+0.2)*1000*W$75*8760*($H$80-W$85)/1000000,($N$59-$M$59)*1000*W$75*8760*($G$80-W$85)/1000000)","v":7.3265171613727942},{"$f":"IF(Start!$D$3=\"PPE - AMPERE\",0.2*1000*X$75*8760*($G$80-X$85)/1000000+($N$59-$M$59+0.2)*1000*X$75*8760*($H$80-X$85)/1000000,($N$59-$M$59)*1000*X$75*8760*($G$80-X$85)/1000000)","v":5.0876602932225943},{"$f":"IF(Start!$D$3=\"PPE - AMPERE\",0.2*1000*Y$75*8760*($G$80-Y$85)/1000000+($N$59-$M$59+0.2)*1000*Y$75*8760*($H$80-Y$85)/1000000,($N$59-$M$59)*1000*Y$75*8760*($G$80-Y$85)/1000000)","v":2.7641862072628856},{"$f":"IF(Start!$D$3=\"PPE - AMPERE\",0.2*1000*Z$75*8760*($G$80-Z$85)/1000000+($N$59-$M$59+0.2)*1000*Z$75*8760*($H$80-Z$85)/1000000,($N$59-$M$59)*1000*Z$75*8760*($G$80-Z$85)/1000000)","v":0.37497177450157793},{"$f":"IF(Start!$D$3=\"PPE - AMPERE\",0.2*1000*AA$75*8760*($G$80-AA$85)/1000000+($N$59-$M$59+0.2)*1000*AA$75*8760*($H$80-AA$85)/1000000,($N$59-$M$59)*1000*AA$75*8760*($G$80-AA$85)/1000000)","v":-2.0663323751965468},{"$f":"IF(Start!$D$3=\"PPE - AMPERE\",0.2*1000*AB$75*8760*($G$80-AB$85)/1000000+($N$59-$M$59+0.2)*1000*AB$75*8760*($H$80-AB$85)/1000000,($N$59-$M$59)*1000*AB$75*8760*($G$80-AB$85)/1000000)","v":-4.5496102678184878}]
[null,null,2027,"M€",null,null,null,null,null,null,null,null,null,null,{"$f":"($O$59-$N$59)*1000*O$75*8760*($I$80-O$85)/1000000","v":23.157936907663188},{"$f":"($O$59-$N$59)*1000*P$75*8760*($I$80-P$85)/1000000","v":20.263422377363099},17.437310159841314,14.656504635843447,14.257526373278511,13.455071471981105,12.392424038636099,11.152204450720209,9.7854012840454985,8.3251870279600997,6.7940744270355236,5.2078798711838257,3.5780408324530644,1.9130331959230749]
[null,null,2028,"M€",null,null,null,null,null,null,null,null,null,null,null,{"$f":"($P$59-$O$59)*1000*P$75*8760*($K$80-P$85)/1000000","v":18.426578609063842},{"$f":"($P$59-$O$59)*1000*Q$75*8760*($K$80-Q$85)/1000000","v":15.609921951120915},12.836443579098916,12.312203621962503,11.418124435056255,10.285544684780104,8.990196777513761,7.5788184269069276,6.0818165679152596,4.5198270820570094,2.9073477640032639,1.2548625561849032,-0.42985928164749343]
[null,null,2029,"M€",null,null,null,null,null,null,null,null,null,null,null,null,{"$f":"($Q$59-$P$59)*1000*Q$75*8760*($L$80-Q$85)/1000000","v":14.696227846748748},{"$f":"($Q$59-$P$59)*1000*R$75*8760*($L$80-R$85)/1000000","v":11.926413050716832},11.339542246295094,10.399650916585127,9.2321050078442823,7.9091929409037229,6.475526998331925,4.9601313378882885,3.3827034095644124,1.7570817104108936,9.3273418050015489E-2,-1.6013055204322779]
[null,null,2030,"M€",null,null,null,null,null,null,null,null,null,null,null,null,null,{"$f":"($R$59-$Q$59)*1000*R$75*8760*($M$80-R$85)/1000000","v":11.016382522345848},{"$f":"($R$59-$Q$59)*1000*S$75*8760*($M$80-S$85)/1000000","v":10.366880870638253},9.3811773981237021,8.1786653309170951,6.8281891043011003,5.372235569763018,3.8384461078660137,2.2455797370750603,0.60681565682027161,-1.0683157200846574,-2.7727517592184094]
[null,null,2031,"M€",null,null,null,null,null,null,null,null,null,null,null,null,null,null,{"$f":"($S$59-$R$59)*1000*S$75*8760*($N$80-S$85)/1000000","v":15.321633548279086},{"$f":"($S$59-$R$59)*1000*T$75*8760*($N$80-T$85)/1000000","v":13.639268742379841},11.620986339264006,9.3734521162486928,6.9624940959046961,4.4309391142978285,1.8078519066975118,-0.88634801810255692,-3.6368944863842265,-6.4328448360808483]
[null,null,2032,"M€",null,null,null,null,null,null,null,null,null,null,null,null,null,null,null,{"$f":"($T$59-$S$59)*1000*T$75*8760*($O$80-T$85)/1000000","v":11.978175126578035},{"$f":"($T$59-$S$59)*1000*U$75*8760*($O$80-U$85)/1000000","v":9.902864178740149},7.6103738043561373,5.1630655244768242,2.6015109153786327,-4.6755835679837834E-2,-2.762390510571211,-5.5314045218036174,-8.3434314475375313]
[null,null,2033,"M€",null,null,null,null,null,null,null,null,null,null,null,null,null,null,null,null,{"$f":"($U$59-$T$59)*1000*U$75*8760*($P$80-U$85)/1000000","v":8.1847420182147577},{"$f":"($U$59-$T$59)*1000*V$75*8760*($P$80-V$85)/1000000","v":5.8472954924622345},3.363636953047811,0.77208271645851656,-1.9013635780578779,-4.6384330030403182,-7.4259145572232192,-10.254018058994177]
[null,null,2034,"M€",null,null,null,null,null,null,null,null,null,null,null,null,null,null,null,null,null,{"$f":"($V$59-$U$59)*1000*V$75*8760*($Q$80-V$85)/1000000","v":4.0842171805688325},{"$f":"($V$59-$U$59)*1000*W$75*8760*($Q$80-W$85)/1000000","v":1.5642083816193095},-1.0573454824610795,-3.7559713204353908,-6.5144754955088926,-9.3204245926422828,-12.164604670450281]
[null,null,2035,"M€",null,null,null,null,null,null,null,null,null,null,null,null,null,null,null,null,null,null,{"$f":"($W$59-$V$59)*1000*W$75*8760*($R$80-W$85)/1000000","v":-0.23522018980919232},{"$f":"($W$59-$V$59)*1000*X$75*8760*($R$80-X$85)/1000000","v":-2.8867736813806757},-5.6105790628129038,-8.3905179879774678,-11.214934628061346,-14.075191281906385]
[null,null,2036,"M€",null,null,null,null,null,null,null,null,null,null,null,null,null,null,null,null,null,null,null,{"$f":"($X$59-$W$59)*1000*X$75*8760*($S$80-X$85)/1000000","v":-4.7162018803002717},{"$f":"($X$59-$W$59)*1000*Y$75*8760*($S$80-Y$85)/1000000","v":-7.4651868051904167},-10.26656048044604,-13.109444663480408,-15.985777893362489]
[null,null,2037,"M€",null,null,null,null,null,null,null,null,null,null,null,null,null,null,null,null,null,null,null,null,{"$f":"($Y$59-$X$59)*1000*Y$75*8760*($T$80-Y$85)/1000000","v":-9.3197945475649799},{"$f":"($Y$59-$X$59)*1000*Z$75*8760*($T$80-Z$85)/1000000","v":-12.142602972910771},-15.003954698894722,-17.896364504812919]
[null,null,2038,"M€",null,null,null,null,null,null,null,null,null,null,null,null,null,null,null,null,null,null,null,null,null,{"$f":"($Z$59-$Y$59)*1000*Z$75*8760*($U$80-Z$85)/1000000","v":-14.018645465388166},{"$f":"($Z$59-$Y$59)*1000*AA$75*8760*($U$80-AA$85)/1000000","v":-16.898464734324428},-19.80695111628151]
[null,null,2039,"M€",null,null,null,null,null,null,null,null,null,null,null,null,null,null,null,null,null,null,null,null,null,null,{"$f":"($AA$59-$Z$59)*1000*AA$75*8760*($V$80-AA$85)/1000000","v":-18.79297476973219},{"$f":"($AA$59-$Z$59)*1000*AB$75*8760*($V$80-AB$85)/1000000","v":-21.717537727724455}]
[null,null,2040,"M€",null,null,null,null,null,null,null,null,null,null,null,null,null,null,null,null,null,null,null,null,null,null,null,{"$f":"($AB$59-$AA$59)*1000*AB$75*8760*($W$80-AB$85)/1000000","v":-23.628124339192823}]
[null,null,"Total","M€",null,{"$f":"SUM(F128:F143)","v":0},{"$f":"SUM(G128:G143)","v":0},0,0,0,0,0,{"$f":"SUM(M128:M143)","v":8.8744197262916426E-4},{"$f":"SUM(N128:N143)","v":30.881251061369866},48.423049606959907,58.49764498014234,62.191936760619498,59.590164014381863,70.663283774022176,74.822730437263914,71.560085761367759,60.582185988697411,41.708107200243617,14.820142700322911,-20.161589992773514,-63.293212533816053,-114.61530876401383,-174.15795385849651]
[null,null,{"$f":"'Données de production'!C8","v":"PV au sol"},null,null,null,null,null,null,null,null,null,null,null,null,null,null,null,null,null,null,null,null,null,null,null,null,null,null,null,null,{"$f":"C145","v":"PV au sol"},null,null,null,null,null,null,null,null,null,null,null,null,null,null,null,null,null,null,null,null,null,null,null,null,null,null,{"$f":"AF145","v":"PV au sol"}]
[null,null,2020,"M€",null,null,null,{"$f":"AK146","v":32.220226162647918},{"$f":"AL146-AK146","v":32.378888702343801},{"$f":"AM146-AL146","v":32.546357903890225},32.795592063675684,33.031292761795783,33.258271529295115,31.812172533163022,30.35890029342761,28.900171850804782,27.437196735091902,25.97085157113446,24.940625348038338,23.910655937194917,22.880918963142108,21.851393040623975,20.822059329714193,19.792901168066578,18.763903765139389,{"$f":"BC146-BB146","v":17.735053946529774},16.706339939105533,0,null,null,null,2020,"M€",null,null,null,{"$f":"IF(BL146>0,BL146,0)","v":32.220226162647918},{"$f":"IF(AK146+BM146>0,AK146+BM146,0)","v":64.599114864991719},{"$f":"IF(AL146+BN146>0,AL146+BN146,0)","v":97.145472768881945},129.94106483255763,162.97235759435341,196.23062912364853,228.04280165681155,258.40170195023916,287.30187380104394,314.73907053613584,340.7099221072703,365.65054745530864,389.56120339250356,412.44212235564567,434.29351539626964,455.11557472598383,474.90847589405041,493.6723796591898,{"$f":"IF(BB146+CD146>0,BB146+CD146,0)","v":511.40743360571958},528.11377354482511,528.11377354482511,null,2020,"M€",null,null,null,{"$f":"($H$60-$G$60)*1000*H$76*8760*($F$81-H$86)/1000000","v":32.220226162647918},{"$f":"($H$60-$G$60)*1000*I$76*8760*($F$81-I$86)/1000000","v":32.378888702343794},32.546357903890218,32.79559206367567,33.03129276179579,33.258271529295122,31.812172533163007,30.358900293427617,28.90017185080481,27.437196735091909,25.970851571134435,24.940625348038353,23.910655937194939,22.880918963142125,21.851393040624004,20.822059329714207,19.792901168066571,18.763903765139379,17.735053946529789,16.706339939105561]
[null,null,2021,"M€",null,null,null,null,{"$f":"AL147","v":29.446251095561053},29.616383691531077,29.860932614939138,30.093207863335707,30.317573077732149,28.868902876617256,27.413505317142466,25.952990709629347,24.488493400106563,23.020835522856657,21.990818607337701,20.961044826994453,19.93149110453129,18.902137193609178,17.872965257661633,16.843959521730881,15.815105982976547,14.786392168626378,13.757806932551091,12.729340283448551,null,null,null,2021,"M€",null,null,null,null,{"$f":"IF(BM147>0,BM147,0)","v":29.446251095561053},59.062634787092129,88.923567402031267,119.01677526536697,149.33434834309912,178.20325121971638,205.61675653685884,231.56974724648819,256.05824064659475,279.07907616945141,301.06989477678911,322.03093960378357,341.96243070831486,360.86456790192403,378.73753315958567,395.58149268131655,411.39659866429309,426.18299083291947,439.94079776547056,452.67013804891911,null,2021,"M€",null,null,null,null,{"$f":"($I$60-$H$60)*1000*I$76*8760*($G$81-I$86)/1000000","v":29.446251095561053},{"$f":"($I$60-$H$60)*1000*J$76*8760*($G$81-J$86)/1000000","v":29.616383691531077},{"$f":"($I$60-$H$60)*1000*K$76*8760*($G$81-K$86)/1000000","v":29.860932614939145},30.093207863335707,30.317573077732135,28.868902876617248,27.413505317142459,25.952990709629354,24.48849340010656,23.020835522856657,21.990818607337694,20.961044826994446,19.931491104531304,18.9021371936092,17.872965257661654,16.843959521730888,15.815105982976569,14.786392168626401,13.757806932551107,12.729340283448536]
[null,null,2022,"M€",null,null,null,null,null,{"$f":"($J$60-$I$60)*1000*J$76*8760*($H$81-J$86)/1000000","v":26.686409479172472},26.926273166203163,27.155122964876167,27.376874626169673,25.92563322007204,24.468110340857859,23.005809568454453,21.539790065121778,20.070819474579434,19.041011866637611,18.011433716794524,16.982063245921058,15.952881346594987,14.923871185609697,13.895017875395801,12.866308200814357,11.837730390723619,10.809273925997262,9.7809293773735533]
[null,null,2023,"M€",null,null,null,null,null,null,{"$f":"($K$60-$J$60)*1000*K$76*8760*($I$81-K$86)/1000000","v":36.962792723970516},37.310093809394708,37.647709968372602,35.407886718645244,33.159072842963404,30.903420404142171,28.642445373280761,26.377246473150326,24.79099100015452,23.205067971206677,21.619445832215213,20.034096899917621,18.448996785985944,16.864123920975345,15.279459158495614,13.694985444252151,12.110687537898475,10.52655177810829]
[null,null,2024,"M€",null,null,null,null,null,null,null,{"$f":"($L$60-$K$60)*1000*L$76*8760*($J$81-L$86)/1000000","v":32.783519466110874},33.117109042185398,30.873324453386441,28.621236193834235,26.362831891659017,24.099511685732512,21.832290347683276,20.246357345393012,18.660735715497619,17.075395903931838,15.490311982110745,13.905461107537505,12.320823077926402,10.736379960463061,9.1521157818232979,7.5680162676556924,5.9840686225441644]
[null,null,2025,"M€",null,null,null,null,null,null,null,null,{"$f":"($M$60-$L$60)*1000*M$76*8760*($K$81-M$86)/1000000","v":28.586508116012389},26.338762188140954,24.083399544717519,21.822243379187437,19.556577998194978,17.287334222226065,15.701723690640728,14.116403459797178,12.531345975656468,10.946527064311262,9.3619254290958533,7.7775222348836275,6.1933007624360688,4.609246119399395,3.0253449974172439,1.4415854669837638]
[null,null,2026,"M€",null,null,null,null,null,null,null,null,null,{"$f":"($N$60-$M$60)*1000*N$76*8760*($L$81-N$86)/1000000","v":19.299934849562536},17.300707745162974,15.296815026448563,13.289290965724494,11.278885167342697,9.8756712727271019,8.4726956855885014,7.0699357868543968,5.6673717321977737,4.2649860392151462,2.8627632461773103,1.4606896282844368,5.8752960423926581E-2,-1.3430576822154909,-2.744752092548743]
[null,null,2027,"M€",null,null,null,null,null,null,null,null,null,null,{"$f":"($O$60-$N$60)*1000*O$76*8760*($M$81-O$86)/1000000","v":13.284052605529078},11.277724081618798,9.2681241948546074,7.2559282404374947,5.8529997799867735,4.4502909754902644,3.0477809781939196,1.6454514969193532,0.24328641755175975,-1.1587285115004859,-2.5606059408434803,-3.9623571387714804,-5.3639921750475663,-6.7655200761283236]
[null,null,2028,"M€",null,null,null,null,null,null,null,null,null,null,null,{"$f":"($P$60-$O$60)*1000*P$76*8760*($N$81-P$86)/1000000","v":9.9281668680858992},7.9178699465830462,5.9050728816103719,4.5022402661508609,3.0996210437126082,1.6971949599909271,0.29494424533405689,-1.1071467549196923,-2.5090918860138625,-3.9109034378546021,-5.3125923574493106,-6.7141684274472722,-8.1156404169385716]
[null,null,2029,"M€",null,null,null,null,null,null,null,null,null,null,null,null,{"$f":"($Q$60-$P$60)*1000*Q$76*8760*($O$81-Q$86)/1000000","v":6.5676156983125757},4.5542175227843424,3.1514807523160404,1.7489511119360428,0.34660894178902607,-1.0555630062501482,-2.4575799273900532,-3.8594552605261487,-5.2612009348646325,-6.6628275761260491,-8.0643446798458882,-9.4657607577477307]
[null,null,2030,"M€",null,null,null,null,null,null,null,null,null,null,null,null,null,{"$f":"($R$60-$Q$60)*1000*R$76*8760*($P$81-R$86)/1000000","v":3.2033621639584049},1.8007212384810709,0.3982811801590867,-1.0039770764135076,-2.406070257835228,-3.8080130998615309,-5.2098186350397935,-6.6114984318762646,-8.0130627948046325,-9.4145209322465888,-10.815881098559213]
[null,null,2031,"M€",null,null,null,null,null,null,null,null,null,null,null,null,null,null,{"$f":"($S$60-$R$60)*1000*S$76*8760*($Q$81-S$86)/1000000","v":0.22859072900160726},-0.48383501773805415,-1.1961712847966119,-1.9084263047169567,-2.6206073301834403,-3.332720775590762,-4.0447723347579112,-4.7567670793491814,-5.4687095415906795,-6.1806037841344175]
[null,null,2032,"M€",null,null,null,null,null,null,null,null,null,null,null,null,null,null,null,{"$f":"($T$60-$S$60)*1000*T$76*8760*($R$81-T$86)/1000000","v":-1.1700058794679964},-1.8822995165337213,-2.5945145212317371,-3.3066579128338254,-4.0187358993006725,-4.7307539912075383,-5.4427170969977272,-6.1546296030370531,-6.86649544122952]
[null,null,2033,"M€",null,null,null,null,null,null,null,null,null,null,null,null,null,null,null,null,{"$f":"($U$60-$T$60)*1000*U$76*8760*($S$81-U$86)/1000000","v":-2.5034704245557204},-3.215649202363311,-3.9277585229843233,-4.6398044074890095,-5.3517922005570027,-6.0637266628631243,-6.7756120487218121,-7.4874521716672833]
[null,null,2034,"M€",null,null,null,null,null,null,null,null,null,null,null,null,null,null,null,null,null,{"$f":"($V$60-$U$60)*1000*V$76*8760*($T$81-V$86)/1000000","v":-3.8367838834946641},-4.5488591331346004,-5.2608729156771261,-5.9728304099062468,-6.6847362287283003,-7.39659449440635,-8.1084089021048253]
[null,null,2035,"M€",null,null,null,null,null,null,null,null,null,null,null,null,null,null,null,null,null,null,{"$f":"($W$60-$V$60)*1000*W$76*8760*($U$81-W$86)/1000000","v":-5.1699597432881914},-5.8819414238690246,-6.5938686192597418,-7.3057457945981952,-8.0175769400960775,-8.729365632548026]
[null,null,2036,"M€",null,null,null,null,null,null,null,null,null,null,null,null,null,null,null,null,null,null,null,{"$f":"($X$60-$W$60)*1000*X$76*8760*($V$81-X$86)/1000000","v":-6.5030099320589052},{"$f":"($X$60-$W$60)*1000*Y$76*8760*($V$81-Y$86)/1000000","v":-7.2149068286109443},{"$f":"($X$60-$W$60)*1000*Z$76*8760*($V$81-Z$86)/1000000","v":-7.9267553604655232},{"$f":"($X$60-$W$60)*1000*AA$76*8760*($V$81-AA$86)/1000000","v":-8.6385593857829619},{"$f":"($X$60-$W$60)*1000*AB$76*8760*($V$81-AB$86)/1000000","v":-9.3503223629881091}]
[null,null,2037,"M€",null,null,null,null,null,null,null,null,null,null,null,null,null,null,null,null,null,null,null,null,{"$f":"($Y$60-$X$60)*1000*Y$76*8760*($W$81-Y$86)/1000000","v":-7.835945037960955},{"$f":"($Y$60-$X$60)*1000*Z$76*8760*($W$81-Z$86)/1000000","v":-8.5477649263315563},{"$f":"($Y$60-$X$60)*1000*AA$76*8760*($W$81-AA$86)/1000000","v":-9.2595418314684519},{"$f":"($Y$60-$X$60)*1000*AB$76*8760*($W$81-AB$86)/1000000","v":-9.9712790934266931}]
[null,null,2038,"M€",null,null,null,null,null,null,null,null,null,null,null,null,null,null,null,null,null,null,null,null,null,{"$f":"($Z$60-$Y$60)*1000*Z$76*8760*($X$81-Z$86)/1000000","v":-9.3802424038429528},{"$f":"($Z$60-$Y$60)*1000*AA$76*8760*($X$81-AA$86)/1000000","v":-10.091982953759626},{"$f":"($Z$60-$Y$60)*1000*AB$76*8760*($X$81-AB$86)/1000000","v":-10.803685743843213}]
[null,null,2039,"M€",null,null,null,null,null,null,null,null,null,null,null,null,null,null,null,null,null,null,null,null,null,null,{"$f":"($AA$60-$Z$60)*1000*AA$76*8760*($Y$81-AA$86)/1000000","v":-10.924424076061653},{"$f":"($AA$60-$Z$60)*1000*AB$76*8760*($Y$81-AB$86)/1000000","v":-11.636092394271344}]
[null,null,2040,"M€",null,null,null,null,null,null,null,null,null,null,null,null,null,null,null,null,null,null,null,null,null,null,null,{"$f":"($AB$60-$AA$60)*1000*AB$76*8760*($Z$81-AB$86)/1000000","v":-12.468499044679916}]
[null,null,"Total","M€",null,{"$f":"SUM(F146:F166)","v":0},{"$f":"SUM(G146:G166)","v":0},32.220226162647918,61.825139797904853,88.849151074593777,126.5455905687885,160.37323686551323,190.30404635976734,198.52661683958749,198.68898488363513,193.45017378003047,182.8069160630032,166.75684358776357,152.12323189686535,135.38134072716582,116.59626338992669,95.768107825726915,72.89696912777606,47.982931398090187,21.026069290910158,-8.1850186085494769,-39.650245171102178,-89.047283484357607]
[null,null,{"$f":"'Données de production'!C9","v":"PV sur toiture"},null,null,null,null,null,null,null,null,null,null,null,null,null,null,null,null,null,null,null,null,null,null,null,null,null,null,null,null,{"$f":"C168","v":"PV sur toiture"},null,null,null,null,null,null,null,null,null,null,null,null,null,null,null,null,null,null,null,null,null,null,null,null,null,null,{"$f":"AF168","v":"PV sur toiture"}]
[null,null,2020,"M€",null,null,null,{"$f":"AK169","v":47.838766898218353},{"$f":"AL169-AK169","v":47.92617024671523},{"$f":"AM169-AL169","v":48.026809368141983},48.247589886100798,48.44959256848631,48.639261065783387,47.583130324455396,46.518888366466456,45.448287821553379,44.372610311548328,43.292814714528788,42.524248797564155,41.755898383605768,40.987751556247304,40.219797261752319,39.4520252323764,38.684425917724639,37.916990423183051,{"$f":"BC169-BB169","v":37.149710454579576},{"$f":"BD169-BC169","v":36.382578268359339},0,null,null,null,2020,"M€",null,null,null,{"$f":"IF(BL169>0,BL169,0)","v":47.838766898218353},{"$f":"IF(AK169+BM169>0,AK169+BM169,0)","v":95.764937144933583},{"$f":"IF(AL169+BN169>0,AL169+BN169,0)","v":143.79174651307557},192.03933639917636,240.48892896766267,289.12819003344606,336.71132035790146,383.23020872436791,428.67849654592129,473.05110685746962,516.34392157199841,558.86817036956256,600.62406875316833,641.61182030941563,681.83161757116795,721.28364280354435,759.96806872126899,797.88505914445204,{"$f":"IF(BB169+CD169>0,BB169+CD169,0)","v":835.03476959903162},871.41734786739096,871.41734786739096,null,2020,"M€",null,null,null,{"$f":"($H$61-$G$61)*1000*H$77*8760*($F$82-H$87)/1000000","v":47.838766898218353},{"$f":"($H$61-$G$61)*1000*I$77*8760*($F$82-I$87)/1000000","v":47.926170246715238},48.02680936814199,48.247589886100805,48.449592568486302,48.639261065783387,47.583130324455375,46.518888366466456,45.448287821553357,44.372610311548335,43.29281471452876,42.524248797564177,41.755898383605739,40.987751556247296,40.219797261752376,39.45202523237635,38.684425917724631,37.916990423183094,37.149710454579555,36.382578268359303]
[null,null,2021,"M€",null,null,null,null,{"$f":"AL170","v":46.417042270513086},46.519127519129661,46.737585300068332,46.937865243375796,47.126205109086186,46.068769306579441,45.003424872503672,43.931880663056972,42.855386290388196,41.774876683713501,41.006416302326784,40.238167460443719,39.470118460823073,38.702258453027184,37.934577358154456,37.167065801460012,36.399715051918065,35.632516967901779,34.865463948274964,34.098548888271694,null,null,null,2021,"M€",null,null,null,null,{"$f":"IF(BM170>0,BM170,0)","v":46.417042270513086},92.936169789642747,139.67375508971108,186.61162033308688,233.73782544217306,279.8065947487525,324.81001962125617,368.74190028431315,411.59728657470134,453.37216325841484,494.37857956074163,534.61674702118535,574.08686548200842,612.7891239350356,650.72370129319006,687.89076709465007,724.29048214656814,759.92299911446992,794.78846306274488,828.88701195101658,null,2021,"M€",null,null,null,null,{"$f":"($I$61-$H$61)*1000*I$77*8760*($G$82-I$87)/1000000","v":46.417042270513086},{"$f":"($I$61-$H$61)*1000*J$77*8760*($G$82-J$87)/1000000","v":46.519127519129654},46.737585300068325,46.937865243375796,47.1262051090862,46.068769306579419,45.003424872503658,43.931880663056944,42.855386290388211,41.774876683713472,41.006416302326777,40.238167460443691,39.470118460823038,38.702258453027184,37.934577358154499,37.167065801459955,36.399715051918015,35.632516967901765,34.865463948274957,34.098548888271651]
[null,null,2022,"M€",null,null,null,null,null,{"$f":"($J$61-$I$61)*1000*J$77*8760*($H$82-J$87)/1000000","v":45.011445670117311},45.227580714035831,45.426137918265262,45.613149152388985,44.554408288703435,43.487961378540838,42.415473504560509,41.338162269228079,40.256938652898171,39.488583807089341,38.720436537281614,37.952485365398765,37.184719644301971,36.417129483932626,35.649705685195265,34.882439680652915,34.11532348122396,33.348349628190583,32.581511149905054]
[null,null,2023,"M€",null,null,null,null,null,null,{"$f":"($K$61-$J$61)*1000*K$77*8760*($I$82-K$87)/1000000","v":66.799900886653703},67.100661448600064,67.384382106157403,65.764645400972597,64.133443502123725,62.493253749348128,60.845887713354074,59.192700766993404,58.018825581658177,56.845261513633844,55.671991359447063,54.498999161043038,53.326270095087516,52.153790373869867,50.981547156416468,49.809528468599424,48.637723131206208,47.466120695050542]
[null,null,2024,"M€",null,null,null,null,null,null,null,{"$f":"($L$61-$K$61)*1000*L$77*8760*($J$82-L$87)/1000000","v":64.790761302490381},{"$f":"($L$61-$K$61)*1000*M$77*8760*($J$82-M$87)/1000000","v":65.072451827863617},{"$f":"($L$61-$K$61)*1000*N$77*8760*($J$82-N$87)/1000000","v":63.450721005778973},{"$f":"($L$61-$K$61)*1000*O$77*8760*($J$82-O$87)/1000000","v":61.817834537476877},{"$f":"($L$61-$K$61)*1000*P$77*8760*($J$82-P$87+IF($C173>=$X$36,$X$37,IF($C173>=$W$36,$W$37,IF($C173>=$V$36,$V$37,$U$37))))/1000000","v":60.176202877283671},58.527588685518175,56.873310741476367,55.699596813163559,54.526187945980162,53.353067271334069,52.180219141808571,51.007629022619064,49.83528339444527,48.663169666274833,47.491276097067079,46.319591725223077,45.148106304959455]
[null,null,2025,"M€",null,null,null,null,null,null,null,null,{"$f":"($M$61-$L$61)*1000*M$77*8760*($K$82-M$87)/1000000","v":62.760521549576225},61.136796610591574,59.502225572836089,57.859152005225091,56.209289657688011,54.553920715964907,53.380368044674405,52.207114378331816,51.034143183226313,49.861439122579228,48.688987950155621,47.516776415025582,46.344792176137972,45.173023725539416,44.001460319244501,42.830091914872803]
[null,null,2026,"M€",null,null,null,null,null,null,null,null,null,{"$f":"($N$61-$M$61)*1000*N$77*8760*($L$82-N$87)/1000000","v":47.248643685479514},45.934344412906206,44.613410517832968,43.287179259173818,41.956651141308583,41.014141013048658,40.071866191759675,39.129813665959915,38.18797136611353,37.246328080906437,36.304873382296542,35.363597558286159,34.422491552497895,33.481546909771801,32.540755727087742]
[null,null,2027,"M€",null,null,null,null,null,null,null,null,null,null,{"$f":"($O$61-$N$61)*1000*O$77*8760*($M$82-O$87)/1000000","v":44.074364123546346},42.752272036646133,41.425038214441152,40.09363376805279,39.151253167224652,38.209103008824954,37.267170550360653,36.325443971811531,35.383912293636975,34.442565303375645,33.501393489807704,32.560387983779826,31.619540504927109,30.678843313609914]
[null,null,2028,"M€",null,null,null,null,null,null,null,null,null,null,null,{"$f":"($P$61-$O$61)*1000*P$77*8760*($N$82-P$87)/1000000","v":40.190925021403032},38.86231144526203,37.529700972847692,36.587498631028616,35.645520036928509,34.703752818243508,33.7621854983433,32.820807416659882,31.879608657419773,30.938579985718807,29.997712790066274,29.056999030654719,28.116431192693]
[null,null,2029,"M€",null,null,null,null,null,null,null,null,null,null,null,null,{"$f":"($Q$61-$P$61)*1000*Q$77*8760*($O$82-Q$87)/1000000","v":36.299584676068456},34.965768177628696,34.023744094819037,33.08193706501892,32.140335086113595,31.198927024862659,30.25770253967077,29.316652011452263,28.375766481618641,27.435037596341836,26.49445755637182,25.554019071765953]
[null,null,2030,"M€",null,null,null,null,null,null,null,null,null,null,null,null,null,{"$f":"($R$61-$Q$61)*1000*R$77*8760*($P$82-R$87)/1000000","v":32.401835382427031},31.459989558626347,30.518354093125737,29.576917353999637,28.635668551397519,27.694597662696687,26.753695365499325,25.812952977532593,24.872362402631044,23.931916082102106,22.991606950851633]
[null,null,2031,"M€",null,null,null,null,null,null,null,null,null,null,null,null,null,null,{"$f":"($S$61-$R$61)*1000*S$77*8760*($Q$82-S$87)/1000000","v":8.9552583269076287},8.6634883979127757,8.3717780963505568,8.080124184748902,7.7885236558408559,7.4969737124604725,7.2054717495099645,6.9140153377518354,6.6226022092162067,6.3312302440363668]
[null,null,2032,"M€",null,null,null,null,null,null,null,null,null,null,null,null,null,null,null,{"$f":"($T$61-$S$61)*1000*T$77*8760*($R$82-T$87)/1000000","v":7.8690060808205065},7.5773469888678235,7.2857424332581768,6.9941895055777055,6.702685500607263,6.4112278988822986,6.1198143510177729,5.8284426635951867,5.5371107864308238]
[null,null,2033,"M€",null,null,null,null,null,null,null,null,null,null,null,null,null,null,null,null,{"$f":"($U$61-$T$61)*1000*U$77*8760*($S$82-U$87)/1000000","v":6.76693539445127},6.4753811876606866,6.1838768187366471,5.8924196762563659,5.6010073281111001,5.309637506374548,5.0183080936792361,4.7270171109261669]
[null,null,2034,"M€",null,null,null,null,null,null,null,null,null,null,null,null,null,null,null,null,null,{"$f":"($V$61-$U$61)*1000*V$77*8760*($T$82-V$87)/1000000","v":5.6650199420651965},5.3735641318974938,5.082153851907278,4.7907867573416167,4.4994606617329458,4.2081735237648132,3.9169234354229432]
[null,null,2035,"M€",null,null,null,null,null,null,null,null,null,null,null,null,null,null,null,null,null,null,{"$f":"($W$61-$V$61)*1000*W$77*8760*($U$82-W$87)/1000000","v":4.5632514450547061},4.2718880275547448,3.9805661865688728,3.6892838170882678,3.3980389538475011,3.1068297599170172]
[null,null,2036,"M€",null,null,null,null,null,null,null,null,null,null,null,null,null,null,null,null,null,null,null,{"$f":"($X$61-$W$61)*1000*X$77*8760*($V$82-X$87)/1000000","v":3.4616222032046737},{"$f":"($X$61-$W$61)*1000*Y$77*8760*($V$82-Y$87)/1000000","v":3.1703456157984102},{"$f":"($X$61-$W$61)*1000*Z$77*8760*($V$82-Z$87)/1000000","v":2.8791069724456908},{"$f":"($X$61-$W$61)*1000*AA$77*8760*($V$82-AA$87)/1000000","v":2.5879043839321101},{"$f":"($X$61-$W$61)*1000*AB$77*8760*($V$82-AB$87)/1000000","v":2.2967360844128315}]
[null,null,2037,"M€",null,null,null,null,null,null,null,null,null,null,null,null,null,null,null,null,null,null,null,null,{"$f":"($Y$61-$X$61)*1000*Y$77*8760*($W$82-Y$87)/1000000","v":2.360125045026864},{"$f":"($Y$61-$X$61)*1000*Z$77*8760*($W$82-Z$87)/1000000","v":2.0689301278021159},{"$f":"($Y$61-$X$61)*1000*AA$77*8760*($W$82-AA$87)/1000000","v":1.7777698140158067},{"$f":"($Y$61-$X$61)*1000*AB$77*8760*($W$82-AB$87)/1000000","v":1.4866424089078187}]
[null,null,2038,"M€",null,null,null,null,null,null,null,null,null,null,null,null,null,null,null,null,null,null,null,null,null,{"$f":"($Z$61-$Y$61)*1000*Z$77*8760*($X$82-Z$87)/1000000","v":1.5413112109713953},{"$f":"($Z$61-$Y$61)*1000*AA$77*8760*($X$82-AA$87)/1000000","v":1.2501784281445769},{"$f":"($Z$61-$Y$61)*1000*AB$77*8760*($X$82-AB$87)/1000000","v":0.95907765508021114}]
[null,null,2039,"M€",null,null,null,null,null,null,null,null,null,null,null,null,null,null,null,null,null,null,null,null,null,null,{"$f":"($AA$61-$Z$61)*1000*AA$77*8760*($Y$82-AA$87)/1000000","v":0.72258704227407267},{"$f":"($AA$61-$Z$61)*1000*AB$77*8760*($Y$82-AB$87)/1000000","v":0.43151290125313957}]
[null,null,2040,"M€",null,null,null,null,null,null,null,null,null,null,null,null,null,null,null,null,null,null,null,null,null,null,null,{"$f":"($AB$61-$AA$61)*1000*AB$77*8760*($Z$82-AB$87)/1000000","v":-9.6051852574377566E-2}]
[null,null,"Total","M€",null,{"$f":"SUM(F169:F189)","v":0},{"$f":"SUM(G169:G189)","v":0},47.838766898218353,94.343212517228324,139.55738255738896,207.01265678685866,272.70501848121785,336.59597081085576,375.80711462256096,410.47248676640021,439.88085819690991,464.02303852267028,482.89215171783991,481.30992413813141,478.35234109366797,474.00360715082354,468.26389694477382,461.13337269300382,452.61218527975501,442.70047522878627,431.68093150541267,419.55363221679573,370.70306374288066]
[]
[null,null,"Euros constants ou courants",null,null,"Scénario sélectionné"]
[null,null,"Evolution du besoin cumulé de compléments rémunération","Unité",null,2018,2019,2020,2021,2022,2023,2024,2025,2026,2027,2028,2029,2030,2031,2032,2033,2034,2035,2036,2037,2038,2039,2040]
[null,null,"Charges engagées avant 2018","Md€",null,{"$f":"IF(Start!$F$3=\"CONSTANT\",F102,F102*HLOOKUP(F$193,'Calcul de variation des prix'!$E$3:$AP$5, 3, FALSE))/1000","v":3.8135013016383827},{"$f":"IF(Start!$F$3=\"CONSTANT\",G102,G102*HLOOKUP(G$193,'Calcul de variation des prix'!$E$3:$AP$5, 3, FALSE))/1000","v":4.0973951069009669},{"$f":"IF(Start!$F$3=\"CONSTANT\",H102,H102*HLOOKUP(H$193,'Calcul de variation des prix'!$E$3:$AP$5, 3, FALSE))/1000","v":4.1771166187607607},{"$f":"IF(Start!$F$3=\"CONSTANT\",I102,I102*HLOOKUP(I$193,'Calcul de variation des prix'!$E$3:$AP$5, 3, FALSE))/1000","v":4.101661638734722},{"$f":"IF(Start!$F$3=\"CONSTANT\",J102,J102*HLOOKUP(J$193,'Calcul de variation des prix'!$E$3:$AP$5, 3, FALSE))/1000","v":3.9211876978337767},{"$f":"IF(Start!$F$3=\"CONSTANT\",K102,K102*HLOOKUP(K$193,'Calcul de variation des prix'!$E$3:$AP$5, 3, FALSE))/1000","v":3.8422734852991471},{"$f":"IF(Start!$F$3=\"CONSTANT\",L102,L102*HLOOKUP(L$193,'Calcul de variation des prix'!$E$3:$AP$5, 3, FALSE))/1000","v":3.7893631743505178},{"$f":"IF(Start!$F$3=\"CONSTANT\",M102,M102*HLOOKUP(M$193,'Calcul de variation des prix'!$E$3:$AP$5, 3, FALSE))/1000","v":3.6949124065952907},{"$f":"IF(Start!$F$3=\"CONSTANT\",N102,N102*HLOOKUP(N$193,'Calcul de variation des prix'!$E$3:$AP$5, 3, FALSE))/1000","v":3.3581957044002908},{"$f":"IF(Start!$F$3=\"CONSTANT\",O102,O102*HLOOKUP(O$193,'Calcul de variation des prix'!$E$3:$AP$5, 3, FALSE))/1000","v":3.0732545222936865},{"$f":"IF(Start!$F$3=\"CONSTANT\",P102,P102*HLOOKUP(P$193,'Calcul de variation des prix'!$E$3:$AP$5, 3, FALSE))/1000","v":2.8746874219444476},{"$f":"IF(Start!$F$3=\"CONSTANT\",Q102,Q102*HLOOKUP(Q$193,'Calcul de variation des prix'!$E$3:$AP$5, 3, FALSE))/1000","v":2.7087782532907885},{"$f":"IF(Start!$F$3=\"CONSTANT\",R102,R102*HLOOKUP(R$193,'Calcul de variation des prix'!$E$3:$AP$5, 3, FALSE))/1000","v":2.4685985274341338},{"$f":"IF(Start!$F$3=\"CONSTANT\",S102,S102*HLOOKUP(S$193,'Calcul de variation des prix'!$E$3:$AP$5, 3, FALSE))/1000","v":1.9811758856667507},{"$f":"IF(Start!$F$3=\"CONSTANT\",T102,T102*HLOOKUP(T$193,'Calcul de variation des prix'!$E$3:$AP$5, 3, FALSE))/1000","v":1.1990247756423946},{"$f":"IF(Start!$F$3=\"CONSTANT\",U102,U102*HLOOKUP(U$193,'Calcul de variation des prix'!$E$3:$AP$5, 3, FALSE))/1000","v":0.7111732102708197},{"$f":"IF(Start!$F$3=\"CONSTANT\",V102,V102*HLOOKUP(V$193,'Calcul de variation des prix'!$E$3:$AP$5, 3, FALSE))/1000","v":0.48299376455175053},{"$f":"IF(Start!$F$3=\"CONSTANT\",W102,W102*HLOOKUP(W$193,'Calcul de variation des prix'!$E$3:$AP$5, 3, FALSE))/1000","v":0.37588671950201197},{"$f":"IF(Start!$F$3=\"CONSTANT\",X102,X102*HLOOKUP(X$193,'Calcul de variation des prix'!$E$3:$AP$5, 3, FALSE))/1000","v":0.28301030041361402},{"$f":"IF(Start!$F$3=\"CONSTANT\",Y102,Y102*HLOOKUP(Y$193,'Calcul de variation des prix'!$E$3:$AP$5, 3, FALSE))/1000","v":0.14886020364126282},{"$f":"IF(Start!$F$3=\"CONSTANT\",Z102,Z102*HLOOKUP(Z$193,'Calcul de variation des prix'!$E$3:$AP$5, 3, FALSE))/1000","v":6.488345534662425E-2},{"$f":"IF(Start!$F$3=\"CONSTANT\",AA102,AA102*HLOOKUP(AA$193,'Calcul de variation des prix'!$E$3:$AP$5, 3, FALSE))/1000","v":0},{"$f":"IF(Start!$F$3=\"CONSTANT\",AB102,AB102*HLOOKUP(AB$193,'Calcul de variation des prix'!$E$3:$AP$5, 3, FALSE))/1000","v":0}]
[null,null,"AO éolien en mer 2011 & 2013 renégociés","Md€",null,{"$f":"IF(Start!$F$3=\"CONSTANT\",F103,F103*HLOOKUP(F$193,'Calcul de variation des prix'!$E$3:$AP$5, 3, FALSE))/1000","v":0},{"$f":"IF(Start!$F$3=\"CONSTANT\",G103,G103*HLOOKUP(G$193,'Calcul de variation des prix'!$E$3:$AP$5, 3, FALSE))/1000","v":0},{"$f":"IF(Start!$F$3=\"CONSTANT\",H103,H103*HLOOKUP(H$193,'Calcul de variation des prix'!$E$3:$AP$5, 3, FALSE))/1000","v":0},{"$f":"IF(Start!$F$3=\"CONSTANT\",I103,I103*HLOOKUP(I$193,'Calcul de variation des prix'!$E$3:$AP$5, 3, FALSE))/1000","v":0.14874602755538102},{"$f":"IF(Start!$F$3=\"CONSTANT\",J103,J103*HLOOKUP(J$193,'Calcul de variation des prix'!$E$3:$AP$5, 3, FALSE))/1000","v":0.30088959869574611},{"$f":"IF(Start!$F$3=\"CONSTANT\",K103,K103*HLOOKUP(K$193,'Calcul de variation des prix'!$E$3:$AP$5, 3, FALSE))/1000","v":0.38051603625417646},{"$f":"IF(Start!$F$3=\"CONSTANT\",L103,L103*HLOOKUP(L$193,'Calcul de variation des prix'!$E$3:$AP$5, 3, FALSE))/1000","v":0.57688475349689383},{"$f":"IF(Start!$F$3=\"CONSTANT\",M103,M103*HLOOKUP(M$193,'Calcul de variation des prix'!$E$3:$AP$5, 3, FALSE))/1000","v":0.62775374706889042},{"$f":"IF(Start!$F$3=\"CONSTANT\",N103,N103*HLOOKUP(N$193,'Calcul de variation des prix'!$E$3:$AP$5, 3, FALSE))/1000","v":0.59192313853122958},{"$f":"IF(Start!$F$3=\"CONSTANT\",O103,O103*HLOOKUP(O$193,'Calcul de variation des prix'!$E$3:$AP$5, 3, FALSE))/1000","v":0.559963443745641},{"$f":"IF(Start!$F$3=\"CONSTANT\",P103,P103*HLOOKUP(P$193,'Calcul de variation des prix'!$E$3:$AP$5, 3, FALSE))/1000","v":0.53031162237351237},{"$f":"IF(Start!$F$3=\"CONSTANT\",Q103,Q103*HLOOKUP(Q$193,'Calcul de variation des prix'!$E$3:$AP$5, 3, FALSE))/1000","v":0.50219492500677898},{"$f":"IF(Start!$F$3=\"CONSTANT\",R103,R103*HLOOKUP(R$193,'Calcul de variation des prix'!$E$3:$AP$5, 3, FALSE))/1000","v":0.47518621772612923},{"$f":"IF(Start!$F$3=\"CONSTANT\",S103,S103*HLOOKUP(S$193,'Calcul de variation des prix'!$E$3:$AP$5, 3, FALSE))/1000","v":0.48655595707965438},{"$f":"IF(Start!$F$3=\"CONSTANT\",T103,T103*HLOOKUP(T$193,'Calcul de variation des prix'!$E$3:$AP$5, 3, FALSE))/1000","v":0.4874467578505039},{"$f":"IF(Start!$F$3=\"CONSTANT\",U103,U103*HLOOKUP(U$193,'Calcul de variation des prix'!$E$3:$AP$5, 3, FALSE))/1000","v":0.48171741424597714},{"$f":"IF(Start!$F$3=\"CONSTANT\",V103,V103*HLOOKUP(V$193,'Calcul de variation des prix'!$E$3:$AP$5, 3, FALSE))/1000","v":0.47159000259131417},{"$f":"IF(Start!$F$3=\"CONSTANT\",W103,W103*HLOOKUP(W$193,'Calcul de variation des prix'!$E$3:$AP$5, 3, FALSE))/1000","v":0.45843322879452159},{"$f":"IF(Start!$F$3=\"CONSTANT\",X103,X103*HLOOKUP(X$193,'Calcul de variation des prix'!$E$3:$AP$5, 3, FALSE))/1000","v":0.44313520656821614},{"$f":"IF(Start!$F$3=\"CONSTANT\",Y103,Y103*HLOOKUP(Y$193,'Calcul de variation des prix'!$E$3:$AP$5, 3, FALSE))/1000","v":0.42629655009476713},{"$f":"IF(Start!$F$3=\"CONSTANT\",Z103,Z103*HLOOKUP(Z$193,'Calcul de variation des prix'!$E$3:$AP$5, 3, FALSE))/1000","v":0.4083373133712106},{"$f":"IF(Start!$F$3=\"CONSTANT\",AA103,AA103*HLOOKUP(AA$193,'Calcul de variation des prix'!$E$3:$AP$5, 3, FALSE))/1000","v":0.36496951462761873},{"$f":"IF(Start!$F$3=\"CONSTANT\",AB103,AB103*HLOOKUP(AB$193,'Calcul de variation des prix'!$E$3:$AP$5, 3, FALSE))/1000","v":0.28789777521360627}]
[null,null,"Eolien terrestre","Md€",null,{"$f":"IF(Start!$F$3=\"CONSTANT\",IF(F$126>=0,F$126,0),IF(F$126*HLOOKUP(F$193,'Calcul de variation des prix'!$E$3:$AP$5, 3, FALSE)>0,F$126*HLOOKUP(F$193,'Calcul de variation des prix'!$E$3:$AP$5, 3, FALSE),0))/1000","v":0},{"$f":"IF(Start!$F$3=\"CONSTANT\",IF(G$126>=0,G$126,0),IF(G$126*HLOOKUP(G$193,'Calcul de variation des prix'!$E$3:$AP$5, 3, FALSE)>0,G$126*HLOOKUP(G$193,'Calcul de variation des prix'!$E$3:$AP$5, 3, FALSE),0))/1000","v":0},{"$f":"IF(Start!$F$3=\"CONSTANT\",IF(H$126>=0,H$126,0),IF(H$126*HLOOKUP(H$193,'Calcul de variation des prix'!$E$3:$AP$5, 3, FALSE)>0,H$126*HLOOKUP(H$193,'Calcul de variation des prix'!$E$3:$AP$5, 3, FALSE),0))/1000","v":0},{"$f":"IF(Start!$F$3=\"CONSTANT\",IF(I$126>=0,I$126,0),IF(I$126*HLOOKUP(I$193,'Calcul de variation des prix'!$E$3:$AP$5, 3, FALSE)>0,I$126*HLOOKUP(I$193,'Calcul de variation des prix'!$E$3:$AP$5, 3, FALSE),0))/1000","v":9.0240970432913611E-2},{"$f":"IF(Start!$F$3=\"CONSTANT\",IF(J$126>=0,J$126,0),IF(J$126*HLOOKUP(J$193,'Calcul de variation des prix'!$E$3:$AP$5, 3, FALSE)>0,J$126*HLOOKUP(J$193,'Calcul de variation des prix'!$E$3:$AP$5, 3, FALSE),0))/1000","v":0.18390179961259925},{"$f":"IF(Start!$F$3=\"CONSTANT\",IF(K$126>=0,K$126,0),IF(K$126*HLOOKUP(K$193,'Calcul de variation des prix'!$E$3:$AP$5, 3, FALSE)>0,K$126*HLOOKUP(K$193,'Calcul de variation des prix'!$E$3:$AP$5, 3, FALSE),0))/1000","v":0.27716636754636365},{"$f":"IF(Start!$F$3=\"CONSTANT\",IF(L$126>=0,L$126,0),IF(L$126*HLOOKUP(L$193,'Calcul de variation des prix'!$E$3:$AP$5, 3, FALSE)>0,L$126*HLOOKUP(L$193,'Calcul de variation des prix'!$E$3:$AP$5, 3, FALSE),0))/1000","v":0.3736705030523278},{"$f":"IF(Start!$F$3=\"CONSTANT\",IF(M$126>=0,M$126,0),IF(M$126*HLOOKUP(M$193,'Calcul de variation des prix'!$E$3:$AP$5, 3, FALSE)>0,M$126*HLOOKUP(M$193,'Calcul de variation des prix'!$E$3:$AP$5, 3, FALSE),0))/1000","v":0.47281174114738156},{"$f":"IF(Start!$F$3=\"CONSTANT\",IF(N$126>=0,N$126,0),IF(N$126*HLOOKUP(N$193,'Calcul de variation des prix'!$E$3:$AP$5, 3, FALSE)>0,N$126*HLOOKUP(N$193,'Calcul de variation des prix'!$E$3:$AP$5, 3, FALSE),0))/1000","v":0.53951250784008853},{"$f":"IF(Start!$F$3=\"CONSTANT\",IF(O$126>=0,O$126,0),IF(O$126*HLOOKUP(O$193,'Calcul de variation des prix'!$E$3:$AP$5, 3, FALSE)>0,O$126*HLOOKUP(O$193,'Calcul de variation des prix'!$E$3:$AP$5, 3, FALSE),0))/1000","v":0.59278805257086264},{"$f":"IF(Start!$F$3=\"CONSTANT\",IF(P$126>=0,P$126,0),IF(P$126*HLOOKUP(P$193,'Calcul de variation des prix'!$E$3:$AP$5, 3, FALSE)>0,P$126*HLOOKUP(P$193,'Calcul de variation des prix'!$E$3:$AP$5, 3, FALSE),0))/1000","v":0.63232620707445741},{"$f":"IF(Start!$F$3=\"CONSTANT\",IF(Q$126>=0,Q$126,0),IF(Q$126*HLOOKUP(Q$193,'Calcul de variation des prix'!$E$3:$AP$5, 3, FALSE)>0,Q$126*HLOOKUP(Q$193,'Calcul de variation des prix'!$E$3:$AP$5, 3, FALSE),0))/1000","v":0.65444270675405369},{"$f":"IF(Start!$F$3=\"CONSTANT\",IF(R$126>=0,R$126,0),IF(R$126*HLOOKUP(R$193,'Calcul de variation des prix'!$E$3:$AP$5, 3, FALSE)>0,R$126*HLOOKUP(R$193,'Calcul de variation des prix'!$E$3:$AP$5, 3, FALSE),0))/1000","v":0.65889807085164631},{"$f":"IF(Start!$F$3=\"CONSTANT\",IF(S$126>=0,S$126,0),IF(S$126*HLOOKUP(S$193,'Calcul de variation des prix'!$E$3:$AP$5, 3, FALSE)>0,S$126*HLOOKUP(S$193,'Calcul de variation des prix'!$E$3:$AP$5, 3, FALSE),0))/1000","v":0.68177950817738475},{"$f":"IF(Start!$F$3=\"CONSTANT\",IF(T$126>=0,T$126,0),IF(T$126*HLOOKUP(T$193,'Calcul de variation des prix'!$E$3:$AP$5, 3, FALSE)>0,T$126*HLOOKUP(T$193,'Calcul de variation des prix'!$E$3:$AP$5, 3, FALSE),0))/1000","v":0.69273090215216393},{"$f":"IF(Start!$F$3=\"CONSTANT\",IF(U$126>=0,U$126,0),IF(U$126*HLOOKUP(U$193,'Calcul de variation des prix'!$E$3:$AP$5, 3, FALSE)>0,U$126*HLOOKUP(U$193,'Calcul de variation des prix'!$E$3:$AP$5, 3, FALSE),0))/1000","v":0.69198723910369775},{"$f":"IF(Start!$F$3=\"CONSTANT\",IF(V$126>=0,V$126,0),IF(V$126*HLOOKUP(V$193,'Calcul de variation des prix'!$E$3:$AP$5, 3, FALSE)>0,V$126*HLOOKUP(V$193,'Calcul de variation des prix'!$E$3:$AP$5, 3, FALSE),0))/1000","v":0.68274045417410911},{"$f":"IF(Start!$F$3=\"CONSTANT\",IF(W$126>=0,W$126,0),IF(W$126*HLOOKUP(W$193,'Calcul de variation des prix'!$E$3:$AP$5, 3, FALSE)>0,W$126*HLOOKUP(W$193,'Calcul de variation des prix'!$E$3:$AP$5, 3, FALSE),0))/1000","v":0.66508829249704071},{"$f":"IF(Start!$F$3=\"CONSTANT\",IF(X$126>=0,X$126,0),IF(X$126*HLOOKUP(X$193,'Calcul de variation des prix'!$E$3:$AP$5, 3, FALSE)>0,X$126*HLOOKUP(X$193,'Calcul de variation des prix'!$E$3:$AP$5, 3, FALSE),0))/1000","v":0.63911071114638418},{"$f":"IF(Start!$F$3=\"CONSTANT\",IF(Y$126>=0,Y$126,0),IF(Y$126*HLOOKUP(Y$193,'Calcul de variation des prix'!$E$3:$AP$5, 3, FALSE)>0,Y$126*HLOOKUP(Y$193,'Calcul de variation des prix'!$E$3:$AP$5, 3, FALSE),0))/1000","v":0.60885274347577711},{"$f":"IF(Start!$F$3=\"CONSTANT\",IF(Z$126>=0,Z$126,0),IF(Z$126*HLOOKUP(Z$193,'Calcul de variation des prix'!$E$3:$AP$5, 3, FALSE)>0,Z$126*HLOOKUP(Z$193,'Calcul de variation des prix'!$E$3:$AP$5, 3, FALSE),0))/1000","v":0.57911688991743704},{"$f":"IF(Start!$F$3=\"CONSTANT\",IF(AA$126>=0,AA$126,0),IF(AA$126*HLOOKUP(AA$193,'Calcul de variation des prix'!$E$3:$AP$5, 3, FALSE)>0,AA$126*HLOOKUP(AA$193,'Calcul de variation des prix'!$E$3:$AP$5, 3, FALSE),0))/1000","v":0.54984044647096619},{"$f":"IF(Start!$F$3=\"CONSTANT\",IF(AB$126>=0,AB$126,0),IF(AB$126*HLOOKUP(AB$193,'Calcul de variation des prix'!$E$3:$AP$5, 3, FALSE)>0,AB$126*HLOOKUP(AB$193,'Calcul de variation des prix'!$E$3:$AP$5, 3, FALSE),0))/1000","v":0.52546672276853856}]
[null,null,"Eolien terrestre - remboursement","Md€",null,{"$f":"IF(Start!$F$3=\"CONSTANT\",IF(F$126<0,F$126,0),IF(F$126*HLOOKUP(F$193,'Calcul de variation des prix'!$E$3:$AP$5, 3, FALSE)<0,F$126*HLOOKUP(F$193,'Calcul de variation des prix'!$E$3:$AP$5, 3, FALSE),0))/1000","v":0},{"$f":"IF(Start!$F$3=\"CONSTANT\",IF(G$126<0,G$126,0),IF(G$126*HLOOKUP(G$193,'Calcul de variation des prix'!$E$3:$AP$5, 3, FALSE)<0,G$126*HLOOKUP(G$193,'Calcul de variation des prix'!$E$3:$AP$5, 3, FALSE),0))/1000","v":0},{"$f":"IF(Start!$F$3=\"CONSTANT\",IF(H$126<0,H$126,0),IF(H$126*HLOOKUP(H$193,'Calcul de variation des prix'!$E$3:$AP$5, 3, FALSE)<0,H$126*HLOOKUP(H$193,'Calcul de variation des prix'!$E$3:$AP$5, 3, FALSE),0))/1000","v":0},{"$f":"IF(Start!$F$3=\"CONSTANT\",IF(I$126<0,I$126,0),IF(I$126*HLOOKUP(I$193,'Calcul de variation des prix'!$E$3:$AP$5, 3, FALSE)<0,I$126*HLOOKUP(I$193,'Calcul de variation des prix'!$E$3:$AP$5, 3, FALSE),0))/1000","v":0},{"$f":"IF(Start!$F$3=\"CONSTANT\",IF(J$126<0,J$126,0),IF(J$126*HLOOKUP(J$193,'Calcul de variation des prix'!$E$3:$AP$5, 3, FALSE)<0,J$126*HLOOKUP(J$193,'Calcul de variation des prix'!$E$3:$AP$5, 3, FALSE),0))/1000","v":0},{"$f":"IF(Start!$F$3=\"CONSTANT\",IF(K$126<0,K$126,0),IF(K$126*HLOOKUP(K$193,'Calcul de variation des prix'!$E$3:$AP$5, 3, FALSE)<0,K$126*HLOOKUP(K$193,'Calcul de variation des prix'!$E$3:$AP$5, 3, FALSE),0))/1000","v":0},{"$f":"IF(Start!$F$3=\"CONSTANT\",IF(L$126<0,L$126,0),IF(L$126*HLOOKUP(L$193,'Calcul de variation des prix'!$E$3:$AP$5, 3, FALSE)<0,L$126*HLOOKUP(L$193,'Calcul de variation des prix'!$E$3:$AP$5, 3, FALSE),0))/1000","v":0},{"$f":"IF(Start!$F$3=\"CONSTANT\",IF(M$126<0,M$126,0),IF(M$126*HLOOKUP(M$193,'Calcul de variation des prix'!$E$3:$AP$5, 3, FALSE)<0,M$126*HLOOKUP(M$193,'Calcul de variation des prix'!$E$3:$AP$5, 3, FALSE),0))/1000","v":0},{"$f":"IF(Start!$F$3=\"CONSTANT\",IF(N$126<0,N$126,0),IF(N$126*HLOOKUP(N$193,'Calcul de variation des prix'!$E$3:$AP$5, 3, FALSE)<0,N$126*HLOOKUP(N$193,'Calcul de variation des prix'!$E$3:$AP$5, 3, FALSE),0))/1000","v":0},{"$f":"IF(Start!$F$3=\"CONSTANT\",IF(O$126<0,O$126,0),IF(O$126*HLOOKUP(O$193,'Calcul de variation des prix'!$E$3:$AP$5, 3, FALSE)<0,O$126*HLOOKUP(O$193,'Calcul de variation des prix'!$E$3:$AP$5, 3, FALSE),0))/1000","v":0},{"$f":"IF(Start!$F$3=\"CONSTANT\",IF(P$126<0,P$126,0),IF(P$126*HLOOKUP(P$193,'Calcul de variation des prix'!$E$3:$AP$5, 3, FALSE)<0,P$126*HLOOKUP(P$193,'Calcul de variation des prix'!$E$3:$AP$5, 3, FALSE),0))/1000","v":0},{"$f":"IF(Start!$F$3=\"CONSTANT\",IF(Q$126<0,Q$126,0),IF(Q$126*HLOOKUP(Q$193,'Calcul de variation des prix'!$E$3:$AP$5, 3, FALSE)<0,Q$126*HLOOKUP(Q$193,'Calcul de variation des prix'!$E$3:$AP$5, 3, FALSE),0))/1000","v":0},{"$f":"IF(Start!$F$3=\"CONSTANT\",IF(R$126<0,R$126,0),IF(R$126*HLOOKUP(R$193,'Calcul de variation des prix'!$E$3:$AP$5, 3, FALSE)<0,R$126*HLOOKUP(R$193,'Calcul de variation des prix'!$E$3:$AP$5, 3, FALSE),0))/1000","v":0},{"$f":"IF(Start!$F$3=\"CONSTANT\",IF(S$126<0,S$126,0),IF(S$126*HLOOKUP(S$193,'Calcul de variation des prix'!$E$3:$AP$5, 3, FALSE)<0,S$126*HLOOKUP(S$193,'Calcul de variation des prix'!$E$3:$AP$5, 3, FALSE),0))/1000","v":0},{"$f":"IF(Start!$F$3=\"CONSTANT\",IF(T$126<0,T$126,0),IF(T$126*HLOOKUP(T$193,'Calcul de variation des prix'!$E$3:$AP$5, 3, FALSE)<0,T$126*HLOOKUP(T$193,'Calcul de variation des prix'!$E$3:$AP$5, 3, FALSE),0))/1000","v":0},{"$f":"IF(Start!$F$3=\"CONSTANT\",IF(U$126<0,U$126,0),IF(U$126*HLOOKUP(U$193,'Calcul de variation des prix'!$E$3:$AP$5, 3, FALSE)<0,U$126*HLOOKUP(U$193,'Calcul de variation des prix'!$E$3:$AP$5, 3, FALSE),0))/1000","v":0},{"$f":"IF(Start!$F$3=\"CONSTANT\",IF(V$126<0,V$126,0),IF(V$126*HLOOKUP(V$193,'Calcul de variation des prix'!$E$3:$AP$5, 3, FALSE)<0,V$126*HLOOKUP(V$193,'Calcul de variation des prix'!$E$3:$AP$5, 3, FALSE),0))/1000","v":0},{"$f":"IF(Start!$F$3=\"CONSTANT\",IF(W$126<0,W$126,0),IF(W$126*HLOOKUP(W$193,'Calcul de variation des prix'!$E$3:$AP$5, 3, FALSE)<0,W$126*HLOOKUP(W$193,'Calcul de variation des prix'!$E$3:$AP$5, 3, FALSE),0))/1000","v":0},{"$f":"IF(Start!$F$3=\"CONSTANT\",IF(X$126<0,X$126,0),IF(X$126*HLOOKUP(X$193,'Calcul de variation des prix'!$E$3:$AP$5, 3, FALSE)<0,X$126*HLOOKUP(X$193,'Calcul de variation des prix'!$E$3:$AP$5, 3, FALSE),0))/1000","v":0},{"$f":"IF(Start!$F$3=\"CONSTANT\",IF(Y$126<0,Y$126,0),IF(Y$126*HLOOKUP(Y$193,'Calcul de variation des prix'!$E$3:$AP$5, 3, FALSE)<0,Y$126*HLOOKUP(Y$193,'Calcul de variation des prix'!$E$3:$AP$5, 3, FALSE),0))/1000","v":0},{"$f":"IF(Start!$F$3=\"CONSTANT\",IF(Z$126<0,Z$126,0),IF(Z$126*HLOOKUP(Z$193,'Calcul de variation des prix'!$E$3:$AP$5, 3, FALSE)<0,Z$126*HLOOKUP(Z$193,'Calcul de variation des prix'!$E$3:$AP$5, 3, FALSE),0))/1000","v":0},{"$f":"IF(Start!$F$3=\"CONSTANT\",IF(AA$126<0,AA$126,0),IF(AA$126*HLOOKUP(AA$193,'Calcul de variation des prix'!$E$3:$AP$5, 3, FALSE)<0,AA$126*HLOOKUP(AA$193,'Calcul de variation des prix'!$E$3:$AP$5, 3, FALSE),0))/1000","v":0},{"$f":"IF(Start!$F$3=\"CONSTANT\",IF(AB$126<0,AB$126,0),IF(AB$126*HLOOKUP(AB$193,'Calcul de variation des prix'!$E$3:$AP$5, 3, FALSE)<0,AB$126*HLOOKUP(AB$193,'Calcul de variation des prix'!$E$3:$AP$5, 3, FALSE),0))/1000","v":0}]
[null,null,"Eolien en mer","Md€",null,{"$f":"IF(Start!$F$3=\"CONSTANT\",IF(F$144>=0,F$144,0),IF(F$144*HLOOKUP(F$193,'Calcul de variation des prix'!$E$3:$AP$5, 3, FALSE)>0,F$144*HLOOKUP(F$193,'Calcul de variation des prix'!$E$3:$AP$5, 3, FALSE),0))/1000","v":0},{"$f":"IF(Start!$F$3=\"CONSTANT\",IF(G$144>=0,G$144,0),IF(G$144*HLOOKUP(G$193,'Calcul de variation des prix'!$E$3:$AP$5, 3, FALSE)>0,G$144*HLOOKUP(G$193,'Calcul de variation des prix'!$E$3:$AP$5, 3, FALSE),0))/1000","v":0},{"$f":"IF(Start!$F$3=\"CONSTANT\",IF(H$144>=0,H$144,0),IF(H$144*HLOOKUP(H$193,'Calcul de variation des prix'!$E$3:$AP$5, 3, FALSE)>0,H$144*HLOOKUP(H$193,'Calcul de variation des prix'!$E$3:$AP$5, 3, FALSE),0))/1000","v":0},{"$f":"IF(Start!$F$3=\"CONSTANT\",IF(I$144>=0,I$144,0),IF(I$144*HLOOKUP(I$193,'Calcul de variation des prix'!$E$3:$AP$5, 3, FALSE)>0,I$144*HLOOKUP(I$193,'Calcul de variation des prix'!$E$3:$AP$5, 3, FALSE),0))/1000","v":0},{"$f":"IF(Start!$F$3=\"CONSTANT\",IF(J$144>=0,J$144,0),IF(J$144*HLOOKUP(J$193,'Calcul de variation des prix'!$E$3:$AP$5, 3, FALSE)>0,J$144*HLOOKUP(J$193,'Calcul de variation des prix'!$E$3:$AP$5, 3, FALSE),0))/1000","v":0},{"$f":"IF(Start!$F$3=\"CONSTANT\",IF(K$144>=0,K$144,0),IF(K$144*HLOOKUP(K$193,'Calcul de variation des prix'!$E$3:$AP$5, 3, FALSE)>0,K$144*HLOOKUP(K$193,'Calcul de variation des prix'!$E$3:$AP$5, 3, FALSE),0))/1000","v":0},{"$f":"IF(Start!$F$3=\"CONSTANT\",IF(L$144>=0,L$144,0),IF(L$144*HLOOKUP(L$193,'Calcul de variation des prix'!$E$3:$AP$5, 3, FALSE)>0,L$144*HLOOKUP(L$193,'Calcul de variation des prix'!$E$3:$AP$5, 3, FALSE),0))/1000","v":0},{"$f":"IF(Start!$F$3=\"CONSTANT\",IF(M$144>=0,M$144,0),IF(M$144*HLOOKUP(M$193,'Calcul de variation des prix'!$E$3:$AP$5, 3, FALSE)>0,M$144*HLOOKUP(M$193,'Calcul de variation des prix'!$E$3:$AP$5, 3, FALSE),0))/1000","v":8.8744197262916429E-7},{"$f":"IF(Start!$F$3=\"CONSTANT\",IF(N$144>=0,N$144,0),IF(N$144*HLOOKUP(N$193,'Calcul de variation des prix'!$E$3:$AP$5, 3, FALSE)>0,N$144*HLOOKUP(N$193,'Calcul de variation des prix'!$E$3:$AP$5, 3, FALSE),0))/1000","v":3.0881251061369866E-2},{"$f":"IF(Start!$F$3=\"CONSTANT\",IF(O$144>=0,O$144,0),IF(O$144*HLOOKUP(O$193,'Calcul de variation des prix'!$E$3:$AP$5, 3, FALSE)>0,O$144*HLOOKUP(O$193,'Calcul de variation des prix'!$E$3:$AP$5, 3, FALSE),0))/1000","v":4.8423049606959909E-2},{"$f":"IF(Start!$F$3=\"CONSTANT\",IF(P$144>=0,P$144,0),IF(P$144*HLOOKUP(P$193,'Calcul de variation des prix'!$E$3:$AP$5, 3, FALSE)>0,P$144*HLOOKUP(P$193,'Calcul de variation des prix'!$E$3:$AP$5, 3, FALSE),0))/1000","v":5.8497644980142337E-2},{"$f":"IF(Start!$F$3=\"CONSTANT\",IF(Q$144>=0,Q$144,0),IF(Q$144*HLOOKUP(Q$193,'Calcul de variation des prix'!$E$3:$AP$5, 3, FALSE)>0,Q$144*HLOOKUP(Q$193,'Calcul de variation des prix'!$E$3:$AP$5, 3, FALSE),0))/1000","v":6.2191936760619501E-2},{"$f":"IF(Start!$F$3=\"CONSTANT\",IF(R$144>=0,R$144,0),IF(R$144*HLOOKUP(R$193,'Calcul de variation des prix'!$E$3:$AP$5, 3, FALSE)>0,R$144*HLOOKUP(R$193,'Calcul de variation des prix'!$E$3:$AP$5, 3, FALSE),0))/1000","v":5.9590164014381865E-2},{"$f":"IF(Start!$F$3=\"CONSTANT\",IF(S$144>=0,S$144,0),IF(S$144*HLOOKUP(S$193,'Calcul de variation des prix'!$E$3:$AP$5, 3, FALSE)>0,S$144*HLOOKUP(S$193,'Calcul de variation des prix'!$E$3:$AP$5, 3, FALSE),0))/1000","v":7.0663283774022173E-2},{"$f":"IF(Start!$F$3=\"CONSTANT\",IF(T$144>=0,T$144,0),IF(T$144*HLOOKUP(T$193,'Calcul de variation des prix'!$E$3:$AP$5, 3, FALSE)>0,T$144*HLOOKUP(T$193,'Calcul de variation des prix'!$E$3:$AP$5, 3, FALSE),0))/1000","v":7.482273043726391E-2},{"$f":"IF(Start!$F$3=\"CONSTANT\",IF(U$144>=0,U$144,0),IF(U$144*HLOOKUP(U$193,'Calcul de variation des prix'!$E$3:$AP$5, 3, FALSE)>0,U$144*HLOOKUP(U$193,'Calcul de variation des prix'!$E$3:$AP$5, 3, FALSE),0))/1000","v":7.1560085761367756E-2},{"$f":"IF(Start!$F$3=\"CONSTANT\",IF(V$144>=0,V$144,0),IF(V$144*HLOOKUP(V$193,'Calcul de variation des prix'!$E$3:$AP$5, 3, FALSE)>0,V$144*HLOOKUP(V$193,'Calcul de variation des prix'!$E$3:$AP$5, 3, FALSE),0))/1000","v":6.0582185988697412E-2},{"$f":"IF(Start!$F$3=\"CONSTANT\",IF(W$144>=0,W$144,0),IF(W$144*HLOOKUP(W$193,'Calcul de variation des prix'!$E$3:$AP$5, 3, FALSE)>0,W$144*HLOOKUP(W$193,'Calcul de variation des prix'!$E$3:$AP$5, 3, FALSE),0))/1000","v":4.1708107200243615E-2},{"$f":"IF(Start!$F$3=\"CONSTANT\",IF(X$144>=0,X$144,0),IF(X$144*HLOOKUP(X$193,'Calcul de variation des prix'!$E$3:$AP$5, 3, FALSE)>0,X$144*HLOOKUP(X$193,'Calcul de variation des prix'!$E$3:$AP$5, 3, FALSE),0))/1000","v":1.4820142700322912E-2},{"$f":"IF(Start!$F$3=\"CONSTANT\",IF(Y$144>=0,Y$144,0),IF(Y$144*HLOOKUP(Y$193,'Calcul de variation des prix'!$E$3:$AP$5, 3, FALSE)>0,Y$144*HLOOKUP(Y$193,'Calcul de variation des prix'!$E$3:$AP$5, 3, FALSE),0))/1000","v":0},{"$f":"IF(Start!$F$3=\"CONSTANT\",IF(Z$144>=0,Z$144,0),IF(Z$144*HLOOKUP(Z$193,'Calcul de variation des prix'!$E$3:$AP$5, 3, FALSE)>0,Z$144*HLOOKUP(Z$193,'Calcul de variation des prix'!$E$3:$AP$5, 3, FALSE),0))/1000","v":0},{"$f":"IF(Start!$F$3=\"CONSTANT\",IF(AA$144>=0,AA$144,0),IF(AA$144*HLOOKUP(AA$193,'Calcul de variation des prix'!$E$3:$AP$5, 3, FALSE)>0,AA$144*HLOOKUP(AA$193,'Calcul de variation des prix'!$E$3:$AP$5, 3, FALSE),0))/1000","v":0},{"$f":"IF(Start!$F$3=\"CONSTANT\",IF(AB$144>=0,AB$144,0),IF(AB$144*HLOOKUP(AB$193,'Calcul de variation des prix'!$E$3:$AP$5, 3, FALSE)>0,AB$144*HLOOKUP(AB$193,'Calcul de variation des prix'!$E$3:$AP$5, 3, FALSE),0))/1000","v":0}]
[null,null,"Eolien en mer - remboursement","Md€",null,{"$f":"IF(Start!$F$3=\"CONSTANT\",IF(F$144<0,F$144,0),IF(F$144*HLOOKUP(F$193,'Calcul de variation des prix'!$E$3:$AP$5, 3, FALSE)<0,F$144*HLOOKUP(F$193,'Calcul de variation des prix'!$E$3:$AP$5, 3, FALSE),0))/1000","v":0},{"$f":"IF(Start!$F$3=\"CONSTANT\",IF(G$144<0,G$144,0),IF(G$144*HLOOKUP(G$193,'Calcul de variation des prix'!$E$3:$AP$5, 3, FALSE)<0,G$144*HLOOKUP(G$193,'Calcul de variation des prix'!$E$3:$AP$5, 3, FALSE),0))/1000","v":0},{"$f":"IF(Start!$F$3=\"CONSTANT\",IF(H$144<0,H$144,0),IF(H$144*HLOOKUP(H$193,'Calcul de variation des prix'!$E$3:$AP$5, 3, FALSE)<0,H$144*HLOOKUP(H$193,'Calcul de variation des prix'!$E$3:$AP$5, 3, FALSE),0))/1000","v":0},{"$f":"IF(Start!$F$3=\"CONSTANT\",IF(I$144<0,I$144,0),IF(I$144*HLOOKUP(I$193,'Calcul de variation des prix'!$E$3:$AP$5, 3, FALSE)<0,I$144*HLOOKUP(I$193,'Calcul de variation des prix'!$E$3:$AP$5, 3, FALSE),0))/1000","v":0},{"$f":"IF(Start!$F$3=\"CONSTANT\",IF(J$144<0,J$144,0),IF(J$144*HLOOKUP(J$193,'Calcul de variation des prix'!$E$3:$AP$5, 3, FALSE)<0,J$144*HLOOKUP(J$193,'Calcul de variation des prix'!$E$3:$AP$5, 3, FALSE),0))/1000","v":0},{"$f":"IF(Start!$F$3=\"CONSTANT\",IF(K$144<0,K$144,0),IF(K$144*HLOOKUP(K$193,'Calcul de variation des prix'!$E$3:$AP$5, 3, FALSE)<0,K$144*HLOOKUP(K$193,'Calcul de variation des prix'!$E$3:$AP$5, 3, FALSE),0))/1000","v":0},{"$f":"IF(Start!$F$3=\"CONSTANT\",IF(L$144<0,L$144,0),IF(L$144*HLOOKUP(L$193,'Calcul de variation des prix'!$E$3:$AP$5, 3, FALSE)<0,L$144*HLOOKUP(L$193,'Calcul de variation des prix'!$E$3:$AP$5, 3, FALSE),0))/1000","v":0},{"$f":"IF(Start!$F$3=\"CONSTANT\",IF(M$144<0,M$144,0),IF(M$144*HLOOKUP(M$193,'Calcul de variation des prix'!$E$3:$AP$5, 3, FALSE)<0,M$144*HLOOKUP(M$193,'Calcul de variation des prix'!$E$3:$AP$5, 3, FALSE),0))/1000","v":0},{"$f":"IF(Start!$F$3=\"CONSTANT\",IF(N$144<0,N$144,0),IF(N$144*HLOOKUP(N$193,'Calcul de variation des prix'!$E$3:$AP$5, 3, FALSE)<0,N$144*HLOOKUP(N$193,'Calcul de variation des prix'!$E$3:$AP$5, 3, FALSE),0))/1000","v":0},{"$f":"IF(Start!$F$3=\"CONSTANT\",IF(O$144<0,O$144,0),IF(O$144*HLOOKUP(O$193,'Calcul de variation des prix'!$E$3:$AP$5, 3, FALSE)<0,O$144*HLOOKUP(O$193,'Calcul de variation des prix'!$E$3:$AP$5, 3, FALSE),0))/1000","v":0},{"$f":"IF(Start!$F$3=\"CONSTANT\",IF(P$144<0,P$144,0),IF(P$144*HLOOKUP(P$193,'Calcul de variation des prix'!$E$3:$AP$5, 3, FALSE)<0,P$144*HLOOKUP(P$193,'Calcul de variation des prix'!$E$3:$AP$5, 3, FALSE),0))/1000","v":0},{"$f":"IF(Start!$F$3=\"CONSTANT\",IF(Q$144<0,Q$144,0),IF(Q$144*HLOOKUP(Q$193,'Calcul de variation des prix'!$E$3:$AP$5, 3, FALSE)<0,Q$144*HLOOKUP(Q$193,'Calcul de variation des prix'!$E$3:$AP$5, 3, FALSE),0))/1000","v":0},{"$f":"IF(Start!$F$3=\"CONSTANT\",IF(R$144<0,R$144,0),IF(R$144*HLOOKUP(R$193,'Calcul de variation des prix'!$E$3:$AP$5, 3, FALSE)<0,R$144*HLOOKUP(R$193,'Calcul de variation des prix'!$E$3:$AP$5, 3, FALSE),0))/1000","v":0},{"$f":"IF(Start!$F$3=\"CONSTANT\",IF(S$144<0,S$144,0),IF(S$144*HLOOKUP(S$193,'Calcul de variation des prix'!$E$3:$AP$5, 3, FALSE)<0,S$144*HLOOKUP(S$193,'Calcul de variation des prix'!$E$3:$AP$5, 3, FALSE),0))/1000","v":0},{"$f":"IF(Start!$F$3=\"CONSTANT\",IF(T$144<0,T$144,0),IF(T$144*HLOOKUP(T$193,'Calcul de variation des prix'!$E$3:$AP$5, 3, FALSE)<0,T$144*HLOOKUP(T$193,'Calcul de variation des prix'!$E$3:$AP$5, 3, FALSE),0))/1000","v":0},{"$f":"IF(Start!$F$3=\"CONSTANT\",IF(U$144<0,U$144,0),IF(U$144*HLOOKUP(U$193,'Calcul de variation des prix'!$E$3:$AP$5, 3, FALSE)<0,U$144*HLOOKUP(U$193,'Calcul de variation des prix'!$E$3:$AP$5, 3, FALSE),0))/1000","v":0},{"$f":"IF(Start!$F$3=\"CONSTANT\",IF(V$144<0,V$144,0),IF(V$144*HLOOKUP(V$193,'Calcul de variation des prix'!$E$3:$AP$5, 3, FALSE)<0,V$144*HLOOKUP(V$193,'Calcul de variation des prix'!$E$3:$AP$5, 3, FALSE),0))/1000","v":0},{"$f":"IF(Start!$F$3=\"CONSTANT\",IF(W$144<0,W$144,0),IF(W$144*HLOOKUP(W$193,'Calcul de variation des prix'!$E$3:$AP$5, 3, FALSE)<0,W$144*HLOOKUP(W$193,'Calcul de variation des prix'!$E$3:$AP$5, 3, FALSE),0))/1000","v":0},{"$f":"IF(Start!$F$3=\"CONSTANT\",IF(X$144<0,X$144,0),IF(X$144*HLOOKUP(X$193,'Calcul de variation des prix'!$E$3:$AP$5, 3, FALSE)<0,X$144*HLOOKUP(X$193,'Calcul de variation des prix'!$E$3:$AP$5, 3, FALSE),0))/1000","v":0},{"$f":"IF(Start!$F$3=\"CONSTANT\",IF(Y$144<0,Y$144,0),IF(Y$144*HLOOKUP(Y$193,'Calcul de variation des prix'!$E$3:$AP$5, 3, FALSE)<0,Y$144*HLOOKUP(Y$193,'Calcul de variation des prix'!$E$3:$AP$5, 3, FALSE),0))/1000","v":-2.0161589992773513E-2},{"$f":"IF(Start!$F$3=\"CONSTANT\",IF(Z$144<0,Z$144,0),IF(Z$144*HLOOKUP(Z$193,'Calcul de variation des prix'!$E$3:$AP$5, 3, FALSE)<0,Z$144*HLOOKUP(Z$193,'Calcul de variation des prix'!$E$3:$AP$5, 3, FALSE),0))/1000","v":-6.3293212533816048E-2},{"$f":"IF(Start!$F$3=\"CONSTANT\",IF(AA$144<0,AA$144,0),IF(AA$144*HLOOKUP(AA$193,'Calcul de variation des prix'!$E$3:$AP$5, 3, FALSE)<0,AA$144*HLOOKUP(AA$193,'Calcul de variation des prix'!$E$3:$AP$5, 3, FALSE),0))/1000","v":-0.11461530876401384},{"$f":"IF(Start!$F$3=\"CONSTANT\",IF(AB$144<0,AB$144,0),IF(AB$144*HLOOKUP(AB$193,'Calcul de variation des prix'!$E$3:$AP$5, 3, FALSE)<0,AB$144*HLOOKUP(AB$193,'Calcul de variation des prix'!$E$3:$AP$5, 3, FALSE),0))/1000","v":-0.1741579538584965}]
[null,null,"PV au sol","Md€",null,{"$f":"IF(Start!$F$3=\"CONSTANT\",IF(F$167>=0,F$167,0),IF(F$167*HLOOKUP(F$193,'Calcul de variation des prix'!$E$3:$AP$5, 3, FALSE)>0,F$167*HLOOKUP(F$193,'Calcul de variation des prix'!$E$3:$AP$5, 3, FALSE),0))/1000","v":0},{"$f":"IF(Start!$F$3=\"CONSTANT\",IF(G$167>=0,G$167,0),IF(G$167*HLOOKUP(G$193,'Calcul de variation des prix'!$E$3:$AP$5, 3, FALSE)>0,G$167*HLOOKUP(G$193,'Calcul de variation des prix'!$E$3:$AP$5, 3, FALSE),0))/1000","v":0},{"$f":"IF(Start!$F$3=\"CONSTANT\",IF(H$167>=0,H$167,0),IF(H$167*HLOOKUP(H$193,'Calcul de variation des prix'!$E$3:$AP$5, 3, FALSE)>0,H$167*HLOOKUP(H$193,'Calcul de variation des prix'!$E$3:$AP$5, 3, FALSE),0))/1000","v":3.2220226162647921E-2},{"$f":"IF(Start!$F$3=\"CONSTANT\",IF(I$167>=0,I$167,0),IF(I$167*HLOOKUP(I$193,'Calcul de variation des prix'!$E$3:$AP$5, 3, FALSE)>0,I$167*HLOOKUP(I$193,'Calcul de variation des prix'!$E$3:$AP$5, 3, FALSE),0))/1000","v":6.1825139797904854E-2},{"$f":"IF(Start!$F$3=\"CONSTANT\",IF(J$167>=0,J$167,0),IF(J$167*HLOOKUP(J$193,'Calcul de variation des prix'!$E$3:$AP$5, 3, FALSE)>0,J$167*HLOOKUP(J$193,'Calcul de variation des prix'!$E$3:$AP$5, 3, FALSE),0))/1000","v":8.8849151074593777E-2},{"$f":"IF(Start!$F$3=\"CONSTANT\",IF(K$167>=0,K$167,0),IF(K$167*HLOOKUP(K$193,'Calcul de variation des prix'!$E$3:$AP$5, 3, FALSE)>0,K$167*HLOOKUP(K$193,'Calcul de variation des prix'!$E$3:$AP$5, 3, FALSE),0))/1000","v":0.1265455905687885},{"$f":"IF(Start!$F$3=\"CONSTANT\",IF(L$167>=0,L$167,0),IF(L$167*HLOOKUP(L$193,'Calcul de variation des prix'!$E$3:$AP$5, 3, FALSE)>0,L$167*HLOOKUP(L$193,'Calcul de variation des prix'!$E$3:$AP$5, 3, FALSE),0))/1000","v":0.16037323686551325},{"$f":"IF(Start!$F$3=\"CONSTANT\",IF(M$167>=0,M$167,0),IF(M$167*HLOOKUP(M$193,'Calcul de variation des prix'!$E$3:$AP$5, 3, FALSE)>0,M$167*HLOOKUP(M$193,'Calcul de variation des prix'!$E$3:$AP$5, 3, FALSE),0))/1000","v":0.19030404635976733},{"$f":"IF(Start!$F$3=\"CONSTANT\",IF(N$167>=0,N$167,0),IF(N$167*HLOOKUP(N$193,'Calcul de variation des prix'!$E$3:$AP$5, 3, FALSE)>0,N$167*HLOOKUP(N$193,'Calcul de variation des prix'!$E$3:$AP$5, 3, FALSE),0))/1000","v":0.1985266168395875},{"$f":"IF(Start!$F$3=\"CONSTANT\",IF(O$167>=0,O$167,0),IF(O$167*HLOOKUP(O$193,'Calcul de variation des prix'!$E$3:$AP$5, 3, FALSE)>0,O$167*HLOOKUP(O$193,'Calcul de variation des prix'!$E$3:$AP$5, 3, FALSE),0))/1000","v":0.19868898488363512},{"$f":"IF(Start!$F$3=\"CONSTANT\",IF(P$167>=0,P$167,0),IF(P$167*HLOOKUP(P$193,'Calcul de variation des prix'!$E$3:$AP$5, 3, FALSE)>0,P$167*HLOOKUP(P$193,'Calcul de variation des prix'!$E$3:$AP$5, 3, FALSE),0))/1000","v":0.19345017378003046},{"$f":"IF(Start!$F$3=\"CONSTANT\",IF(Q$167>=0,Q$167,0),IF(Q$167*HLOOKUP(Q$193,'Calcul de variation des prix'!$E$3:$AP$5, 3, FALSE)>0,Q$167*HLOOKUP(Q$193,'Calcul de variation des prix'!$E$3:$AP$5, 3, FALSE),0))/1000","v":0.1828069160630032},{"$f":"IF(Start!$F$3=\"CONSTANT\",IF(R$167>=0,R$167,0),IF(R$167*HLOOKUP(R$193,'Calcul de variation des prix'!$E$3:$AP$5, 3, FALSE)>0,R$167*HLOOKUP(R$193,'Calcul de variation des prix'!$E$3:$AP$5, 3, FALSE),0))/1000","v":0.16675684358776358},{"$f":"IF(Start!$F$3=\"CONSTANT\",IF(S$167>=0,S$167,0),IF(S$167*HLOOKUP(S$193,'Calcul de variation des prix'!$E$3:$AP$5, 3, FALSE)>0,S$167*HLOOKUP(S$193,'Calcul de variation des prix'!$E$3:$AP$5, 3, FALSE),0))/1000","v":0.15212323189686536},{"$f":"IF(Start!$F$3=\"CONSTANT\",IF(T$167>=0,T$167,0),IF(T$167*HLOOKUP(T$193,'Calcul de variation des prix'!$E$3:$AP$5, 3, FALSE)>0,T$167*HLOOKUP(T$193,'Calcul de variation des prix'!$E$3:$AP$5, 3, FALSE),0))/1000","v":0.13538134072716582},{"$f":"IF(Start!$F$3=\"CONSTANT\",IF(U$167>=0,U$167,0),IF(U$167*HLOOKUP(U$193,'Calcul de variation des prix'!$E$3:$AP$5, 3, FALSE)>0,U$167*HLOOKUP(U$193,'Calcul de variation des prix'!$E$3:$AP$5, 3, FALSE),0))/1000","v":0.11659626338992669},{"$f":"IF(Start!$F$3=\"CONSTANT\",IF(V$167>=0,V$167,0),IF(V$167*HLOOKUP(V$193,'Calcul de variation des prix'!$E$3:$AP$5, 3, FALSE)>0,V$167*HLOOKUP(V$193,'Calcul de variation des prix'!$E$3:$AP$5, 3, FALSE),0))/1000","v":9.5768107825726909E-2},{"$f":"IF(Start!$F$3=\"CONSTANT\",IF(W$167>=0,W$167,0),IF(W$167*HLOOKUP(W$193,'Calcul de variation des prix'!$E$3:$AP$5, 3, FALSE)>0,W$167*HLOOKUP(W$193,'Calcul de variation des prix'!$E$3:$AP$5, 3, FALSE),0))/1000","v":7.289696912777606E-2},{"$f":"IF(Start!$F$3=\"CONSTANT\",IF(X$167>=0,X$167,0),IF(X$167*HLOOKUP(X$193,'Calcul de variation des prix'!$E$3:$AP$5, 3, FALSE)>0,X$167*HLOOKUP(X$193,'Calcul de variation des prix'!$E$3:$AP$5, 3, FALSE),0))/1000","v":4.7982931398090185E-2},{"$f":"IF(Start!$F$3=\"CONSTANT\",IF(Y$167>=0,Y$167,0),IF(Y$167*HLOOKUP(Y$193,'Calcul de variation des prix'!$E$3:$AP$5, 3, FALSE)>0,Y$167*HLOOKUP(Y$193,'Calcul de variation des prix'!$E$3:$AP$5, 3, FALSE),0))/1000","v":2.1026069290910158E-2},{"$f":"IF(Start!$F$3=\"CONSTANT\",IF(Z$167>=0,Z$167,0),IF(Z$167*HLOOKUP(Z$193,'Calcul de variation des prix'!$E$3:$AP$5, 3, FALSE)>0,Z$167*HLOOKUP(Z$193,'Calcul de variation des prix'!$E$3:$AP$5, 3, FALSE),0))/1000","v":0},{"$f":"IF(Start!$F$3=\"CONSTANT\",IF(AA$167>=0,AA$167,0),IF(AA$167*HLOOKUP(AA$193,'Calcul de variation des prix'!$E$3:$AP$5, 3, FALSE)>0,AA$167*HLOOKUP(AA$193,'Calcul de variation des prix'!$E$3:$AP$5, 3, FALSE),0))/1000","v":0},{"$f":"IF(Start!$F$3=\"CONSTANT\",IF(AB$167>=0,AB$167,0),IF(AB$167*HLOOKUP(AB$193,'Calcul de variation des prix'!$E$3:$AP$5, 3, FALSE)>0,AB$167*HLOOKUP(AB$193,'Calcul de variation des prix'!$E$3:$AP$5, 3, FALSE),0))/1000","v":0}]
[null,null,"PV au sol - remboursement","Md€",null,{"$f":"IF(Start!$F$3=\"CONSTANT\",IF(F$167<0,F$167,0),IF(F$167*HLOOKUP(F$193,'Calcul de variation des prix'!$E$3:$AP$5, 3, FALSE)<0,F$167*HLOOKUP(F$193,'Calcul de variation des prix'!$E$3:$AP$5, 3, FALSE),0))/1000","v":0},{"$f":"IF(Start!$F$3=\"CONSTANT\",IF(G$167<0,G$167,0),IF(G$167*HLOOKUP(G$193,'Calcul de variation des prix'!$E$3:$AP$5, 3, FALSE)<0,G$167*HLOOKUP(G$193,'Calcul de variation des prix'!$E$3:$AP$5, 3, FALSE),0))/1000","v":0},{"$f":"IF(Start!$F$3=\"CONSTANT\",IF(H$167<0,H$167,0),IF(H$167*HLOOKUP(H$193,'Calcul de variation des prix'!$E$3:$AP$5, 3, FALSE)<0,H$167*HLOOKUP(H$193,'Calcul de variation des prix'!$E$3:$AP$5, 3, FALSE),0))/1000","v":0},{"$f":"IF(Start!$F$3=\"CONSTANT\",IF(I$167<0,I$167,0),IF(I$167*HLOOKUP(I$193,'Calcul de variation des prix'!$E$3:$AP$5, 3, FALSE)<0,I$167*HLOOKUP(I$193,'Calcul de variation des prix'!$E$3:$AP$5, 3, FALSE),0))/1000","v":0},{"$f":"IF(Start!$F$3=\"CONSTANT\",IF(J$167<0,J$167,0),IF(J$167*HLOOKUP(J$193,'Calcul de variation des prix'!$E$3:$AP$5, 3, FALSE)<0,J$167*HLOOKUP(J$193,'Calcul de variation des prix'!$E$3:$AP$5, 3, FALSE),0))/1000","v":0},{"$f":"IF(Start!$F$3=\"CONSTANT\",IF(K$167<0,K$167,0),IF(K$167*HLOOKUP(K$193,'Calcul de variation des prix'!$E$3:$AP$5, 3, FALSE)<0,K$167*HLOOKUP(K$193,'Calcul de variation des prix'!$E$3:$AP$5, 3, FALSE),0))/1000","v":0},{"$f":"IF(Start!$F$3=\"CONSTANT\",IF(L$167<0,L$167,0),IF(L$167*HLOOKUP(L$193,'Calcul de variation des prix'!$E$3:$AP$5, 3, FALSE)<0,L$167*HLOOKUP(L$193,'Calcul de variation des prix'!$E$3:$AP$5, 3, FALSE),0))/1000","v":0},{"$f":"IF(Start!$F$3=\"CONSTANT\",IF(M$167<0,M$167,0),IF(M$167*HLOOKUP(M$193,'Calcul de variation des prix'!$E$3:$AP$5, 3, FALSE)<0,M$167*HLOOKUP(M$193,'Calcul de variation des prix'!$E$3:$AP$5, 3, FALSE),0))/1000","v":0},{"$f":"IF(Start!$F$3=\"CONSTANT\",IF(N$167<0,N$167,0),IF(N$167*HLOOKUP(N$193,'Calcul de variation des prix'!$E$3:$AP$5, 3, FALSE)<0,N$167*HLOOKUP(N$193,'Calcul de variation des prix'!$E$3:$AP$5, 3, FALSE),0))/1000","v":0},{"$f":"IF(Start!$F$3=\"CONSTANT\",IF(O$167<0,O$167,0),IF(O$167*HLOOKUP(O$193,'Calcul de variation des prix'!$E$3:$AP$5, 3, FALSE)<0,O$167*HLOOKUP(O$193,'Calcul de variation des prix'!$E$3:$AP$5, 3, FALSE),0))/1000","v":0},{"$f":"IF(Start!$F$3=\"CONSTANT\",IF(P$167<0,P$167,0),IF(P$167*HLOOKUP(P$193,'Calcul de variation des prix'!$E$3:$AP$5, 3, FALSE)<0,P$167*HLOOKUP(P$193,'Calcul de variation des prix'!$E$3:$AP$5, 3, FALSE),0))/1000","v":0},{"$f":"IF(Start!$F$3=\"CONSTANT\",IF(Q$167<0,Q$167,0),IF(Q$167*HLOOKUP(Q$193,'Calcul de variation des prix'!$E$3:$AP$5, 3, FALSE)<0,Q$167*HLOOKUP(Q$193,'Calcul de variation des prix'!$E$3:$AP$5, 3, FALSE),0))/1000","v":0},{"$f":"IF(Start!$F$3=\"CONSTANT\",IF(R$167<0,R$167,0),IF(R$167*HLOOKUP(R$193,'Calcul de variation des prix'!$E$3:$AP$5, 3, FALSE)<0,R$167*HLOOKUP(R$193,'Calcul de variation des prix'!$E$3:$AP$5, 3, FALSE),0))/1000","v":0},{"$f":"IF(Start!$F$3=\"CONSTANT\",IF(S$167<0,S$167,0),IF(S$167*HLOOKUP(S$193,'Calcul de variation des prix'!$E$3:$AP$5, 3, FALSE)<0,S$167*HLOOKUP(S$193,'Calcul de variation des prix'!$E$3:$AP$5, 3, FALSE),0))/1000","v":0},{"$f":"IF(Start!$F$3=\"CONSTANT\",IF(T$167<0,T$167,0),IF(T$167*HLOOKUP(T$193,'Calcul de variation des prix'!$E$3:$AP$5, 3, FALSE)<0,T$167*HLOOKUP(T$193,'Calcul de variation des prix'!$E$3:$AP$5, 3, FALSE),0))/1000","v":0},{"$f":"IF(Start!$F$3=\"CONSTANT\",IF(U$167<0,U$167,0),IF(U$167*HLOOKUP(U$193,'Calcul de variation des prix'!$E$3:$AP$5, 3, FALSE)<0,U$167*HLOOKUP(U$193,'Calcul de variation des prix'!$E$3:$AP$5, 3, FALSE),0))/1000","v":0},{"$f":"IF(Start!$F$3=\"CONSTANT\",IF(V$167<0,V$167,0),IF(V$167*HLOOKUP(V$193,'Calcul de variation des prix'!$E$3:$AP$5, 3, FALSE)<0,V$167*HLOOKUP(V$193,'Calcul de variation des prix'!$E$3:$AP$5, 3, FALSE),0))/1000","v":0},{"$f":"IF(Start!$F$3=\"CONSTANT\",IF(W$167<0,W$167,0),IF(W$167*HLOOKUP(W$193,'Calcul de variation des prix'!$E$3:$AP$5, 3, FALSE)<0,W$167*HLOOKUP(W$193,'Calcul de variation des prix'!$E$3:$AP$5, 3, FALSE),0))/1000","v":0},{"$f":"IF(Start!$F$3=\"CONSTANT\",IF(X$167<0,X$167,0),IF(X$167*HLOOKUP(X$193,'Calcul de variation des prix'!$E$3:$AP$5, 3, FALSE)<0,X$167*HLOOKUP(X$193,'Calcul de variation des prix'!$E$3:$AP$5, 3, FALSE),0))/1000","v":0},{"$f":"IF(Start!$F$3=\"CONSTANT\",IF(Y$167<0,Y$167,0),IF(Y$167*HLOOKUP(Y$193,'Calcul de variation des prix'!$E$3:$AP$5, 3, FALSE)<0,Y$167*HLOOKUP(Y$193,'Calcul de variation des prix'!$E$3:$AP$5, 3, FALSE),0))/1000","v":0},{"$f":"IF(Start!$F$3=\"CONSTANT\",IF(Z$167<0,Z$167,0),IF(Z$167*HLOOKUP(Z$193,'Calcul de variation des prix'!$E$3:$AP$5, 3, FALSE)<0,Z$167*HLOOKUP(Z$193,'Calcul de variation des prix'!$E$3:$AP$5, 3, FALSE),0))/1000","v":-8.1850186085494769E-3},{"$f":"IF(Start!$F$3=\"CONSTANT\",IF(AA$167<0,AA$167,0),IF(AA$167*HLOOKUP(AA$193,'Calcul de variation des prix'!$E$3:$AP$5, 3, FALSE)<0,AA$167*HLOOKUP(AA$193,'Calcul de variation des prix'!$E$3:$AP$5, 3, FALSE),0))/1000","v":-3.9650245171102175E-2},{"$f":"IF(Start!$F$3=\"CONSTANT\",IF(AB$167<0,AB$167,0),IF(AB$167*HLOOKUP(AB$193,'Calcul de variation des prix'!$E$3:$AP$5, 3, FALSE)<0,AB$167*HLOOKUP(AB$193,'Calcul de variation des prix'!$E$3:$AP$5, 3, FALSE),0))/1000","v":-8.9047283484357601E-2}]
[null,null,"PV sur toiture","Md€",null,{"$f":"IF(Start!$F$3=\"CONSTANT\",IF(F$190>=0,F$190,0),IF(F$190*HLOOKUP(F$193,'Calcul de variation des prix'!$E$3:$AP$5, 3, FALSE)>0,F$190*HLOOKUP(F$193,'Calcul de variation des prix'!$E$3:$AP$5, 3, FALSE),0))/1000","v":0},{"$f":"IF(Start!$F$3=\"CONSTANT\",IF(G$190>=0,G$190,0),IF(G$190*HLOOKUP(G$193,'Calcul de variation des prix'!$E$3:$AP$5, 3, FALSE)>0,G$190*HLOOKUP(G$193,'Calcul de variation des prix'!$E$3:$AP$5, 3, FALSE),0))/1000","v":0},{"$f":"IF(Start!$F$3=\"CONSTANT\",IF(H$190>=0,H$190,0),IF(H$190*HLOOKUP(H$193,'Calcul de variation des prix'!$E$3:$AP$5, 3, FALSE)>0,H$190*HLOOKUP(H$193,'Calcul de variation des prix'!$E$3:$AP$5, 3, FALSE),0))/1000","v":4.7838766898218352E-2},{"$f":"IF(Start!$F$3=\"CONSTANT\",IF(I$190>=0,I$190,0),IF(I$190*HLOOKUP(I$193,'Calcul de variation des prix'!$E$3:$AP$5, 3, FALSE)>0,I$190*HLOOKUP(I$193,'Calcul de variation des prix'!$E$3:$AP$5, 3, FALSE),0))/1000","v":9.4343212517228325E-2},{"$f":"IF(Start!$F$3=\"CONSTANT\",IF(J$190>=0,J$190,0),IF(J$190*HLOOKUP(J$193,'Calcul de variation des prix'!$E$3:$AP$5, 3, FALSE)>0,J$190*HLOOKUP(J$193,'Calcul de variation des prix'!$E$3:$AP$5, 3, FALSE),0))/1000","v":0.13955738255738898},{"$f":"IF(Start!$F$3=\"CONSTANT\",IF(K$190>=0,K$190,0),IF(K$190*HLOOKUP(K$193,'Calcul de variation des prix'!$E$3:$AP$5, 3, FALSE)>0,K$190*HLOOKUP(K$193,'Calcul de variation des prix'!$E$3:$AP$5, 3, FALSE),0))/1000","v":0.20701265678685865},{"$f":"IF(Start!$F$3=\"CONSTANT\",IF(L$190>=0,L$190,0),IF(L$190*HLOOKUP(L$193,'Calcul de variation des prix'!$E$3:$AP$5, 3, FALSE)>0,L$190*HLOOKUP(L$193,'Calcul de variation des prix'!$E$3:$AP$5, 3, FALSE),0))/1000","v":0.27270501848121786},{"$f":"IF(Start!$F$3=\"CONSTANT\",IF(M$190>=0,M$190,0),IF(M$190*HLOOKUP(M$193,'Calcul de variation des prix'!$E$3:$AP$5, 3, FALSE)>0,M$190*HLOOKUP(M$193,'Calcul de variation des prix'!$E$3:$AP$5, 3, FALSE),0))/1000","v":0.33659597081085574},{"$f":"IF(Start!$F$3=\"CONSTANT\",IF(N$190>=0,N$190,0),IF(N$190*HLOOKUP(N$193,'Calcul de variation des prix'!$E$3:$AP$5, 3, FALSE)>0,N$190*HLOOKUP(N$193,'Calcul de variation des prix'!$E$3:$AP$5, 3, FALSE),0))/1000","v":0.37580711462256094},{"$f":"IF(Start!$F$3=\"CONSTANT\",IF(O$190>=0,O$190,0),IF(O$190*HLOOKUP(O$193,'Calcul de variation des prix'!$E$3:$AP$5, 3, FALSE)>0,O$190*HLOOKUP(O$193,'Calcul de variation des prix'!$E$3:$AP$5, 3, FALSE),0))/1000","v":0.41047248676640019},{"$f":"IF(Start!$F$3=\"CONSTANT\",IF(P$190>=0,P$190,0),IF(P$190*HLOOKUP(P$193,'Calcul de variation des prix'!$E$3:$AP$5, 3, FALSE)>0,P$190*HLOOKUP(P$193,'Calcul de variation des prix'!$E$3:$AP$5, 3, FALSE),0))/1000","v":0.43988085819690992},{"$f":"IF(Start!$F$3=\"CONSTANT\",IF(Q$190>=0,Q$190,0),IF(Q$190*HLOOKUP(Q$193,'Calcul de variation des prix'!$E$3:$AP$5, 3, FALSE)>0,Q$190*HLOOKUP(Q$193,'Calcul de variation des prix'!$E$3:$AP$5, 3, FALSE),0))/1000","v":0.46402303852267029},{"$f":"IF(Start!$F$3=\"CONSTANT\",IF(R$190>=0,R$190,0),IF(R$190*HLOOKUP(R$193,'Calcul de variation des prix'!$E$3:$AP$5, 3, FALSE)>0,R$190*HLOOKUP(R$193,'Calcul de variation des prix'!$E$3:$AP$5, 3, FALSE),0))/1000","v":0.48289215171783989},{"$f":"IF(Start!$F$3=\"CONSTANT\",IF(S$190>=0,S$190,0),IF(S$190*HLOOKUP(S$193,'Calcul de variation des prix'!$E$3:$AP$5, 3, FALSE)>0,S$190*HLOOKUP(S$193,'Calcul de variation des prix'!$E$3:$AP$5, 3, FALSE),0))/1000","v":0.4813099241381314},{"$f":"IF(Start!$F$3=\"CONSTANT\",IF(T$190>=0,T$190,0),IF(T$190*HLOOKUP(T$193,'Calcul de variation des prix'!$E$3:$AP$5, 3, FALSE)>0,T$190*HLOOKUP(T$193,'Calcul de variation des prix'!$E$3:$AP$5, 3, FALSE),0))/1000","v":0.47835234109366798},{"$f":"IF(Start!$F$3=\"CONSTANT\",IF(U$190>=0,U$190,0),IF(U$190*HLOOKUP(U$193,'Calcul de variation des prix'!$E$3:$AP$5, 3, FALSE)>0,U$190*HLOOKUP(U$193,'Calcul de variation des prix'!$E$3:$AP$5, 3, FALSE),0))/1000","v":0.47400360715082351},{"$f":"IF(Start!$F$3=\"CONSTANT\",IF(V$190>=0,V$190,0),IF(V$190*HLOOKUP(V$193,'Calcul de variation des prix'!$E$3:$AP$5, 3, FALSE)>0,V$190*HLOOKUP(V$193,'Calcul de variation des prix'!$E$3:$AP$5, 3, FALSE),0))/1000","v":0.46826389694477383},{"$f":"IF(Start!$F$3=\"CONSTANT\",IF(W$190>=0,W$190,0),IF(W$190*HLOOKUP(W$193,'Calcul de variation des prix'!$E$3:$AP$5, 3, FALSE)>0,W$190*HLOOKUP(W$193,'Calcul de variation des prix'!$E$3:$AP$5, 3, FALSE),0))/1000","v":0.46113337269300381},{"$f":"IF(Start!$F$3=\"CONSTANT\",IF(X$190>=0,X$190,0),IF(X$190*HLOOKUP(X$193,'Calcul de variation des prix'!$E$3:$AP$5, 3, FALSE)>0,X$190*HLOOKUP(X$193,'Calcul de variation des prix'!$E$3:$AP$5, 3, FALSE),0))/1000","v":0.452612185279755},{"$f":"IF(Start!$F$3=\"CONSTANT\",IF(Y$190>=0,Y$190,0),IF(Y$190*HLOOKUP(Y$193,'Calcul de variation des prix'!$E$3:$AP$5, 3, FALSE)>0,Y$190*HLOOKUP(Y$193,'Calcul de variation des prix'!$E$3:$AP$5, 3, FALSE),0))/1000","v":0.44270047522878625},{"$f":"IF(Start!$F$3=\"CONSTANT\",IF(Z$190>=0,Z$190,0),IF(Z$190*HLOOKUP(Z$193,'Calcul de variation des prix'!$E$3:$AP$5, 3, FALSE)>0,Z$190*HLOOKUP(Z$193,'Calcul de variation des prix'!$E$3:$AP$5, 3, FALSE),0))/1000","v":0.43168093150541265},{"$f":"IF(Start!$F$3=\"CONSTANT\",IF(AA$190>=0,AA$190,0),IF(AA$190*HLOOKUP(AA$193,'Calcul de variation des prix'!$E$3:$AP$5, 3, FALSE)>0,AA$190*HLOOKUP(AA$193,'Calcul de variation des prix'!$E$3:$AP$5, 3, FALSE),0))/1000","v":0.41955363221679576},{"$f":"IF(Start!$F$3=\"CONSTANT\",IF(AB$190>=0,AB$190,0),IF(AB$190*HLOOKUP(AB$193,'Calcul de variation des prix'!$E$3:$AP$5, 3, FALSE)>0,AB$190*HLOOKUP(AB$193,'Calcul de variation des prix'!$E$3:$AP$5, 3, FALSE),0))/1000","v":0.37070306374288065}]
[null,null,"PV sur toiture - remboursement","Md€",null,{"$f":"IF(Start!$F$3=\"CONSTANT\",IF(F$190<0,F$190,0),IF(F$190*HLOOKUP(F$193,'Calcul de variation des prix'!$E$3:$AP$5, 3, FALSE)<0,F$190*HLOOKUP(F$193,'Calcul de variation des prix'!$E$3:$AP$5, 3, FALSE),0))/1000","v":0},{"$f":"IF(Start!$F$3=\"CONSTANT\",IF(G$190<0,G$190,0),IF(G$190*HLOOKUP(G$193,'Calcul de variation des prix'!$E$3:$AP$5, 3, FALSE)<0,G$190*HLOOKUP(G$193,'Calcul de variation des prix'!$E$3:$AP$5, 3, FALSE),0))/1000","v":0},{"$f":"IF(Start!$F$3=\"CONSTANT\",IF(H$190<0,H$190,0),IF(H$190*HLOOKUP(H$193,'Calcul de variation des prix'!$E$3:$AP$5, 3, FALSE)<0,H$190*HLOOKUP(H$193,'Calcul de variation des prix'!$E$3:$AP$5, 3, FALSE),0))/1000","v":0},{"$f":"IF(Start!$F$3=\"CONSTANT\",IF(I$190<0,I$190,0),IF(I$190*HLOOKUP(I$193,'Calcul de variation des prix'!$E$3:$AP$5, 3, FALSE)<0,I$190*HLOOKUP(I$193,'Calcul de variation des prix'!$E$3:$AP$5, 3, FALSE),0))/1000","v":0},{"$f":"IF(Start!$F$3=\"CONSTANT\",IF(J$190<0,J$190,0),IF(J$190*HLOOKUP(J$193,'Calcul de variation des prix'!$E$3:$AP$5, 3, FALSE)<0,J$190*HLOOKUP(J$193,'Calcul de variation des prix'!$E$3:$AP$5, 3, FALSE),0))/1000","v":0},{"$f":"IF(Start!$F$3=\"CONSTANT\",IF(K$190<0,K$190,0),IF(K$190*HLOOKUP(K$193,'Calcul de variation des prix'!$E$3:$AP$5, 3, FALSE)<0,K$190*HLOOKUP(K$193,'Calcul de variation des prix'!$E$3:$AP$5, 3, FALSE),0))/1000","v":0},{"$f":"IF(Start!$F$3=\"CONSTANT\",IF(L$190<0,L$190,0),IF(L$190*HLOOKUP(L$193,'Calcul de variation des prix'!$E$3:$AP$5, 3, FALSE)<0,L$190*HLOOKUP(L$193,'Calcul de variation des prix'!$E$3:$AP$5, 3, FALSE),0))/1000","v":0},{"$f":"IF(Start!$F$3=\"CONSTANT\",IF(M$190<0,M$190,0),IF(M$190*HLOOKUP(M$193,'Calcul de variation des prix'!$E$3:$AP$5, 3, FALSE)<0,M$190*HLOOKUP(M$193,'Calcul de variation des prix'!$E$3:$AP$5, 3, FALSE),0))/1000","v":0},{"$f":"IF(Start!$F$3=\"CONSTANT\",IF(N$190<0,N$190,0),IF(N$190*HLOOKUP(N$193,'Calcul de variation des prix'!$E$3:$AP$5, 3, FALSE)<0,N$190*HLOOKUP(N$193,'Calcul de variation des prix'!$E$3:$AP$5, 3, FALSE),0))/1000","v":0},{"$f":"IF(Start!$F$3=\"CONSTANT\",IF(O$190<0,O$190,0),IF(O$190*HLOOKUP(O$193,'Calcul de variation des prix'!$E$3:$AP$5, 3, FALSE)<0,O$190*HLOOKUP(O$193,'Calcul de variation des prix'!$E$3:$AP$5, 3, FALSE),0))/1000","v":0},{"$f":"IF(Start!$F$3=\"CONSTANT\",IF(P$190<0,P$190,0),IF(P$190*HLOOKUP(P$193,'Calcul de variation des prix'!$E$3:$AP$5, 3, FALSE)<0,P$190*HLOOKUP(P$193,'Calcul de variation des prix'!$E$3:$AP$5, 3, FALSE),0))/1000","v":0},{"$f":"IF(Start!$F$3=\"CONSTANT\",IF(Q$190<0,Q$190,0),IF(Q$190*HLOOKUP(Q$193,'Calcul de variation des prix'!$E$3:$AP$5, 3, FALSE)<0,Q$190*HLOOKUP(Q$193,'Calcul de variation des prix'!$E$3:$AP$5, 3, FALSE),0))/1000","v":0},{"$f":"IF(Start!$F$3=\"CONSTANT\",IF(R$190<0,R$190,0),IF(R$190*HLOOKUP(R$193,'Calcul de variation des prix'!$E$3:$AP$5, 3, FALSE)<0,R$190*HLOOKUP(R$193,'Calcul de variation des prix'!$E$3:$AP$5, 3, FALSE),0))/1000","v":0},{"$f":"IF(Start!$F$3=\"CONSTANT\",IF(S$190<0,S$190,0),IF(S$190*HLOOKUP(S$193,'Calcul de variation des prix'!$E$3:$AP$5, 3, FALSE)<0,S$190*HLOOKUP(S$193,'Calcul de variation des prix'!$E$3:$AP$5, 3, FALSE),0))/1000","v":0},{"$f":"IF(Start!$F$3=\"CONSTANT\",IF(T$190<0,T$190,0),IF(T$190*HLOOKUP(T$193,'Calcul de variation des prix'!$E$3:$AP$5, 3, FALSE)<0,T$190*HLOOKUP(T$193,'Calcul de variation des prix'!$E$3:$AP$5, 3, FALSE),0))/1000","v":0},{"$f":"IF(Start!$F$3=\"CONSTANT\",IF(U$190<0,U$190,0),IF(U$190*HLOOKUP(U$193,'Calcul de variation des prix'!$E$3:$AP$5, 3, FALSE)<0,U$190*HLOOKUP(U$193,'Calcul de variation des prix'!$E$3:$AP$5, 3, FALSE),0))/1000","v":0},{"$f":"IF(Start!$F$3=\"CONSTANT\",IF(V$190<0,V$190,0),IF(V$190*HLOOKUP(V$193,'Calcul de variation des prix'!$E$3:$AP$5, 3, FALSE)<0,V$190*HLOOKUP(V$193,'Calcul de variation des prix'!$E$3:$AP$5, 3, FALSE),0))/1000","v":0},{"$f":"IF(Start!$F$3=\"CONSTANT\",IF(W$190<0,W$190,0),IF(W$190*HLOOKUP(W$193,'Calcul de variation des prix'!$E$3:$AP$5, 3, FALSE)<0,W$190*HLOOKUP(W$193,'Calcul de variation des prix'!$E$3:$AP$5, 3, FALSE),0))/1000","v":0},{"$f":"IF(Start!$F$3=\"CONSTANT\",IF(X$190<0,X$190,0),IF(X$190*HLOOKUP(X$193,'Calcul de variation des prix'!$E$3:$AP$5, 3, FALSE)<0,X$190*HLOOKUP(X$193,'Calcul de variation des prix'!$E$3:$AP$5, 3, FALSE),0))/1000","v":0},{"$f":"IF(Start!$F$3=\"CONSTANT\",IF(Y$190<0,Y$190,0),IF(Y$190*HLOOKUP(Y$193,'Calcul de variation des prix'!$E$3:$AP$5, 3, FALSE)<0,Y$190*HLOOKUP(Y$193,'Calcul de variation des prix'!$E$3:$AP$5, 3, FALSE),0))/1000","v":0},{"$f":"IF(Start!$F$3=\"CONSTANT\",IF(Z$190<0,Z$190,0),IF(Z$190*HLOOKUP(Z$193,'Calcul de variation des prix'!$E$3:$AP$5, 3, FALSE)<0,Z$190*HLOOKUP(Z$193,'Calcul de variation des prix'!$E$3:$AP$5, 3, FALSE),0))/1000","v":0},{"$f":"IF(Start!$F$3=\"CONSTANT\",IF(AA$190<0,AA$190,0),IF(AA$190*HLOOKUP(AA$193,'Calcul de variation des prix'!$E$3:$AP$5, 3, FALSE)<0,AA$190*HLOOKUP(AA$193,'Calcul de variation des prix'!$E$3:$AP$5, 3, FALSE),0))/1000","v":0},{"$f":"IF(Start!$F$3=\"CONSTANT\",IF(AB$190<0,AB$190,0),IF(AB$190*HLOOKUP(AB$193,'Calcul de variation des prix'!$E$3:$AP$5, 3, FALSE)<0,AB$190*HLOOKUP(AB$193,'Calcul de variation des prix'!$E$3:$AP$5, 3, FALSE),0))/1000","v":0}]
[null,null,"Total","Md€",null,{"$f":"SUM(F194:F203)","v":3.8135013016383827},{"$f":"SUM(G194:G203)","v":4.0973951069009669},4.2571756118216273,4.4968169890381491,4.6343856297741048,4.8335141364553342,5.1729966862464698,5.3223787994241576,5.0948463332951279,4.8835905398671846,4.7291539283494997,4.5744377763979145,4.3119219753318943,3.8536077907328088,3.0677588479031601,2.5470378199226129,2.2619384120763719,2.0751466898145976,1.8806714775063824,1.6275744517387296,{"$f":"SUM(Z194:Z203)","v":1.412540358998319},1.1800980393802647,{"$f":"SUM(AB194:AB203)","v":0.9208623243821713}]
[]
[null,"Calcul des investissements annualisés"]
[]
[null,null,"Hypothèse de prix de marché de la Cour des Comptes (euros constants)"]
[null,null,{"$f":"'Données de production'!C6","v":"Eolien terrestre"},"€/MWh",null,{"$f":"F$95","v":35.257731958762882},{"$f":"G$95","v":34.794248276484417},36.257759116146332,35.95869668824411,35.662100996785703,35.367951695555341,35.076228606157592,34.786911716633114,34.499981180085868,34.215417313321609,33.933200595497674,33.653311666783829,33.375731327034238,33.100440534470323,32.827420404374543,32.556652207794862,32.288117370260032,32.021797470505334,31.757674239208942,31.495729557738642,31.235945456908908,30.97830411574823,30.722787860276622]
[null,null,{"$f":"'Données de production'!C7","v":"Eolien en mer"},"€/MWh",null,{"$f":"F$95","v":35.257731958762882},34.794248276484417,36.257759116146332,35.95869668824411,35.662100996785703,35.367951695555341,35.076228606157592,34.786911716633114,34.499981180085868,34.215417313321609,33.933200595497674,33.653311666783829,33.375731327034238,33.100440534470323,32.827420404374543,32.556652207794862,32.288117370260032,32.021797470505334,31.757674239208942,31.495729557738642,31.235945456908908,30.97830411574823,30.722787860276622]
[null,null,{"$f":"'Données de production'!C8","v":"PV au sol"},"€/MWh",null,{"$f":"F$95","v":35.257731958762882},34.794248276484417,36.257759116146332,35.95869668824411,35.662100996785703,35.367951695555341,35.076228606157592,34.786911716633114,34.499981180085868,34.215417313321609,33.933200595497674,33.653311666783829,33.375731327034238,33.100440534470323,32.827420404374543,32.556652207794862,32.288117370260032,32.021797470505334,31.757674239208942,31.495729557738642,31.235945456908908,30.97830411574823,30.722787860276622]
[null,null,{"$f":"'Données de production'!C9","v":"PV sur toiture"},"€/MWh",null,{"$f":"F$95","v":35.257731958762882},34.794248276484417,36.257759116146332,35.95869668824411,35.662100996785703,35.367951695555341,35.076228606157592,34.786911716633114,34.499981180085868,34.215417313321609,33.933200595497674,33.653311666783829,33.375731327034238,33.100440534470323,32.827420404374543,32.556652207794862,32.288117370260032,32.021797470505334,31.757674239208942,31.495729557738642,31.235945456908908,30.97830411574823,30.722787860276622]
[null,null,"Estimation de l'évolution des investissements annualisés passés"]
[null,null,{"$f":"C102","v":"Ajustement des dépenses au titre des engagements passés hors éolien en mer"},{"$f":"D102","v":"M€"},null,{"$f":"F$94+(SUMPRODUCT('Données - Graphiques'!$F$13:$F$14,F$76:F$77,F211:F212)+SUMPRODUCT('Données - Graphiques'!$F$11,F$74,F209))*8760*1000/1000000*F$94/MAX($F$94:$AB$94)","v":5978.6278859420418},{"$f":"G$94+(SUMPRODUCT('Données - Graphiques'!$F$13:$F$14,G$76:G$77,G211:G212)+SUMPRODUCT('Données - Graphiques'!$F$11,G$74,G209))*8760*1000/1000000*G$94/MAX($F$94:$AB$94)","v":6384.1792310810315},{"$f":"H$94+(SUMPRODUCT('Données - Graphiques'!$F$13:$F$14,H$76:H$77,H211:H212)+SUMPRODUCT('Données - Graphiques'!$F$11,H$74,H209))*8760*1000/1000000*H$94/MAX($F$94:$AB$94)","v":6394.2110781353949},{"$f":"I$94+(SUMPRODUCT('Données - Graphiques'!$F$13:$F$14,I$76:I$77,I211:I212)+SUMPRODUCT('Données - Graphiques'!$F$11,I$74,I209))*8760*1000/1000000*I$94/MAX($F$94:$AB$94)","v":6300.8818050429218},{"$f":"J$94+(SUMPRODUCT('Données - Graphiques'!$F$13:$F$14,J$76:J$77,J211:J212)+SUMPRODUCT('Données - Graphiques'!$F$11,J$74,J209))*8760*1000/1000000*J$94/MAX($F$94:$AB$94)","v":6037.8436681934572},{"$f":"K$94+(SUMPRODUCT('Données - Graphiques'!$F$13:$F$14,K$76:K$77,K211:K212)+SUMPRODUCT('Données - Graphiques'!$F$11,K$74,K209))*8760*1000/1000000*K$94/MAX($F$94:$AB$94)","v":5943.3524963369355},{"$f":"L$94+(SUMPRODUCT('Données - Graphiques'!$F$13:$F$14,L$76:L$77,L211:L212)+SUMPRODUCT('Données - Graphiques'!$F$11,L$74,L209))*8760*1000/1000000*L$94/MAX($F$94:$AB$94)","v":5881.3670804135709},{"$f":"M$94+(SUMPRODUCT('Données - Graphiques'!$F$13:$F$14,M$76:M$77,M211:M212)+SUMPRODUCT('Données - Graphiques'!$F$11,M$74,M209))*8760*1000/1000000*M$94/MAX($F$94:$AB$94)","v":5748.7922534976888},{"$f":"N$94+(SUMPRODUCT('Données - Graphiques'!$F$13:$F$14,N$76:N$77,N211:N212)+SUMPRODUCT('Données - Graphiques'!$F$11,N$74,N209))*8760*1000/1000000*N$94/MAX($F$94:$AB$94)","v":5323.6127458023138},{"$f":"O$94+(SUMPRODUCT('Données - Graphiques'!$F$13:$F$14,O$76:O$77,O211:O212)+SUMPRODUCT('Données - Graphiques'!$F$11,O$74,O209))*8760*1000/1000000*O$94/MAX($F$94:$AB$94)","v":4965.1884508830444},{"$f":"P$94+(SUMPRODUCT('Données - Graphiques'!$F$13:$F$14,P$76:P$77,P211:P212)+SUMPRODUCT('Données - Graphiques'!$F$11,P$74,P209))*8760*1000/1000000*P$94/MAX($F$94:$AB$94)","v":4734.6923425768155},{"$f":"Q$94+(SUMPRODUCT('Données - Graphiques'!$F$13:$F$14,Q$76:Q$77,Q211:Q212)+SUMPRODUCT('Données - Graphiques'!$F$11,Q$74,Q209))*8760*1000/1000000*Q$94/MAX($F$94:$AB$94)","v":4549.6904281104871},{"$f":"R$94+(SUMPRODUCT('Données - Graphiques'!$F$13:$F$14,R$76:R$77,R211:R212)+SUMPRODUCT('Données - Graphiques'!$F$11,R$74,R209))*8760*1000/1000000*R$94/MAX($F$94:$AB$94)","v":4229.8416740737612},{"$f":"S$94+(SUMPRODUCT('Données - Graphiques'!$F$13:$F$14,S$76:S$77,S211:S212)+SUMPRODUCT('Données - Graphiques'!$F$11,S$74,S209))*8760*1000/1000000*S$94/MAX($F$94:$AB$94)","v":3411.8075124443212},{"$f":"T$94+(SUMPRODUCT('Données - Graphiques'!$F$13:$F$14,T$76:T$77,T211:T212)+SUMPRODUCT('Données - Graphiques'!$F$11,T$74,T209))*8760*1000/1000000*T$94/MAX($F$94:$AB$94)","v":2076.026356224811},{"$f":"U$94+(SUMPRODUCT('Données - Graphiques'!$F$13:$F$14,U$76:U$77,U211:U212)+SUMPRODUCT('Données - Graphiques'!$F$11,U$74,U209))*8760*1000/1000000*U$94/MAX($F$94:$AB$94)","v":1238.3985712480082},{"$f":"V$94+(SUMPRODUCT('Données - Graphiques'!$F$13:$F$14,V$76:V$77,V211:V212)+SUMPRODUCT('Données - Graphiques'!$F$11,V$74,V209))*8760*1000/1000000*V$94/MAX($F$94:$AB$94)","v":846.11527135236815},{"$f":"W$94+(SUMPRODUCT('Données - Graphiques'!$F$13:$F$14,W$76:W$77,W211:W212)+SUMPRODUCT('Données - Graphiques'!$F$11,W$74,W209))*8760*1000/1000000*W$94/MAX($F$94:$AB$94)","v":662.61136925099777},{"$f":"X$94+(SUMPRODUCT('Données - Graphiques'!$F$13:$F$14,X$76:X$77,X211:X212)+SUMPRODUCT('Données - Graphiques'!$F$11,X$74,X209))*8760*1000/1000000*X$94/MAX($F$94:$AB$94)","v":502.13386774069113},{"$f":"Y$94+(SUMPRODUCT('Données - Graphiques'!$F$13:$F$14,Y$76:Y$77,Y211:Y212)+SUMPRODUCT('Données - Graphiques'!$F$11,Y$74,Y209))*8760*1000/1000000*Y$94/MAX($F$94:$AB$94)","v":265.89184337068195},{"$f":"Z$94+(SUMPRODUCT('Données - Graphiques'!$F$13:$F$14,Z$76:Z$77,Z211:Z212)+SUMPRODUCT('Données - Graphiques'!$F$11,Z$74,Z209))*8760*1000/1000000*Z$94/MAX($F$94:$AB$94)","v":116.69626188487457},{"$f":"AA$94+(SUMPRODUCT('Données - Graphiques'!$F$13:$F$14,AA$76:AA$77,AA211:AA212)+SUMPRODUCT('Données - Graphiques'!$F$11,AA$74,AA209))*8760*1000/1000000*AA$94/MAX($F$94:$AB$94)","v":0},{"$f":"AB$94+(SUMPRODUCT('Données - Graphiques'!$F$13:$F$14,AB$76:AB$77,AB211:AB212)+SUMPRODUCT('Données - Graphiques'!$F$11,AB$74,AB209))*8760*1000/1000000*AB$94/MAX($F$94:$AB$94)","v":0}]
[null,null,{"$f":"C103","v":"Ajustement des dépenses au titre des engagements AO éolien en mer 2011-2013"},{"$f":"D103","v":"M€"},null,{"$f":"F$93+(SUMPRODUCT('Données - Graphiques'!$F$12,F$75,F210))*8760*1000/1000000*F$93/MAX($F$93:$AB$93)","v":0},{"$f":"G$93+(SUMPRODUCT('Données - Graphiques'!$F$12,G$75,G210))*8760*1000/1000000*G$93/MAX($F$93:$AB$93)","v":0},{"$f":"H$93+(SUMPRODUCT('Données - Graphiques'!$F$12,H$75,H210))*8760*1000/1000000*H$93/MAX($F$93:$AB$93)","v":0},{"$f":"I$93+(SUMPRODUCT('Données - Graphiques'!$F$12,I$75,I210))*8760*1000/1000000*I$93/MAX($F$93:$AB$93)","v":279.28185277476393},{"$f":"J$93+(SUMPRODUCT('Données - Graphiques'!$F$12,J$75,J210))*8760*1000/1000000*J$93/MAX($F$93:$AB$93)","v":544.72066369895356},{"$f":"K$93+(SUMPRODUCT('Données - Graphiques'!$F$12,K$75,K210))*8760*1000/1000000*K$93/MAX($F$93:$AB$93)","v":644.29775279138187},{"$f":"L$93+(SUMPRODUCT('Données - Graphiques'!$F$12,L$75,L210))*8760*1000/1000000*L$93/MAX($F$93:$AB$93)","v":915.5788953810013},{"$f":"M$93+(SUMPRODUCT('Données - Graphiques'!$F$12,M$75,M210))*8760*1000/1000000*M$93/MAX($F$93:$AB$93)","v":976.38532601625911},{"$f":"N$93+(SUMPRODUCT('Données - Graphiques'!$F$12,N$75,N210))*8760*1000/1000000*N$93/MAX($F$93:$AB$93)","v":935.17771810806175},{"$f":"O$93+(SUMPRODUCT('Données - Graphiques'!$F$12,O$75,O210))*8760*1000/1000000*O$93/MAX($F$93:$AB$93)","v":901.23499306664553},{"$f":"P$93+(SUMPRODUCT('Données - Graphiques'!$F$12,P$75,P210))*8760*1000/1000000*P$93/MAX($F$93:$AB$93)","v":871.56544473795623},{"$f":"Q$93+(SUMPRODUCT('Données - Graphiques'!$F$12,Q$75,Q210))*8760*1000/1000000*Q$93/MAX($F$93:$AB$93)","v":844.70140345260415},{"$f":"R$93+(SUMPRODUCT('Données - Graphiques'!$F$12,R$75,R210))*8760*1000/1000000*R$93/MAX($F$93:$AB$93)","v":819.83591806404957},{"$f":"S$93+(SUMPRODUCT('Données - Graphiques'!$F$12,S$75,S210))*8760*1000/1000000*S$93/MAX($F$93:$AB$93)","v":870.63968451140181},{"$f":"T$93+(SUMPRODUCT('Données - Graphiques'!$F$12,T$75,T210))*8760*1000/1000000*T$93/MAX($F$93:$AB$93)","v":900.93737428011787},{"$f":"U$93+(SUMPRODUCT('Données - Graphiques'!$F$12,U$75,U210))*8760*1000/1000000*U$93/MAX($F$93:$AB$93)","v":917.78201088317439},{"$f":"V$93+(SUMPRODUCT('Données - Graphiques'!$F$12,V$75,V210))*8760*1000/1000000*V$93/MAX($F$93:$AB$93)","v":925.41992406392183},{"$f":"W$93+(SUMPRODUCT('Données - Graphiques'!$F$12,W$75,W210))*8760*1000/1000000*W$93/MAX($F$93:$AB$93)","v":926.55331782331871},{"$f":"X$93+(SUMPRODUCT('Données - Graphiques'!$F$12,X$75,X210))*8760*1000/1000000*X$93/MAX($F$93:$AB$93)","v":922.97976117145345},{"$f":"Y$93+(SUMPRODUCT('Données - Graphiques'!$F$12,Y$75,Y210))*8760*1000/1000000*Y$93/MAX($F$93:$AB$93)","v":915.93899280865219},{"$f":"Z$93+(SUMPRODUCT('Données - Graphiques'!$F$12,Z$75,Z210))*8760*1000/1000000*Z$93/MAX($F$93:$AB$93)","v":906.31189422808029},{"$f":"AA$93+(SUMPRODUCT('Données - Graphiques'!$F$12,AA$75,AA210))*8760*1000/1000000*AA$93/MAX($F$93:$AB$93)","v":859.31295782174288},{"$f":"AB$93+(SUMPRODUCT('Données - Graphiques'!$F$12,AB$75,AB210))*8760*1000/1000000*AB$93/MAX($F$93:$AB$93)","v":763.14199934977023}]
[null,null,"Estimation de l'évolution des investissements annualisés futurs par technologie"]
[null,null,{"$f":"'Données de production'!C6","v":"Eolien terrestre"}]
[null,null,2021,"M€",null,null,null,null,{"$f":"($I$58-$H$58)*1000*I$74*8760*$F$79/1000000","v":266.10089672169192},{"$f":"($I$58-$H$58)*1000*J$74*8760*$F$79/1000000","v":270.99273906806843},277.87788204785426,283.81291791337321,288.98181665592949,291.21229109978111,293.16418892350441,294.88663209079419,296.4178346720426,297.78797132495629,295.0980403526566,292.70732401281543,290.56852796361073,288.64382622709468,286.9026046615777,285.3198204122815,283.87478970488598,282.55027894417043,281.33181412414962,280.20714972811982]
[null,null,2022,"M€",null,null,null,null,null,{"$f":"($J$58-$I$58)*1000*J$74*8760*$G$79/1000000","v":267.88558373275754},274.69178286770978,280.55876865034378,285.66840170422938,287.87330191833479,289.8028196231005,291.50551355837985,293.01915963871932,294.37358654447945,291.71449785009816,289.35119304554786,287.23692005765577,285.33428661451927,283.61302959084156,282.04839326883592,280.61993103071961,279.31060687866011,278.10611276309214,276.99434357226443]
[null,null,2023,"M€",null,null,null,null,null,null,{"$f":"($K$58-$J$58)*1000*K$74*8760*$H$79/1000000","v":254.07568917925116},259.50234752543662,264.22849377584811,266.26791241306336,268.05261647484463,269.62752028358267,271.02756460606224,272.28033942856092,269.8208199425373,267.63488525352653,265.67929211235685,263.91945460184348,262.32738089661677,260.88017323835226,259.55891956331709,258.34786245479853,257.23376770711309,256.20543871809537]
[null,null,2024,"M€",null,null,null,null,null,null,null,{"$f":"($L$58-$K$58)*1000*L$74*8760*$I$79/1000000","v":256.45710661013186},261.12779188274988,263.14327809262215,264.90703878382323,266.46346121248217,267.84707611806169,269.08514972038449,266.65449251419085,264.4942096075884,262.5615652077459,260.82237926066699,259.2489884229887,257.81876363989244,256.51301477931884,255.31616933667843,254.21514840871569,253.19888678456624]
[null,null,2025,"M€",null,null,null,null,null,null,null,null,{"$f":"($M$58-$L$58)*1000*M$74*8760*$J$79/1000000","v":258.02708998966},260.01864377218942,261.76146109281041,263.29940214139032,264.66658763006973,265.88996001221659,263.48816508585293,261.35353396165868,259.44383830314348,257.72530391949891,256.17059594936899,254.75735404144095,253.46710999532885,252.28447621856657,251.19652911032657,250.1923348510453]
[null,null,2026,"M€",null,null,null,null,null,null,null,null,null,{"$f":"($N$58-$M$58)*1000*N$74*8760*$K$79/1000000","v":284.02619997126141},285.92993184847927,287.60987120002312,289.10328910795459,290.43961562596928,287.81606265242561,285.48434075068195,283.39832263628506,281.52111574286653,279.82286137766062,278.2791346551237,276.86976220345508,275.5779356917156,274.3895382812828,273.29262663156857]
[null,null,2027,"M€",null,null,null,null,null,null,null,null,null,null,{"$f":"($O$58-$N$58)*1000*O$74*8760*$L$79/1000000","v":282.4521299324947},284.11163596928282,285.58688924636232,286.9069618559642,284.31531948897742,282.0119586155634,279.95131300326221,278.09693881465489,276.41934053203181,274.89439035282032,273.50216027649191,272.22604641396202,271.05210363150127,269.96853385688343]
[null,null,2028,"M€",null,null,null,null,null,null,null,null,null,null,null,{"$f":"($P$58-$O$58)*1000*P$74*8760*$M$79/1000000","v":280.61340073862033},282.0704893848482,283.37430808603767,280.81457632560722,278.53957648052216,276.50430337031599,274.67276188651954,273.01581968647872,271.50964605059232,270.13455834960365,268.87415713628297,267.71466898179403,266.64444108227224]
[null,null,2029,"M€",null,null,null,null,null,null,null,null,null,null,null,null,{"$f":"($Q$58-$P$58)*1000*Q$74*8760*$N$79/1000000","v":275.11267393266559},276.3843314179627,273.88774040378678,271.66885784027335,269.68378868698051,267.89742572457089,266.28135521609897,264.81233427286145,263.47116577580977,262.24185480187259,261.11096767053749,260.06713901693792]
[null,null,2030,"M€",null,null,null,null,null,null,null,null,null,null,null,null,null,{"$f":"($R$58-$Q$58)*1000*R$74*8760*$O$79/1000000","v":269.39435475017024},266.96090448224641,264.79813920030222,262.86327400392076,261.12208956289624,259.54689074599145,258.11502249540138,256.80777320228526,255.60955246773034,254.507266359548,253.48983695186945]
[null,null,2031,"M€",null,null,null,null,null,null,null,null,null,null,null,null,null,null,{"$f":"($S$58-$R$58)*1000*S$74*8760*$P$79/1000000","v":309.39550636704763},306.88896009631947,304.64653962524915,302.62858631162067,300.80300276211102,299.14353279851673,297.6284905200377,296.23980736575294,294.9623080657567,293.7831538094735]
[null,null,2032,"M€",null,null,null,null,null,null,null,null,null,null,null,null,null,null,null,{"$f":"($T$58-$S$58)*1000*T$74*8760*$Q$79/1000000","v":298.71399485224293},296.53130839509038,294.56710969745689,292.79015638235757,291.17489168855104,289.70020738829976,288.34851623437146,287.10504719852526,285.95730347281153]
[null,null,2033,"M€",null,null,null,null,null,null,null,null,null,null,null,null,null,null,null,null,{"$f":"($U$58-$T$58)*1000*U$74*8760*$R$79/1000000","v":288.41607716488801},286.50563308324979,284.77731000256097,283.20625057854261,281.77192425651913,280.45722510294763,279.24778633125163,278.1314531361075]
[null,null,2034,"M€",null,null,null,null,null,null,null,null,null,null,null,null,null,null,null,null,null,{"$f":"($V$58-$U$58)*1000*V$74*8760*$S$79/1000000","v":281.44814972817846},279.75033552481494,278.20700891289277,276.79800174924441,275.50651005939557,274.31842066359485,273.22179331678745]
[null,null,2035,"M€",null,null,null,null,null,null,null,null,null,null,null,null,null,null,null,null,null,null,{"$f":"($W$58-$V$58)*1000*W$74*8760*$T$79/1000000","v":274.72336104705033},273.20776724722458,271.82407924195127,270.5557950158252,269.38905499591988,268.31213349744934]
[null,null,2036,"M€",null,null,null,null,null,null,null,null,null,null,null,null,null,null,null,null,null,null,null,{"$f":"($X$58-$W$58)*1000*X$74*8760*$U$79/1000000","v":268.20852558161545},{"$f":"($X$58-$W$58)*1000*Y$74*8760*$U$79/1000000","v":266.85015673471696},{"$f":"($X$58-$W$58)*1000*Z$74*8760*$U$79/1000000","v":265.60507997231332},{"$f":"($X$58-$W$58)*1000*AA$74*8760*$U$79/1000000","v":264.45968932830328},{"$f":"($X$58-$W$58)*1000*AB$74*8760*$U$79/1000000","v":263.40247367816926}]
[null,null,2037,"M€",null,null,null,null,null,null,null,null,null,null,null,null,null,null,null,null,null,null,null,null,{"$f":"($Y$58-$X$58)*1000*Y$74*8760*$V$79/1000000","v":261.87623422742428},{"$f":"($Y$58-$X$58)*1000*Z$74*8760*$V$79/1000000","v":260.65436492874341},{"$f":"($Y$58-$X$58)*1000*AA$74*8760*$V$79/1000000","v":259.53032366062871},{"$f":"($Y$58-$X$58)*1000*AB$74*8760*$V$79/1000000","v":258.49281385883148}]
[null,null,2038,"M€",null,null,null,null,null,null,null,null,null,null,null,null,null,null,null,null,null,null,null,null,null,{"$f":"($Z$58-$Y$58)*1000*Z$74*8760*$W$79/1000000","v":255.70364988509891},{"$f":"($Z$58-$Y$58)*1000*AA$74*8760*$W$79/1000000","v":254.60095799288001},{"$f":"($Z$58-$Y$58)*1000*AB$74*8760*$W$79/1000000","v":253.58315403941992}]
[null,null,2039,"M€",null,null,null,null,null,null,null,null,null,null,null,null,null,null,null,null,null,null,null,null,null,null,{"$f":"($AA$58-$Z$58)*1000*AA$74*8760*$X$79/1000000","v":249.81239909607649},{"$f":"($AA$58-$Z$58)*1000*AB$74*8760*$X$79/1000000","v":248.81373809563175}]
[null,null,2040,"M€",null,null,null,null,null,null,null,null,null,null,null,null,null,null,null,null,null,null,null,null,null,null,null,{"$f":"($AB$58-$AA$58)*1000*AB$74*8760*$Y$79/1000000","v":244.04432215176979}]
[null,null,"Total","M€",null,{"$f":"SUMIF(F218:F237,\">0\")","v":0},{"$f":"SUMIF(G218:G237,\">0\")","v":0},0,266.10089672169192,538.87832280082603,806.64535409481527,1080.3311406992855,1358.0335940084169,1652.5416272672521,1946.0701866790571,2238.1174371945554,2524.8515643367864,2805.9165787667016,3089.966125465427,3363.6469737170423,3627.4850705305048,3884.9050611756375,4136.193032798551,4381.5830092349452,4621.2682789994087,4855.4098889088855,5084.2839043709964,5308.0030702500735]
[null,null,{"$f":"'Données de production'!C7","v":"Eolien en mer"}]
[null,null,2025,"M€",null,null,null,null,null,null,null,null,{"$f":"($M$59-3)*1000*M$75*8760*$F$80/1000000","v":48.80930849460421},{"$f":"($M$59-3)*1000*N$75*8760*$F$80/1000000","v":48.112431478672079},47.652381959557367,47.325968660529831,47.082347769038421,46.893564939038733,50.120911289294689,52.481595493394423,54.283389797578167,55.703761610831293,56.852233676975935,57.800060036647416,58.595597748607084,59.272820195962794,59.856294907841622,60.364227966200176]
[null,null,2026,"M€",null,null,null,null,null,null,null,null,null,{"$f":"IF(Start!$D$3=\"PPE - AMPERE\",0.2*1000*N$75*8760*$G$80/1000000+($N$59-$M$59+0.2)*1000*N$75*8760*$H$80/1000000,($N$59-$M$59)*1000*N$75*8760*$G$80/1000000)","v":182.91102371836692},{"$f":"IF(Start!$D$3=\"PPE - AMPERE\",0.2*1000*O$75*8760*$G$80/1000000+($N$59-$M$59+0.2)*1000*O$75*8760*$H$80/1000000,($N$59-$M$59)*1000*O$75*8760*$G$80/1000000)","v":181.16203440487286},{"$f":"IF(Start!$D$3=\"PPE - AMPERE\",0.2*1000*P$75*8760*$G$80/1000000+($N$59-$M$59+0.2)*1000*P$75*8760*$H$80/1000000,($N$59-$M$59)*1000*P$75*8760*$G$80/1000000)","v":179.92109544491015},{"$f":"IF(Start!$D$3=\"PPE - AMPERE\",0.2*1000*Q$75*8760*$G$80/1000000+($N$59-$M$59+0.2)*1000*Q$75*8760*$H$80/1000000,($N$59-$M$59)*1000*Q$75*8760*$G$80/1000000)","v":178.99491181019556},{"$f":"IF(Start!$D$3=\"PPE - AMPERE\",0.2*1000*R$75*8760*$G$80/1000000+($N$59-$M$59+0.2)*1000*R$75*8760*$H$80/1000000,($N$59-$M$59)*1000*R$75*8760*$G$80/1000000)","v":178.27720830541637},{"$f":"IF(Start!$D$3=\"PPE - AMPERE\",0.2*1000*S$75*8760*$G$80/1000000+($N$59-$M$59+0.2)*1000*S$75*8760*$H$80/1000000,($N$59-$M$59)*1000*S$75*8760*$G$80/1000000)","v":190.5467446118642},{"$f":"IF(Start!$D$3=\"PPE - AMPERE\",0.2*1000*T$75*8760*$G$80/1000000+($N$59-$M$59+0.2)*1000*T$75*8760*$H$80/1000000,($N$59-$M$59)*1000*T$75*8760*$G$80/1000000)","v":199.52145553744012},{"$f":"IF(Start!$D$3=\"PPE - AMPERE\",0.2*1000*U$75*8760*$G$80/1000000+($N$59-$M$59+0.2)*1000*U$75*8760*$H$80/1000000,($N$59-$M$59)*1000*U$75*8760*$G$80/1000000)","v":206.37141157955506},{"$f":"IF(Start!$D$3=\"PPE - AMPERE\",0.2*1000*V$75*8760*$G$80/1000000+($N$59-$M$59+0.2)*1000*V$75*8760*$H$80/1000000,($N$59-$M$59)*1000*V$75*8760*$G$80/1000000)","v":211.7712979381983},{"$f":"IF(Start!$D$3=\"PPE - AMPERE\",0.2*1000*W$75*8760*$G$80/1000000+($N$59-$M$59+0.2)*1000*W$75*8760*$H$80/1000000,($N$59-$M$59)*1000*W$75*8760*$G$80/1000000)","v":216.13749176532986},{"$f":"IF(Start!$D$3=\"PPE - AMPERE\",0.2*1000*X$75*8760*$G$80/1000000+($N$59-$M$59+0.2)*1000*X$75*8760*$H$80/1000000,($N$59-$M$59)*1000*X$75*8760*$G$80/1000000)","v":219.74088249879586},{"$f":"IF(Start!$D$3=\"PPE - AMPERE\",0.2*1000*Y$75*8760*$G$80/1000000+($N$59-$M$59+0.2)*1000*Y$75*8760*$H$80/1000000,($N$59-$M$59)*1000*Y$75*8760*$G$80/1000000)","v":222.7653111719884},{"$f":"IF(Start!$D$3=\"PPE - AMPERE\",0.2*1000*Z$75*8760*$G$80/1000000+($N$59-$M$59+0.2)*1000*Z$75*8760*$H$80/1000000,($N$59-$M$59)*1000*Z$75*8760*$G$80/1000000)","v":225.33993580275151},{"$f":"IF(Start!$D$3=\"PPE - AMPERE\",0.2*1000*AA$75*8760*$G$80/1000000+($N$59-$M$59+0.2)*1000*AA$75*8760*$H$80/1000000,($N$59-$M$59)*1000*AA$75*8760*$G$80/1000000)","v":227.55815578423068},{"$f":"IF(Start!$D$3=\"PPE - AMPERE\",0.2*1000*AB$75*8760*$G$80/1000000+($N$59-$M$59+0.2)*1000*AB$75*8760*$H$80/1000000,($N$59-$M$59)*1000*AB$75*8760*$G$80/1000000)","v":229.48918593235257}]
[null,null,2027,"M€",null,null,null,null,null,null,null,null,null,null,{"$f":"($O$59-$N$59)*1000*O$75*8760*$I$80/1000000","v":128.54113378080876},{"$f":"($O$59-$N$59)*1000*P$75*8760*$I$80/1000000","v":127.66064189744925},127.00348050661734,126.49424344419508,135.19993121689311,141.56781906667493,146.42811509334874,150.25953328815822,153.35750857138987,155.91424697332141,158.06019047615558,159.88698144913982,161.46089020066853,162.83102719112523]
[null,null,2028,"M€",null,null,null,null,null,null,null,null,null,null,null,{"$f":"($P$59-$O$59)*1000*P$75*8760*$K$80/1000000","v":125.82379812920549},{"$f":"($P$59-$O$59)*1000*Q$75*8760*$K$80/1000000","v":125.17609229795355},124.67418238750832,133.25460846563959,139.53087202981624,144.32123573956204,148.09752561502364,151.15092571432547,153.67087651335282,155.78594313125521,157.58644934203917,159.13771192448195,160.48813471363783]
[null,null,2029,"M€",null,null,null,null,null,null,null,null,null,null,null,null,{"$f":"($Q$59-$P$59)*1000*Q$75*8760*$L$80/1000000","v":124.26239819352477},{"$f":"($Q$59-$P$59)*1000*R$75*8760*$L$80/1000000","v":123.76415185906846},132.28194708990969,138.51239851127895,143.26779606255693,147.01652177834174,150.04763428567631,152.54919128324963,154.64881945868447,156.43618328836692,157.97612278626551,159.3166884747699]
[null,null,2030,"M€",null,null,null,null,null,null,null,null,null,null,null,null,null,{"$f":"($R$59-$Q$59)*1000*R$75*8760*$M$80/1000000","v":122.85412133074286},{"$f":"($R$59-$Q$59)*1000*S$75*8760*$M$80/1000000","v":131.30928571430192},137.49392499286947,142.21435638568414,145.93551794179555,148.94434285716562,151.42750605328717,153.5116957862565,155.28591723483902,156.81453364819487,158.14524223604906]
[null,null,2031,"M€",null,null,null,null,null,null,null,null,null,null,null,null,null,null,{"$f":"($S$59-$R$59)*1000*S$75*8760*$N$80/1000000","v":212.57433862431711},{"$f":"($S$59-$R$59)*1000*T$75*8760*$N$80/1000000","v":222.58654451759972},230.22836951032949,236.25249379370803,241.12342857141121,245.14337865521779,248.51743747857853,251.38969399078067,253.86434474614612,256.01860593510935]
[null,null,2032,"M€",null,null,null,null,null,null,null,null,null,null,null,null,null,null,null,{"$f":"($T$59-$S$59)*1000*T$75*8760*$O$80/1000000","v":220.92545090181682},{"$f":"($T$59-$S$59)*1000*U$75*8760*$O$80/1000000","v":228.51024734982536},234.48941548183595,239.32400000000453,243.31395045632033,246.66282973622347,249.51365149833475,251.96983471074995,254.10801932367639]
[null,null,2033,"M€",null,null,null,null,null,null,null,null,null,null,null,null,null,null,null,null,{"$f":"($U$59-$T$59)*1000*U$75*8760*$P$80/1000000","v":226.79212518929998},{"$f":"($U$59-$T$59)*1000*V$75*8760*$P$80/1000000","v":232.72633716994204},237.52457142857551,241.48452225740022,244.80822199384539,247.63760900586567,250.07532467533034,252.19743271221972]
[null,null,2034,"M€",null,null,null,null,null,null,null,null,null,null,null,null,null,null,null,null,null,{"$f":"($V$59-$U$59)*1000*V$75*8760*$Q$80/1000000","v":230.96325885804865},{"$f":"($V$59-$U$59)*1000*W$75*8760*$Q$80/1000000","v":235.72514285714703},239.65509405848061,242.95361425146788,245.76156651339707,248.18081463991129,250.28684610076363]
[null,null,2035,"M€",null,null,null,null,null,null,null,null,null,null,null,null,null,null,null,null,null,null,{"$f":"($W$59-$V$59)*1000*W$75*8760*$R$80/1000000","v":233.92571428571853},{"$f":"($W$59-$V$59)*1000*X$75*8760*$R$80/1000000","v":237.82566585956101},241.0990065090904,243.8855240209285,246.28630460449222,248.37625948930753]
[null,null,2036,"M€",null,null,null,null,null,null,null,null,null,null,null,null,null,null,null,null,null,null,null,{"$f":"($X$59-$W$59)*1000*X$75*8760*$S$80/1000000","v":235.99623766064141},{"$f":"($X$59-$W$59)*1000*Y$75*8760*$S$80/1000000","v":239.24439876671286},242.00948152845993,244.39179456907317,246.46567287785143]
[null,null,2037,"M€",null,null,null,null,null,null,null,null,null,null,null,null,null,null,null,null,null,null,null,null,{"$f":"($Y$59-$X$59)*1000*Y$75*8760*$T$80/1000000","v":237.38979102426021},{"$f":"($Y$59-$X$59)*1000*Z$75*8760*$T$80/1000000","v":240.13343903591536},242.49728453357733,{"$f":"($Y$59-$X$59)*1000*AB$75*8760*$T$80/1000000","v":244.55508626631777}]
[null,null,2038,"M€",null,null,null,null,null,null,null,null,null,null,null,null,null,null,null,null,null,null,null,null,null,{"$f":"($Z$59-$Y$59)*1000*Z$75*8760*$U$80/1000000","v":238.25739654359776},{"$f":"($Z$59-$Y$59)*1000*AA$75*8760*$U$80/1000000","v":240.60277449831071},242.64449965501549]
[null,null,2039,"M€",null,null,null,null,null,null,null,null,null,null,null,null,null,null,null,null,null,null,null,null,null,null,{"$f":"($AA$59-$Z$59)*1000*AA$75*8760*$V$80/1000000","v":238.70826446273986},{"$f":"($AA$59-$Z$59)*1000*AB$75*8760*$V$80/1000000","v":240.73391304340626}]
[null,null,2040,"M€",null,null,null,null,null,null,null,null,null,null,null,null,null,null,null,null,null,null,null,null,null,null,null,{"$f":"($AB$59-$AA$59)*1000*AB$75*8760*$W$80/1000000","v":238.82332643208085}]
[null,null,"Total","M€",null,{"$f":"SUMIF(F240:F255,\">0\")","v":0},{"$f":"SUMIF(G240:G255,\">0\")","v":0},0,0,0,0,0,48.80930849460421,231.023455197039,357.35555014523902,480.73150413209476,602.51923057732961,722.95747226596973,985.28776701222034,1252.6200610508904,1522.4170467077397,1793.2156634758835,2064.1129940137203,2334.5216123062755,2604.0428575331262,2872.3966494503793,3139.3804506920142,3404.8441683498822]
[null,null,{"$f":"'Données de production'!C8","v":"PV au sol"}]
[null,null,2020,"M€",null,null,null,{"$f":"($H$60-$G$60)*1000*H$76*8760*$F$81/1000000","v":91.330212068454728},91.221388057728205,91.138541634527655,91.284278620486788,91.390829214321641,91.472125294430128,91.552104111780778,91.618213410879108,91.67377310233789,91.721121820743889,91.76195452655827,91.75544389337503,91.74935869357742,91.743658546946492,91.738308026815687,91.73327592309596,91.728534633058445,91.72405965479615,91.719829163685347,91.715823656436612]
[null,null,2021,"M€",null,null,null,null,{"$f":"($I$60-$H$60)*1000*I$76*8760*$G$81/1000000","v":88.288750450945628},88.208567422168684,88.349619171750433,88.452744315861722,88.531426842867319,88.608834455235183,88.67281843459412,88.72659196116264,88.77241848575872,88.81193847828068,88.805637152674549,88.799747583377155,88.794230688335887,88.789052179801075,88.784181851043627,88.779592986722975,88.775261872633564,88.771167385782178,88.767290649882355,88.763614744382394]
[null,null,2022,"M€",null,null,null,null,null,{"$f":"($J$60-$I$60)*1000*J$76*8760*$H$81/1000000","v":85.278593209809998},85.414959723014348,85.5146594174021,85.590728391304765,85.6655647986899,85.727423458309445,85.779410819987646,85.82371515077385,85.861922430003361,85.855830411974381,85.850136473177116,85.844802829725538,85.83979633278679,85.835087778991564,85.830651340387789,85.826464090471234,85.822505607879279,85.818757643328425,85.815203838307312]
[null,null,2023,"M€",null,null,null,null,null,null,{"$f":"($K$60-$J$60)*1000*K$76*8760*$I$81/1000000","v":127.07366327048848},127.22198863918129,127.33515807936352,127.44649380396336,127.53852225551739,127.6158649659002,127.68177746682522,127.73861925368595,127.72955602810853,127.7210850335222,127.71315005803115,127.70570178540741,127.69869676917371,127.69209658453292,127.68586712323423,127.67997800397941,127.67440207691898,127.6691150051455]
[null,null,2024,"M€",null,null,null,null,null,null,null,{"$f":"($L$60-$K$60)*1000*L$76*8760*$J$81/1000000","v":122.69541429586612},122.80455715314503,122.91193153867248,123.00068560635532,123.07527645338335,123.13884377924244,123.19366312818354,123.18492237331115,123.17675277777671,123.16910012971078,123.16191686756299,123.15516109068716,123.14879574144533,123.14278792516248,123.13710834151084,123.13173080663589,123.12663184954053]
[null,null,2025,"M€",null,null,null,null,null,null,null,null,{"$f":"($M$60-$L$60)*1000*M$76*8760*$K$81/1000000","v":118.27395622697537},118.3773692734304,118.46284895724212,118.53468794091535,118.59591009170857,118.64870700273009,118.64028871856267,118.63242052208015,118.62505020143936,118.61813194976753,118.61162541224958,118.60549489840668,118.59970872713969,118.59423867909119,118.58905953640176,118.5841486939845]
[null,null,2026,"M€",null,null,null,null,null,null,null,null,null,{"$f":"($N$60-$M$60)*1000*N$76*8760*$L$81/1000000","v":100.76768540552338},100.84044922803243,100.90160152556253,100.95371633829103,100.99865924040868,100.99149325069425,100.98479551824144,100.97852159818198,100.97263249782182,100.96709386548261,100.9618753199609,100.95694989300205,100.95229356312848,100.94788486386102,100.94370455282004]
[null,null,2027,"M€",null,null,null,null,null,null,null,null,null,null,{"$f":"($O$60-$N$60)*1000*O$76*8760*$M$81/1000000","v":96.823794088402053},96.882510580736351,96.932549567424843,96.975702313507256,96.968821757957741,96.962390808147092,96.956366789525461,96.950712262547412,96.945394243823301,96.940383562287224,96.935654323878325,96.931183463937316,96.926950371033271,96.922936569244811]
[null,null,2028,"M€",null,null,null,null,null,null,null,null,null,null,null,{"$f":"($P$60-$O$60)*1000*P$76*8760*$N$81/1000000","v":95.532953367203461},95.582295319153289,95.624846954680152,95.61806224412183,95.611720876369432,95.605780771322472,95.600205010962114,95.594961071351847,95.59002018777386,95.585356826867198,95.580948245259478,95.576774118633551,95.572816228434576]
[null,null,2029,"M€",null,null,null,null,null,null,null,null,null,null,null,null,{"$f":"($Q$60-$P$60)*1000*Q$76*8760*$O$81/1000000","v":94.232041070882815},94.273991595854099,94.267302730287,94.261050944592867,94.255194753120577,94.249697759377909,94.244527898881486,94.239656813261576,94.235059329857151,94.230713026582734,94.22659786623494,94.222695887625406]
[null,null,2030,"M€",null,null,null,null,null,null,null,null,null,null,null,null,null,{"$f":"($R$60-$Q$60)*1000*R$76*8760*$P$81/1000000","v":92.923136237043664},92.916543216467787,92.910381012831877,92.904608734934243,92.89919050780928,92.894094726426701,92.889293438764852,92.884761832862708,92.880477807921579,92.876421613851903,92.872575546831825]
[null,null,2031,"M€",null,null,null,null,null,null,null,null,null,null,null,null,null,null,{"$f":"($S$60-$R$60)*1000*S$76*8760*$Q$81/1000000","v":46.517488270087874},46.514403241034621,46.511513423354145,46.508800856700198,46.506249718415397,46.503846014674806,46.501577323685012,46.499432580961603,46.497401898872859,46.495476414225045]
[null,null,2032,"M€",null,null,null,null,null,null,null,null,null,null,null,null,null,null,null,{"$f":"($T$60-$S$60)*1000*T$76*8760*$R$81/1000000","v":45.828232379320653},45.825385191633259,45.822712640201871,45.820199135781706,45.817830890981838,45.81559566725258,45.813482563330474,45.811481837444148,45.809584757147839]
[null,null,2033,"M€",null,null,null,null,null,null,null,null,null,null,null,null,null,null,null,null,{"$f":"($U$60-$T$60)*1000*U$76*8760*$S$81/1000000","v":45.204214283598603},45.201577959057452,45.199098525618176,45.196762382780278,45.194557457889701,45.192472997451475,45.190499391745604,45.188628026696108]
[null,null,2034,"M€",null,null,null,null,null,null,null,null,null,null,null,null,null,null,null,null,null,{"$f":"($V$60-$U$60)*1000*V$76*8760*$T$81/1000000","v":44.580443277913247},44.577997915454858,44.575693874578938,44.573519248527035,44.571463431572703,44.56951694604728,44.567671296244583]
[null,null,2035,"M€",null,null,null,null,null,null,null,null,null,null,null,null,null,null,null,null,null,null,{"$f":"($W$60-$V$60)*1000*W$76*8760*$U$81/1000000","v":43.956897305320624},43.954625366406667,43.952481039193451,43.950453865722999,43.948534500378017,43.946714565822141]
[null,null,2036,"M€",null,null,null,null,null,null,null,null,null,null,null,null,null,null,null,null,null,null,null,{"$f":"($X$60-$W$60)*1000*X$76*8760*$V$81/1000000","v":43.333556858217193},{"$f":"($X$60-$W$60)*1000*Y$76*8760*$V$81/1000000","v":43.331442829842665},{"$f":"($X$60-$W$60)*1000*Z$76*8760*$V$81/1000000","v":43.329444299856092},{"$f":"($X$60-$W$60)*1000*AA$76*8760*$V$81/1000000","v":43.327552054691559},{"$f":"($X$60-$W$60)*1000*AB$76*8760*$V$81/1000000","v":43.325757835382483}]
[null,null,2037,"M€",null,null,null,null,null,null,null,null,null,null,null,null,null,null,null,null,null,null,null,null,{"$f":"($Y$60-$X$60)*1000*Y$76*8760*$W$81/1000000","v":42.710404620485747},{"$f":"($Y$60-$X$60)*1000*Z$76*8760*$W$81/1000000","v":42.708434733983047},{"$f":"($Y$60-$X$60)*1000*AA$76*8760*$W$81/1000000","v":42.706569608998969},{"$f":"($Y$60-$X$60)*1000*AB$76*8760*$W$81/1000000","v":42.704801104936699}]
[null,null,2038,"M€",null,null,null,null,null,null,null,null,null,null,null,null,null,null,null,null,null,null,null,null,null,{"$f":"($Z$60-$Y$60)*1000*Z$76*8760*$X$81/1000000","v":41.875957256458051},{"$f":"($Z$60-$Y$60)*1000*AA$76*8760*$X$81/1000000","v":41.874128486693998},{"$f":"($Z$60-$Y$60)*1000*AB$76*8760*$X$81/1000000","v":41.872394454506193}]
[null,null,2039,"M€",null,null,null,null,null,null,null,null,null,null,null,null,null,null,null,null,null,null,null,null,null,null,{"$f":"($AA$60-$Z$60)*1000*AA$76*8760*$Y$81/1000000","v":41.041687364433344},{"$f":"($AA$60-$Z$60)*1000*AB$76*8760*$Y$81/1000000","v":41.039987804119995}]
[null,null,2040,"M€",null,null,null,null,null,null,null,null,null,null,null,null,null,null,null,null,null,null,null,null,null,null,null,{"$f":"($AB$60-$AA$60)*1000*AB$76*8760*$Z$81/1000000","v":40.207581153665132}]
[null,null,"Total","M€",null,{"$f":"SUMIF(F258:F278,\">0\")","v":0},{"$f":"SUMIF(G258:G278,\">0\")","v":0},91.330212068454728,179.51013850867383,264.62570226650632,392.12252078574011,515.27563588263286,634.00795198808601,735.32998338729544,832.68475543933209,928.72267071718954,1023.4343890908046,1116.8131411609359,1163.2513900476226,1209.0024758640488,1254.1315779998599,1298.6388799145327,1342.5245432317984,1385.7887108942423,1428.4315097867807,1470.2415850180944,1511.2190652925242,1459.6520403290629]
[null,null,{"$f":"'Données de production'!C9","v":"PV sur toiture"}]
[null,null,2020,"M€",null,null,null,{"$f":"($H$61-$G$61)*1000*H$77*8760*$F$82/1000000","v":91.847712508564655},91.733856472638919,91.645952182104438,91.78714207970765,91.891860501084778,91.972622703628048,92.051952155304406,92.118967269137812,92.176328863548463,92.225982679216543,92.269384471682145,92.262969385813719,92.256795225418202,92.250848668334058,92.245117356837412,92.23958981191835,92.234255356540487,92.229104046809468,92.224126610106438,92.219314389384081]
[null,null,2021,"M€",null,null,null,null,{"$f":"($I$61-$H$61)*1000*I$77*8760*$G$82/1000000","v":90.224728496436811},90.138270333092152,90.277137493675212,90.380133175974308,90.459566746930903,90.537591137428493,90.603503775175085,90.659921705052099,90.708758658056453,90.7514464408669,90.745136890576347,90.739064302256182,90.733215572909828,90.727578548112248,90.722141937696534,90.716895240275861,90.711828675544439,90.706933123428698,90.702200069299778,90.697621554553407]
[null,null,2022,"M€",null,null,null,null,null,{"$f":"($J$61-$I$61)*1000*J$77*8760*$H$82/1000000","v":88.630588484079809},88.767132907642704,88.868405850863766,88.946510790233688,89.023230119552508,89.088040281212258,89.14351454655565,89.191534636896307,89.233508410051599,89.227304395338919,89.221333379094105,89.215582477485555,89.210039739387042,89.204694063474676,89.199535124011177,89.194553304279339,89.189739636750886,89.185085749215403,89.180583816186797]
[null,null,2023,"M€",null,null,null,null,null,null,{"$f":"($K$61-$J$61)*1000*K$77*8760*$I$82/1000000","v":133.32778346336391},133.47989491049742,133.5972081333382,133.71244017690904,133.80978471105081,133.89310677627051,133.96523270843838,134.02827710285641,134.01895870422032,134.00999026810138,134.00135244304983,133.9930272785347,133.98499810042378,133.97724939951209,133.96976673153912,133.96253662732289,133.95554651184582,133.94878463126747]
[null,null,2024,"M€",null,null,null,null,null,null,null,{"$f":"($L$61-$K$61)*1000*L$77*8760*$J$82/1000000","v":131.16999476437275},131.28527785502945,131.39851578170007,131.49417574638824,131.57605590418993,131.64693368058596,131.70888707732246,131.69972993570852,131.69091670043025,131.68242835491913,131.67424725928225,131.6663570279371,131.65874242006899,131.65138924137872,131.64428425577154,131.63741510584339,131.63077024115682]
[null,null,2025,"M€",null,null,null,null,null,null,null,null,{"$f":"($M$61-$L$61)*1000*M$77*8760*$K$82/1000000","v":128.97334757673352},129.08459138650392,129.17856678173848,129.25900503212216,129.32863465274639,129.38949705180136,129.38050116720959,129.37184313277194,129.36350426680127,129.35546724004269,129.34771595546326,129.34023544063876,129.3330117512312,129.32603188423303,129.31928369985383,129.31275585105905]
[null,null,2026,"M€",null,null,null,null,null,null,null,null,null,{"$f":"($N$61-$M$61)*1000*N$77*8760*$L$82/1000000","v":101.82675290844178},101.90088421448876,101.96433691444489,102.0192633630493,102.06727389942253,102.06017760924813,102.05334782790953,102.04676981859325,102.04042991133491,102.03431540819312,102.02841449835967,102.02271618201925,102.01721020191333,102.0118869817212,102.00673757047768]
[null,null,2027,"M€",null,null,null,null,null,null,null,null,null,null,{"$f":"($O$61-$N$61)*1000*O$77*8760*$M$82/1000000","v":100.04090392514243},100.10319843327193,100.15712231833085,100.20425652618127,100.19728976343893,100.19058464498981,100.1841267030092,100.17790251704838,100.17189962093936,100.16610641945466,100.16051211355692,100.15510663321162,100.1498805768931,100.14482515701667]
[null,null,2028,"M€",null,null,null,null,null,null,null,null,null,null,null,{"$f":"($P$61-$O$61)*1000*P$77*8760*$N$82/1000000","v":97.541851418028813},97.594395549151727,97.640323730976178,97.633535227242888,97.627001673093375,97.620708970892053,97.614644043580142,97.608794743962264,97.603149773498799,97.597698609468026,97.592431439498071,97.587339102620703,97.582413036099751]
[null,null,2029,"M€",null,null,null,null,null,null,null,null,null,null,null,null,{"$f":"($Q$61-$P$61)*1000*Q$77*8760*$O$82/1000000","v":95.031668779934506},95.076390935733002,95.069780691008745,95.063418701158852,95.057291238736823,95.051385570073819,95.045689866947072,95.040193127504836,95.034885105341033,95.029756245746455,95.024797628310239,95.020000915144735]
[null,null,2030,"M€",null,null,null,null,null,null,null,null,null,null,null,null,null,{"$f":"($R$61-$Q$61)*1000*R$77*8760*$P$82/1000000","v":92.512458140536623},92.506026154821427,92.49983572927114,92.493873506628404,92.488127096614306,92.482584989978704,92.477236481557696,92.472071601260865,92.467081052041607,92.462256154046557,92.457588794236557]
[null,null,2031,"M€",null,null,null,null,null,null,null,null,null,null,null,null,null,null,{"$f":"($S$61-$R$61)*1000*S$77*8760*$Q$82/1000000","v":27.874090732873679},27.872225422140566,27.870428873939105,27.868697354807008,27.867027396755258,27.86541577408364,27.863859482585642,27.862355720857604,27.8609018734697,27.85949549578562]
[null,null,2032,"M€",null,null,null,null,null,null,null,null,null,null,null,null,null,null,null,{"$f":"($T$61-$S$61)*1000*T$77*8760*$R$82/1000000","v":27.077743105041279},27.075997766449252,27.074315603309049,27.072693246484778,27.071127562222991,27.069615631950434,27.06815473411589,27.066742327840924,27.065376038172211]
[null,null,2033,"M€",null,null,null,null,null,null,null,null,null,null,null,null,null,null,null,null,{"$f":"($U$61-$T$61)*1000*U$77*8760*$S$82/1000000","v":26.265586172032698},26.263954357711562,26.26238055964372,26.260861737872094,26.259395061179237,26.257977889472663,26.256607757924975,26.255282362667554]
[null,null,2034,"M€",null,null,null,null,null,null,null,null,null,null,null,null,null,null,null,null,null,{"$f":"($V$61-$U$61)*1000*V$77*8760*$T$82/1000000","v":25.453593112122494},25.452067872811085,25.450595913529618,25.449174490416461,25.447801044837863,25.446473188017446,25.445188687171317]
[null,null,2035,"M€",null,null,null,null,null,null,null,null,null,null,null,null,null,null,null,null,null,null,{"$f":"($W$61-$V$61)*1000*W$77*8760*$U$82/1000000","v":24.64175518596198},24.640330089170678,24.638953919637217,24.637624200186597,24.636338618093454,24.635095011658624]
[null,null,2036,"M€",null,null,null,null,null,null,null,null,null,null,null,null,null,null,null,null,null,null,null,{"$f":"($X$61-$W$61)*1000*X$77*8760*$V$82/1000000","v":23.830064264826813},{"$f":"($X$61-$W$61)*1000*Y$77*8760*$V$82/1000000","v":23.82873334887304},{"$f":"($X$61-$W$61)*1000*Z$77*8760*$V$82/1000000","v":23.827447355550397},{"$f":"($X$61-$W$61)*1000*AA$77*8760*$V$82/1000000","v":23.826204048184529},{"$f":"($X$61-$W$61)*1000*AB$77*8760*$V$82/1000000","v":23.825001336160991}]
[null,null,2037,"M€",null,null,null,null,null,null,null,null,null,null,null,null,null,null,null,null,null,null,null,null,{"$f":"($Y$61-$X$61)*1000*Y$77*8760*$W$82/1000000","v":23.018512778101705},{"$f":"($Y$61-$X$61)*1000*Z$77*8760*$W$82/1000000","v":23.017270510907036},{"$f":"($Y$61-$X$61)*1000*AA$77*8760*$W$82/1000000","v":23.016069478268442},{"$f":"($Y$61-$X$61)*1000*AB$77*8760*$W$82/1000000","v":23.014907660656196}]
[null,null,2038,"M€",null,null,null,null,null,null,null,null,null,null,null,null,null,null,null,null,null,null,null,null,null,{"$f":"($Z$61-$Y$61)*1000*Z$77*8760*$X$82/1000000","v":22.48965159406951},{"$f":"($Z$61-$Y$61)*1000*AA$77*8760*$X$82/1000000","v":22.488478092390313},{"$f":"($Z$61-$Y$61)*1000*AB$77*8760*$X$82/1000000","v":22.487342906821599}]
[null,null,2039,"M€",null,null,null,null,null,null,null,null,null,null,null,null,null,null,null,null,null,null,null,null,null,null,{"$f":"($AA$61-$Z$61)*1000*AA$77*8760*$Y$82/1000000","v":21.960886706526708},{"$f":"($AA$61-$Z$61)*1000*AB$77*8760*$Y$82/1000000","v":21.959778153001515}]
[null,null,2040,"M€",null,null,null,null,null,null,null,null,null,null,null,null,null,null,null,null,null,null,null,null,null,null,null,{"$f":"($AB$61-$AA$61)*1000*AB$77*8760*$Z$82/1000000","v":21.432213399161334}]
[null,null,"Total","M€",null,{"$f":"SUMIF(F281:F301,\">0\")","v":0},{"$f":"SUMIF(G281:G301,\">0\")","v":0},91.847712508564655,181.95858496907573,270.41481099927637,404.15919594438947,535.79028920279302,665.23453380589388,767.63507366584031,868.23482670433384,966.31731959348451,1061.8695270264063,{"$f":"SUMIF(R281:R301,\">0\")","v":1154.8817037874305},{"$f":"SUMIF(S281:S301,\">0\")","v":1182.6755006575011},1209.6741001116766,1235.8617148337805,1261.238526988798,1285.804705788591,1309.560408623129,1332.5057820751724,1354.9235207600223,1376.8137080597508,1305.9617626184559]
[]
[null,null,null,null,null,"Scénario sélectionné"]
[null,null,"Evolution des investissements annualisés cumulés","Unité",null,2018,2019,2020,2021,2022,2023,2024,2025,2026,2027,2028,2029,2030,2031,2032,2033,2034,2035,2036,2037,2038,2039,2040]
[null,null,"Charges engagées avant 2018","Md€",null,{"$f":"IF(Start!$F$3=\"CONSTANT\",F214,F214*HLOOKUP(F$305,'Calcul de variation des prix'!$E$3:$AP$5, 3, FALSE))/1000","v":5.9786278859420419},{"$f":"IF(Start!$F$3=\"CONSTANT\",G214,G214*HLOOKUP(G$305,'Calcul de variation des prix'!$E$3:$AP$5, 3, FALSE))/1000","v":6.3841792310810312},{"$f":"IF(Start!$F$3=\"CONSTANT\",H214,H214*HLOOKUP(H$305,'Calcul de variation des prix'!$E$3:$AP$5, 3, FALSE))/1000","v":6.3942110781353954},{"$f":"IF(Start!$F$3=\"CONSTANT\",I214,I214*HLOOKUP(I$305,'Calcul de variation des prix'!$E$3:$AP$5, 3, FALSE))/1000","v":6.3008818050429216},{"$f":"IF(Start!$F$3=\"CONSTANT\",J214,J214*HLOOKUP(J$305,'Calcul de variation des prix'!$E$3:$AP$5, 3, FALSE))/1000","v":6.0378436681934575},{"$f":"IF(Start!$F$3=\"CONSTANT\",K214,K214*HLOOKUP(K$305,'Calcul de variation des prix'!$E$3:$AP$5, 3, FALSE))/1000","v":5.9433524963369351},{"$f":"IF(Start!$F$3=\"CONSTANT\",L214,L214*HLOOKUP(L$305,'Calcul de variation des prix'!$E$3:$AP$5, 3, FALSE))/1000","v":5.8813670804135709},{"$f":"IF(Start!$F$3=\"CONSTANT\",M214,M214*HLOOKUP(M$305,'Calcul de variation des prix'!$E$3:$AP$5, 3, FALSE))/1000","v":5.7487922534976885},{"$f":"IF(Start!$F$3=\"CONSTANT\",N214,N214*HLOOKUP(N$305,'Calcul de variation des prix'!$E$3:$AP$5, 3, FALSE))/1000","v":5.3236127458023139},{"$f":"IF(Start!$F$3=\"CONSTANT\",O214,O214*HLOOKUP(O$305,'Calcul de variation des prix'!$E$3:$AP$5, 3, FALSE))/1000","v":4.9651884508830442},{"$f":"IF(Start!$F$3=\"CONSTANT\",P214,P214*HLOOKUP(P$305,'Calcul de variation des prix'!$E$3:$AP$5, 3, FALSE))/1000","v":4.7346923425768157},{"$f":"IF(Start!$F$3=\"CONSTANT\",Q214,Q214*HLOOKUP(Q$305,'Calcul de variation des prix'!$E$3:$AP$5, 3, FALSE))/1000","v":4.5496904281104875},{"$f":"IF(Start!$F$3=\"CONSTANT\",R214,R214*HLOOKUP(R$305,'Calcul de variation des prix'!$E$3:$AP$5, 3, FALSE))/1000","v":4.2298416740737608},{"$f":"IF(Start!$F$3=\"CONSTANT\",S214,S214*HLOOKUP(S$305,'Calcul de variation des prix'!$E$3:$AP$5, 3, FALSE))/1000","v":3.4118075124443212},{"$f":"IF(Start!$F$3=\"CONSTANT\",T214,T214*HLOOKUP(T$305,'Calcul de variation des prix'!$E$3:$AP$5, 3, FALSE))/1000","v":2.0760263562248111},{"$f":"IF(Start!$F$3=\"CONSTANT\",U214,U214*HLOOKUP(U$305,'Calcul de variation des prix'!$E$3:$AP$5, 3, FALSE))/1000","v":1.2383985712480083},{"$f":"IF(Start!$F$3=\"CONSTANT\",V214,V214*HLOOKUP(V$305,'Calcul de variation des prix'!$E$3:$AP$5, 3, FALSE))/1000","v":0.84611527135236819},{"$f":"IF(Start!$F$3=\"CONSTANT\",W214,W214*HLOOKUP(W$305,'Calcul de variation des prix'!$E$3:$AP$5, 3, FALSE))/1000","v":0.66261136925099773},{"$f":"IF(Start!$F$3=\"CONSTANT\",X214,X214*HLOOKUP(X$305,'Calcul de variation des prix'!$E$3:$AP$5, 3, FALSE))/1000","v":0.50213386774069113},{"$f":"IF(Start!$F$3=\"CONSTANT\",Y214,Y214*HLOOKUP(Y$305,'Calcul de variation des prix'!$E$3:$AP$5, 3, FALSE))/1000","v":0.26589184337068195},{"$f":"IF(Start!$F$3=\"CONSTANT\",Z214,Z214*HLOOKUP(Z$305,'Calcul de variation des prix'!$E$3:$AP$5, 3, FALSE))/1000","v":0.11669626188487457},{"$f":"IF(Start!$F$3=\"CONSTANT\",AA214,AA214*HLOOKUP(AA$305,'Calcul de variation des prix'!$E$3:$AP$5, 3, FALSE))/1000","v":0},{"$f":"IF(Start!$F$3=\"CONSTANT\",AB214,AB214*HLOOKUP(AB$305,'Calcul de variation des prix'!$E$3:$AP$5, 3, FALSE))/1000","v":0}]
[null,null,{"$f":"C195","v":"AO éolien en mer 2011 & 2013 renégociés"},"Md€",null,{"$f":"IF(Start!$F$3=\"CONSTANT\",F215,F215*HLOOKUP(F$305,'Calcul de variation des prix'!$E$3:$AP$5, 3, FALSE))/1000","v":0},{"$f":"IF(Start!$F$3=\"CONSTANT\",G215,G215*HLOOKUP(G$305,'Calcul de variation des prix'!$E$3:$AP$5, 3, FALSE))/1000","v":0},{"$f":"IF(Start!$F$3=\"CONSTANT\",H215,H215*HLOOKUP(H$305,'Calcul de variation des prix'!$E$3:$AP$5, 3, FALSE))/1000","v":0},{"$f":"IF(Start!$F$3=\"CONSTANT\",I215,I215*HLOOKUP(I$305,'Calcul de variation des prix'!$E$3:$AP$5, 3, FALSE))/1000","v":0.27928185277476392},{"$f":"IF(Start!$F$3=\"CONSTANT\",J215,J215*HLOOKUP(J$305,'Calcul de variation des prix'!$E$3:$AP$5, 3, FALSE))/1000","v":0.54472066369895356},{"$f":"IF(Start!$F$3=\"CONSTANT\",K215,K215*HLOOKUP(K$305,'Calcul de variation des prix'!$E$3:$AP$5, 3, FALSE))/1000","v":0.64429775279138191},{"$f":"IF(Start!$F$3=\"CONSTANT\",L215,L215*HLOOKUP(L$305,'Calcul de variation des prix'!$E$3:$AP$5, 3, FALSE))/1000","v":0.91557889538100135},{"$f":"IF(Start!$F$3=\"CONSTANT\",M215,M215*HLOOKUP(M$305,'Calcul de variation des prix'!$E$3:$AP$5, 3, FALSE))/1000","v":0.97638532601625916},{"$f":"IF(Start!$F$3=\"CONSTANT\",N215,N215*HLOOKUP(N$305,'Calcul de variation des prix'!$E$3:$AP$5, 3, FALSE))/1000","v":0.93517771810806172},{"$f":"IF(Start!$F$3=\"CONSTANT\",O215,O215*HLOOKUP(O$305,'Calcul de variation des prix'!$E$3:$AP$5, 3, FALSE))/1000","v":0.90123499306664556},{"$f":"IF(Start!$F$3=\"CONSTANT\",P215,P215*HLOOKUP(P$305,'Calcul de variation des prix'!$E$3:$AP$5, 3, FALSE))/1000","v":0.87156544473795627},{"$f":"IF(Start!$F$3=\"CONSTANT\",Q215,Q215*HLOOKUP(Q$305,'Calcul de variation des prix'!$E$3:$AP$5, 3, FALSE))/1000","v":0.84470140345260414},{"$f":"IF(Start!$F$3=\"CONSTANT\",R215,R215*HLOOKUP(R$305,'Calcul de variation des prix'!$E$3:$AP$5, 3, FALSE))/1000","v":0.81983591806404954},{"$f":"IF(Start!$F$3=\"CONSTANT\",S215,S215*HLOOKUP(S$305,'Calcul de variation des prix'!$E$3:$AP$5, 3, FALSE))/1000","v":0.87063968451140183},{"$f":"IF(Start!$F$3=\"CONSTANT\",T215,T215*HLOOKUP(T$305,'Calcul de variation des prix'!$E$3:$AP$5, 3, FALSE))/1000","v":0.90093737428011789},{"$f":"IF(Start!$F$3=\"CONSTANT\",U215,U215*HLOOKUP(U$305,'Calcul de variation des prix'!$E$3:$AP$5, 3, FALSE))/1000","v":0.91778201088317435},{"$f":"IF(Start!$F$3=\"CONSTANT\",V215,V215*HLOOKUP(V$305,'Calcul de variation des prix'!$E$3:$AP$5, 3, FALSE))/1000","v":0.92541992406392182},{"$f":"IF(Start!$F$3=\"CONSTANT\",W215,W215*HLOOKUP(W$305,'Calcul de variation des prix'!$E$3:$AP$5, 3, FALSE))/1000","v":0.92655331782331873},{"$f":"IF(Start!$F$3=\"CONSTANT\",X215,X215*HLOOKUP(X$305,'Calcul de variation des prix'!$E$3:$AP$5, 3, FALSE))/1000","v":0.92297976117145342},{"$f":"IF(Start!$F$3=\"CONSTANT\",Y215,Y215*HLOOKUP(Y$305,'Calcul de variation des prix'!$E$3:$AP$5, 3, FALSE))/1000","v":0.91593899280865221},{"$f":"IF(Start!$F$3=\"CONSTANT\",Z215,Z215*HLOOKUP(Z$305,'Calcul de variation des prix'!$E$3:$AP$5, 3, FALSE))/1000","v":0.90631189422808034},{"$f":"IF(Start!$F$3=\"CONSTANT\",AA215,AA215*HLOOKUP(AA$305,'Calcul de variation des prix'!$E$3:$AP$5, 3, FALSE))/1000","v":0.85931295782174288},{"$f":"IF(Start!$F$3=\"CONSTANT\",AB215,AB215*HLOOKUP(AB$305,'Calcul de variation des prix'!$E$3:$AP$5, 3, FALSE))/1000","v":0.76314199934977023}]
[null,null,{"$f":"'Données de production'!C6","v":"Eolien terrestre"},"Md€",null,{"$f":"IF(Start!$F$3=\"CONSTANT\",F238,F238*HLOOKUP(F$305,'Calcul de variation des prix'!$E$3:$AP$5, 3, FALSE))/1000","v":0},{"$f":"IF(Start!$F$3=\"CONSTANT\",G238,G238*HLOOKUP(G$305,'Calcul de variation des prix'!$E$3:$AP$5, 3, FALSE))/1000","v":0},{"$f":"IF(Start!$F$3=\"CONSTANT\",H238,H238*HLOOKUP(H$305,'Calcul de variation des prix'!$E$3:$AP$5, 3, FALSE))/1000","v":0},{"$f":"IF(Start!$F$3=\"CONSTANT\",I238,I238*HLOOKUP(I$305,'Calcul de variation des prix'!$E$3:$AP$5, 3, FALSE))/1000","v":0.2661008967216919},{"$f":"IF(Start!$F$3=\"CONSTANT\",J238,J238*HLOOKUP(J$305,'Calcul de variation des prix'!$E$3:$AP$5, 3, FALSE))/1000","v":0.53887832280082604},{"$f":"IF(Start!$F$3=\"CONSTANT\",K238,K238*HLOOKUP(K$305,'Calcul de variation des prix'!$E$3:$AP$5, 3, FALSE))/1000","v":0.8066453540948153},{"$f":"IF(Start!$F$3=\"CONSTANT\",L238,L238*HLOOKUP(L$305,'Calcul de variation des prix'!$E$3:$AP$5, 3, FALSE))/1000","v":1.0803311406992855},{"$f":"IF(Start!$F$3=\"CONSTANT\",M238,M238*HLOOKUP(M$305,'Calcul de variation des prix'!$E$3:$AP$5, 3, FALSE))/1000","v":1.3580335940084169},{"$f":"IF(Start!$F$3=\"CONSTANT\",N238,N238*HLOOKUP(N$305,'Calcul de variation des prix'!$E$3:$AP$5, 3, FALSE))/1000","v":1.6525416272672522},{"$f":"IF(Start!$F$3=\"CONSTANT\",O238,O238*HLOOKUP(O$305,'Calcul de variation des prix'!$E$3:$AP$5, 3, FALSE))/1000","v":1.9460701866790571},{"$f":"IF(Start!$F$3=\"CONSTANT\",P238,P238*HLOOKUP(P$305,'Calcul de variation des prix'!$E$3:$AP$5, 3, FALSE))/1000","v":2.2381174371945551},{"$f":"IF(Start!$F$3=\"CONSTANT\",Q238,Q238*HLOOKUP(Q$305,'Calcul de variation des prix'!$E$3:$AP$5, 3, FALSE))/1000","v":2.5248515643367866},{"$f":"IF(Start!$F$3=\"CONSTANT\",R238,R238*HLOOKUP(R$305,'Calcul de variation des prix'!$E$3:$AP$5, 3, FALSE))/1000","v":2.8059165787667015},{"$f":"IF(Start!$F$3=\"CONSTANT\",S238,S238*HLOOKUP(S$305,'Calcul de variation des prix'!$E$3:$AP$5, 3, FALSE))/1000","v":3.0899661254654269},{"$f":"IF(Start!$F$3=\"CONSTANT\",T238,T238*HLOOKUP(T$305,'Calcul de variation des prix'!$E$3:$AP$5, 3, FALSE))/1000","v":3.3636469737170422},{"$f":"IF(Start!$F$3=\"CONSTANT\",U238,U238*HLOOKUP(U$305,'Calcul de variation des prix'!$E$3:$AP$5, 3, FALSE))/1000","v":3.6274850705305046},{"$f":"IF(Start!$F$3=\"CONSTANT\",V238,V238*HLOOKUP(V$305,'Calcul de variation des prix'!$E$3:$AP$5, 3, FALSE))/1000","v":3.8849050611756373},{"$f":"IF(Start!$F$3=\"CONSTANT\",W238,W238*HLOOKUP(W$305,'Calcul de variation des prix'!$E$3:$AP$5, 3, FALSE))/1000","v":4.136193032798551},{"$f":"IF(Start!$F$3=\"CONSTANT\",X238,X238*HLOOKUP(X$305,'Calcul de variation des prix'!$E$3:$AP$5, 3, FALSE))/1000","v":4.3815830092349453},{"$f":"IF(Start!$F$3=\"CONSTANT\",Y238,Y238*HLOOKUP(Y$305,'Calcul de variation des prix'!$E$3:$AP$5, 3, FALSE))/1000","v":4.6212682789994091},{"$f":"IF(Start!$F$3=\"CONSTANT\",Z238,Z238*HLOOKUP(Z$305,'Calcul de variation des prix'!$E$3:$AP$5, 3, FALSE))/1000","v":4.8554098889088859},{"$f":"IF(Start!$F$3=\"CONSTANT\",AA238,AA238*HLOOKUP(AA$305,'Calcul de variation des prix'!$E$3:$AP$5, 3, FALSE))/1000","v":5.0842839043709969},{"$f":"IF(Start!$F$3=\"CONSTANT\",AB238,AB238*HLOOKUP(AB$305,'Calcul de variation des prix'!$E$3:$AP$5, 3, FALSE))/1000","v":5.3080030702500736}]
[null,null,{"$f":"'Données de production'!C7","v":"Eolien en mer"},"Md€",null,{"$f":"IF(Start!$F$3=\"CONSTANT\",F256,F256*HLOOKUP(F$305,'Calcul de variation des prix'!$E$3:$AP$5, 3, FALSE))/1000","v":0},{"$f":"IF(Start!$F$3=\"CONSTANT\",G256,G256*HLOOKUP(G$305,'Calcul de variation des prix'!$E$3:$AP$5, 3, FALSE))/1000","v":0},{"$f":"IF(Start!$F$3=\"CONSTANT\",H256,H256*HLOOKUP(H$305,'Calcul de variation des prix'!$E$3:$AP$5, 3, FALSE))/1000","v":0},{"$f":"IF(Start!$F$3=\"CONSTANT\",I256,I256*HLOOKUP(I$305,'Calcul de variation des prix'!$E$3:$AP$5, 3, FALSE))/1000","v":0},{"$f":"IF(Start!$F$3=\"CONSTANT\",J256,J256*HLOOKUP(J$305,'Calcul de variation des prix'!$E$3:$AP$5, 3, FALSE))/1000","v":0},{"$f":"IF(Start!$F$3=\"CONSTANT\",K256,K256*HLOOKUP(K$305,'Calcul de variation des prix'!$E$3:$AP$5, 3, FALSE))/1000","v":0},{"$f":"IF(Start!$F$3=\"CONSTANT\",L256,L256*HLOOKUP(L$305,'Calcul de variation des prix'!$E$3:$AP$5, 3, FALSE))/1000","v":0},{"$f":"IF(Start!$F$3=\"CONSTANT\",M256,M256*HLOOKUP(M$305,'Calcul de variation des prix'!$E$3:$AP$5, 3, FALSE))/1000","v":4.8809308494604207E-2},{"$f":"IF(Start!$F$3=\"CONSTANT\",N256,N256*HLOOKUP(N$305,'Calcul de variation des prix'!$E$3:$AP$5, 3, FALSE))/1000","v":0.23102345519703898},{"$f":"IF(Start!$F$3=\"CONSTANT\",O256,O256*HLOOKUP(O$305,'Calcul de variation des prix'!$E$3:$AP$5, 3, FALSE))/1000","v":0.35735555014523901},{"$f":"IF(Start!$F$3=\"CONSTANT\",P256,P256*HLOOKUP(P$305,'Calcul de variation des prix'!$E$3:$AP$5, 3, FALSE))/1000","v":0.48073150413209476},{"$f":"IF(Start!$F$3=\"CONSTANT\",Q256,Q256*HLOOKUP(Q$305,'Calcul de variation des prix'!$E$3:$AP$5, 3, FALSE))/1000","v":0.60251923057732959},{"$f":"IF(Start!$F$3=\"CONSTANT\",R256,R256*HLOOKUP(R$305,'Calcul de variation des prix'!$E$3:$AP$5, 3, FALSE))/1000","v":0.72295747226596974},{"$f":"IF(Start!$F$3=\"CONSTANT\",S256,S256*HLOOKUP(S$305,'Calcul de variation des prix'!$E$3:$AP$5, 3, FALSE))/1000","v":0.98528776701222032},{"$f":"IF(Start!$F$3=\"CONSTANT\",T256,T256*HLOOKUP(T$305,'Calcul de variation des prix'!$E$3:$AP$5, 3, FALSE))/1000","v":1.2526200610508904},{"$f":"IF(Start!$F$3=\"CONSTANT\",U256,U256*HLOOKUP(U$305,'Calcul de variation des prix'!$E$3:$AP$5, 3, FALSE))/1000","v":1.5224170467077398},{"$f":"IF(Start!$F$3=\"CONSTANT\",V256,V256*HLOOKUP(V$305,'Calcul de variation des prix'!$E$3:$AP$5, 3, FALSE))/1000","v":1.7932156634758836},{"$f":"IF(Start!$F$3=\"CONSTANT\",W256,W256*HLOOKUP(W$305,'Calcul de variation des prix'!$E$3:$AP$5, 3, FALSE))/1000","v":2.0641129940137204},{"$f":"IF(Start!$F$3=\"CONSTANT\",X256,X256*HLOOKUP(X$305,'Calcul de variation des prix'!$E$3:$AP$5, 3, FALSE))/1000","v":2.3345216123062755},{"$f":"IF(Start!$F$3=\"CONSTANT\",Y256,Y256*HLOOKUP(Y$305,'Calcul de variation des prix'!$E$3:$AP$5, 3, FALSE))/1000","v":2.604042857533126},{"$f":"IF(Start!$F$3=\"CONSTANT\",Z256,Z256*HLOOKUP(Z$305,'Calcul de variation des prix'!$E$3:$AP$5, 3, FALSE))/1000","v":2.8723966494503794},{"$f":"IF(Start!$F$3=\"CONSTANT\",AA256,AA256*HLOOKUP(AA$305,'Calcul de variation des prix'!$E$3:$AP$5, 3, FALSE))/1000","v":3.139380450692014},{"$f":"IF(Start!$F$3=\"CONSTANT\",AB256,AB256*HLOOKUP(AB$305,'Calcul de variation des prix'!$E$3:$AP$5, 3, FALSE))/1000","v":3.4048441683498822}]
[null,null,{"$f":"'Données de production'!C8","v":"PV au sol"},"Md€",null,{"$f":"IF(Start!$F$3=\"CONSTANT\",F279,F279*HLOOKUP(F$305,'Calcul de variation des prix'!$E$3:$AP$5, 3, FALSE))/1000","v":0},{"$f":"IF(Start!$F$3=\"CONSTANT\",G279,G279*HLOOKUP(G$305,'Calcul de variation des prix'!$E$3:$AP$5, 3, FALSE))/1000","v":0},{"$f":"IF(Start!$F$3=\"CONSTANT\",H279,H279*HLOOKUP(H$305,'Calcul de variation des prix'!$E$3:$AP$5, 3, FALSE))/1000","v":9.1330212068454722E-2},{"$f":"IF(Start!$F$3=\"CONSTANT\",I279,I279*HLOOKUP(I$305,'Calcul de variation des prix'!$E$3:$AP$5, 3, FALSE))/1000","v":0.17951013850867384},{"$f":"IF(Start!$F$3=\"CONSTANT\",J279,J279*HLOOKUP(J$305,'Calcul de variation des prix'!$E$3:$AP$5, 3, FALSE))/1000","v":0.26462570226650634},{"$f":"IF(Start!$F$3=\"CONSTANT\",K279,K279*HLOOKUP(K$305,'Calcul de variation des prix'!$E$3:$AP$5, 3, FALSE))/1000","v":0.39212252078574011},{"$f":"IF(Start!$F$3=\"CONSTANT\",L279,L279*HLOOKUP(L$305,'Calcul de variation des prix'!$E$3:$AP$5, 3, FALSE))/1000","v":0.51527563588263281},{"$f":"IF(Start!$F$3=\"CONSTANT\",M279,M279*HLOOKUP(M$305,'Calcul de variation des prix'!$E$3:$AP$5, 3, FALSE))/1000","v":0.63400795198808602},{"$f":"IF(Start!$F$3=\"CONSTANT\",N279,N279*HLOOKUP(N$305,'Calcul de variation des prix'!$E$3:$AP$5, 3, FALSE))/1000","v":0.73532998338729549},{"$f":"IF(Start!$F$3=\"CONSTANT\",O279,O279*HLOOKUP(O$305,'Calcul de variation des prix'!$E$3:$AP$5, 3, FALSE))/1000","v":0.83268475543933207},{"$f":"IF(Start!$F$3=\"CONSTANT\",P279,P279*HLOOKUP(P$305,'Calcul de variation des prix'!$E$3:$AP$5, 3, FALSE))/1000","v":0.9287226707171895},{"$f":"IF(Start!$F$3=\"CONSTANT\",Q279,Q279*HLOOKUP(Q$305,'Calcul de variation des prix'!$E$3:$AP$5, 3, FALSE))/1000","v":1.0234343890908046},{"$f":"IF(Start!$F$3=\"CONSTANT\",R279,R279*HLOOKUP(R$305,'Calcul de variation des prix'!$E$3:$AP$5, 3, FALSE))/1000","v":1.1168131411609359},{"$f":"IF(Start!$F$3=\"CONSTANT\",S279,S279*HLOOKUP(S$305,'Calcul de variation des prix'!$E$3:$AP$5, 3, FALSE))/1000","v":1.1632513900476227},{"$f":"IF(Start!$F$3=\"CONSTANT\",T279,T279*HLOOKUP(T$305,'Calcul de variation des prix'!$E$3:$AP$5, 3, FALSE))/1000","v":1.2090024758640487},{"$f":"IF(Start!$F$3=\"CONSTANT\",U279,U279*HLOOKUP(U$305,'Calcul de variation des prix'!$E$3:$AP$5, 3, FALSE))/1000","v":1.2541315779998599},{"$f":"IF(Start!$F$3=\"CONSTANT\",V279,V279*HLOOKUP(V$305,'Calcul de variation des prix'!$E$3:$AP$5, 3, FALSE))/1000","v":1.2986388799145328},{"$f":"IF(Start!$F$3=\"CONSTANT\",W279,W279*HLOOKUP(W$305,'Calcul de variation des prix'!$E$3:$AP$5, 3, FALSE))/1000","v":1.3425245432317983},{"$f":"IF(Start!$F$3=\"CONSTANT\",X279,X279*HLOOKUP(X$305,'Calcul de variation des prix'!$E$3:$AP$5, 3, FALSE))/1000","v":1.3857887108942424},{"$f":"IF(Start!$F$3=\"CONSTANT\",Y279,Y279*HLOOKUP(Y$305,'Calcul de variation des prix'!$E$3:$AP$5, 3, FALSE))/1000","v":1.4284315097867806},{"$f":"IF(Start!$F$3=\"CONSTANT\",Z279,Z279*HLOOKUP(Z$305,'Calcul de variation des prix'!$E$3:$AP$5, 3, FALSE))/1000","v":1.4702415850180943},{"$f":"IF(Start!$F$3=\"CONSTANT\",AA279,AA279*HLOOKUP(AA$305,'Calcul de variation des prix'!$E$3:$AP$5, 3, FALSE))/1000","v":1.5112190652925241},{"$f":"IF(Start!$F$3=\"CONSTANT\",AB279,AB279*HLOOKUP(AB$305,'Calcul de variation des prix'!$E$3:$AP$5, 3, FALSE))/1000","v":1.4596520403290629}]
[null,null,{"$f":"'Données de production'!C9","v":"PV sur toiture"},"Md€",null,{"$f":"IF(Start!$F$3=\"CONSTANT\",F302,F302*HLOOKUP(F$305,'Calcul de variation des prix'!$E$3:$AP$5, 3, FALSE))/1000","v":0},{"$f":"IF(Start!$F$3=\"CONSTANT\",G302,G302*HLOOKUP(G$305,'Calcul de variation des prix'!$E$3:$AP$5, 3, FALSE))/1000","v":0},{"$f":"IF(Start!$F$3=\"CONSTANT\",H302,H302*HLOOKUP(H$305,'Calcul de variation des prix'!$E$3:$AP$5, 3, FALSE))/1000","v":9.1847712508564661E-2},{"$f":"IF(Start!$F$3=\"CONSTANT\",I302,I302*HLOOKUP(I$305,'Calcul de variation des prix'!$E$3:$AP$5, 3, FALSE))/1000","v":0.18195858496907574},{"$f":"IF(Start!$F$3=\"CONSTANT\",J302,J302*HLOOKUP(J$305,'Calcul de variation des prix'!$E$3:$AP$5, 3, FALSE))/1000","v":0.27041481099927639},{"$f":"IF(Start!$F$3=\"CONSTANT\",K302,K302*HLOOKUP(K$305,'Calcul de variation des prix'!$E$3:$AP$5, 3, FALSE))/1000","v":0.40415919594438948},{"$f":"IF(Start!$F$3=\"CONSTANT\",L302,L302*HLOOKUP(L$305,'Calcul de variation des prix'!$E$3:$AP$5, 3, FALSE))/1000","v":0.53579028920279304},{"$f":"IF(Start!$F$3=\"CONSTANT\",M302,M302*HLOOKUP(M$305,'Calcul de variation des prix'!$E$3:$AP$5, 3, FALSE))/1000","v":0.66523453380589392},{"$f":"IF(Start!$F$3=\"CONSTANT\",N302,N302*HLOOKUP(N$305,'Calcul de variation des prix'!$E$3:$AP$5, 3, FALSE))/1000","v":0.76763507366584027},{"$f":"IF(Start!$F$3=\"CONSTANT\",O302,O302*HLOOKUP(O$305,'Calcul de variation des prix'!$E$3:$AP$5, 3, FALSE))/1000","v":0.86823482670433383},{"$f":"IF(Start!$F$3=\"CONSTANT\",P302,P302*HLOOKUP(P$305,'Calcul de variation des prix'!$E$3:$AP$5, 3, FALSE))/1000","v":0.96631731959348455},{"$f":"IF(Start!$F$3=\"CONSTANT\",Q302,Q302*HLOOKUP(Q$305,'Calcul de variation des prix'!$E$3:$AP$5, 3, FALSE))/1000","v":1.0618695270264062},{"$f":"IF(Start!$F$3=\"CONSTANT\",R302,R302*HLOOKUP(R$305,'Calcul de variation des prix'!$E$3:$AP$5, 3, FALSE))/1000","v":1.1548817037874306},{"$f":"IF(Start!$F$3=\"CONSTANT\",S302,S302*HLOOKUP(S$305,'Calcul de variation des prix'!$E$3:$AP$5, 3, FALSE))/1000","v":1.1826755006575012},{"$f":"IF(Start!$F$3=\"CONSTANT\",T302,T302*HLOOKUP(T$305,'Calcul de variation des prix'!$E$3:$AP$5, 3, FALSE))/1000","v":1.2096741001116766},{"$f":"IF(Start!$F$3=\"CONSTANT\",U302,U302*HLOOKUP(U$305,'Calcul de variation des prix'!$E$3:$AP$5, 3, FALSE))/1000","v":1.2358617148337805},{"$f":"IF(Start!$F$3=\"CONSTANT\",V302,V302*HLOOKUP(V$305,'Calcul de variation des prix'!$E$3:$AP$5, 3, FALSE))/1000","v":1.261238526988798},{"$f":"IF(Start!$F$3=\"CONSTANT\",W302,W302*HLOOKUP(W$305,'Calcul de variation des prix'!$E$3:$AP$5, 3, FALSE))/1000","v":1.2858047057885911},{"$f":"IF(Start!$F$3=\"CONSTANT\",X302,X302*HLOOKUP(X$305,'Calcul de variation des prix'!$E$3:$AP$5, 3, FALSE))/1000","v":1.3095604086231289},{"$f":"IF(Start!$F$3=\"CONSTANT\",Y302,Y302*HLOOKUP(Y$305,'Calcul de variation des prix'!$E$3:$AP$5, 3, FALSE))/1000","v":1.3325057820751725},{"$f":"IF(Start!$F$3=\"CONSTANT\",Z302,Z302*HLOOKUP(Z$305,'Calcul de variation des prix'!$E$3:$AP$5, 3, FALSE))/1000","v":1.3549235207600223},{"$f":"IF(Start!$F$3=\"CONSTANT\",AA302,AA302*HLOOKUP(AA$305,'Calcul de variation des prix'!$E$3:$AP$5, 3, FALSE))/1000","v":1.3768137080597507},{"$f":"IF(Start!$F$3=\"CONSTANT\",AB302,AB302*HLOOKUP(AB$305,'Calcul de variation des prix'!$E$3:$AP$5, 3, FALSE))/1000","v":1.3059617626184559}]

{"sheet":"Scénarios choisis","index":10,"n_rows":311,"n_cols":84,"rows_kept":311,"cut":false,"hidden":true,"merged":[[201,3,201,4],[203,3,203,4],[195,3,195,4],[196,3,196,4],[197,3,197,4],[198,3,198,4],[202,3,202,4],[2,14,2,22],[2,5,2,13],[25,10,25,14],[25,5,25,9],[13,5,13,13],[13,14,13,22],[33,10,33,14],[41,5,41,9],[88,1,88,28],[191,5,191,27],[70,2,70,27],[49,10,49,14],[33,5,33,9],[49,5,49,9],[54,6,54,27],[103,2,103,27],[104,2,104,27],[126,2,126,27],[144,2,144,27],[167,2,167,27],[90,2,90,27],[95,2,95,27],[100,2,100,27],[305,3,305,4],[307,3,307,4],[194,3,194,4],[306,3,306,4],[192,3,192,4],[193,3,193,4],[205,1,205,28],[207,2,207,27],[212,2,212,27],[215,2,215,27],[216,2,216,27],[238,2,238,27],[256,2,256,27],[199,3,199,4],[200,3,200,4],[56,2,56,27],[61,2,61,27],[72,2,72,27],[77,2,77,27],[82,2,82,27],[310,3,310,4],[279,2,279,27],[303,5,303,27],[304,3,304,4],[322,4,322,5],[308,3,308,4],[309,3,309,4],[167,31,167,56],[167,58,167,83],[103,31,103,56],[103,58,103,83],[104,31,104,56],[104,58,104,83],[144,31,144,56],[144,58,144,83]]}
[]
[]
[null,null,null,null,"Données historiques","Scénario sélectionné",null,null,null,null,null,null,null,null,"Scénario sélectionné PAR DEFAUT"]
[null,null,"Capacité installée de production d'électricité","Unité",2017,2018,2019,2020,2021,2022,2025,2030,2035,2040,2018,2019,2020,2021,2022,2025,2030,2035,2040]
[null,null,{"$f":"'Données de production'!C5","v":"Nucléaire"},"GW",{"$f":"IF(ISBLANK('Données de production'!V5), \"\", 'Données de production'!V5)","v":63.13},{"$f":"((O5-E5)/(O$4-E$4)+ABS((O5-E5)/(O$4-E$4))*'Start - expert'!$D11)*(O$4-E$4)+E5","v":63.108333333333334},{"$f":"((P5-O5)/(P$4-O$4)+ABS((P5-O5)/(P$4-O$4))*'Start - expert'!$D11)*(P$4-O$4)+F5","v":63.086666666666666},{"$f":"((Q5-P5)/(Q$4-P$4)+ABS((Q5-P5)/(Q$4-P$4))*'Start - expert'!$D11)*(Q$4-P$4)+G5","v":63.064999999999998},{"$f":"((R5-Q5)/(R$4-Q$4)+ABS((R5-Q5)/(R$4-Q$4))*'Start - expert'!$D11)*(R$4-Q$4)+H5","v":63.043333333333337},{"$f":"((S5-R5)/(S$4-R$4)+ABS((S5-R5)/(S$4-R$4))*'Start - expert'!$D11)*(S$4-R$4)+I5","v":63.021666666666668},{"$f":"((T5-S5)/(T$4-S$4)+ABS((T5-S5)/(T$4-S$4))*'Start - expert'!$D11)*(T$4-S$4)+J5","v":63},{"$f":"((U5-T5)/(U$4-T$4)+ABS((U5-T5)/(U$4-T$4))*'Start - expert'!$D11)*(U$4-T$4)+K5","v":56.285714285714285},{"$f":"((V5-U5)/(V$4-U$4)+ABS((V5-U5)/(V$4-U$4))*'Start - expert'!$D11)*(V$4-U$4)+L5","v":48.5},{"$f":"((W5-V5)/(W$4-V$4)+ABS((W5-V5)/(W$4-V$4))*'Start - expert'!$D11)*(W$4-V$4)+M5","v":40.714285714285715},{"$f":"IF(ISBLANK('Données de production'!W5), IF('Start - expert'!$D$3='Données de production'!$E$14,'Données de production'!E16,IF('Start - expert'!$D$3='Données de production'!$N$14,'Données de production'!N16,IF('Start - expert'!$D$3='Données de production'!$W$14,'Données de production'!W16,IF('Start - expert'!$D$3='Scénario à définir'!$E$7,'Scénario à définir'!E9,\"ENTRER UN CALCUL\")))), 'Données de production'!W5)","v":63.108333333333334},{"$f":"IF(ISBLANK('Données de production'!X5), IF('Start - expert'!$D$3='Données de production'!$E$14,'Données de production'!F16,IF('Start - expert'!$D$3='Données de production'!$N$14,'Données de production'!O16,IF('Start - expert'!$D$3='Données de production'!$W$14,'Données de production'!X16,IF('Start - expert'!$D$3='Scénario à définir'!$E$7,'Scénario à définir'!F9,\"ENTRER UN CALCUL\")))), 'Données de production'!X5)","v":63.086666666666666},{"$f":"IF(ISBLANK('Données de production'!Y5), IF('Start - expert'!$D$3='Données de production'!$E$14,'Données de production'!G16,IF('Start - expert'!$D$3='Données de production'!$N$14,'Données de production'!P16,IF('Start - expert'!$D$3='Données de production'!$W$14,'Données de production'!Y16,IF('Start - expert'!$D$3='Scénario à définir'!$E$7,'Scénario à définir'!G9,\"ENTRER UN CALCUL\")))), 'Données de production'!Y5)","v":63.064999999999998},{"$f":"IF(ISBLANK('Données de production'!Z5), IF('Start - expert'!$D$3='Données de production'!$E$14,'Données de production'!H16,IF('Start - expert'!$D$3='Données de production'!$N$14,'Données de production'!Q16,IF('Start - expert'!$D$3='Données de production'!$W$14,'Données de production'!Z16,IF('Start - expert'!$D$3='Scénario à définir'!$E$7,'Scénario à définir'!H9,\"ENTRER UN CALCUL\")))), 'Données de production'!Z5)","v":63.043333333333337},{"$f":"IF(ISBLANK('Données de production'!AA5), IF('Start - expert'!$D$3='Données de production'!$E$14,'Données de production'!I16,IF('Start - expert'!$D$3='Données de production'!$N$14,'Données de production'!R16,IF('Start - expert'!$D$3='Données de production'!$W$14,'Données de production'!AA16,IF('Start - expert'!$D$3='Scénario à définir'!$E$7,'Scénario à définir'!I9,\"ENTRER UN CALCUL\")))), 'Données de production'!AA5)","v":63.021666666666668},{"$f":"IF(ISBLANK('Données de production'!AB5), IF('Start - expert'!$D$3='Données de production'!$E$14,'Données de production'!J16,IF('Start - expert'!$D$3='Données de production'!$N$14,'Données de production'!S16,IF('Start - expert'!$D$3='Données de production'!$W$14,'Données de production'!AB16,IF('Start - expert'!$D$3='Scénario à définir'!$E$7,'Scénario à définir'!J9,\"ENTRER UN CALCUL\")))), 'Données de production'!AB5)","v":63},{"$f":"IF(ISBLANK('Données de production'!AC5), IF('Start - expert'!$D$3='Données de production'!$E$14,'Données de production'!K16,IF('Start - expert'!$D$3='Données de production'!$N$14,'Données de production'!T16,IF('Start - expert'!$D$3='Données de production'!$W$14,'Données de production'!AC16,IF('Start - expert'!$D$3='Scénario à définir'!$E$7,'Scénario à définir'!K9,\"ENTRER UN CALCUL\")))), 'Données de production'!AC5)","v":56.285714285714285},{"$f":"IF(ISBLANK('Données de production'!AD5), IF('Start - expert'!$D$3='Données de production'!$E$14,'Données de production'!L16,IF('Start - expert'!$D$3='Données de production'!$N$14,'Données de production'!U16,IF('Start - expert'!$D$3='Données de production'!$W$14,'Données de production'!AD16,IF('Start - expert'!$D$3='Scénario à définir'!$E$7,'Scénario à définir'!L9,\"ENTRER UN CALCUL\")))), 'Données de production'!AD5)","v":48.5},{"$f":"IF(ISBLANK('Données de production'!AE5), IF('Start - expert'!$D$3='Données de production'!$E$14,'Données de production'!M16,IF('Start - expert'!$D$3='Données de production'!$N$14,'Données de production'!V16,IF('Start - expert'!$D$3='Données de production'!$W$14,'Données de production'!AE16,IF('Start - expert'!$D$3='Scénario à définir'!$E$7,'Scénario à définir'!M9,\"ENTRER UN CALCUL\")))), 'Données de production'!AE5)","v":40.714285714285715}]
[null,null,{"$f":"'Données de production'!C6","v":"Eolien terrestre"},"GW",{"$f":"IF(ISBLANK('Données de production'!V6), \"\", 'Données de production'!V6)","v":13.55},{"$f":"((O6-E6)/(O$4-E$4)+ABS((O6-E6)/(O$4-E$4))*'Start - expert'!$D12)*(O$4-E$4)+E6","v":15.575000000000001},{"$f":"((P6-O6)/(P$4-O$4)+ABS((P6-O6)/(P$4-O$4))*'Start - expert'!$D12)*(P$4-O$4)+F6","v":17.600000000000001},{"$f":"((Q6-P6)/(Q$4-P$4)+ABS((Q6-P6)/(Q$4-P$4))*'Start - expert'!$D12)*(Q$4-P$4)+G6","v":19.625},{"$f":"((R6-Q6)/(R$4-Q$4)+ABS((R6-Q6)/(R$4-Q$4))*'Start - expert'!$D12)*(R$4-Q$4)+H6","v":21.65},{"$f":"((S6-R6)/(S$4-R$4)+ABS((S6-R6)/(S$4-R$4))*'Start - expert'!$D12)*(S$4-R$4)+I6","v":23.674999999999997},{"$f":"((T6-S6)/(T$4-S$4)+ABS((T6-S6)/(T$4-S$4))*'Start - expert'!$D12)*(T$4-S$4)+J6","v":29.36},{"$f":"((U6-T6)/(U$4-T$4)+ABS((U6-T6)/(U$4-T$4))*'Start - expert'!$D12)*(U$4-T$4)+K6","v":39.835714285714289},{"$f":"((V6-U6)/(V$4-U$4)+ABS((V6-U6)/(V$4-U$4))*'Start - expert'!$D12)*(V$4-U$4)+L6","v":52.3},{"$f":"((W6-V6)/(W$4-V$4)+ABS((W6-V6)/(W$4-V$4))*'Start - expert'!$D12)*(W$4-V$4)+M6","v":64.764285714285705},{"$f":"IF(ISBLANK('Données de production'!W6), IF('Start - expert'!$D$3='Données de production'!$E$14,'Données de production'!E17,IF('Start - expert'!$D$3='Données de production'!$N$14,'Données de production'!N17,IF('Start - expert'!$D$3='Données de production'!$W$14,'Données de production'!W17,IF('Start - expert'!$D$3='Scénario à définir'!$E$7,'Scénario à définir'!E10,\"ENTRER UN CALCUL\")))), 'Données de production'!W6)","v":15.575000000000001},{"$f":"IF(ISBLANK('Données de production'!X6), IF('Start - expert'!$D$3='Données de production'!$E$14,'Données de production'!F17,IF('Start - expert'!$D$3='Données de production'!$N$14,'Données de production'!O17,IF('Start - expert'!$D$3='Données de production'!$W$14,'Données de production'!X17,IF('Start - expert'!$D$3='Scénario à définir'!$E$7,'Scénario à définir'!F10,\"ENTRER UN CALCUL\")))), 'Données de production'!X6)","v":17.600000000000001},{"$f":"IF(ISBLANK('Données de production'!Y6), IF('Start - expert'!$D$3='Données de production'!$E$14,'Données de production'!G17,IF('Start - expert'!$D$3='Données de production'!$N$14,'Données de production'!P17,IF('Start - expert'!$D$3='Données de production'!$W$14,'Données de production'!Y17,IF('Start - expert'!$D$3='Scénario à définir'!$E$7,'Scénario à définir'!G10,\"ENTRER UN CALCUL\")))), 'Données de production'!Y6)","v":19.625},{"$f":"IF(ISBLANK('Données de production'!Z6), IF('Start - expert'!$D$3='Données de production'!$E$14,'Données de production'!H17,IF('Start - expert'!$D$3='Données de production'!$N$14,'Données de production'!Q17,IF('Start - expert'!$D$3='Données de production'!$W$14,'Données de production'!Z17,IF('Start - expert'!$D$3='Scénario à définir'!$E$7,'Scénario à définir'!H10,\"ENTRER UN CALCUL\")))), 'Données de production'!Z6)","v":21.65},{"$f":"IF(ISBLANK('Données de production'!AA6), IF('Start - expert'!$D$3='Données de production'!$E$14,'Données de production'!I17,IF('Start - expert'!$D$3='Données de production'!$N$14,'Données de production'!R17,IF('Start - expert'!$D$3='Données de production'!$W$14,'Données de production'!AA17,IF('Start - expert'!$D$3='Scénario à définir'!$E$7,'Scénario à définir'!I10,\"ENTRER UN CALCUL\")))), 'Données de production'!AA6)","v":23.674999999999997},{"$f":"IF(ISBLANK('Données de production'!AB6), IF('Start - expert'!$D$3='Données de production'!$E$14,'Données de production'!J17,IF('Start - expert'!$D$3='Données de production'!$N$14,'Données de production'!S17,IF('Start - expert'!$D$3='Données de production'!$W$14,'Données de production'!AB17,IF('Start - expert'!$D$3='Scénario à définir'!$E$7,'Scénario à définir'!J10,\"ENTRER UN CALCUL\")))), 'Données de production'!AB6)","v":29.36},{"$f":"IF(ISBLANK('Données de production'!AC6), IF('Start - expert'!$D$3='Données de production'!$E$14,'Données de production'!K17,IF('Start - expert'!$D$3='Données de production'!$N$14,'Données de production'!T17,IF('Start - expert'!$D$3='Données de production'!$W$14,'Données de production'!AC17,IF('Start - expert'!$D$3='Scénario à définir'!$E$7,'Scénario à définir'!K10,\"ENTRER UN CALCUL\")))), 'Données de production'!AC6)","v":39.835714285714289},{"$f":"IF(ISBLANK('Données de production'!AD6), IF('Start - expert'!$D$3='Données de production'!$E$14,'Données de production'!L17,IF('Start - expert'!$D$3='Données de production'!$N$14,'Données de production'!U17,IF('Start - expert'!$D$3='Données de production'!$W$14,'Données de production'!AD17,IF('Start - expert'!$D$3='Scénario à définir'!$E$7,'Scénario à définir'!L10,\"ENTRER UN CALCUL\")))), 'Données de production'!AD6)","v":52.3},{"$f":"IF(ISBLANK('Données de production'!AE6), IF('Start - expert'!$D$3='Données de production'!$E$14,'Données de production'!M17,IF('Start - expert'!$D$3='Données de production'!$N$14,'Données de production'!V17,IF('Start - expert'!$D$3='Données de production'!$W$14,'Données de production'!AE17,IF('Start - expert'!$D$3='Scénario à définir'!$E$7,'Scénario à définir'!M10,\"ENTRER UN CALCUL\")))), 'Données de production'!AE6)","v":64.764285714285705}]
[null,null,{"$f":"'Données de production'!C7","v":"Eolien en mer"},"GW",{"$f":"IF(ISBLANK('Données de production'!V7), \"\", 'Données de production'!V7)","v":0},{"$f":"((O7-E7)/(O$4-E$4)+ABS((O7-E7)/(O$4-E$4))*'Start - expert'!$D13)*(O$4-E$4)+E7","v":0},{"$f":"((P7-O7)/(P$4-O$4)+ABS((P7-O7)/(P$4-O$4))*'Start - expert'!$D13)*(P$4-O$4)+F7","v":0},{"$f":"((Q7-P7)/(Q$4-P$4)+ABS((Q7-P7)/(Q$4-P$4))*'Start - expert'!$D13)*(Q$4-P$4)+G7","v":0},{"$f":"((R7-Q7)/(R$4-Q$4)+ABS((R7-Q7)/(R$4-Q$4))*'Start - expert'!$D13)*(R$4-Q$4)+H7","v":0.79999999999999993},{"$f":"((S7-R7)/(S$4-R$4)+ABS((S7-R7)/(S$4-R$4))*'Start - expert'!$D13)*(S$4-R$4)+I7","v":1.5999999999999999},{"$f":"((T7-S7)/(T$4-S$4)+ABS((T7-S7)/(T$4-S$4))*'Start - expert'!$D13)*(T$4-S$4)+J7","v":3.42},{"$f":"((U7-T7)/(U$4-T$4)+ABS((U7-T7)/(U$4-T$4))*'Start - expert'!$D13)*(U$4-T$4)+K7","v":7.8214285714285712},{"$f":"((V7-U7)/(V$4-U$4)+ABS((V7-U7)/(V$4-U$4))*'Start - expert'!$D13)*(V$4-U$4)+L7","v":15},{"$f":"((W7-V7)/(W$4-V$4)+ABS((W7-V7)/(W$4-V$4))*'Start - expert'!$D13)*(W$4-V$4)+M7","v":22.178571428571431},{"$f":"IF(ISBLANK('Données de production'!W7), IF('Start - expert'!$D$3='Données de production'!$E$14,'Données de production'!E18,IF('Start - expert'!$D$3='Données de production'!$N$14,'Données de production'!N18,IF('Start - expert'!$D$3='Données de production'!$W$14,'Données de production'!W18,IF('Start - expert'!$D$3='Scénario à définir'!$E$7,'Scénario à définir'!E11,\"ENTRER UN CALCUL\")))), 'Données de production'!W7)","v":0},{"$f":"IF(ISBLANK('Données de production'!X7), IF('Start - expert'!$D$3='Données de production'!$E$14,'Données de production'!F18,IF('Start - expert'!$D$3='Données de production'!$N$14,'Données de production'!O18,IF('Start - expert'!$D$3='Données de production'!$W$14,'Données de production'!X18,IF('Start - expert'!$D$3='Scénario à définir'!$E$7,'Scénario à définir'!F11,\"ENTRER UN CALCUL\")))), 'Données de production'!X7)","v":0},{"$f":"IF(ISBLANK('Données de production'!Y7), IF('Start - expert'!$D$3='Données de production'!$E$14,'Données de production'!G18,IF('Start - expert'!$D$3='Données de production'!$N$14,'Données de production'!P18,IF('Start - expert'!$D$3='Données de production'!$W$14,'Données de production'!Y18,IF('Start - expert'!$D$3='Scénario à définir'!$E$7,'Scénario à définir'!G11,\"ENTRER UN CALCUL\")))), 'Données de production'!Y7)","v":0},{"$f":"IF(ISBLANK('Données de production'!Z7), IF('Start - expert'!$D$3='Données de production'!$E$14,'Données de production'!H18,IF('Start - expert'!$D$3='Données de production'!$N$14,'Données de production'!Q18,IF('Start - expert'!$D$3='Données de production'!$W$14,'Données de production'!Z18,IF('Start - expert'!$D$3='Scénario à définir'!$E$7,'Scénario à définir'!H11,\"ENTRER UN CALCUL\")))), 'Données de production'!Z7)","v":0.79999999999999993},{"$f":"IF(ISBLANK('Données de production'!AA7), IF('Start - expert'!$D$3='Données de production'!$E$14,'Données de production'!I18,IF('Start - expert'!$D$3='Données de production'!$N$14,'Données de production'!R18,IF('Start - expert'!$D$3='Données de production'!$W$14,'Données de production'!AA18,IF('Start - expert'!$D$3='Scénario à définir'!$E$7,'Scénario à définir'!I11,\"ENTRER UN CALCUL\")))), 'Données de production'!AA7)","v":1.5999999999999999},{"$f":"IF(ISBLANK('Données de production'!AB7), IF('Start - expert'!$D$3='Données de production'!$E$14,'Données de production'!J18,IF('Start - expert'!$D$3='Données de production'!$N$14,'Données de production'!S18,IF('Start - expert'!$D$3='Données de production'!$W$14,'Données de production'!AB18,IF('Start - expert'!$D$3='Scénario à définir'!$E$7,'Scénario à définir'!J11,\"ENTRER UN CALCUL\")))), 'Données de production'!AB7)","v":3.42},{"$f":"IF(ISBLANK('Données de production'!AC7), IF('Start - expert'!$D$3='Données de production'!$E$14,'Données de production'!K18,IF('Start - expert'!$D$3='Données de production'!$N$14,'Données de production'!T18,IF('Start - expert'!$D$3='Données de production'!$W$14,'Données de production'!AC18,IF('Start - expert'!$D$3='Scénario à définir'!$E$7,'Scénario à définir'!K11,\"ENTRER UN CALCUL\")))), 'Données de production'!AC7)","v":7.8214285714285712},{"$f":"IF(ISBLANK('Données de production'!AD7), IF('Start - expert'!$D$3='Données de production'!$E$14,'Données de production'!L18,IF('Start - expert'!$D$3='Données de production'!$N$14,'Données de production'!U18,IF('Start - expert'!$D$3='Données de production'!$W$14,'Données de production'!AD18,IF('Start - expert'!$D$3='Scénario à définir'!$E$7,'Scénario à définir'!L11,\"ENTRER UN CALCUL\")))), 'Données de production'!AD7)","v":15},{"$f":"IF(ISBLANK('Données de production'!AE7), IF('Start - expert'!$D$3='Données de production'!$E$14,'Données de production'!M18,IF('Start - expert'!$D$3='Données de production'!$N$14,'Données de production'!V18,IF('Start - expert'!$D$3='Données de production'!$W$14,'Données de production'!AE18,IF('Start - expert'!$D$3='Scénario à définir'!$E$7,'Scénario à définir'!M11,\"ENTRER UN CALCUL\")))), 'Données de production'!AE7)","v":22.178571428571431}]
[null,null,{"$f":"'Données de production'!C8","v":"PV au sol"},"GW",{"$f":"IF(ISBLANK('Données de production'!V8), \"\", 'Données de production'!V8)","v":4.178612324929972},{"$f":"((O8-E8)/(O$4-E$4)+ABS((O8-E8)/(O$4-E$4))*'Start - expert'!$D14)*(O$4-E$4)+E8","v":5.4155102707749769},{"$f":"((P8-O8)/(P$4-O$4)+ABS((P8-O8)/(P$4-O$4))*'Start - expert'!$D14)*(P$4-O$4)+F8","v":6.6524082166199818},{"$f":"((Q8-P8)/(Q$4-P$4)+ABS((Q8-P8)/(Q$4-P$4))*'Start - expert'!$D14)*(Q$4-P$4)+G8","v":7.889306162464985},{"$f":"((R8-Q8)/(R$4-Q$4)+ABS((R8-Q8)/(R$4-Q$4))*'Start - expert'!$D14)*(R$4-Q$4)+H8","v":9.1262041083099916},{"$f":"((S8-R8)/(S$4-R$4)+ABS((S8-R8)/(S$4-R$4))*'Start - expert'!$D14)*(S$4-R$4)+I8","v":10.363102054154997},{"$f":"((T8-S8)/(T$4-S$4)+ABS((T8-S8)/(T$4-S$4))*'Start - expert'!$D14)*(T$4-S$4)+J8","v":16.079999999999998},{"$f":"((U8-T8)/(U$4-T$4)+ABS((U8-T8)/(U$4-T$4))*'Start - expert'!$D14)*(U$4-T$4)+K8","v":24.513830660040021},{"$f":"((V8-U8)/(V$4-U$4)+ABS((V8-U8)/(V$4-U$4))*'Start - expert'!$D14)*(V$4-U$4)+L8","v":28.798407310140075},{"$f":"((W8-V8)/(W$4-V$4)+ABS((W8-V8)/(W$4-V$4))*'Start - expert'!$D14)*(W$4-V$4)+M8","v":33.082983960240128},{"$f":"IF(ISBLANK('Données de production'!W8), IF('Start - expert'!$D$3='Données de production'!$E$14,'Données de production'!E19,IF('Start - expert'!$D$3='Données de production'!$N$14,'Données de production'!N19,IF('Start - expert'!$D$3='Données de production'!$W$14,'Données de production'!W19,IF('Start - expert'!$D$3='Scénario à définir'!$E$7,'Scénario à définir'!E12,\"ENTRER UN CALCUL\")))), 'Données de production'!W8)","v":5.4155102707749769},{"$f":"IF(ISBLANK('Données de production'!X8), IF('Start - expert'!$D$3='Données de production'!$E$14,'Données de production'!F19,IF('Start - expert'!$D$3='Données de production'!$N$14,'Données de production'!O19,IF('Start - expert'!$D$3='Données de production'!$W$14,'Données de production'!X19,IF('Start - expert'!$D$3='Scénario à définir'!$E$7,'Scénario à définir'!F12,\"ENTRER UN CALCUL\")))), 'Données de production'!X8)","v":6.6524082166199818},{"$f":"IF(ISBLANK('Données de production'!Y8), IF('Start - expert'!$D$3='Données de production'!$E$14,'Données de production'!G19,IF('Start - expert'!$D$3='Données de production'!$N$14,'Données de production'!P19,IF('Start - expert'!$D$3='Données de production'!$W$14,'Données de production'!Y19,IF('Start - expert'!$D$3='Scénario à définir'!$E$7,'Scénario à définir'!G12,\"ENTRER UN CALCUL\")))), 'Données de production'!Y8)","v":7.889306162464985},{"$f":"IF(ISBLANK('Données de production'!Z8), IF('Start - expert'!$D$3='Données de production'!$E$14,'Données de production'!H19,IF('Start - expert'!$D$3='Données de production'!$N$14,'Données de production'!Q19,IF('Start - expert'!$D$3='Données de production'!$W$14,'Données de production'!Z19,IF('Start - expert'!$D$3='Scénario à définir'!$E$7,'Scénario à définir'!H12,\"ENTRER UN CALCUL\")))), 'Données de production'!Z8)","v":9.1262041083099916},{"$f":"IF(ISBLANK('Données de production'!AA8), IF('Start - expert'!$D$3='Données de production'!$E$14,'Données de production'!I19,IF('Start - expert'!$D$3='Données de production'!$N$14,'Données de production'!R19,IF('Start - expert'!$D$3='Données de production'!$W$14,'Données de production'!AA19,IF('Start - expert'!$D$3='Scénario à définir'!$E$7,'Scénario à définir'!I12,\"ENTRER UN CALCUL\")))), 'Données de production'!AA8)","v":10.363102054154997},{"$f":"IF(ISBLANK('Données de production'!AB8), IF('Start - expert'!$D$3='Données de production'!$E$14,'Données de production'!J19,IF('Start - expert'!$D$3='Données de production'!$N$14,'Données de production'!S19,IF('Start - expert'!$D$3='Données de production'!$W$14,'Données de production'!AB19,IF('Start - expert'!$D$3='Scénario à définir'!$E$7,'Scénario à définir'!J12,\"ENTRER UN CALCUL\")))), 'Données de production'!AB8)","v":16.079999999999998},{"$f":"IF(ISBLANK('Données de production'!AC8), IF('Start - expert'!$D$3='Données de production'!$E$14,'Données de production'!K19,IF('Start - expert'!$D$3='Données de production'!$N$14,'Données de production'!T19,IF('Start - expert'!$D$3='Données de production'!$W$14,'Données de production'!AC19,IF('Start - expert'!$D$3='Scénario à définir'!$E$7,'Scénario à définir'!K12,\"ENTRER UN CALCUL\")))), 'Données de production'!AC8)","v":24.513830660040021},{"$f":"IF(ISBLANK('Données de production'!AD8), IF('Start - expert'!$D$3='Données de production'!$E$14,'Données de production'!L19,IF('Start - expert'!$D$3='Données de production'!$N$14,'Données de production'!U19,IF('Start - expert'!$D$3='Données de production'!$W$14,'Données de production'!AD19,IF('Start - expert'!$D$3='Scénario à définir'!$E$7,'Scénario à définir'!L12,\"ENTRER UN CALCUL\")))), 'Données de production'!AD8)","v":28.798407310140075},{"$f":"IF(ISBLANK('Données de production'!AE8), IF('Start - expert'!$D$3='Données de production'!$E$14,'Données de production'!M19,IF('Start - expert'!$D$3='Données de production'!$N$14,'Données de production'!V19,IF('Start - expert'!$D$3='Données de production'!$W$14,'Données de production'!AE19,IF('Start - expert'!$D$3='Scénario à définir'!$E$7,'Scénario à définir'!M12,\"ENTRER UN CALCUL\")))), 'Données de production'!AE8)","v":33.082983960240128}]
[null,null,{"$f":"'Données de production'!C9","v":"PV sur toiture"},"GW",{"$f":"IF(ISBLANK('Données de production'!V9), \"\", 'Données de production'!V9)","v":3.4753876750700283},{"$f":"((O9-E9)/(O$4-E$4)+ABS((O9-E9)/(O$4-E$4))*'Start - expert'!$D15)*(O$4-E$4)+E9","v":4.3961563958916905},{"$f":"((P9-O9)/(P$4-O$4)+ABS((P9-O9)/(P$4-O$4))*'Start - expert'!$D15)*(P$4-O$4)+F9","v":5.3169251167133522},{"$f":"((Q9-P9)/(Q$4-P$4)+ABS((Q9-P9)/(Q$4-P$4))*'Start - expert'!$D15)*(Q$4-P$4)+G9","v":6.2376938375350139},{"$f":"((R9-Q9)/(R$4-Q$4)+ABS((R9-Q9)/(R$4-Q$4))*'Start - expert'!$D15)*(R$4-Q$4)+H9","v":7.1584625583566766},{"$f":"((S9-R9)/(S$4-R$4)+ABS((S9-R9)/(S$4-R$4))*'Start - expert'!$D15)*(S$4-R$4)+I9","v":8.0792312791783392},{"$f":"((T9-S9)/(T$4-S$4)+ABS((T9-S9)/(T$4-S$4))*'Start - expert'!$D15)*(T$4-S$4)+J9","v":12.3},{"$f":"((U9-T9)/(U$4-T$4)+ABS((U9-T9)/(U$4-T$4))*'Start - expert'!$D15)*(U$4-T$4)+K9","v":17.950455054245694},{"$f":"((V9-U9)/(V$4-U$4)+ABS((V9-U9)/(V$4-U$4))*'Start - expert'!$D15)*(V$4-U$4)+L9","v":19.701592689859925},{"$f":"((W9-V9)/(W$4-V$4)+ABS((W9-V9)/(W$4-V$4))*'Start - expert'!$D15)*(W$4-V$4)+M9","v":21.452730325474157},{"$f":"IF(ISBLANK('Données de production'!W9), IF('Start - expert'!$D$3='Données de production'!$E$14,'Données de production'!E20,IF('Start - expert'!$D$3='Données de production'!$N$14,'Données de production'!N20,IF('Start - expert'!$D$3='Données de production'!$W$14,'Données de production'!W20,IF('Start - expert'!$D$3='Scénario à définir'!$E$7,'Scénario à définir'!E13,\"ENTRER UN CALCUL\")))), 'Données de production'!W9)","v":4.3961563958916905},{"$f":"IF(ISBLANK('Données de production'!X9), IF('Start - expert'!$D$3='Données de production'!$E$14,'Données de production'!F20,IF('Start - expert'!$D$3='Données de production'!$N$14,'Données de production'!O20,IF('Start - expert'!$D$3='Données de production'!$W$14,'Données de production'!X20,IF('Start - expert'!$D$3='Scénario à définir'!$E$7,'Scénario à définir'!F13,\"ENTRER UN CALCUL\")))), 'Données de production'!X9)","v":5.3169251167133522},{"$f":"IF(ISBLANK('Données de production'!Y9), IF('Start - expert'!$D$3='Données de production'!$E$14,'Données de production'!G20,IF('Start - expert'!$D$3='Données de production'!$N$14,'Données de production'!P20,IF('Start - expert'!$D$3='Données de production'!$W$14,'Données de production'!Y20,IF('Start - expert'!$D$3='Scénario à définir'!$E$7,'Scénario à définir'!G13,\"ENTRER UN CALCUL\")))), 'Données de production'!Y9)","v":6.2376938375350139},{"$f":"IF(ISBLANK('Données de production'!Z9), IF('Start - expert'!$D$3='Données de production'!$E$14,'Données de production'!H20,IF('Start - expert'!$D$3='Données de production'!$N$14,'Données de production'!Q20,IF('Start - expert'!$D$3='Données de production'!$W$14,'Données de production'!Z20,IF('Start - expert'!$D$3='Scénario à définir'!$E$7,'Scénario à définir'!H13,\"ENTRER UN CALCUL\")))), 'Données de production'!Z9)","v":7.1584625583566766},{"$f":"IF(ISBLANK('Données de production'!AA9), IF('Start - expert'!$D$3='Données de production'!$E$14,'Données de production'!I20,IF('Start - expert'!$D$3='Données de production'!$N$14,'Données de production'!R20,IF('Start - expert'!$D$3='Données de production'!$W$14,'Données de production'!AA20,IF('Start - expert'!$D$3='Scénario à définir'!$E$7,'Scénario à définir'!I13,\"ENTRER UN CALCUL\")))), 'Données de production'!AA9)","v":8.0792312791783392},{"$f":"IF(ISBLANK('Données de production'!AB9), IF('Start - expert'!$D$3='Données de production'!$E$14,'Données de production'!J20,IF('Start - expert'!$D$3='Données de production'!$N$14,'Données de production'!S20,IF('Start - expert'!$D$3='Données de production'!$W$14,'Données de production'!AB20,IF('Start - expert'!$D$3='Scénario à définir'!$E$7,'Scénario à définir'!J13,\"ENTRER UN CALCUL\")))), 'Données de production'!AB9)","v":12.3},{"$f":"IF(ISBLANK('Données de production'!AC9), IF('Start - expert'!$D$3='Données de production'!$E$14,'Données de production'!K20,IF('Start - expert'!$D$3='Données de production'!$N$14,'Données de production'!T20,IF('Start - expert'!$D$3='Données de production'!$W$14,'Données de production'!AC20,IF('Start - expert'!$D$3='Scénario à définir'!$E$7,'Scénario à définir'!K13,\"ENTRER UN CALCUL\")))), 'Données de production'!AC9)","v":17.950455054245694},{"$f":"IF(ISBLANK('Données de production'!AD9), IF('Start - expert'!$D$3='Données de production'!$E$14,'Données de production'!L20,IF('Start - expert'!$D$3='Données de production'!$N$14,'Données de production'!U20,IF('Start - expert'!$D$3='Données de production'!$W$14,'Données de production'!AD20,IF('Start - expert'!$D$3='Scénario à définir'!$E$7,'Scénario à définir'!L13,\"ENTRER UN CALCUL\")))), 'Données de production'!AD9)","v":19.701592689859925},{"$f":"IF(ISBLANK('Données de production'!AE9), IF('Start - expert'!$D$3='Données de production'!$E$14,'Données de production'!M20,IF('Start - expert'!$D$3='Données de production'!$N$14,'Données de production'!V20,IF('Start - expert'!$D$3='Données de production'!$W$14,'Données de production'!AE20,IF('Start - expert'!$D$3='Scénario à définir'!$E$7,'Scénario à définir'!M13,\"ENTRER UN CALCUL\")))), 'Données de production'!AE9)","v":21.452730325474157}]
[null,null,{"$f":"'Données de production'!C10","v":"Autres EnRe"},"GW",{"$f":"IF(ISBLANK('Données de production'!V10), \"\", 'Données de production'!V10)","v":1.9528000000000001},{"$f":"((O10-E10)/(O$4-E$4)+ABS((O10-E10)/(O$4-E$4))*'Start - expert'!$D16)*(O$4-E$4)+E10","v":1.8096666666666668},{"$f":"((P10-O10)/(P$4-O$4)+ABS((P10-O10)/(P$4-O$4))*'Start - expert'!$D16)*(P$4-O$4)+F10","v":1.6665333333333334},{"$f":"((Q10-P10)/(Q$4-P$4)+ABS((Q10-P10)/(Q$4-P$4))*'Start - expert'!$D16)*(Q$4-P$4)+G10","v":1.5234000000000001},{"$f":"((R10-Q10)/(R$4-Q$4)+ABS((R10-Q10)/(R$4-Q$4))*'Start - expert'!$D16)*(R$4-Q$4)+H10","v":1.3802666666666668},{"$f":"((S10-R10)/(S$4-R$4)+ABS((S10-R10)/(S$4-R$4))*'Start - expert'!$D16)*(S$4-R$4)+I10","v":1.2371333333333334},{"$f":"((T10-S10)/(T$4-S$4)+ABS((T10-S10)/(T$4-S$4))*'Start - expert'!$D16)*(T$4-S$4)+J10","v":1.1360000000000001},{"$f":"((U10-T10)/(U$4-T$4)+ABS((U10-T10)/(U$4-T$4))*'Start - expert'!$D16)*(U$4-T$4)+K10","v":2.027857142857143},{"$f":"((V10-U10)/(V$4-U$4)+ABS((V10-U10)/(V$4-U$4))*'Start - expert'!$D16)*(V$4-U$4)+L10","v":4.0999999999999996},{"$f":"((W10-V10)/(W$4-V$4)+ABS((W10-V10)/(W$4-V$4))*'Start - expert'!$D16)*(W$4-V$4)+M10","v":6.1721428571428563},{"$f":"IF(ISBLANK('Données de production'!W10), IF('Start - expert'!$D$3='Données de production'!$E$14,'Données de production'!E21,IF('Start - expert'!$D$3='Données de production'!$N$14,'Données de production'!N21,IF('Start - expert'!$D$3='Données de production'!$W$14,'Données de production'!W21,IF('Start - expert'!$D$3='Scénario à définir'!$E$7,'Scénario à définir'!E14,\"ENTRER UN CALCUL\")))), 'Données de production'!W10)","v":1.8096666666666668},{"$f":"IF(ISBLANK('Données de production'!X10), IF('Start - expert'!$D$3='Données de production'!$E$14,'Données de production'!F21,IF('Start - expert'!$D$3='Données de production'!$N$14,'Données de production'!O21,IF('Start - expert'!$D$3='Données de production'!$W$14,'Données de production'!X21,IF('Start - expert'!$D$3='Scénario à définir'!$E$7,'Scénario à définir'!F14,\"ENTRER UN CALCUL\")))), 'Données de production'!X10)","v":1.6665333333333334},{"$f":"IF(ISBLANK('Données de production'!Y10), IF('Start - expert'!$D$3='Données de production'!$E$14,'Données de production'!G21,IF('Start - expert'!$D$3='Données de production'!$N$14,'Données de production'!P21,IF('Start - expert'!$D$3='Données de production'!$W$14,'Données de production'!Y21,IF('Start - expert'!$D$3='Scénario à définir'!$E$7,'Scénario à définir'!G14,\"ENTRER UN CALCUL\")))), 'Données de production'!Y10)","v":1.5234000000000001},{"$f":"IF(ISBLANK('Données de production'!Z10), IF('Start - expert'!$D$3='Données de production'!$E$14,'Données de production'!H21,IF('Start - expert'!$D$3='Données de production'!$N$14,'Données de production'!Q21,IF('Start - expert'!$D$3='Données de production'!$W$14,'Données de production'!Z21,IF('Start - expert'!$D$3='Scénario à définir'!$E$7,'Scénario à définir'!H14,\"ENTRER UN CALCUL\")))), 'Données de production'!Z10)","v":1.3802666666666668},{"$f":"IF(ISBLANK('Données de production'!AA10), IF('Start - expert'!$D$3='Données de production'!$E$14,'Données de production'!I21,IF('Start - expert'!$D$3='Données de production'!$N$14,'Données de production'!R21,IF('Start - expert'!$D$3='Données de production'!$W$14,'Données de production'!AA21,IF('Start - expert'!$D$3='Scénario à définir'!$E$7,'Scénario à définir'!I14,\"ENTRER UN CALCUL\")))), 'Données de production'!AA10)","v":1.2371333333333334},{"$f":"IF(ISBLANK('Données de production'!AB10), IF('Start - expert'!$D$3='Données de production'!$E$14,'Données de production'!J21,IF('Start - expert'!$D$3='Données de production'!$N$14,'Données de production'!S21,IF('Start - expert'!$D$3='Données de production'!$W$14,'Données de production'!AB21,IF('Start - expert'!$D$3='Scénario à définir'!$E$7,'Scénario à définir'!J14,\"ENTRER UN CALCUL\")))), 'Données de production'!AB10)","v":1.1360000000000001},{"$f":"IF(ISBLANK('Données de production'!AC10), IF('Start - expert'!$D$3='Données de production'!$E$14,'Données de production'!K21,IF('Start - expert'!$D$3='Données de production'!$N$14,'Données de production'!T21,IF('Start - expert'!$D$3='Données de production'!$W$14,'Données de production'!AC21,IF('Start - expert'!$D$3='Scénario à définir'!$E$7,'Scénario à définir'!K14,\"ENTRER UN CALCUL\")))), 'Données de production'!AC10)","v":2.027857142857143},{"$f":"IF(ISBLANK('Données de production'!AD10), IF('Start - expert'!$D$3='Données de production'!$E$14,'Données de production'!L21,IF('Start - expert'!$D$3='Données de production'!$N$14,'Données de production'!U21,IF('Start - expert'!$D$3='Données de production'!$W$14,'Données de production'!AD21,IF('Start - expert'!$D$3='Scénario à définir'!$E$7,'Scénario à définir'!L14,\"ENTRER UN CALCUL\")))), 'Données de production'!AD10)","v":4.0999999999999996},{"$f":"IF(ISBLANK('Données de production'!AE10), IF('Start - expert'!$D$3='Données de production'!$E$14,'Données de production'!M21,IF('Start - expert'!$D$3='Données de production'!$N$14,'Données de production'!V21,IF('Start - expert'!$D$3='Données de production'!$W$14,'Données de production'!AE21,IF('Start - expert'!$D$3='Scénario à définir'!$E$7,'Scénario à définir'!M14,\"ENTRER UN CALCUL\")))), 'Données de production'!AE10)","v":6.1721428571428563}]
[null,null,{"$f":"'Données de production'!C11","v":"Hydraulique"},"GW",{"$f":"IF(ISBLANK('Données de production'!V11), \"\", 'Données de production'!V11)","v":25.521100000000001},{"$f":"((O11-E11)/(O$4-E$4)+ABS((O11-E11)/(O$4-E$4))*'Start - expert'!$D17)*(O$4-E$4)+E11","v":25.517583333333334},{"$f":"((P11-O11)/(P$4-O$4)+ABS((P11-O11)/(P$4-O$4))*'Start - expert'!$D17)*(P$4-O$4)+F11","v":25.514066666666668},{"$f":"((Q11-P11)/(Q$4-P$4)+ABS((Q11-P11)/(Q$4-P$4))*'Start - expert'!$D17)*(Q$4-P$4)+G11","v":25.510550000000002},{"$f":"((R11-Q11)/(R$4-Q$4)+ABS((R11-Q11)/(R$4-Q$4))*'Start - expert'!$D17)*(R$4-Q$4)+H11","v":25.507033333333332},{"$f":"((S11-R11)/(S$4-R$4)+ABS((S11-R11)/(S$4-R$4))*'Start - expert'!$D17)*(S$4-R$4)+I11","v":25.503516666666666},{"$f":"((T11-S11)/(T$4-S$4)+ABS((T11-S11)/(T$4-S$4))*'Start - expert'!$D17)*(T$4-S$4)+J11","v":25.5},{"$f":"((U11-T11)/(U$4-T$4)+ABS((U11-T11)/(U$4-T$4))*'Start - expert'!$D17)*(U$4-T$4)+K11","v":25.5},{"$f":"((V11-U11)/(V$4-U$4)+ABS((V11-U11)/(V$4-U$4))*'Start - expert'!$D17)*(V$4-U$4)+L11","v":25.5},{"$f":"((W11-V11)/(W$4-V$4)+ABS((W11-V11)/(W$4-V$4))*'Start - expert'!$D17)*(W$4-V$4)+M11","v":25.5},{"$f":"IF(ISBLANK('Données de production'!W11), IF('Start - expert'!$D$3='Données de production'!$E$14,'Données de production'!E22,IF('Start - expert'!$D$3='Données de production'!$N$14,'Données de production'!N22,IF('Start - expert'!$D$3='Données de production'!$W$14,'Données de production'!W22,IF('Start - expert'!$D$3='Scénario à définir'!$E$7,'Scénario à définir'!E15,\"ENTRER UN CALCUL\")))), 'Données de production'!W11)","v":25.517583333333334},{"$f":"IF(ISBLANK('Données de production'!X11), IF('Start - expert'!$D$3='Données de production'!$E$14,'Données de production'!F22,IF('Start - expert'!$D$3='Données de production'!$N$14,'Données de production'!O22,IF('Start - expert'!$D$3='Données de production'!$W$14,'Données de production'!X22,IF('Start - expert'!$D$3='Scénario à définir'!$E$7,'Scénario à définir'!F15,\"ENTRER UN CALCUL\")))), 'Données de production'!X11)","v":25.514066666666668},{"$f":"IF(ISBLANK('Données de production'!Y11), IF('Start - expert'!$D$3='Données de production'!$E$14,'Données de production'!G22,IF('Start - expert'!$D$3='Données de production'!$N$14,'Données de production'!P22,IF('Start - expert'!$D$3='Données de production'!$W$14,'Données de production'!Y22,IF('Start - expert'!$D$3='Scénario à définir'!$E$7,'Scénario à définir'!G15,\"ENTRER UN CALCUL\")))), 'Données de production'!Y11)","v":25.510550000000002},{"$f":"IF(ISBLANK('Données de production'!Z11), IF('Start - expert'!$D$3='Données de production'!$E$14,'Données de production'!H22,IF('Start - expert'!$D$3='Données de production'!$N$14,'Données de production'!Q22,IF('Start - expert'!$D$3='Données de production'!$W$14,'Données de production'!Z22,IF('Start - expert'!$D$3='Scénario à définir'!$E$7,'Scénario à définir'!H15,\"ENTRER UN CALCUL\")))), 'Données de production'!Z11)","v":25.507033333333332},{"$f":"IF(ISBLANK('Données de production'!AA11), IF('Start - expert'!$D$3='Données de production'!$E$14,'Données de production'!I22,IF('Start - expert'!$D$3='Données de production'!$N$14,'Données de production'!R22,IF('Start - expert'!$D$3='Données de production'!$W$14,'Données de production'!AA22,IF('Start - expert'!$D$3='Scénario à définir'!$E$7,'Scénario à définir'!I15,\"ENTRER UN CALCUL\")))), 'Données de production'!AA11)","v":25.503516666666666},{"$f":"IF(ISBLANK('Données de production'!AB11), IF('Start - expert'!$D$3='Données de production'!$E$14,'Données de production'!J22,IF('Start - expert'!$D$3='Données de production'!$N$14,'Données de production'!S22,IF('Start - expert'!$D$3='Données de production'!$W$14,'Données de production'!AB22,IF('Start - expert'!$D$3='Scénario à définir'!$E$7,'Scénario à définir'!J15,\"ENTRER UN CALCUL\")))), 'Données de production'!AB11)","v":25.5},{"$f":"IF(ISBLANK('Données de production'!AC11), IF('Start - expert'!$D$3='Données de production'!$E$14,'Données de production'!K22,IF('Start - expert'!$D$3='Données de production'!$N$14,'Données de production'!T22,IF('Start - expert'!$D$3='Données de production'!$W$14,'Données de production'!AC22,IF('Start - expert'!$D$3='Scénario à définir'!$E$7,'Scénario à définir'!K15,\"ENTRER UN CALCUL\")))), 'Données de production'!AC11)","v":25.5},{"$f":"IF(ISBLANK('Données de production'!AD11), IF('Start - expert'!$D$3='Données de production'!$E$14,'Données de production'!L22,IF('Start - expert'!$D$3='Données de production'!$N$14,'Données de production'!U22,IF('Start - expert'!$D$3='Données de production'!$W$14,'Données de production'!AD22,IF('Start - expert'!$D$3='Scénario à définir'!$E$7,'Scénario à définir'!L15,\"ENTRER UN CALCUL\")))), 'Données de production'!AD11)","v":25.5},{"$f":"IF(ISBLANK('Données de production'!AE11), IF('Start - expert'!$D$3='Données de production'!$E$14,'Données de production'!M22,IF('Start - expert'!$D$3='Données de production'!$N$14,'Données de production'!V22,IF('Start - expert'!$D$3='Données de production'!$W$14,'Données de production'!AE22,IF('Start - expert'!$D$3='Scénario à définir'!$E$7,'Scénario à définir'!M15,\"ENTRER UN CALCUL\")))), 'Données de production'!AE11)","v":25.5}]
[null,null,{"$f":"'Données de production'!C12","v":"Fossile"},"GW",{"$f":"IF(ISBLANK('Données de production'!V12), \"\", 'Données de production'!V12)","v":19.027699999999999},{"$f":"((O12-E12)/(O$4-E$4)+ABS((O12-E12)/(O$4-E$4))*'Start - expert'!$D18)*(O$4-E$4)+E12","v":17.93975},{"$f":"((P12-O12)/(P$4-O$4)+ABS((P12-O12)/(P$4-O$4))*'Start - expert'!$D18)*(P$4-O$4)+F12","v":16.851800000000001},{"$f":"((Q12-P12)/(Q$4-P$4)+ABS((Q12-P12)/(Q$4-P$4))*'Start - expert'!$D18)*(Q$4-P$4)+G12","v":15.76385},{"$f":"((R12-Q12)/(R$4-Q$4)+ABS((R12-Q12)/(R$4-Q$4))*'Start - expert'!$D18)*(R$4-Q$4)+H12","v":14.675899999999999},{"$f":"((S12-R12)/(S$4-R$4)+ABS((S12-R12)/(S$4-R$4))*'Start - expert'!$D18)*(S$4-R$4)+I12","v":13.587949999999999},{"$f":"((T12-S12)/(T$4-S$4)+ABS((T12-S12)/(T$4-S$4))*'Start - expert'!$D18)*(T$4-S$4)+J12","v":12.5},{"$f":"((U12-T12)/(U$4-T$4)+ABS((U12-T12)/(U$4-T$4))*'Start - expert'!$D18)*(U$4-T$4)+K12","v":12.5},{"$f":"((V12-U12)/(V$4-U$4)+ABS((V12-U12)/(V$4-U$4))*'Start - expert'!$D18)*(V$4-U$4)+L12","v":12.5},{"$f":"((W12-V12)/(W$4-V$4)+ABS((W12-V12)/(W$4-V$4))*'Start - expert'!$D18)*(W$4-V$4)+M12","v":12.5},{"$f":"IF(ISBLANK('Données de production'!W12), IF('Start - expert'!$D$3='Données de production'!$E$14,'Données de production'!E23,IF('Start - expert'!$D$3='Données de production'!$N$14,'Données de production'!N23,IF('Start - expert'!$D$3='Données de production'!$W$14,'Données de production'!W23,IF('Start - expert'!$D$3='Scénario à définir'!$E$7,'Scénario à définir'!E16,\"ENTRER UN CALCUL\")))), 'Données de production'!W12)","v":17.93975},{"$f":"IF(ISBLANK('Données de production'!X12), IF('Start - expert'!$D$3='Données de production'!$E$14,'Données de production'!F23,IF('Start - expert'!$D$3='Données de production'!$N$14,'Données de production'!O23,IF('Start - expert'!$D$3='Données de production'!$W$14,'Données de production'!X23,IF('Start - expert'!$D$3='Scénario à définir'!$E$7,'Scénario à définir'!F16,\"ENTRER UN CALCUL\")))), 'Données de production'!X12)","v":16.851800000000001},{"$f":"IF(ISBLANK('Données de production'!Y12), IF('Start - expert'!$D$3='Données de production'!$E$14,'Données de production'!G23,IF('Start - expert'!$D$3='Données de production'!$N$14,'Données de production'!P23,IF('Start - expert'!$D$3='Données de production'!$W$14,'Données de production'!Y23,IF('Start - expert'!$D$3='Scénario à définir'!$E$7,'Scénario à définir'!G16,\"ENTRER UN CALCUL\")))), 'Données de production'!Y12)","v":15.76385},{"$f":"IF(ISBLANK('Données de production'!Z12), IF('Start - expert'!$D$3='Données de production'!$E$14,'Données de production'!H23,IF('Start - expert'!$D$3='Données de production'!$N$14,'Données de production'!Q23,IF('Start - expert'!$D$3='Données de production'!$W$14,'Données de production'!Z23,IF('Start - expert'!$D$3='Scénario à définir'!$E$7,'Scénario à définir'!H16,\"ENTRER UN CALCUL\")))), 'Données de production'!Z12)","v":14.675899999999999},{"$f":"IF(ISBLANK('Données de production'!AA12), IF('Start - expert'!$D$3='Données de production'!$E$14,'Données de production'!I23,IF('Start - expert'!$D$3='Données de production'!$N$14,'Données de production'!R23,IF('Start - expert'!$D$3='Données de production'!$W$14,'Données de production'!AA23,IF('Start - expert'!$D$3='Scénario à définir'!$E$7,'Scénario à définir'!I16,\"ENTRER UN CALCUL\")))), 'Données de production'!AA12)","v":13.587949999999999},{"$f":"IF(ISBLANK('Données de production'!AB12), IF('Start - expert'!$D$3='Données de production'!$E$14,'Données de production'!J23,IF('Start - expert'!$D$3='Données de production'!$N$14,'Données de production'!S23,IF('Start - expert'!$D$3='Données de production'!$W$14,'Données de production'!AB23,IF('Start - expert'!$D$3='Scénario à définir'!$E$7,'Scénario à définir'!J16,\"ENTRER UN CALCUL\")))), 'Données de production'!AB12)","v":12.5},{"$f":"IF(ISBLANK('Données de production'!AC12), IF('Start - expert'!$D$3='Données de production'!$E$14,'Données de production'!K23,IF('Start - expert'!$D$3='Données de production'!$N$14,'Données de production'!T23,IF('Start - expert'!$D$3='Données de production'!$W$14,'Données de production'!AC23,IF('Start - expert'!$D$3='Scénario à définir'!$E$7,'Scénario à définir'!K16,\"ENTRER UN CALCUL\")))), 'Données de production'!AC12)","v":12.5},{"$f":"IF(ISBLANK('Données de production'!AD12), IF('Start - expert'!$D$3='Données de production'!$E$14,'Données de production'!L23,IF('Start - expert'!$D$3='Données de production'!$N$14,'Données de production'!U23,IF('Start - expert'!$D$3='Données de production'!$W$14,'Données de production'!AD23,IF('Start - expert'!$D$3='Scénario à définir'!$E$7,'Scénario à définir'!L16,\"ENTRER UN CALCUL\")))), 'Données de production'!AD12)","v":12.5},{"$f":"IF(ISBLANK('Données de production'!AE12), IF('Start - expert'!$D$3='Données de production'!$E$14,'Données de production'!M23,IF('Start - expert'!$D$3='Données de production'!$N$14,'Données de production'!V23,IF('Start - expert'!$D$3='Données de production'!$W$14,'Données de production'!AE23,IF('Start - expert'!$D$3='Scénario à définir'!$E$7,'Scénario à définir'!M16,\"ENTRER UN CALCUL\")))), 'Données de production'!AE12)","v":12.5}]
[]
[null,null,null,null,"Données historiques","Scénario sélectionné",null,null,null,null,null,null,null,null,"Scénario sélectionné PAR DEFAUT"]
[null,null,"Production d'électricité","Unité",2017,2018,2019,2020,2021,2022,2025,2030,2035,2040,2018,2019,2020,2021,2022,2025,2030,2035,2040]
[null,null,{"$f":"'Données de production'!C5","v":"Nucléaire"},"TWh",{"$f":"'Données de production'!V27","v":379.1},{"$f":"IF(O5=0, 0, O16*F5/O5)","v":381.41666666666669},383.73333333333335,386.05,388.36666666666667,390.68333333333328,386.4,352.87142857142857,293.8,234.72857142857146,{"$f":"IF(ISBLANK('Données de production'!W27), IF('Start - expert'!$D$3='Données de production'!$E$40,'Données de production'!E42,IF('Start - expert'!$D$3='Données de production'!$N$40,'Données de production'!N42,IF('Start - expert'!$D$3='Données de production'!$W$40,'Données de production'!W42,IF('Start - expert'!$D$3='Scénario à définir'!$E$18,'Scénario à définir'!E20,\"ENTRER UN CALCUL\")))), 'Données de production'!W27)","v":381.41666666666669},{"$f":"IF(ISBLANK('Données de production'!X27), IF('Start - expert'!$D$3='Données de production'!$E$40,'Données de production'!F42,IF('Start - expert'!$D$3='Données de production'!$N$40,'Données de production'!O42,IF('Start - expert'!$D$3='Données de production'!$W$40,'Données de production'!X42,IF('Start - expert'!$D$3='Scénario à définir'!$E$18,'Scénario à définir'!F20,\"ENTRER UN CALCUL\")))), 'Données de production'!X27)","v":383.73333333333335},{"$f":"IF(ISBLANK('Données de production'!Y27), IF('Start - expert'!$D$3='Données de production'!$E$40,'Données de production'!G42,IF('Start - expert'!$D$3='Données de production'!$N$40,'Données de production'!P42,IF('Start - expert'!$D$3='Données de production'!$W$40,'Données de production'!Y42,IF('Start - expert'!$D$3='Scénario à définir'!$E$18,'Scénario à définir'!G20,\"ENTRER UN CALCUL\")))), 'Données de production'!Y27)","v":386.05},{"$f":"IF(ISBLANK('Données de production'!Z27), IF('Start - expert'!$D$3='Données de production'!$E$40,'Données de production'!H42,IF('Start - expert'!$D$3='Données de production'!$N$40,'Données de production'!Q42,IF('Start - expert'!$D$3='Données de production'!$W$40,'Données de production'!Z42,IF('Start - expert'!$D$3='Scénario à définir'!$E$18,'Scénario à définir'!H20,\"ENTRER UN CALCUL\")))), 'Données de production'!Z27)","v":388.36666666666667},{"$f":"IF(ISBLANK('Données de production'!AA27), IF('Start - expert'!$D$3='Données de production'!$E$40,'Données de production'!I42,IF('Start - expert'!$D$3='Données de production'!$N$40,'Données de production'!R42,IF('Start - expert'!$D$3='Données de production'!$W$40,'Données de production'!AA42,IF('Start - expert'!$D$3='Scénario à définir'!$E$18,'Scénario à définir'!I20,\"ENTRER UN CALCUL\")))), 'Données de production'!AA27)","v":390.68333333333334},{"$f":"IF(ISBLANK('Données de production'!AB27), IF('Start - expert'!$D$3='Données de production'!$E$40,'Données de production'!J42,IF('Start - expert'!$D$3='Données de production'!$N$40,'Données de production'!S42,IF('Start - expert'!$D$3='Données de production'!$W$40,'Données de production'!AB42,IF('Start - expert'!$D$3='Scénario à définir'!$E$18,'Scénario à définir'!J20,\"ENTRER UN CALCUL\")))), 'Données de production'!AB27)","v":386.4},{"$f":"IF(ISBLANK('Données de production'!AC27), IF('Start - expert'!$D$3='Données de production'!$E$40,'Données de production'!K42,IF('Start - expert'!$D$3='Données de production'!$N$40,'Données de production'!T42,IF('Start - expert'!$D$3='Données de production'!$W$40,'Données de production'!AC42,IF('Start - expert'!$D$3='Scénario à définir'!$E$18,'Scénario à définir'!K20,\"ENTRER UN CALCUL\")))), 'Données de production'!AC27)","v":352.87142857142857},{"$f":"IF(ISBLANK('Données de production'!AD27), IF('Start - expert'!$D$3='Données de production'!$E$40,'Données de production'!L42,IF('Start - expert'!$D$3='Données de production'!$N$40,'Données de production'!U42,IF('Start - expert'!$D$3='Données de production'!$W$40,'Données de production'!AD42,IF('Start - expert'!$D$3='Scénario à définir'!$E$18,'Scénario à définir'!L20,\"ENTRER UN CALCUL\")))), 'Données de production'!AD27)","v":293.8},{"$f":"IF(ISBLANK('Données de production'!AE27), IF('Start - expert'!$D$3='Données de production'!$E$40,'Données de production'!M42,IF('Start - expert'!$D$3='Données de production'!$N$40,'Données de production'!V42,IF('Start - expert'!$D$3='Données de production'!$W$40,'Données de production'!AE42,IF('Start - expert'!$D$3='Scénario à définir'!$E$18,'Scénario à définir'!M20,\"ENTRER UN CALCUL\")))), 'Données de production'!AE27)","v":234.72857142857146}]
[null,null,{"$f":"'Données de production'!C6","v":"Eolien terrestre"},"TWh",{"$f":"'Données de production'!V28","v":24},29,34,39,44,49,64.8,90.6,114.6,138.6,{"$f":"IF(ISBLANK('Données de production'!W28), IF('Start - expert'!$D$3='Données de production'!$E$40,'Données de production'!E43,IF('Start - expert'!$D$3='Données de production'!$N$40,'Données de production'!N43,IF('Start - expert'!$D$3='Données de production'!$W$40,'Données de production'!W43,IF('Start - expert'!$D$3='Scénario à définir'!$E$18,'Scénario à définir'!E21,\"ENTRER UN CALCUL\")))), 'Données de production'!W28)","v":29},{"$f":"IF(ISBLANK('Données de production'!X28), IF('Start - expert'!$D$3='Données de production'!$E$40,'Données de production'!F43,IF('Start - expert'!$D$3='Données de production'!$N$40,'Données de production'!O43,IF('Start - expert'!$D$3='Données de production'!$W$40,'Données de production'!X43,IF('Start - expert'!$D$3='Scénario à définir'!$E$18,'Scénario à définir'!F21,\"ENTRER UN CALCUL\")))), 'Données de production'!X28)","v":34},{"$f":"IF(ISBLANK('Données de production'!Y28), IF('Start - expert'!$D$3='Données de production'!$E$40,'Données de production'!G43,IF('Start - expert'!$D$3='Données de production'!$N$40,'Données de production'!P43,IF('Start - expert'!$D$3='Données de production'!$W$40,'Données de production'!Y43,IF('Start - expert'!$D$3='Scénario à définir'!$E$18,'Scénario à définir'!G21,\"ENTRER UN CALCUL\")))), 'Données de production'!Y28)","v":39},{"$f":"IF(ISBLANK('Données de production'!Z28), IF('Start - expert'!$D$3='Données de production'!$E$40,'Données de production'!H43,IF('Start - expert'!$D$3='Données de production'!$N$40,'Données de production'!Q43,IF('Start - expert'!$D$3='Données de production'!$W$40,'Données de production'!Z43,IF('Start - expert'!$D$3='Scénario à définir'!$E$18,'Scénario à définir'!H21,\"ENTRER UN CALCUL\")))), 'Données de production'!Z28)","v":44},{"$f":"IF(ISBLANK('Données de production'!AA28), IF('Start - expert'!$D$3='Données de production'!$E$40,'Données de production'!I43,IF('Start - expert'!$D$3='Données de production'!$N$40,'Données de production'!R43,IF('Start - expert'!$D$3='Données de production'!$W$40,'Données de production'!AA43,IF('Start - expert'!$D$3='Scénario à définir'!$E$18,'Scénario à définir'!I21,\"ENTRER UN CALCUL\")))), 'Données de production'!AA28)","v":49},{"$f":"IF(ISBLANK('Données de production'!AB28), IF('Start - expert'!$D$3='Données de production'!$E$40,'Données de production'!J43,IF('Start - expert'!$D$3='Données de production'!$N$40,'Données de production'!S43,IF('Start - expert'!$D$3='Données de production'!$W$40,'Données de production'!AB43,IF('Start - expert'!$D$3='Scénario à définir'!$E$18,'Scénario à définir'!J21,\"ENTRER UN CALCUL\")))), 'Données de production'!AB28)","v":64.8},{"$f":"IF(ISBLANK('Données de production'!AC28), IF('Start - expert'!$D$3='Données de production'!$E$40,'Données de production'!K43,IF('Start - expert'!$D$3='Données de production'!$N$40,'Données de production'!T43,IF('Start - expert'!$D$3='Données de production'!$W$40,'Données de production'!AC43,IF('Start - expert'!$D$3='Scénario à définir'!$E$18,'Scénario à définir'!K21,\"ENTRER UN CALCUL\")))), 'Données de production'!AC28)","v":90.6},{"$f":"IF(ISBLANK('Données de production'!AD28), IF('Start - expert'!$D$3='Données de production'!$E$40,'Données de production'!L43,IF('Start - expert'!$D$3='Données de production'!$N$40,'Données de production'!U43,IF('Start - expert'!$D$3='Données de production'!$W$40,'Données de production'!AD43,IF('Start - expert'!$D$3='Scénario à définir'!$E$18,'Scénario à définir'!L21,\"ENTRER UN CALCUL\")))), 'Données de production'!AD28)","v":114.6},{"$f":"IF(ISBLANK('Données de production'!AE28), IF('Start - expert'!$D$3='Données de production'!$E$40,'Données de production'!M43,IF('Start - expert'!$D$3='Données de production'!$N$40,'Données de production'!V43,IF('Start - expert'!$D$3='Données de production'!$W$40,'Données de production'!AE43,IF('Start - expert'!$D$3='Scénario à définir'!$E$18,'Scénario à définir'!M21,\"ENTRER UN CALCUL\")))), 'Données de production'!AE28)","v":138.6}]
[null,null,{"$f":"'Données de production'!C7","v":"Eolien en mer"},"TWh",{"$f":"'Données de production'!V29","v":0},0,0,0,3,6,9.1999999999999993,20.214285714285715,47,73.785714285714292,{"$f":"IF(ISBLANK('Données de production'!W29), IF('Start - expert'!$D$3='Données de production'!$E$40,'Données de production'!E44,IF('Start - expert'!$D$3='Données de production'!$N$40,'Données de production'!N44,IF('Start - expert'!$D$3='Données de production'!$W$40,'Données de production'!W44,IF('Start - expert'!$D$3='Scénario à définir'!$E$18,'Scénario à définir'!E22,\"ENTRER UN CALCUL\")))), 'Données de production'!W29)","v":0},{"$f":"IF(ISBLANK('Données de production'!X29), IF('Start - expert'!$D$3='Données de production'!$E$40,'Données de production'!F44,IF('Start - expert'!$D$3='Données de production'!$N$40,'Données de production'!O44,IF('Start - expert'!$D$3='Données de production'!$W$40,'Données de production'!X44,IF('Start - expert'!$D$3='Scénario à définir'!$E$18,'Scénario à définir'!F22,\"ENTRER UN CALCUL\")))), 'Données de production'!X29)","v":0},{"$f":"IF(ISBLANK('Données de production'!Y29), IF('Start - expert'!$D$3='Données de production'!$E$40,'Données de production'!G44,IF('Start - expert'!$D$3='Données de production'!$N$40,'Données de production'!P44,IF('Start - expert'!$D$3='Données de production'!$W$40,'Données de production'!Y44,IF('Start - expert'!$D$3='Scénario à définir'!$E$18,'Scénario à définir'!G22,\"ENTRER UN CALCUL\")))), 'Données de production'!Y29)","v":0},{"$f":"IF(ISBLANK('Données de production'!Z29), IF('Start - expert'!$D$3='Données de production'!$E$40,'Données de production'!H44,IF('Start - expert'!$D$3='Données de production'!$N$40,'Données de production'!Q44,IF('Start - expert'!$D$3='Données de production'!$W$40,'Données de production'!Z44,IF('Start - expert'!$D$3='Scénario à définir'!$E$18,'Scénario à définir'!H22,\"ENTRER UN CALCUL\")))), 'Données de production'!Z29)","v":3},{"$f":"IF(ISBLANK('Données de production'!AA29), IF('Start - expert'!$D$3='Données de production'!$E$40,'Données de production'!I44,IF('Start - expert'!$D$3='Données de production'!$N$40,'Données de production'!R44,IF('Start - expert'!$D$3='Données de production'!$W$40,'Données de production'!AA44,IF('Start - expert'!$D$3='Scénario à définir'!$E$18,'Scénario à définir'!I22,\"ENTRER UN CALCUL\")))), 'Données de production'!AA29)","v":6},{"$f":"IF(ISBLANK('Données de production'!AB29), IF('Start - expert'!$D$3='Données de production'!$E$40,'Données de production'!J44,IF('Start - expert'!$D$3='Données de production'!$N$40,'Données de production'!S44,IF('Start - expert'!$D$3='Données de production'!$W$40,'Données de production'!AB44,IF('Start - expert'!$D$3='Scénario à définir'!$E$18,'Scénario à définir'!J22,\"ENTRER UN CALCUL\")))), 'Données de production'!AB29)","v":9.1999999999999993},{"$f":"IF(ISBLANK('Données de production'!AC29), IF('Start - expert'!$D$3='Données de production'!$E$40,'Données de production'!K44,IF('Start - expert'!$D$3='Données de production'!$N$40,'Données de production'!T44,IF('Start - expert'!$D$3='Données de production'!$W$40,'Données de production'!AC44,IF('Start - expert'!$D$3='Scénario à définir'!$E$18,'Scénario à définir'!K22,\"ENTRER UN CALCUL\")))), 'Données de production'!AC29)","v":20.214285714285715},{"$f":"IF(ISBLANK('Données de production'!AD29), IF('Start - expert'!$D$3='Données de production'!$E$40,'Données de production'!L44,IF('Start - expert'!$D$3='Données de production'!$N$40,'Données de production'!U44,IF('Start - expert'!$D$3='Données de production'!$W$40,'Données de production'!AD44,IF('Start - expert'!$D$3='Scénario à définir'!$E$18,'Scénario à définir'!L22,\"ENTRER UN CALCUL\")))), 'Données de production'!AD29)","v":47},{"$f":"IF(ISBLANK('Données de production'!AE29), IF('Start - expert'!$D$3='Données de production'!$E$40,'Données de production'!M44,IF('Start - expert'!$D$3='Données de production'!$N$40,'Données de production'!V44,IF('Start - expert'!$D$3='Données de production'!$W$40,'Données de production'!AE44,IF('Start - expert'!$D$3='Scénario à définir'!$E$18,'Scénario à définir'!M22,\"ENTRER UN CALCUL\")))), 'Données de production'!AE29)","v":73.785714285714292}]
[null,null,{"$f":"'Données de production'!C8","v":"PV au sol"},"TWh",{"$f":"'Données de production'!V30","v":5.0226330532212877},6.484880295160135,7.9471275370989822,9.4093747790378295,10.871622020976677,12.333869262915524,19.208006981564306,29.375233529811076,34.498710612765741,39.622187695720406,{"$f":"IF(ISBLANK('Données de production'!W30), IF('Start - expert'!$D$3='Données de production'!$E$40,'Données de production'!E45,IF('Start - expert'!$D$3='Données de production'!$N$40,'Données de production'!N45,IF('Start - expert'!$D$3='Données de production'!$W$40,'Données de production'!W45,IF('Start - expert'!$D$3='Scénario à définir'!$E$18,'Scénario à définir'!E23,\"ENTRER UN CALCUL\")))), 'Données de production'!W30)","v":6.484880295160135},{"$f":"IF(ISBLANK('Données de production'!X30), IF('Start - expert'!$D$3='Données de production'!$E$40,'Données de production'!F45,IF('Start - expert'!$D$3='Données de production'!$N$40,'Données de production'!O45,IF('Start - expert'!$D$3='Données de production'!$W$40,'Données de production'!X45,IF('Start - expert'!$D$3='Scénario à définir'!$E$18,'Scénario à définir'!F23,\"ENTRER UN CALCUL\")))), 'Données de production'!X30)","v":7.9471275370989822},{"$f":"IF(ISBLANK('Données de production'!Y30), IF('Start - expert'!$D$3='Données de production'!$E$40,'Données de production'!G45,IF('Start - expert'!$D$3='Données de production'!$N$40,'Données de production'!P45,IF('Start - expert'!$D$3='Données de production'!$W$40,'Données de production'!Y45,IF('Start - expert'!$D$3='Scénario à définir'!$E$18,'Scénario à définir'!G23,\"ENTRER UN CALCUL\")))), 'Données de production'!Y30)","v":9.4093747790378295},{"$f":"IF(ISBLANK('Données de production'!Z30), IF('Start - expert'!$D$3='Données de production'!$E$40,'Données de production'!H45,IF('Start - expert'!$D$3='Données de production'!$N$40,'Données de production'!Q45,IF('Start - expert'!$D$3='Données de production'!$W$40,'Données de production'!Z45,IF('Start - expert'!$D$3='Scénario à définir'!$E$18,'Scénario à définir'!H23,\"ENTRER UN CALCUL\")))), 'Données de production'!Z30)","v":10.871622020976677},{"$f":"IF(ISBLANK('Données de production'!AA30), IF('Start - expert'!$D$3='Données de production'!$E$40,'Données de production'!I45,IF('Start - expert'!$D$3='Données de production'!$N$40,'Données de production'!R45,IF('Start - expert'!$D$3='Données de production'!$W$40,'Données de production'!AA45,IF('Start - expert'!$D$3='Scénario à définir'!$E$18,'Scénario à définir'!I23,\"ENTRER UN CALCUL\")))), 'Données de production'!AA30)","v":12.333869262915524},{"$f":"IF(ISBLANK('Données de production'!AB30), IF('Start - expert'!$D$3='Données de production'!$E$40,'Données de production'!J45,IF('Start - expert'!$D$3='Données de production'!$N$40,'Données de production'!S45,IF('Start - expert'!$D$3='Données de production'!$W$40,'Données de production'!AB45,IF('Start - expert'!$D$3='Scénario à définir'!$E$18,'Scénario à définir'!J23,\"ENTRER UN CALCUL\")))), 'Données de production'!AB30)","v":19.208006981564306},{"$f":"IF(ISBLANK('Données de production'!AC30), IF('Start - expert'!$D$3='Données de production'!$E$40,'Données de production'!K45,IF('Start - expert'!$D$3='Données de production'!$N$40,'Données de production'!T45,IF('Start - expert'!$D$3='Données de production'!$W$40,'Données de production'!AC45,IF('Start - expert'!$D$3='Scénario à définir'!$E$18,'Scénario à définir'!K23,\"ENTRER UN CALCUL\")))), 'Données de production'!AC30)","v":29.375233529811076},{"$f":"IF(ISBLANK('Données de production'!AD30), IF('Start - expert'!$D$3='Données de production'!$E$40,'Données de production'!L45,IF('Start - expert'!$D$3='Données de production'!$N$40,'Données de production'!U45,IF('Start - expert'!$D$3='Données de production'!$W$40,'Données de production'!AD45,IF('Start - expert'!$D$3='Scénario à définir'!$E$18,'Scénario à définir'!L23,\"ENTRER UN CALCUL\")))), 'Données de production'!AD30)","v":34.498710612765741},{"$f":"IF(ISBLANK('Données de production'!AE30), IF('Start - expert'!$D$3='Données de production'!$E$40,'Données de production'!M45,IF('Start - expert'!$D$3='Données de production'!$N$40,'Données de production'!V45,IF('Start - expert'!$D$3='Données de production'!$W$40,'Données de production'!AE45,IF('Start - expert'!$D$3='Scénario à définir'!$E$18,'Scénario à définir'!M23,\"ENTRER UN CALCUL\")))), 'Données de production'!AE30)","v":39.622187695720406}]
[null,null,{"$f":"'Données de production'!C9","v":"PV sur toiture"},"TWh",{"$f":"'Données de production'!V31","v":4.1773669467787116},5.2651197048398632,6.3528724629010167,7.4406252209621702,8.5283779790233236,9.6161307370844771,14.691993018435694,21.51048075590321,23.60128938723426,25.692098018565314,{"$f":"IF(ISBLANK('Données de production'!W31), IF('Start - expert'!$D$3='Données de production'!$E$40,'Données de production'!E46,IF('Start - expert'!$D$3='Données de production'!$N$40,'Données de production'!N46,IF('Start - expert'!$D$3='Données de production'!$W$40,'Données de production'!W46,IF('Start - expert'!$D$3='Scénario à définir'!$E$18,'Scénario à définir'!E24,\"ENTRER UN CALCUL\")))), 'Données de production'!W31)","v":5.2651197048398632},{"$f":"IF(ISBLANK('Données de production'!X31), IF('Start - expert'!$D$3='Données de production'!$E$40,'Données de production'!F46,IF('Start - expert'!$D$3='Données de production'!$N$40,'Données de production'!O46,IF('Start - expert'!$D$3='Données de production'!$W$40,'Données de production'!X46,IF('Start - expert'!$D$3='Scénario à définir'!$E$18,'Scénario à définir'!F24,\"ENTRER UN CALCUL\")))), 'Données de production'!X31)","v":6.3528724629010167},{"$f":"IF(ISBLANK('Données de production'!Y31), IF('Start - expert'!$D$3='Données de production'!$E$40,'Données de production'!G46,IF('Start - expert'!$D$3='Données de production'!$N$40,'Données de production'!P46,IF('Start - expert'!$D$3='Données de production'!$W$40,'Données de production'!Y46,IF('Start - expert'!$D$3='Scénario à définir'!$E$18,'Scénario à définir'!G24,\"ENTRER UN CALCUL\")))), 'Données de production'!Y31)","v":7.4406252209621702},{"$f":"IF(ISBLANK('Données de production'!Z31), IF('Start - expert'!$D$3='Données de production'!$E$40,'Données de production'!H46,IF('Start - expert'!$D$3='Données de production'!$N$40,'Données de production'!Q46,IF('Start - expert'!$D$3='Données de production'!$W$40,'Données de production'!Z46,IF('Start - expert'!$D$3='Scénario à définir'!$E$18,'Scénario à définir'!H24,\"ENTRER UN CALCUL\")))), 'Données de production'!Z31)","v":8.5283779790233236},{"$f":"IF(ISBLANK('Données de production'!AA31), IF('Start - expert'!$D$3='Données de production'!$E$40,'Données de production'!I46,IF('Start - expert'!$D$3='Données de production'!$N$40,'Données de production'!R46,IF('Start - expert'!$D$3='Données de production'!$W$40,'Données de production'!AA46,IF('Start - expert'!$D$3='Scénario à définir'!$E$18,'Scénario à définir'!I24,\"ENTRER UN CALCUL\")))), 'Données de production'!AA31)","v":9.6161307370844771},{"$f":"IF(ISBLANK('Données de production'!AB31), IF('Start - expert'!$D$3='Données de production'!$E$40,'Données de production'!J46,IF('Start - expert'!$D$3='Données de production'!$N$40,'Données de production'!S46,IF('Start - expert'!$D$3='Données de production'!$W$40,'Données de production'!AB46,IF('Start - expert'!$D$3='Scénario à définir'!$E$18,'Scénario à définir'!J24,\"ENTRER UN CALCUL\")))), 'Données de production'!AB31)","v":14.691993018435696},{"$f":"IF(ISBLANK('Données de production'!AC31), IF('Start - expert'!$D$3='Données de production'!$E$40,'Données de production'!K46,IF('Start - expert'!$D$3='Données de production'!$N$40,'Données de production'!T46,IF('Start - expert'!$D$3='Données de production'!$W$40,'Données de production'!AC46,IF('Start - expert'!$D$3='Scénario à définir'!$E$18,'Scénario à définir'!K24,\"ENTRER UN CALCUL\")))), 'Données de production'!AC31)","v":21.51048075590321},{"$f":"IF(ISBLANK('Données de production'!AD31), IF('Start - expert'!$D$3='Données de production'!$E$40,'Données de production'!L46,IF('Start - expert'!$D$3='Données de production'!$N$40,'Données de production'!U46,IF('Start - expert'!$D$3='Données de production'!$W$40,'Données de production'!AD46,IF('Start - expert'!$D$3='Scénario à définir'!$E$18,'Scénario à définir'!L24,\"ENTRER UN CALCUL\")))), 'Données de production'!AD31)","v":23.60128938723426},{"$f":"IF(ISBLANK('Données de production'!AE31), IF('Start - expert'!$D$3='Données de production'!$E$40,'Données de production'!M46,IF('Start - expert'!$D$3='Données de production'!$N$40,'Données de production'!V46,IF('Start - expert'!$D$3='Données de production'!$W$40,'Données de production'!AE46,IF('Start - expert'!$D$3='Scénario à définir'!$E$18,'Scénario à définir'!M24,\"ENTRER UN CALCUL\")))), 'Données de production'!AE31)","v":25.692098018565311}]
[null,null,{"$f":"'Données de production'!C10","v":"Autres EnRe"},"TWh",{"$f":"'Données de production'!V32","v":9.5},9.4166666666666679,9.3333333333333339,9.25,9.1666666666666661,9.0833333333333339,9.1999999999999993,11.928571428571429,18,24.071428571428569,{"$f":"IF(ISBLANK('Données de production'!W32), IF('Start - expert'!$D$3='Données de production'!$E$40,'Données de production'!E47,IF('Start - expert'!$D$3='Données de production'!$N$40,'Données de production'!N47,IF('Start - expert'!$D$3='Données de production'!$W$40,'Données de production'!W47,IF('Start - expert'!$D$3='Scénario à définir'!$E$18,'Scénario à définir'!E25,\"ENTRER UN CALCUL\")))), 'Données de production'!W32)","v":9.4166666666666679},{"$f":"IF(ISBLANK('Données de production'!X32), IF('Start - expert'!$D$3='Données de production'!$E$40,'Données de production'!F47,IF('Start - expert'!$D$3='Données de production'!$N$40,'Données de production'!O47,IF('Start - expert'!$D$3='Données de production'!$W$40,'Données de production'!X47,IF('Start - expert'!$D$3='Scénario à définir'!$E$18,'Scénario à définir'!F25,\"ENTRER UN CALCUL\")))), 'Données de production'!X32)","v":9.3333333333333339},{"$f":"IF(ISBLANK('Données de production'!Y32), IF('Start - expert'!$D$3='Données de production'!$E$40,'Données de production'!G47,IF('Start - expert'!$D$3='Données de production'!$N$40,'Données de production'!P47,IF('Start - expert'!$D$3='Données de production'!$W$40,'Données de production'!Y47,IF('Start - expert'!$D$3='Scénario à définir'!$E$18,'Scénario à définir'!G25,\"ENTRER UN CALCUL\")))), 'Données de production'!Y32)","v":9.25},{"$f":"IF(ISBLANK('Données de production'!Z32), IF('Start - expert'!$D$3='Données de production'!$E$40,'Données de production'!H47,IF('Start - expert'!$D$3='Données de production'!$N$40,'Données de production'!Q47,IF('Start - expert'!$D$3='Données de production'!$W$40,'Données de production'!Z47,IF('Start - expert'!$D$3='Scénario à définir'!$E$18,'Scénario à définir'!H25,\"ENTRER UN CALCUL\")))), 'Données de production'!Z32)","v":9.1666666666666661},{"$f":"IF(ISBLANK('Données de production'!AA32), IF('Start - expert'!$D$3='Données de production'!$E$40,'Données de production'!I47,IF('Start - expert'!$D$3='Données de production'!$N$40,'Données de production'!R47,IF('Start - expert'!$D$3='Données de production'!$W$40,'Données de production'!AA47,IF('Start - expert'!$D$3='Scénario à définir'!$E$18,'Scénario à définir'!I25,\"ENTRER UN CALCUL\")))), 'Données de production'!AA32)","v":9.0833333333333339},{"$f":"IF(ISBLANK('Données de production'!AB32), IF('Start - expert'!$D$3='Données de production'!$E$40,'Données de production'!J47,IF('Start - expert'!$D$3='Données de production'!$N$40,'Données de production'!S47,IF('Start - expert'!$D$3='Données de production'!$W$40,'Données de production'!AB47,IF('Start - expert'!$D$3='Scénario à définir'!$E$18,'Scénario à définir'!J25,\"ENTRER UN CALCUL\")))), 'Données de production'!AB32)","v":9.1999999999999993},{"$f":"IF(ISBLANK('Données de production'!AC32), IF('Start - expert'!$D$3='Données de production'!$E$40,'Données de production'!K47,IF('Start - expert'!$D$3='Données de production'!$N$40,'Données de production'!T47,IF('Start - expert'!$D$3='Données de production'!$W$40,'Données de production'!AC47,IF('Start - expert'!$D$3='Scénario à définir'!$E$18,'Scénario à définir'!K25,\"ENTRER UN CALCUL\")))), 'Données de production'!AC32)","v":11.928571428571429},{"$f":"IF(ISBLANK('Données de production'!AD32), IF('Start - expert'!$D$3='Données de production'!$E$40,'Données de production'!L47,IF('Start - expert'!$D$3='Données de production'!$N$40,'Données de production'!U47,IF('Start - expert'!$D$3='Données de production'!$W$40,'Données de production'!AD47,IF('Start - expert'!$D$3='Scénario à définir'!$E$18,'Scénario à définir'!L25,\"ENTRER UN CALCUL\")))), 'Données de production'!AD32)","v":18},{"$f":"IF(ISBLANK('Données de production'!AE32), IF('Start - expert'!$D$3='Données de production'!$E$40,'Données de production'!M47,IF('Start - expert'!$D$3='Données de production'!$N$40,'Données de production'!V47,IF('Start - expert'!$D$3='Données de production'!$W$40,'Données de production'!AE47,IF('Start - expert'!$D$3='Scénario à définir'!$E$18,'Scénario à définir'!M25,\"ENTRER UN CALCUL\")))), 'Données de production'!AE32)","v":24.071428571428569}]
[null,null,{"$f":"'Données de production'!C11","v":"Hydraulique"},"TWh",{"$f":"'Données de production'!V33","v":53.5},54.916666666666671,56.333333333333336,57.75,59.166666666666664,60.583333333333336,62,63.657142857142865,67.8,71.942857142857136,{"$f":"IF(ISBLANK('Données de production'!W33), IF('Start - expert'!$D$3='Données de production'!$E$40,'Données de production'!E48,IF('Start - expert'!$D$3='Données de production'!$N$40,'Données de production'!N48,IF('Start - expert'!$D$3='Données de production'!$W$40,'Données de production'!W48,IF('Start - expert'!$D$3='Scénario à définir'!$E$18,'Scénario à définir'!E26,\"ENTRER UN CALCUL\")))), 'Données de production'!W33)","v":54.916666666666671},{"$f":"IF(ISBLANK('Données de production'!X33), IF('Start - expert'!$D$3='Données de production'!$E$40,'Données de production'!F48,IF('Start - expert'!$D$3='Données de production'!$N$40,'Données de production'!O48,IF('Start - expert'!$D$3='Données de production'!$W$40,'Données de production'!X48,IF('Start - expert'!$D$3='Scénario à définir'!$E$18,'Scénario à définir'!F26,\"ENTRER UN CALCUL\")))), 'Données de production'!X33)","v":56.333333333333336},{"$f":"IF(ISBLANK('Données de production'!Y33), IF('Start - expert'!$D$3='Données de production'!$E$40,'Données de production'!G48,IF('Start - expert'!$D$3='Données de production'!$N$40,'Données de production'!P48,IF('Start - expert'!$D$3='Données de production'!$W$40,'Données de production'!Y48,IF('Start - expert'!$D$3='Scénario à définir'!$E$18,'Scénario à définir'!G26,\"ENTRER UN CALCUL\")))), 'Données de production'!Y33)","v":57.75},{"$f":"IF(ISBLANK('Données de production'!Z33), IF('Start - expert'!$D$3='Données de production'!$E$40,'Données de production'!H48,IF('Start - expert'!$D$3='Données de production'!$N$40,'Données de production'!Q48,IF('Start - expert'!$D$3='Données de production'!$W$40,'Données de production'!Z48,IF('Start - expert'!$D$3='Scénario à définir'!$E$18,'Scénario à définir'!H26,\"ENTRER UN CALCUL\")))), 'Données de production'!Z33)","v":59.166666666666664},{"$f":"IF(ISBLANK('Données de production'!AA33), IF('Start - expert'!$D$3='Données de production'!$E$40,'Données de production'!I48,IF('Start - expert'!$D$3='Données de production'!$N$40,'Données de production'!R48,IF('Start - expert'!$D$3='Données de production'!$W$40,'Données de production'!AA48,IF('Start - expert'!$D$3='Scénario à définir'!$E$18,'Scénario à définir'!I26,\"ENTRER UN CALCUL\")))), 'Données de production'!AA33)","v":60.583333333333336},{"$f":"IF(ISBLANK('Données de production'!AB33), IF('Start - expert'!$D$3='Données de production'!$E$40,'Données de production'!J48,IF('Start - expert'!$D$3='Données de production'!$N$40,'Données de production'!S48,IF('Start - expert'!$D$3='Données de production'!$W$40,'Données de production'!AB48,IF('Start - expert'!$D$3='Scénario à définir'!$E$18,'Scénario à définir'!J26,\"ENTRER UN CALCUL\")))), 'Données de production'!AB33)","v":62},{"$f":"IF(ISBLANK('Données de production'!AC33), IF('Start - expert'!$D$3='Données de production'!$E$40,'Données de production'!K48,IF('Start - expert'!$D$3='Données de production'!$N$40,'Données de production'!T48,IF('Start - expert'!$D$3='Données de production'!$W$40,'Données de production'!AC48,IF('Start - expert'!$D$3='Scénario à définir'!$E$18,'Scénario à définir'!K26,\"ENTRER UN CALCUL\")))), 'Données de production'!AC33)","v":63.657142857142858},{"$f":"IF(ISBLANK('Données de production'!AD33), IF('Start - expert'!$D$3='Données de production'!$E$40,'Données de production'!L48,IF('Start - expert'!$D$3='Données de production'!$N$40,'Données de production'!U48,IF('Start - expert'!$D$3='Données de production'!$W$40,'Données de production'!AD48,IF('Start - expert'!$D$3='Scénario à définir'!$E$18,'Scénario à définir'!L26,\"ENTRER UN CALCUL\")))), 'Données de production'!AD33)","v":67.8},{"$f":"IF(ISBLANK('Données de production'!AE33), IF('Start - expert'!$D$3='Données de production'!$E$40,'Données de production'!M48,IF('Start - expert'!$D$3='Données de production'!$N$40,'Données de production'!V48,IF('Start - expert'!$D$3='Données de production'!$W$40,'Données de production'!AE48,IF('Start - expert'!$D$3='Scénario à définir'!$E$18,'Scénario à définir'!M26,\"ENTRER UN CALCUL\")))), 'Données de production'!AE33)","v":71.942857142857136}]
[null,null,{"$f":"'Données de production'!C12","v":"Fossile"},"TWh",{"$f":"'Données de production'!V34","v":53.900000000000006},50.583333333333343,47.266666666666673,43.95,40.633333333333333,37.316666666666663,33.200000000000003,30.457142857142859,26.6,22.742857142857147,{"$f":"IF(ISBLANK('Données de production'!W34), IF('Start - expert'!$D$3='Données de production'!$E$40,'Données de production'!E49,IF('Start - expert'!$D$3='Données de production'!$N$40,'Données de production'!N49,IF('Start - expert'!$D$3='Données de production'!$W$40,'Données de production'!W49,IF('Start - expert'!$D$3='Scénario à définir'!$E$18,'Scénario à définir'!E27,\"ENTRER UN CALCUL\")))), 'Données de production'!W34)","v":50.583333333333343},{"$f":"IF(ISBLANK('Données de production'!X34), IF('Start - expert'!$D$3='Données de production'!$E$40,'Données de production'!F49,IF('Start - expert'!$D$3='Données de production'!$N$40,'Données de production'!O49,IF('Start - expert'!$D$3='Données de production'!$W$40,'Données de production'!X49,IF('Start - expert'!$D$3='Scénario à définir'!$E$18,'Scénario à définir'!F27,\"ENTRER UN CALCUL\")))), 'Données de production'!X34)","v":47.266666666666673},{"$f":"IF(ISBLANK('Données de production'!Y34), IF('Start - expert'!$D$3='Données de production'!$E$40,'Données de production'!G49,IF('Start - expert'!$D$3='Données de production'!$N$40,'Données de production'!P49,IF('Start - expert'!$D$3='Données de production'!$W$40,'Données de production'!Y49,IF('Start - expert'!$D$3='Scénario à définir'!$E$18,'Scénario à définir'!G27,\"ENTRER UN CALCUL\")))), 'Données de production'!Y34)","v":43.95},{"$f":"IF(ISBLANK('Données de production'!Z34), IF('Start - expert'!$D$3='Données de production'!$E$40,'Données de production'!H49,IF('Start - expert'!$D$3='Données de production'!$N$40,'Données de production'!Q49,IF('Start - expert'!$D$3='Données de production'!$W$40,'Données de production'!Z49,IF('Start - expert'!$D$3='Scénario à définir'!$E$18,'Scénario à définir'!H27,\"ENTRER UN CALCUL\")))), 'Données de production'!Z34)","v":40.633333333333333},{"$f":"IF(ISBLANK('Données de production'!AA34), IF('Start - expert'!$D$3='Données de production'!$E$40,'Données de production'!I49,IF('Start - expert'!$D$3='Données de production'!$N$40,'Données de production'!R49,IF('Start - expert'!$D$3='Données de production'!$W$40,'Données de production'!AA49,IF('Start - expert'!$D$3='Scénario à définir'!$E$18,'Scénario à définir'!I27,\"ENTRER UN CALCUL\")))), 'Données de production'!AA34)","v":37.316666666666663},{"$f":"IF(ISBLANK('Données de production'!AB34), IF('Start - expert'!$D$3='Données de production'!$E$40,'Données de production'!J49,IF('Start - expert'!$D$3='Données de production'!$N$40,'Données de production'!S49,IF('Start - expert'!$D$3='Données de production'!$W$40,'Données de production'!AB49,IF('Start - expert'!$D$3='Scénario à définir'!$E$18,'Scénario à définir'!J27,\"ENTRER UN CALCUL\")))), 'Données de production'!AB34)","v":33.200000000000003},{"$f":"IF(ISBLANK('Données de production'!AC34), IF('Start - expert'!$D$3='Données de production'!$E$40,'Données de production'!K49,IF('Start - expert'!$D$3='Données de production'!$N$40,'Données de production'!T49,IF('Start - expert'!$D$3='Données de production'!$W$40,'Données de production'!AC49,IF('Start - expert'!$D$3='Scénario à définir'!$E$18,'Scénario à définir'!K27,\"ENTRER UN CALCUL\")))), 'Données de production'!AC34)","v":30.457142857142859},{"$f":"IF(ISBLANK('Données de production'!AD34), IF('Start - expert'!$D$3='Données de production'!$E$40,'Données de production'!L49,IF('Start - expert'!$D$3='Données de production'!$N$40,'Données de production'!U49,IF('Start - expert'!$D$3='Données de production'!$W$40,'Données de production'!AD49,IF('Start - expert'!$D$3='Scénario à définir'!$E$18,'Scénario à définir'!L27,\"ENTRER UN CALCUL\")))), 'Données de production'!AD34)","v":26.6},{"$f":"IF(ISBLANK('Données de production'!AE34), IF('Start - expert'!$D$3='Données de production'!$E$40,'Données de production'!M49,IF('Start - expert'!$D$3='Données de production'!$N$40,'Données de production'!V49,IF('Start - expert'!$D$3='Données de production'!$W$40,'Données de production'!AE49,IF('Start - expert'!$D$3='Scénario à définir'!$E$18,'Scénario à définir'!M27,\"ENTRER UN CALCUL\")))), 'Données de production'!AE34)","v":22.742857142857147}]
[null,null,{"$f":"'Données de production'!C38","v":"Consommation"},"TWh",{"$f":"'Données de production'!V38","v":441.5},{"$f":"IF(ISBLANK('Données de production'!W38), IF('Start - expert'!$D$3='Données de production'!$E$40,'Données de production'!E53,IF('Start - expert'!$D$3='Données de production'!$N$40,'Données de production'!N53,IF('Start - expert'!$D$3='Données de production'!$W$40,'Données de production'!W53,IF('Start - expert'!$D$3='Scénario à définir'!$E$18,'Scénario à définir'!E31,\"ENTRER UN CALCUL\")))), 'Données de production'!W38)","v":460.15},{"$f":"IF(ISBLANK('Données de production'!X38), IF('Start - expert'!$D$3='Données de production'!$E$40,'Données de production'!F53,IF('Start - expert'!$D$3='Données de production'!$N$40,'Données de production'!O53,IF('Start - expert'!$D$3='Données de production'!$W$40,'Données de production'!X53,IF('Start - expert'!$D$3='Scénario à définir'!$E$18,'Scénario à définir'!F31,\"ENTRER UN CALCUL\")))), 'Données de production'!X38)","v":478.8},{"$f":"IF(ISBLANK('Données de production'!Y38), IF('Start - expert'!$D$3='Données de production'!$E$40,'Données de production'!G53,IF('Start - expert'!$D$3='Données de production'!$N$40,'Données de production'!P53,IF('Start - expert'!$D$3='Données de production'!$W$40,'Données de production'!Y53,IF('Start - expert'!$D$3='Scénario à définir'!$E$18,'Scénario à définir'!G31,\"ENTRER UN CALCUL\")))), 'Données de production'!Y38)","v":477.40000000000003},{"$f":"IF(ISBLANK('Données de production'!Z38), IF('Start - expert'!$D$3='Données de production'!$E$40,'Données de production'!H53,IF('Start - expert'!$D$3='Données de production'!$N$40,'Données de production'!Q53,IF('Start - expert'!$D$3='Données de production'!$W$40,'Données de production'!Z53,IF('Start - expert'!$D$3='Scénario à définir'!$E$18,'Scénario à définir'!H31,\"ENTRER UN CALCUL\")))), 'Données de production'!Z38)","v":475.90000000000003},{"$f":"IF(ISBLANK('Données de production'!AA38), IF('Start - expert'!$D$3='Données de production'!$E$40,'Données de production'!I53,IF('Start - expert'!$D$3='Données de production'!$N$40,'Données de production'!R53,IF('Start - expert'!$D$3='Données de production'!$W$40,'Données de production'!AA53,IF('Start - expert'!$D$3='Scénario à définir'!$E$18,'Scénario à définir'!I31,\"ENTRER UN CALCUL\")))), 'Données de production'!AA38)","v":474.20000000000005},{"$f":"IF(ISBLANK('Données de production'!AB38), IF('Start - expert'!$D$3='Données de production'!$E$40,'Données de production'!J53,IF('Start - expert'!$D$3='Données de production'!$N$40,'Données de production'!S53,IF('Start - expert'!$D$3='Données de production'!$W$40,'Données de production'!AB53,IF('Start - expert'!$D$3='Scénario à définir'!$E$18,'Scénario à définir'!J31,\"ENTRER UN CALCUL\")))), 'Données de production'!AB38)","v":471},{"$f":"IF(ISBLANK('Données de production'!AC38), IF('Start - expert'!$D$3='Données de production'!$E$40,'Données de production'!K53,IF('Start - expert'!$D$3='Données de production'!$N$40,'Données de production'!T53,IF('Start - expert'!$D$3='Données de production'!$W$40,'Données de production'!AC53,IF('Start - expert'!$D$3='Scénario à définir'!$E$18,'Scénario à définir'!K31,\"ENTRER UN CALCUL\")))), 'Données de production'!AC38)","v":480.4},{"$f":"IF(ISBLANK('Données de production'!AD38), IF('Start - expert'!$D$3='Données de production'!$E$40,'Données de production'!L53,IF('Start - expert'!$D$3='Données de production'!$N$40,'Données de production'!U53,IF('Start - expert'!$D$3='Données de production'!$W$40,'Données de production'!AD53,IF('Start - expert'!$D$3='Scénario à définir'!$E$18,'Scénario à définir'!L31,\"ENTRER UN CALCUL\")))), 'Données de production'!AD38)","v":501.2},{"$f":"IF(ISBLANK('Données de production'!AE38), IF('Start - expert'!$D$3='Données de production'!$E$40,'Données de production'!M53,IF('Start - expert'!$D$3='Données de production'!$N$40,'Données de production'!V53,IF('Start - expert'!$D$3='Données de production'!$W$40,'Données de production'!AE53,IF('Start - expert'!$D$3='Scénario à définir'!$E$18,'Scénario à définir'!M31,\"ENTRER UN CALCUL\")))), 'Données de production'!AE38)","v":522}]
[]
[null,null,null,null,"Données historiques","Scénario sélectionné",null,null,null,null,{"$f":"'Calcul de LCOE'!F32","v":"Scénario par défaut"}]
[null,null,{"$f":"'Scénarios choisis - défaut'!C27","v":"Prix d'attribution des projets"},"Unité",2017,2020,2025,2030,2035,2040,2020,2025,2030,2035,2040]
[null,null,{"$f":"'Calcul de variation des prix'!C37","v":"Nucléaire"},"€/MWh",{"$f":"'Calcul de variation des prix'!E73","v":0},{"$f":"'Calcul de variation des prix'!F73","v":0},{"$f":"'Calcul de variation des prix'!G73","v":0},{"$f":"'Calcul de variation des prix'!H73","v":85},{"$f":"'Calcul de variation des prix'!I73","v":85},{"$f":"'Calcul de variation des prix'!J73","v":85}]
[null,null,{"$f":"'Calcul de variation des prix'!C38","v":"Eolien terrestre"},"€/MWh",{"$f":"IF('Start - expert'!$F$3=\"COURANT\",'Calcul de variation des prix'!E38,'Calcul de variation des prix'!E74)","v":65.400000000000006},{"$f":"((K29-E29)/(K$27-E$27)+ABS((K29-E29)/(K$27-E$27))*VLOOKUP('Start - expert'!$J12,'Données - Graphiques'!$R$8:$S$14,2,FALSE))*(K$27-E$27)+E29","v":63.175906196115662},{"$f":"((L29-K29)/(L$27-K$27)+ABS((L29-K29)/(L$27-K$27))*VLOOKUP('Start - expert'!$J12,'Données - Graphiques'!$R$8:$S$14,2,FALSE))*(L$27-K$27)+F29","v":59.469083189641616},{"$f":"((M29-L29)/(M$27-L$27)+ABS((M29-L29)/(M$27-L$27))*VLOOKUP('Start - expert'!$J12,'Données - Graphiques'!$R$8:$S$14,2,FALSE))*(M$27-L$27)+G29","v":52.134482061403666},{"$f":"((N29-M29)/(N$27-M$27)+ABS((N29-M29)/(N$27-M$27))*VLOOKUP('Start - expert'!$J12,'Données - Graphiques'!$R$8:$S$14,2,FALSE))*(N$27-M$27)+H29","v":47.533014501878441},{"$f":"((O29-N29)/(O$27-N$27)+ABS((O29-N29)/(O$27-N$27))*VLOOKUP('Start - expert'!$J12,'Données - Graphiques'!$R$8:$S$14,2,FALSE))*(O$27-N$27)+I29","v":43.062987340873931},{"$f":"'Calcul de variation des prix'!F74","v":63.175906196115662},{"$f":"'Calcul de variation des prix'!G74","v":59.469083189641616},{"$f":"'Calcul de variation des prix'!H74","v":52.134482061403666},{"$f":"'Calcul de variation des prix'!I74","v":47.533014501878441},{"$f":"'Calcul de variation des prix'!J74","v":43.062987340873931}]
[null,null,{"$f":"'Calcul de variation des prix'!C39","v":"Eolien en mer"},"€/MWh",{"$f":"IF('Start - expert'!$J13=\"Tendance AO 2019\",IF('Start - expert'!$F$3=\"COURANT\",'Données de coûts'!E26,'Données de coûts'!E26/HLOOKUP(E27,'Calcul de variation des prix'!$E$3:$AB$5,3,FALSE)),IF('Start - expert'!$F$3=\"COURANT\",'Calcul de variation des prix'!E39,'Calcul de variation des prix'!E75))","v":140},{"$f":"((K30-E30)/(K$27-E$27)+ABS((K30-E30)/(K$27-E$27))*VLOOKUP('Start - expert'!$J13,'Données - Graphiques'!$R$8:$S$14,2,FALSE))*(K$27-E$27)+E30","v":56},{"$f":"((L30-F30)/(L$27-F$27)+ABS((L30-F30)/(L$27-F$27))*VLOOKUP('Start - expert'!$J13,'Données - Graphiques'!$R$8:$S$14,2,FALSE))*(L$27-F$27)+F30","v":54},{"$f":"((M30-G30)/(M$27-G$27)+ABS((M30-G30)/(M$27-G$27))*VLOOKUP('Start - expert'!$J13,'Données - Graphiques'!$R$8:$S$14,2,FALSE))*(M$27-G$27)+G30","v":52},{"$f":"((N30-H30)/(N$27-H$27)+ABS((N30-H30)/(N$27-H$27))*VLOOKUP('Start - expert'!$J13,'Données - Graphiques'!$R$8:$S$14,2,FALSE))*(N$27-H$27)+H30","v":50},{"$f":"((O30-I30)/(O$27-I$27)+ABS((O30-I30)/(O$27-I$27))*VLOOKUP('Start - expert'!$J13,'Données - Graphiques'!$R$8:$S$14,2,FALSE))*(O$27-I$27)+I30","v":45},{"$f":"'Calcul de variation des prix'!F75","v":56},{"$f":"'Calcul de variation des prix'!G75","v":54},{"$f":"'Calcul de variation des prix'!H75","v":52},{"$f":"'Calcul de variation des prix'!I75","v":50},{"$f":"'Calcul de variation des prix'!J75","v":45}]
[null,null,{"$f":"'Calcul de variation des prix'!C40","v":"PV au sol"},"€/MWh",{"$f":"IF('Start - expert'!$F$3=\"COURANT\",'Calcul de variation des prix'!E40,'Calcul de variation des prix'!E76)","v":63.9},{"$f":"((K31-E31)/(K$27-E$27)+ABS((K31-E31)/(K$27-E$27))*VLOOKUP('Start - expert'!$J14,'Données - Graphiques'!$R$8:$S$14,2,FALSE))*(K$27-E$27)+E31","v":57.929074962515188},{"$f":"((L31-K31)/(L$27-K$27)+ABS((L31-K31)/(L$27-K$27))*VLOOKUP('Start - expert'!$J14,'Données - Graphiques'!$R$8:$S$14,2,FALSE))*(L$27-K$27)+F31","v":47.977533233374828},{"$f":"((M31-L31)/(M$27-L$27)+ABS((M31-L31)/(M$27-L$27))*VLOOKUP('Start - expert'!$J14,'Données - Graphiques'!$R$8:$S$14,2,FALSE))*(M$27-L$27)+G31","v":44.635938054097217},{"$f":"((N31-M31)/(N$27-M$27)+ABS((N31-M31)/(N$27-M$27))*VLOOKUP('Start - expert'!$J14,'Données - Graphiques'!$R$8:$S$14,2,FALSE))*(N$27-M$27)+H31","v":41.610699307541218},{"$f":"((O31-N31)/(O$27-N$27)+ABS((O31-N31)/(O$27-N$27))*VLOOKUP('Start - expert'!$J14,'Données - Graphiques'!$R$8:$S$14,2,FALSE))*(O$27-N$27)+I31","v":37.555297814500541},{"$f":"'Calcul de variation des prix'!F76","v":57.929074962515188},{"$f":"'Calcul de variation des prix'!G76","v":47.977533233374828},{"$f":"'Calcul de variation des prix'!H76","v":44.635938054097217},{"$f":"'Calcul de variation des prix'!I76","v":41.610699307541218},{"$f":"'Calcul de variation des prix'!J76","v":37.555297814500541}]
[null,null,{"$f":"'Calcul de variation des prix'!C41","v":"PV sur toiture"},"€/MWh",{"$f":"IF('Start - expert'!$F$3=\"COURANT\",'Calcul de variation des prix'!E41,'Calcul de variation des prix'!E77)","v":85},{"$f":"((K32-E32)/(K$27-E$27)+ABS((K32-E32)/(K$27-E$27))*VLOOKUP('Start - expert'!$J15,'Données - Graphiques'!$R$8:$S$14,2,FALSE))*(K$27-E$27)+E32","v":80.872851601584458},{"$f":"((L32-K32)/(L$27-K$27)+ABS((L32-K32)/(L$27-K$27))*VLOOKUP('Start - expert'!$J15,'Données - Graphiques'!$R$8:$S$14,2,FALSE))*(L$27-K$27)+F32","v":73.994270937559236},{"$f":"((M32-L32)/(M$27-L$27)+ABS((M32-L32)/(M$27-L$27))*VLOOKUP('Start - expert'!$J15,'Données - Graphiques'!$R$8:$S$14,2,FALSE))*(M$27-L$27)+G32","v":64.527789947077437},{"$f":"((N32-M32)/(N$27-M$27)+ABS((N32-M32)/(N$27-M$27))*VLOOKUP('Start - expert'!$J15,'Données - Graphiques'!$R$8:$S$14,2,FALSE))*(N$27-M$27)+H32","v":54.870884671366888},{"$f":"((O32-N32)/(O$27-N$27)+ABS((O32-N32)/(O$27-N$27))*VLOOKUP('Start - expert'!$J15,'Données - Graphiques'!$R$8:$S$14,2,FALSE))*(O$27-N$27)+I32","v":48.581929444874824},{"$f":"'Calcul de variation des prix'!F77","v":80.872851601584458},{"$f":"'Calcul de variation des prix'!G77","v":73.994270937559236},{"$f":"'Calcul de variation des prix'!H77","v":64.527789947077437},{"$f":"'Calcul de variation des prix'!I77","v":54.870884671366888},{"$f":"'Calcul de variation des prix'!J77","v":48.581929444874824}]
[]
[null,null,null,null,"Données historiques","Scénario sélectionné",null,null,null,null,"Scénario sélectionné PAR DEFAUT"]
[null,null,"Revenus de marché","Unité",2017,2020,2025,2030,2035,2040,2020,2025,2030,2035,2040]
[null,null,{"$f":"'Calcul de variation des prix'!C37","v":"Nucléaire"},"€/MWh",{"$f":"IF('Start - expert'!$F$3=\"COURANT\",'Calcul de variation des prix'!E18,'Calcul de variation des prix'!E54)","v":47.902135933104503},{"$f":"IF(K36=\"ENTRER UN CALCUL\", \"ENTRER UN CALCUL\", ((K36-E36)/(K$35-E$35)+ABS((K36-E36)/(K$35-E$35))*'Start - expert'!$D26)*(K$35-E$35)+E36)","v":50.36414358820663},{"$f":"IF(L36=\"ENTRER UN CALCUL\", \"ENTRER UN CALCUL\", ((L36-K36)/(L$35-K$35)+ABS((L36-K36)/(L$35-K$35))*'Start - expert'!$D26)*(L$35-K$35)+F36)","v":54.467489680043506},{"$f":"IF(M36=\"ENTRER UN CALCUL\", \"ENTRER UN CALCUL\", ((M36-L36)/(M$35-L$35)+ABS((M36-L36)/(M$35-L$35))*'Start - expert'!$D26)*(M$35-L$35)+G36)","v":58.57083577188039},{"$f":"IF(N36=\"ENTRER UN CALCUL\", \"ENTRER UN CALCUL\", ((N36-M36)/(N$35-M$35)+ABS((N36-M36)/(N$35-M$35))*'Start - expert'!$D26)*(N$35-M$35)+H36)","v":62.674181863717266},{"$f":"IF(O36=\"ENTRER UN CALCUL\", \"ENTRER UN CALCUL\", ((O36-N36)/(O$35-N$35)+ABS((O36-N36)/(O$35-N$35))*'Start - expert'!$D26)*(O$35-N$35)+I36)","v":66.777527955554149},{"$f":"IF('Start - expert'!$D$3='Données de production'!$E$14,'Calcul de variation des prix'!F54,IF('Start - expert'!$D$3='Données de production'!$N$14,'Calcul de variation des prix'!K54,IF('Start - expert'!$D$3='Données de production'!$W$14,'Calcul de variation des prix'!P54,IF('Start - expert'!$D$3='Calcul de variation des prix'!$U$16,'Calcul de variation des prix'!U54,\"ENTRER UN CALCUL\"))))","v":50.36414358820663},{"$f":"IF('Start - expert'!$D$3='Données de production'!$E$14,'Calcul de variation des prix'!G54,IF('Start - expert'!$D$3='Données de production'!$N$14,'Calcul de variation des prix'!L54,IF('Start - expert'!$D$3='Données de production'!$W$14,'Calcul de variation des prix'!Q54,IF('Start - expert'!$D$3='Calcul de variation des prix'!$U$16,'Calcul de variation des prix'!V54,\"ENTRER UN CALCUL\"))))","v":54.467489680043506},{"$f":"IF('Start - expert'!$D$3='Données de production'!$E$14,'Calcul de variation des prix'!H54,IF('Start - expert'!$D$3='Données de production'!$N$14,'Calcul de variation des prix'!M54,IF('Start - expert'!$D$3='Données de production'!$W$14,'Calcul de variation des prix'!R54,IF('Start - expert'!$D$3='Calcul de variation des prix'!$U$16,'Calcul de variation des prix'!W54,\"ENTRER UN CALCUL\"))))","v":58.57083577188039},{"$f":"IF('Start - expert'!$D$3='Données de production'!$E$14,'Calcul de variation des prix'!I54,IF('Start - expert'!$D$3='Données de production'!$N$14,'Calcul de variation des prix'!N54,IF('Start - expert'!$D$3='Données de production'!$W$14,'Calcul de variation des prix'!S54,IF('Start - expert'!$D$3='Calcul de variation des prix'!$U$16,'Calcul de variation des prix'!X54,\"ENTRER UN CALCUL\"))))","v":62.674181863717266},{"$f":"IF('Start - expert'!$D$3='Données de production'!$E$14,'Calcul de variation des prix'!J54,IF('Start - expert'!$D$3='Données de production'!$N$14,'Calcul de variation des prix'!O54,IF('Start - expert'!$D$3='Données de production'!$W$14,'Calcul de variation des prix'!T54,IF('Start - expert'!$D$3='Calcul de variation des prix'!$U$16,'Calcul de variation des prix'!Y54,\"ENTRER UN CALCUL\"))))","v":66.777527955554149}]
[null,null,{"$f":"'Calcul de variation des prix'!C38","v":"Eolien terrestre"},"€/MWh",{"$f":"IF('Start - expert'!$F$3=\"COURANT\",'Calcul de variation des prix'!E19,'Calcul de variation des prix'!E55)","v":48.228490576657116},{"$f":"IF(K37=\"ENTRER UN CALCUL\", \"ENTRER UN CALCUL\", ((K37-E37)/(K$35-E$35)+ABS((K37-E37)/(K$35-E$35))*'Start - expert'!$D27)*(K$35-E$35)+E37)","v":43.114245288328561},{"$f":"IF(L37=\"ENTRER UN CALCUL\", \"ENTRER UN CALCUL\", ((L37-K37)/(L$35-K$35)+ABS((L37-K37)/(L$35-K$35))*'Start - expert'!$D27)*(L$35-K$35)+F37)","v":41.2},{"$f":"IF(M37=\"ENTRER UN CALCUL\", \"ENTRER UN CALCUL\", ((M37-L37)/(M$35-L$35)+ABS((M37-L37)/(M$35-L$35))*'Start - expert'!$D27)*(M$35-L$35)+G37)","v":46.708781372859598},{"$f":"IF(N37=\"ENTRER UN CALCUL\", \"ENTRER UN CALCUL\", ((N37-M37)/(N$35-M$35)+ABS((N37-M37)/(N$35-M$35))*'Start - expert'!$D27)*(N$35-M$35)+H37)","v":48.480734805008602},{"$f":"IF(O37=\"ENTRER UN CALCUL\", \"ENTRER UN CALCUL\", ((O37-N37)/(O$35-N$35)+ABS((O37-N37)/(O$35-N$35))*'Start - expert'!$D27)*(O$35-N$35)+I37)","v":50.252688237157606},{"$f":"IF('Start - expert'!$D$3='Données de production'!$E$14,'Calcul de variation des prix'!F55,IF('Start - expert'!$D$3='Données de production'!$N$14,'Calcul de variation des prix'!K55,IF('Start - expert'!$D$3='Données de production'!$W$14,'Calcul de variation des prix'!P55,IF('Start - expert'!$D$3='Calcul de variation des prix'!$U$16,'Calcul de variation des prix'!U55,\"ENTRER UN CALCUL\"))))","v":43.114245288328561},{"$f":"IF('Start - expert'!$D$3='Données de production'!$E$14,'Calcul de variation des prix'!G55,IF('Start - expert'!$D$3='Données de production'!$N$14,'Calcul de variation des prix'!L55,IF('Start - expert'!$D$3='Données de production'!$W$14,'Calcul de variation des prix'!Q55,IF('Start - expert'!$D$3='Calcul de variation des prix'!$U$16,'Calcul de variation des prix'!V55,\"ENTRER UN CALCUL\"))))","v":41.2},{"$f":"IF('Start - expert'!$D$3='Données de production'!$E$14,'Calcul de variation des prix'!H55,IF('Start - expert'!$D$3='Données de production'!$N$14,'Calcul de variation des prix'!M55,IF('Start - expert'!$D$3='Données de production'!$W$14,'Calcul de variation des prix'!R55,IF('Start - expert'!$D$3='Calcul de variation des prix'!$U$16,'Calcul de variation des prix'!W55,\"ENTRER UN CALCUL\"))))","v":46.708781372859598},{"$f":"IF('Start - expert'!$D$3='Données de production'!$E$14,'Calcul de variation des prix'!I55,IF('Start - expert'!$D$3='Données de production'!$N$14,'Calcul de variation des prix'!N55,IF('Start - expert'!$D$3='Données de production'!$W$14,'Calcul de variation des prix'!S55,IF('Start - expert'!$D$3='Calcul de variation des prix'!$U$16,'Calcul de variation des prix'!X55,\"ENTRER UN CALCUL\"))))","v":48.480734805008602},{"$f":"IF('Start - expert'!$D$3='Données de production'!$E$14,'Calcul de variation des prix'!J55,IF('Start - expert'!$D$3='Données de production'!$N$14,'Calcul de variation des prix'!O55,IF('Start - expert'!$D$3='Données de production'!$W$14,'Calcul de variation des prix'!T55,IF('Start - expert'!$D$3='Calcul de variation des prix'!$U$16,'Calcul de variation des prix'!Y55,\"ENTRER UN CALCUL\"))))","v":50.252688237157606}]
[null,null,{"$f":"'Calcul de variation des prix'!C39","v":"Eolien en mer"},"€/MWh",{"$f":"IF('Start - expert'!$F$3=\"COURANT\",'Calcul de variation des prix'!E20,'Calcul de variation des prix'!E56)","v":0},{"$f":"IF(K38=\"ENTRER UN CALCUL\", \"ENTRER UN CALCUL\", ((K38-E38)/(K$35-E$35)+ABS((K38-E38)/(K$35-E$35))*'Start - expert'!$D28)*(K$35-E$35)+E38)","v":0},{"$f":"L38","v":43.2},{"$f":"IF(M38=\"ENTRER UN CALCUL\", \"ENTRER UN CALCUL\", ((M38-L38)/(M$35-L$35)+ABS((M38-L38)/(M$35-L$35))*'Start - expert'!$D28)*(M$35-L$35)+G38)","v":49.157796500736417},{"$f":"IF(N38=\"ENTRER UN CALCUL\", \"ENTRER UN CALCUL\", ((N38-M38)/(N$35-M$35)+ABS((N38-M38)/(N$35-M$35))*'Start - expert'!$D28)*(N$35-M$35)+H38)","v":52.052287752577463},{"$f":"IF(O38=\"ENTRER UN CALCUL\", \"ENTRER UN CALCUL\", ((O38-N38)/(O$35-N$35)+ABS((O38-N38)/(O$35-N$35))*'Start - expert'!$D28)*(O$35-N$35)+I38)","v":54.946779004418509},{"$f":"IF('Start - expert'!$D$3='Données de production'!$E$14,'Calcul de variation des prix'!F56,IF('Start - expert'!$D$3='Données de production'!$N$14,'Calcul de variation des prix'!K56,IF('Start - expert'!$D$3='Données de production'!$W$14,'Calcul de variation des prix'!P56,IF('Start - expert'!$D$3='Calcul de variation des prix'!$U$16,'Calcul de variation des prix'!U56,\"ENTRER UN CALCUL\"))))","v":0},{"$f":"IF('Start - expert'!$D$3='Données de production'!$E$14,'Calcul de variation des prix'!G56,IF('Start - expert'!$D$3='Données de production'!$N$14,'Calcul de variation des prix'!L56,IF('Start - expert'!$D$3='Données de production'!$W$14,'Calcul de variation des prix'!Q56,IF('Start - expert'!$D$3='Calcul de variation des prix'!$U$16,'Calcul de variation des prix'!V56,\"ENTRER UN CALCUL\"))))","v":43.2},{"$f":"IF('Start - expert'!$D$3='Données de production'!$E$14,'Calcul de variation des prix'!H56,IF('Start - expert'!$D$3='Données de production'!$N$14,'Calcul de variation des prix'!M56,IF('Start - expert'!$D$3='Données de production'!$W$14,'Calcul de variation des prix'!R56,IF('Start - expert'!$D$3='Calcul de variation des prix'!$U$16,'Calcul de variation des prix'!W56,\"ENTRER UN CALCUL\"))))","v":49.157796500736417},{"$f":"IF('Start - expert'!$D$3='Données de production'!$E$14,'Calcul de variation des prix'!I56,IF('Start - expert'!$D$3='Données de production'!$N$14,'Calcul de variation des prix'!N56,IF('Start - expert'!$D$3='Données de production'!$W$14,'Calcul de variation des prix'!S56,IF('Start - expert'!$D$3='Calcul de variation des prix'!$U$16,'Calcul de variation des prix'!X56,\"ENTRER UN CALCUL\"))))","v":52.052287752577463},{"$f":"IF('Start - expert'!$D$3='Données de production'!$E$14,'Calcul de variation des prix'!J56,IF('Start - expert'!$D$3='Données de production'!$N$14,'Calcul de variation des prix'!O56,IF('Start - expert'!$D$3='Données de production'!$W$14,'Calcul de variation des prix'!T56,IF('Start - expert'!$D$3='Calcul de variation des prix'!$U$16,'Calcul de variation des prix'!Y56,\"ENTRER UN CALCUL\"))))","v":54.946779004418509}]
[null,null,{"$f":"'Calcul de variation des prix'!C40","v":"PV au sol"},"€/MWh",{"$f":"IF('Start - expert'!$F$3=\"COURANT\",'Calcul de variation des prix'!E21,'Calcul de variation des prix'!E57)","v":43.137359111091079},{"$f":"IF(K39=\"ENTRER UN CALCUL\", \"ENTRER UN CALCUL\", ((K39-E39)/(K$35-E$35)+ABS((K39-E39)/(K$35-E$35))*'Start - expert'!$D29)*(K$35-E$35)+E39)","v":40.068679555545543},{"$f":"IF(L39=\"ENTRER UN CALCUL\", \"ENTRER UN CALCUL\", ((L39-K39)/(L$35-K$35)+ABS((L39-K39)/(L$35-K$35))*'Start - expert'!$D29)*(L$35-K$35)+F39)","v":39.4},{"$f":"IF(M39=\"ENTRER UN CALCUL\", \"ENTRER UN CALCUL\", ((M39-L39)/(M$35-L$35)+ABS((M39-L39)/(M$35-L$35))*'Start - expert'!$D29)*(M$35-L$35)+G39)","v":44.38775218524021},{"$f":"IF(N39=\"ENTRER UN CALCUL\", \"ENTRER UN CALCUL\", ((N39-M39)/(N$35-M$35)+ABS((N39-M39)/(N$35-M$35))*'Start - expert'!$D29)*(N$35-M$35)+H39)","v":47.857132648340723},{"$f":"IF(O39=\"ENTRER UN CALCUL\", \"ENTRER UN CALCUL\", ((O39-N39)/(O$35-N$35)+ABS((O39-N39)/(O$35-N$35))*'Start - expert'!$D29)*(O$35-N$35)+I39)","v":51.326513111441244},{"$f":"IF('Start - expert'!$D$3='Données de production'!$E$14,'Calcul de variation des prix'!F57,IF('Start - expert'!$D$3='Données de production'!$N$14,'Calcul de variation des prix'!K57,IF('Start - expert'!$D$3='Données de production'!$W$14,'Calcul de variation des prix'!P57,IF('Start - expert'!$D$3='Calcul de variation des prix'!$U$16,'Calcul de variation des prix'!U57,\"ENTRER UN CALCUL\"))))","v":40.068679555545543},{"$f":"IF('Start - expert'!$D$3='Données de production'!$E$14,'Calcul de variation des prix'!G57,IF('Start - expert'!$D$3='Données de production'!$N$14,'Calcul de variation des prix'!L57,IF('Start - expert'!$D$3='Données de production'!$W$14,'Calcul de variation des prix'!Q57,IF('Start - expert'!$D$3='Calcul de variation des prix'!$U$16,'Calcul de variation des prix'!V57,\"ENTRER UN CALCUL\"))))","v":39.4},{"$f":"IF('Start - expert'!$D$3='Données de production'!$E$14,'Calcul de variation des prix'!H57,IF('Start - expert'!$D$3='Données de production'!$N$14,'Calcul de variation des prix'!M57,IF('Start - expert'!$D$3='Données de production'!$W$14,'Calcul de variation des prix'!R57,IF('Start - expert'!$D$3='Calcul de variation des prix'!$U$16,'Calcul de variation des prix'!W57,\"ENTRER UN CALCUL\"))))","v":44.38775218524021},{"$f":"IF('Start - expert'!$D$3='Données de production'!$E$14,'Calcul de variation des prix'!I57,IF('Start - expert'!$D$3='Données de production'!$N$14,'Calcul de variation des prix'!N57,IF('Start - expert'!$D$3='Données de production'!$W$14,'Calcul de variation des prix'!S57,IF('Start - expert'!$D$3='Calcul de variation des prix'!$U$16,'Calcul de variation des prix'!X57,\"ENTRER UN CALCUL\"))))","v":47.857132648340723},{"$f":"IF('Start - expert'!$D$3='Données de production'!$E$14,'Calcul de variation des prix'!J57,IF('Start - expert'!$D$3='Données de production'!$N$14,'Calcul de variation des prix'!O57,IF('Start - expert'!$D$3='Données de production'!$W$14,'Calcul de variation des prix'!T57,IF('Start - expert'!$D$3='Calcul de variation des prix'!$U$16,'Calcul de variation des prix'!Y57,\"ENTRER UN CALCUL\"))))","v":51.326513111441244}]
[null,null,{"$f":"'Calcul de variation des prix'!C41","v":"PV sur toiture"},"€/MWh",{"$f":"IF('Start - expert'!$F$3=\"COURANT\",'Calcul de variation des prix'!E22,'Calcul de variation des prix'!E58)","v":43.137359111091079},{"$f":"IF(K40=\"ENTRER UN CALCUL\", \"ENTRER UN CALCUL\", ((K40-E40)/(K$35-E$35)+ABS((K40-E40)/(K$35-E$35))*'Start - expert'!$D30)*(K$35-E$35)+E40)","v":40.068679555545543},{"$f":"IF(L40=\"ENTRER UN CALCUL\", \"ENTRER UN CALCUL\", ((L40-K40)/(L$35-K$35)+ABS((L40-K40)/(L$35-K$35))*'Start - expert'!$D30)*(L$35-K$35)+F40)","v":39.4},{"$f":"IF(M40=\"ENTRER UN CALCUL\", \"ENTRER UN CALCUL\", ((M40-L40)/(M$35-L$35)+ABS((M40-L40)/(M$35-L$35))*'Start - expert'!$D30)*(M$35-L$35)+G40)","v":44.38775218524021},{"$f":"IF(N40=\"ENTRER UN CALCUL\", \"ENTRER UN CALCUL\", ((N40-M40)/(N$35-M$35)+ABS((N40-M40)/(N$35-M$35))*'Start - expert'!$D30)*(N$35-M$35)+H40)","v":47.857132648340723},{"$f":"IF(O40=\"ENTRER UN CALCUL\", \"ENTRER UN CALCUL\", ((O40-N40)/(O$35-N$35)+ABS((O40-N40)/(O$35-N$35))*'Start - expert'!$D30)*(O$35-N$35)+I40)","v":51.326513111441244},{"$f":"IF('Start - expert'!$D$3='Données de production'!$E$14,'Calcul de variation des prix'!F58,IF('Start - expert'!$D$3='Données de production'!$N$14,'Calcul de variation des prix'!K58,IF('Start - expert'!$D$3='Données de production'!$W$14,'Calcul de variation des prix'!P58,IF('Start - expert'!$D$3='Calcul de variation des prix'!$U$16,'Calcul de variation des prix'!U58,\"ENTRER UN CALCUL\"))))","v":40.068679555545543},{"$f":"IF('Start - expert'!$D$3='Données de production'!$E$14,'Calcul de variation des prix'!G58,IF('Start - expert'!$D$3='Données de production'!$N$14,'Calcul de variation des prix'!L58,IF('Start - expert'!$D$3='Données de production'!$W$14,'Calcul de variation des prix'!Q58,IF('Start - expert'!$D$3='Calcul de variation des prix'!$U$16,'Calcul de variation des prix'!V58,\"ENTRER UN CALCUL\"))))","v":39.4},{"$f":"IF('Start - expert'!$D$3='Données de production'!$E$14,'Calcul de variation des prix'!H58,IF('Start - expert'!$D$3='Données de production'!$N$14,'Calcul de variation des prix'!M58,IF('Start - expert'!$D$3='Données de production'!$W$14,'Calcul de variation des prix'!R58,IF('Start - expert'!$D$3='Calcul de variation des prix'!$U$16,'Calcul de variation des prix'!W58,\"ENTRER UN CALCUL\"))))","v":44.38775218524021},{"$f":"IF('Start - expert'!$D$3='Données de production'!$E$14,'Calcul de variation des prix'!I58,IF('Start - expert'!$D$3='Données de production'!$N$14,'Calcul de variation des prix'!N58,IF('Start - expert'!$D$3='Données de production'!$W$14,'Calcul de variation des prix'!S58,IF('Start - expert'!$D$3='Calcul de variation des prix'!$U$16,'Calcul de variation des prix'!X58,\"ENTRER UN CALCUL\"))))","v":47.857132648340723},{"$f":"IF('Start - expert'!$D$3='Données de production'!$E$14,'Calcul de variation des prix'!J58,IF('Start - expert'!$D$3='Données de production'!$N$14,'Calcul de variation des prix'!O58,IF('Start - expert'!$D$3='Données de production'!$W$14,'Calcul de variation des prix'!T58,IF('Start - expert'!$D$3='Calcul de variation des prix'!$U$16,'Calcul de variation des prix'!Y58,\"ENTRER UN CALCUL\"))))","v":51.326513111441244}]
[]
[null,null,null,null,"Données historiques","Scénario sélectionné"]
[null,null,"Complément de rémunération nécessaire en fonction de l'année de mise en fonctionnement","Unité",2017,2020,2025,2030,2035,2040]
[null,null,{"$f":"'Données de coûts'!C24","v":"Nucléaire"},"€/MWh",{"$f":"IF(E28=0, 0, E28-E36)","v":0},{"$f":"IF(F28=0, 0, F28-F36)","v":0},{"$f":"IF(G28=0, 0, G28-G36)","v":0},26.42916422811961,22.325818136282734,18.222472044445851]
[null,null,{"$f":"'Données de prix'!C28","v":"Eolien terrestre"},"€/MWh",{"$f":"IF(E29=0, 0, E29-E37)","v":17.17150942334289},{"$f":"IF(F29=0, 0, F29-F37)","v":20.0616609077871},18.269083189641613,5.4257006885440688,-0.94772030313016131,-7.189700896283675]
[null,null,{"$f":"'Données de prix'!C29","v":"Eolien en mer"},"€/MWh",0,0,{"$f":"IF(G30=0, 0, G30-G38)","v":10.799999999999997},2.842203499263583,-2.0522877525774632,-9.9467790044185094]
[null,null,{"$f":"'Données de prix'!C30","v":"PV au sol"},"€/MWh",{"$f":"IF(E31=0, 0, E31-E39)","v":20.762640888908919},{"$f":"IF(F31=0, 0, F31-F39)","v":17.860395406969644},{"$f":"IF(G31=0, 0, G31-G39)","v":8.5775332333748295},0.24818586885700711,-6.2464333407995056,-13.771215296940703]
[null,null,{"$f":"'Données de prix'!C31","v":"PV sur toiture"},"€/MWh",41.862640888908921,{"$f":"IF(F32=0, 0, F32-F40)","v":40.804172046038914},34.594270937559237,20.140037761837227,7.0137520230261643,-2.7445836665664203]
[]
[null,null,null,null,"Données historiques","Scénario sélectionné",null,null,null,null,"Scénario sélectionné PAR DEFAUT"]
[null,null,"Variables","Unité",2017,2020,2025,2030,2035,2040,2020,2025,2030,2035,2040]
[null,null,"Prix de marché moyen","€/MWh",{"$f":"'Calcul de variation des prix'!E62","v":50.497976729383467},{"$f":"((K52-E52)/(K$35-E$35)+ABS((K52-E52)/(K$35-E$35))*'Start - expert'!$D21)*(K$35-E$35)+E52","v":47.248988364691733},{"$f":"((L52-K52)/(L$35-K$35)+ABS((L52-K52)/(L$35-K$35))*'Start - expert'!$D21)*(L$35-K$35)+F52","v":48.8},{"$f":"((M52-L52)/(M$35-L$35)+ABS((M52-L52)/(M$35-L$35))*'Start - expert'!$D21)*(M$35-L$35)+G52","v":58.620279781543118},{"$f":"((N52-M52)/(N$35-M$35)+ABS((N52-M52)/(N$35-M$35))*'Start - expert'!$D21)*(N$35-M$35)+H52","v":65.170979235400907},{"$f":"((O52-N52)/(O$35-N$35)+ABS((O52-N52)/(O$35-N$35))*'Start - expert'!$D21)*(O$35-N$35)+I52","v":71.721678689258695},{"$f":"IF('Start - expert'!$D$3='Données de production'!$E$14,'Calcul de variation des prix'!F62,IF('Start - expert'!$D$3='Données de production'!$N$14,'Calcul de variation des prix'!K62,IF('Start - expert'!$D$3='Données de production'!$W$14,'Calcul de variation des prix'!P62,IF('Start - expert'!$D$3='Calcul de variation des prix'!$U$16,'Calcul de variation des prix'!U62,\"ENTRER UN CALCUL\"))))","v":47.248988364691733},{"$f":"IF('Start - expert'!$D$3='Données de production'!$E$14,'Calcul de variation des prix'!G62,IF('Start - expert'!$D$3='Données de production'!$N$14,'Calcul de variation des prix'!L62,IF('Start - expert'!$D$3='Données de production'!$W$14,'Calcul de variation des prix'!Q62,IF('Start - expert'!$D$3='Calcul de variation des prix'!$U$16,'Calcul de variation des prix'!V62,\"ENTRER UN CALCUL\"))))","v":48.8},{"$f":"IF('Start - expert'!$D$3='Données de production'!$E$14,'Calcul de variation des prix'!H62,IF('Start - expert'!$D$3='Données de production'!$N$14,'Calcul de variation des prix'!M62,IF('Start - expert'!$D$3='Données de production'!$W$14,'Calcul de variation des prix'!R62,IF('Start - expert'!$D$3='Calcul de variation des prix'!$U$16,'Calcul de variation des prix'!W62,\"ENTRER UN CALCUL\"))))","v":58.620279781543118},{"$f":"IF('Start - expert'!$D$3='Données de production'!$E$14,'Calcul de variation des prix'!I62,IF('Start - expert'!$D$3='Données de production'!$N$14,'Calcul de variation des prix'!N62,IF('Start - expert'!$D$3='Données de production'!$W$14,'Calcul de variation des prix'!S62,IF('Start - expert'!$D$3='Calcul de variation des prix'!$U$16,'Calcul de variation des prix'!X62,\"ENTRER UN CALCUL\"))))","v":65.170979235400907},{"$f":"IF('Start - expert'!$D$3='Données de production'!$E$14,'Calcul de variation des prix'!J62,IF('Start - expert'!$D$3='Données de production'!$N$14,'Calcul de variation des prix'!O62,IF('Start - expert'!$D$3='Données de production'!$W$14,'Calcul de variation des prix'!T62,IF('Start - expert'!$D$3='Calcul de variation des prix'!$U$16,'Calcul de variation des prix'!Y62,\"ENTRER UN CALCUL\"))))","v":71.721678689258695}]
[null,null,"Prix du CO2","€/tCO2",{"$f":"'Calcul de variation des prix'!E63","v":8.15},{"$f":"IF('Start - expert'!$D$3='Données de production'!$E$14,'Calcul de variation des prix'!F63,IF('Start - expert'!$D$3='Données de production'!$N$14,'Calcul de variation des prix'!K63,IF('Start - expert'!$D$3='Données de production'!$W$14,'Calcul de variation des prix'!P63,IF('Start - expert'!$D$3='Calcul de variation des prix'!$U$16,'Calcul de variation des prix'!U63,\"ENTRER UN CALCUL\"))))","v":17.760000000000002},{"$f":"IF('Start - expert'!$D$3='Données de production'!$E$14,'Calcul de variation des prix'!G63,IF('Start - expert'!$D$3='Données de production'!$N$14,'Calcul de variation des prix'!L63,IF('Start - expert'!$D$3='Données de production'!$W$14,'Calcul de variation des prix'!Q63,IF('Start - expert'!$D$3='Calcul de variation des prix'!$U$16,'Calcul de variation des prix'!V63,\"ENTRER UN CALCUL\"))))","v":53.29},{"$f":"IF('Start - expert'!$D$3='Données de production'!$E$14,'Calcul de variation des prix'!H63,IF('Start - expert'!$D$3='Données de production'!$N$14,'Calcul de variation des prix'!M63,IF('Start - expert'!$D$3='Données de production'!$W$14,'Calcul de variation des prix'!R63,IF('Start - expert'!$D$3='Calcul de variation des prix'!$U$16,'Calcul de variation des prix'!W63,\"ENTRER UN CALCUL\"))))","v":88.82},{"$f":"IF('Start - expert'!$D$3='Données de production'!$E$14,'Calcul de variation des prix'!I63,IF('Start - expert'!$D$3='Données de production'!$N$14,'Calcul de variation des prix'!N63,IF('Start - expert'!$D$3='Données de production'!$W$14,'Calcul de variation des prix'!S63,IF('Start - expert'!$D$3='Calcul de variation des prix'!$U$16,'Calcul de variation des prix'!X63,\"ENTRER UN CALCUL\"))))","v":106.58},{"$f":"IF('Start - expert'!$D$3='Données de production'!$E$14,'Calcul de variation des prix'!J63,IF('Start - expert'!$D$3='Données de production'!$N$14,'Calcul de variation des prix'!O63,IF('Start - expert'!$D$3='Données de production'!$W$14,'Calcul de variation des prix'!T63,IF('Start - expert'!$D$3='Calcul de variation des prix'!$U$16,'Calcul de variation des prix'!Y63,\"ENTRER UN CALCUL\"))))","v":124.35}]
[]
[null,null,null,null,"Données historiques",null,"Scénario sélectionné"]
[null,null,null,"Unité",2017,2018,2019,2020,2021,2022,2023,2024,2025,2026,2027,2028,2029,2030,2031,2032,2033,2034,2035,2036,2037,2038,2039,2040]
[null,null,"Capacité installée de production d'électricité"]
[null,null,{"$f":"'Calcul de variation des prix'!C38","v":"Eolien terrestre"},"GW",{"$f":"E6","v":13.55},15.575000000000001,17.600000000000001,19.625,21.65,23.674999999999997,{"$f":"K$56*($M58-$J58)/($M$56-$J$56)+$J58-($M58-$J58)/($M$56-$J$56)*$J$56","v":25.570000000000164},{"$f":"L$56*($M58-$J58)/($M$56-$J$56)+$J58-($M58-$J58)/($M$56-$J$56)*$J$56","v":27.465000000000146},{"$f":"K6","v":29.36},{"$f":"N$56*($R58-$M58)/($R$56-$M$56)+$M58-($R58-$M58)/($R$56-$M$56)*$M$56","v":31.455142857142164},{"$f":"O$56*($R58-$M58)/($R$56-$M$56)+$M58-($R58-$M58)/($R$56-$M$56)*$M$56","v":33.550285714284655},35.645428571428056,37.740571428570547,{"$f":"L6","v":39.835714285714289},{"$f":"S$56*($W58-$R58)/($W$56-$R$56)+$R58-($W58-$R58)/($W$56-$R$56)*$R$56","v":42.328571428571195},44.821428571428442,{"$f":"U$56*($W58-$R58)/($W$56-$R$56)+$R58-($W58-$R58)/($W$56-$R$56)*$R$56","v":47.314285714285688},49.807142857142935,{"$f":"M6","v":52.3},{"$f":"X$56*($AB58-$W58)/($AB$56-$W$56)+$W58-($AB58-$W58)/($AB$56-$W$56)*$W$56","v":54.792857142857429},{"$f":"Y$56*($AB58-$W58)/($AB$56-$W$56)+$W58-($AB58-$W58)/($AB$56-$W$56)*$W$56","v":57.285714285714675},59.778571428571013,62.27142857142826,{"$f":"N6","v":64.764285714285705}]
[null,null,{"$f":"'Calcul de variation des prix'!C39","v":"Eolien en mer"},"GW",0,{"$f":"F7","v":0},0,0,0.79999999999999993,1.5999999999999999,{"$f":"K$56*($M59-$J59)/($M$56-$J$56)+$J59-($M59-$J59)/($M$56-$J$56)*$J$56","v":2.2066666666664787},2.8133333333332757,{"$f":"K7","v":3.42},4.300285714285792,5.1805714285712838,6.0608571428572304,6.9411428571427223,{"$f":"L7","v":7.8214285714285712},9.2571428571427532,10.692857142857065,12.128571428571377,13.564285714285688,{"$f":"M7","v":15},{"$f":"X$56*($AB59-$W59)/($AB$56-$W$56)+$W59-($AB59-$W59)/($AB$56-$W$56)*$W$56","v":16.435714285714312},17.871428571428169,19.307142857142935,20.742857142856792,{"$f":"N7","v":22.178571428571431}]
[null,null,{"$f":"'Calcul de variation des prix'!C40","v":"PV au sol"},"GW",4.178612324929972,5.4155102707749769,6.6524082166199818,7.889306162464985,9.1262041083099916,10.363102054154997,12.268734702770416,14.174367351385172,{"$f":"K8","v":16.079999999999998},17.766766132007888,19.453532264015848,21.140298396023809,22.827064528031769,{"$f":"L8","v":24.513830660040021},25.370745990059959,26.227661320080188,27.084576650100189,27.941491980119963,{"$f":"M8","v":28.798407310140075},29.655322640160193,{"$f":"Y$56*($AB60-$W60)/($AB$56-$W$56)+$W60-($AB60-$W60)/($AB$56-$W$56)*$W$56","v":30.512237970180195},31.369153300199969,32.226068630220425,{"$f":"N8","v":33.082983960240128}]
[null,null,{"$f":"'Calcul de variation des prix'!C41","v":"PV sur toiture"},"GW",3.4753876750700283,4.3961563958916905,5.3169251167133522,6.2376938375350139,7.1584625583566766,8.0792312791783392,9.4861541861191654,10.893077093059674,{"$f":"K9","v":12.3},13.430091010849083,14.560182021698438,15.690273032547793,16.820364043396694,{"$f":"L9","v":17.950455054245694},18.300682581368619,18.650910108491416,19.001137635614214,19.351365162737125,{"$f":"M9","v":19.701592689859925},20.051820216982833,20.402047744105744,20.752275271228541,21.102502798351452,{"$f":"N9","v":21.452730325474157}]
[null,null,"Production"]
[null,null,{"$f":"'Données de production'!C5","v":"Nucléaire"},"TWh",{"$f":"E16","v":379.1},381.41666666666669,383.73333333333335,386.05,388.36666666666667,390.68333333333328,{"$f":"K$56*($M63-$J63)/($M$56-$J$56)+$J63-($M63-$J63)/($M$56-$J$56)*$J$56","v":389.25555555555547},387.82777777777801,{"$f":"K16","v":386.4},{"$f":"N$56*($R63-$M63)/($R$56-$M$56)+$M63-($R63-$M63)/($R$56-$M$56)*$M$56","v":379.6942857142858},372.98857142857196,366.2828571428563,359.57714285714246,{"$f":"L16","v":352.87142857142857},{"$f":"S$56*($W63-$R63)/($W$56-$R$56)+$R63-($W63-$R63)/($W$56-$R$56)*$R$56","v":341.05714285714203},329.24285714285361,317.42857142856883,305.61428571428405,{"$f":"M16","v":293.8},{"$f":"X$56*($AB63-$W63)/($AB$56-$W$56)+$W63-($AB63-$W63)/($AB$56-$W$56)*$W$56","v":281.98571428571449},{"$f":"Y$56*($AB63-$W63)/($AB$56-$W$56)+$W63-($AB63-$W63)/($AB$56-$W$56)*$W$56","v":270.17142857142971},258.35714285714494,246.54285714285652,{"$f":"N16","v":234.72857142857146}]
[null,null,{"$f":"'Calcul de variation des prix'!C38","v":"Eolien terrestre"},"TWh",24,29,34,39,44,49,{"$f":"K$56*($M64-$J64)/($M$56-$J$56)+$J64-($M64-$J64)/($M$56-$J$56)*$J$56","v":54.266666666666424},59.533333333332848,64.8,{"$f":"N$56*($R64-$M64)/($R$56-$M$56)+$M64-($R64-$M64)/($R$56-$M$56)*$M$56","v":69.960000000000946},75.119999999998981,80.280000000000655,85.440000000000509,90.6,{"$f":"S$56*($W64-$R64)/($W$56-$R$56)+$R64-($W64-$R64)/($W$56-$R$56)*$R$56","v":95.399999999999636},100.20000000000073,105,109.80000000000109,114.6,{"$f":"X$56*($AB64-$W64)/($AB$56-$W$56)+$W64-($AB64-$W64)/($AB$56-$W$56)*$W$56","v":119.39999999999964},124.20000000000073,129,133.80000000000109,138.6]
[null,null,{"$f":"'Calcul de variation des prix'!C39","v":"Eolien en mer"},"TWh",0,0,0,0,3,6,7.066666666666606,8.1333333333332121,9.1999999999999993,11.402857142856192,13.605714285713475,15.808571428570758,18.011428571428041,20.214285714285715,25.571428571427532,30.928571428572468,36.285714285713766,41.642857142856883,47,{"$f":"X$56*($AB65-$W65)/($AB$56-$W$56)+$W65-($AB65-$W65)/($AB$56-$W$56)*$W$56","v":52.357142857141298},57.714285714286234,63.071428571427532,68.428571428570649,73.785714285714292]
[null,null,{"$f":"'Calcul de variation des prix'!C40","v":"PV au sol"},"TWh",5.0226330532212877,6.484880295160135,7.9471275370989822,9.4093747790378295,10.871622020976677,12.333869262915524,14.625248502466093,16.916627742015407,19.208006981564306,21.241452291214046,23.274897600863369,25.308342910512692,27.341788220162016,29.375233529811076,30.399928946401815,31.424624362992745,32.449319779583675,33.47401519617415,34.498710612765741,35.523406029356465,{"$f":"Y$56*($AB66-$W66)/($AB$56-$W$56)+$W66-($AB66-$W66)/($AB$56-$W$56)*$W$56","v":36.548101445947395},{"$f":"Z$56*($AB66-$W66)/($AB$56-$W$56)+$W66-($AB66-$W66)/($AB$56-$W$56)*$W$56","v":37.572796862537871},38.597492279129256,39.622187695720406]
[null,null,{"$f":"'Calcul de variation des prix'!C41","v":"PV sur toiture"},"TWh",4.1773669467787116,5.2651197048398632,6.3528724629010167,7.4406252209621702,8.5283779790233236,9.6161307370844771,11.308084830868211,13.000038924652017,14.691993018435694,16.055690565929126,17.419388113422883,18.783085660916186,20.146783208409943,21.51048075590321,21.92864248216938,22.346804208435628,22.764965934701763,23.183127660968012,23.60128938723426,24.019451113500509,24.437612839766643,24.855774566032892,25.27393629229914,25.692098018565314]
[null,null,{"$f":"'Données de production'!C10","v":"Autres EnRe"},"TWh",9.5,9.4166666666666679,9.3333333333333339,9.25,9.1666666666666661,9.0833333333333339,9.1222222222222342,9.1611111111111256,9.1999999999999993,9.7457142857144845,10.291428571428696,10.837142857142908,11.382857142857119,11.928571428571429,13.142857142856883,14.357142857143117,15.571428571428442,16.785714285714221,18,{"$f":"X$56*($AB68-$W68)/($AB$56-$W$56)+$W68-($AB68-$W68)/($AB$56-$W$56)*$W$56","v":19.214285714285325},20.428571428571104,21.642857142856883,22.857142857142662,24.071428571428569]
[null,null,{"$f":"'Données de production'!C11","v":"Hydraulique"},"TWh",53.5,54.916666666666671,56.333333333333336,57.75,59.166666666666664,60.583333333333336,61.055555555555543,61.527777777777715,62,62.331428571428546,62.662857142857092,62.994285714285752,63.325714285714298,63.657142857142865,64.485714285714494,65.314285714285688,66.14285714285711,66.971428571428532,67.8,{"$f":"X$56*($AB69-$W69)/($AB$56-$W$56)+$W69-($AB69-$W69)/($AB$56-$W$56)*$W$56","v":68.628571428571149},69.457142857142571,70.285714285714448,71.114285714285643,71.942857142857136]
[null,null,{"$f":"'Données de production'!C12","v":"Fossile"},"TWh",53.900000000000006,50.583333333333343,47.266666666666673,43.95,40.633333333333333,37.316666666666663,35.944444444443889,34.572222222221626,33.200000000000003,32.651428571428596,32.102857142857147,31.554285714285697,31.005714285714248,30.457142857142859,29.685714285714312,28.914285714285597,28.14285714285711,27.371428571428623,26.6,25.828571428571422,25.057142857142708,24.285714285713993,23.514285714285506,22.742857142857147]
[null,null,"Part EnRe"]
[null,null,"Part des EnR dans le mix de production électrique","%",{"$f":"SUM(E64:E69)/SUM(E63:E70)","v":0.18178382464096748},{"$f":"SUM(F64:F69)/SUM(F63:F70)","v":0.19565554693560899},0.20912594042449079,0.22221217328389253,0.23900189214758749,0.25515561098703488,0.27022388344330561,0.28488257258678934,0.29914815433439118,0.31627021162692692,0.33314519808290016,0.34977842323264013,0.36617504555338748,0.38234007780309831,0.40363536089344282,0.42485834231837261,0.44600938967136255,0.46708886805825589,0.48809714011822974,0.50903456604461228,0.52990150360546795,0.55069830816395759,0.5714253326985429,0.59208292782291827]
[null,null,"Facteur de charge"]
[null,null,{"$f":"'Calcul de variation des prix'!C38","v":"Eolien terrestre"},"%",{"$f":"IF(E58=0,0,E64*1000/8760/E58)","v":0.20219380275994539},0.21255231352199183,0.22052718970527188,0.2268562952621935,0.23200143419068411,0.23626641207755328,0.24226925936441857,0.24744375088149773,0.25195028181105594,0.25389493241642558,0.25559670456404482,0.25709842549037865,0.25843341232906508,0.25962797301048085,0.25728274286982417,0.25519838454401833,0.25333366421811943,0.25165560311888141,0.25013751014955865,0.24875755156852772,0.24749769412086201,0.24634291260801205,0.24528058779348358,0.24430004336061378]
[null,null,{"$f":"'Calcul de variation des prix'!C39","v":"Eolien en mer"},"%",{"$f":"IF(E59=0,0,E65*1000/8760/E59)","v":0},0,0,0,0.42808219178082191,0.42808219178082191,0.3655727075832475,0.33002229003008254,0.30708430131645709,0.30269989190478364,0.29980548529453777,0.29775185243302416,0.29621910891427505,0.29503137966264253,0.31533626472742743,0.3301885353660271,0.34152454405128441,0.35046082893904595,0.35768645357686452,0.36364971354522108,0.36865484781126034,0.37291560028852683,0.37658653785677654,0.37978220428091386]
[null,null,{"$f":"'Calcul de variation des prix'!C40","v":"PV au sol"},"%",{"$f":"IF(E60=0,0,E66*1000/8760/E60)","v":0.13721300111082871},0.13669683957795789,0.13637262030687947,0.13615006425995335,0.13598783540142034,0.13586433250367161,0.13608158919840602,0.1362404289718939,0.13636162070330646,0.13648084873174424,0.13657940084409093,0.1366622261807573,0.13673281104974641,0.136793682205026,0.13678397651064297,0.13677490502898634,0.13676640756344327,0.13675843130188495,0.13675092971802474,0.13674386166323035,0.13673719061140452,0.13673088402759678,0.13672491283737442,0.13671925097864918]
[null,null,{"$f":"'Calcul de variation des prix'!C41","v":"PV sur toiture"},"%",{"$f":"IF(E61=0,0,E67*1000/8760/E61)","v":0.13721300111082871},0.13671967238427146,0.13639720995751176,0.13616994723882814,0.13600114858308171,0.13587082500422251,0.13608014781023137,0.13623539938399293,0.13635513437312705,0.13647274521997585,0.13657209929495132,0.13665714142687591,0.13673075629735407,0.1367951021545202,0.13678559139066579,0.13677643781381188,0.13676762167302531,0.13675912464721168,0.13675092971802477,0.13674302105609393,0.13673538391897661,0.1367280045594404,0.13672087014287226,0.13671396867279098]
[null,null,{"$f":"C27","v":"Prix d'attribution des projets"}]
[null,null,{"$f":"'Calcul de variation des prix'!C38","v":"Eolien terrestre"},"€/MWh",{"$f":"E29","v":65.400000000000006},{"$f":"F$56*($E79-$H79)/($E$56-$H$56)+$H79-($E79-$H79)/($E$56-$H$56)*$H$56","v":64.658635398705201},{"$f":"G$56*($E79-$H79)/($E$56-$H$56)+$H79-($E79-$H79)/($E$56-$H$56)*$H$56","v":63.91727079741031},{"$f":"F29","v":63.175906196115662},{"$f":"I$56*($M79-$H79)/($M$56-$H$56)+$H79-($M79-$H79)/($M$56-$H$56)*$H$56","v":62.434541594820757},61.693176993525867,60.951812392231204,60.210447790936314,{"$f":"G29","v":59.469083189641616},{"$f":"N$56*($R79-$M79)/($R$56-$M$56)+$M79-($R79-$M79)/($R$56-$M$56)*$M$56","v":58.002162963994124},{"$f":"O$56*($R79-$M79)/($R$56-$M$56)+$M79-($R79-$M79)/($R$56-$M$56)*$M$56","v":56.535242738346369},{"$f":"P$56*($R79-$M79)/($R$56-$M$56)+$M79-($R79-$M79)/($R$56-$M$56)*$M$56","v":55.068322512698614},{"$f":"Q$56*($R79-$M79)/($R$56-$M$56)+$M79-($R79-$M79)/($R$56-$M$56)*$M$56","v":53.601402287051314},{"$f":"H29","v":52.134482061403666},{"$f":"S$56*($W79-$R79)/($W$56-$R$56)+$R79-($W79-$R79)/($W$56-$R$56)*$R$56","v":51.214188549498431},50.293895037593529,49.3736015256884,48.453308013783499,{"$f":"I29","v":47.533014501878441},{"$f":"X$56*($AB79-$W79)/($AB$56-$W$56)+$W79-($AB79-$W79)/($AB$56-$W$56)*$W$56","v":46.639009069677513},45.74500363747643,44.850998205275573,{"$f":"AA$56*($AB79-$W79)/($AB$56-$W$56)+$W79-($AB79-$W79)/($AB$56-$W$56)*$W$56","v":43.956992773074944},{"$f":"J29","v":43.062987340873931}]
[null,null,{"$f":"'Calcul de variation des prix'!C39","v":"Eolien en mer"},"€/MWh",{"$f":"E30","v":140},{"$f":"44/'Calcul de variation des prix'!F5","v":43.200785468826709},{"$f":"44/'Calcul de variation des prix'!G5","v":42.420252816994015},{"$f":"F30","v":56},55.600000000000023,55.200000000000045,54.799999999999955,54.399999999999977,{"$f":"G30","v":54},{"$f":"N$56*($R80-$M80)/($R$56-$M$56)+$M80-($R80-$M80)/($R$56-$M$56)*$M$56","v":53.600000000000023},53.200000000000045,{"$f":"P$56*($R80-$M80)/($R$56-$M$56)+$M80-($R80-$M80)/($R$56-$M$56)*$M$56","v":52.799999999999955},{"$f":"Q$56*($R80-$M80)/($R$56-$M$56)+$M80-($R80-$M80)/($R$56-$M$56)*$M$56","v":52.399999999999977},{"$f":"H30","v":52},51.600000000000023,51.200000000000045,50.799999999999955,50.399999999999977,{"$f":"I30","v":50},49,48,47,46,{"$f":"J30","v":45}]
[null,null,{"$f":"'Calcul de variation des prix'!C40","v":"PV au sol"},"€/MWh",{"$f":"E31","v":63.9},{"$f":"F$56*($E81-$H81)/($E$56-$H$56)+$H81-($E81-$H81)/($E$56-$H$56)*$H$56","v":61.909691654171638},{"$f":"G$56*($E81-$H81)/($E$56-$H$56)+$H81-($E81-$H81)/($E$56-$H$56)*$H$56","v":59.919383308343185},{"$f":"F31","v":57.929074962515188},55.938766616686735,53.948458270858737,51.958149925030739,49.967841579202286,{"$f":"G31","v":47.977533233374828},{"$f":"N$56*($R81-$M81)/($R$56-$M$56)+$M81-($R81-$M81)/($R$56-$M$56)*$M$56","v":47.309214197518941},{"$f":"O$56*($R81-$M81)/($R$56-$M$56)+$M81-($R81-$M81)/($R$56-$M$56)*$M$56","v":46.640895161663593},{"$f":"P$56*($R81-$M81)/($R$56-$M$56)+$M81-($R81-$M81)/($R$56-$M$56)*$M$56","v":45.972576125808018},{"$f":"Q$56*($R81-$M81)/($R$56-$M$56)+$M81-($R81-$M81)/($R$56-$M$56)*$M$56","v":45.304257089952443},{"$f":"H31","v":44.635938054097217},44.030890304786226,43.425842555475128,42.820794806163804,42.215747056852479,{"$f":"I31","v":41.610699307541218},40.79961900893295,39.988538710324974,39.177458411716998,38.366378113108794,37.555297814500541]
[null,null,{"$f":"'Calcul de variation des prix'!C41","v":"PV sur toiture"},"€/MWh",{"$f":"E32","v":85},{"$f":"F$56*($E82-$H82)/($E$56-$H$56)+$H82-($E82-$H82)/($E$56-$H$56)*$H$56","v":83.624283867195118},{"$f":"G$56*($E82-$H82)/($E$56-$H$56)+$H82-($E82-$H82)/($E$56-$H$56)*$H$56","v":82.248567734389781},{"$f":"F32","v":80.872851601584458},79.497135468779561,78.121419335974679,76.745703203169342,75.369987070364459,{"$f":"G32","v":73.994270937559236},{"$f":"N$56*($R82-$M82)/($R$56-$M$56)+$M82-($R82-$M82)/($R$56-$M$56)*$M$56","v":72.100974739462799},{"$f":"O$56*($R82-$M82)/($R$56-$M$56)+$M82-($R82-$M82)/($R$56-$M$56)*$M$56","v":70.207678541366477},{"$f":"P$56*($R82-$M82)/($R$56-$M$56)+$M82-($R82-$M82)/($R$56-$M$56)*$M$56","v":68.314382343269699},{"$f":"Q$56*($R82-$M82)/($R$56-$M$56)+$M82-($R82-$M82)/($R$56-$M$56)*$M$56","v":66.421086145173376},{"$f":"H32","v":64.527789947077437},62.596408891935425,60.665027836793797,58.733646781651714,56.802265726509177,{"$f":"I32","v":54.870884671366888},53.613093626068803,52.355302580770513,51.097511535471767,49.839720490173477,48.581929444874824]
[null,null,"Revenus de marché"]
[null,null,{"$f":"'Calcul de variation des prix'!C38","v":"Eolien terrestre"},"€/MWh",{"$f":"E37","v":48.228490576657116},{"$f":"F$56*($H84-$E84)/($H$56-$E$56)+$E84-($H84-$E84)/($H$56-$E$56)*$E$56","v":46.523742147213852},{"$f":"G$56*($H84-$E84)/($H$56-$E$56)+$E84-($H84-$E84)/($H$56-$E$56)*$E$56","v":44.818993717771264},{"$f":"F37","v":43.114245288328561},{"$f":"I$56*($M84-$H84)/($M$56-$H$56)+$H84-($M84-$H84)/($M$56-$H$56)*$H$56","v":42.731396230662767},{"$f":"J$56*($M84-$H84)/($M$56-$H$56)+$H84-($M84-$H84)/($M$56-$H$56)*$H$56","v":42.348547172997087},41.965698115331406,41.582849057665612,{"$f":"G37","v":41.2},{"$f":"N$56*($R84-$M84)/($R$56-$M$56)+$M84-($R84-$M84)/($R$56-$M$56)*$M$56","v":42.301756274571744},{"$f":"O$56*($R84-$M84)/($R$56-$M$56)+$M84-($R84-$M84)/($R$56-$M$56)*$M$56","v":43.40351254914367},44.505268823715596,45.607025098287522,{"$f":"H37","v":46.708781372859598},{"$f":"S$56*($W84-$R84)/($W$56-$R$56)+$R84-($W84-$R84)/($W$56-$R$56)*$R$56","v":47.0631720592894},{"$f":"T$56*($W84-$R84)/($W$56-$R$56)+$R84-($W84-$R84)/($W$56-$R$56)*$R$56","v":47.417562745719124},47.771953432148962,48.1263441185788,{"$f":"I37","v":48.480734805008602},{"$f":"X$56*($W84-$R84)/($W$56-$R$56)+$R84-($W84-$R84)/($W$56-$R$56)*$R$56","v":48.835125491438362},{"$f":"Y$56*($W84-$R84)/($W$56-$R$56)+$R84-($W84-$R84)/($W$56-$R$56)*$R$56","v":49.1895161778682},49.543906864298037,49.898297550727762,50.252688237157599]
[null,null,{"$f":"'Calcul de variation des prix'!C39","v":"Eolien en mer"},"€/MWh",{"$f":"E38","v":0},{"$f":"F$56*($H85-$E85)/($H$56-$E$56)+$E85-($H85-$E85)/($H$56-$E$56)*$E$56","v":0},0,{"$f":"F38","v":0},{"$f":"I$56*($R85-$M85)/($R$56-$M$56)+$M85-($R85-$M85)/($R$56-$M$56)*$M$56","v":38.433762799410943},{"$f":"J$56*($R85-$M85)/($R$56-$M$56)+$M85-($R85-$M85)/($R$56-$M$56)*$M$56","v":39.625322099557707},40.816881399704926,42.008440699852599,{"$f":"G38","v":43.2},{"$f":"N$56*($R85-$M85)/($R$56-$M$56)+$M85-($R85-$M85)/($R$56-$M$56)*$M$56","v":44.391559300147037},45.583118600294256,46.774677900441475,47.966237200588694,{"$f":"H38","v":49.157796500736417},{"$f":"S$56*($W85-$R85)/($W$56-$R$56)+$R85-($W85-$R85)/($W$56-$R$56)*$R$56","v":49.736694751104778},50.315593001472962,50.894491251841146,51.473389502209329,{"$f":"I38","v":52.052287752577463},{"$f":"X$56*($W85-$R85)/($W$56-$R$56)+$R85-($W85-$R85)/($W$56-$R$56)*$R$56","v":52.631186002945697},53.21008425331388,53.788982503682291,54.367880754050475,54.946779004418659]
[null,null,{"$f":"'Calcul de variation des prix'!C40","v":"PV au sol"},"€/MWh",{"$f":"E39","v":43.137359111091079},42.114465925908917,41.091572740727315,{"$f":"F39","v":40.068679555545543},{"$f":"I$56*($M86-$H86)/($M$56-$H$56)+$H86-($M86-$H86)/($M$56-$H$56)*$H$56","v":39.93494364443643},39.801207733327317,39.667471822218147,39.53373591110909,{"$f":"G39","v":39.4},{"$f":"N$56*($R86-$M86)/($R$56-$M$56)+$M86-($R86-$M86)/($R$56-$M$56)*$M$56","v":40.397550437048039},{"$f":"O$56*($R86-$M86)/($R$56-$M$56)+$M86-($R86-$M86)/($R$56-$M$56)*$M$56","v":41.39510087409576},{"$f":"P$56*($R86-$M86)/($R$56-$M$56)+$M86-($R86-$M86)/($R$56-$M$56)*$M$56","v":42.392651311143936},43.390201748192112,{"$f":"H39","v":44.38775218524021},45.081628277860545,45.775504370480576,46.469380463100606,47.163256555720636,{"$f":"I39","v":47.857132648340723},48.551008740960924,49.244884833580954,49.938760926201212,50.632637018821242,51.326513111441272]
[null,null,{"$f":"'Calcul de variation des prix'!C41","v":"PV sur toiture"},"€/MWh",{"$f":"E40","v":43.137359111091079},42.114465925908917,41.091572740727315,{"$f":"F40","v":40.068679555545543},39.93494364443643,39.801207733327317,39.667471822218147,39.53373591110909,{"$f":"G40","v":39.4},40.397550437048039,41.39510087409576,{"$f":"P$56*($R87-$M87)/($R$56-$M$56)+$M87-($R87-$M87)/($R$56-$M$56)*$M$56","v":42.392651311143936},43.390201748192112,{"$f":"H40","v":44.38775218524021},45.081628277860545,45.775504370480576,46.469380463100606,47.163256555720636,{"$f":"I40","v":47.857132648340723},48.551008740960924,49.244884833580954,49.938760926201212,50.632637018821242,51.326513111441272]
[]
[null,"Calcul des compléments de rémunération"]
[]
[null,null,"Estimation compléments de rémunération passés de la Cour des Comptes"]
[null,null,{"$f":"'Scénarios choisis - défaut'!C92","v":"Dépenses au titre des engagements passés"},"M€",null,{"$f":"'Calcul de variation des prix'!E47","v":4292.783505154639},{"$f":"'Calcul de variation des prix'!F47","v":4567.5043124043368},{"$f":"'Calcul de variation des prix'!G47","v":4493.7279708325868},{"$f":"'Calcul de variation des prix'!H47","v":4594.3618866128591},{"$f":"'Calcul de variation des prix'!I47","v":4572.582173646977},{"$f":"'Calcul de variation des prix'!J47","v":4580.3703358846778},{"$f":"'Calcul de variation des prix'!K47","v":4731.5800384295717},{"$f":"'Calcul de variation des prix'!L47","v":4691.2543436236583},{"$f":"'Calcul de variation des prix'!M47","v":4373.275228137838},{"$f":"'Calcul de variation des prix'!N47","v":4106.1284672807496},{"$f":"'Calcul de variation des prix'!O47","v":3930.6451464070597},{"$f":"'Calcul de variation des prix'!P47","v":3788.6000044966809},{"$f":"'Calcul de variation des prix'!Q47","v":3553.5029511547541},{"$f":"'Calcul de variation des prix'!R47","v":3019.5563994364752},{"$f":"'Calcul de variation des prix'!S47","v":2102.8472409951719},{"$f":"'Calcul de variation des prix'!T47","v":1522.954869077003},{"$f":"'Calcul de variation des prix'!U47","v":1249.5646867436958},{"$f":"'Calcul de variation des prix'!V47","v":1119.3368568321237},{"$f":"'Calcul de variation des prix'!W47","v":1002.0458860566514},{"$f":"'Calcul de variation des prix'!X47","v":827.64912650330302},{"$f":"'Calcul de variation des prix'!Y47","v":713.45763600906037},{"$f":"'Calcul de variation des prix'!Z47","v":596.44900243230541},{"$f":"'Calcul de variation des prix'!AA47","v":529.66959020779689}]
[null,null,{"$f":"'Scénarios choisis - défaut'!C93","v":"Part de l'éolien en mer dans les dépenses au titre des engagements passés (AO 2011&2013)"},"M€",null,{"$f":"'Calcul de variation des prix'!E48","v":0},{"$f":"'Calcul de variation des prix'!F48","v":0},{"$f":"'Calcul de variation des prix'!G48","v":0},{"$f":"'Calcul de variation des prix'!H48","v":176.5905213060079},{"$f":"'Calcul de variation des prix'!I48","v":345.47583610193112},{"$f":"'Calcul de variation des prix'!J48","v":432.86527026987739},{"$f":"'Calcul de variation des prix'!K48","v":637.00773042325375},{"$f":"'Calcul de variation des prix'!L48","v":695.64884549606188},{"$f":"'Calcul de variation des prix'!M48","v":670.61017914745469},{"$f":"'Calcul de variation des prix'!N48","v":649.5282907485564},{"$f":"'Calcul de variation des prix'!O48","v":630.79513804067403},{"$f":"'Calcul de variation des prix'!P48","v":613.61587161718273},{"$f":"'Calcul de variation des prix'!Q48","v":597.55127099072422},{"$f":"'Calcul de variation des prix'!R48","v":624.42121193046364},{"$f":"'Calcul de variation des prix'!S48","v":639.19783469507149},{"$f":"'Calcul de variation des prix'!T48","v":646.30437951762758},{"$f":"'Calcul de variation des prix'!U48","v":648.28848052064109},{"$f":"'Calcul de variation des prix'!V48","v":646.71983744599959},{"$f":"'Calcul de variation des prix'!W48","v":642.61739852152198},{"$f":"'Calcul de variation des prix'!X48","v":636.67063395598234},{"$f":"'Calcul de variation des prix'!Y48","v":629.36208265312507},{"$f":"'Calcul de variation des prix'!Z48","v":596.44900243230541},{"$f":"'Calcul de variation des prix'!AA48","v":529.66959020779689}]
[null,null,{"$f":"'Scénarios choisis - défaut'!C94","v":"Dépenses au titre des engagements passés hors éolien en mer"},"M€",null,{"$f":"'Calcul de variation des prix'!E49","v":4292.783505154639},{"$f":"'Calcul de variation des prix'!F49","v":4567.5043124043368},{"$f":"'Calcul de variation des prix'!G49","v":4493.7279708325868},{"$f":"'Calcul de variation des prix'!H49","v":4417.7713653068513},{"$f":"'Calcul de variation des prix'!I49","v":4227.1063375450467},{"$f":"'Calcul de variation des prix'!J49","v":4147.5050656148005},{"$f":"'Calcul de variation des prix'!K49","v":4094.5723080063176},{"$f":"'Calcul de variation des prix'!L49","v":3995.6054981275965},{"$f":"'Calcul de variation des prix'!M49","v":3702.6650489903832},{"$f":"'Calcul de variation des prix'!N49","v":3456.600176532193},{"$f":"'Calcul de variation des prix'!O49","v":3299.8500083663857},{"$f":"'Calcul de variation des prix'!P49","v":3174.9841328794982},{"$f":"'Calcul de variation des prix'!Q49","v":2955.9516801640302},{"$f":"'Calcul de variation des prix'!R49","v":2395.1351875060118},{"$f":"'Calcul de variation des prix'!S49","v":1463.6494063001005},{"$f":"'Calcul de variation des prix'!T49","v":876.65048955937527},{"$f":"'Calcul de variation des prix'!U49","v":601.27620622305471},{"$f":"'Calcul de variation des prix'!V49","v":472.61701938612401},{"$f":"'Calcul de variation des prix'!W49","v":359.42848753512936},{"$f":"'Calcul de variation des prix'!X49","v":190.97849254732068},{"$f":"'Calcul de variation des prix'!Y49","v":84.09555335593538},{"$f":"'Calcul de variation des prix'!Z49","v":0},{"$f":"'Calcul de variation des prix'!AA49","v":0}]
[null,null,{"$f":"'Calcul de variation des prix'!C14","v":"Hypothèse de prix marché de la Cour des Comptes"},"€/MWh",null,{"$f":"'Calcul de variation des prix'!E50","v":35.257731958762882},{"$f":"'Calcul de variation des prix'!F50","v":34.794248276484417},{"$f":"'Calcul de variation des prix'!G50","v":36.257759116146332},{"$f":"'Calcul de variation des prix'!H50","v":35.95869668824411},{"$f":"'Calcul de variation des prix'!I50","v":35.662100996785703},{"$f":"'Calcul de variation des prix'!J50","v":35.367951695555341},{"$f":"'Calcul de variation des prix'!K50","v":35.076228606157592},{"$f":"'Calcul de variation des prix'!L50","v":34.786911716633114},{"$f":"'Calcul de variation des prix'!M50","v":34.499981180085868},{"$f":"'Calcul de variation des prix'!N50","v":34.215417313321609},{"$f":"'Calcul de variation des prix'!O50","v":33.933200595497674},{"$f":"'Calcul de variation des prix'!P50","v":33.653311666783829},{"$f":"'Calcul de variation des prix'!Q50","v":33.375731327034238},{"$f":"'Calcul de variation des prix'!R50","v":33.100440534470323},{"$f":"'Calcul de variation des prix'!S50","v":32.827420404374543},{"$f":"'Calcul de variation des prix'!T50","v":32.556652207794862},{"$f":"'Calcul de variation des prix'!U50","v":32.288117370260032},{"$f":"'Calcul de variation des prix'!V50","v":32.021797470505334},{"$f":"'Calcul de variation des prix'!W50","v":31.757674239208942},{"$f":"'Calcul de variation des prix'!X50","v":31.495729557738642},{"$f":"'Calcul de variation des prix'!Y50","v":31.235945456908908},{"$f":"'Calcul de variation des prix'!Z50","v":30.97830411574823},{"$f":"'Calcul de variation des prix'!AA50","v":30.722787860276622}]
[null,null,"Delta prix "]
[null,null,{"$f":"'Calcul de variation des prix'!C38","v":"Eolien terrestre"},"€/MWh",null,{"$f":"F$95-F84","v":-11.26601018845097},-10.024745441286846,-6.8564861721822297,-6.7726995424186569,-6.6864461762113834,-6.5977464197760654,-6.5066204515080202,-6.4130882833668892,-7.8017750944858761,-9.1880952358220611,-10.572068228217923,-11.953713431503694,-13.33305004582536,-13.962731524819077,-14.590142341344581,-15.2153012243541,-15.838226748318768,-16.458937334503268,-17.07745125222942,-17.693786620129558,-18.307961407389129,-18.919993434979531,-19.529900376880978]
[null,null,{"$f":"'Calcul de variation des prix'!C39","v":"Eolien en mer"},"€/MWh",null,{"$f":"F$95-F85","v":35.257731958762882},{"$f":"G$95-G85","v":34.794248276484417},36.257759116146332,-2.4750661111668322,-3.9632211027720032,-5.4489297041495846,-6.9322120936950071,-8.4130882833668892,-9.891578120061169,-11.367701286972647,-12.841477304943801,-14.312925533804865,-15.782065173702179,-16.636254216634455,-17.488172597098419,-18.337839044046284,-19.185272131949297,-20.03049028207213,-20.873511763736754,-21.714354695575238,-22.553037046773383,-23.389576638302245,-24.223991144142037]
[null,null,{"$f":"'Calcul de variation des prix'!C40","v":"PV au sol"},"€/MWh",null,{"$f":"F$95-F86","v":-6.8567339671460346},-6.297324464242898,-3.8109204393992115,-3.9762469561923197,-4.1391067365416134,-4.2995201266628058,-4.4575073049514984,-4.6130882833668849,-5.8975692569621714,-7.1796835607741514,-8.4594507156462626,-9.7368900814082835,-11.012020858205972,-11.981187743390223,-12.948083966106033,-13.912728255305744,-14.875139185460604,-15.83533517783539,-16.793334501751982,-17.749155275842313,-18.702815469292304,-19.654332903073012,-20.603725251164651]
[null,null,{"$f":"'Calcul de variation des prix'!C41","v":"PV sur toiture"},"€/MWh",null,{"$f":"F$95-F87","v":-6.8567339671460346},-6.297324464242898,-3.8109204393992115,-3.9762469561923197,-4.1391067365416134,-4.2995201266628058,-4.4575073049514984,-4.6130882833668849,-5.8975692569621714,-7.1796835607741514,-8.4594507156462626,-9.7368900814082835,-11.012020858205972,-11.981187743390223,-12.948083966106033,-13.912728255305744,-14.875139185460604,-15.83533517783539,-16.793334501751982,-17.749155275842313,-18.702815469292304,-19.654332903073012,-20.603725251164651]
[null,null,"Estimation de l'évolution du besoin cumulé de compléments rémunération passés"]
[null,null,{"$f":"'Scénarios choisis - défaut'!C102","v":"Ajustement des dépenses au titre des engagements passés hors éolien en mer"},"M€",null,{"$f":"F$94+(SUMPRODUCT('Données - Graphiques'!$F$13:$F$14,F$76:F$77,F99:F100)+SUMPRODUCT('Données - Graphiques'!$F$11,F$74,F97))*8760*1000/1000000*F$94/MAX($F$94:$AB$94)","v":3813.5013016383828},{"$f":"G$94+(SUMPRODUCT('Données - Graphiques'!$F$13:$F$14,G$76:G$77,G99:G100)+SUMPRODUCT('Données - Graphiques'!$F$11,G$74,G97))*8760*1000/1000000*G$94/MAX($F$94:$AB$94)","v":4097.3951069009672},{"$f":"H$94+(SUMPRODUCT('Données - Graphiques'!$F$13:$F$14,H$76:H$77,H99:H100)+SUMPRODUCT('Données - Graphiques'!$F$11,H$74,H97))*8760*1000/1000000*H$94/MAX($F$94:$AB$94)","v":4177.1166187607605},{"$f":"I$94+(SUMPRODUCT('Données - Graphiques'!$F$13:$F$14,I$76:I$77,I99:I100)+SUMPRODUCT('Données - Graphiques'!$F$11,I$74,I97))*8760*1000/1000000*I$94/MAX($F$94:$AB$94)","v":4101.6616387347221},{"$f":"J$94+(SUMPRODUCT('Données - Graphiques'!$F$13:$F$14,J$76:J$77,J99:J100)+SUMPRODUCT('Données - Graphiques'!$F$11,J$74,J97))*8760*1000/1000000*J$94/MAX($F$94:$AB$94)","v":3921.1876978337768},{"$f":"K$94+(SUMPRODUCT('Données - Graphiques'!$F$13:$F$14,K$76:K$77,K99:K100)+SUMPRODUCT('Données - Graphiques'!$F$11,K$74,K97))*8760*1000/1000000*K$94/MAX($F$94:$AB$94)","v":3842.2734852991462},{"$f":"L$94+(SUMPRODUCT('Données - Graphiques'!$F$13:$F$14,L$76:L$77,L99:L100)+SUMPRODUCT('Données - Graphiques'!$F$11,L$74,L97))*8760*1000/1000000*L$94/MAX($F$94:$AB$94)","v":3789.363174350518},{"$f":"M$94+(SUMPRODUCT('Données - Graphiques'!$F$13:$F$14,M$76:M$77,M99:M100)+SUMPRODUCT('Données - Graphiques'!$F$11,M$74,M97))*8760*1000/1000000*M$94/MAX($F$94:$AB$94)","v":3694.9124065952906},{"$f":"N$94+(SUMPRODUCT('Données - Graphiques'!$F$13:$F$14,N$76:N$77,N99:N100)+SUMPRODUCT('Données - Graphiques'!$F$11,N$74,N97))*8760*1000/1000000*N$94/MAX($F$94:$AB$94)","v":3358.1957044002907},{"$f":"O$94+(SUMPRODUCT('Données - Graphiques'!$F$13:$F$14,O$76:O$77,O99:O100)+SUMPRODUCT('Données - Graphiques'!$F$11,O$74,O97))*8760*1000/1000000*O$94/MAX($F$94:$AB$94)","v":3073.2545222936865},{"$f":"P$94+(SUMPRODUCT('Données - Graphiques'!$F$13:$F$14,P$76:P$77,P99:P100)+SUMPRODUCT('Données - Graphiques'!$F$11,P$74,P97))*8760*1000/1000000*P$94/MAX($F$94:$AB$94)","v":2874.6874219444485},{"$f":"Q$94+(SUMPRODUCT('Données - Graphiques'!$F$13:$F$14,Q$76:Q$77,Q99:Q100)+SUMPRODUCT('Données - Graphiques'!$F$11,Q$74,Q97))*8760*1000/1000000*Q$94/MAX($F$94:$AB$94)","v":2708.7782532907886},{"$f":"R$94+(SUMPRODUCT('Données - Graphiques'!$F$13:$F$14,R$76:R$77,R99:R100)+SUMPRODUCT('Données - Graphiques'!$F$11,R$74,R97))*8760*1000/1000000*R$94/MAX($F$94:$AB$94)","v":2468.5985274341338},{"$f":"S$94+(SUMPRODUCT('Données - Graphiques'!$F$13:$F$14,S$76:S$77,S99:S100)+SUMPRODUCT('Données - Graphiques'!$F$11,S$74,S97))*8760*1000/1000000*S$94/MAX($F$94:$AB$94)","v":1981.1758856667507},{"$f":"T$94+(SUMPRODUCT('Données - Graphiques'!$F$13:$F$14,T$76:T$77,T99:T100)+SUMPRODUCT('Données - Graphiques'!$F$11,T$74,T97))*8760*1000/1000000*T$94/MAX($F$94:$AB$94)","v":1199.0247756423946},{"$f":"U$94+(SUMPRODUCT('Données - Graphiques'!$F$13:$F$14,U$76:U$77,U99:U100)+SUMPRODUCT('Données - Graphiques'!$F$11,U$74,U97))*8760*1000/1000000*U$94/MAX($F$94:$AB$94)","v":711.17321027081971},{"$f":"V$94+(SUMPRODUCT('Données - Graphiques'!$F$13:$F$14,V$76:V$77,V99:V100)+SUMPRODUCT('Données - Graphiques'!$F$11,V$74,V97))*8760*1000/1000000*V$94/MAX($F$94:$AB$94)","v":482.99376455175053},{"$f":"W$94+(SUMPRODUCT('Données - Graphiques'!$F$13:$F$14,W$76:W$77,W99:W100)+SUMPRODUCT('Données - Graphiques'!$F$11,W$74,W97))*8760*1000/1000000*W$94/MAX($F$94:$AB$94)","v":375.88671950201194},{"$f":"X$94+(SUMPRODUCT('Données - Graphiques'!$F$13:$F$14,X$76:X$77,X99:X100)+SUMPRODUCT('Données - Graphiques'!$F$11,X$74,X97))*8760*1000/1000000*X$94/MAX($F$94:$AB$94)","v":283.010300413614},{"$f":"Y$94+(SUMPRODUCT('Données - Graphiques'!$F$13:$F$14,Y$76:Y$77,Y99:Y100)+SUMPRODUCT('Données - Graphiques'!$F$11,Y$74,Y97))*8760*1000/1000000*Y$94/MAX($F$94:$AB$94)","v":148.86020364126284},{"$f":"Z$94+(SUMPRODUCT('Données - Graphiques'!$F$13:$F$14,Z$76:Z$77,Z99:Z100)+SUMPRODUCT('Données - Graphiques'!$F$11,Z$74,Z97))*8760*1000/1000000*Z$94/MAX($F$94:$AB$94)","v":64.883455346624245},{"$f":"AA$94+(SUMPRODUCT('Données - Graphiques'!$F$13:$F$14,AA$76:AA$77,AA99:AA100)+SUMPRODUCT('Données - Graphiques'!$F$11,AA$74,AA97))*8760*1000/1000000*AA$94/MAX($F$94:$AB$94)","v":0},{"$f":"AB$94+(SUMPRODUCT('Données - Graphiques'!$F$13:$F$14,AB$76:AB$77,AB99:AB100)+SUMPRODUCT('Données - Graphiques'!$F$11,AB$74,AB97))*8760*1000/1000000*AB$94/MAX($F$94:$AB$94)","v":0}]
[null,null,"Ajustement des dépenses au titre des engagements AO éolien en mer 2011-2013","M€",null,{"$f":"F$93+(SUMPRODUCT('Données - Graphiques'!$F$12,F$75,F98))*8760*1000/1000000","v":0},{"$f":"G$93+(SUMPRODUCT('Données - Graphiques'!$F$12,G$75,G98))*8760*1000/1000000","v":0},{"$f":"H$93+(SUMPRODUCT('Données - Graphiques'!$F$12,H$75,H98))*8760*1000/1000000","v":0},{"$f":"I$93+(SUMPRODUCT('Données - Graphiques'!$F$12,I$75,I98))*8760*1000/1000000","v":148.74602755538103},{"$f":"J$93+(SUMPRODUCT('Données - Graphiques'!$F$12,J$75,J98))*8760*1000/1000000","v":300.88959869574609},{"$f":"K$93+(SUMPRODUCT('Données - Graphiques'!$F$12,K$75,K98))*8760*1000/1000000","v":380.51603625417647},{"$f":"L$93+(SUMPRODUCT('Données - Graphiques'!$F$12,L$75,L98))*8760*1000/1000000","v":576.88475349689384},{"$f":"M$93+(SUMPRODUCT('Données - Graphiques'!$F$12,M$75,M98))*8760*1000/1000000","v":627.75374706889045},{"$f":"N$93+(SUMPRODUCT('Données - Graphiques'!$F$12,N$75,N98))*8760*1000/1000000","v":591.9231385312296},{"$f":"O$93+(SUMPRODUCT('Données - Graphiques'!$F$12,O$75,O98))*8760*1000/1000000","v":559.96344374564103},{"$f":"P$93+(SUMPRODUCT('Données - Graphiques'!$F$12,P$75,P98))*8760*1000/1000000","v":530.31162237351236},{"$f":"Q$93+(SUMPRODUCT('Données - Graphiques'!$F$12,Q$75,Q98))*8760*1000/1000000","v":502.19492500677893},{"$f":"R$93+(SUMPRODUCT('Données - Graphiques'!$F$12,R$75,R98))*8760*1000/1000000","v":475.18621772612926},{"$f":"S$93+(SUMPRODUCT('Données - Graphiques'!$F$12,S$75,S98))*8760*1000/1000000","v":486.55595707965438},{"$f":"T$93+(SUMPRODUCT('Données - Graphiques'!$F$12,T$75,T98))*8760*1000/1000000","v":487.4467578505039},{"$f":"U$93+(SUMPRODUCT('Données - Graphiques'!$F$12,U$75,U98))*8760*1000/1000000","v":481.71741424597712},{"$f":"V$93+(SUMPRODUCT('Données - Graphiques'!$F$12,V$75,V98))*8760*1000/1000000","v":471.59000259131415},{"$f":"W$93+(SUMPRODUCT('Données - Graphiques'!$F$12,W$75,W98))*8760*1000/1000000","v":458.4332287945216},{"$f":"X$93+(SUMPRODUCT('Données - Graphiques'!$F$12,X$75,X98))*8760*1000/1000000","v":443.13520656821612},{"$f":"Y$93+(SUMPRODUCT('Données - Graphiques'!$F$12,Y$75,Y98))*8760*1000/1000000","v":426.29655009476716},{"$f":"Z$93+(SUMPRODUCT('Données - Graphiques'!$F$12,Z$75,Z98))*8760*1000/1000000","v":408.3373133712106},{"$f":"AA$93+(SUMPRODUCT('Données - Graphiques'!$F$12,AA$75,AA98))*8760*1000/1000000","v":364.96951462761871},{"$f":"AB$93+(SUMPRODUCT('Données - Graphiques'!$F$12,AB$75,AB98))*8760*1000/1000000","v":287.89777521360628}]
[null,null,"Estimation de l'évolution du besoin cumulé de compléments rémunération futurs par technologie - incluant le remboursement des compléments de rémunération à hauteur maximale des compléments de rémunération touchés",null,null,null,null,null,null,null,null,null,null,null,null,null,null,null,null,null,null,null,null,null,null,null,null,null,null,null,null,"Retraitement des compléments de rémunération négatifs",null,null,null,null,null,null,null,null,null,null,null,null,null,null,null,null,null,null,null,null,null,null,null,null,null,null,"Estimation de l'évolution du besoin cumulé de compléments rémunération futurs par technologie"]
[null,null,{"$f":"'Données de production'!C6","v":"Eolien terrestre"},null,null,null,null,null,null,null,null,null,null,null,null,null,null,null,null,null,null,null,null,null,null,null,null,null,null,null,null,{"$f":"C105","v":"Eolien terrestre"},null,null,null,null,null,null,null,null,null,null,null,null,null,null,null,null,null,null,null,null,null,null,null,null,null,null,{"$f":"AF105","v":"Eolien terrestre"}]
[null,null,2021,"M€",null,null,null,null,{"$f":"AL106","v":90.240970432913613},{"$f":"AM106-AL106","v":93.504477473955077},{"$f":"AN106-AM106","v":97.525493862726506},101.28896494971741,104.84475943522119,100.69185579673007,96.371363426360404,91.912833575032096,87.339255421070561,82.668781717634261,80.304613893268083,78.049717694276296,75.886821473348846,73.802111380347469,71.784407290175977,69.824563682699363,67.915026951262462,66.049503476648852,{"$f":"BD106-BC106","v":64.222707427258683},62.43016680416963,null,null,null,2021,"M€",null,null,null,null,{"$f":"IF(BM106>0,BM106,0)","v":90.240970432913613},{"$f":"IF(AL106+BN106>0,AL106+BN106,0)","v":183.74544790686869},{"$f":"IF(AM106+BO106>0,AM106+BO106,0)","v":281.2709417695952},382.55990671931261,487.4046661545338,588.09652195126387,684.46788537762427,776.38071895265637,863.71997437372693,946.38875609136119,1026.6933699846293,1104.7430876789056,1180.6299091522544,1254.4320205326019,1326.2164278227779,1396.0409915054772,1463.9560184567397,1530.0055219333885,{"$f":"IF(BC106+CE106>0,BC106+CE106,0)","v":1594.2282293606472},{"$f":"IF(BD106+CF106>0,BD106+CF106,0)","v":1656.6583961648168},null,2021,"M€",null,null,null,null,{"$f":"($I$58-$H$58)*1000*I$74*8760*($F$79-I$84)/1000000","v":90.240970432913613},{"$f":"($I$58-$H$58)*1000*J$74*8760*($F$79-J$84)/1000000","v":93.504477473955077},{"$f":"($I$58-$H$58)*1000*K$74*8760*($F$79-K$84)/1000000","v":97.525493862726535},101.2889649497174,104.84475943522118,100.69185579673008,96.371363426360432,91.912833575032067,87.339255421070618,82.668781717634289,80.304613893268041,78.049717694276382,75.886821473348874,73.802111380347426,71.784407290175892,69.824563682699377,67.915026951262405,66.049503476648951,64.22270742725874,62.430166804169595]
[null,null,2022,"M€",null,null,null,null,null,{"$f":"AM107","v":90.397322138644185},94.339394682582068,98.034815686687921,101.53134448352108,97.352866615283745,93.009994125956553,88.531715042617748,83.940580387747332,79.25439693715748,76.921071390709585,74.693586727008892,72.555213567393821,70.492571767772006,68.494832219439786,66.553136539253728,64.660168277096091,62.809831411138475,60.997006066201266,59.217360648314298,null,null,null,2022,"M€",null,null,null,null,null,{"$f":"IF(BN107>0,BN107,0)","v":90.397322138644185},184.73671682122625,282.77153250791417,384.30287699143526,481.655743606719,574.66573773267555,663.1974527752933,747.13803316304063,826.39243010019811,903.3135014909077,978.00708821791659,1050.5623017853104,1121.0548735530824,1189.5497057725222,1256.1028423117759,1320.763010588872,1383.5728420000105,1444.5698480662118,{"$f":"IF(BD107+CF107>0,BD107+CF107,0)","v":1503.7872087145261},null,2022,"M€",null,null,null,null,null,{"$f":"($J$58-$I$58)*1000*J$74*8760*($G$79-J$84)/1000000","v":90.397322138644185},{"$f":"($J$58-$I$58)*1000*K$74*8760*($G$79-K$84)/1000000","v":94.339394682582068},98.034815686687935,101.53134448352105,97.352866615283745,93.009994125956567,88.531715042617719,83.940580387747318,79.254396937157438,76.921071390709571,74.693586727008849,72.555213567393892,70.492571767772091,68.494832219439772,66.553136539253728,64.660168277096076,62.809831411138589,60.997006066201322,59.217360648314276]
[null,null,2023,"M€",null,null,null,null,null,null,{"$f":"AN108","v":85.301479001055014},88.695981665605274,91.912580969293458,87.978418635624507,83.893404466389882,79.684138462642863,75.371313899579832,70.971270635518295,68.816601107684278,66.757767241838906,64.779621100464396,62.870047374869728,61.019240640398266,59.219179903737654,57.463240344476162,55.745902202457955,54.06252958827622,52.409200376899207,null,null,null,2023,"M€",null,null,null,null,null,null,{"$f":"IF(BO108>0,BO108,0)","v":85.301479001055014},173.99746066666029,265.91004163595375,353.88846027157825,437.78186473796814,517.466003200611,592.83731710019083,663.80858773570912,732.6251888433934,799.38295608523231,864.1625771856967,927.03262456056643,988.0518652009647,1047.2710451047024,1104.7342854491785,1160.4801876516365,1214.5427172399127,1266.9519176168119,null,2023,"M€",null,null,null,null,null,null,{"$f":"($K$58-$J$58)*1000*K$74*8760*($H$79-K$84)/1000000","v":85.301479001055014},{"$f":"($K$58-$J$58)*1000*L$74*8760*($H$79-L$84)/1000000","v":88.695981665605288},91.912580969293444,87.978418635624521,83.893404466389882,79.684138462642835,75.371313899579789,70.971270635518295,68.81660110768432,66.75776724183892,64.779621100464425,62.870047374869692,61.019240640398223,59.219179903737739,57.463240344476148,55.745902202458019,54.062529588276242,52.4092003768993]
[null,null,2024,"M€",null,null,null,null,null,null,null,{"$f":"AO109","v":85.650740750317183},88.811879076212008,84.853784315200699,80.747826775386443,76.520079391560898,72.190825411598269,67.77608092736142,65.650273679357383,63.617091595920328,61.66189419587306,59.77297203371279,57.940848166789806,56.157770305297618,54.417335560497577,52.714209084357663,51.043910289898804,49.402648443390035,null,null,null,2024,"M€",null,null,null,null,null,null,null,{"$f":"IF(BP109>0,BP109,0)","v":85.650740750317183},174.46261982652919,259.31640414172989,340.06423091711633,416.58431030867723,488.7751357202755,556.55121664763692,622.2014903269943,685.81858192291463,747.48047611878769,807.25344815250048,865.19429631929029,921.35206662458791,975.76940218508548,1028.4836112694431,1079.5275215593419,1128.930170002732,null,2024,"M€",null,null,null,null,null,null,null,{"$f":"($L$58-$K$58)*1000*L$74*8760*($I$79-L$84)/1000000","v":85.650740750317183},{"$f":"($L$58-$K$58)*1000*M$74*8760*($I$79-M$84)/1000000","v":88.811879076211994},84.853784315200699,80.747826775386457,76.52007939156087,72.190825411598283,67.776080927361434,65.650273679357426,63.617091595920307,61.661894195873074,59.772972033712783,57.940848166789806,56.157770305297603,54.417335560497584,52.714209084357663,51.04391028989869,49.402648443390042]
[null,null,2025,"M€",null,null,null,null,null,null,null,null,{"$f":"AP110","v":85.711177183133799},81.729149994779988,77.602249084386017,73.356020320481775,69.010336923619491,64.58089121920716,62.483946251033046,60.476415950004139,58.544167291284111,56.67589669255824,54.862455693183733,53.096360706859741,51.371430776521265,49.682515966259416,48.025290991523207,46.396096509882796,null,null,null,2025,"M€",null,null,null,null,null,null,null,null,{"$f":"IF(BQ110>0,BQ110,0)","v":85.711177183133799},167.44032717791379,245.0425762622998,318.39859658278158,387.40893350640107,451.98982472560823,514.47377097664128,574.95018692664542,633.49435421792953,690.17025091048777,745.0327066036715,798.12906731053124,849.50049808705251,899.18301405331192,947.20830504483513,993.60440155471792,null,2025,"M€",null,null,null,null,null,null,null,null,{"$f":"($M$58-$L$58)*1000*M$74*8760*($J$79-M$84)/1000000","v":85.711177183133799},{"$f":"($M$58-$L$58)*1000*N$74*8760*($J$79-N$84)/1000000","v":81.729149994779988},77.602249084386031,73.356020320481775,69.010336923619491,64.58089121920716,62.483946251033089,60.476415950004167,58.544167291284154,56.675896692558226,54.862455693183705,53.096360706859706,51.371430776521215,49.682515966259459,48.025290991523242,46.396096509882824]
[null,null,2026,"M€",null,null,null,null,null,null,null,null,null,{"$f":"AQ111","v":86.906432482469555},82.320508304199834,77.605375324807284,72.782552367655313,67.869031161775695,65.582525266016205,63.391328104004401,61.28037502534039,59.237617334305355,57.253303518899656,55.319456687221873,53.429488443765536,51.577909377385936,49.760109087945921,47.97218701523002,null,null,null,2026,"M€",null,null,null,null,null,null,null,null,null,{"$f":"IF(BR111>0,BR111,0)","v":86.906432482469555},169.22694078666939,246.83231611147667,319.61486847913199,387.48389964090768,453.06642490692388,516.45775301092829,577.73812803626868,636.97574537057403,694.22904888947369,749.54850557669556,802.9779940204611,854.55590339784703,904.31601248579295,952.28819950102297,null,2026,"M€",null,null,null,null,null,null,null,null,null,{"$f":"($N$58-$M$58)*1000*N$74*8760*($K$79-N$84)/1000000","v":86.906432482469555},{"$f":"($N$58-$M$58)*1000*O$74*8760*($K$79-O$84)/1000000","v":82.320508304199819},77.605375324807284,72.782552367655313,67.869031161775723,65.582525266016219,63.391328104004437,61.280375025340426,59.23761733430532,57.253303518899628,55.31945668722183,53.429488443765578,51.577909377385978,49.760109087945878,47.97218701522997]
[null,null,2027,"M€",null,null,null,null,null,null,null,null,null,null,{"$f":"AR112","v":78.842706388183444},74.107140094034207,69.266152506029215,64.336377391735908,62.081782102533396,59.918945968851233,57.833365392282872,55.813440406059044,53.849782673236064,51.93471238488371,50.061886516767572,48.226020099597463,46.42267443812932,44.648094240509749,null,null,null,2027,"M€",null,null,null,null,null,null,null,null,null,null,{"$f":"IF(BS112>0,BS112,0)","v":78.842706388183444},152.94984648221765,222.21599898824687,286.55237637998277,348.63415848251617,408.5531044513674,466.38646984365027,522.19991024970932,576.04969292294538,627.98440530782909,678.04629182459666,726.27231192419413,772.69498636232345,817.3430806028332,null,2027,"M€",null,null,null,null,null,null,null,null,null,null,{"$f":"($O$58-$N$58)*1000*O$74*8760*($L$79-O$84)/1000000","v":78.842706388183444},{"$f":"($O$58-$N$58)*1000*P$74*8760*($L$79-P$84)/1000000","v":74.107140094034193},69.266152506029215,64.336377391735894,62.08178210253341,59.918945968851226,57.833365392282843,55.813440406059058,53.849782673236078,51.934712384883674,50.061886516767551,48.226020099597442,46.422674438129313,44.6480942405097]
[null,null,2028,"M€",null,null,null,null,null,null,null,null,null,null,null,{"$f":"AS113","v":70.608904863280571},65.749752644421193,60.803723621712777,58.581038939066701,56.446563833713498,54.386355759240189,52.389263477827228,50.446261827586397,48.549968082558792,46.694284589782342,44.874130821821154,43.085239788324543,41.324001465800734,null,null,null,2028,"M€",null,null,null,null,null,null,null,null,null,null,null,{"$f":"IF(BT113>0,BT113,0)","v":70.608904863280571},136.35865750770176,197.16238112941454,255.74342006848124,312.18998390219474,366.57633966143493,418.96560313926216,469.41186496684855,517.96183304940735,564.65611763918969,609.53024846101084,652.61548824933539,693.93948971513612,null,2028,"M€",null,null,null,null,null,null,null,null,null,null,null,{"$f":"($P$58-$O$58)*1000*P$74*8760*($M$79-P$84)/1000000","v":70.608904863280571},{"$f":"($P$58-$O$58)*1000*Q$74*8760*($M$79-Q$84)/1000000","v":65.749752644421207},{"$f":"($P$58-$O$58)*1000*R$74*8760*($M$79-R$84)/1000000","v":60.803723621712777},58.581038939066708,56.446563833713526,54.386355759240189,52.3892634778272,50.446261827586383,48.549968082558834,46.694284589782349,44.874130821821183,43.085239788324564,41.324001465800734]
[null,null,2029,"M€",null,null,null,null,null,null,null,null,null,null,null,null,{"$f":"AT114","v":58.791937192332504},53.813746953734373,51.654203017342766,49.575845193561122,47.565841076001163,45.613927315975047,43.711797357303283,41.852656304924778,40.030892016085488,38.24182848750803,36.4815384771656,34.746699400564182,null,null,null,2029,"M€",null,null,null,null,null,null,null,null,null,null,null,null,{"$f":"IF(BU114>0,BU114,0)","v":58.791937192332504},112.60568414606688,164.25988716340964,213.83573235697077,261.40157343297193,307.01550074894698,350.72729810625026,392.57995441117504,432.61084642726053,470.85267491476856,507.33421339193416,542.08091279249834,null,2029,"M€",null,null,null,null,null,null,null,null,null,null,null,null,{"$f":"($Q$58-$P$58)*1000*Q$74*8760*($N$79-Q$84)/1000000","v":58.791937192332504},{"$f":"($Q$58-$P$58)*1000*R$74*8760*($N$79-R$84)/1000000","v":53.813746953734373},51.654203017342766,49.575845193561122,47.565841076001149,45.613927315975069,43.711797357303261,41.852656304924786,40.030892016085467,38.241828487508045,36.481538477165586,34.746699400564196]
[null,null,2030,"M€",null,null,null,null,null,null,null,null,null,null,null,null,null,{"$f":"AU115","v":46.823770285809061},44.727367095669734,42.705126553457475,40.745326392808835,38.838591154167688,36.977332887062914,35.155344527331579,33.367499442427572,31.609526153232082,29.877837166041957,28.169397335361225,null,null,null,2030,"M€",null,null,null,null,null,null,null,null,null,null,null,null,null,{"$f":"IF(BV115>0,BV115,0)","v":46.823770285809061},91.551137381478796,134.25626393493627,175.00159032774511,213.84018148191279,250.81751436897571,285.97285889630729,319.34035833873486,350.94988449196694,380.8277216580089,408.99711899337012,null,2030,"M€",null,null,null,null,null,null,null,null,null,null,null,null,null,{"$f":"($R$58-$Q$58)*1000*R$74*8760*($O$79-R$84)/1000000","v":46.823770285809061},{"$f":"($R$58-$Q$58)*1000*S$74*8760*($O$79-S$84)/1000000","v":44.727367095669734},42.705126553457482,40.745326392808828,38.838591154167673,36.9773328870629,35.155344527331593,33.367499442427594,31.609526153232061,29.877837166041967,28.169397335361236]
[null,null,2031,"M€",null,null,null,null,null,null,null,null,null,null,null,null,null,null,{"$f":"AV116","v":44.976085434703606},42.636739266820186,40.364650506750721,38.149720415649966,35.983775662950023,33.860130334258969,31.773262297789017,29.718570546853925,27.692190826928595,25.690853843154571,null,null,null,2031,"M€",null,null,null,null,null,null,null,null,null,null,null,null,null,null,{"$f":"IF(BW116>0,BW116,0)","v":44.976085434703606},87.612824701523792,127.97747520827451,166.12719562392448,202.1109712868745,235.97110162113347,267.74436391892249,297.46293446577641,325.15512529270501,350.84597913585958,null,2031,"M€",null,null,null,null,null,null,null,null,null,null,null,null,null,null,{"$f":"($S$58-$R$58)*1000*S$74*8760*($P$79-S$84)/1000000","v":44.976085434703606},{"$f":"($S$58-$R$58)*1000*T$74*8760*($P$79-T$84)/1000000","v":42.636739266820186},{"$f":"($S$58-$R$58)*1000*U$74*8760*($P$79-U$84)/1000000","v":40.364650506750728},38.149720415649952,35.983775662950023,33.860130334258983,31.773262297788992,29.718570546853925,27.692190826928606,25.690853843154571]
[null,null,2032,"M€",null,null,null,null,null,null,null,null,null,null,null,null,null,null,null,{"$f":"AW117","v":34.461774022707516},32.249419276555827,30.08824380145002,27.970929283160288,25.891489224257029,23.844979166014639,21.827279415436038,19.834929959660627,17.865003506455906,null,null,null,2032,"M€",null,null,null,null,null,null,null,null,null,null,null,null,null,null,null,{"$f":"IF(BX117>0,BX117,0)","v":34.461774022707516},66.711193299263343,96.799437100713362,124.77036638387365,150.66185560813068,174.50683477414532,196.33411418958136,216.16904414924198,234.03404765569789,null,2032,"M€",null,null,null,null,null,null,null,null,null,null,null,null,null,null,null,{"$f":"($T$58-$S$58)*1000*T$74*8760*($Q$79-T$84)/1000000","v":34.461774022707516},{"$f":"($T$58-$S$58)*1000*U$74*8760*($Q$79-U$84)/1000000","v":32.249419276555827},30.088243801450023,27.970929283160292,25.891489224257036,23.844979166014625,21.827279415436042,19.834929959660634,17.865003506455899]
[null,null,2033,"M€",null,null,null,null,null,null,null,null,null,null,null,null,null,null,null,null,{"$f":"AX118","v":24.134188046353479},22.02676718724296,19.958082903363731,17.92284811424858,15.916696034234022,13.935988284012211,11.977669092387004,10.039153169751856,null,null,null,2033,"M€",null,null,null,null,null,null,null,null,null,null,null,null,null,null,null,null,{"$f":"IF(BY118>0,BY118,0)","v":24.134188046353479},46.160955233596439,66.119038136960171,84.041886251208751,99.958582285442773,113.89457056945498,125.87223966184199,135.91139283159384,null,2033,"M€",null,null,null,null,null,null,null,null,null,null,null,null,null,null,null,null,{"$f":"($U$58-$T$58)*1000*U$74*8760*($R$79-U$84)/1000000","v":24.134188046353479},{"$f":"($U$58-$T$58)*1000*V$74*8760*($R$79-V$84)/1000000","v":22.026767187242964},19.958082903363735,17.922848114248573,15.916696034234024,13.935988284012213,11.977669092387007,10.039153169751849]
[null,null,2034,"M€",null,null,null,null,null,null,null,null,null,null,null,null,null,null,null,null,null,{"$f":"AY119","v":16.969283832171573},14.931108425617737,12.923606448598779,10.942773526959265,8.9852732404601028,7.0483034247302498,5.1294933504318152,null,null,null,2034,"M€",null,null,null,null,null,null,null,null,null,null,null,null,null,null,null,null,null,{"$f":"IF(BZ119>0,BZ119,0)","v":16.969283832171573},31.90039225778931,44.823998706388089,55.766772233347353,64.752045473807456,71.800348898537706,76.929842248969521,null,2034,"M€",null,null,null,null,null,null,null,null,null,null,null,null,null,null,null,null,null,{"$f":"($V$58-$U$58)*1000*V$74*8760*($S$79-V$84)/1000000","v":16.969283832171573},{"$f":"($V$58-$U$58)*1000*W$74*8760*($S$79-W$84)/1000000","v":14.931108425617737},{"$f":"($V$58-$U$58)*1000*X$74*8760*($S$79-X$84)/1000000","v":12.923606448598777},10.942773526959261,8.985273240460101,7.0483034247302481,5.1294933504318116]
[null,null,2035,"M€",null,null,null,null,null,null,null,null,null,null,null,null,null,null,null,null,null,null,{"$f":"AZ120","v":9.9041339478728272},7.9243647829502084,5.9688510196858608,4.0345581969094866,2.1189377570751198,0.2198335311135402,null,null,null,2035,"M€",null,null,null,null,null,null,null,null,null,null,null,null,null,null,null,null,null,null,{"$f":"IF(CA120>0,CA120,0)","v":9.9041339478728272},17.828498730823036,23.797349750508896,27.831907947418383,29.950845704493503,30.170679235607043,null,2035,"M€",null,null,null,null,null,null,null,null,null,null,null,null,null,null,null,null,null,null,{"$f":"($W$58-$V$58)*1000*W$74*8760*($T$79-W$84)/1000000","v":9.9041339478728272},{"$f":"($W$58-$V$58)*1000*X$74*8760*($T$79-X$84)/1000000","v":7.9243647829502084},5.9688510196858608,4.0345581969094857,2.1189377570751211,0.21983353111354054]
[null,null,2036,"M€",null,null,null,null,null,null,null,null,null,null,null,null,null,null,null,null,null,null,null,{"$f":"BA121","v":2.9251231173017946},0.99492851241219116,-0.91615684664182284,-2.8104279105811178,-0.19346687249104511,null,null,null,2036,"M€",null,null,null,null,null,null,null,null,null,null,null,null,null,null,null,null,null,null,null,{"$f":"IF(CB121>0,CB121,0)","v":2.9251231173017946},3.9200516297139858,3.003894783072163,0.19346687249104511,0,null,2036,"M€",null,null,null,null,null,null,null,null,null,null,null,null,null,null,null,null,null,null,null,{"$f":"($X$58-$W$58)*1000*X$74*8760*($U$79-X$84)/1000000","v":2.9251231173017946},{"$f":"($X$58-$W$58)*1000*Y$74*8760*($U$79-Y$84)/1000000","v":0.99492851241219105},-0.91615684664182284,-2.8104279105811178,-4.6898262882062589]
[null,null,2037,"M€",null,null,null,null,null,null,null,null,null,null,null,null,null,null,null,null,null,null,null,null,{"$f":"BB122","v":0},{"$f":"BC122-BB122","v":0},0,0,null,null,null,2037,"M€",null,null,null,null,null,null,null,null,null,null,null,null,null,null,null,null,null,null,null,null,{"$f":"IF(CC122>0,CC122,0)","v":0},{"$f":"IF(BB122+CD122>0,BB122+CD122,0)","v":0},0,0,null,2037,"M€",null,null,null,null,null,null,null,null,null,null,null,null,null,null,null,null,null,null,null,null,{"$f":"($Y$58-$X$58)*1000*Y$74*8760*($V$79-Y$84)/1000000","v":-3.9789939948608395},{"$f":"($Y$58-$X$58)*1000*Z$74*8760*($V$79-Z$84)/1000000","v":-5.8668718901920718},-7.7397935782358793,-9.5994861075241662]
[null,null,2038,"M€",null,null,null,null,null,null,null,null,null,null,null,null,null,null,null,null,null,null,null,null,null,{"$f":"BC123","v":0},0,0,null,null,null,2038,"M€",null,null,null,null,null,null,null,null,null,null,null,null,null,null,null,null,null,null,null,null,null,{"$f":"IF(CD123>0,CD123,0)","v":0},0,0,null,2038,"M€",null,null,null,null,null,null,null,null,null,null,null,null,null,null,null,null,null,null,null,null,null,{"$f":"($Z$58-$Y$58)*1000*Z$74*8760*($W$79-Z$84)/1000000","v":-10.81758693373928},{"$f":"($Z$58-$Y$58)*1000*AA$74*8760*($W$79-AA$84)/1000000","v":-12.669159245887064},-14.509145926837965]
[null,null,2039,"M€",null,null,null,null,null,null,null,null,null,null,null,null,null,null,null,null,null,null,null,null,null,null,{"$f":"BD124","v":0},0,null,null,null,2039,"M€",null,null,null,null,null,null,null,null,null,null,null,null,null,null,null,null,null,null,null,null,null,null,{"$f":"IF(CE124>0,CE124,0)","v":0},0,null,2039,"M€",null,null,null,null,null,null,null,null,null,null,null,null,null,null,null,null,null,null,null,null,null,null,{"$f":"($AA$58-$Z$58)*1000*AA$74*8760*($X$79-AA$84)/1000000","v":-17.457718142788135},{"$f":"($AA$58-$Z$58)*1000*AB$74*8760*($X$79-AB$84)/1000000","v":-19.278561870723891}]
[null,null,2040,"M€",null,null,null,null,null,null,null,null,null,null,null,null,null,null,null,null,null,null,null,null,null,null,null,{"$f":"BE125","v":0},null,null,null,2040,"M€",null,null,null,null,null,null,null,null,null,null,null,null,null,null,null,null,null,null,null,null,null,null,null,{"$f":"IF(CF125>0,CF125,0)","v":0},null,2040,"M€",null,null,null,null,null,null,null,null,null,null,null,null,null,null,null,null,null,null,null,null,null,null,null,{"$f":"($AB$58-$AA$58)*1000*AB$74*8760*($Y$79-AB$84)/1000000","v":-24.04797781460729}]
[null,null,"Total","M€",null,{"$f":"SUM(F106:F125)","v":0},{"$f":"SUM(G106:G125)","v":0},0,90.240970432913613,183.90179961259926,277.16636754636363,373.67050305232777,472.81174114738155,539.51250784008857,592.78805257086265,632.32620707445744,654.44270675405369,658.89807085164637,681.77950817738474,692.73090215216394,691.98723910369779,682.74045417410912,665.0882924970407,639.11071114638423,608.85274347577706,579.11688991743699,549.84044647096619,{"$f":"SUM(AB106:AB125)","v":525.4667227685386},null,null,null,"Total","M€",null,{"$f":"SUM(AI106:AI125)","v":0},{"$f":"SUM(AJ106:AJ125)","v":0},0,90.240970432913613,274.14277004551286,551.30913759187649,924.97964064420432,1397.7913817915858,1937.3038896316743,2530.0919422025372,3162.4181492769944,3816.8608560310486,4475.7589268826941,5157.5384350600789,5850.269337212243,6542.2565763159409,7224.9970304900507,7890.0853229870918,8529.1960341334761,9138.0487776092505,9717.1656675266895,10267.006113997657,{"$f":"SUM(BE106:BE125)","v":10792.472836766194},null,"Total","M€",null,{"$f":"SUM(BJ106:BJ125)","v":0},{"$f":"SUM(BK106:BK125)","v":0},0,90.240970432913613,183.90179961259926,277.16636754636363,373.67050305232783,472.81174114738144,539.51250784008857,592.78805257086265,632.32620707445733,654.44270675405369,658.89807085164637,681.77950817738486,692.73090215216416,691.98723910369802,682.74045417410912,665.08829249704036,639.11071114638423,604.87374948091622,562.43243109350601,511.97377550405503,{"$f":"SUM(CF106:CF125)","v":453.53519163312995}]
[null,null,{"$f":"C7","v":"Eolien en mer"}]
[null,null,2025,"M€",null,null,null,null,null,null,null,null,{"$f":"($M$59-3)*1000*M$75*8760*($F$80-M$85)/1000000","v":8.8744197262916426E-4},{"$f":"($M$59-3)*1000*N$75*8760*($F$80-N$85)/1000000","v":-1.3261570071992279},-2.6278190802229213,-3.9151584717540269,-5.1936244509555634,-6.4662130708017145,-7.5828651210131293,-8.6432792110026746,-9.6674267718724565,-10.666823715713848,-11.648577005415991,-12.617310336522294,-13.576161612724512,-14.527335376790456,-15.472425822874168,-16.412614348959494]
[null,null,2026,"M€",null,null,null,null,null,null,null,null,null,{"$f":"IF(Start!$D$3=\"PPE - AMPERE\",0.2*1000*N$75*8760*($G$80-N$85)/1000000+($N$59-$M$59+0.2)*1000*N$75*8760*($H$80-N$85)/1000000,($N$59-$M$59)*1000*N$75*8760*($G$80-N$85)/1000000)","v":32.207408068569094},{"$f":"IF(Start!$D$3=\"PPE - AMPERE\",0.2*1000*O$75*8760*($G$80-O$85)/1000000+($N$59-$M$59+0.2)*1000*O$75*8760*($H$80-O$85)/1000000,($N$59-$M$59)*1000*O$75*8760*($G$80-O$85)/1000000)","v":27.892931779519643},{"$f":"IF(Start!$D$3=\"PPE - AMPERE\",0.2*1000*P$75*8760*($G$80-P$85)/1000000+($N$59-$M$59+0.2)*1000*P$75*8760*($H$80-P$85)/1000000,($N$59-$M$59)*1000*P$75*8760*($G$80-P$85)/1000000)","v":23.722802465469425},{"$f":"IF(Start!$D$3=\"PPE - AMPERE\",0.2*1000*Q$75*8760*($G$80-Q$85)/1000000+($N$59-$M$59+0.2)*1000*Q$75*8760*($H$80-Q$85)/1000000,($N$59-$M$59)*1000*Q$75*8760*($G$80-Q$85)/1000000)","v":19.642101253864084},{"$f":"IF(Start!$D$3=\"PPE - AMPERE\",0.2*1000*R$75*8760*($G$80-R$85)/1000000+($N$59-$M$59+0.2)*1000*R$75*8760*($H$80-R$85)/1000000,($N$59-$M$59)*1000*R$75*8760*($G$80-R$85)/1000000)","v":15.620633297178532},{"$f":"IF(Start!$D$3=\"PPE - AMPERE\",0.2*1000*S$75*8760*($G$80-S$85)/1000000+($N$59-$M$59+0.2)*1000*S$75*8760*($H$80-S$85)/1000000,($N$59-$M$59)*1000*S$75*8760*($G$80-S$85)/1000000)","v":14.648362234581857},{"$f":"IF(Start!$D$3=\"PPE - AMPERE\",0.2*1000*T$75*8760*($G$80-T$85)/1000000+($N$59-$M$59+0.2)*1000*T$75*8760*($H$80-T$85)/1000000,($N$59-$M$59)*1000*T$75*8760*($G$80-T$85)/1000000)","v":13.19454155756253},{"$f":"IF(Start!$D$3=\"PPE - AMPERE\",0.2*1000*U$75*8760*($G$80-U$85)/1000000+($N$59-$M$59+0.2)*1000*U$75*8760*($H$80-U$85)/1000000,($N$59-$M$59)*1000*U$75*8760*($G$80-U$85)/1000000)","v":11.430180934843715},{"$f":"IF(Start!$D$3=\"PPE - AMPERE\",0.2*1000*V$75*8760*($G$80-V$85)/1000000+($N$59-$M$59+0.2)*1000*V$75*8760*($H$80-V$85)/1000000,($N$59-$M$59)*1000*V$75*8760*($G$80-V$85)/1000000)","v":9.4538878373365609},{"$f":"IF(Start!$D$3=\"PPE - AMPERE\",0.2*1000*W$75*8760*($G$80-W$85)/1000000+($N$59-$M$59+0.2)*1000*W$75*8760*($H$80-W$85)/1000000,($N$59-$M$59)*1000*W$75*8760*($G$80-W$85)/1000000)","v":7.3265171613727942},{"$f":"IF(Start!$D$3=\"PPE - AMPERE\",0.2*1000*X$75*8760*($G$80-X$85)/1000000+($N$59-$M$59+0.2)*1000*X$75*8760*($H$80-X$85)/1000000,($N$59-$M$59)*1000*X$75*8760*($G$80-X$85)/1000000)","v":5.0876602932225943},{"$f":"IF(Start!$D$3=\"PPE - AMPERE\",0.2*1000*Y$75*8760*($G$80-Y$85)/1000000+($N$59-$M$59+0.2)*1000*Y$75*8760*($H$80-Y$85)/1000000,($N$59-$M$59)*1000*Y$75*8760*($G$80-Y$85)/1000000)","v":2.7641862072628856},{"$f":"IF(Start!$D$3=\"PPE - AMPERE\",0.2*1000*Z$75*8760*($G$80-Z$85)/1000000+($N$59-$M$59+0.2)*1000*Z$75*8760*($H$80-Z$85)/1000000,($N$59-$M$59)*1000*Z$75*8760*($G$80-Z$85)/1000000)","v":0.37497177450157793},{"$f":"IF(Start!$D$3=\"PPE - AMPERE\",0.2*1000*AA$75*8760*($G$80-AA$85)/1000000+($N$59-$M$59+0.2)*1000*AA$75*8760*($H$80-AA$85)/1000000,($N$59-$M$59)*1000*AA$75*8760*($G$80-AA$85)/1000000)","v":-2.0663323751965468},{"$f":"IF(Start!$D$3=\"PPE - AMPERE\",0.2*1000*AB$75*8760*($G$80-AB$85)/1000000+($N$59-$M$59+0.2)*1000*AB$75*8760*($H$80-AB$85)/1000000,($N$59-$M$59)*1000*AB$75*8760*($G$80-AB$85)/1000000)","v":-4.5496102678184878}]
[null,null,2027,"M€",null,null,null,null,null,null,null,null,null,null,{"$f":"($O$59-$N$59)*1000*O$75*8760*($I$80-O$85)/1000000","v":23.157936907663188},{"$f":"($O$59-$N$59)*1000*P$75*8760*($I$80-P$85)/1000000","v":20.263422377363099},17.437310159841314,14.656504635843447,14.257526373278511,13.455071471981105,12.392424038636099,11.152204450720209,9.7854012840454985,8.3251870279600997,6.7940744270355236,5.2078798711838257,3.5780408324530644,1.9130331959230749]
[null,null,2028,"M€",null,null,null,null,null,null,null,null,null,null,null,{"$f":"($P$59-$O$59)*1000*P$75*8760*($K$80-P$85)/1000000","v":18.426578609063842},{"$f":"($P$59-$O$59)*1000*Q$75*8760*($K$80-Q$85)/1000000","v":15.609921951120915},12.836443579098916,12.312203621962503,11.418124435056255,10.285544684780104,8.990196777513761,7.5788184269069276,6.0818165679152596,4.5198270820570094,2.9073477640032639,1.2548625561849032,-0.42985928164749343]
[null,null,2029,"M€",null,null,null,null,null,null,null,null,null,null,null,null,{"$f":"($Q$59-$P$59)*1000*Q$75*8760*($L$80-Q$85)/1000000","v":14.696227846748748},{"$f":"($Q$59-$P$59)*1000*R$75*8760*($L$80-R$85)/1000000","v":11.926413050716832},11.339542246295094,10.399650916585127,9.2321050078442823,7.9091929409037229,6.475526998331925,4.9601313378882885,3.3827034095644124,1.7570817104108936,9.3273418050015489E-2,-1.6013055204322779]
[null,null,2030,"M€",null,null,null,null,null,null,null,null,null,null,null,null,null,{"$f":"($R$59-$Q$59)*1000*R$75*8760*($M$80-R$85)/1000000","v":11.016382522345848},{"$f":"($R$59-$Q$59)*1000*S$75*8760*($M$80-S$85)/1000000","v":10.366880870638253},9.3811773981237021,8.1786653309170951,6.8281891043011003,5.372235569763018,3.8384461078660137,2.2455797370750603,0.60681565682027161,-1.0683157200846574,-2.7727517592184094]
[null,null,2031,"M€",null,null,null,null,null,null,null,null,null,null,null,null,null,null,{"$f":"($S$59-$R$59)*1000*S$75*8760*($N$80-S$85)/1000000","v":15.321633548279086},{"$f":"($S$59-$R$59)*1000*T$75*8760*($N$80-T$85)/1000000","v":13.639268742379841},11.620986339264006,9.3734521162486928,6.9624940959046961,4.4309391142978285,1.8078519066975118,-0.88634801810255692,-3.6368944863842265,-6.4328448360808483]
[null,null,2032,"M€",null,null,null,null,null,null,null,null,null,null,null,null,null,null,null,{"$f":"($T$59-$S$59)*1000*T$75*8760*($O$80-T$85)/1000000","v":11.978175126578035},{"$f":"($T$59-$S$59)*1000*U$75*8760*($O$80-U$85)/1000000","v":9.902864178740149},7.6103738043561373,5.1630655244768242,2.6015109153786327,-4.6755835679837834E-2,-2.762390510571211,-5.5314045218036174,-8.3434314475375313]
[null,null,2033,"M€",null,null,null,null,null,null,null,null,null,null,null,null,null,null,null,null,{"$f":"($U$59-$T$59)*1000*U$75*8760*($P$80-U$85)/1000000","v":8.1847420182147577},{"$f":"($U$59-$T$59)*1000*V$75*8760*($P$80-V$85)/1000000","v":5.8472954924622345},3.363636953047811,0.77208271645851656,-1.9013635780578779,-4.6384330030403182,-7.4259145572232192,-10.254018058994177]
[null,null,2034,"M€",null,null,null,null,null,null,null,null,null,null,null,null,null,null,null,null,null,{"$f":"($V$59-$U$59)*1000*V$75*8760*($Q$80-V$85)/1000000","v":4.0842171805688325},{"$f":"($V$59-$U$59)*1000*W$75*8760*($Q$80-W$85)/1000000","v":1.5642083816193095},-1.0573454824610795,-3.7559713204353908,-6.5144754955088926,-9.3204245926422828,-12.164604670450281]
[null,null,2035,"M€",null,null,null,null,null,null,null,null,null,null,null,null,null,null,null,null,null,null,{"$f":"($W$59-$V$59)*1000*W$75*8760*($R$80-W$85)/1000000","v":-0.23522018980919232},{"$f":"($W$59-$V$59)*1000*X$75*8760*($R$80-X$85)/1000000","v":-2.8867736813806757},-5.6105790628129038,-8.3905179879774678,-11.214934628061346,-14.075191281906385]
[null,null,2036,"M€",null,null,null,null,null,null,null,null,null,null,null,null,null,null,null,null,null,null,null,{"$f":"($X$59-$W$59)*1000*X$75*8760*($S$80-X$85)/1000000","v":-4.7162018803002717},{"$f":"($X$59-$W$59)*1000*Y$75*8760*($S$80-Y$85)/1000000","v":-7.4651868051904167},-10.26656048044604,-13.109444663480408,-15.985777893362489]
[null,null,2037,"M€",null,null,null,null,null,null,null,null,null,null,null,null,null,null,null,null,null,null,null,null,{"$f":"($Y$59-$X$59)*1000*Y$75*8760*($T$80-Y$85)/1000000","v":-9.3197945475649799},{"$f":"($Y$59-$X$59)*1000*Z$75*8760*($T$80-Z$85)/1000000","v":-12.142602972910771},-15.003954698894722,-17.896364504812919]
[null,null,2038,"M€",null,null,null,null,null,null,null,null,null,null,null,null,null,null,null,null,null,null,null,null,null,{"$f":"($Z$59-$Y$59)*1000*Z$75*8760*($U$80-Z$85)/1000000","v":-14.018645465388166},{"$f":"($Z$59-$Y$59)*1000*AA$75*8760*($U$80-AA$85)/1000000","v":-16.898464734324428},-19.80695111628151]
[null,null,2039,"M€",null,null,null,null,null,null,null,null,null,null,null,null,null,null,null,null,null,null,null,null,null,null,{"$f":"($AA$59-$Z$59)*1000*AA$75*8760*($V$80-AA$85)/1000000","v":-18.79297476973219},{"$f":"($AA$59-$Z$59)*1000*AB$75*8760*($V$80-AB$85)/1000000","v":-21.717537727724455}]
[null,null,2040,"M€",null,null,null,null,null,null,null,null,null,null,null,null,null,null,null,null,null,null,null,null,null,null,null,{"$f":"($AB$59-$AA$59)*1000*AB$75*8760*($W$80-AB$85)/1000000","v":-23.628124339192823}]
[null,null,"Total","M€",null,{"$f":"SUM(F128:F143)","v":0},{"$f":"SUM(G128:G143)","v":0},0,0,0,0,0,{"$f":"SUM(M128:M143)","v":8.8744197262916426E-4},{"$f":"SUM(N128:N143)","v":30.881251061369866},48.423049606959907,58.49764498014234,62.191936760619498,59.590164014381863,70.663283774022176,74.822730437263914,71.560085761367759,60.582185988697411,41.708107200243617,14.820142700322911,-20.161589992773514,-63.293212533816053,-114.61530876401383,-174.15795385849651]
[null,null,{"$f":"'Données de production'!C8","v":"PV au sol"},null,null,null,null,null,null,null,null,null,null,null,null,null,null,null,null,null,null,null,null,null,null,null,null,null,null,null,null,{"$f":"C145","v":"PV au sol"},null,null,null,null,null,null,null,null,null,null,null,null,null,null,null,null,null,null,null,null,null,null,null,null,null,null,{"$f":"AF145","v":"PV au sol"}]
[null,null,2020,"M€",null,null,null,{"$f":"AK146","v":32.220226162647918},{"$f":"AL146-AK146","v":32.378888702343801},{"$f":"AM146-AL146","v":32.546357903890225},32.795592063675684,33.031292761795783,33.258271529295115,31.812172533163022,30.35890029342761,28.900171850804782,27.437196735091902,25.97085157113446,24.940625348038338,23.910655937194917,22.880918963142108,21.851393040623975,20.822059329714193,19.792901168066578,18.763903765139389,{"$f":"BC146-BB146","v":17.735053946529774},16.706339939105533,0,null,null,null,2020,"M€",null,null,null,{"$f":"IF(BL146>0,BL146,0)","v":32.220226162647918},{"$f":"IF(AK146+BM146>0,AK146+BM146,0)","v":64.599114864991719},{"$f":"IF(AL146+BN146>0,AL146+BN146,0)","v":97.145472768881945},129.94106483255763,162.97235759435341,196.23062912364853,228.04280165681155,258.40170195023916,287.30187380104394,314.73907053613584,340.7099221072703,365.65054745530864,389.56120339250356,412.44212235564567,434.29351539626964,455.11557472598383,474.90847589405041,493.6723796591898,{"$f":"IF(BB146+CD146>0,BB146+CD146,0)","v":511.40743360571958},528.11377354482511,528.11377354482511,null,2020,"M€",null,null,null,{"$f":"($H$60-$G$60)*1000*H$76*8760*($F$81-H$86)/1000000","v":32.220226162647918},{"$f":"($H$60-$G$60)*1000*I$76*8760*($F$81-I$86)/1000000","v":32.378888702343794},32.546357903890218,32.79559206367567,33.03129276179579,33.258271529295122,31.812172533163007,30.358900293427617,28.90017185080481,27.437196735091909,25.970851571134435,24.940625348038353,23.910655937194939,22.880918963142125,21.851393040624004,20.822059329714207,19.792901168066571,18.763903765139379,17.735053946529789,16.706339939105561]
[null,null,2021,"M€",null,null,null,null,{"$f":"AL147","v":29.446251095561053},29.616383691531077,29.860932614939138,30.093207863335707,30.317573077732149,28.868902876617256,27.413505317142466,25.952990709629347,24.488493400106563,23.020835522856657,21.990818607337701,20.961044826994453,19.93149110453129,18.902137193609178,17.872965257661633,16.843959521730881,15.815105982976547,14.786392168626378,13.757806932551091,12.729340283448551,null,null,null,2021,"M€",null,null,null,null,{"$f":"IF(BM147>0,BM147,0)","v":29.446251095561053},59.062634787092129,88.923567402031267,119.01677526536697,149.33434834309912,178.20325121971638,205.61675653685884,231.56974724648819,256.05824064659475,279.07907616945141,301.06989477678911,322.03093960378357,341.96243070831486,360.86456790192403,378.73753315958567,395.58149268131655,411.39659866429309,426.18299083291947,439.94079776547056,452.67013804891911,null,2021,"M€",null,null,null,null,{"$f":"($I$60-$H$60)*1000*I$76*8760*($G$81-I$86)/1000000","v":29.446251095561053},{"$f":"($I$60-$H$60)*1000*J$76*8760*($G$81-J$86)/1000000","v":29.616383691531077},{"$f":"($I$60-$H$60)*1000*K$76*8760*($G$81-K$86)/1000000","v":29.860932614939145},30.093207863335707,30.317573077732135,28.868902876617248,27.413505317142459,25.952990709629354,24.48849340010656,23.020835522856657,21.990818607337694,20.961044826994446,19.931491104531304,18.9021371936092,17.872965257661654,16.843959521730888,15.815105982976569,14.786392168626401,13.757806932551107,12.729340283448536]
[null,null,2022,"M€",null,null,null,null,null,{"$f":"($J$60-$I$60)*1000*J$76*8760*($H$81-J$86)/1000000","v":26.686409479172472},26.926273166203163,27.155122964876167,27.376874626169673,25.92563322007204,24.468110340857859,23.005809568454453,21.539790065121778,20.070819474579434,19.041011866637611,18.011433716794524,16.982063245921058,15.952881346594987,14.923871185609697,13.895017875395801,12.866308200814357,11.837730390723619,10.809273925997262,9.7809293773735533]
[null,null,2023,"M€",null,null,null,null,null,null,{"$f":"($K$60-$J$60)*1000*K$76*8760*($I$81-K$86)/1000000","v":36.962792723970516},37.310093809394708,37.647709968372602,35.407886718645244,33.159072842963404,30.903420404142171,28.642445373280761,26.377246473150326,24.79099100015452,23.205067971206677,21.619445832215213,20.034096899917621,18.448996785985944,16.864123920975345,15.279459158495614,13.694985444252151,12.110687537898475,10.52655177810829]
[null,null,2024,"M€",null,null,null,null,null,null,null,{"$f":"($L$60-$K$60)*1000*L$76*8760*($J$81-L$86)/1000000","v":32.783519466110874},33.117109042185398,30.873324453386441,28.621236193834235,26.362831891659017,24.099511685732512,21.832290347683276,20.246357345393012,18.660735715497619,17.075395903931838,15.490311982110745,13.905461107537505,12.320823077926402,10.736379960463061,9.1521157818232979,7.5680162676556924,5.9840686225441644]
[null,null,2025,"M€",null,null,null,null,null,null,null,null,{"$f":"($M$60-$L$60)*1000*M$76*8760*($K$81-M$86)/1000000","v":28.586508116012389},26.338762188140954,24.083399544717519,21.822243379187437,19.556577998194978,17.287334222226065,15.701723690640728,14.116403459797178,12.531345975656468,10.946527064311262,9.3619254290958533,7.7775222348836275,6.1933007624360688,4.609246119399395,3.0253449974172439,1.4415854669837638]
[null,null,2026,"M€",null,null,null,null,null,null,null,null,null,{"$f":"($N$60-$M$60)*1000*N$76*8760*($L$81-N$86)/1000000","v":19.299934849562536},17.300707745162974,15.296815026448563,13.289290965724494,11.278885167342697,9.8756712727271019,8.4726956855885014,7.0699357868543968,5.6673717321977737,4.2649860392151462,2.8627632461773103,1.4606896282844368,5.8752960423926581E-2,-1.3430576822154909,-2.744752092548743]
[null,null,2027,"M€",null,null,null,null,null,null,null,null,null,null,{"$f":"($O$60-$N$60)*1000*O$76*8760*($M$81-O$86)/1000000","v":13.284052605529078},11.277724081618798,9.2681241948546074,7.2559282404374947,5.8529997799867735,4.4502909754902644,3.0477809781939196,1.6454514969193532,0.24328641755175975,-1.1587285115004859,-2.5606059408434803,-3.9623571387714804,-5.3639921750475663,-6.7655200761283236]
[null,null,2028,"M€",null,null,null,null,null,null,null,null,null,null,null,{"$f":"($P$60-$O$60)*1000*P$76*8760*($N$81-P$86)/1000000","v":9.9281668680858992},7.9178699465830462,5.9050728816103719,4.5022402661508609,3.0996210437126082,1.6971949599909271,0.29494424533405689,-1.1071467549196923,-2.5090918860138625,-3.9109034378546021,-5.3125923574493106,-6.7141684274472722,-8.1156404169385716]
[null,null,2029,"M€",null,null,null,null,null,null,null,null,null,null,null,null,{"$f":"($Q$60-$P$60)*1000*Q$76*8760*($O$81-Q$86)/1000000","v":6.5676156983125757},4.5542175227843424,3.1514807523160404,1.7489511119360428,0.34660894178902607,-1.0555630062501482,-2.4575799273900532,-3.8594552605261487,-5.2612009348646325,-6.6628275761260491,-8.0643446798458882,-9.4657607577477307]
[null,null,2030,"M€",null,null,null,null,null,null,null,null,null,null,null,null,null,{"$f":"($R$60-$Q$60)*1000*R$76*8760*($P$81-R$86)/1000000","v":3.2033621639584049},1.8007212384810709,0.3982811801590867,-1.0039770764135076,-2.406070257835228,-3.8080130998615309,-5.2098186350397935,-6.6114984318762646,-8.0130627948046325,-9.4145209322465888,-10.815881098559213]
[null,null,2031,"M€",null,null,null,null,null,null,null,null,null,null,null,null,null,null,{"$f":"($S$60-$R$60)*1000*S$76*8760*($Q$81-S$86)/1000000","v":0.22859072900160726},-0.48383501773805415,-1.1961712847966119,-1.9084263047169567,-2.6206073301834403,-3.332720775590762,-4.0447723347579112,-4.7567670793491814,-5.4687095415906795,-6.1806037841344175]
[null,null,2032,"M€",null,null,null,null,null,null,null,null,null,null,null,null,null,null,null,{"$f":"($T$60-$S$60)*1000*T$76*8760*($R$81-T$86)/1000000","v":-1.1700058794679964},-1.8822995165337213,-2.5945145212317371,-3.3066579128338254,-4.0187358993006725,-4.7307539912075383,-5.4427170969977272,-6.1546296030370531,-6.86649544122952]
[null,null,2033,"M€",null,null,null,null,null,null,null,null,null,null,null,null,null,null,null,null,{"$f":"($U$60-$T$60)*1000*U$76*8760*($S$81-U$86)/1000000","v":-2.5034704245557204},-3.215649202363311,-3.9277585229843233,-4.6398044074890095,-5.3517922005570027,-6.0637266628631243,-6.7756120487218121,-7.4874521716672833]
[null,null,2034,"M€",null,null,null,null,null,null,null,null,null,null,null,null,null,null,null,null,null,{"$f":"($V$60-$U$60)*1000*V$76*8760*($T$81-V$86)/1000000","v":-3.8367838834946641},-4.5488591331346004,-5.2608729156771261,-5.9728304099062468,-6.6847362287283003,-7.39659449440635,-8.1084089021048253]
[null,null,2035,"M€",null,null,null,null,null,null,null,null,null,null,null,null,null,null,null,null,null,null,{"$f":"($W$60-$V$60)*1000*W$76*8760*($U$81-W$86)/1000000","v":-5.1699597432881914},-5.8819414238690246,-6.5938686192597418,-7.3057457945981952,-8.0175769400960775,-8.729365632548026]
[null,null,2036,"M€",null,null,null,null,null,null,null,null,null,null,null,null,null,null,null,null,null,null,null,{"$f":"($X$60-$W$60)*1000*X$76*8760*($V$81-X$86)/1000000","v":-6.5030099320589052},{"$f":"($X$60-$W$60)*1000*Y$76*8760*($V$81-Y$86)/1000000","v":-7.2149068286109443},{"$f":"($X$60-$W$60)*1000*Z$76*8760*($V$81-Z$86)/1000000","v":-7.9267553604655232},{"$f":"($X$60-$W$60)*1000*AA$76*8760*($V$81-AA$86)/1000000","v":-8.6385593857829619},{"$f":"($X$60-$W$60)*1000*AB$76*8760*($V$81-AB$86)/1000000","v":-9.3503223629881091}]
[null,null,2037,"M€",null,null,null,null,null,null,null,null,null,null,null,null,null,null,null,null,null,null,null,null,{"$f":"($Y$60-$X$60)*1000*Y$76*8760*($W$81-Y$86)/1000000","v":-7.835945037960955},{"$f":"($Y$60-$X$60)*1000*Z$76*8760*($W$81-Z$86)/1000000","v":-8.5477649263315563},{"$f":"($Y$60-$X$60)*1000*AA$76*8760*($W$81-AA$86)/1000000","v":-9.2595418314684519},{"$f":"($Y$60-$X$60)*1000*AB$76*8760*($W$81-AB$86)/1000000","v":-9.9712790934266931}]
[null,null,2038,"M€",null,null,null,null,null,null,null,null,null,null,null,null,null,null,null,null,null,null,null,null,null,{"$f":"($Z$60-$Y$60)*1000*Z$76*8760*($X$81-Z$86)/1000000","v":-9.3802424038429528},{"$f":"($Z$60-$Y$60)*1000*AA$76*8760*($X$81-AA$86)/1000000","v":-10.091982953759626},{"$f":"($Z$60-$Y$60)*1000*AB$76*8760*($X$81-AB$86)/1000000","v":-10.803685743843213}]
[null,null,2039,"M€",null,null,null,null,null,null,null,null,null,null,null,null,null,null,null,null,null,null,null,null,null,null,{"$f":"($AA$60-$Z$60)*1000*AA$76*8760*($Y$81-AA$86)/1000000","v":-10.924424076061653},{"$f":"($AA$60-$Z$60)*1000*AB$76*8760*($Y$81-AB$86)/1000000","v":-11.636092394271344}]
[null,null,2040,"M€",null,null,null,null,null,null,null,null,null,null,null,null,null,null,null,null,null,null,null,null,null,null,null,{"$f":"($AB$60-$AA$60)*1000*AB$76*8760*($Z$81-AB$86)/1000000","v":-12.468499044679916}]
[null,null,"Total","M€",null,{"$f":"SUM(F146:F166)","v":0},{"$f":"SUM(G146:G166)","v":0},32.220226162647918,61.825139797904853,88.849151074593777,126.5455905687885,160.37323686551323,190.30404635976734,198.52661683958749,198.68898488363513,193.45017378003047,182.8069160630032,166.75684358776357,152.12323189686535,135.38134072716582,116.59626338992669,95.768107825726915,72.89696912777606,47.982931398090187,21.026069290910158,-8.1850186085494769,-39.650245171102178,-89.047283484357607]
[null,null,{"$f":"'Données de production'!C9","v":"PV sur toiture"},null,null,null,null,null,null,null,null,null,null,null,null,null,null,null,null,null,null,null,null,null,null,null,null,null,null,null,null,{"$f":"C168","v":"PV sur toiture"},null,null,null,null,null,null,null,null,null,null,null,null,null,null,null,null,null,null,null,null,null,null,null,null,null,null,{"$f":"AF168","v":"PV sur toiture"}]
[null,null,2020,"M€",null,null,null,{"$f":"AK169","v":47.838766898218353},{"$f":"AL169-AK169","v":47.92617024671523},{"$f":"AM169-AL169","v":48.026809368141983},48.24758988610273,48.44959256848631,48.639261065783387,47.583130324455396,46.518888366466456,45.448287821552242,44.372610311548328,43.292814714528788,42.524248797564155,41.755898383605768,40.987751556247304,40.219797261752433,39.4520252323764,38.684425917724639,37.916990423182938,{"$f":"BC169-BB169","v":37.149710454579576},36.382578268359339,0,null,null,null,2020,"M€",null,null,null,{"$f":"IF(BL169>0,BL169,0)","v":47.838766898218353},{"$f":"IF(AK169+BM169>0,AK169+BM169,0)","v":95.764937144933583},{"$f":"IF(AL169+BN169>0,AL169+BN169,0)","v":143.79174651307557},192.0393363991783,240.48892896766461,289.12819003344799,336.71132035790339,383.23020872436985,428.67849654592209,473.05110685747042,516.3439215719992,558.86817036956336,600.62406875316913,641.61182030941643,681.83161757116886,721.28364280354526,759.9680687212699,797.88505914445284,{"$f":"IF(BB169+CD169>0,BB169+CD169,0)","v":835.03476959903242},871.41734786739175,871.41734786739175,null,2020,"M€",null,null,null,{"$f":"($H$61-$G$61)*1000*H$77*8760*($F$82-H$87)/1000000","v":47.838766898218353},{"$f":"($H$61-$G$61)*1000*I$77*8760*($F$82-I$87)/1000000","v":47.926170246715238},48.02680936814199,48.247589886102737,48.449592568486302,48.63926106578338,47.583130324455375,46.518888366466456,45.448287821552256,44.372610311548335,43.29281471452876,42.524248797564177,41.755898383605739,40.987751556247296,40.219797261752376,39.45202523237635,38.684425917724631,37.916990423182916,37.149710454579555,36.382578268359303]
[null,null,2021,"M€",null,null,null,null,{"$f":"AL170","v":46.417042270513086},46.519127519129661,46.737585300070208,46.937865243375796,47.126205109086186,46.068769306579441,45.003424872503672,43.931880663055892,42.855386290388196,41.774876683713501,41.006416302326784,40.238167460443719,39.470118460823073,38.702258453027184,37.934577358154456,37.167065801459898,36.399715051917838,35.632516967901779,34.865463948274964,34.098548888271694,null,null,null,2021,"M€",null,null,null,null,{"$f":"IF(BM170>0,BM170,0)","v":46.417042270513086},92.936169789642747,139.67375508971296,186.61162033308875,233.73782544217494,279.80659474875438,324.81001962125805,368.74190028431394,411.59728657470214,453.37216325841564,494.37857956074242,534.61674702118614,574.08686548200922,612.7891239350364,650.72370129319086,687.89076709465076,724.29048214656859,759.92299911447037,794.78846306274534,828.88701195101703,null,2021,"M€",null,null,null,null,{"$f":"($I$61-$H$61)*1000*I$77*8760*($G$82-I$87)/1000000","v":46.417042270513086},{"$f":"($I$61-$H$61)*1000*J$77*8760*($G$82-J$87)/1000000","v":46.519127519129654},46.737585300070208,46.937865243375796,47.126205109086193,46.068769306579419,45.003424872503658,43.931880663055885,42.855386290388211,41.774876683713472,41.006416302326777,40.238167460443691,39.470118460823038,38.702258453027184,37.934577358154499,37.167065801459955,36.399715051917845,35.632516967901765,34.865463948274957,34.098548888271651]
[null,null,2022,"M€",null,null,null,null,null,{"$f":"($J$61-$I$61)*1000*J$77*8760*($H$82-J$87)/1000000","v":45.011445670117311},45.22758071403765,45.426137918265262,45.613149152388978,44.554408288703435,43.487961378540838,42.415473504559479,41.338162269228079,40.256938652898171,39.488583807089341,38.720436537281614,37.952485365398765,37.184719644301971,36.417129483932626,35.649705685195265,34.882439680652752,34.11532348122396,33.348349628190583,32.581511149905054]
[null,null,2023,"M€",null,null,null,null,null,null,{"$f":"($K$61-$J$61)*1000*K$77*8760*($I$82-K$87)/1000000","v":66.799900886656388},67.100661448600064,67.384382106157389,65.764645400972597,64.133443502123725,62.493253749346607,60.845887713354074,59.192700766993404,58.018825581658177,56.845261513633844,55.671991359447063,54.498999161043038,53.326270095087516,52.153790373869867,50.981547156416227,49.809528468599424,48.637723131206208,47.466120695050542]
[null,null,2024,"M€",null,null,null,null,null,null,null,{"$f":"($L$61-$K$61)*1000*L$77*8760*($J$82-L$87)/1000000","v":64.790761302490381},{"$f":"($L$61-$K$61)*1000*M$77*8760*($J$82-M$87)/1000000","v":65.072451827863617},{"$f":"($L$61-$K$61)*1000*N$77*8760*($J$82-N$87)/1000000","v":63.450721005778973},{"$f":"($L$61-$K$61)*1000*O$77*8760*($J$82-O$87)/1000000","v":61.817834537476877},{"$f":"($L$61-$K$61)*1000*P$77*8760*($J$82-P$87+IF($C173>=$X$36,$X$37,IF($C173>=$W$36,$W$37,IF($C173>=$V$36,$V$37,$U$37))))/1000000","v":60.176202877282194},58.527588685518175,56.873310741476367,55.699596813163559,54.526187945980162,53.353067271334069,52.180219141808571,51.007629022619064,49.83528339444527,48.663169666274598,47.491276097067079,46.319591725223077,45.148106304959455]
[null,null,2025,"M€",null,null,null,null,null,null,null,null,{"$f":"($M$61-$L$61)*1000*M$77*8760*($K$82-M$87)/1000000","v":62.760521549576211},61.136796610591574,59.502225572836089,57.859152005223692,56.209289657688011,54.553920715964907,53.380368044674405,52.207114378331816,51.034143183226313,49.861439122579228,48.688987950155621,47.516776415025582,46.344792176137751,45.173023725539416,44.001460319244501,42.830091914872803]
[null,null,2026,"M€",null,null,null,null,null,null,null,null,null,{"$f":"($N$61-$M$61)*1000*N$77*8760*($L$82-N$87)/1000000","v":47.248643685479514},45.934344412906206,44.613410517831888,43.287179259173818,41.956651141308583,41.014141013048658,40.071866191759675,39.129813665959915,38.18797136611353,37.246328080906437,36.304873382296542,35.363597558285988,34.422491552497895,33.481546909771801,32.540755727087742]
[null,null,2027,"M€",null,null,null,null,null,null,null,null,null,null,{"$f":"($O$61-$N$61)*1000*O$77*8760*($M$82-O$87)/1000000","v":44.074364123546346},42.752272036645103,41.425038214441152,40.09363376805279,39.151253167224652,38.209103008824954,37.267170550360653,36.325443971811531,35.383912293636975,34.442565303375645,33.501393489807541,32.560387983779826,31.619540504927109,30.678843313609914]
[null,null,2028,"M€",null,null,null,null,null,null,null,null,null,null,null,{"$f":"($P$61-$O$61)*1000*P$77*8760*($N$82-P$87)/1000000","v":40.190925021402052},38.86231144526203,37.529700972847692,36.587498631028616,35.645520036928509,34.703752818243508,33.7621854983433,32.820807416659882,31.879608657419773,30.938579985718658,29.997712790066274,29.056999030654719,28.116431192693]
[null,null,2029,"M€",null,null,null,null,null,null,null,null,null,null,null,null,{"$f":"($Q$61-$P$61)*1000*Q$77*8760*($O$82-Q$87)/1000000","v":36.299584676068456},34.965768177628696,34.023744094819037,33.08193706501892,32.140335086113595,31.198927024862659,30.25770253967077,29.316652011452263,28.375766481618513,27.435037596341836,26.49445755637182,25.554019071765953]
[null,null,2030,"M€",null,null,null,null,null,null,null,null,null,null,null,null,null,{"$f":"($R$61-$Q$61)*1000*R$77*8760*($P$82-R$87)/1000000","v":32.401835382427031},31.459989558626347,30.518354093125737,29.576917353999637,28.635668551397519,27.694597662696687,26.753695365499325,25.812952977532472,24.872362402631044,23.931916082102106,22.991606950851633]
[null,null,2031,"M€",null,null,null,null,null,null,null,null,null,null,null,null,null,null,{"$f":"($S$61-$R$61)*1000*S$77*8760*($Q$82-S$87)/1000000","v":8.9552583269076287},8.6634883979127757,8.3717780963505568,8.080124184748902,7.7885236558408559,7.4969737124604725,7.2054717495099307,6.9140153377518354,6.6226022092162067,6.3312302440363668]
[null,null,2032,"M€",null,null,null,null,null,null,null,null,null,null,null,null,null,null,null,{"$f":"($T$61-$S$61)*1000*T$77*8760*($R$82-T$87)/1000000","v":7.8690060808205065},7.5773469888678235,7.2857424332581768,6.9941895055777055,6.702685500607263,6.4112278988822702,6.1198143510177729,5.8284426635951867,5.5371107864308238]
[null,null,2033,"M€",null,null,null,null,null,null,null,null,null,null,null,null,null,null,null,null,{"$f":"($U$61-$T$61)*1000*U$77*8760*($S$82-U$87)/1000000","v":6.76693539445127},6.4753811876606866,6.1838768187366471,5.8924196762563659,5.6010073281110735,5.309637506374548,5.0183080936792361,4.7270171109261669]
[null,null,2034,"M€",null,null,null,null,null,null,null,null,null,null,null,null,null,null,null,null,null,{"$f":"($V$61-$U$61)*1000*V$77*8760*($T$82-V$87)/1000000","v":5.6650199420651965},5.3735641318974938,5.082153851907278,4.7907867573415936,4.4994606617329458,4.2081735237648132,3.9169234354229432]
[null,null,2035,"M€",null,null,null,null,null,null,null,null,null,null,null,null,null,null,null,null,null,null,{"$f":"($W$61-$V$61)*1000*W$77*8760*($U$82-W$87)/1000000","v":4.5632514450547061},4.2718880275547448,3.9805661865688533,3.6892838170882678,3.3980389538475011,3.1068297599170172]
[null,null,2036,"M€",null,null,null,null,null,null,null,null,null,null,null,null,null,null,null,null,null,null,null,{"$f":"($X$61-$W$61)*1000*X$77*8760*($V$82-X$87)/1000000","v":3.4616222032046737},{"$f":"($X$61-$W$61)*1000*Y$77*8760*($V$82-Y$87)/1000000","v":3.1703456157983956},{"$f":"($X$61-$W$61)*1000*Z$77*8760*($V$82-Z$87)/1000000","v":2.8791069724456908},{"$f":"($X$61-$W$61)*1000*AA$77*8760*($V$82-AA$87)/1000000","v":2.5879043839321101},{"$f":"($X$61-$W$61)*1000*AB$77*8760*($V$82-AB$87)/1000000","v":2.2967360844128315}]
[null,null,2037,"M€",null,null,null,null,null,null,null,null,null,null,null,null,null,null,null,null,null,null,null,null,{"$f":"($Y$61-$X$61)*1000*Y$77*8760*($W$82-Y$87)/1000000","v":2.3601250450268525},{"$f":"($Y$61-$X$61)*1000*Z$77*8760*($W$82-Z$87)/1000000","v":2.0689301278021159},{"$f":"($Y$61-$X$61)*1000*AA$77*8760*($W$82-AA$87)/1000000","v":1.7777698140158067},{"$f":"($Y$61-$X$61)*1000*AB$77*8760*($W$82-AB$87)/1000000","v":1.4866424089078187}]
[null,null,2038,"M€",null,null,null,null,null,null,null,null,null,null,null,null,null,null,null,null,null,null,null,null,null,{"$f":"($Z$61-$Y$61)*1000*Z$77*8760*($X$82-Z$87)/1000000","v":1.5413112109713953},{"$f":"($Z$61-$Y$61)*1000*AA$77*8760*($X$82-AA$87)/1000000","v":1.2501784281445769},{"$f":"($Z$61-$Y$61)*1000*AB$77*8760*($X$82-AB$87)/1000000","v":0.95907765508021114}]
[null,null,2039,"M€",null,null,null,null,null,null,null,null,null,null,null,null,null,null,null,null,null,null,null,null,null,null,{"$f":"($AA$61-$Z$61)*1000*AA$77*8760*($Y$82-AA$87)/1000000","v":0.72258704227407267},{"$f":"($AA$61-$Z$61)*1000*AB$77*8760*($Y$82-AB$87)/1000000","v":0.43151290125313957}]
[null,null,2040,"M€",null,null,null,null,null,null,null,null,null,null,null,null,null,null,null,null,null,null,null,null,null,null,null,{"$f":"($AB$61-$AA$61)*1000*AB$77*8760*($Z$82-AB$87)/1000000","v":-9.6051852574377566E-2}]
[null,null,"Total","M€",null,{"$f":"SUM(F169:F189)","v":0},{"$f":"SUM(G169:G189)","v":0},47.838766898218353,94.343212517228324,139.55738255738896,207.01265678686698,272.70501848121785,336.59597081085576,375.80711462256096,410.47248676640021,439.88085819689911,464.02303852267028,482.89215171783991,481.30992413813141,478.35234109366797,474.00360715082354,468.26389694477393,461.13337269300382,452.6121852797549,442.70047522878417,431.68093150541267,419.55363221679573,370.70306374288066]
[]
[null,null,null,null,null,"Scénario sélectionné"]
[null,null,"Evolution du besoin cumulé de compléments rémunération","Unité",null,2018,2019,2020,2021,2022,2023,2024,2025,2026,2027,2028,2029,2030,2031,2032,2033,2034,2035,2036,2037,2038,2039,2040]
[null,null,{"$f":"'Scénarios choisis - défaut'!C194","v":"Charges engagées avant 2018"},"Md€",null,{"$f":"IF('Start - expert'!$F$3=\"CONSTANT\",F102,F102*HLOOKUP(F$193,'Calcul de variation des prix'!$E$3:$AP$5, 3, FALSE))/1000","v":3.8135013016383827},{"$f":"IF('Start - expert'!$F$3=\"CONSTANT\",G102,G102*HLOOKUP(G$193,'Calcul de variation des prix'!$E$3:$AP$5, 3, FALSE))/1000","v":4.0973951069009669},{"$f":"IF('Start - expert'!$F$3=\"CONSTANT\",H102,H102*HLOOKUP(H$193,'Calcul de variation des prix'!$E$3:$AP$5, 3, FALSE))/1000","v":4.1771166187607607},{"$f":"IF('Start - expert'!$F$3=\"CONSTANT\",I102,I102*HLOOKUP(I$193,'Calcul de variation des prix'!$E$3:$AP$5, 3, FALSE))/1000","v":4.101661638734722},{"$f":"IF('Start - expert'!$F$3=\"CONSTANT\",J102,J102*HLOOKUP(J$193,'Calcul de variation des prix'!$E$3:$AP$5, 3, FALSE))/1000","v":3.9211876978337767},{"$f":"IF('Start - expert'!$F$3=\"CONSTANT\",K102,K102*HLOOKUP(K$193,'Calcul de variation des prix'!$E$3:$AP$5, 3, FALSE))/1000","v":3.8422734852991463},{"$f":"IF('Start - expert'!$F$3=\"CONSTANT\",L102,L102*HLOOKUP(L$193,'Calcul de variation des prix'!$E$3:$AP$5, 3, FALSE))/1000","v":3.7893631743505178},{"$f":"IF('Start - expert'!$F$3=\"CONSTANT\",M102,M102*HLOOKUP(M$193,'Calcul de variation des prix'!$E$3:$AP$5, 3, FALSE))/1000","v":3.6949124065952907},{"$f":"IF('Start - expert'!$F$3=\"CONSTANT\",N102,N102*HLOOKUP(N$193,'Calcul de variation des prix'!$E$3:$AP$5, 3, FALSE))/1000","v":3.3581957044002908},{"$f":"IF('Start - expert'!$F$3=\"CONSTANT\",O102,O102*HLOOKUP(O$193,'Calcul de variation des prix'!$E$3:$AP$5, 3, FALSE))/1000","v":3.0732545222936865},{"$f":"IF('Start - expert'!$F$3=\"CONSTANT\",P102,P102*HLOOKUP(P$193,'Calcul de variation des prix'!$E$3:$AP$5, 3, FALSE))/1000","v":2.8746874219444485},{"$f":"IF('Start - expert'!$F$3=\"CONSTANT\",Q102,Q102*HLOOKUP(Q$193,'Calcul de variation des prix'!$E$3:$AP$5, 3, FALSE))/1000","v":2.7087782532907885},{"$f":"IF('Start - expert'!$F$3=\"CONSTANT\",R102,R102*HLOOKUP(R$193,'Calcul de variation des prix'!$E$3:$AP$5, 3, FALSE))/1000","v":2.4685985274341338},{"$f":"IF('Start - expert'!$F$3=\"CONSTANT\",S102,S102*HLOOKUP(S$193,'Calcul de variation des prix'!$E$3:$AP$5, 3, FALSE))/1000","v":1.9811758856667507},{"$f":"IF('Start - expert'!$F$3=\"CONSTANT\",T102,T102*HLOOKUP(T$193,'Calcul de variation des prix'!$E$3:$AP$5, 3, FALSE))/1000","v":1.1990247756423946},{"$f":"IF('Start - expert'!$F$3=\"CONSTANT\",U102,U102*HLOOKUP(U$193,'Calcul de variation des prix'!$E$3:$AP$5, 3, FALSE))/1000","v":0.7111732102708197},{"$f":"IF('Start - expert'!$F$3=\"CONSTANT\",V102,V102*HLOOKUP(V$193,'Calcul de variation des prix'!$E$3:$AP$5, 3, FALSE))/1000","v":0.48299376455175053},{"$f":"IF('Start - expert'!$F$3=\"CONSTANT\",W102,W102*HLOOKUP(W$193,'Calcul de variation des prix'!$E$3:$AP$5, 3, FALSE))/1000","v":0.37588671950201197},{"$f":"IF('Start - expert'!$F$3=\"CONSTANT\",X102,X102*HLOOKUP(X$193,'Calcul de variation des prix'!$E$3:$AP$5, 3, FALSE))/1000","v":0.28301030041361402},{"$f":"IF('Start - expert'!$F$3=\"CONSTANT\",Y102,Y102*HLOOKUP(Y$193,'Calcul de variation des prix'!$E$3:$AP$5, 3, FALSE))/1000","v":0.14886020364126284},{"$f":"IF('Start - expert'!$F$3=\"CONSTANT\",Z102,Z102*HLOOKUP(Z$193,'Calcul de variation des prix'!$E$3:$AP$5, 3, FALSE))/1000","v":6.488345534662425E-2},{"$f":"IF('Start - expert'!$F$3=\"CONSTANT\",AA102,AA102*HLOOKUP(AA$193,'Calcul de variation des prix'!$E$3:$AP$5, 3, FALSE))/1000","v":0},{"$f":"IF('Start - expert'!$F$3=\"CONSTANT\",AB102,AB102*HLOOKUP(AB$193,'Calcul de variation des prix'!$E$3:$AP$5, 3, FALSE))/1000","v":0}]
[null,null,{"$f":"'Scénarios choisis - défaut'!C195","v":"AO éolien en mer 2011 & 2013 renégociés"},"Md€",null,{"$f":"IF('Start - expert'!$F$3=\"CONSTANT\",F103,F103*HLOOKUP(F$193,'Calcul de variation des prix'!$E$3:$AP$5, 3, FALSE))/1000","v":0},{"$f":"IF('Start - expert'!$F$3=\"CONSTANT\",G103,G103*HLOOKUP(G$193,'Calcul de variation des prix'!$E$3:$AP$5, 3, FALSE))/1000","v":0},{"$f":"IF('Start - expert'!$F$3=\"CONSTANT\",H103,H103*HLOOKUP(H$193,'Calcul de variation des prix'!$E$3:$AP$5, 3, FALSE))/1000","v":0},{"$f":"IF('Start - expert'!$F$3=\"CONSTANT\",I103,I103*HLOOKUP(I$193,'Calcul de variation des prix'!$E$3:$AP$5, 3, FALSE))/1000","v":0.14874602755538102},{"$f":"IF('Start - expert'!$F$3=\"CONSTANT\",J103,J103*HLOOKUP(J$193,'Calcul de variation des prix'!$E$3:$AP$5, 3, FALSE))/1000","v":0.30088959869574611},{"$f":"IF('Start - expert'!$F$3=\"CONSTANT\",K103,K103*HLOOKUP(K$193,'Calcul de variation des prix'!$E$3:$AP$5, 3, FALSE))/1000","v":0.38051603625417646},{"$f":"IF('Start - expert'!$F$3=\"CONSTANT\",L103,L103*HLOOKUP(L$193,'Calcul de variation des prix'!$E$3:$AP$5, 3, FALSE))/1000","v":0.57688475349689383},{"$f":"IF('Start - expert'!$F$3=\"CONSTANT\",M103,M103*HLOOKUP(M$193,'Calcul de variation des prix'!$E$3:$AP$5, 3, FALSE))/1000","v":0.62775374706889042},{"$f":"IF('Start - expert'!$F$3=\"CONSTANT\",N103,N103*HLOOKUP(N$193,'Calcul de variation des prix'!$E$3:$AP$5, 3, FALSE))/1000","v":0.59192313853122958},{"$f":"IF('Start - expert'!$F$3=\"CONSTANT\",O103,O103*HLOOKUP(O$193,'Calcul de variation des prix'!$E$3:$AP$5, 3, FALSE))/1000","v":0.559963443745641},{"$f":"IF('Start - expert'!$F$3=\"CONSTANT\",P103,P103*HLOOKUP(P$193,'Calcul de variation des prix'!$E$3:$AP$5, 3, FALSE))/1000","v":0.53031162237351237},{"$f":"IF('Start - expert'!$F$3=\"CONSTANT\",Q103,Q103*HLOOKUP(Q$193,'Calcul de variation des prix'!$E$3:$AP$5, 3, FALSE))/1000","v":0.50219492500677898},{"$f":"IF('Start - expert'!$F$3=\"CONSTANT\",R103,R103*HLOOKUP(R$193,'Calcul de variation des prix'!$E$3:$AP$5, 3, FALSE))/1000","v":0.47518621772612923},{"$f":"IF('Start - expert'!$F$3=\"CONSTANT\",S103,S103*HLOOKUP(S$193,'Calcul de variation des prix'!$E$3:$AP$5, 3, FALSE))/1000","v":0.48655595707965438},{"$f":"IF('Start - expert'!$F$3=\"CONSTANT\",T103,T103*HLOOKUP(T$193,'Calcul de variation des prix'!$E$3:$AP$5, 3, FALSE))/1000","v":0.4874467578505039},{"$f":"IF('Start - expert'!$F$3=\"CONSTANT\",U103,U103*HLOOKUP(U$193,'Calcul de variation des prix'!$E$3:$AP$5, 3, FALSE))/1000","v":0.48171741424597714},{"$f":"IF('Start - expert'!$F$3=\"CONSTANT\",V103,V103*HLOOKUP(V$193,'Calcul de variation des prix'!$E$3:$AP$5, 3, FALSE))/1000","v":0.47159000259131417},{"$f":"IF('Start - expert'!$F$3=\"CONSTANT\",W103,W103*HLOOKUP(W$193,'Calcul de variation des prix'!$E$3:$AP$5, 3, FALSE))/1000","v":0.45843322879452159},{"$f":"IF('Start - expert'!$F$3=\"CONSTANT\",X103,X103*HLOOKUP(X$193,'Calcul de variation des prix'!$E$3:$AP$5, 3, FALSE))/1000","v":0.44313520656821614},{"$f":"IF('Start - expert'!$F$3=\"CONSTANT\",Y103,Y103*HLOOKUP(Y$193,'Calcul de variation des prix'!$E$3:$AP$5, 3, FALSE))/1000","v":0.42629655009476713},{"$f":"IF('Start - expert'!$F$3=\"CONSTANT\",Z103,Z103*HLOOKUP(Z$193,'Calcul de variation des prix'!$E$3:$AP$5, 3, FALSE))/1000","v":0.4083373133712106},{"$f":"IF('Start - expert'!$F$3=\"CONSTANT\",AA103,AA103*HLOOKUP(AA$193,'Calcul de variation des prix'!$E$3:$AP$5, 3, FALSE))/1000","v":0.36496951462761873},{"$f":"IF('Start - expert'!$F$3=\"CONSTANT\",AB103,AB103*HLOOKUP(AB$193,'Calcul de variation des prix'!$E$3:$AP$5, 3, FALSE))/1000","v":0.28789777521360627}]
[null,null,"Eolien terrestre","Md€",null,{"$f":"IF('Start - expert'!$F$3=\"CONSTANT\",IF(F$126>=0,F$126,0),IF(F$126*HLOOKUP(F$193,'Calcul de variation des prix'!$E$3:$AP$5, 3, FALSE)>0,F$126*HLOOKUP(F$193,'Calcul de variation des prix'!$E$3:$AP$5, 3, FALSE),0))/1000","v":0},{"$f":"IF('Start - expert'!$F$3=\"CONSTANT\",IF(G$126>=0,G$126,0),IF(G$126*HLOOKUP(G$193,'Calcul de variation des prix'!$E$3:$AP$5, 3, FALSE)>0,G$126*HLOOKUP(G$193,'Calcul de variation des prix'!$E$3:$AP$5, 3, FALSE),0))/1000","v":0},{"$f":"IF('Start - expert'!$F$3=\"CONSTANT\",IF(H$126>=0,H$126,0),IF(H$126*HLOOKUP(H$193,'Calcul de variation des prix'!$E$3:$AP$5, 3, FALSE)>0,H$126*HLOOKUP(H$193,'Calcul de variation des prix'!$E$3:$AP$5, 3, FALSE),0))/1000","v":0},{"$f":"IF('Start - expert'!$F$3=\"CONSTANT\",IF(I$126>=0,I$126,0),IF(I$126*HLOOKUP(I$193,'Calcul de variation des prix'!$E$3:$AP$5, 3, FALSE)>0,I$126*HLOOKUP(I$193,'Calcul de variation des prix'!$E$3:$AP$5, 3, FALSE),0))/1000","v":9.0240970432913611E-2},{"$f":"IF('Start - expert'!$F$3=\"CONSTANT\",IF(J$126>=0,J$126,0),IF(J$126*HLOOKUP(J$193,'Calcul de variation des prix'!$E$3:$AP$5, 3, FALSE)>0,J$126*HLOOKUP(J$193,'Calcul de variation des prix'!$E$3:$AP$5, 3, FALSE),0))/1000","v":0.18390179961259925},{"$f":"IF('Start - expert'!$F$3=\"CONSTANT\",IF(K$126>=0,K$126,0),IF(K$126*HLOOKUP(K$193,'Calcul de variation des prix'!$E$3:$AP$5, 3, FALSE)>0,K$126*HLOOKUP(K$193,'Calcul de variation des prix'!$E$3:$AP$5, 3, FALSE),0))/1000","v":0.27716636754636365},{"$f":"IF('Start - expert'!$F$3=\"CONSTANT\",IF(L$126>=0,L$126,0),IF(L$126*HLOOKUP(L$193,'Calcul de variation des prix'!$E$3:$AP$5, 3, FALSE)>0,L$126*HLOOKUP(L$193,'Calcul de variation des prix'!$E$3:$AP$5, 3, FALSE),0))/1000","v":0.3736705030523278},{"$f":"IF('Start - expert'!$F$3=\"CONSTANT\",IF(M$126>=0,M$126,0),IF(M$126*HLOOKUP(M$193,'Calcul de variation des prix'!$E$3:$AP$5, 3, FALSE)>0,M$126*HLOOKUP(M$193,'Calcul de variation des prix'!$E$3:$AP$5, 3, FALSE),0))/1000","v":0.47281174114738156},{"$f":"IF('Start - expert'!$F$3=\"CONSTANT\",IF(N$126>=0,N$126,0),IF(N$126*HLOOKUP(N$193,'Calcul de variation des prix'!$E$3:$AP$5, 3, FALSE)>0,N$126*HLOOKUP(N$193,'Calcul de variation des prix'!$E$3:$AP$5, 3, FALSE),0))/1000","v":0.53951250784008853},{"$f":"IF('Start - expert'!$F$3=\"CONSTANT\",IF(O$126>=0,O$126,0),IF(O$126*HLOOKUP(O$193,'Calcul de variation des prix'!$E$3:$AP$5, 3, FALSE)>0,O$126*HLOOKUP(O$193,'Calcul de variation des prix'!$E$3:$AP$5, 3, FALSE),0))/1000","v":0.59278805257086264},{"$f":"IF('Start - expert'!$F$3=\"CONSTANT\",IF(P$126>=0,P$126,0),IF(P$126*HLOOKUP(P$193,'Calcul de variation des prix'!$E$3:$AP$5, 3, FALSE)>0,P$126*HLOOKUP(P$193,'Calcul de variation des prix'!$E$3:$AP$5, 3, FALSE),0))/1000","v":0.63232620707445741},{"$f":"IF('Start - expert'!$F$3=\"CONSTANT\",IF(Q$126>=0,Q$126,0),IF(Q$126*HLOOKUP(Q$193,'Calcul de variation des prix'!$E$3:$AP$5, 3, FALSE)>0,Q$126*HLOOKUP(Q$193,'Calcul de variation des prix'!$E$3:$AP$5, 3, FALSE),0))/1000","v":0.65444270675405369},{"$f":"IF('Start - expert'!$F$3=\"CONSTANT\",IF(R$126>=0,R$126,0),IF(R$126*HLOOKUP(R$193,'Calcul de variation des prix'!$E$3:$AP$5, 3, FALSE)>0,R$126*HLOOKUP(R$193,'Calcul de variation des prix'!$E$3:$AP$5, 3, FALSE),0))/1000","v":0.65889807085164631},{"$f":"IF('Start - expert'!$F$3=\"CONSTANT\",IF(S$126>=0,S$126,0),IF(S$126*HLOOKUP(S$193,'Calcul de variation des prix'!$E$3:$AP$5, 3, FALSE)>0,S$126*HLOOKUP(S$193,'Calcul de variation des prix'!$E$3:$AP$5, 3, FALSE),0))/1000","v":0.68177950817738475},{"$f":"IF('Start - expert'!$F$3=\"CONSTANT\",IF(T$126>=0,T$126,0),IF(T$126*HLOOKUP(T$193,'Calcul de variation des prix'!$E$3:$AP$5, 3, FALSE)>0,T$126*HLOOKUP(T$193,'Calcul de variation des prix'!$E$3:$AP$5, 3, FALSE),0))/1000","v":0.69273090215216393},{"$f":"IF('Start - expert'!$F$3=\"CONSTANT\",IF(U$126>=0,U$126,0),IF(U$126*HLOOKUP(U$193,'Calcul de variation des prix'!$E$3:$AP$5, 3, FALSE)>0,U$126*HLOOKUP(U$193,'Calcul de variation des prix'!$E$3:$AP$5, 3, FALSE),0))/1000","v":0.69198723910369775},{"$f":"IF('Start - expert'!$F$3=\"CONSTANT\",IF(V$126>=0,V$126,0),IF(V$126*HLOOKUP(V$193,'Calcul de variation des prix'!$E$3:$AP$5, 3, FALSE)>0,V$126*HLOOKUP(V$193,'Calcul de variation des prix'!$E$3:$AP$5, 3, FALSE),0))/1000","v":0.68274045417410911},{"$f":"IF('Start - expert'!$F$3=\"CONSTANT\",IF(W$126>=0,W$126,0),IF(W$126*HLOOKUP(W$193,'Calcul de variation des prix'!$E$3:$AP$5, 3, FALSE)>0,W$126*HLOOKUP(W$193,'Calcul de variation des prix'!$E$3:$AP$5, 3, FALSE),0))/1000","v":0.66508829249704071},{"$f":"IF('Start - expert'!$F$3=\"CONSTANT\",IF(X$126>=0,X$126,0),IF(X$126*HLOOKUP(X$193,'Calcul de variation des prix'!$E$3:$AP$5, 3, FALSE)>0,X$126*HLOOKUP(X$193,'Calcul de variation des prix'!$E$3:$AP$5, 3, FALSE),0))/1000","v":0.63911071114638418},{"$f":"IF('Start - expert'!$F$3=\"CONSTANT\",IF(Y$126>=0,Y$126,0),IF(Y$126*HLOOKUP(Y$193,'Calcul de variation des prix'!$E$3:$AP$5, 3, FALSE)>0,Y$126*HLOOKUP(Y$193,'Calcul de variation des prix'!$E$3:$AP$5, 3, FALSE),0))/1000","v":0.60885274347577711},{"$f":"IF('Start - expert'!$F$3=\"CONSTANT\",IF(Z$126>=0,Z$126,0),IF(Z$126*HLOOKUP(Z$193,'Calcul de variation des prix'!$E$3:$AP$5, 3, FALSE)>0,Z$126*HLOOKUP(Z$193,'Calcul de variation des prix'!$E$3:$AP$5, 3, FALSE),0))/1000","v":0.57911688991743704},{"$f":"IF('Start - expert'!$F$3=\"CONSTANT\",IF(AA$126>=0,AA$126,0),IF(AA$126*HLOOKUP(AA$193,'Calcul de variation des prix'!$E$3:$AP$5, 3, FALSE)>0,AA$126*HLOOKUP(AA$193,'Calcul de variation des prix'!$E$3:$AP$5, 3, FALSE),0))/1000","v":0.54984044647096619},{"$f":"IF('Start - expert'!$F$3=\"CONSTANT\",IF(AB$126>=0,AB$126,0),IF(AB$126*HLOOKUP(AB$193,'Calcul de variation des prix'!$E$3:$AP$5, 3, FALSE)>0,AB$126*HLOOKUP(AB$193,'Calcul de variation des prix'!$E$3:$AP$5, 3, FALSE),0))/1000","v":0.52546672276853856}]
[null,null,"Eolien terrestre - remboursement","Md€",null,{"$f":"IF('Start - expert'!$F$3=\"CONSTANT\",IF(F$126<0,F$126,0),IF(F$126*HLOOKUP(F$193,'Calcul de variation des prix'!$E$3:$AP$5, 3, FALSE)<0,F$126*HLOOKUP(F$193,'Calcul de variation des prix'!$E$3:$AP$5, 3, FALSE),0))/1000","v":0},{"$f":"IF('Start - expert'!$F$3=\"CONSTANT\",IF(G$126<0,G$126,0),IF(G$126*HLOOKUP(G$193,'Calcul de variation des prix'!$E$3:$AP$5, 3, FALSE)<0,G$126*HLOOKUP(G$193,'Calcul de variation des prix'!$E$3:$AP$5, 3, FALSE),0))/1000","v":0},{"$f":"IF('Start - expert'!$F$3=\"CONSTANT\",IF(H$126<0,H$126,0),IF(H$126*HLOOKUP(H$193,'Calcul de variation des prix'!$E$3:$AP$5, 3, FALSE)<0,H$126*HLOOKUP(H$193,'Calcul de variation des prix'!$E$3:$AP$5, 3, FALSE),0))/1000","v":0},{"$f":"IF('Start - expert'!$F$3=\"CONSTANT\",IF(I$126<0,I$126,0),IF(I$126*HLOOKUP(I$193,'Calcul de variation des prix'!$E$3:$AP$5, 3, FALSE)<0,I$126*HLOOKUP(I$193,'Calcul de variation des prix'!$E$3:$AP$5, 3, FALSE),0))/1000","v":0},{"$f":"IF('Start - expert'!$F$3=\"CONSTANT\",IF(J$126<0,J$126,0),IF(J$126*HLOOKUP(J$193,'Calcul de variation des prix'!$E$3:$AP$5, 3, FALSE)<0,J$126*HLOOKUP(J$193,'Calcul de variation des prix'!$E$3:$AP$5, 3, FALSE),0))/1000","v":0},{"$f":"IF('Start - expert'!$F$3=\"CONSTANT\",IF(K$126<0,K$126,0),IF(K$126*HLOOKUP(K$193,'Calcul de variation des prix'!$E$3:$AP$5, 3, FALSE)<0,K$126*HLOOKUP(K$193,'Calcul de variation des prix'!$E$3:$AP$5, 3, FALSE),0))/1000","v":0},{"$f":"IF('Start - expert'!$F$3=\"CONSTANT\",IF(L$126<0,L$126,0),IF(L$126*HLOOKUP(L$193,'Calcul de variation des prix'!$E$3:$AP$5, 3, FALSE)<0,L$126*HLOOKUP(L$193,'Calcul de variation des prix'!$E$3:$AP$5, 3, FALSE),0))/1000","v":0},{"$f":"IF('Start - expert'!$F$3=\"CONSTANT\",IF(M$126<0,M$126,0),IF(M$126*HLOOKUP(M$193,'Calcul de variation des prix'!$E$3:$AP$5, 3, FALSE)<0,M$126*HLOOKUP(M$193,'Calcul de variation des prix'!$E$3:$AP$5, 3, FALSE),0))/1000","v":0},{"$f":"IF('Start - expert'!$F$3=\"CONSTANT\",IF(N$126<0,N$126,0),IF(N$126*HLOOKUP(N$193,'Calcul de variation des prix'!$E$3:$AP$5, 3, FALSE)<0,N$126*HLOOKUP(N$193,'Calcul de variation des prix'!$E$3:$AP$5, 3, FALSE),0))/1000","v":0},{"$f":"IF('Start - expert'!$F$3=\"CONSTANT\",IF(O$126<0,O$126,0),IF(O$126*HLOOKUP(O$193,'Calcul de variation des prix'!$E$3:$AP$5, 3, FALSE)<0,O$126*HLOOKUP(O$193,'Calcul de variation des prix'!$E$3:$AP$5, 3, FALSE),0))/1000","v":0},{"$f":"IF('Start - expert'!$F$3=\"CONSTANT\",IF(P$126<0,P$126,0),IF(P$126*HLOOKUP(P$193,'Calcul de variation des prix'!$E$3:$AP$5, 3, FALSE)<0,P$126*HLOOKUP(P$193,'Calcul de variation des prix'!$E$3:$AP$5, 3, FALSE),0))/1000","v":0},{"$f":"IF('Start - expert'!$F$3=\"CONSTANT\",IF(Q$126<0,Q$126,0),IF(Q$126*HLOOKUP(Q$193,'Calcul de variation des prix'!$E$3:$AP$5, 3, FALSE)<0,Q$126*HLOOKUP(Q$193,'Calcul de variation des prix'!$E$3:$AP$5, 3, FALSE),0))/1000","v":0},{"$f":"IF('Start - expert'!$F$3=\"CONSTANT\",IF(R$126<0,R$126,0),IF(R$126*HLOOKUP(R$193,'Calcul de variation des prix'!$E$3:$AP$5, 3, FALSE)<0,R$126*HLOOKUP(R$193,'Calcul de variation des prix'!$E$3:$AP$5, 3, FALSE),0))/1000","v":0},{"$f":"IF('Start - expert'!$F$3=\"CONSTANT\",IF(S$126<0,S$126,0),IF(S$126*HLOOKUP(S$193,'Calcul de variation des prix'!$E$3:$AP$5, 3, FALSE)<0,S$126*HLOOKUP(S$193,'Calcul de variation des prix'!$E$3:$AP$5, 3, FALSE),0))/1000","v":0},{"$f":"IF('Start - expert'!$F$3=\"CONSTANT\",IF(T$126<0,T$126,0),IF(T$126*HLOOKUP(T$193,'Calcul de variation des prix'!$E$3:$AP$5, 3, FALSE)<0,T$126*HLOOKUP(T$193,'Calcul de variation des prix'!$E$3:$AP$5, 3, FALSE),0))/1000","v":0},{"$f":"IF('Start - expert'!$F$3=\"CONSTANT\",IF(U$126<0,U$126,0),IF(U$126*HLOOKUP(U$193,'Calcul de variation des prix'!$E$3:$AP$5, 3, FALSE)<0,U$126*HLOOKUP(U$193,'Calcul de variation des prix'!$E$3:$AP$5, 3, FALSE),0))/1000","v":0},{"$f":"IF('Start - expert'!$F$3=\"CONSTANT\",IF(V$126<0,V$126,0),IF(V$126*HLOOKUP(V$193,'Calcul de variation des prix'!$E$3:$AP$5, 3, FALSE)<0,V$126*HLOOKUP(V$193,'Calcul de variation des prix'!$E$3:$AP$5, 3, FALSE),0))/1000","v":0},{"$f":"IF('Start - expert'!$F$3=\"CONSTANT\",IF(W$126<0,W$126,0),IF(W$126*HLOOKUP(W$193,'Calcul de variation des prix'!$E$3:$AP$5, 3, FALSE)<0,W$126*HLOOKUP(W$193,'Calcul de variation des prix'!$E$3:$AP$5, 3, FALSE),0))/1000","v":0},{"$f":"IF('Start - expert'!$F$3=\"CONSTANT\",IF(X$126<0,X$126,0),IF(X$126*HLOOKUP(X$193,'Calcul de variation des prix'!$E$3:$AP$5, 3, FALSE)<0,X$126*HLOOKUP(X$193,'Calcul de variation des prix'!$E$3:$AP$5, 3, FALSE),0))/1000","v":0},{"$f":"IF('Start - expert'!$F$3=\"CONSTANT\",IF(Y$126<0,Y$126,0),IF(Y$126*HLOOKUP(Y$193,'Calcul de variation des prix'!$E$3:$AP$5, 3, FALSE)<0,Y$126*HLOOKUP(Y$193,'Calcul de variation des prix'!$E$3:$AP$5, 3, FALSE),0))/1000","v":0},{"$f":"IF('Start - expert'!$F$3=\"CONSTANT\",IF(Z$126<0,Z$126,0),IF(Z$126*HLOOKUP(Z$193,'Calcul de variation des prix'!$E$3:$AP$5, 3, FALSE)<0,Z$126*HLOOKUP(Z$193,'Calcul de variation des prix'!$E$3:$AP$5, 3, FALSE),0))/1000","v":0},{"$f":"IF('Start - expert'!$F$3=\"CONSTANT\",IF(AA$126<0,AA$126,0),IF(AA$126*HLOOKUP(AA$193,'Calcul de variation des prix'!$E$3:$AP$5, 3, FALSE)<0,AA$126*HLOOKUP(AA$193,'Calcul de variation des prix'!$E$3:$AP$5, 3, FALSE),0))/1000","v":0},{"$f":"IF('Start - expert'!$F$3=\"CONSTANT\",IF(AB$126<0,AB$126,0),IF(AB$126*HLOOKUP(AB$193,'Calcul de variation des prix'!$E$3:$AP$5, 3, FALSE)<0,AB$126*HLOOKUP(AB$193,'Calcul de variation des prix'!$E$3:$AP$5, 3, FALSE),0))/1000","v":0}]
[null,null,"Eolien en mer","Md€",null,{"$f":"IF('Start - expert'!$F$3=\"CONSTANT\",IF(F$144>=0,F$144,0),IF(F$144*HLOOKUP(F$193,'Calcul de variation des prix'!$E$3:$AP$5, 3, FALSE)>0,F$144*HLOOKUP(F$193,'Calcul de variation des prix'!$E$3:$AP$5, 3, FALSE),0))/1000","v":0},{"$f":"IF('Start - expert'!$F$3=\"CONSTANT\",IF(G$144>=0,G$144,0),IF(G$144*HLOOKUP(G$193,'Calcul de variation des prix'!$E$3:$AP$5, 3, FALSE)>0,G$144*HLOOKUP(G$193,'Calcul de variation des prix'!$E$3:$AP$5, 3, FALSE),0))/1000","v":0},{"$f":"IF('Start - expert'!$F$3=\"CONSTANT\",IF(H$144>=0,H$144,0),IF(H$144*HLOOKUP(H$193,'Calcul de variation des prix'!$E$3:$AP$5, 3, FALSE)>0,H$144*HLOOKUP(H$193,'Calcul de variation des prix'!$E$3:$AP$5, 3, FALSE),0))/1000","v":0},{"$f":"IF('Start - expert'!$F$3=\"CONSTANT\",IF(I$144>=0,I$144,0),IF(I$144*HLOOKUP(I$193,'Calcul de variation des prix'!$E$3:$AP$5, 3, FALSE)>0,I$144*HLOOKUP(I$193,'Calcul de variation des prix'!$E$3:$AP$5, 3, FALSE),0))/1000","v":0},{"$f":"IF('Start - expert'!$F$3=\"CONSTANT\",IF(J$144>=0,J$144,0),IF(J$144*HLOOKUP(J$193,'Calcul de variation des prix'!$E$3:$AP$5, 3, FALSE)>0,J$144*HLOOKUP(J$193,'Calcul de variation des prix'!$E$3:$AP$5, 3, FALSE),0))/1000","v":0},{"$f":"IF('Start - expert'!$F$3=\"CONSTANT\",IF(K$144>=0,K$144,0),IF(K$144*HLOOKUP(K$193,'Calcul de variation des prix'!$E$3:$AP$5, 3, FALSE)>0,K$144*HLOOKUP(K$193,'Calcul de variation des prix'!$E$3:$AP$5, 3, FALSE),0))/1000","v":0},{"$f":"IF('Start - expert'!$F$3=\"CONSTANT\",IF(L$144>=0,L$144,0),IF(L$144*HLOOKUP(L$193,'Calcul de variation des prix'!$E$3:$AP$5, 3, FALSE)>0,L$144*HLOOKUP(L$193,'Calcul de variation des prix'!$E$3:$AP$5, 3, FALSE),0))/1000","v":0},{"$f":"IF('Start - expert'!$F$3=\"CONSTANT\",IF(M$144>=0,M$144,0),IF(M$144*HLOOKUP(M$193,'Calcul de variation des prix'!$E$3:$AP$5, 3, FALSE)>0,M$144*HLOOKUP(M$193,'Calcul de variation des prix'!$E$3:$AP$5, 3, FALSE),0))/1000","v":8.8744197262916429E-7},{"$f":"IF('Start - expert'!$F$3=\"CONSTANT\",IF(N$144>=0,N$144,0),IF(N$144*HLOOKUP(N$193,'Calcul de variation des prix'!$E$3:$AP$5, 3, FALSE)>0,N$144*HLOOKUP(N$193,'Calcul de variation des prix'!$E$3:$AP$5, 3, FALSE),0))/1000","v":3.0881251061369866E-2},{"$f":"IF('Start - expert'!$F$3=\"CONSTANT\",IF(O$144>=0,O$144,0),IF(O$144*HLOOKUP(O$193,'Calcul de variation des prix'!$E$3:$AP$5, 3, FALSE)>0,O$144*HLOOKUP(O$193,'Calcul de variation des prix'!$E$3:$AP$5, 3, FALSE),0))/1000","v":4.8423049606959909E-2},{"$f":"IF('Start - expert'!$F$3=\"CONSTANT\",IF(P$144>=0,P$144,0),IF(P$144*HLOOKUP(P$193,'Calcul de variation des prix'!$E$3:$AP$5, 3, FALSE)>0,P$144*HLOOKUP(P$193,'Calcul de variation des prix'!$E$3:$AP$5, 3, FALSE),0))/1000","v":5.8497644980142337E-2},{"$f":"IF('Start - expert'!$F$3=\"CONSTANT\",IF(Q$144>=0,Q$144,0),IF(Q$144*HLOOKUP(Q$193,'Calcul de variation des prix'!$E$3:$AP$5, 3, FALSE)>0,Q$144*HLOOKUP(Q$193,'Calcul de variation des prix'!$E$3:$AP$5, 3, FALSE),0))/1000","v":6.2191936760619501E-2},{"$f":"IF('Start - expert'!$F$3=\"CONSTANT\",IF(R$144>=0,R$144,0),IF(R$144*HLOOKUP(R$193,'Calcul de variation des prix'!$E$3:$AP$5, 3, FALSE)>0,R$144*HLOOKUP(R$193,'Calcul de variation des prix'!$E$3:$AP$5, 3, FALSE),0))/1000","v":5.9590164014381865E-2},{"$f":"IF('Start - expert'!$F$3=\"CONSTANT\",IF(S$144>=0,S$144,0),IF(S$144*HLOOKUP(S$193,'Calcul de variation des prix'!$E$3:$AP$5, 3, FALSE)>0,S$144*HLOOKUP(S$193,'Calcul de variation des prix'!$E$3:$AP$5, 3, FALSE),0))/1000","v":7.0663283774022173E-2},{"$f":"IF('Start - expert'!$F$3=\"CONSTANT\",IF(T$144>=0,T$144,0),IF(T$144*HLOOKUP(T$193,'Calcul de variation des prix'!$E$3:$AP$5, 3, FALSE)>0,T$144*HLOOKUP(T$193,'Calcul de variation des prix'!$E$3:$AP$5, 3, FALSE),0))/1000","v":7.482273043726391E-2},{"$f":"IF('Start - expert'!$F$3=\"CONSTANT\",IF(U$144>=0,U$144,0),IF(U$144*HLOOKUP(U$193,'Calcul de variation des prix'!$E$3:$AP$5, 3, FALSE)>0,U$144*HLOOKUP(U$193,'Calcul de variation des prix'!$E$3:$AP$5, 3, FALSE),0))/1000","v":7.1560085761367756E-2},{"$f":"IF('Start - expert'!$F$3=\"CONSTANT\",IF(V$144>=0,V$144,0),IF(V$144*HLOOKUP(V$193,'Calcul de variation des prix'!$E$3:$AP$5, 3, FALSE)>0,V$144*HLOOKUP(V$193,'Calcul de variation des prix'!$E$3:$AP$5, 3, FALSE),0))/1000","v":6.0582185988697412E-2},{"$f":"IF('Start - expert'!$F$3=\"CONSTANT\",IF(W$144>=0,W$144,0),IF(W$144*HLOOKUP(W$193,'Calcul de variation des prix'!$E$3:$AP$5, 3, FALSE)>0,W$144*HLOOKUP(W$193,'Calcul de variation des prix'!$E$3:$AP$5, 3, FALSE),0))/1000","v":4.1708107200243615E-2},{"$f":"IF('Start - expert'!$F$3=\"CONSTANT\",IF(X$144>=0,X$144,0),IF(X$144*HLOOKUP(X$193,'Calcul de variation des prix'!$E$3:$AP$5, 3, FALSE)>0,X$144*HLOOKUP(X$193,'Calcul de variation des prix'!$E$3:$AP$5, 3, FALSE),0))/1000","v":1.4820142700322912E-2},{"$f":"IF('Start - expert'!$F$3=\"CONSTANT\",IF(Y$144>=0,Y$144,0),IF(Y$144*HLOOKUP(Y$193,'Calcul de variation des prix'!$E$3:$AP$5, 3, FALSE)>0,Y$144*HLOOKUP(Y$193,'Calcul de variation des prix'!$E$3:$AP$5, 3, FALSE),0))/1000","v":0},{"$f":"IF('Start - expert'!$F$3=\"CONSTANT\",IF(Z$144>=0,Z$144,0),IF(Z$144*HLOOKUP(Z$193,'Calcul de variation des prix'!$E$3:$AP$5, 3, FALSE)>0,Z$144*HLOOKUP(Z$193,'Calcul de variation des prix'!$E$3:$AP$5, 3, FALSE),0))/1000","v":0},{"$f":"IF('Start - expert'!$F$3=\"CONSTANT\",IF(AA$144>=0,AA$144,0),IF(AA$144*HLOOKUP(AA$193,'Calcul de variation des prix'!$E$3:$AP$5, 3, FALSE)>0,AA$144*HLOOKUP(AA$193,'Calcul de variation des prix'!$E$3:$AP$5, 3, FALSE),0))/1000","v":0},{"$f":"IF('Start - expert'!$F$3=\"CONSTANT\",IF(AB$144>=0,AB$144,0),IF(AB$144*HLOOKUP(AB$193,'Calcul de variation des prix'!$E$3:$AP$5, 3, FALSE)>0,AB$144*HLOOKUP(AB$193,'Calcul de variation des prix'!$E$3:$AP$5, 3, FALSE),0))/1000","v":0}]
[null,null,"Eolien en mer - remboursement","Md€",null,{"$f":"IF('Start - expert'!$F$3=\"CONSTANT\",IF(F$144<0,F$144,0),IF(F$144*HLOOKUP(F$193,'Calcul de variation des prix'!$E$3:$AP$5, 3, FALSE)<0,F$144*HLOOKUP(F$193,'Calcul de variation des prix'!$E$3:$AP$5, 3, FALSE),0))/1000","v":0},{"$f":"IF('Start - expert'!$F$3=\"CONSTANT\",IF(G$144<0,G$144,0),IF(G$144*HLOOKUP(G$193,'Calcul de variation des prix'!$E$3:$AP$5, 3, FALSE)<0,G$144*HLOOKUP(G$193,'Calcul de variation des prix'!$E$3:$AP$5, 3, FALSE),0))/1000","v":0},{"$f":"IF('Start - expert'!$F$3=\"CONSTANT\",IF(H$144<0,H$144,0),IF(H$144*HLOOKUP(H$193,'Calcul de variation des prix'!$E$3:$AP$5, 3, FALSE)<0,H$144*HLOOKUP(H$193,'Calcul de variation des prix'!$E$3:$AP$5, 3, FALSE),0))/1000","v":0},{"$f":"IF('Start - expert'!$F$3=\"CONSTANT\",IF(I$144<0,I$144,0),IF(I$144*HLOOKUP(I$193,'Calcul de variation des prix'!$E$3:$AP$5, 3, FALSE)<0,I$144*HLOOKUP(I$193,'Calcul de variation des prix'!$E$3:$AP$5, 3, FALSE),0))/1000","v":0},{"$f":"IF('Start - expert'!$F$3=\"CONSTANT\",IF(J$144<0,J$144,0),IF(J$144*HLOOKUP(J$193,'Calcul de variation des prix'!$E$3:$AP$5, 3, FALSE)<0,J$144*HLOOKUP(J$193,'Calcul de variation des prix'!$E$3:$AP$5, 3, FALSE),0))/1000","v":0},{"$f":"IF('Start - expert'!$F$3=\"CONSTANT\",IF(K$144<0,K$144,0),IF(K$144*HLOOKUP(K$193,'Calcul de variation des prix'!$E$3:$AP$5, 3, FALSE)<0,K$144*HLOOKUP(K$193,'Calcul de variation des prix'!$E$3:$AP$5, 3, FALSE),0))/1000","v":0},{"$f":"IF('Start - expert'!$F$3=\"CONSTANT\",IF(L$144<0,L$144,0),IF(L$144*HLOOKUP(L$193,'Calcul de variation des prix'!$E$3:$AP$5, 3, FALSE)<0,L$144*HLOOKUP(L$193,'Calcul de variation des prix'!$E$3:$AP$5, 3, FALSE),0))/1000","v":0},{"$f":"IF('Start - expert'!$F$3=\"CONSTANT\",IF(M$144<0,M$144,0),IF(M$144*HLOOKUP(M$193,'Calcul de variation des prix'!$E$3:$AP$5, 3, FALSE)<0,M$144*HLOOKUP(M$193,'Calcul de variation des prix'!$E$3:$AP$5, 3, FALSE),0))/1000","v":0},{"$f":"IF('Start - expert'!$F$3=\"CONSTANT\",IF(N$144<0,N$144,0),IF(N$144*HLOOKUP(N$193,'Calcul de variation des prix'!$E$3:$AP$5, 3, FALSE)<0,N$144*HLOOKUP(N$193,'Calcul de variation des prix'!$E$3:$AP$5, 3, FALSE),0))/1000","v":0},{"$f":"IF('Start - expert'!$F$3=\"CONSTANT\",IF(O$144<0,O$144,0),IF(O$144*HLOOKUP(O$193,'Calcul de variation des prix'!$E$3:$AP$5, 3, FALSE)<0,O$144*HLOOKUP(O$193,'Calcul de variation des prix'!$E$3:$AP$5, 3, FALSE),0))/1000","v":0},{"$f":"IF('Start - expert'!$F$3=\"CONSTANT\",IF(P$144<0,P$144,0),IF(P$144*HLOOKUP(P$193,'Calcul de variation des prix'!$E$3:$AP$5, 3, FALSE)<0,P$144*HLOOKUP(P$193,'Calcul de variation des prix'!$E$3:$AP$5, 3, FALSE),0))/1000","v":0},{"$f":"IF('Start - expert'!$F$3=\"CONSTANT\",IF(Q$144<0,Q$144,0),IF(Q$144*HLOOKUP(Q$193,'Calcul de variation des prix'!$E$3:$AP$5, 3, FALSE)<0,Q$144*HLOOKUP(Q$193,'Calcul de variation des prix'!$E$3:$AP$5, 3, FALSE),0))/1000","v":0},{"$f":"IF('Start - expert'!$F$3=\"CONSTANT\",IF(R$144<0,R$144,0),IF(R$144*HLOOKUP(R$193,'Calcul de variation des prix'!$E$3:$AP$5, 3, FALSE)<0,R$144*HLOOKUP(R$193,'Calcul de variation des prix'!$E$3:$AP$5, 3, FALSE),0))/1000","v":0},{"$f":"IF('Start - expert'!$F$3=\"CONSTANT\",IF(S$144<0,S$144,0),IF(S$144*HLOOKUP(S$193,'Calcul de variation des prix'!$E$3:$AP$5, 3, FALSE)<0,S$144*HLOOKUP(S$193,'Calcul de variation des prix'!$E$3:$AP$5, 3, FALSE),0))/1000","v":0},{"$f":"IF('Start - expert'!$F$3=\"CONSTANT\",IF(T$144<0,T$144,0),IF(T$144*HLOOKUP(T$193,'Calcul de variation des prix'!$E$3:$AP$5, 3, FALSE)<0,T$144*HLOOKUP(T$193,'Calcul de variation des prix'!$E$3:$AP$5, 3, FALSE),0))/1000","v":0},{"$f":"IF('Start - expert'!$F$3=\"CONSTANT\",IF(U$144<0,U$144,0),IF(U$144*HLOOKUP(U$193,'Calcul de variation des prix'!$E$3:$AP$5, 3, FALSE)<0,U$144*HLOOKUP(U$193,'Calcul de variation des prix'!$E$3:$AP$5, 3, FALSE),0))/1000","v":0},{"$f":"IF('Start - expert'!$F$3=\"CONSTANT\",IF(V$144<0,V$144,0),IF(V$144*HLOOKUP(V$193,'Calcul de variation des prix'!$E$3:$AP$5, 3, FALSE)<0,V$144*HLOOKUP(V$193,'Calcul de variation des prix'!$E$3:$AP$5, 3, FALSE),0))/1000","v":0},{"$f":"IF('Start - expert'!$F$3=\"CONSTANT\",IF(W$144<0,W$144,0),IF(W$144*HLOOKUP(W$193,'Calcul de variation des prix'!$E$3:$AP$5, 3, FALSE)<0,W$144*HLOOKUP(W$193,'Calcul de variation des prix'!$E$3:$AP$5, 3, FALSE),0))/1000","v":0},{"$f":"IF('Start - expert'!$F$3=\"CONSTANT\",IF(X$144<0,X$144,0),IF(X$144*HLOOKUP(X$193,'Calcul de variation des prix'!$E$3:$AP$5, 3, FALSE)<0,X$144*HLOOKUP(X$193,'Calcul de variation des prix'!$E$3:$AP$5, 3, FALSE),0))/1000","v":0},{"$f":"IF('Start - expert'!$F$3=\"CONSTANT\",IF(Y$144<0,Y$144,0),IF(Y$144*HLOOKUP(Y$193,'Calcul de variation des prix'!$E$3:$AP$5, 3, FALSE)<0,Y$144*HLOOKUP(Y$193,'Calcul de variation des prix'!$E$3:$AP$5, 3, FALSE),0))/1000","v":-2.0161589992773513E-2},{"$f":"IF('Start - expert'!$F$3=\"CONSTANT\",IF(Z$144<0,Z$144,0),IF(Z$144*HLOOKUP(Z$193,'Calcul de variation des prix'!$E$3:$AP$5, 3, FALSE)<0,Z$144*HLOOKUP(Z$193,'Calcul de variation des prix'!$E$3:$AP$5, 3, FALSE),0))/1000","v":-6.3293212533816048E-2},{"$f":"IF('Start - expert'!$F$3=\"CONSTANT\",IF(AA$144<0,AA$144,0),IF(AA$144*HLOOKUP(AA$193,'Calcul de variation des prix'!$E$3:$AP$5, 3, FALSE)<0,AA$144*HLOOKUP(AA$193,'Calcul de variation des prix'!$E$3:$AP$5, 3, FALSE),0))/1000","v":-0.11461530876401384},{"$f":"IF('Start - expert'!$F$3=\"CONSTANT\",IF(AB$144<0,AB$144,0),IF(AB$144*HLOOKUP(AB$193,'Calcul de variation des prix'!$E$3:$AP$5, 3, FALSE)<0,AB$144*HLOOKUP(AB$193,'Calcul de variation des prix'!$E$3:$AP$5, 3, FALSE),0))/1000","v":-0.1741579538584965}]
[null,null,"PV au sol","Md€",null,{"$f":"IF('Start - expert'!$F$3=\"CONSTANT\",IF(F$167>=0,F$167,0),IF(F$167*HLOOKUP(F$193,'Calcul de variation des prix'!$E$3:$AP$5, 3, FALSE)>0,F$167*HLOOKUP(F$193,'Calcul de variation des prix'!$E$3:$AP$5, 3, FALSE),0))/1000","v":0},{"$f":"IF('Start - expert'!$F$3=\"CONSTANT\",IF(G$167>=0,G$167,0),IF(G$167*HLOOKUP(G$193,'Calcul de variation des prix'!$E$3:$AP$5, 3, FALSE)>0,G$167*HLOOKUP(G$193,'Calcul de variation des prix'!$E$3:$AP$5, 3, FALSE),0))/1000","v":0},{"$f":"IF('Start - expert'!$F$3=\"CONSTANT\",IF(H$167>=0,H$167,0),IF(H$167*HLOOKUP(H$193,'Calcul de variation des prix'!$E$3:$AP$5, 3, FALSE)>0,H$167*HLOOKUP(H$193,'Calcul de variation des prix'!$E$3:$AP$5, 3, FALSE),0))/1000","v":3.2220226162647921E-2},{"$f":"IF('Start - expert'!$F$3=\"CONSTANT\",IF(I$167>=0,I$167,0),IF(I$167*HLOOKUP(I$193,'Calcul de variation des prix'!$E$3:$AP$5, 3, FALSE)>0,I$167*HLOOKUP(I$193,'Calcul de variation des prix'!$E$3:$AP$5, 3, FALSE),0))/1000","v":6.1825139797904854E-2},{"$f":"IF('Start - expert'!$F$3=\"CONSTANT\",IF(J$167>=0,J$167,0),IF(J$167*HLOOKUP(J$193,'Calcul de variation des prix'!$E$3:$AP$5, 3, FALSE)>0,J$167*HLOOKUP(J$193,'Calcul de variation des prix'!$E$3:$AP$5, 3, FALSE),0))/1000","v":8.8849151074593777E-2},{"$f":"IF('Start - expert'!$F$3=\"CONSTANT\",IF(K$167>=0,K$167,0),IF(K$167*HLOOKUP(K$193,'Calcul de variation des prix'!$E$3:$AP$5, 3, FALSE)>0,K$167*HLOOKUP(K$193,'Calcul de variation des prix'!$E$3:$AP$5, 3, FALSE),0))/1000","v":0.1265455905687885},{"$f":"IF('Start - expert'!$F$3=\"CONSTANT\",IF(L$167>=0,L$167,0),IF(L$167*HLOOKUP(L$193,'Calcul de variation des prix'!$E$3:$AP$5, 3, FALSE)>0,L$167*HLOOKUP(L$193,'Calcul de variation des prix'!$E$3:$AP$5, 3, FALSE),0))/1000","v":0.16037323686551325},{"$f":"IF('Start - expert'!$F$3=\"CONSTANT\",IF(M$167>=0,M$167,0),IF(M$167*HLOOKUP(M$193,'Calcul de variation des prix'!$E$3:$AP$5, 3, FALSE)>0,M$167*HLOOKUP(M$193,'Calcul de variation des prix'!$E$3:$AP$5, 3, FALSE),0))/1000","v":0.19030404635976733},{"$f":"IF('Start - expert'!$F$3=\"CONSTANT\",IF(N$167>=0,N$167,0),IF(N$167*HLOOKUP(N$193,'Calcul de variation des prix'!$E$3:$AP$5, 3, FALSE)>0,N$167*HLOOKUP(N$193,'Calcul de variation des prix'!$E$3:$AP$5, 3, FALSE),0))/1000","v":0.1985266168395875},{"$f":"IF('Start - expert'!$F$3=\"CONSTANT\",IF(O$167>=0,O$167,0),IF(O$167*HLOOKUP(O$193,'Calcul de variation des prix'!$E$3:$AP$5, 3, FALSE)>0,O$167*HLOOKUP(O$193,'Calcul de variation des prix'!$E$3:$AP$5, 3, FALSE),0))/1000","v":0.19868898488363512},{"$f":"IF('Start - expert'!$F$3=\"CONSTANT\",IF(P$167>=0,P$167,0),IF(P$167*HLOOKUP(P$193,'Calcul de variation des prix'!$E$3:$AP$5, 3, FALSE)>0,P$167*HLOOKUP(P$193,'Calcul de variation des prix'!$E$3:$AP$5, 3, FALSE),0))/1000","v":0.19345017378003046},{"$f":"IF('Start - expert'!$F$3=\"CONSTANT\",IF(Q$167>=0,Q$167,0),IF(Q$167*HLOOKUP(Q$193,'Calcul de variation des prix'!$E$3:$AP$5, 3, FALSE)>0,Q$167*HLOOKUP(Q$193,'Calcul de variation des prix'!$E$3:$AP$5, 3, FALSE),0))/1000","v":0.1828069160630032},{"$f":"IF('Start - expert'!$F$3=\"CONSTANT\",IF(R$167>=0,R$167,0),IF(R$167*HLOOKUP(R$193,'Calcul de variation des prix'!$E$3:$AP$5, 3, FALSE)>0,R$167*HLOOKUP(R$193,'Calcul de variation des prix'!$E$3:$AP$5, 3, FALSE),0))/1000","v":0.16675684358776358},{"$f":"IF('Start - expert'!$F$3=\"CONSTANT\",IF(S$167>=0,S$167,0),IF(S$167*HLOOKUP(S$193,'Calcul de variation des prix'!$E$3:$AP$5, 3, FALSE)>0,S$167*HLOOKUP(S$193,'Calcul de variation des prix'!$E$3:$AP$5, 3, FALSE),0))/1000","v":0.15212323189686536},{"$f":"IF('Start - expert'!$F$3=\"CONSTANT\",IF(T$167>=0,T$167,0),IF(T$167*HLOOKUP(T$193,'Calcul de variation des prix'!$E$3:$AP$5, 3, FALSE)>0,T$167*HLOOKUP(T$193,'Calcul de variation des prix'!$E$3:$AP$5, 3, FALSE),0))/1000","v":0.13538134072716582},{"$f":"IF('Start - expert'!$F$3=\"CONSTANT\",IF(U$167>=0,U$167,0),IF(U$167*HLOOKUP(U$193,'Calcul de variation des prix'!$E$3:$AP$5, 3, FALSE)>0,U$167*HLOOKUP(U$193,'Calcul de variation des prix'!$E$3:$AP$5, 3, FALSE),0))/1000","v":0.11659626338992669},{"$f":"IF('Start - expert'!$F$3=\"CONSTANT\",IF(V$167>=0,V$167,0),IF(V$167*HLOOKUP(V$193,'Calcul de variation des prix'!$E$3:$AP$5, 3, FALSE)>0,V$167*HLOOKUP(V$193,'Calcul de variation des prix'!$E$3:$AP$5, 3, FALSE),0))/1000","v":9.5768107825726909E-2},{"$f":"IF('Start - expert'!$F$3=\"CONSTANT\",IF(W$167>=0,W$167,0),IF(W$167*HLOOKUP(W$193,'Calcul de variation des prix'!$E$3:$AP$5, 3, FALSE)>0,W$167*HLOOKUP(W$193,'Calcul de variation des prix'!$E$3:$AP$5, 3, FALSE),0))/1000","v":7.289696912777606E-2},{"$f":"IF('Start - expert'!$F$3=\"CONSTANT\",IF(X$167>=0,X$167,0),IF(X$167*HLOOKUP(X$193,'Calcul de variation des prix'!$E$3:$AP$5, 3, FALSE)>0,X$167*HLOOKUP(X$193,'Calcul de variation des prix'!$E$3:$AP$5, 3, FALSE),0))/1000","v":4.7982931398090185E-2},{"$f":"IF('Start - expert'!$F$3=\"CONSTANT\",IF(Y$167>=0,Y$167,0),IF(Y$167*HLOOKUP(Y$193,'Calcul de variation des prix'!$E$3:$AP$5, 3, FALSE)>0,Y$167*HLOOKUP(Y$193,'Calcul de variation des prix'!$E$3:$AP$5, 3, FALSE),0))/1000","v":2.1026069290910158E-2},{"$f":"IF('Start - expert'!$F$3=\"CONSTANT\",IF(Z$167>=0,Z$167,0),IF(Z$167*HLOOKUP(Z$193,'Calcul de variation des prix'!$E$3:$AP$5, 3, FALSE)>0,Z$167*HLOOKUP(Z$193,'Calcul de variation des prix'!$E$3:$AP$5, 3, FALSE),0))/1000","v":0},{"$f":"IF('Start - expert'!$F$3=\"CONSTANT\",IF(AA$167>=0,AA$167,0),IF(AA$167*HLOOKUP(AA$193,'Calcul de variation des prix'!$E$3:$AP$5, 3, FALSE)>0,AA$167*HLOOKUP(AA$193,'Calcul de variation des prix'!$E$3:$AP$5, 3, FALSE),0))/1000","v":0},{"$f":"IF('Start - expert'!$F$3=\"CONSTANT\",IF(AB$167>=0,AB$167,0),IF(AB$167*HLOOKUP(AB$193,'Calcul de variation des prix'!$E$3:$AP$5, 3, FALSE)>0,AB$167*HLOOKUP(AB$193,'Calcul de variation des prix'!$E$3:$AP$5, 3, FALSE),0))/1000","v":0}]
[null,null,"PV au sol - remboursement","Md€",null,{"$f":"IF('Start - expert'!$F$3=\"CONSTANT\",IF(F$167<0,F$167,0),IF(F$167*HLOOKUP(F$193,'Calcul de variation des prix'!$E$3:$AP$5, 3, FALSE)<0,F$167*HLOOKUP(F$193,'Calcul de variation des prix'!$E$3:$AP$5, 3, FALSE),0))/1000","v":0},{"$f":"IF('Start - expert'!$F$3=\"CONSTANT\",IF(G$167<0,G$167,0),IF(G$167*HLOOKUP(G$193,'Calcul de variation des prix'!$E$3:$AP$5, 3, FALSE)<0,G$167*HLOOKUP(G$193,'Calcul de variation des prix'!$E$3:$AP$5, 3, FALSE),0))/1000","v":0},{"$f":"IF('Start - expert'!$F$3=\"CONSTANT\",IF(H$167<0,H$167,0),IF(H$167*HLOOKUP(H$193,'Calcul de variation des prix'!$E$3:$AP$5, 3, FALSE)<0,H$167*HLOOKUP(H$193,'Calcul de variation des prix'!$E$3:$AP$5, 3, FALSE),0))/1000","v":0},{"$f":"IF('Start - expert'!$F$3=\"CONSTANT\",IF(I$167<0,I$167,0),IF(I$167*HLOOKUP(I$193,'Calcul de variation des prix'!$E$3:$AP$5, 3, FALSE)<0,I$167*HLOOKUP(I$193,'Calcul de variation des prix'!$E$3:$AP$5, 3, FALSE),0))/1000","v":0},{"$f":"IF('Start - expert'!$F$3=\"CONSTANT\",IF(J$167<0,J$167,0),IF(J$167*HLOOKUP(J$193,'Calcul de variation des prix'!$E$3:$AP$5, 3, FALSE)<0,J$167*HLOOKUP(J$193,'Calcul de variation des prix'!$E$3:$AP$5, 3, FALSE),0))/1000","v":0},{"$f":"IF('Start - expert'!$F$3=\"CONSTANT\",IF(K$167<0,K$167,0),IF(K$167*HLOOKUP(K$193,'Calcul de variation des prix'!$E$3:$AP$5, 3, FALSE)<0,K$167*HLOOKUP(K$193,'Calcul de variation des prix'!$E$3:$AP$5, 3, FALSE),0))/1000","v":0},{"$f":"IF('Start - expert'!$F$3=\"CONSTANT\",IF(L$167<0,L$167,0),IF(L$167*HLOOKUP(L$193,'Calcul de variation des prix'!$E$3:$AP$5, 3, FALSE)<0,L$167*HLOOKUP(L$193,'Calcul de variation des prix'!$E$3:$AP$5, 3, FALSE),0))/1000","v":0},{"$f":"IF('Start - expert'!$F$3=\"CONSTANT\",IF(M$167<0,M$167,0),IF(M$167*HLOOKUP(M$193,'Calcul de variation des prix'!$E$3:$AP$5, 3, FALSE)<0,M$167*HLOOKUP(M$193,'Calcul de variation des prix'!$E$3:$AP$5, 3, FALSE),0))/1000","v":0},{"$f":"IF('Start - expert'!$F$3=\"CONSTANT\",IF(N$167<0,N$167,0),IF(N$167*HLOOKUP(N$193,'Calcul de variation des prix'!$E$3:$AP$5, 3, FALSE)<0,N$167*HLOOKUP(N$193,'Calcul de variation des prix'!$E$3:$AP$5, 3, FALSE),0))/1000","v":0},{"$f":"IF('Start - expert'!$F$3=\"CONSTANT\",IF(O$167<0,O$167,0),IF(O$167*HLOOKUP(O$193,'Calcul de variation des prix'!$E$3:$AP$5, 3, FALSE)<0,O$167*HLOOKUP(O$193,'Calcul de variation des prix'!$E$3:$AP$5, 3, FALSE),0))/1000","v":0},{"$f":"IF('Start - expert'!$F$3=\"CONSTANT\",IF(P$167<0,P$167,0),IF(P$167*HLOOKUP(P$193,'Calcul de variation des prix'!$E$3:$AP$5, 3, FALSE)<0,P$167*HLOOKUP(P$193,'Calcul de variation des prix'!$E$3:$AP$5, 3, FALSE),0))/1000","v":0},{"$f":"IF('Start - expert'!$F$3=\"CONSTANT\",IF(Q$167<0,Q$167,0),IF(Q$167*HLOOKUP(Q$193,'Calcul de variation des prix'!$E$3:$AP$5, 3, FALSE)<0,Q$167*HLOOKUP(Q$193,'Calcul de variation des prix'!$E$3:$AP$5, 3, FALSE),0))/1000","v":0},{"$f":"IF('Start - expert'!$F$3=\"CONSTANT\",IF(R$167<0,R$167,0),IF(R$167*HLOOKUP(R$193,'Calcul de variation des prix'!$E$3:$AP$5, 3, FALSE)<0,R$167*HLOOKUP(R$193,'Calcul de variation des prix'!$E$3:$AP$5, 3, FALSE),0))/1000","v":0},{"$f":"IF('Start - expert'!$F$3=\"CONSTANT\",IF(S$167<0,S$167,0),IF(S$167*HLOOKUP(S$193,'Calcul de variation des prix'!$E$3:$AP$5, 3, FALSE)<0,S$167*HLOOKUP(S$193,'Calcul de variation des prix'!$E$3:$AP$5, 3, FALSE),0))/1000","v":0},{"$f":"IF('Start - expert'!$F$3=\"CONSTANT\",IF(T$167<0,T$167,0),IF(T$167*HLOOKUP(T$193,'Calcul de variation des prix'!$E$3:$AP$5, 3, FALSE)<0,T$167*HLOOKUP(T$193,'Calcul de variation des prix'!$E$3:$AP$5, 3, FALSE),0))/1000","v":0},{"$f":"IF('Start - expert'!$F$3=\"CONSTANT\",IF(U$167<0,U$167,0),IF(U$167*HLOOKUP(U$193,'Calcul de variation des prix'!$E$3:$AP$5, 3, FALSE)<0,U$167*HLOOKUP(U$193,'Calcul de variation des prix'!$E$3:$AP$5, 3, FALSE),0))/1000","v":0},{"$f":"IF('Start - expert'!$F$3=\"CONSTANT\",IF(V$167<0,V$167,0),IF(V$167*HLOOKUP(V$193,'Calcul de variation des prix'!$E$3:$AP$5, 3, FALSE)<0,V$167*HLOOKUP(V$193,'Calcul de variation des prix'!$E$3:$AP$5, 3, FALSE),0))/1000","v":0},{"$f":"IF('Start - expert'!$F$3=\"CONSTANT\",IF(W$167<0,W$167,0),IF(W$167*HLOOKUP(W$193,'Calcul de variation des prix'!$E$3:$AP$5, 3, FALSE)<0,W$167*HLOOKUP(W$193,'Calcul de variation des prix'!$E$3:$AP$5, 3, FALSE),0))/1000","v":0},{"$f":"IF('Start - expert'!$F$3=\"CONSTANT\",IF(X$167<0,X$167,0),IF(X$167*HLOOKUP(X$193,'Calcul de variation des prix'!$E$3:$AP$5, 3, FALSE)<0,X$167*HLOOKUP(X$193,'Calcul de variation des prix'!$E$3:$AP$5, 3, FALSE),0))/1000","v":0},{"$f":"IF('Start - expert'!$F$3=\"CONSTANT\",IF(Y$167<0,Y$167,0),IF(Y$167*HLOOKUP(Y$193,'Calcul de variation des prix'!$E$3:$AP$5, 3, FALSE)<0,Y$167*HLOOKUP(Y$193,'Calcul de variation des prix'!$E$3:$AP$5, 3, FALSE),0))/1000","v":0},{"$f":"IF('Start - expert'!$F$3=\"CONSTANT\",IF(Z$167<0,Z$167,0),IF(Z$167*HLOOKUP(Z$193,'Calcul de variation des prix'!$E$3:$AP$5, 3, FALSE)<0,Z$167*HLOOKUP(Z$193,'Calcul de variation des prix'!$E$3:$AP$5, 3, FALSE),0))/1000","v":-8.1850186085494769E-3},{"$f":"IF('Start - expert'!$F$3=\"CONSTANT\",IF(AA$167<0,AA$167,0),IF(AA$167*HLOOKUP(AA$193,'Calcul de variation des prix'!$E$3:$AP$5, 3, FALSE)<0,AA$167*HLOOKUP(AA$193,'Calcul de variation des prix'!$E$3:$AP$5, 3, FALSE),0))/1000","v":-3.9650245171102175E-2},{"$f":"IF('Start - expert'!$F$3=\"CONSTANT\",IF(AB$167<0,AB$167,0),IF(AB$167*HLOOKUP(AB$193,'Calcul de variation des prix'!$E$3:$AP$5, 3, FALSE)<0,AB$167*HLOOKUP(AB$193,'Calcul de variation des prix'!$E$3:$AP$5, 3, FALSE),0))/1000","v":-8.9047283484357601E-2}]
[null,null,"PV sur toiture","Md€",null,{"$f":"IF('Start - expert'!$F$3=\"CONSTANT\",IF(F$190>=0,F$190,0),IF(F$190*HLOOKUP(F$193,'Calcul de variation des prix'!$E$3:$AP$5, 3, FALSE)>0,F$190*HLOOKUP(F$193,'Calcul de variation des prix'!$E$3:$AP$5, 3, FALSE),0))/1000","v":0},{"$f":"IF('Start - expert'!$F$3=\"CONSTANT\",IF(G$190>=0,G$190,0),IF(G$190*HLOOKUP(G$193,'Calcul de variation des prix'!$E$3:$AP$5, 3, FALSE)>0,G$190*HLOOKUP(G$193,'Calcul de variation des prix'!$E$3:$AP$5, 3, FALSE),0))/1000","v":0},{"$f":"IF('Start - expert'!$F$3=\"CONSTANT\",IF(H$190>=0,H$190,0),IF(H$190*HLOOKUP(H$193,'Calcul de variation des prix'!$E$3:$AP$5, 3, FALSE)>0,H$190*HLOOKUP(H$193,'Calcul de variation des prix'!$E$3:$AP$5, 3, FALSE),0))/1000","v":4.7838766898218352E-2},{"$f":"IF('Start - expert'!$F$3=\"CONSTANT\",IF(I$190>=0,I$190,0),IF(I$190*HLOOKUP(I$193,'Calcul de variation des prix'!$E$3:$AP$5, 3, FALSE)>0,I$190*HLOOKUP(I$193,'Calcul de variation des prix'!$E$3:$AP$5, 3, FALSE),0))/1000","v":9.4343212517228325E-2},{"$f":"IF('Start - expert'!$F$3=\"CONSTANT\",IF(J$190>=0,J$190,0),IF(J$190*HLOOKUP(J$193,'Calcul de variation des prix'!$E$3:$AP$5, 3, FALSE)>0,J$190*HLOOKUP(J$193,'Calcul de variation des prix'!$E$3:$AP$5, 3, FALSE),0))/1000","v":0.13955738255738898},{"$f":"IF('Start - expert'!$F$3=\"CONSTANT\",IF(K$190>=0,K$190,0),IF(K$190*HLOOKUP(K$193,'Calcul de variation des prix'!$E$3:$AP$5, 3, FALSE)>0,K$190*HLOOKUP(K$193,'Calcul de variation des prix'!$E$3:$AP$5, 3, FALSE),0))/1000","v":0.20701265678686698},{"$f":"IF('Start - expert'!$F$3=\"CONSTANT\",IF(L$190>=0,L$190,0),IF(L$190*HLOOKUP(L$193,'Calcul de variation des prix'!$E$3:$AP$5, 3, FALSE)>0,L$190*HLOOKUP(L$193,'Calcul de variation des prix'!$E$3:$AP$5, 3, FALSE),0))/1000","v":0.27270501848121786},{"$f":"IF('Start - expert'!$F$3=\"CONSTANT\",IF(M$190>=0,M$190,0),IF(M$190*HLOOKUP(M$193,'Calcul de variation des prix'!$E$3:$AP$5, 3, FALSE)>0,M$190*HLOOKUP(M$193,'Calcul de variation des prix'!$E$3:$AP$5, 3, FALSE),0))/1000","v":0.33659597081085574},{"$f":"IF('Start - expert'!$F$3=\"CONSTANT\",IF(N$190>=0,N$190,0),IF(N$190*HLOOKUP(N$193,'Calcul de variation des prix'!$E$3:$AP$5, 3, FALSE)>0,N$190*HLOOKUP(N$193,'Calcul de variation des prix'!$E$3:$AP$5, 3, FALSE),0))/1000","v":0.37580711462256094},{"$f":"IF('Start - expert'!$F$3=\"CONSTANT\",IF(O$190>=0,O$190,0),IF(O$190*HLOOKUP(O$193,'Calcul de variation des prix'!$E$3:$AP$5, 3, FALSE)>0,O$190*HLOOKUP(O$193,'Calcul de variation des prix'!$E$3:$AP$5, 3, FALSE),0))/1000","v":0.41047248676640019},{"$f":"IF('Start - expert'!$F$3=\"CONSTANT\",IF(P$190>=0,P$190,0),IF(P$190*HLOOKUP(P$193,'Calcul de variation des prix'!$E$3:$AP$5, 3, FALSE)>0,P$190*HLOOKUP(P$193,'Calcul de variation des prix'!$E$3:$AP$5, 3, FALSE),0))/1000","v":0.43988085819689909},{"$f":"IF('Start - expert'!$F$3=\"CONSTANT\",IF(Q$190>=0,Q$190,0),IF(Q$190*HLOOKUP(Q$193,'Calcul de variation des prix'!$E$3:$AP$5, 3, FALSE)>0,Q$190*HLOOKUP(Q$193,'Calcul de variation des prix'!$E$3:$AP$5, 3, FALSE),0))/1000","v":0.46402303852267029},{"$f":"IF('Start - expert'!$F$3=\"CONSTANT\",IF(R$190>=0,R$190,0),IF(R$190*HLOOKUP(R$193,'Calcul de variation des prix'!$E$3:$AP$5, 3, FALSE)>0,R$190*HLOOKUP(R$193,'Calcul de variation des prix'!$E$3:$AP$5, 3, FALSE),0))/1000","v":0.48289215171783989},{"$f":"IF('Start - expert'!$F$3=\"CONSTANT\",IF(S$190>=0,S$190,0),IF(S$190*HLOOKUP(S$193,'Calcul de variation des prix'!$E$3:$AP$5, 3, FALSE)>0,S$190*HLOOKUP(S$193,'Calcul de variation des prix'!$E$3:$AP$5, 3, FALSE),0))/1000","v":0.4813099241381314},{"$f":"IF('Start - expert'!$F$3=\"CONSTANT\",IF(T$190>=0,T$190,0),IF(T$190*HLOOKUP(T$193,'Calcul de variation des prix'!$E$3:$AP$5, 3, FALSE)>0,T$190*HLOOKUP(T$193,'Calcul de variation des prix'!$E$3:$AP$5, 3, FALSE),0))/1000","v":0.47835234109366798},{"$f":"IF('Start - expert'!$F$3=\"CONSTANT\",IF(U$190>=0,U$190,0),IF(U$190*HLOOKUP(U$193,'Calcul de variation des prix'!$E$3:$AP$5, 3, FALSE)>0,U$190*HLOOKUP(U$193,'Calcul de variation des prix'!$E$3:$AP$5, 3, FALSE),0))/1000","v":0.47400360715082351},{"$f":"IF('Start - expert'!$F$3=\"CONSTANT\",IF(V$190>=0,V$190,0),IF(V$190*HLOOKUP(V$193,'Calcul de variation des prix'!$E$3:$AP$5, 3, FALSE)>0,V$190*HLOOKUP(V$193,'Calcul de variation des prix'!$E$3:$AP$5, 3, FALSE),0))/1000","v":0.46826389694477394},{"$f":"IF('Start - expert'!$F$3=\"CONSTANT\",IF(W$190>=0,W$190,0),IF(W$190*HLOOKUP(W$193,'Calcul de variation des prix'!$E$3:$AP$5, 3, FALSE)>0,W$190*HLOOKUP(W$193,'Calcul de variation des prix'!$E$3:$AP$5, 3, FALSE),0))/1000","v":0.46113337269300381},{"$f":"IF('Start - expert'!$F$3=\"CONSTANT\",IF(X$190>=0,X$190,0),IF(X$190*HLOOKUP(X$193,'Calcul de variation des prix'!$E$3:$AP$5, 3, FALSE)>0,X$190*HLOOKUP(X$193,'Calcul de variation des prix'!$E$3:$AP$5, 3, FALSE),0))/1000","v":0.45261218527975489},{"$f":"IF('Start - expert'!$F$3=\"CONSTANT\",IF(Y$190>=0,Y$190,0),IF(Y$190*HLOOKUP(Y$193,'Calcul de variation des prix'!$E$3:$AP$5, 3, FALSE)>0,Y$190*HLOOKUP(Y$193,'Calcul de variation des prix'!$E$3:$AP$5, 3, FALSE),0))/1000","v":0.4427004752287842},{"$f":"IF('Start - expert'!$F$3=\"CONSTANT\",IF(Z$190>=0,Z$190,0),IF(Z$190*HLOOKUP(Z$193,'Calcul de variation des prix'!$E$3:$AP$5, 3, FALSE)>0,Z$190*HLOOKUP(Z$193,'Calcul de variation des prix'!$E$3:$AP$5, 3, FALSE),0))/1000","v":0.43168093150541265},{"$f":"IF('Start - expert'!$F$3=\"CONSTANT\",IF(AA$190>=0,AA$190,0),IF(AA$190*HLOOKUP(AA$193,'Calcul de variation des prix'!$E$3:$AP$5, 3, FALSE)>0,AA$190*HLOOKUP(AA$193,'Calcul de variation des prix'!$E$3:$AP$5, 3, FALSE),0))/1000","v":0.41955363221679576},{"$f":"IF('Start - expert'!$F$3=\"CONSTANT\",IF(AB$190>=0,AB$190,0),IF(AB$190*HLOOKUP(AB$193,'Calcul de variation des prix'!$E$3:$AP$5, 3, FALSE)>0,AB$190*HLOOKUP(AB$193,'Calcul de variation des prix'!$E$3:$AP$5, 3, FALSE),0))/1000","v":0.37070306374288065}]
[null,null,"PV sur toiture - remboursement","Md€",null,{"$f":"IF('Start - expert'!$F$3=\"CONSTANT\",IF(F$190<0,F$190,0),IF(F$190*HLOOKUP(F$193,'Calcul de variation des prix'!$E$3:$AP$5, 3, FALSE)<0,F$190*HLOOKUP(F$193,'Calcul de variation des prix'!$E$3:$AP$5, 3, FALSE),0))/1000","v":0},{"$f":"IF('Start - expert'!$F$3=\"CONSTANT\",IF(G$190<0,G$190,0),IF(G$190*HLOOKUP(G$193,'Calcul de variation des prix'!$E$3:$AP$5, 3, FALSE)<0,G$190*HLOOKUP(G$193,'Calcul de variation des prix'!$E$3:$AP$5, 3, FALSE),0))/1000","v":0},{"$f":"IF('Start - expert'!$F$3=\"CONSTANT\",IF(H$190<0,H$190,0),IF(H$190*HLOOKUP(H$193,'Calcul de variation des prix'!$E$3:$AP$5, 3, FALSE)<0,H$190*HLOOKUP(H$193,'Calcul de variation des prix'!$E$3:$AP$5, 3, FALSE),0))/1000","v":0},{"$f":"IF('Start - expert'!$F$3=\"CONSTANT\",IF(I$190<0,I$190,0),IF(I$190*HLOOKUP(I$193,'Calcul de variation des prix'!$E$3:$AP$5, 3, FALSE)<0,I$190*HLOOKUP(I$193,'Calcul de variation des prix'!$E$3:$AP$5, 3, FALSE),0))/1000","v":0},{"$f":"IF('Start - expert'!$F$3=\"CONSTANT\",IF(J$190<0,J$190,0),IF(J$190*HLOOKUP(J$193,'Calcul de variation des prix'!$E$3:$AP$5, 3, FALSE)<0,J$190*HLOOKUP(J$193,'Calcul de variation des prix'!$E$3:$AP$5, 3, FALSE),0))/1000","v":0},{"$f":"IF('Start - expert'!$F$3=\"CONSTANT\",IF(K$190<0,K$190,0),IF(K$190*HLOOKUP(K$193,'Calcul de variation des prix'!$E$3:$AP$5, 3, FALSE)<0,K$190*HLOOKUP(K$193,'Calcul de variation des prix'!$E$3:$AP$5, 3, FALSE),0))/1000","v":0},{"$f":"IF('Start - expert'!$F$3=\"CONSTANT\",IF(L$190<0,L$190,0),IF(L$190*HLOOKUP(L$193,'Calcul de variation des prix'!$E$3:$AP$5, 3, FALSE)<0,L$190*HLOOKUP(L$193,'Calcul de variation des prix'!$E$3:$AP$5, 3, FALSE),0))/1000","v":0},{"$f":"IF('Start - expert'!$F$3=\"CONSTANT\",IF(M$190<0,M$190,0),IF(M$190*HLOOKUP(M$193,'Calcul de variation des prix'!$E$3:$AP$5, 3, FALSE)<0,M$190*HLOOKUP(M$193,'Calcul de variation des prix'!$E$3:$AP$5, 3, FALSE),0))/1000","v":0},{"$f":"IF('Start - expert'!$F$3=\"CONSTANT\",IF(N$190<0,N$190,0),IF(N$190*HLOOKUP(N$193,'Calcul de variation des prix'!$E$3:$AP$5, 3, FALSE)<0,N$190*HLOOKUP(N$193,'Calcul de variation des prix'!$E$3:$AP$5, 3, FALSE),0))/1000","v":0},{"$f":"IF('Start - expert'!$F$3=\"CONSTANT\",IF(O$190<0,O$190,0),IF(O$190*HLOOKUP(O$193,'Calcul de variation des prix'!$E$3:$AP$5, 3, FALSE)<0,O$190*HLOOKUP(O$193,'Calcul de variation des prix'!$E$3:$AP$5, 3, FALSE),0))/1000","v":0},{"$f":"IF('Start - expert'!$F$3=\"CONSTANT\",IF(P$190<0,P$190,0),IF(P$190*HLOOKUP(P$193,'Calcul de variation des prix'!$E$3:$AP$5, 3, FALSE)<0,P$190*HLOOKUP(P$193,'Calcul de variation des prix'!$E$3:$AP$5, 3, FALSE),0))/1000","v":0},{"$f":"IF('Start - expert'!$F$3=\"CONSTANT\",IF(Q$190<0,Q$190,0),IF(Q$190*HLOOKUP(Q$193,'Calcul de variation des prix'!$E$3:$AP$5, 3, FALSE)<0,Q$190*HLOOKUP(Q$193,'Calcul de variation des prix'!$E$3:$AP$5, 3, FALSE),0))/1000","v":0},{"$f":"IF('Start - expert'!$F$3=\"CONSTANT\",IF(R$190<0,R$190,0),IF(R$190*HLOOKUP(R$193,'Calcul de variation des prix'!$E$3:$AP$5, 3, FALSE)<0,R$190*HLOOKUP(R$193,'Calcul de variation des prix'!$E$3:$AP$5, 3, FALSE),0))/1000","v":0},{"$f":"IF('Start - expert'!$F$3=\"CONSTANT\",IF(S$190<0,S$190,0),IF(S$190*HLOOKUP(S$193,'Calcul de variation des prix'!$E$3:$AP$5, 3, FALSE)<0,S$190*HLOOKUP(S$193,'Calcul de variation des prix'!$E$3:$AP$5, 3, FALSE),0))/1000","v":0},{"$f":"IF('Start - expert'!$F$3=\"CONSTANT\",IF(T$190<0,T$190,0),IF(T$190*HLOOKUP(T$193,'Calcul de variation des prix'!$E$3:$AP$5, 3, FALSE)<0,T$190*HLOOKUP(T$193,'Calcul de variation des prix'!$E$3:$AP$5, 3, FALSE),0))/1000","v":0},{"$f":"IF('Start - expert'!$F$3=\"CONSTANT\",IF(U$190<0,U$190,0),IF(U$190*HLOOKUP(U$193,'Calcul de variation des prix'!$E$3:$AP$5, 3, FALSE)<0,U$190*HLOOKUP(U$193,'Calcul de variation des prix'!$E$3:$AP$5, 3, FALSE),0))/1000","v":0},{"$f":"IF('Start - expert'!$F$3=\"CONSTANT\",IF(V$190<0,V$190,0),IF(V$190*HLOOKUP(V$193,'Calcul de variation des prix'!$E$3:$AP$5, 3, FALSE)<0,V$190*HLOOKUP(V$193,'Calcul de variation des prix'!$E$3:$AP$5, 3, FALSE),0))/1000","v":0},{"$f":"IF('Start - expert'!$F$3=\"CONSTANT\",IF(W$190<0,W$190,0),IF(W$190*HLOOKUP(W$193,'Calcul de variation des prix'!$E$3:$AP$5, 3, FALSE)<0,W$190*HLOOKUP(W$193,'Calcul de variation des prix'!$E$3:$AP$5, 3, FALSE),0))/1000","v":0},{"$f":"IF('Start - expert'!$F$3=\"CONSTANT\",IF(X$190<0,X$190,0),IF(X$190*HLOOKUP(X$193,'Calcul de variation des prix'!$E$3:$AP$5, 3, FALSE)<0,X$190*HLOOKUP(X$193,'Calcul de variation des prix'!$E$3:$AP$5, 3, FALSE),0))/1000","v":0},{"$f":"IF('Start - expert'!$F$3=\"CONSTANT\",IF(Y$190<0,Y$190,0),IF(Y$190*HLOOKUP(Y$193,'Calcul de variation des prix'!$E$3:$AP$5, 3, FALSE)<0,Y$190*HLOOKUP(Y$193,'Calcul de variation des prix'!$E$3:$AP$5, 3, FALSE),0))/1000","v":0},{"$f":"IF('Start - expert'!$F$3=\"CONSTANT\",IF(Z$190<0,Z$190,0),IF(Z$190*HLOOKUP(Z$193,'Calcul de variation des prix'!$E$3:$AP$5, 3, FALSE)<0,Z$190*HLOOKUP(Z$193,'Calcul de variation des prix'!$E$3:$AP$5, 3, FALSE),0))/1000","v":0},{"$f":"IF('Start - expert'!$F$3=\"CONSTANT\",IF(AA$190<0,AA$190,0),IF(AA$190*HLOOKUP(AA$193,'Calcul de variation des prix'!$E$3:$AP$5, 3, FALSE)<0,AA$190*HLOOKUP(AA$193,'Calcul de variation des prix'!$E$3:$AP$5, 3, FALSE),0))/1000","v":0},{"$f":"IF('Start - expert'!$F$3=\"CONSTANT\",IF(AB$190<0,AB$190,0),IF(AB$190*HLOOKUP(AB$193,'Calcul de variation des prix'!$E$3:$AP$5, 3, FALSE)<0,AB$190*HLOOKUP(AB$193,'Calcul de variation des prix'!$E$3:$AP$5, 3, FALSE),0))/1000","v":0}]
[null,null,"Total","Md€",null,{"$f":"SUM(F194:F203)","v":3.8135013016383827},{"$f":"SUM(G194:G203)","v":4.0973951069009669},4.2571756118216273,4.4968169890381491,4.6343856297741048,4.8335141364553422,5.1729966862464698,5.3223787994241576,5.0948463332951279,4.8835905398671846,4.7291539283494899,4.5744377763979145,4.3119219753318943,3.8536077907328088,3.0677588479031601,2.5470378199226129,2.2619384120763724,2.0751466898145976,1.8806714775063822,1.6275744517387278,1.412540358998319,1.1800980393802647,0.9208623243821713]
[]
[null,"Calcul des investissements annualisés"]
[]
[null,null,"Hypothèse de prix de marché de la Cour des Comptes"]
[null,null,{"$f":"'Données de production'!C6","v":"Eolien terrestre"},"€/MWh",null,{"$f":"F$95","v":35.257731958762882},{"$f":"G$95","v":34.794248276484417},36.257759116146332,35.95869668824411,35.662100996785703,35.367951695555341,35.076228606157592,34.786911716633114,34.499981180085868,34.215417313321609,33.933200595497674,33.653311666783829,33.375731327034238,33.100440534470323,32.827420404374543,32.556652207794862,32.288117370260032,32.021797470505334,31.757674239208942,31.495729557738642,31.235945456908908,30.97830411574823,30.722787860276622]
[null,null,{"$f":"'Données de production'!C7","v":"Eolien en mer"},"€/MWh",null,{"$f":"F$95","v":35.257731958762882},34.794248276484417,36.257759116146332,35.95869668824411,35.662100996785703,35.367951695555341,35.076228606157592,34.786911716633114,34.499981180085868,34.215417313321609,33.933200595497674,33.653311666783829,33.375731327034238,33.100440534470323,32.827420404374543,32.556652207794862,32.288117370260032,32.021797470505334,31.757674239208942,31.495729557738642,31.235945456908908,30.97830411574823,30.722787860276622]
[null,null,{"$f":"'Données de production'!C8","v":"PV au sol"},"€/MWh",null,{"$f":"F$95","v":35.257731958762882},34.794248276484417,36.257759116146332,35.95869668824411,35.662100996785703,35.367951695555341,35.076228606157592,34.786911716633114,34.499981180085868,34.215417313321609,33.933200595497674,33.653311666783829,33.375731327034238,33.100440534470323,32.827420404374543,32.556652207794862,32.288117370260032,32.021797470505334,31.757674239208942,31.495729557738642,31.235945456908908,30.97830411574823,30.722787860276622]
[null,null,{"$f":"'Données de production'!C9","v":"PV sur toiture"},"€/MWh",null,{"$f":"F$95","v":35.257731958762882},34.794248276484417,36.257759116146332,35.95869668824411,35.662100996785703,35.367951695555341,35.076228606157592,34.786911716633114,34.499981180085868,34.215417313321609,33.933200595497674,33.653311666783829,33.375731327034238,33.100440534470323,32.827420404374543,32.556652207794862,32.288117370260032,32.021797470505334,31.757674239208942,31.495729557738642,31.235945456908908,30.97830411574823,30.722787860276622]
[null,null,"Estimation de l'évolution des investissements annualisés passés"]
[null,null,{"$f":"C102","v":"Ajustement des dépenses au titre des engagements passés hors éolien en mer"},"M€",null,{"$f":"F$94+(SUMPRODUCT('Données - Graphiques'!$F$13:$F$14,F$76:F$77,F211:F212)+SUMPRODUCT('Données - Graphiques'!$F$11,F$74,F209))*8760*1000/1000000*F$94/MAX($F$94:$AB$94)","v":5978.6278859420418},{"$f":"G$94+(SUMPRODUCT('Données - Graphiques'!$F$13:$F$14,G$76:G$77,G211:G212)+SUMPRODUCT('Données - Graphiques'!$F$11,G$74,G209))*8760*1000/1000000*G$94/MAX($F$94:$AB$94)","v":6384.1792310810315},{"$f":"H$94+(SUMPRODUCT('Données - Graphiques'!$F$13:$F$14,H$76:H$77,H211:H212)+SUMPRODUCT('Données - Graphiques'!$F$11,H$74,H209))*8760*1000/1000000*H$94/MAX($F$94:$AB$94)","v":6394.2110781353949},{"$f":"I$94+(SUMPRODUCT('Données - Graphiques'!$F$13:$F$14,I$76:I$77,I211:I212)+SUMPRODUCT('Données - Graphiques'!$F$11,I$74,I209))*8760*1000/1000000*I$94/MAX($F$94:$AB$94)","v":6300.8818050429218},{"$f":"J$94+(SUMPRODUCT('Données - Graphiques'!$F$13:$F$14,J$76:J$77,J211:J212)+SUMPRODUCT('Données - Graphiques'!$F$11,J$74,J209))*8760*1000/1000000*J$94/MAX($F$94:$AB$94)","v":6037.8436681934572},{"$f":"K$94+(SUMPRODUCT('Données - Graphiques'!$F$13:$F$14,K$76:K$77,K211:K212)+SUMPRODUCT('Données - Graphiques'!$F$11,K$74,K209))*8760*1000/1000000*K$94/MAX($F$94:$AB$94)","v":5943.3524963369437},{"$f":"L$94+(SUMPRODUCT('Données - Graphiques'!$F$13:$F$14,L$76:L$77,L211:L212)+SUMPRODUCT('Données - Graphiques'!$F$11,L$74,L209))*8760*1000/1000000*L$94/MAX($F$94:$AB$94)","v":5881.3670804135709},{"$f":"M$94+(SUMPRODUCT('Données - Graphiques'!$F$13:$F$14,M$76:M$77,M211:M212)+SUMPRODUCT('Données - Graphiques'!$F$11,M$74,M209))*8760*1000/1000000*M$94/MAX($F$94:$AB$94)","v":5748.7922534976888},{"$f":"N$94+(SUMPRODUCT('Données - Graphiques'!$F$13:$F$14,N$76:N$77,N211:N212)+SUMPRODUCT('Données - Graphiques'!$F$11,N$74,N209))*8760*1000/1000000*N$94/MAX($F$94:$AB$94)","v":5323.6127458023138},{"$f":"O$94+(SUMPRODUCT('Données - Graphiques'!$F$13:$F$14,O$76:O$77,O211:O212)+SUMPRODUCT('Données - Graphiques'!$F$11,O$74,O209))*8760*1000/1000000*O$94/MAX($F$94:$AB$94)","v":4965.1884508830444},{"$f":"P$94+(SUMPRODUCT('Données - Graphiques'!$F$13:$F$14,P$76:P$77,P211:P212)+SUMPRODUCT('Données - Graphiques'!$F$11,P$74,P209))*8760*1000/1000000*P$94/MAX($F$94:$AB$94)","v":4734.6923425768118},{"$f":"Q$94+(SUMPRODUCT('Données - Graphiques'!$F$13:$F$14,Q$76:Q$77,Q211:Q212)+SUMPRODUCT('Données - Graphiques'!$F$11,Q$74,Q209))*8760*1000/1000000*Q$94/MAX($F$94:$AB$94)","v":4549.6904281104871},{"$f":"R$94+(SUMPRODUCT('Données - Graphiques'!$F$13:$F$14,R$76:R$77,R211:R212)+SUMPRODUCT('Données - Graphiques'!$F$11,R$74,R209))*8760*1000/1000000*R$94/MAX($F$94:$AB$94)","v":4229.8416740737612},{"$f":"S$94+(SUMPRODUCT('Données - Graphiques'!$F$13:$F$14,S$76:S$77,S211:S212)+SUMPRODUCT('Données - Graphiques'!$F$11,S$74,S209))*8760*1000/1000000*S$94/MAX($F$94:$AB$94)","v":3411.8075124443212},{"$f":"T$94+(SUMPRODUCT('Données - Graphiques'!$F$13:$F$14,T$76:T$77,T211:T212)+SUMPRODUCT('Données - Graphiques'!$F$11,T$74,T209))*8760*1000/1000000*T$94/MAX($F$94:$AB$94)","v":2076.026356224811},{"$f":"U$94+(SUMPRODUCT('Données - Graphiques'!$F$13:$F$14,U$76:U$77,U211:U212)+SUMPRODUCT('Données - Graphiques'!$F$11,U$74,U209))*8760*1000/1000000*U$94/MAX($F$94:$AB$94)","v":1238.3985712480082},{"$f":"V$94+(SUMPRODUCT('Données - Graphiques'!$F$13:$F$14,V$76:V$77,V211:V212)+SUMPRODUCT('Données - Graphiques'!$F$11,V$74,V209))*8760*1000/1000000*V$94/MAX($F$94:$AB$94)","v":846.11527135236815},{"$f":"W$94+(SUMPRODUCT('Données - Graphiques'!$F$13:$F$14,W$76:W$77,W211:W212)+SUMPRODUCT('Données - Graphiques'!$F$11,W$74,W209))*8760*1000/1000000*W$94/MAX($F$94:$AB$94)","v":662.61136925099777},{"$f":"X$94+(SUMPRODUCT('Données - Graphiques'!$F$13:$F$14,X$76:X$77,X211:X212)+SUMPRODUCT('Données - Graphiques'!$F$11,X$74,X209))*8760*1000/1000000*X$94/MAX($F$94:$AB$94)","v":502.13386774069113},{"$f":"Y$94+(SUMPRODUCT('Données - Graphiques'!$F$13:$F$14,Y$76:Y$77,Y211:Y212)+SUMPRODUCT('Données - Graphiques'!$F$11,Y$74,Y209))*8760*1000/1000000*Y$94/MAX($F$94:$AB$94)","v":265.89184337068195},{"$f":"Z$94+(SUMPRODUCT('Données - Graphiques'!$F$13:$F$14,Z$76:Z$77,Z211:Z212)+SUMPRODUCT('Données - Graphiques'!$F$11,Z$74,Z209))*8760*1000/1000000*Z$94/MAX($F$94:$AB$94)","v":116.69626188487457},{"$f":"AA$94+(SUMPRODUCT('Données - Graphiques'!$F$13:$F$14,AA$76:AA$77,AA211:AA212)+SUMPRODUCT('Données - Graphiques'!$F$11,AA$74,AA209))*8760*1000/1000000*AA$94/MAX($F$94:$AB$94)","v":0},{"$f":"AB$94+(SUMPRODUCT('Données - Graphiques'!$F$13:$F$14,AB$76:AB$77,AB211:AB212)+SUMPRODUCT('Données - Graphiques'!$F$11,AB$74,AB209))*8760*1000/1000000*AB$94/MAX($F$94:$AB$94)","v":0}]
[null,null,{"$f":"C103","v":"Ajustement des dépenses au titre des engagements AO éolien en mer 2011-2013"},"M€",null,{"$f":"F$93+(SUMPRODUCT('Données - Graphiques'!$F$12,F$75,F210))*8760*1000/1000000*F$93/MAX($F$93:$AB$93)","v":0},{"$f":"G$93+(SUMPRODUCT('Données - Graphiques'!$F$12,G$75,G210))*8760*1000/1000000*G$93/MAX($F$93:$AB$93)","v":0},{"$f":"H$93+(SUMPRODUCT('Données - Graphiques'!$F$12,H$75,H210))*8760*1000/1000000*H$93/MAX($F$93:$AB$93)","v":0},{"$f":"I$93+(SUMPRODUCT('Données - Graphiques'!$F$12,I$75,I210))*8760*1000/1000000*I$93/MAX($F$93:$AB$93)","v":279.28185277476393},{"$f":"J$93+(SUMPRODUCT('Données - Graphiques'!$F$12,J$75,J210))*8760*1000/1000000*J$93/MAX($F$93:$AB$93)","v":544.72066369895356},{"$f":"K$93+(SUMPRODUCT('Données - Graphiques'!$F$12,K$75,K210))*8760*1000/1000000*K$93/MAX($F$93:$AB$93)","v":644.29775279138187},{"$f":"L$93+(SUMPRODUCT('Données - Graphiques'!$F$12,L$75,L210))*8760*1000/1000000*L$93/MAX($F$93:$AB$93)","v":915.5788953810013},{"$f":"M$93+(SUMPRODUCT('Données - Graphiques'!$F$12,M$75,M210))*8760*1000/1000000*M$93/MAX($F$93:$AB$93)","v":976.38532601625911},{"$f":"N$93+(SUMPRODUCT('Données - Graphiques'!$F$12,N$75,N210))*8760*1000/1000000*N$93/MAX($F$93:$AB$93)","v":935.17771810806175},{"$f":"O$93+(SUMPRODUCT('Données - Graphiques'!$F$12,O$75,O210))*8760*1000/1000000*O$93/MAX($F$93:$AB$93)","v":901.23499306664553},{"$f":"P$93+(SUMPRODUCT('Données - Graphiques'!$F$12,P$75,P210))*8760*1000/1000000*P$93/MAX($F$93:$AB$93)","v":871.56544473795623},{"$f":"Q$93+(SUMPRODUCT('Données - Graphiques'!$F$12,Q$75,Q210))*8760*1000/1000000*Q$93/MAX($F$93:$AB$93)","v":844.70140345260415},{"$f":"R$93+(SUMPRODUCT('Données - Graphiques'!$F$12,R$75,R210))*8760*1000/1000000*R$93/MAX($F$93:$AB$93)","v":819.83591806404957},{"$f":"S$93+(SUMPRODUCT('Données - Graphiques'!$F$12,S$75,S210))*8760*1000/1000000*S$93/MAX($F$93:$AB$93)","v":870.63968451140181},{"$f":"T$93+(SUMPRODUCT('Données - Graphiques'!$F$12,T$75,T210))*8760*1000/1000000*T$93/MAX($F$93:$AB$93)","v":900.93737428011787},{"$f":"U$93+(SUMPRODUCT('Données - Graphiques'!$F$12,U$75,U210))*8760*1000/1000000*U$93/MAX($F$93:$AB$93)","v":917.78201088317439},{"$f":"V$93+(SUMPRODUCT('Données - Graphiques'!$F$12,V$75,V210))*8760*1000/1000000*V$93/MAX($F$93:$AB$93)","v":925.41992406392183},{"$f":"W$93+(SUMPRODUCT('Données - Graphiques'!$F$12,W$75,W210))*8760*1000/1000000*W$93/MAX($F$93:$AB$93)","v":926.55331782331871},{"$f":"X$93+(SUMPRODUCT('Données - Graphiques'!$F$12,X$75,X210))*8760*1000/1000000*X$93/MAX($F$93:$AB$93)","v":922.97976117145345},{"$f":"Y$93+(SUMPRODUCT('Données - Graphiques'!$F$12,Y$75,Y210))*8760*1000/1000000*Y$93/MAX($F$93:$AB$93)","v":915.93899280865219},{"$f":"Z$93+(SUMPRODUCT('Données - Graphiques'!$F$12,Z$75,Z210))*8760*1000/1000000*Z$93/MAX($F$93:$AB$93)","v":906.31189422808029},{"$f":"AA$93+(SUMPRODUCT('Données - Graphiques'!$F$12,AA$75,AA210))*8760*1000/1000000*AA$93/MAX($F$93:$AB$93)","v":859.31295782174288},{"$f":"AB$93+(SUMPRODUCT('Données - Graphiques'!$F$12,AB$75,AB210))*8760*1000/1000000*AB$93/MAX($F$93:$AB$93)","v":763.14199934977023}]
[null,null,"Estimation de l'évolution des investissements annualisés futurs par technologie"]
[null,null,{"$f":"'Données de production'!C6","v":"Eolien terrestre"}]
[null,null,2021,"M€",null,null,null,null,{"$f":"($I$58-$H$58)*1000*I$74*8760*$F$79/1000000","v":266.10089672169192},{"$f":"($I$58-$H$58)*1000*J$74*8760*$F$79/1000000","v":270.99273906806843},277.87788204785426,283.81291791337321,288.98181665592949,291.21229109978111,293.16418892350441,294.88663209079419,296.4178346720426,297.78797132495629,295.0980403526566,292.70732401281543,290.56852796361073,288.64382622709468,286.9026046615777,285.3198204122815,283.87478970488598,282.55027894417043,281.33181412414962,280.20714972811982]
[null,null,2022,"M€",null,null,null,null,null,{"$f":"($J$58-$I$58)*1000*J$74*8760*$G$79/1000000","v":267.88558373275754},274.69178286770978,280.55876865034378,285.66840170422938,287.87330191833479,289.8028196231005,291.50551355837985,293.01915963871932,294.37358654447945,291.71449785009816,289.35119304554786,287.23692005765577,285.33428661451927,283.61302959084156,282.04839326883592,280.61993103071961,279.31060687866011,278.10611276309214,276.99434357226443]
[null,null,2023,"M€",null,null,null,null,null,null,{"$f":"($K$58-$J$58)*1000*K$74*8760*$H$79/1000000","v":254.07568917925116},259.50234752543662,264.22849377584811,266.26791241306336,268.05261647484463,269.62752028358267,271.02756460606224,272.28033942856092,269.8208199425373,267.63488525352653,265.67929211235685,263.91945460184348,262.32738089661677,260.88017323835226,259.55891956331709,258.34786245479853,257.23376770711309,256.20543871809537]
[null,null,2024,"M€",null,null,null,null,null,null,null,{"$f":"($L$58-$K$58)*1000*L$74*8760*$I$79/1000000","v":256.45710661013186},261.12779188274988,263.14327809262215,264.90703878382323,266.46346121248217,267.84707611806169,269.08514972038449,266.65449251419085,264.4942096075884,262.5615652077459,260.82237926066699,259.2489884229887,257.81876363989244,256.51301477931884,255.31616933667843,254.21514840871569,253.19888678456624]
[null,null,2025,"M€",null,null,null,null,null,null,null,null,{"$f":"($M$58-$L$58)*1000*M$74*8760*$J$79/1000000","v":258.02708998966},260.01864377218942,261.76146109281041,263.29940214139032,264.66658763006973,265.88996001221659,263.48816508585293,261.35353396165868,259.44383830314348,257.72530391949891,256.17059594936899,254.75735404144095,253.46710999532885,252.28447621856657,251.19652911032657,250.1923348510453]
[null,null,2026,"M€",null,null,null,null,null,null,null,null,null,{"$f":"($N$58-$M$58)*1000*N$74*8760*$K$79/1000000","v":284.02619997126141},285.92993184847927,287.60987120002312,289.10328910795459,290.43961562596928,287.81606265242561,285.48434075068195,283.39832263628506,281.52111574286653,279.82286137766062,278.2791346551237,276.86976220345508,275.5779356917156,274.3895382812828,273.29262663156857]
[null,null,2027,"M€",null,null,null,null,null,null,null,null,null,null,{"$f":"($O$58-$N$58)*1000*O$74*8760*$L$79/1000000","v":282.4521299324947},284.11163596928282,285.58688924636232,286.9069618559642,284.31531948897742,282.0119586155634,279.95131300326221,278.09693881465489,276.41934053203181,274.89439035282032,273.50216027649191,272.22604641396202,271.05210363150127,269.96853385688343]
[null,null,2028,"M€",null,null,null,null,null,null,null,null,null,null,null,{"$f":"($P$58-$O$58)*1000*P$74*8760*$M$79/1000000","v":280.61340073862033},282.0704893848482,283.37430808603767,280.81457632560722,278.53957648052216,276.50430337031599,274.67276188651954,273.01581968647872,271.50964605059232,270.13455834960365,268.87415713628297,267.71466898179403,266.64444108227224]
[null,null,2029,"M€",null,null,null,null,null,null,null,null,null,null,null,null,{"$f":"($Q$58-$P$58)*1000*Q$74*8760*$N$79/1000000","v":275.11267393266559},276.3843314179627,273.88774040378678,271.66885784027335,269.68378868698051,267.89742572457089,266.28135521609897,264.81233427286145,263.47116577580977,262.24185480187259,261.11096767053749,260.06713901693792]
[null,null,2030,"M€",null,null,null,null,null,null,null,null,null,null,null,null,null,{"$f":"($R$58-$Q$58)*1000*R$74*8760*$O$79/1000000","v":269.39435475017024},266.96090448224641,264.79813920030222,262.86327400392076,261.12208956289624,259.54689074599145,258.11502249540138,256.80777320228526,255.60955246773034,254.507266359548,253.48983695186945]
[null,null,2031,"M€",null,null,null,null,null,null,null,null,null,null,null,null,null,null,{"$f":"($S$58-$R$58)*1000*S$74*8760*$P$79/1000000","v":309.39550636704763},306.88896009631947,304.64653962524915,302.62858631162067,300.80300276211102,299.14353279851673,297.6284905200377,296.23980736575294,294.9623080657567,293.7831538094735]
[null,null,2032,"M€",null,null,null,null,null,null,null,null,null,null,null,null,null,null,null,{"$f":"($T$58-$S$58)*1000*T$74*8760*$Q$79/1000000","v":298.71399485224293},296.53130839509038,294.56710969745689,292.79015638235757,291.17489168855104,289.70020738829976,288.34851623437146,287.10504719852526,285.95730347281153]
[null,null,2033,"M€",null,null,null,null,null,null,null,null,null,null,null,null,null,null,null,null,{"$f":"($U$58-$T$58)*1000*U$74*8760*$R$79/1000000","v":288.41607716488801},286.50563308324979,284.77731000256097,283.20625057854261,281.77192425651913,280.45722510294763,279.24778633125163,278.1314531361075]
[null,null,2034,"M€",null,null,null,null,null,null,null,null,null,null,null,null,null,null,null,null,null,{"$f":"($V$58-$U$58)*1000*V$74*8760*$S$79/1000000","v":281.44814972817846},279.75033552481494,278.20700891289277,276.79800174924441,275.50651005939557,274.31842066359485,273.22179331678745]
[null,null,2035,"M€",null,null,null,null,null,null,null,null,null,null,null,null,null,null,null,null,null,null,{"$f":"($W$58-$V$58)*1000*W$74*8760*$T$79/1000000","v":274.72336104705033},273.20776724722458,271.82407924195127,270.5557950158252,269.38905499591988,268.31213349744934]
[null,null,2036,"M€",null,null,null,null,null,null,null,null,null,null,null,null,null,null,null,null,null,null,null,{"$f":"($X$58-$W$58)*1000*X$74*8760*$U$79/1000000","v":268.20852558161545},{"$f":"($X$58-$W$58)*1000*Y$74*8760*$U$79/1000000","v":266.85015673471696},{"$f":"($X$58-$W$58)*1000*Z$74*8760*$U$79/1000000","v":265.60507997231332},{"$f":"($X$58-$W$58)*1000*AA$74*8760*$U$79/1000000","v":264.45968932830328},{"$f":"($X$58-$W$58)*1000*AB$74*8760*$U$79/1000000","v":263.40247367816926}]
[null,null,2037,"M€",null,null,null,null,null,null,null,null,null,null,null,null,null,null,null,null,null,null,null,null,{"$f":"($Y$58-$X$58)*1000*Y$74*8760*$V$79/1000000","v":261.87623422742428},{"$f":"($Y$58-$X$58)*1000*Z$74*8760*$V$79/1000000","v":260.65436492874341},{"$f":"($Y$58-$X$58)*1000*AA$74*8760*$V$79/1000000","v":259.53032366062871},{"$f":"($Y$58-$X$58)*1000*AB$74*8760*$V$79/1000000","v":258.49281385883148}]
[null,null,2038,"M€",null,null,null,null,null,null,null,null,null,null,null,null,null,null,null,null,null,null,null,null,null,{"$f":"($Z$58-$Y$58)*1000*Z$74*8760*$W$79/1000000","v":255.70364988509891},{"$f":"($Z$58-$Y$58)*1000*AA$74*8760*$W$79/1000000","v":254.60095799288001},{"$f":"($Z$58-$Y$58)*1000*AB$74*8760*$W$79/1000000","v":253.58315403941992}]
[null,null,2039,"M€",null,null,null,null,null,null,null,null,null,null,null,null,null,null,null,null,null,null,null,null,null,null,{"$f":"($AA$58-$Z$58)*1000*AA$74*8760*$X$79/1000000","v":249.81239909607649},{"$f":"($AA$58-$Z$58)*1000*AB$74*8760*$X$79/1000000","v":248.81373809563175}]
[null,null,2040,"M€",null,null,null,null,null,null,null,null,null,null,null,null,null,null,null,null,null,null,null,null,null,null,null,{"$f":"($AB$58-$AA$58)*1000*AB$74*8760*$Y$79/1000000","v":244.04432215176979}]
[null,null,"Total","M€",null,{"$f":"SUMIF(F218:F237,\">0\")","v":0},{"$f":"SUMIF(G218:G237,\">0\")","v":0},0,266.10089672169192,538.87832280082603,806.64535409481527,1080.3311406992855,1358.0335940084169,1652.5416272672521,1946.0701866790571,2238.1174371945554,2524.8515643367864,2805.9165787667016,3089.966125465427,3363.6469737170423,3627.4850705305048,3884.9050611756375,4136.193032798551,4381.5830092349452,4621.2682789994087,4855.4098889088855,5084.2839043709964,5308.0030702500735]
[null,null,{"$f":"'Données de production'!C7","v":"Eolien en mer"}]
[null,null,2025,"M€",null,null,null,null,null,null,null,null,{"$f":"($M$59-3)*1000*M$75*8760*$F$80/1000000","v":48.80930849460421},{"$f":"($M$59-3)*1000*N$75*8760*$F$80/1000000","v":48.112431478672079},47.652381959557367,47.325968660529831,47.082347769038421,46.893564939038733,50.120911289294689,52.481595493394423,54.283389797578167,55.703761610831293,56.852233676975935,57.800060036647416,58.595597748607084,59.272820195962794,59.856294907841622,60.364227966200176]
[null,null,2026,"M€",null,null,null,null,null,null,null,null,null,{"$f":"IF('Start - expert'!$D$3=\"PPE - AMPERE\",0.2*1000*N$75*8760*$G$80/1000000+($N$59-$M$59+0.2)*1000*N$75*8760*$H$80/1000000,($N$59-$M$59)*1000*N$75*8760*$G$80/1000000)","v":182.91102371836692},{"$f":"IF('Start - expert'!$D$3=\"PPE - AMPERE\",0.2*1000*O$75*8760*$G$80/1000000+($N$59-$M$59+0.2)*1000*O$75*8760*$H$80/1000000,($N$59-$M$59)*1000*O$75*8760*$G$80/1000000)","v":181.16203440487286},{"$f":"IF('Start - expert'!$D$3=\"PPE - AMPERE\",0.2*1000*P$75*8760*$G$80/1000000+($N$59-$M$59+0.2)*1000*P$75*8760*$H$80/1000000,($N$59-$M$59)*1000*P$75*8760*$G$80/1000000)","v":179.92109544491015},{"$f":"IF('Start - expert'!$D$3=\"PPE - AMPERE\",0.2*1000*Q$75*8760*$G$80/1000000+($N$59-$M$59+0.2)*1000*Q$75*8760*$H$80/1000000,($N$59-$M$59)*1000*Q$75*8760*$G$80/1000000)","v":178.99491181019556},{"$f":"IF('Start - expert'!$D$3=\"PPE - AMPERE\",0.2*1000*R$75*8760*$G$80/1000000+($N$59-$M$59+0.2)*1000*R$75*8760*$H$80/1000000,($N$59-$M$59)*1000*R$75*8760*$G$80/1000000)","v":178.27720830541637},{"$f":"IF('Start - expert'!$D$3=\"PPE - AMPERE\",0.2*1000*S$75*8760*$G$80/1000000+($N$59-$M$59+0.2)*1000*S$75*8760*$H$80/1000000,($N$59-$M$59)*1000*S$75*8760*$G$80/1000000)","v":190.5467446118642},{"$f":"IF('Start - expert'!$D$3=\"PPE - AMPERE\",0.2*1000*T$75*8760*$G$80/1000000+($N$59-$M$59+0.2)*1000*T$75*8760*$H$80/1000000,($N$59-$M$59)*1000*T$75*8760*$G$80/1000000)","v":199.52145553744012},{"$f":"IF('Start - expert'!$D$3=\"PPE - AMPERE\",0.2*1000*U$75*8760*$G$80/1000000+($N$59-$M$59+0.2)*1000*U$75*8760*$H$80/1000000,($N$59-$M$59)*1000*U$75*8760*$G$80/1000000)","v":206.37141157955506},{"$f":"IF('Start - expert'!$D$3=\"PPE - AMPERE\",0.2*1000*V$75*8760*$G$80/1000000+($N$59-$M$59+0.2)*1000*V$75*8760*$H$80/1000000,($N$59-$M$59)*1000*V$75*8760*$G$80/1000000)","v":211.7712979381983},{"$f":"IF('Start - expert'!$D$3=\"PPE - AMPERE\",0.2*1000*W$75*8760*$G$80/1000000+($N$59-$M$59+0.2)*1000*W$75*8760*$H$80/1000000,($N$59-$M$59)*1000*W$75*8760*$G$80/1000000)","v":216.13749176532986},{"$f":"IF('Start - expert'!$D$3=\"PPE - AMPERE\",0.2*1000*X$75*8760*$G$80/1000000+($N$59-$M$59+0.2)*1000*X$75*8760*$H$80/1000000,($N$59-$M$59)*1000*X$75*8760*$G$80/1000000)","v":219.74088249879586},{"$f":"IF('Start - expert'!$D$3=\"PPE - AMPERE\",0.2*1000*Y$75*8760*$G$80/1000000+($N$59-$M$59+0.2)*1000*Y$75*8760*$H$80/1000000,($N$59-$M$59)*1000*Y$75*8760*$G$80/1000000)","v":222.7653111719884},{"$f":"IF('Start - expert'!$D$3=\"PPE - AMPERE\",0.2*1000*Z$75*8760*$G$80/1000000+($N$59-$M$59+0.2)*1000*Z$75*8760*$H$80/1000000,($N$59-$M$59)*1000*Z$75*8760*$G$80/1000000)","v":225.33993580275151},{"$f":"IF('Start - expert'!$D$3=\"PPE - AMPERE\",0.2*1000*AA$75*8760*$G$80/1000000+($N$59-$M$59+0.2)*1000*AA$75*8760*$H$80/1000000,($N$59-$M$59)*1000*AA$75*8760*$G$80/1000000)","v":227.55815578423068},{"$f":"IF('Start - expert'!$D$3=\"PPE - AMPERE\",0.2*1000*AB$75*8760*$G$80/1000000+($N$59-$M$59+0.2)*1000*AB$75*8760*$H$80/1000000,($N$59-$M$59)*1000*AB$75*8760*$G$80/1000000)","v":229.48918593235257}]
[null,null,2027,"M€",null,null,null,null,null,null,null,null,null,null,{"$f":"($O$59-$N$59)*1000*O$75*8760*$I$80/1000000","v":128.54113378080876},{"$f":"($O$59-$N$59)*1000*P$75*8760*$I$80/1000000","v":127.66064189744925},127.00348050661734,126.49424344419508,135.19993121689311,141.56781906667493,146.42811509334874,150.25953328815822,153.35750857138987,155.91424697332141,158.06019047615558,159.88698144913982,161.46089020066853,162.83102719112523]
[null,null,2028,"M€",null,null,null,null,null,null,null,null,null,null,null,{"$f":"($P$59-$O$59)*1000*P$75*8760*$K$80/1000000","v":125.82379812920549},{"$f":"($P$59-$O$59)*1000*Q$75*8760*$K$80/1000000","v":125.17609229795355},124.67418238750832,133.25460846563959,139.53087202981624,144.32123573956204,148.09752561502364,151.15092571432547,153.67087651335282,155.78594313125521,157.58644934203917,159.13771192448195,160.48813471363783]
[null,null,2029,"M€",null,null,null,null,null,null,null,null,null,null,null,null,{"$f":"($Q$59-$P$59)*1000*Q$75*8760*$L$80/1000000","v":124.26239819352477},{"$f":"($Q$59-$P$59)*1000*R$75*8760*$L$80/1000000","v":123.76415185906846},132.28194708990969,138.51239851127895,143.26779606255693,147.01652177834174,150.04763428567631,152.54919128324963,154.64881945868447,156.43618328836692,157.97612278626551,159.3166884747699]
[null,null,2030,"M€",null,null,null,null,null,null,null,null,null,null,null,null,null,{"$f":"($R$59-$Q$59)*1000*R$75*8760*$M$80/1000000","v":122.85412133074286},{"$f":"($R$59-$Q$59)*1000*S$75*8760*$M$80/1000000","v":131.30928571430192},137.49392499286947,142.21435638568414,145.93551794179555,148.94434285716562,151.42750605328717,153.5116957862565,155.28591723483902,156.81453364819487,158.14524223604906]
[null,null,2031,"M€",null,null,null,null,null,null,null,null,null,null,null,null,null,null,{"$f":"($S$59-$R$59)*1000*S$75*8760*$N$80/1000000","v":212.57433862431711},{"$f":"($S$59-$R$59)*1000*T$75*8760*$N$80/1000000","v":222.58654451759972},230.22836951032949,236.25249379370803,241.12342857141121,245.14337865521779,248.51743747857853,251.38969399078067,253.86434474614612,256.01860593510935]
[null,null,2032,"M€",null,null,null,null,null,null,null,null,null,null,null,null,null,null,null,{"$f":"($T$59-$S$59)*1000*T$75*8760*$O$80/1000000","v":220.92545090181682},{"$f":"($T$59-$S$59)*1000*U$75*8760*$O$80/1000000","v":228.51024734982536},234.48941548183595,239.32400000000453,243.31395045632033,246.66282973622347,249.51365149833475,251.96983471074995,254.10801932367639]
[null,null,2033,"M€",null,null,null,null,null,null,null,null,null,null,null,null,null,null,null,null,{"$f":"($U$59-$T$59)*1000*U$75*8760*$P$80/1000000","v":226.79212518929998},{"$f":"($U$59-$T$59)*1000*V$75*8760*$P$80/1000000","v":232.72633716994204},237.52457142857551,241.48452225740022,244.80822199384539,247.63760900586567,250.07532467533034,252.19743271221972]
[null,null,2034,"M€",null,null,null,null,null,null,null,null,null,null,null,null,null,null,null,null,null,{"$f":"($V$59-$U$59)*1000*V$75*8760*$Q$80/1000000","v":230.96325885804865},{"$f":"($V$59-$U$59)*1000*W$75*8760*$Q$80/1000000","v":235.72514285714703},239.65509405848061,242.95361425146788,245.76156651339707,248.18081463991129,250.28684610076363]
[null,null,2035,"M€",null,null,null,null,null,null,null,null,null,null,null,null,null,null,null,null,null,null,{"$f":"($W$59-$V$59)*1000*W$75*8760*$R$80/1000000","v":233.92571428571853},{"$f":"($W$59-$V$59)*1000*X$75*8760*$R$80/1000000","v":237.82566585956101},241.0990065090904,243.8855240209285,246.28630460449222,248.37625948930753]
[null,null,2036,"M€",null,null,null,null,null,null,null,null,null,null,null,null,null,null,null,null,null,null,null,{"$f":"($X$59-$W$59)*1000*X$75*8760*$S$80/1000000","v":235.99623766064141},{"$f":"($X$59-$W$59)*1000*Y$75*8760*$S$80/1000000","v":239.24439876671286},242.00948152845993,244.39179456907317,246.46567287785143]
[null,null,2037,"M€",null,null,null,null,null,null,null,null,null,null,null,null,null,null,null,null,null,null,null,null,{"$f":"($Y$59-$X$59)*1000*Y$75*8760*$T$80/1000000","v":237.38979102426021},{"$f":"($Y$59-$X$59)*1000*Z$75*8760*$T$80/1000000","v":240.13343903591536},242.49728453357733,{"$f":"($Y$59-$X$59)*1000*AB$75*8760*$T$80/1000000","v":244.55508626631777}]
[null,null,2038,"M€",null,null,null,null,null,null,null,null,null,null,null,null,null,null,null,null,null,null,null,null,null,{"$f":"($Z$59-$Y$59)*1000*Z$75*8760*$U$80/1000000","v":238.25739654359776},{"$f":"($Z$59-$Y$59)*1000*AA$75*8760*$U$80/1000000","v":240.60277449831071},242.64449965501549]
[null,null,2039,"M€",null,null,null,null,null,null,null,null,null,null,null,null,null,null,null,null,null,null,null,null,null,null,{"$f":"($AA$59-$Z$59)*1000*AA$75*8760*$V$80/1000000","v":238.70826446273986},{"$f":"($AA$59-$Z$59)*1000*AB$75*8760*$V$80/1000000","v":240.73391304340626}]
[null,null,2040,"M€",null,null,null,null,null,null,null,null,null,null,null,null,null,null,null,null,null,null,null,null,null,null,null,{"$f":"($AB$59-$AA$59)*1000*AB$75*8760*$W$80/1000000","v":238.82332643208085}]
[null,null,"Total","M€",null,{"$f":"SUMIF(F240:F255,\">0\")","v":0},{"$f":"SUMIF(G240:G255,\">0\")","v":0},0,0,0,0,0,48.80930849460421,231.023455197039,357.35555014523902,480.73150413209476,602.51923057732961,722.95747226596973,985.28776701222034,1252.6200610508904,1522.4170467077397,1793.2156634758835,2064.1129940137203,2334.5216123062755,2604.0428575331262,2872.3966494503793,3139.3804506920142,3404.8441683498822]
[null,null,{"$f":"'Données de production'!C8","v":"PV au sol"}]
[null,null,2020,"M€",null,null,null,{"$f":"($H$60-$G$60)*1000*H$76*8760*$F$81/1000000","v":91.330212068454728},91.221388057728205,91.138541634527655,91.284278620486788,91.390829214321641,91.472125294430128,91.552104111780778,91.618213410879108,91.67377310233789,91.721121820743889,91.76195452655827,91.75544389337503,91.74935869357742,91.743658546946492,91.738308026815687,91.73327592309596,91.728534633058445,91.72405965479615,91.719829163685347,91.715823656436612]
[null,null,2021,"M€",null,null,null,null,{"$f":"($I$60-$H$60)*1000*I$76*8760*$G$81/1000000","v":88.288750450945628},88.208567422168684,88.349619171750433,88.452744315861722,88.531426842867319,88.608834455235183,88.67281843459412,88.72659196116264,88.77241848575872,88.81193847828068,88.805637152674549,88.799747583377155,88.794230688335887,88.789052179801075,88.784181851043627,88.779592986722975,88.775261872633564,88.771167385782178,88.767290649882355,88.763614744382394]
[null,null,2022,"M€",null,null,null,null,null,{"$f":"($J$60-$I$60)*1000*J$76*8760*$H$81/1000000","v":85.278593209809998},85.414959723014348,85.5146594174021,85.590728391304765,85.6655647986899,85.727423458309445,85.779410819987646,85.82371515077385,85.861922430003361,85.855830411974381,85.850136473177116,85.844802829725538,85.83979633278679,85.835087778991564,85.830651340387789,85.826464090471234,85.822505607879279,85.818757643328425,85.815203838307312]
[null,null,2023,"M€",null,null,null,null,null,null,{"$f":"($K$60-$J$60)*1000*K$76*8760*$I$81/1000000","v":127.07366327048848},127.22198863918129,127.33515807936352,127.44649380396336,127.53852225551739,127.6158649659002,127.68177746682522,127.73861925368595,127.72955602810853,127.7210850335222,127.71315005803115,127.70570178540741,127.69869676917371,127.69209658453292,127.68586712323423,127.67997800397941,127.67440207691898,127.6691150051455]
[null,null,2024,"M€",null,null,null,null,null,null,null,{"$f":"($L$60-$K$60)*1000*L$76*8760*$J$81/1000000","v":122.69541429586612},122.80455715314503,122.91193153867248,123.00068560635532,123.07527645338335,123.13884377924244,123.19366312818354,123.18492237331115,123.17675277777671,123.16910012971078,123.16191686756299,123.15516109068716,123.14879574144533,123.14278792516248,123.13710834151084,123.13173080663589,123.12663184954053]
[null,null,2025,"M€",null,null,null,null,null,null,null,null,{"$f":"($M$60-$L$60)*1000*M$76*8760*$K$81/1000000","v":118.27395622697537},118.3773692734304,118.46284895724212,118.53468794091535,118.59591009170857,118.64870700273009,118.64028871856267,118.63242052208015,118.62505020143936,118.61813194976753,118.61162541224958,118.60549489840668,118.59970872713969,118.59423867909119,118.58905953640176,118.5841486939845]
[null,null,2026,"M€",null,null,null,null,null,null,null,null,null,{"$f":"($N$60-$M$60)*1000*N$76*8760*$L$81/1000000","v":100.76768540552338},100.84044922803243,100.90160152556253,100.95371633829103,100.99865924040868,100.99149325069425,100.98479551824144,100.97852159818198,100.97263249782182,100.96709386548261,100.9618753199609,100.95694989300205,100.95229356312848,100.94788486386102,100.94370455282004]
[null,null,2027,"M€",null,null,null,null,null,null,null,null,null,null,{"$f":"($O$60-$N$60)*1000*O$76*8760*$M$81/1000000","v":96.823794088402053},96.882510580736351,96.932549567424843,96.975702313507256,96.968821757957741,96.962390808147092,96.956366789525461,96.950712262547412,96.945394243823301,96.940383562287224,96.935654323878325,96.931183463937316,96.926950371033271,96.922936569244811]
[null,null,2028,"M€",null,null,null,null,null,null,null,null,null,null,null,{"$f":"($P$60-$O$60)*1000*P$76*8760*$N$81/1000000","v":95.532953367203461},95.582295319153289,95.624846954680152,95.61806224412183,95.611720876369432,95.605780771322472,95.600205010962114,95.594961071351847,95.59002018777386,95.585356826867198,95.580948245259478,95.576774118633551,95.572816228434576]
[null,null,2029,"M€",null,null,null,null,null,null,null,null,null,null,null,null,{"$f":"($Q$60-$P$60)*1000*Q$76*8760*$O$81/1000000","v":94.232041070882815},94.273991595854099,94.267302730287,94.261050944592867,94.255194753120577,94.249697759377909,94.244527898881486,94.239656813261576,94.235059329857151,94.230713026582734,94.22659786623494,94.222695887625406]
[null,null,2030,"M€",null,null,null,null,null,null,null,null,null,null,null,null,null,{"$f":"($R$60-$Q$60)*1000*R$76*8760*$P$81/1000000","v":92.923136237043664},92.916543216467787,92.910381012831877,92.904608734934243,92.89919050780928,92.894094726426701,92.889293438764852,92.884761832862708,92.880477807921579,92.876421613851903,92.872575546831825]
[null,null,2031,"M€",null,null,null,null,null,null,null,null,null,null,null,null,null,null,{"$f":"($S$60-$R$60)*1000*S$76*8760*$Q$81/1000000","v":46.517488270087874},46.514403241034621,46.511513423354145,46.508800856700198,46.506249718415397,46.503846014674806,46.501577323685012,46.499432580961603,46.497401898872859,46.495476414225045]
[null,null,2032,"M€",null,null,null,null,null,null,null,null,null,null,null,null,null,null,null,{"$f":"($T$60-$S$60)*1000*T$76*8760*$R$81/1000000","v":45.828232379320653},45.825385191633259,45.822712640201871,45.820199135781706,45.817830890981838,45.81559566725258,45.813482563330474,45.811481837444148,45.809584757147839]
[null,null,2033,"M€",null,null,null,null,null,null,null,null,null,null,null,null,null,null,null,null,{"$f":"($U$60-$T$60)*1000*U$76*8760*$S$81/1000000","v":45.204214283598603},45.201577959057452,45.199098525618176,45.196762382780278,45.194557457889701,45.192472997451475,45.190499391745604,45.188628026696108]
[null,null,2034,"M€",null,null,null,null,null,null,null,null,null,null,null,null,null,null,null,null,null,{"$f":"($V$60-$U$60)*1000*V$76*8760*$T$81/1000000","v":44.580443277913247},44.577997915454858,44.575693874578938,44.573519248527035,44.571463431572703,44.56951694604728,44.567671296244583]
[null,null,2035,"M€",null,null,null,null,null,null,null,null,null,null,null,null,null,null,null,null,null,null,{"$f":"($W$60-$V$60)*1000*W$76*8760*$U$81/1000000","v":43.956897305320624},43.954625366406667,43.952481039193451,43.950453865722999,43.948534500378017,43.946714565822141]
[null,null,2036,"M€",null,null,null,null,null,null,null,null,null,null,null,null,null,null,null,null,null,null,null,{"$f":"($X$60-$W$60)*1000*X$76*8760*$V$81/1000000","v":43.333556858217193},{"$f":"($X$60-$W$60)*1000*Y$76*8760*$V$81/1000000","v":43.331442829842665},{"$f":"($X$60-$W$60)*1000*Z$76*8760*$V$81/1000000","v":43.329444299856092},{"$f":"($X$60-$W$60)*1000*AA$76*8760*$V$81/1000000","v":43.327552054691559},{"$f":"($X$60-$W$60)*1000*AB$76*8760*$V$81/1000000","v":43.325757835382483}]
[null,null,2037,"M€",null,null,null,null,null,null,null,null,null,null,null,null,null,null,null,null,null,null,null,null,{"$f":"($Y$60-$X$60)*1000*Y$76*8760*$W$81/1000000","v":42.710404620485747},{"$f":"($Y$60-$X$60)*1000*Z$76*8760*$W$81/1000000","v":42.708434733983047},{"$f":"($Y$60-$X$60)*1000*AA$76*8760*$W$81/1000000","v":42.706569608998969},{"$f":"($Y$60-$X$60)*1000*AB$76*8760*$W$81/1000000","v":42.704801104936699}]
[null,null,2038,"M€",null,null,null,null,null,null,null,null,null,null,null,null,null,null,null,null,null,null,null,null,null,{"$f":"($Z$60-$Y$60)*1000*Z$76*8760*$X$81/1000000","v":41.875957256458051},{"$f":"($Z$60-$Y$60)*1000*AA$76*8760*$X$81/1000000","v":41.874128486693998},{"$f":"($Z$60-$Y$60)*1000*AB$76*8760*$X$81/1000000","v":41.872394454506193}]
[null,null,2039,"M€",null,null,null,null,null,null,null,null,null,null,null,null,null,null,null,null,null,null,null,null,null,null,{"$f":"($AA$60-$Z$60)*1000*AA$76*8760*$Y$81/1000000","v":41.041687364433344},{"$f":"($AA$60-$Z$60)*1000*AB$76*8760*$Y$81/1000000","v":41.039987804119995}]
[null,null,2040,"M€",null,null,null,null,null,null,null,null,null,null,null,null,null,null,null,null,null,null,null,null,null,null,null,{"$f":"($AB$60-$AA$60)*1000*AB$76*8760*$Z$81/1000000","v":40.207581153665132}]
[null,null,"Total","M€",null,{"$f":"SUMIF(F258:F278,\">0\")","v":0},{"$f":"SUMIF(G258:G278,\">0\")","v":0},91.330212068454728,179.51013850867383,264.62570226650632,392.12252078574011,515.27563588263286,634.00795198808601,735.32998338729544,832.68475543933209,928.72267071718954,1023.4343890908046,1116.8131411609359,1163.2513900476226,1209.0024758640488,1254.1315779998599,1298.6388799145327,1342.5245432317984,1385.7887108942423,1428.4315097867807,1470.2415850180944,1511.2190652925242,1459.6520403290629]
[null,null,{"$f":"'Données de production'!C9","v":"PV sur toiture"}]
[null,null,2020,"M€",null,null,null,{"$f":"($H$61-$G$61)*1000*H$77*8760*$F$82/1000000","v":91.847712508564655},91.733856472638919,91.645952182104438,91.78714207971133,91.891860501084778,91.972622703628033,92.051952155304406,92.118967269137812,92.176328863546217,92.225982679216543,92.269384471682145,92.262969385813719,92.256795225418202,92.250848668334058,92.245117356837412,92.23958981191835,92.234255356540487,92.229104046809056,92.224126610106438,92.219314389384081]
[null,null,2021,"M€",null,null,null,null,{"$f":"($I$61-$H$61)*1000*I$77*8760*$G$82/1000000","v":90.224728496436811},90.138270333092152,90.27713749367885,90.380133175974308,90.459566746930889,90.537591137428493,90.603503775175085,90.659921705049882,90.708758658056453,90.7514464408669,90.745136890576347,90.739064302256182,90.733215572909828,90.727578548112248,90.722141937696534,90.716895240275861,90.711828675544027,90.706933123428698,90.702200069299778,90.697621554553407]
[null,null,2022,"M€",null,null,null,null,null,{"$f":"($J$61-$I$61)*1000*J$77*8760*$H$82/1000000","v":88.630588484079809},88.767132907646285,88.868405850863766,88.94651079023366,89.023230119552508,89.088040281212258,89.14351454655349,89.191534636896307,89.233508410051599,89.227304395338919,89.221333379094105,89.215582477485555,89.210039739387042,89.204694063474676,89.199535124011177,89.194553304278941,89.189739636750886,89.185085749215403,89.180583816186797]
[null,null,2023,"M€",null,null,null,null,null,null,{"$f":"($K$61-$J$61)*1000*K$77*8760*$I$82/1000000","v":133.32778346336926},133.47989491049742,133.59720813333817,133.71244017690904,133.80978471105081,133.89310677626725,133.96523270843838,134.02827710285641,134.01895870422032,134.00999026810138,134.00135244304983,133.9930272785347,133.98499810042378,133.97724939951209,133.9697667315385,133.96253662732289,133.95554651184582,133.94878463126747]
[null,null,2024,"M€",null,null,null,null,null,null,null,{"$f":"($L$61-$K$61)*1000*L$77*8760*$J$82/1000000","v":131.16999476437275},131.28527785502942,131.39851578170007,131.49417574638824,131.57605590418672,131.64693368058596,131.70888707732246,131.69972993570852,131.69091670043025,131.68242835491913,131.67424725928225,131.6663570279371,131.65874242006899,131.65138924137813,131.64428425577154,131.63741510584339,131.63077024115682]
[null,null,2025,"M€",null,null,null,null,null,null,null,null,{"$f":"($M$61-$L$61)*1000*M$77*8760*$K$82/1000000","v":128.97334757673349},129.08459138650392,129.17856678173848,129.25900503211903,129.32863465274639,129.38949705180136,129.38050116720959,129.37184313277194,129.36350426680127,129.35546724004269,129.34771595546326,129.34023544063876,129.33301175123057,129.32603188423303,129.31928369985383,129.31275585105905]
[null,null,2026,"M€",null,null,null,null,null,null,null,null,null,{"$f":"($N$61-$M$61)*1000*N$77*8760*$L$82/1000000","v":101.82675290844178},101.90088421448876,101.9643369144424,102.0192633630493,102.06727389942253,102.06017760924813,102.05334782790953,102.04676981859325,102.04042991133491,102.03431540819312,102.02841449835967,102.02271618201875,102.01721020191333,102.0118869817212,102.00673757047768]
[null,null,2027,"M€",null,null,null,null,null,null,null,null,null,null,{"$f":"($O$61-$N$61)*1000*O$77*8760*$M$82/1000000","v":100.04090392514243},100.1031984332695,100.15712231833085,100.20425652618127,100.19728976343893,100.19058464498981,100.1841267030092,100.17790251704838,100.17189962093936,100.16610641945466,100.16051211355645,100.15510663321162,100.1498805768931,100.14482515701667]
[null,null,2028,"M€",null,null,null,null,null,null,null,null,null,null,null,{"$f":"($P$61-$O$61)*1000*P$77*8760*$N$82/1000000","v":97.541851418026468},97.594395549151727,97.640323730976178,97.633535227242888,97.627001673093375,97.620708970892053,97.614644043580142,97.608794743962264,97.603149773498799,97.597698609467571,97.592431439498071,97.587339102620703,97.582413036099751]
[null,null,2029,"M€",null,null,null,null,null,null,null,null,null,null,null,null,{"$f":"($Q$61-$P$61)*1000*Q$77*8760*$O$82/1000000","v":95.031668779934506},95.076390935733002,95.069780691008745,95.063418701158852,95.057291238736823,95.051385570073819,95.045689866947072,95.040193127504836,95.034885105340621,95.029756245746455,95.024797628310239,95.020000915144735]
[null,null,2030,"M€",null,null,null,null,null,null,null,null,null,null,null,null,null,{"$f":"($R$61-$Q$61)*1000*R$77*8760*$P$82/1000000","v":92.512458140536623},92.506026154821427,92.49983572927114,92.493873506628404,92.488127096614306,92.482584989978704,92.477236481557696,92.472071601260438,92.467081052041607,92.462256154046557,92.457588794236557]
[null,null,2031,"M€",null,null,null,null,null,null,null,null,null,null,null,null,null,null,{"$f":"($S$61-$R$61)*1000*S$77*8760*$Q$82/1000000","v":27.874090732873679},27.872225422140566,27.870428873939105,27.868697354807008,27.867027396755258,27.86541577408364,27.863859482585511,27.862355720857604,27.8609018734697,27.85949549578562]
[null,null,2032,"M€",null,null,null,null,null,null,null,null,null,null,null,null,null,null,null,{"$f":"($T$61-$S$61)*1000*T$77*8760*$R$82/1000000","v":27.077743105041279},27.075997766449252,27.074315603309049,27.072693246484778,27.071127562222991,27.069615631950306,27.06815473411589,27.066742327840924,27.065376038172211]
[null,null,2033,"M€",null,null,null,null,null,null,null,null,null,null,null,null,null,null,null,null,{"$f":"($U$61-$T$61)*1000*U$77*8760*$S$82/1000000","v":26.265586172032698},26.263954357711562,26.26238055964372,26.260861737872094,26.259395061179113,26.257977889472663,26.256607757924975,26.255282362667554]
[null,null,2034,"M€",null,null,null,null,null,null,null,null,null,null,null,null,null,null,null,null,null,{"$f":"($V$61-$U$61)*1000*V$77*8760*$T$82/1000000","v":25.453593112122494},25.452067872811085,25.450595913529618,25.449174490416336,25.447801044837863,25.446473188017446,25.445188687171317]
[null,null,2035,"M€",null,null,null,null,null,null,null,null,null,null,null,null,null,null,null,null,null,null,{"$f":"($W$61-$V$61)*1000*W$77*8760*$U$82/1000000","v":24.64175518596198},24.640330089170678,24.638953919637096,24.637624200186597,24.636338618093454,24.635095011658624]
[null,null,2036,"M€",null,null,null,null,null,null,null,null,null,null,null,null,null,null,null,null,null,null,null,{"$f":"($X$61-$W$61)*1000*X$77*8760*$V$82/1000000","v":23.830064264826813},{"$f":"($X$61-$W$61)*1000*Y$77*8760*$V$82/1000000","v":23.828733348872934},{"$f":"($X$61-$W$61)*1000*Z$77*8760*$V$82/1000000","v":23.827447355550397},{"$f":"($X$61-$W$61)*1000*AA$77*8760*$V$82/1000000","v":23.826204048184529},{"$f":"($X$61-$W$61)*1000*AB$77*8760*$V$82/1000000","v":23.825001336160991}]
[null,null,2037,"M€",null,null,null,null,null,null,null,null,null,null,null,null,null,null,null,null,null,null,null,null,{"$f":"($Y$61-$X$61)*1000*Y$77*8760*$W$82/1000000","v":23.018512778101595},{"$f":"($Y$61-$X$61)*1000*Z$77*8760*$W$82/1000000","v":23.017270510907036},{"$f":"($Y$61-$X$61)*1000*AA$77*8760*$W$82/1000000","v":23.016069478268442},{"$f":"($Y$61-$X$61)*1000*AB$77*8760*$W$82/1000000","v":23.014907660656196}]
[null,null,2038,"M€",null,null,null,null,null,null,null,null,null,null,null,null,null,null,null,null,null,null,null,null,null,{"$f":"($Z$61-$Y$61)*1000*Z$77*8760*$X$82/1000000","v":22.48965159406951},{"$f":"($Z$61-$Y$61)*1000*AA$77*8760*$X$82/1000000","v":22.488478092390313},{"$f":"($Z$61-$Y$61)*1000*AB$77*8760*$X$82/1000000","v":22.487342906821599}]
[null,null,2039,"M€",null,null,null,null,null,null,null,null,null,null,null,null,null,null,null,null,null,null,null,null,null,null,{"$f":"($AA$61-$Z$61)*1000*AA$77*8760*$Y$82/1000000","v":21.960886706526708},{"$f":"($AA$61-$Z$61)*1000*AB$77*8760*$Y$82/1000000","v":21.959778153001515}]
[null,null,2040,"M€",null,null,null,null,null,null,null,null,null,null,null,null,null,null,null,null,null,null,null,null,null,null,null,{"$f":"($AB$61-$AA$61)*1000*AB$77*8760*$Z$82/1000000","v":21.432213399161334}]
[null,null,"Total","M€",null,{"$f":"SUMIF(F281:F301,\">0\")","v":0},{"$f":"SUMIF(G281:G301,\">0\")","v":0},91.847712508564655,181.95858496907573,270.41481099927637,404.15919594440572,535.79028920279302,665.23453380589376,767.63507366584031,868.23482670433384,966.31731959346098,1061.8695270264063,{"$f":"SUMIF(R281:R301,\">0\")","v":1154.8817037874305},{"$f":"SUMIF(S281:S301,\">0\")","v":1182.6755006575011},1209.6741001116766,1235.8617148337805,1261.238526988798,1285.804705788591,1309.560408623129,1332.5057820751656,1354.9235207600223,1376.8137080597508,1305.9617626184559]
[]
[null,null,null,null,null,"Scénario sélectionné"]
[null,null,"Evolution des investissements annualisés cumulés","Unité",null,2018,2019,2020,2021,2022,2023,2024,2025,2026,2027,2028,2029,2030,2031,2032,2033,2034,2035,2036,2037,2038,2039,2040]
[null,null,"Charges engagées avant 2018","Md€",null,{"$f":"IF('Start - expert'!$F$3=\"CONSTANT\",F214,F214*HLOOKUP(F$305,'Calcul de variation des prix'!$E$3:$AP$5, 3, FALSE))/1000","v":5.9786278859420419},{"$f":"IF('Start - expert'!$F$3=\"CONSTANT\",G214,G214*HLOOKUP(G$305,'Calcul de variation des prix'!$E$3:$AP$5, 3, FALSE))/1000","v":6.3841792310810312},{"$f":"IF('Start - expert'!$F$3=\"CONSTANT\",H214,H214*HLOOKUP(H$305,'Calcul de variation des prix'!$E$3:$AP$5, 3, FALSE))/1000","v":6.3942110781353954},{"$f":"IF('Start - expert'!$F$3=\"CONSTANT\",I214,I214*HLOOKUP(I$305,'Calcul de variation des prix'!$E$3:$AP$5, 3, FALSE))/1000","v":6.3008818050429216},{"$f":"IF('Start - expert'!$F$3=\"CONSTANT\",J214,J214*HLOOKUP(J$305,'Calcul de variation des prix'!$E$3:$AP$5, 3, FALSE))/1000","v":6.0378436681934575},{"$f":"IF('Start - expert'!$F$3=\"CONSTANT\",K214,K214*HLOOKUP(K$305,'Calcul de variation des prix'!$E$3:$AP$5, 3, FALSE))/1000","v":5.943352496336944},{"$f":"IF('Start - expert'!$F$3=\"CONSTANT\",L214,L214*HLOOKUP(L$305,'Calcul de variation des prix'!$E$3:$AP$5, 3, FALSE))/1000","v":5.8813670804135709},{"$f":"IF('Start - expert'!$F$3=\"CONSTANT\",M214,M214*HLOOKUP(M$305,'Calcul de variation des prix'!$E$3:$AP$5, 3, FALSE))/1000","v":5.7487922534976885},{"$f":"IF('Start - expert'!$F$3=\"CONSTANT\",N214,N214*HLOOKUP(N$305,'Calcul de variation des prix'!$E$3:$AP$5, 3, FALSE))/1000","v":5.3236127458023139},{"$f":"IF('Start - expert'!$F$3=\"CONSTANT\",O214,O214*HLOOKUP(O$305,'Calcul de variation des prix'!$E$3:$AP$5, 3, FALSE))/1000","v":4.9651884508830442},{"$f":"IF('Start - expert'!$F$3=\"CONSTANT\",P214,P214*HLOOKUP(P$305,'Calcul de variation des prix'!$E$3:$AP$5, 3, FALSE))/1000","v":4.7346923425768122},{"$f":"IF('Start - expert'!$F$3=\"CONSTANT\",Q214,Q214*HLOOKUP(Q$305,'Calcul de variation des prix'!$E$3:$AP$5, 3, FALSE))/1000","v":4.5496904281104875},{"$f":"IF('Start - expert'!$F$3=\"CONSTANT\",R214,R214*HLOOKUP(R$305,'Calcul de variation des prix'!$E$3:$AP$5, 3, FALSE))/1000","v":4.2298416740737608},{"$f":"IF('Start - expert'!$F$3=\"CONSTANT\",S214,S214*HLOOKUP(S$305,'Calcul de variation des prix'!$E$3:$AP$5, 3, FALSE))/1000","v":3.4118075124443212},{"$f":"IF('Start - expert'!$F$3=\"CONSTANT\",T214,T214*HLOOKUP(T$305,'Calcul de variation des prix'!$E$3:$AP$5, 3, FALSE))/1000","v":2.0760263562248111},{"$f":"IF('Start - expert'!$F$3=\"CONSTANT\",U214,U214*HLOOKUP(U$305,'Calcul de variation des prix'!$E$3:$AP$5, 3, FALSE))/1000","v":1.2383985712480083},{"$f":"IF('Start - expert'!$F$3=\"CONSTANT\",V214,V214*HLOOKUP(V$305,'Calcul de variation des prix'!$E$3:$AP$5, 3, FALSE))/1000","v":0.84611527135236819},{"$f":"IF('Start - expert'!$F$3=\"CONSTANT\",W214,W214*HLOOKUP(W$305,'Calcul de variation des prix'!$E$3:$AP$5, 3, FALSE))/1000","v":0.66261136925099773},{"$f":"IF('Start - expert'!$F$3=\"CONSTANT\",X214,X214*HLOOKUP(X$305,'Calcul de variation des prix'!$E$3:$AP$5, 3, FALSE))/1000","v":0.50213386774069113},{"$f":"IF('Start - expert'!$F$3=\"CONSTANT\",Y214,Y214*HLOOKUP(Y$305,'Calcul de variation des prix'!$E$3:$AP$5, 3, FALSE))/1000","v":0.26589184337068195},{"$f":"IF('Start - expert'!$F$3=\"CONSTANT\",Z214,Z214*HLOOKUP(Z$305,'Calcul de variation des prix'!$E$3:$AP$5, 3, FALSE))/1000","v":0.11669626188487457},{"$f":"IF('Start - expert'!$F$3=\"CONSTANT\",AA214,AA214*HLOOKUP(AA$305,'Calcul de variation des prix'!$E$3:$AP$5, 3, FALSE))/1000","v":0},{"$f":"IF('Start - expert'!$F$3=\"CONSTANT\",AB214,AB214*HLOOKUP(AB$305,'Calcul de variation des prix'!$E$3:$AP$5, 3, FALSE))/1000","v":0}]
[null,null,{"$f":"C195","v":"AO éolien en mer 2011 & 2013 renégociés"},"Md€",null,{"$f":"IF('Start - expert'!$F$3=\"CONSTANT\",F215,F215*HLOOKUP(F$305,'Calcul de variation des prix'!$E$3:$AP$5, 3, FALSE))/1000","v":0},{"$f":"IF('Start - expert'!$F$3=\"CONSTANT\",G215,G215*HLOOKUP(G$305,'Calcul de variation des prix'!$E$3:$AP$5, 3, FALSE))/1000","v":0},{"$f":"IF('Start - expert'!$F$3=\"CONSTANT\",H215,H215*HLOOKUP(H$305,'Calcul de variation des prix'!$E$3:$AP$5, 3, FALSE))/1000","v":0},{"$f":"IF('Start - expert'!$F$3=\"CONSTANT\",I215,I215*HLOOKUP(I$305,'Calcul de variation des prix'!$E$3:$AP$5, 3, FALSE))/1000","v":0.27928185277476392},{"$f":"IF('Start - expert'!$F$3=\"CONSTANT\",J215,J215*HLOOKUP(J$305,'Calcul de variation des prix'!$E$3:$AP$5, 3, FALSE))/1000","v":0.54472066369895356},{"$f":"IF('Start - expert'!$F$3=\"CONSTANT\",K215,K215*HLOOKUP(K$305,'Calcul de variation des prix'!$E$3:$AP$5, 3, FALSE))/1000","v":0.64429775279138191},{"$f":"IF('Start - expert'!$F$3=\"CONSTANT\",L215,L215*HLOOKUP(L$305,'Calcul de variation des prix'!$E$3:$AP$5, 3, FALSE))/1000","v":0.91557889538100135},{"$f":"IF('Start - expert'!$F$3=\"CONSTANT\",M215,M215*HLOOKUP(M$305,'Calcul de variation des prix'!$E$3:$AP$5, 3, FALSE))/1000","v":0.97638532601625916},{"$f":"IF('Start - expert'!$F$3=\"CONSTANT\",N215,N215*HLOOKUP(N$305,'Calcul de variation des prix'!$E$3:$AP$5, 3, FALSE))/1000","v":0.93517771810806172},{"$f":"IF('Start - expert'!$F$3=\"CONSTANT\",O215,O215*HLOOKUP(O$305,'Calcul de variation des prix'!$E$3:$AP$5, 3, FALSE))/1000","v":0.90123499306664556},{"$f":"IF('Start - expert'!$F$3=\"CONSTANT\",P215,P215*HLOOKUP(P$305,'Calcul de variation des prix'!$E$3:$AP$5, 3, FALSE))/1000","v":0.87156544473795627},{"$f":"IF('Start - expert'!$F$3=\"CONSTANT\",Q215,Q215*HLOOKUP(Q$305,'Calcul de variation des prix'!$E$3:$AP$5, 3, FALSE))/1000","v":0.84470140345260414},{"$f":"IF('Start - expert'!$F$3=\"CONSTANT\",R215,R215*HLOOKUP(R$305,'Calcul de variation des prix'!$E$3:$AP$5, 3, FALSE))/1000","v":0.81983591806404954},{"$f":"IF('Start - expert'!$F$3=\"CONSTANT\",S215,S215*HLOOKUP(S$305,'Calcul de variation des prix'!$E$3:$AP$5, 3, FALSE))/1000","v":0.87063968451140183},{"$f":"IF('Start - expert'!$F$3=\"CONSTANT\",T215,T215*HLOOKUP(T$305,'Calcul de variation des prix'!$E$3:$AP$5, 3, FALSE))/1000","v":0.90093737428011789},{"$f":"IF('Start - expert'!$F$3=\"CONSTANT\",U215,U215*HLOOKUP(U$305,'Calcul de variation des prix'!$E$3:$AP$5, 3, FALSE))/1000","v":0.91778201088317435},{"$f":"IF('Start - expert'!$F$3=\"CONSTANT\",V215,V215*HLOOKUP(V$305,'Calcul de variation des prix'!$E$3:$AP$5, 3, FALSE))/1000","v":0.92541992406392182},{"$f":"IF('Start - expert'!$F$3=\"CONSTANT\",W215,W215*HLOOKUP(W$305,'Calcul de variation des prix'!$E$3:$AP$5, 3, FALSE))/1000","v":0.92655331782331873},{"$f":"IF('Start - expert'!$F$3=\"CONSTANT\",X215,X215*HLOOKUP(X$305,'Calcul de variation des prix'!$E$3:$AP$5, 3, FALSE))/1000","v":0.92297976117145342},{"$f":"IF('Start - expert'!$F$3=\"CONSTANT\",Y215,Y215*HLOOKUP(Y$305,'Calcul de variation des prix'!$E$3:$AP$5, 3, FALSE))/1000","v":0.91593899280865221},{"$f":"IF('Start - expert'!$F$3=\"CONSTANT\",Z215,Z215*HLOOKUP(Z$305,'Calcul de variation des prix'!$E$3:$AP$5, 3, FALSE))/1000","v":0.90631189422808034},{"$f":"IF('Start - expert'!$F$3=\"CONSTANT\",AA215,AA215*HLOOKUP(AA$305,'Calcul de variation des prix'!$E$3:$AP$5, 3, FALSE))/1000","v":0.85931295782174288},{"$f":"IF('Start - expert'!$F$3=\"CONSTANT\",AB215,AB215*HLOOKUP(AB$305,'Calcul de variation des prix'!$E$3:$AP$5, 3, FALSE))/1000","v":0.76314199934977023}]
[null,null,{"$f":"'Données de production'!C6","v":"Eolien terrestre"},"Md€",null,{"$f":"IF('Start - expert'!$F$3=\"CONSTANT\",F238,F238*HLOOKUP(F$305,'Calcul de variation des prix'!$E$3:$AP$5, 3, FALSE))/1000","v":0},{"$f":"IF('Start - expert'!$F$3=\"CONSTANT\",G238,G238*HLOOKUP(G$305,'Calcul de variation des prix'!$E$3:$AP$5, 3, FALSE))/1000","v":0},{"$f":"IF('Start - expert'!$F$3=\"CONSTANT\",H238,H238*HLOOKUP(H$305,'Calcul de variation des prix'!$E$3:$AP$5, 3, FALSE))/1000","v":0},{"$f":"IF('Start - expert'!$F$3=\"CONSTANT\",I238,I238*HLOOKUP(I$305,'Calcul de variation des prix'!$E$3:$AP$5, 3, FALSE))/1000","v":0.2661008967216919},{"$f":"IF('Start - expert'!$F$3=\"CONSTANT\",J238,J238*HLOOKUP(J$305,'Calcul de variation des prix'!$E$3:$AP$5, 3, FALSE))/1000","v":0.53887832280082604},{"$f":"IF('Start - expert'!$F$3=\"CONSTANT\",K238,K238*HLOOKUP(K$305,'Calcul de variation des prix'!$E$3:$AP$5, 3, FALSE))/1000","v":0.8066453540948153},{"$f":"IF('Start - expert'!$F$3=\"CONSTANT\",L238,L238*HLOOKUP(L$305,'Calcul de variation des prix'!$E$3:$AP$5, 3, FALSE))/1000","v":1.0803311406992855},{"$f":"IF('Start - expert'!$F$3=\"CONSTANT\",M238,M238*HLOOKUP(M$305,'Calcul de variation des prix'!$E$3:$AP$5, 3, FALSE))/1000","v":1.3580335940084169},{"$f":"IF('Start - expert'!$F$3=\"CONSTANT\",N238,N238*HLOOKUP(N$305,'Calcul de variation des prix'!$E$3:$AP$5, 3, FALSE))/1000","v":1.6525416272672522},{"$f":"IF('Start - expert'!$F$3=\"CONSTANT\",O238,O238*HLOOKUP(O$305,'Calcul de variation des prix'!$E$3:$AP$5, 3, FALSE))/1000","v":1.9460701866790571},{"$f":"IF('Start - expert'!$F$3=\"CONSTANT\",P238,P238*HLOOKUP(P$305,'Calcul de variation des prix'!$E$3:$AP$5, 3, FALSE))/1000","v":2.2381174371945551},{"$f":"IF('Start - expert'!$F$3=\"CONSTANT\",Q238,Q238*HLOOKUP(Q$305,'Calcul de variation des prix'!$E$3:$AP$5, 3, FALSE))/1000","v":2.5248515643367866},{"$f":"IF('Start - expert'!$F$3=\"CONSTANT\",R238,R238*HLOOKUP(R$305,'Calcul de variation des prix'!$E$3:$AP$5, 3, FALSE))/1000","v":2.8059165787667015},{"$f":"IF('Start - expert'!$F$3=\"CONSTANT\",S238,S238*HLOOKUP(S$305,'Calcul de variation des prix'!$E$3:$AP$5, 3, FALSE))/1000","v":3.0899661254654269},{"$f":"IF('Start - expert'!$F$3=\"CONSTANT\",T238,T238*HLOOKUP(T$305,'Calcul de variation des prix'!$E$3:$AP$5, 3, FALSE))/1000","v":3.3636469737170422},{"$f":"IF('Start - expert'!$F$3=\"CONSTANT\",U238,U238*HLOOKUP(U$305,'Calcul de variation des prix'!$E$3:$AP$5, 3, FALSE))/1000","v":3.6274850705305046},{"$f":"IF('Start - expert'!$F$3=\"CONSTANT\",V238,V238*HLOOKUP(V$305,'Calcul de variation des prix'!$E$3:$AP$5, 3, FALSE))/1000","v":3.8849050611756373},{"$f":"IF('Start - expert'!$F$3=\"CONSTANT\",W238,W238*HLOOKUP(W$305,'Calcul de variation des prix'!$E$3:$AP$5, 3, FALSE))/1000","v":4.136193032798551},{"$f":"IF('Start - expert'!$F$3=\"CONSTANT\",X238,X238*HLOOKUP(X$305,'Calcul de variation des prix'!$E$3:$AP$5, 3, FALSE))/1000","v":4.3815830092349453},{"$f":"IF('Start - expert'!$F$3=\"CONSTANT\",Y238,Y238*HLOOKUP(Y$305,'Calcul de variation des prix'!$E$3:$AP$5, 3, FALSE))/1000","v":4.6212682789994091},{"$f":"IF('Start - expert'!$F$3=\"CONSTANT\",Z238,Z238*HLOOKUP(Z$305,'Calcul de variation des prix'!$E$3:$AP$5, 3, FALSE))/1000","v":4.8554098889088859},{"$f":"IF('Start - expert'!$F$3=\"CONSTANT\",AA238,AA238*HLOOKUP(AA$305,'Calcul de variation des prix'!$E$3:$AP$5, 3, FALSE))/1000","v":5.0842839043709969},{"$f":"IF('Start - expert'!$F$3=\"CONSTANT\",AB238,AB238*HLOOKUP(AB$305,'Calcul de variation des prix'!$E$3:$AP$5, 3, FALSE))/1000","v":5.3080030702500736}]
[null,null,{"$f":"'Données de production'!C7","v":"Eolien en mer"},"Md€",null,{"$f":"IF('Start - expert'!$F$3=\"CONSTANT\",F256,F256*HLOOKUP(F$305,'Calcul de variation des prix'!$E$3:$AP$5, 3, FALSE))/1000","v":0},{"$f":"IF('Start - expert'!$F$3=\"CONSTANT\",G256,G256*HLOOKUP(G$305,'Calcul de variation des prix'!$E$3:$AP$5, 3, FALSE))/1000","v":0},{"$f":"IF('Start - expert'!$F$3=\"CONSTANT\",H256,H256*HLOOKUP(H$305,'Calcul de variation des prix'!$E$3:$AP$5, 3, FALSE))/1000","v":0},{"$f":"IF('Start - expert'!$F$3=\"CONSTANT\",I256,I256*HLOOKUP(I$305,'Calcul de variation des prix'!$E$3:$AP$5, 3, FALSE))/1000","v":0},{"$f":"IF('Start - expert'!$F$3=\"CONSTANT\",J256,J256*HLOOKUP(J$305,'Calcul de variation des prix'!$E$3:$AP$5, 3, FALSE))/1000","v":0},{"$f":"IF('Start - expert'!$F$3=\"CONSTANT\",K256,K256*HLOOKUP(K$305,'Calcul de variation des prix'!$E$3:$AP$5, 3, FALSE))/1000","v":0},{"$f":"IF('Start - expert'!$F$3=\"CONSTANT\",L256,L256*HLOOKUP(L$305,'Calcul de variation des prix'!$E$3:$AP$5, 3, FALSE))/1000","v":0},{"$f":"IF('Start - expert'!$F$3=\"CONSTANT\",M256,M256*HLOOKUP(M$305,'Calcul de variation des prix'!$E$3:$AP$5, 3, FALSE))/1000","v":4.8809308494604207E-2},{"$f":"IF('Start - expert'!$F$3=\"CONSTANT\",N256,N256*HLOOKUP(N$305,'Calcul de variation des prix'!$E$3:$AP$5, 3, FALSE))/1000","v":0.23102345519703898},{"$f":"IF('Start - expert'!$F$3=\"CONSTANT\",O256,O256*HLOOKUP(O$305,'Calcul de variation des prix'!$E$3:$AP$5, 3, FALSE))/1000","v":0.35735555014523901},{"$f":"IF('Start - expert'!$F$3=\"CONSTANT\",P256,P256*HLOOKUP(P$305,'Calcul de variation des prix'!$E$3:$AP$5, 3, FALSE))/1000","v":0.48073150413209476},{"$f":"IF('Start - expert'!$F$3=\"CONSTANT\",Q256,Q256*HLOOKUP(Q$305,'Calcul de variation des prix'!$E$3:$AP$5, 3, FALSE))/1000","v":0.60251923057732959},{"$f":"IF('Start - expert'!$F$3=\"CONSTANT\",R256,R256*HLOOKUP(R$305,'Calcul de variation des prix'!$E$3:$AP$5, 3, FALSE))/1000","v":0.72295747226596974},{"$f":"IF('Start - expert'!$F$3=\"CONSTANT\",S256,S256*HLOOKUP(S$305,'Calcul de variation des prix'!$E$3:$AP$5, 3, FALSE))/1000","v":0.98528776701222032},{"$f":"IF('Start - expert'!$F$3=\"CONSTANT\",T256,T256*HLOOKUP(T$305,'Calcul de variation des prix'!$E$3:$AP$5, 3, FALSE))/1000","v":1.2526200610508904},{"$f":"IF('Start - expert'!$F$3=\"CONSTANT\",U256,U256*HLOOKUP(U$305,'Calcul de variation des prix'!$E$3:$AP$5, 3, FALSE))/1000","v":1.5224170467077398},{"$f":"IF('Start - expert'!$F$3=\"CONSTANT\",V256,V256*HLOOKUP(V$305,'Calcul de variation des prix'!$E$3:$AP$5, 3, FALSE))/1000","v":1.7932156634758836},{"$f":"IF('Start - expert'!$F$3=\"CONSTANT\",W256,W256*HLOOKUP(W$305,'Calcul de variation des prix'!$E$3:$AP$5, 3, FALSE))/1000","v":2.0641129940137204},{"$f":"IF('Start - expert'!$F$3=\"CONSTANT\",X256,X256*HLOOKUP(X$305,'Calcul de variation des prix'!$E$3:$AP$5, 3, FALSE))/1000","v":2.3345216123062755},{"$f":"IF('Start - expert'!$F$3=\"CONSTANT\",Y256,Y256*HLOOKUP(Y$305,'Calcul de variation des prix'!$E$3:$AP$5, 3, FALSE))/1000","v":2.604042857533126},{"$f":"IF('Start - expert'!$F$3=\"CONSTANT\",Z256,Z256*HLOOKUP(Z$305,'Calcul de variation des prix'!$E$3:$AP$5, 3, FALSE))/1000","v":2.8723966494503794},{"$f":"IF('Start - expert'!$F$3=\"CONSTANT\",AA256,AA256*HLOOKUP(AA$305,'Calcul de variation des prix'!$E$3:$AP$5, 3, FALSE))/1000","v":3.139380450692014},{"$f":"IF('Start - expert'!$F$3=\"CONSTANT\",AB256,AB256*HLOOKUP(AB$305,'Calcul de variation des prix'!$E$3:$AP$5, 3, FALSE))/1000","v":3.4048441683498822}]
[null,null,{"$f":"'Données de production'!C8","v":"PV au sol"},"Md€",null,{"$f":"IF('Start - expert'!$F$3=\"CONSTANT\",F279,F279*HLOOKUP(F$305,'Calcul de variation des prix'!$E$3:$AP$5, 3, FALSE))/1000","v":0},{"$f":"IF('Start - expert'!$F$3=\"CONSTANT\",G279,G279*HLOOKUP(G$305,'Calcul de variation des prix'!$E$3:$AP$5, 3, FALSE))/1000","v":0},{"$f":"IF('Start - expert'!$F$3=\"CONSTANT\",H279,H279*HLOOKUP(H$305,'Calcul de variation des prix'!$E$3:$AP$5, 3, FALSE))/1000","v":9.1330212068454722E-2},{"$f":"IF('Start - expert'!$F$3=\"CONSTANT\",I279,I279*HLOOKUP(I$305,'Calcul de variation des prix'!$E$3:$AP$5, 3, FALSE))/1000","v":0.17951013850867384},{"$f":"IF('Start - expert'!$F$3=\"CONSTANT\",J279,J279*HLOOKUP(J$305,'Calcul de variation des prix'!$E$3:$AP$5, 3, FALSE))/1000","v":0.26462570226650634},{"$f":"IF('Start - expert'!$F$3=\"CONSTANT\",K279,K279*HLOOKUP(K$305,'Calcul de variation des prix'!$E$3:$AP$5, 3, FALSE))/1000","v":0.39212252078574011},{"$f":"IF('Start - expert'!$F$3=\"CONSTANT\",L279,L279*HLOOKUP(L$305,'Calcul de variation des prix'!$E$3:$AP$5, 3, FALSE))/1000","v":0.51527563588263281},{"$f":"IF('Start - expert'!$F$3=\"CONSTANT\",M279,M279*HLOOKUP(M$305,'Calcul de variation des prix'!$E$3:$AP$5, 3, FALSE))/1000","v":0.63400795198808602},{"$f":"IF('Start - expert'!$F$3=\"CONSTANT\",N279,N279*HLOOKUP(N$305,'Calcul de variation des prix'!$E$3:$AP$5, 3, FALSE))/1000","v":0.73532998338729549},{"$f":"IF('Start - expert'!$F$3=\"CONSTANT\",O279,O279*HLOOKUP(O$305,'Calcul de variation des prix'!$E$3:$AP$5, 3, FALSE))/1000","v":0.83268475543933207},{"$f":"IF('Start - expert'!$F$3=\"CONSTANT\",P279,P279*HLOOKUP(P$305,'Calcul de variation des prix'!$E$3:$AP$5, 3, FALSE))/1000","v":0.9287226707171895},{"$f":"IF('Start - expert'!$F$3=\"CONSTANT\",Q279,Q279*HLOOKUP(Q$305,'Calcul de variation des prix'!$E$3:$AP$5, 3, FALSE))/1000","v":1.0234343890908046},{"$f":"IF('Start - expert'!$F$3=\"CONSTANT\",R279,R279*HLOOKUP(R$305,'Calcul de variation des prix'!$E$3:$AP$5, 3, FALSE))/1000","v":1.1168131411609359},{"$f":"IF('Start - expert'!$F$3=\"CONSTANT\",S279,S279*HLOOKUP(S$305,'Calcul de variation des prix'!$E$3:$AP$5, 3, FALSE))/1000","v":1.1632513900476227},{"$f":"IF('Start - expert'!$F$3=\"CONSTANT\",T279,T279*HLOOKUP(T$305,'Calcul de variation des prix'!$E$3:$AP$5, 3, FALSE))/1000","v":1.2090024758640487},{"$f":"IF('Start - expert'!$F$3=\"CONSTANT\",U279,U279*HLOOKUP(U$305,'Calcul de variation des prix'!$E$3:$AP$5, 3, FALSE))/1000","v":1.2541315779998599},{"$f":"IF('Start - expert'!$F$3=\"CONSTANT\",V279,V279*HLOOKUP(V$305,'Calcul de variation des prix'!$E$3:$AP$5, 3, FALSE))/1000","v":1.2986388799145328},{"$f":"IF('Start - expert'!$F$3=\"CONSTANT\",W279,W279*HLOOKUP(W$305,'Calcul de variation des prix'!$E$3:$AP$5, 3, FALSE))/1000","v":1.3425245432317983},{"$f":"IF('Start - expert'!$F$3=\"CONSTANT\",X279,X279*HLOOKUP(X$305,'Calcul de variation des prix'!$E$3:$AP$5, 3, FALSE))/1000","v":1.3857887108942424},{"$f":"IF('Start - expert'!$F$3=\"CONSTANT\",Y279,Y279*HLOOKUP(Y$305,'Calcul de variation des prix'!$E$3:$AP$5, 3, FALSE))/1000","v":1.4284315097867806},{"$f":"IF('Start - expert'!$F$3=\"CONSTANT\",Z279,Z279*HLOOKUP(Z$305,'Calcul de variation des prix'!$E$3:$AP$5, 3, FALSE))/1000","v":1.4702415850180943},{"$f":"IF('Start - expert'!$F$3=\"CONSTANT\",AA279,AA279*HLOOKUP(AA$305,'Calcul de variation des prix'!$E$3:$AP$5, 3, FALSE))/1000","v":1.5112190652925241},{"$f":"IF('Start - expert'!$F$3=\"CONSTANT\",AB279,AB279*HLOOKUP(AB$305,'Calcul de variation des prix'!$E$3:$AP$5, 3, FALSE))/1000","v":1.4596520403290629}]
[null,null,{"$f":"'Données de production'!C9","v":"PV sur toiture"},"Md€",null,{"$f":"IF('Start - expert'!$F$3=\"CONSTANT\",F302,F302*HLOOKUP(F$305,'Calcul de variation des prix'!$E$3:$AP$5, 3, FALSE))/1000","v":0},{"$f":"IF('Start - expert'!$F$3=\"CONSTANT\",G302,G302*HLOOKUP(G$305,'Calcul de variation des prix'!$E$3:$AP$5, 3, FALSE))/1000","v":0},{"$f":"IF('Start - expert'!$F$3=\"CONSTANT\",H302,H302*HLOOKUP(H$305,'Calcul de variation des prix'!$E$3:$AP$5, 3, FALSE))/1000","v":9.1847712508564661E-2},{"$f":"IF('Start - expert'!$F$3=\"CONSTANT\",I302,I302*HLOOKUP(I$305,'Calcul de variation des prix'!$E$3:$AP$5, 3, FALSE))/1000","v":0.18195858496907574},{"$f":"IF('Start - expert'!$F$3=\"CONSTANT\",J302,J302*HLOOKUP(J$305,'Calcul de variation des prix'!$E$3:$AP$5, 3, FALSE))/1000","v":0.27041481099927639},{"$f":"IF('Start - expert'!$F$3=\"CONSTANT\",K302,K302*HLOOKUP(K$305,'Calcul de variation des prix'!$E$3:$AP$5, 3, FALSE))/1000","v":0.40415919594440575},{"$f":"IF('Start - expert'!$F$3=\"CONSTANT\",L302,L302*HLOOKUP(L$305,'Calcul de variation des prix'!$E$3:$AP$5, 3, FALSE))/1000","v":0.53579028920279304},{"$f":"IF('Start - expert'!$F$3=\"CONSTANT\",M302,M302*HLOOKUP(M$305,'Calcul de variation des prix'!$E$3:$AP$5, 3, FALSE))/1000","v":0.66523453380589381},{"$f":"IF('Start - expert'!$F$3=\"CONSTANT\",N302,N302*HLOOKUP(N$305,'Calcul de variation des prix'!$E$3:$AP$5, 3, FALSE))/1000","v":0.76763507366584027},{"$f":"IF('Start - expert'!$F$3=\"CONSTANT\",O302,O302*HLOOKUP(O$305,'Calcul de variation des prix'!$E$3:$AP$5, 3, FALSE))/1000","v":0.86823482670433383},{"$f":"IF('Start - expert'!$F$3=\"CONSTANT\",P302,P302*HLOOKUP(P$305,'Calcul de variation des prix'!$E$3:$AP$5, 3, FALSE))/1000","v":0.96631731959346101},{"$f":"IF('Start - expert'!$F$3=\"CONSTANT\",Q302,Q302*HLOOKUP(Q$305,'Calcul de variation des prix'!$E$3:$AP$5, 3, FALSE))/1000","v":1.0618695270264062},{"$f":"IF('Start - expert'!$F$3=\"CONSTANT\",R302,R302*HLOOKUP(R$305,'Calcul de variation des prix'!$E$3:$AP$5, 3, FALSE))/1000","v":1.1548817037874306},{"$f":"IF('Start - expert'!$F$3=\"CONSTANT\",S302,S302*HLOOKUP(S$305,'Calcul de variation des prix'!$E$3:$AP$5, 3, FALSE))/1000","v":1.1826755006575012},{"$f":"IF('Start - expert'!$F$3=\"CONSTANT\",T302,T302*HLOOKUP(T$305,'Calcul de variation des prix'!$E$3:$AP$5, 3, FALSE))/1000","v":1.2096741001116766},{"$f":"IF('Start - expert'!$F$3=\"CONSTANT\",U302,U302*HLOOKUP(U$305,'Calcul de variation des prix'!$E$3:$AP$5, 3, FALSE))/1000","v":1.2358617148337805},{"$f":"IF('Start - expert'!$F$3=\"CONSTANT\",V302,V302*HLOOKUP(V$305,'Calcul de variation des prix'!$E$3:$AP$5, 3, FALSE))/1000","v":1.261238526988798},{"$f":"IF('Start - expert'!$F$3=\"CONSTANT\",W302,W302*HLOOKUP(W$305,'Calcul de variation des prix'!$E$3:$AP$5, 3, FALSE))/1000","v":1.2858047057885911},{"$f":"IF('Start - expert'!$F$3=\"CONSTANT\",X302,X302*HLOOKUP(X$305,'Calcul de variation des prix'!$E$3:$AP$5, 3, FALSE))/1000","v":1.3095604086231289},{"$f":"IF('Start - expert'!$F$3=\"CONSTANT\",Y302,Y302*HLOOKUP(Y$305,'Calcul de variation des prix'!$E$3:$AP$5, 3, FALSE))/1000","v":1.3325057820751656},{"$f":"IF('Start - expert'!$F$3=\"CONSTANT\",Z302,Z302*HLOOKUP(Z$305,'Calcul de variation des prix'!$E$3:$AP$5, 3, FALSE))/1000","v":1.3549235207600223},{"$f":"IF('Start - expert'!$F$3=\"CONSTANT\",AA302,AA302*HLOOKUP(AA$305,'Calcul de variation des prix'!$E$3:$AP$5, 3, FALSE))/1000","v":1.3768137080597507},{"$f":"IF('Start - expert'!$F$3=\"CONSTANT\",AB302,AB302*HLOOKUP(AB$305,'Calcul de variation des prix'!$E$3:$AP$5, 3, FALSE))/1000","v":1.3059617626184559}]

{"sheet":"Données - Graphiques","index":11,"n_rows":70,"n_cols":19,"rows_kept":70,"cut":false,"hidden":true,"merged":[[2,2,2,4],[26,5,26,9],[35,5,35,9],[63,5,63,9],[5,2,5,5],[54,5,54,9],[8,3,8,5],[15,1,15,20],[43,1,43,20],[17,11,17,16],[17,5,17,10],[45,11,45,16],[45,5,45,10]]}
[]
[]
[null,null,"SCENARIOS - DEFAUT"]
[null,null,{"$f":"'Données de production'!E14","v":"PPE - AMPERE"},{"$f":"IF('Données de production'!N14 = \"SCENARIO2\", \" \",'Données de production'!N14)","v":"Référence ADEME"},{"$f":"IF('Données de production'!W14 = \"SCENARIO3\", \" \",'Données de production'!W14)","v":"Prolongement nucléaire aisé ADEME"}]
[]
[null,null,"SCENARIOS - AVANCE"]
[null,null,{"$f":"'Données de production'!E14","v":"PPE - AMPERE"},{"$f":"IF('Données de production'!N14 = \"SCENARIO2\", \" \",'Données de production'!N14)","v":"Référence ADEME"},{"$f":"IF('Données de production'!W14 = \"SCENARIO3\", \" \",'Données de production'!W14)","v":"Prolongement nucléaire aisé ADEME"},{"$f":"IF('Scénario à définir'!E7=\"SCENARIO A DEFINIR\", \" \",'Scénario à définir'!E7)","v":"Scénario à définir"}]
[null,null,null,null,null,null,null,null,null,null,null,null,null,null,null,null,null,"Menu déroulant LCOE","Variation"]
[null,null,null,"Capacités attribuées jusqu'en 2017"]
[null,null,"Technologie","Unité","Mode par défaut","Mode expert",null,null,null,null,null,null,null,null,null,null,null,"Trajectoire haute (+30%)",0.3]
[null,null,{"$f":"'Données de production'!C6","v":"Eolien terrestre"},"GW",{"$f":"'Scénarios choisis - défaut'!H58","v":19.625},{"$f":"'Scénarios choisis'!H58","v":19.625},null,null,null,null,null,null,null,null,null,null,null,"Trajectoire moy. haute (+15%)",0.15]
[null,null,{"$f":"'Données de production'!C7","v":"Eolien en mer"},"GW",3,3,null,null,null,null,null,null,null,null,null,null,null,"Trajectoire de référence",0]
[null,null,{"$f":"'Données de production'!C8","v":"PV au sol"},"GW",{"$f":"'Scénarios choisis - défaut'!G60","v":6.6524082166199818},{"$f":"'Scénarios choisis'!G60","v":6.6524082166199818},null,null,null,null,null,null,null,null,null,null,null,"Trajectoire moy. basse (-15%)",-0.15]
[null,null,{"$f":"'Données de production'!C9","v":"PV sur toiture"},"GW",{"$f":"'Scénarios choisis - défaut'!G61","v":5.3169251167133522},{"$f":"'Scénarios choisis'!G61","v":5.3169251167133522},null,null,null,null,null,null,null,null,null,null,null,"Trajectoire basse (-30%)",-0.3]
[]
[null,"GRAPHIQUES DU MODE PAR DEFAUT"]
[]
[null,null,null,null,"Données historiques","Scénario sélectionné",null,null,null,null,null,{"$f":"'Scénarios choisis - défaut'!K26","v":"Scénario par défaut"}]
[null,null,{"$f":"'Scénarios choisis - défaut'!C27","v":"Prix d'attribution des projets"},"Unité",2017,2019,2020,2025,2030,2035,2040,2019,2020,2025,2030,2035,2040]
[null,null,{"$f":"'Scénarios choisis - défaut'!C28","v":"Nucléaire"},"€/MWh",{"$f":"IF('Scénarios choisis - défaut'!E28=0, NA(), 'Scénarios choisis - défaut'!E28)","v":{"$error":"#N/A"}},null,{"$f":"IF('Scénarios choisis - défaut'!F28=0, NA(), 'Scénarios choisis - défaut'!F28)","v":{"$error":"#N/A"}},{"$f":"IF('Scénarios choisis - défaut'!G28=0, NA(), 'Scénarios choisis - défaut'!G28)","v":{"$error":"#N/A"}},{"$f":"IF('Scénarios choisis - défaut'!H28=0, NA(), 'Scénarios choisis - défaut'!H28)","v":85},{"$f":"IF('Scénarios choisis - défaut'!I28=0, NA(), 'Scénarios choisis - défaut'!I28)","v":85},{"$f":"IF('Scénarios choisis - défaut'!J28=0, NA(), 'Scénarios choisis - défaut'!J28)","v":85}]
[null,null,{"$f":"'Scénarios choisis - défaut'!C29","v":"Eolien terrestre"},"€/MWh",{"$f":"IF('Scénarios choisis - défaut'!E29=0, NA(), 'Scénarios choisis - défaut'!E29)","v":65.400000000000006},{"$f":"F$19*($E21-$G21)/($E$19-$G$19)+$G21-($E21-$G21)/($E$19-$G$19)*$G$19","v":63.91727079741031},{"$f":"IF('Scénarios choisis - défaut'!F29=0, NA(), 'Scénarios choisis - défaut'!F29)","v":63.175906196115662},{"$f":"IF('Scénarios choisis - défaut'!G29=0, NA(), 'Scénarios choisis - défaut'!G29)","v":59.469083189641616},{"$f":"IF('Scénarios choisis - défaut'!H29=0, NA(), 'Scénarios choisis - défaut'!H29)","v":52.134482061403666},{"$f":"IF('Scénarios choisis - défaut'!I29=0, NA(), 'Scénarios choisis - défaut'!I29)","v":47.533014501878441},{"$f":"IF('Scénarios choisis - défaut'!J29=0, NA(), 'Scénarios choisis - défaut'!J29)","v":43.062987340873931},{"$f":"L$19*($E21-$M21)/($E$19-$M$19)+$M21-($E21-$M21)/($E$19-$M$19)*$M$19","v":63.91727079741031},{"$f":"IF('Scénarios choisis - défaut'!K29=0, NA(), 'Scénarios choisis - défaut'!K29)","v":63.175906196115662},{"$f":"IF('Scénarios choisis - défaut'!L29=0, NA(), 'Scénarios choisis - défaut'!L29)","v":59.469083189641616},{"$f":"IF('Scénarios choisis - défaut'!M29=0, NA(), 'Scénarios choisis - défaut'!M29)","v":52.134482061403666},{"$f":"IF('Scénarios choisis - défaut'!N29=0, NA(), 'Scénarios choisis - défaut'!N29)","v":47.533014501878441},{"$f":"IF('Scénarios choisis - défaut'!O29=0, NA(), 'Scénarios choisis - défaut'!O29)","v":43.062987340873931}]
[null,null,{"$f":"'Scénarios choisis - défaut'!C30","v":"Eolien en mer"},"€/MWh",{"$f":"IF('Scénarios choisis - défaut'!E30=0, NA(), 'Scénarios choisis - défaut'!E30)","v":140},{"$f":"F$19*($E22-$G22)/($E$19-$G$19)+$G22-($E22-$G22)/($E$19-$G$19)*$G$19","v":84},{"$f":"IF('Scénarios choisis - défaut'!F30=0, NA(), 'Scénarios choisis - défaut'!F30)","v":56},{"$f":"IF('Scénarios choisis - défaut'!G30=0, NA(), 'Scénarios choisis - défaut'!G30)","v":54},{"$f":"IF('Scénarios choisis - défaut'!H30=0, NA(), 'Scénarios choisis - défaut'!H30)","v":52},{"$f":"IF('Scénarios choisis - défaut'!I30=0, NA(), 'Scénarios choisis - défaut'!I30)","v":50},{"$f":"IF('Scénarios choisis - défaut'!J30=0, NA(), 'Scénarios choisis - défaut'!J30)","v":45},{"$f":"L$19*($E22-$M22)/($E$19-$M$19)+$M22-($E22-$M22)/($E$19-$M$19)*$M$19","v":84},{"$f":"'Données de coûts'!F26","v":56},{"$f":"'Données de coûts'!G26","v":54},{"$f":"'Données de coûts'!H26","v":52},{"$f":"'Données de coûts'!I26","v":50},{"$f":"'Données de coûts'!J26","v":45}]
[null,null,"Eolien en mer - Dunkerque (point)","€/MWh",0,{"$f":"IF('Scénarios choisis - défaut'!G80=0, NA(), 'Scénarios choisis - défaut'!G80)","v":42.420252816994015},0,0,0,0,0]
[null,null,{"$f":"'Scénarios choisis - défaut'!C31","v":"PV au sol"},"€/MWh",{"$f":"IF('Scénarios choisis - défaut'!E31=0, NA(), 'Scénarios choisis - défaut'!E31)","v":63.9},{"$f":"F$19*($E24-$G24)/($E$19-$G$19)+$G24-($E24-$G24)/($E$19-$G$19)*$G$19","v":59.919383308343185},{"$f":"IF('Scénarios choisis - défaut'!F31=0, NA(), 'Scénarios choisis - défaut'!F31)","v":57.929074962515188},{"$f":"IF('Scénarios choisis - défaut'!G31=0, NA(), 'Scénarios choisis - défaut'!G31)","v":47.977533233374828},{"$f":"IF('Scénarios choisis - défaut'!H31=0, NA(), 'Scénarios choisis - défaut'!H31)","v":44.635938054097217},{"$f":"IF('Scénarios choisis - défaut'!I31=0, NA(), 'Scénarios choisis - défaut'!I31)","v":41.610699307541218},{"$f":"IF('Scénarios choisis - défaut'!J31=0, NA(), 'Scénarios choisis - défaut'!J31)","v":37.555297814500541},{"$f":"L$19*($E24-$M24)/($E$19-$M$19)+$M24-($E24-$M24)/($E$19-$M$19)*$M$19","v":59.919383308343185},{"$f":"IF('Scénarios choisis - défaut'!K31=0, NA(), 'Scénarios choisis - défaut'!K31)","v":57.929074962515188},{"$f":"IF('Scénarios choisis - défaut'!L31=0, NA(), 'Scénarios choisis - défaut'!L31)","v":47.977533233374828},{"$f":"IF('Scénarios choisis - défaut'!M31=0, NA(), 'Scénarios choisis - défaut'!M31)","v":44.635938054097217},{"$f":"IF('Scénarios choisis - défaut'!N31=0, NA(), 'Scénarios choisis - défaut'!N31)","v":41.610699307541218},{"$f":"IF('Scénarios choisis - défaut'!O31=0, NA(), 'Scénarios choisis - défaut'!O31)","v":37.555297814500541}]
[null,null,{"$f":"'Scénarios choisis - défaut'!C32","v":"PV sur toiture"},"€/MWh",{"$f":"IF('Scénarios choisis - défaut'!E32=0, NA(), 'Scénarios choisis - défaut'!E32)","v":85},82.248567734389781,{"$f":"IF('Scénarios choisis - défaut'!F32=0, NA(), 'Scénarios choisis - défaut'!F32)","v":80.872851601584458},{"$f":"IF('Scénarios choisis - défaut'!G32=0, NA(), 'Scénarios choisis - défaut'!G32)","v":73.994270937559236},{"$f":"IF('Scénarios choisis - défaut'!H32=0, NA(), 'Scénarios choisis - défaut'!H32)","v":64.527789947077437},{"$f":"IF('Scénarios choisis - défaut'!I32=0, NA(), 'Scénarios choisis - défaut'!I32)","v":54.870884671366888},{"$f":"IF('Scénarios choisis - défaut'!J32=0, NA(), 'Scénarios choisis - défaut'!J32)","v":48.581929444874824},82.248567734389781,{"$f":"IF('Scénarios choisis - défaut'!K32=0, NA(), 'Scénarios choisis - défaut'!K32)","v":80.872851601584458},{"$f":"IF('Scénarios choisis - défaut'!L32=0, NA(), 'Scénarios choisis - défaut'!L32)","v":73.994270937559236},{"$f":"IF('Scénarios choisis - défaut'!M32=0, NA(), 'Scénarios choisis - défaut'!M32)","v":64.527789947077437},{"$f":"IF('Scénarios choisis - défaut'!N32=0, NA(), 'Scénarios choisis - défaut'!N32)","v":54.870884671366888},{"$f":"IF('Scénarios choisis - défaut'!O32=0, NA(), 'Scénarios choisis - défaut'!O32)","v":48.581929444874824}]
[]
[null,null,null,null,"Données historiques","Scénario sélectionné"]
[null,null,"Revenus de marché","Unité",2017,2020,2025,2030,2035,2040]
[null,null,{"$f":"'Scénarios choisis - défaut'!C36","v":"Nucléaire"},"€/MWh",{"$f":"IF(ISNA(E20), NA(), IF('Scénarios choisis - défaut'!E36=0, NA(), 'Scénarios choisis - défaut'!E36))","v":{"$error":"#N/A"}},{"$f":"IF(ISNA(G20), NA(), IF('Scénarios choisis - défaut'!F36=0, NA(), 'Scénarios choisis - défaut'!F36))","v":{"$error":"#N/A"}},{"$f":"IF(ISNA(H20), NA(), IF('Scénarios choisis - défaut'!G36=0, NA(), 'Scénarios choisis - défaut'!G36))","v":{"$error":"#N/A"}},{"$f":"IF(ISNA(I20), NA(), IF('Scénarios choisis - défaut'!H36=0, NA(), 'Scénarios choisis - défaut'!H36))","v":58.57083577188039},{"$f":"IF(ISNA(J20), NA(), IF('Scénarios choisis - défaut'!I36=0, NA(), 'Scénarios choisis - défaut'!I36))","v":62.674181863717266},{"$f":"IF(ISNA(K20), NA(), IF('Scénarios choisis - défaut'!J36=0, NA(), 'Scénarios choisis - défaut'!J36))","v":66.777527955554149}]
[null,null,{"$f":"'Scénarios choisis - défaut'!C37","v":"Eolien terrestre"},"€/MWh",{"$f":"IF(ISNA(E21), NA(), IF('Scénarios choisis - défaut'!E37=0, NA(), 'Scénarios choisis - défaut'!E37))","v":48.228490576657116},{"$f":"IF(ISNA(G21), NA(), IF('Scénarios choisis - défaut'!F37=0, NA(), 'Scénarios choisis - défaut'!F37))","v":43.114245288328561},{"$f":"IF(ISNA(H21), NA(), IF('Scénarios choisis - défaut'!G37=0, NA(), 'Scénarios choisis - défaut'!G37))","v":41.2},{"$f":"IF(ISNA(I21), NA(), IF('Scénarios choisis - défaut'!H37=0, NA(), 'Scénarios choisis - défaut'!H37))","v":46.708781372859598},{"$f":"IF(ISNA(J21), NA(), IF('Scénarios choisis - défaut'!I37=0, NA(), 'Scénarios choisis - défaut'!I37))","v":48.480734805008602},{"$f":"IF(ISNA(K21), NA(), IF('Scénarios choisis - défaut'!J37=0, NA(), 'Scénarios choisis - défaut'!J37))","v":50.252688237157606}]
[null,null,{"$f":"'Scénarios choisis - défaut'!C38","v":"Eolien en mer"},"€/MWh",{"$f":"IF(ISNA(E22), NA(), IF('Scénarios choisis - défaut'!E38=0, NA(), 'Scénarios choisis - défaut'!E38))","v":{"$error":"#N/A"}},{"$f":"IF(ISNA(G22), NA(), IF('Scénarios choisis - défaut'!F38=0, NA(), 'Scénarios choisis - défaut'!F38))","v":{"$error":"#N/A"}},{"$f":"IF(ISNA(H22), NA(), IF('Scénarios choisis - défaut'!G38=0, NA(), 'Scénarios choisis - défaut'!G38))","v":43.2},{"$f":"IF(ISNA(I22), NA(), IF('Scénarios choisis - défaut'!H38=0, NA(), 'Scénarios choisis - défaut'!H38))","v":49.157796500736417},{"$f":"IF(ISNA(J22), NA(), IF('Scénarios choisis - défaut'!I38=0, NA(), 'Scénarios choisis - défaut'!I38))","v":52.052287752577463},{"$f":"IF(ISNA(K22), NA(), IF('Scénarios choisis - défaut'!J38=0, NA(), 'Scénarios choisis - défaut'!J38))","v":54.946779004418509}]
[null,null,{"$f":"'Scénarios choisis - défaut'!C39","v":"PV au sol"},"€/MWh",{"$f":"IF(ISNA(E24), NA(), IF('Scénarios choisis - défaut'!E39=0, NA(), 'Scénarios choisis - défaut'!E39))","v":43.137359111091079},{"$f":"IF(ISNA(G24), NA(), IF('Scénarios choisis - défaut'!F39=0, NA(), 'Scénarios choisis - défaut'!F39))","v":40.068679555545543},{"$f":"IF(ISNA(H24), NA(), IF('Scénarios choisis - défaut'!G39=0, NA(), 'Scénarios choisis - défaut'!G39))","v":39.4},{"$f":"IF(ISNA(I24), NA(), IF('Scénarios choisis - défaut'!H39=0, NA(), 'Scénarios choisis - défaut'!H39))","v":44.38775218524021},{"$f":"IF(ISNA(J24), NA(), IF('Scénarios choisis - défaut'!I39=0, NA(), 'Scénarios choisis - défaut'!I39))","v":47.857132648340723},{"$f":"IF(ISNA(K24), NA(), IF('Scénarios choisis - défaut'!J39=0, NA(), 'Scénarios choisis - défaut'!J39))","v":51.326513111441244}]
[null,null,{"$f":"'Scénarios choisis - défaut'!C40","v":"PV sur toiture"},"€/MWh",{"$f":"IF(ISNA(E25), NA(), IF('Scénarios choisis - défaut'!E40=0, NA(), 'Scénarios choisis - défaut'!E40))","v":43.137359111091079},{"$f":"IF(ISNA(G25), NA(), IF('Scénarios choisis - défaut'!F40=0, NA(), 'Scénarios choisis - défaut'!F40))","v":40.068679555545543},{"$f":"IF(ISNA(H25), NA(), IF('Scénarios choisis - défaut'!G40=0, NA(), 'Scénarios choisis - défaut'!G40))","v":39.4},{"$f":"IF(ISNA(I25), NA(), IF('Scénarios choisis - défaut'!H40=0, NA(), 'Scénarios choisis - défaut'!H40))","v":44.38775218524021},{"$f":"IF(ISNA(J25), NA(), IF('Scénarios choisis - défaut'!I40=0, NA(), 'Scénarios choisis - défaut'!I40))","v":47.857132648340723},{"$f":"IF(ISNA(K25), NA(), IF('Scénarios choisis - défaut'!J40=0, NA(), 'Scénarios choisis - défaut'!J40))","v":51.326513111441244}]
[null,null,"Prix de marché moyen","€/MWh",{"$f":"IF(ISNA(E26), NA(), IF('Scénarios choisis - défaut'!E52=0, NA(), 'Scénarios choisis - défaut'!E52))","v":50.497976729383467},{"$f":"IF(ISNA(F26), NA(), IF('Scénarios choisis - défaut'!F52=0, NA(), 'Scénarios choisis - défaut'!F52))","v":47.248988364691733},{"$f":"IF(ISNA(G26), NA(), IF('Scénarios choisis - défaut'!G52=0, NA(), 'Scénarios choisis - défaut'!G52))","v":48.8},{"$f":"IF(ISNA(H26), NA(), IF('Scénarios choisis - défaut'!H52=0, NA(), 'Scénarios choisis - défaut'!H52))","v":58.620279781543118},{"$f":"IF(ISNA(I26), NA(), IF('Scénarios choisis - défaut'!I52=0, NA(), 'Scénarios choisis - défaut'!I52))","v":65.170979235400907},{"$f":"IF(ISNA(J26), NA(), IF('Scénarios choisis - défaut'!J52=0, NA(), 'Scénarios choisis - défaut'!J52))","v":71.721678689258695}]
[]
[null,null,null,null,"Données historiques","Scénario sélectionné"]
[null,null,"Complément de rémunération nécessaire en fonction de l'année de mise en fonctionnement","Unité",2017,2020,2025,2030,2035,2040]
[null,null,{"$f":"'Calcul de variation des prix'!C37","v":"Nucléaire"},"€/MWh",{"$f":"IF(ISNA(E29), NA(), 'Scénarios choisis - défaut'!E44)","v":{"$error":"#N/A"}},{"$f":"IF(ISNA(F29), NA(), 'Scénarios choisis - défaut'!F44)","v":{"$error":"#N/A"}},{"$f":"IF(ISNA(G29), NA(), 'Scénarios choisis - défaut'!G44)","v":{"$error":"#N/A"}},{"$f":"IF(ISNA(H29), NA(), 'Scénarios choisis - défaut'!H44)","v":26.42916422811961},{"$f":"IF(ISNA(I29), NA(), 'Scénarios choisis - défaut'!I44)","v":22.325818136282734},{"$f":"IF(ISNA(J29), NA(), 'Scénarios choisis - défaut'!J44)","v":18.222472044445851}]
[null,null,{"$f":"'Calcul de variation des prix'!C38","v":"Eolien terrestre"},"€/MWh",{"$f":"IF(ISNA(E30), NA(), 'Scénarios choisis - défaut'!E45)","v":17.17150942334289},{"$f":"IF(ISNA(F30), NA(), 'Scénarios choisis - défaut'!F45)","v":20.0616609077871},{"$f":"IF(ISNA(G30), NA(), 'Scénarios choisis - défaut'!G45)","v":18.269083189641613},{"$f":"IF(ISNA(H30), NA(), 'Scénarios choisis - défaut'!H45)","v":5.4257006885440688},{"$f":"IF(ISNA(I30), NA(), 'Scénarios choisis - défaut'!I45)","v":-0.94772030313016131},{"$f":"IF(ISNA(J30), NA(), 'Scénarios choisis - défaut'!J45)","v":-7.189700896283675}]
[null,null,{"$f":"'Calcul de variation des prix'!C39","v":"Eolien en mer"},"€/MWh",{"$f":"IF(ISNA(E31), NA(), 'Scénarios choisis - défaut'!E46)","v":{"$error":"#N/A"}},{"$f":"IF(ISNA(F31), NA(), 'Scénarios choisis - défaut'!F46)","v":{"$error":"#N/A"}},{"$f":"IF(ISNA(G31), NA(), 'Scénarios choisis - défaut'!G46)","v":10.799999999999997},{"$f":"IF(ISNA(H31), NA(), 'Scénarios choisis - défaut'!H46)","v":2.842203499263583},{"$f":"IF(ISNA(I31), NA(), 'Scénarios choisis - défaut'!I46)","v":-2.0522877525774632},{"$f":"IF(ISNA(J31), NA(), 'Scénarios choisis - défaut'!J46)","v":-9.9467790044185094}]
[null,null,{"$f":"'Calcul de variation des prix'!C40","v":"PV au sol"},"€/MWh",{"$f":"IF(ISNA(E32), NA(), 'Scénarios choisis - défaut'!E47)","v":20.762640888908919},{"$f":"IF(ISNA(F32), NA(), 'Scénarios choisis - défaut'!F47)","v":17.860395406969644},{"$f":"IF(ISNA(G32), NA(), 'Scénarios choisis - défaut'!G47)","v":8.5775332333748295},{"$f":"IF(ISNA(H32), NA(), 'Scénarios choisis - défaut'!H47)","v":0.24818586885700711},{"$f":"IF(ISNA(I32), NA(), 'Scénarios choisis - défaut'!I47)","v":-6.2464333407995056},{"$f":"IF(ISNA(J32), NA(), 'Scénarios choisis - défaut'!J47)","v":-13.771215296940703}]
[null,null,{"$f":"'Calcul de variation des prix'!C41","v":"PV sur toiture"},"€/MWh",{"$f":"IF(ISNA(E33), NA(), 'Scénarios choisis - défaut'!E48)","v":41.862640888908921},{"$f":"IF(ISNA(F33), NA(), 'Scénarios choisis - défaut'!F48)","v":40.804172046038914},{"$f":"IF(ISNA(G33), NA(), 'Scénarios choisis - défaut'!G48)","v":34.594270937559237},{"$f":"IF(ISNA(H33), NA(), 'Scénarios choisis - défaut'!H48)","v":20.140037761837227},{"$f":"IF(ISNA(I33), NA(), 'Scénarios choisis - défaut'!I48)","v":7.0137520230261643},{"$f":"IF(ISNA(J33), NA(), 'Scénarios choisis - défaut'!J48)","v":-2.7445836665664203}]
[]
[null,"GRAPHIQUES DU MODE EXPERT"]
[]
[null,null,null,null,"Données historiques","Scénario sélectionné",null,null,null,null,null,{"$f":"'Calcul de LCOE'!F32","v":"Scénario par défaut"}]
[null,null,{"$f":"C19","v":"Prix d'attribution des projets"},"Unité",2017,2019,2020,2025,2030,2035,2040,2019,2020,2025,2030,2035,2040]
[null,null,{"$f":"'Scénarios choisis'!C28","v":"Nucléaire"},"€/MWh",{"$f":"IF('Scénarios choisis'!E28=0, NA(), 'Scénarios choisis'!E28)","v":{"$error":"#N/A"}},{"$f":"IF('Scénarios choisis'!E28=0, NA(), 'Scénarios choisis'!E28)","v":{"$error":"#N/A"}},{"$f":"IF('Scénarios choisis'!F28=0, NA(), 'Scénarios choisis'!F28)","v":{"$error":"#N/A"}},{"$f":"IF('Scénarios choisis'!G28=0, NA(), 'Scénarios choisis'!G28)","v":{"$error":"#N/A"}},{"$f":"IF('Scénarios choisis'!H28=0, NA(), 'Scénarios choisis'!H28)","v":85},{"$f":"IF('Scénarios choisis'!I28=0, NA(), 'Scénarios choisis'!I28)","v":85},{"$f":"IF('Scénarios choisis'!J28=0, NA(), 'Scénarios choisis'!J28)","v":85}]
[null,null,{"$f":"'Scénarios choisis'!C29","v":"Eolien terrestre"},"€/MWh",{"$f":"IF('Scénarios choisis'!E29=0, NA(), 'Scénarios choisis'!E29)","v":65.400000000000006},{"$f":"F$19*($E49-$G49)/($E$19-$G$19)+$G49-($E49-$G49)/($E$19-$G$19)*$G$19","v":63.91727079741031},{"$f":"IF('Scénarios choisis'!F29=0, NA(), 'Scénarios choisis'!F29)","v":63.175906196115662},{"$f":"IF('Scénarios choisis'!G29=0, NA(), 'Scénarios choisis'!G29)","v":59.469083189641616},{"$f":"IF('Scénarios choisis'!H29=0, NA(), 'Scénarios choisis'!H29)","v":52.134482061403666},{"$f":"IF('Scénarios choisis'!I29=0, NA(), 'Scénarios choisis'!I29)","v":47.533014501878441},{"$f":"IF('Scénarios choisis'!J29=0, NA(), 'Scénarios choisis'!J29)","v":43.062987340873931},{"$f":"L$19*($E49-$M49)/($E$19-$M$19)+$M49-($E49-$M49)/($E$19-$M$19)*$M$19","v":63.91727079741031},{"$f":"IF('Scénarios choisis'!K29=0, NA(), 'Scénarios choisis'!K29)","v":63.175906196115662},{"$f":"IF('Scénarios choisis'!L29=0, NA(), 'Scénarios choisis'!L29)","v":59.469083189641616},{"$f":"IF('Scénarios choisis'!M29=0, NA(), 'Scénarios choisis'!M29)","v":52.134482061403666},{"$f":"IF('Scénarios choisis'!N29=0, NA(), 'Scénarios choisis'!N29)","v":47.533014501878441},{"$f":"IF('Scénarios choisis'!O29=0, NA(), 'Scénarios choisis'!O29)","v":43.062987340873931}]
[null,null,{"$f":"'Scénarios choisis'!C30","v":"Eolien en mer"},"€/MWh",{"$f":"IF('Scénarios choisis'!E30=0, NA(), 'Scénarios choisis'!E30)","v":140},{"$f":"F$19*($E50-$G50)/($E$19-$G$19)+$G50-($E50-$G50)/($E$19-$G$19)*$G$19","v":84},{"$f":"IF('Scénarios choisis'!F30=0, NA(), 'Scénarios choisis'!F30)","v":56},{"$f":"IF('Scénarios choisis'!G30=0, NA(), 'Scénarios choisis'!G30)","v":54},{"$f":"IF('Scénarios choisis'!H30=0, NA(), 'Scénarios choisis'!H30)","v":52},{"$f":"IF('Scénarios choisis'!I30=0, NA(), 'Scénarios choisis'!I30)","v":50},{"$f":"IF('Scénarios choisis'!J30=0, NA(), 'Scénarios choisis'!J30)","v":45},{"$f":"L$19*($E50-$M50)/($E$19-$M$19)+$M50-($E50-$M50)/($E$19-$M$19)*$M$19","v":84},{"$f":"IF('Start - expert'!$F$3=\"COURANT\",'Données de coûts'!F26*HLOOKUP(M$19, 'Calcul de variation des prix'!$E$3:$AB$5, 3, FALSE), 'Données de coûts'!F26)","v":56},{"$f":"IF('Start - expert'!$F$3=\"COURANT\",'Données de coûts'!G26*HLOOKUP(N$19, 'Calcul de variation des prix'!$E$3:$AB$5, 3, FALSE), 'Données de coûts'!G26)","v":54},{"$f":"IF('Start - expert'!$F$3=\"COURANT\",'Données de coûts'!H26*HLOOKUP(O$19, 'Calcul de variation des prix'!$E$3:$AB$5, 3, FALSE), 'Données de coûts'!H26)","v":52},{"$f":"IF('Start - expert'!$F$3=\"COURANT\",'Données de coûts'!I26*HLOOKUP(P$19, 'Calcul de variation des prix'!$E$3:$AB$5, 3, FALSE), 'Données de coûts'!I26)","v":50},{"$f":"IF('Start - expert'!$F$3=\"COURANT\",'Données de coûts'!J26*HLOOKUP(Q$19, 'Calcul de variation des prix'!$E$3:$AB$5, 3, FALSE), 'Données de coûts'!J26)","v":45}]
[null,null,{"$f":"C23","v":"Eolien en mer - Dunkerque (point)"},"€/MWh",0,{"$f":"IF('Scénarios choisis'!G80=0, NA(), 'Scénarios choisis'!G80)","v":42.420252816994015},0,0,0,0,0]
[null,null,{"$f":"'Scénarios choisis'!C31","v":"PV au sol"},"€/MWh",{"$f":"IF('Scénarios choisis'!E31=0, NA(), 'Scénarios choisis'!E31)","v":63.9},{"$f":"F$19*($E52-$G52)/($E$19-$G$19)+$G52-($E52-$G52)/($E$19-$G$19)*$G$19","v":59.919383308343185},{"$f":"IF('Scénarios choisis'!F31=0, NA(), 'Scénarios choisis'!F31)","v":57.929074962515188},{"$f":"IF('Scénarios choisis'!G31=0, NA(), 'Scénarios choisis'!G31)","v":47.977533233374828},{"$f":"IF('Scénarios choisis'!H31=0, NA(), 'Scénarios choisis'!H31)","v":44.635938054097217},{"$f":"IF('Scénarios choisis'!I31=0, NA(), 'Scénarios choisis'!I31)","v":41.610699307541218},{"$f":"IF('Scénarios choisis'!J31=0, NA(), 'Scénarios choisis'!J31)","v":37.555297814500541},{"$f":"L$19*($E52-$M52)/($E$19-$M$19)+$M52-($E52-$M52)/($E$19-$M$19)*$M$19","v":59.919383308343185},{"$f":"IF('Scénarios choisis'!K31=0, NA(), 'Scénarios choisis'!K31)","v":57.929074962515188},{"$f":"IF('Scénarios choisis'!L31=0, NA(), 'Scénarios choisis'!L31)","v":47.977533233374828},{"$f":"IF('Scénarios choisis'!M31=0, NA(), 'Scénarios choisis'!M31)","v":44.635938054097217},{"$f":"IF('Scénarios choisis'!N31=0, NA(), 'Scénarios choisis'!N31)","v":41.610699307541218},{"$f":"IF('Scénarios choisis'!O31=0, NA(), 'Scénarios choisis'!O31)","v":37.555297814500541}]
[null,null,{"$f":"'Scénarios choisis'!C32","v":"PV sur toiture"},"€/MWh",{"$f":"IF('Scénarios choisis'!E32=0, NA(), 'Scénarios choisis'!E32)","v":85},82.248567734389781,{"$f":"IF('Scénarios choisis'!F32=0, NA(), 'Scénarios choisis'!F32)","v":80.872851601584458},{"$f":"IF('Scénarios choisis'!G32=0, NA(), 'Scénarios choisis'!G32)","v":73.994270937559236},{"$f":"IF('Scénarios choisis'!H32=0, NA(), 'Scénarios choisis'!H32)","v":64.527789947077437},{"$f":"IF('Scénarios choisis'!I32=0, NA(), 'Scénarios choisis'!I32)","v":54.870884671366888},{"$f":"IF('Scénarios choisis'!J32=0, NA(), 'Scénarios choisis'!J32)","v":48.581929444874824},82.248567734389781,{"$f":"IF('Scénarios choisis'!K32=0, NA(), 'Scénarios choisis'!K32)","v":80.872851601584458},{"$f":"IF('Scénarios choisis'!L32=0, NA(), 'Scénarios choisis'!L32)","v":73.994270937559236},{"$f":"IF('Scénarios choisis'!M32=0, NA(), 'Scénarios choisis'!M32)","v":64.527789947077437},{"$f":"IF('Scénarios choisis'!N32=0, NA(), 'Scénarios choisis'!N32)","v":54.870884671366888},{"$f":"IF('Scénarios choisis'!O32=0, NA(), 'Scénarios choisis'!O32)","v":48.581929444874824}]
[]
[null,null,null,null,"Données historiques","Scénario sélectionné"]
[null,null,"Revenus de marché","Unité",2017,2020,2025,2030,2035,2040]
[null,null,{"$f":"'Scénarios choisis'!C36","v":"Nucléaire"},"€/MWh",{"$f":"IF(ISNA(E48), NA(), IF('Scénarios choisis'!E36=0, NA(), 'Scénarios choisis'!E36))","v":{"$error":"#N/A"}},{"$f":"IF(ISNA(G48), NA(), IF(ROUND('Scénarios choisis'!F36, 12)=0, NA(), 'Scénarios choisis'!F36))","v":{"$error":"#N/A"}},{"$f":"IF(ISNA(H48), NA(), IF(ROUND('Scénarios choisis'!G36, 12)=0, NA(), 'Scénarios choisis'!G36))","v":{"$error":"#N/A"}},{"$f":"IF(ISNA(I48), NA(), IF(ROUND('Scénarios choisis'!H36, 12)=0, NA(), 'Scénarios choisis'!H36))","v":58.57083577188039},{"$f":"IF(ISNA(J48), NA(), IF(ROUND('Scénarios choisis'!I36, 12)=0, NA(), 'Scénarios choisis'!I36))","v":62.674181863717266},{"$f":"IF(ISNA(K48), NA(), IF(ROUND('Scénarios choisis'!J36, 12)=0, NA(), 'Scénarios choisis'!J36))","v":66.777527955554149}]
[null,null,{"$f":"'Scénarios choisis'!C37","v":"Eolien terrestre"},"€/MWh",{"$f":"IF(ISNA(E49), NA(), IF('Scénarios choisis'!E37=0, NA(), 'Scénarios choisis'!E37))","v":48.228490576657116},{"$f":"IF(ISNA(G49), NA(), IF(ROUND('Scénarios choisis'!F37, 12)=0, NA(), 'Scénarios choisis'!F37))","v":43.114245288328561},{"$f":"IF(ISNA(H49), NA(), IF(ROUND('Scénarios choisis'!G37, 12)=0, NA(), 'Scénarios choisis'!G37))","v":41.2},{"$f":"IF(ISNA(I49), NA(), IF(ROUND('Scénarios choisis'!H37, 12)=0, NA(), 'Scénarios choisis'!H37))","v":46.708781372859598},{"$f":"IF(ISNA(J49), NA(), IF(ROUND('Scénarios choisis'!I37, 12)=0, NA(), 'Scénarios choisis'!I37))","v":48.480734805008602},{"$f":"IF(ISNA(K49), NA(), IF(ROUND('Scénarios choisis'!J37, 12)=0, NA(), 'Scénarios choisis'!J37))","v":50.252688237157606}]
[null,null,{"$f":"'Scénarios choisis'!C38","v":"Eolien en mer"},"€/MWh",{"$f":"IF(ISNA(E50), NA(), IF('Scénarios choisis'!E38=0, NA(), 'Scénarios choisis'!E38))","v":{"$error":"#N/A"}},{"$f":"IF(ISNA(G50), NA(), IF(ROUND('Scénarios choisis'!F38, 12)=0, NA(), 'Scénarios choisis'!F38))","v":{"$error":"#N/A"}},{"$f":"IF(ISNA(H50), NA(), IF(ROUND('Scénarios choisis'!G38, 12)=0, NA(), 'Scénarios choisis'!G38))","v":43.2},{"$f":"IF(ISNA(I50), NA(), IF(ROUND('Scénarios choisis'!H38, 12)=0, NA(), 'Scénarios choisis'!H38))","v":49.157796500736417},{"$f":"IF(ISNA(J50), NA(), IF(ROUND('Scénarios choisis'!I38, 12)=0, NA(), 'Scénarios choisis'!I38))","v":52.052287752577463},{"$f":"IF(ISNA(K50), NA(), IF(ROUND('Scénarios choisis'!J38, 12)=0, NA(), 'Scénarios choisis'!J38))","v":54.946779004418509}]
[null,null,{"$f":"'Scénarios choisis'!C39","v":"PV au sol"},"€/MWh",{"$f":"IF(ISNA(E52), NA(), IF('Scénarios choisis'!E39=0, NA(), 'Scénarios choisis'!E39))","v":43.137359111091079},{"$f":"IF(ISNA(G52), NA(), IF(ROUND('Scénarios choisis'!F39, 12)=0, NA(), 'Scénarios choisis'!F39))","v":40.068679555545543},{"$f":"IF(ISNA(H52), NA(), IF(ROUND('Scénarios choisis'!G39, 12)=0, NA(), 'Scénarios choisis'!G39))","v":39.4},{"$f":"IF(ISNA(I52), NA(), IF(ROUND('Scénarios choisis'!H39, 12)=0, NA(), 'Scénarios choisis'!H39))","v":44.38775218524021},{"$f":"IF(ISNA(J52), NA(), IF(ROUND('Scénarios choisis'!I39, 12)=0, NA(), 'Scénarios choisis'!I39))","v":47.857132648340723},{"$f":"IF(ISNA(K52), NA(), IF(ROUND('Scénarios choisis'!J39, 12)=0, NA(), 'Scénarios choisis'!J39))","v":51.326513111441244}]
[null,null,{"$f":"'Scénarios choisis'!C40","v":"PV sur toiture"},"€/MWh",{"$f":"IF(ISNA(E53), NA(), IF('Scénarios choisis'!E40=0, NA(), 'Scénarios choisis'!E40))","v":43.137359111091079},{"$f":"IF(ISNA(G53), NA(), IF(ROUND('Scénarios choisis'!F40, 12)=0, NA(), 'Scénarios choisis'!F40))","v":40.068679555545543},{"$f":"IF(ISNA(H53), NA(), IF(ROUND('Scénarios choisis'!G40, 12)=0, NA(), 'Scénarios choisis'!G40))","v":39.4},{"$f":"IF(ISNA(I53), NA(), IF(ROUND('Scénarios choisis'!H40, 12)=0, NA(), 'Scénarios choisis'!H40))","v":44.38775218524021},{"$f":"IF(ISNA(J53), NA(), IF(ROUND('Scénarios choisis'!I40, 12)=0, NA(), 'Scénarios choisis'!I40))","v":47.857132648340723},{"$f":"IF(ISNA(K53), NA(), IF(ROUND('Scénarios choisis'!J40, 12)=0, NA(), 'Scénarios choisis'!J40))","v":51.326513111441244}]
[null,null,"Prix de marché moyen","€/MWh",{"$f":"IF(ISNA(E54), NA(), IF('Scénarios choisis'!E52=0, NA(), 'Scénarios choisis'!E52))","v":50.497976729383467},{"$f":"IF(ISNA(F54), NA(), IF('Scénarios choisis'!F52=0, NA(), 'Scénarios choisis'!F52))","v":47.248988364691733},{"$f":"IF(ISNA(G54), NA(), IF('Scénarios choisis'!G52=0, NA(), 'Scénarios choisis'!G52))","v":48.8},{"$f":"IF(ISNA(H54), NA(), IF('Scénarios choisis'!H52=0, NA(), 'Scénarios choisis'!H52))","v":58.620279781543118},{"$f":"IF(ISNA(I54), NA(), IF('Scénarios choisis'!I52=0, NA(), 'Scénarios choisis'!I52))","v":65.170979235400907},{"$f":"IF(ISNA(J54), NA(), IF('Scénarios choisis'!J52=0, NA(), 'Scénarios choisis'!J52))","v":71.721678689258695}]
[]
[null,null,null,null,"Données historiques","Scénario sélectionné"]
[null,null,"Complément de rémunération nécessaire en fonction de l'année de mise en fonctionnement","Unité",2017,2020,2025,2030,2035,2040]
[null,null,{"$f":"'Calcul de variation des prix'!C37","v":"Nucléaire"},"€/MWh",{"$f":"IF(ISNA(E57), NA(), 'Scénarios choisis'!E44)","v":{"$error":"#N/A"}},{"$f":"IF(ISNA(F57), NA(), 'Scénarios choisis'!F44)","v":{"$error":"#N/A"}},{"$f":"IF(ISNA(G57), NA(), 'Scénarios choisis'!G44)","v":{"$error":"#N/A"}},{"$f":"IF(ISNA(H57), NA(), 'Scénarios choisis'!H44)","v":26.42916422811961},{"$f":"IF(ISNA(I57), NA(), 'Scénarios choisis'!I44)","v":22.325818136282734},{"$f":"IF(ISNA(J57), NA(), 'Scénarios choisis'!J44)","v":18.222472044445851}]
[null,null,{"$f":"'Calcul de variation des prix'!C38","v":"Eolien terrestre"},"€/MWh",{"$f":"IF(ISNA(E58), NA(), 'Scénarios choisis'!E45)","v":17.17150942334289},{"$f":"IF(ISNA(F58), NA(), 'Scénarios choisis'!F45)","v":20.0616609077871},{"$f":"IF(ISNA(G58), NA(), 'Scénarios choisis'!G45)","v":18.269083189641613},{"$f":"IF(ISNA(H58), NA(), 'Scénarios choisis'!H45)","v":5.4257006885440688},{"$f":"IF(ISNA(I58), NA(), 'Scénarios choisis'!I45)","v":-0.94772030313016131},{"$f":"IF(ISNA(J58), NA(), 'Scénarios choisis'!J45)","v":-7.189700896283675}]
[null,null,{"$f":"'Calcul de variation des prix'!C39","v":"Eolien en mer"},"€/MWh",{"$f":"IF(ISNA(E59), NA(), 'Scénarios choisis'!E46)","v":{"$error":"#N/A"}},{"$f":"IF(ISNA(F59), NA(), 'Scénarios choisis'!F46)","v":{"$error":"#N/A"}},{"$f":"IF(ISNA(G59), NA(), 'Scénarios choisis'!G46)","v":10.799999999999997},{"$f":"IF(ISNA(H59), NA(), 'Scénarios choisis'!H46)","v":2.842203499263583},{"$f":"IF(ISNA(I59), NA(), 'Scénarios choisis'!I46)","v":-2.0522877525774632},{"$f":"IF(ISNA(J59), NA(), 'Scénarios choisis'!J46)","v":-9.9467790044185094}]
[null,null,{"$f":"'Calcul de variation des prix'!C40","v":"PV au sol"},"€/MWh",{"$f":"IF(ISNA(E60), NA(), 'Scénarios choisis'!E47)","v":20.762640888908919},{"$f":"IF(ISNA(F60), NA(), 'Scénarios choisis'!F47)","v":17.860395406969644},{"$f":"IF(ISNA(G60), NA(), 'Scénarios choisis'!G47)","v":8.5775332333748295},{"$f":"IF(ISNA(H60), NA(), 'Scénarios choisis'!H47)","v":0.24818586885700711},{"$f":"IF(ISNA(I60), NA(), 'Scénarios choisis'!I47)","v":-6.2464333407995056},{"$f":"IF(ISNA(J60), NA(), 'Scénarios choisis'!J47)","v":-13.771215296940703}]
[null,null,{"$f":"'Calcul de variation des prix'!C41","v":"PV sur toiture"},"€/MWh",{"$f":"IF(ISNA(E61), NA(), 'Scénarios choisis'!E48)","v":41.862640888908921},{"$f":"IF(ISNA(F61), NA(), 'Scénarios choisis'!F48)","v":40.804172046038914},{"$f":"IF(ISNA(G61), NA(), 'Scénarios choisis'!G48)","v":34.594270937559237},{"$f":"IF(ISNA(H61), NA(), 'Scénarios choisis'!H48)","v":20.140037761837227},{"$f":"IF(ISNA(I61), NA(), 'Scénarios choisis'!I48)","v":7.0137520230261643},{"$f":"IF(ISNA(J61), NA(), 'Scénarios choisis'!J48)","v":-2.7445836665664203}]