{"text_format":"1","workbook":"xlsx","n_sheets":59,"sheets":["Start-Experte","ControlPanel","Parameter-Entscheider","Start","Ergebnisse","Manual","Impressum","Index","IndexComplete","MOD-Berechnungen","MOD-Jahresgang","GrD-Grafikdaten","GrD-Grafikdaten (2)","MOD_Absenkung_Wind_offshore","D-Vergütungssatz Neuanlagen","D-Bruttozubau","D-Standardauslastung","D-Dargebotsfaktor","D-Spot-Skalierungsfaktor","D-Profilfaktoren","D-Dauer Goldenes Ende","D-Future Strompreis","D-Liquiditätspuffer","D-Nettostromverbrauch","D-Privilegierter Letztverbrauch","D-Umlage priv. Letztverbrauch","D-Faktor Zusatzprivilegierung","D-Umlage EV Bestand","D-Eigenverbrauch KWK Neue","D-Umlage Eigenverbrauch PV+KWK","D-vermiedene Netzentgelte","D-Sonstige Kosten","D-Inflationsrate","D-Prognosefehler Kontostand","D-Kontostand aktuelles Jahr","D-Anteil Eigenverbrauch EE neu","D-Zuschuss","D-Strommenge ges.","D-Strommenge FV+DM","D-Mittlerer Vergütungssatz","D-Kontostand Vorjahr","D-Bestand Kapazität","D-Bestand Strommenge","D-Bestand Zahlungen","Nebenrechnung_Bestand Zahlungen","D-Grünstromprivileg","D-Eigenverbrauch fossil Bestand","D-Eigenverbrauch fossile Neue","D-Eigenverbrauch EE-Bestand","D-Umlagereduktion Grünstrom","D-Umlage Eigenverb fossile Neue","D-Vergütung Eigenverbrauch","D-Managementprämie_Bestand","D-Netzverl. u. KW-Eigenverbr.","D-Kapazitäten 2009","D-Rückbau vor 2015","D-EE-Kapazitäten nicht EEG","D-EE-Strommengen nicht EEG","D-Profilfaktoren_Marktprämie"],"not_rendered":{"charts":17,"images":6,"macros":1,"external_links":0,"defined_names":48,"comments":13,"pivot_tables":0},"unopened":[],"bounds":{"document_bytes":16777216,"sheet_cells":100000,"rows_first":2000,"rows_last":500,"rows_between":2000,"halvings":0,"cell_chars":16384,"cell_head_chars":4096},"cells_cut":0,"cells_raw":0,"read":"whole","date_system":"1900"}

{"sheet":"Start-Experte","index":0,"n_rows":52,"n_cols":26,"rows_kept":52,"cut":false,"hidden":true,"merged":[[37,16,37,25],[4,16,4,18],[35,16,35,25],[25,9,25,10],[6,11,6,12],[29,9,29,10],[26,9,26,10],[11,9,11,10],[12,9,12,10],[13,9,13,10],[17,9,17,10],[27,9,27,10],[28,9,28,10],[31,11,31,12],[31,8,31,9],[1,2,2,2],[5,3,5,5],[16,3,16,5],[16,9,16,12],[17,4,17,5],[6,9,6,10],[7,9,7,10],[8,9,8,10],[9,9,9,10],[10,9,10,10],[17,11,17,12],[5,9,5,12],[32,4,32,5],[32,11,32,12],[42,4,42,5],[43,4,43,5],[1,19,2,20],[6,4,6,5],[23,9,23,12],[24,11,24,12],[18,9,18,10],[19,9,19,10],[20,9,20,10],[21,9,21,10],[24,9,24,10],[24,4,24,5],[23,3,23,5],[31,4,31,5],[41,16,41,25],[45,16,45,25],[43,11,43,12],[43,9,43,10],[44,9,44,10],[42,9,42,12]]}
[" ",null," "," "]
[null,null,"EEG-Rechner",null,null,null,null,null,null,null,null,null,null,null,null,null,null,null,null,{"$f":"CONCATENATE(\"Version \",Impressum!$C$17)","v":"Version 4.2.1"}]
[]
[null,null,"Expertenmodus"]
[null,null,null,null,null,null,null,null,null,null,null,null,null,null,null,null,"Darstellung monetärer Daten:",null,null,{"$f":"ControlPanel!$T$5","v":"nominal"}]
[null,null,null,"Eingabeparameter: \nJährlicher Kapazitätszubau (Brutto)",null,null,null,null,null,{"$f":"\"Eingabe-Parameter:\nEntwicklung der Vergütungssätze (real, bezogen auf \"&ControlPanel!D60&\")\"","v":"Eingabe-Parameter:\nEntwicklung der Vergütungssätze (real, bezogen auf 2021)"}]
[null,null,"Technologie","mögliche Werte","gewähltes Szenario",null,null,null,"Technologie","mögliche Werte",null,"gewähltes Szenario"]
[null,null,"Wind Onshore","frei wählbar ->","Referenz",{"$f":"'D-Bruttozubau'!E10","v":"1,5 GW bis 2021, ab 2023 2,5 GW/a"},null,null,"Wind Onshore","frei wählbar ->",null,"Referenz",{"$f":"'D-Vergütungssatz Neuanlagen'!E10","v":"sinkt auf 3,5 ct/kWh in 2035"}]
[null,null,"Wind Offshore","frei wählbar ->","Referenz",{"$f":"'D-Bruttozubau'!E11","v":"MFP Trend, danach konstant 1,6 GW"},null,null,"Wind Offshore","frei wählbar ->",null,"Referenz",{"$f":"'D-Vergütungssatz Neuanlagen'!E11","v":"sinkt auf 4,5 ct/kWh in 2035"}]
[null,null,"Solar","frei wählbar ->","Referenz",{"$f":"'D-Bruttozubau'!E12","v":"MFP Trend"},null,null,"Solar","frei wählbar ->",null,"Referenz",{"$f":"'D-Vergütungssatz Neuanlagen'!E12","v":"EEG 2017; Anteil Ausschreibungen ab 2020 50%"}]
[null,null,"Biomasse","frei wählbar ->","Referenz",{"$f":"'D-Bruttozubau'!E8","v":"0,2 GW/a"},null,null,"Biomasse","frei wählbar ->",null,"Referenz",{"$f":"'D-Vergütungssatz Neuanlagen'!E8","v":"EEG 2017"}]
[null,null,"Geothermie","frei wählbar ->","Referenz",{"$f":"'D-Bruttozubau'!E9","v":"0,01GW/a"},null,null,"Geothermie","frei wählbar ->",null,"Referenz",{"$f":"'D-Vergütungssatz Neuanlagen'!E9","v":"EEG 2017"}]
[null,null,"Wasser","frei wählbar ->","Referenz",{"$f":"'D-Bruttozubau'!E6","v":"0,01 GW/a"},null,null,"Wasser","frei wählbar ->",null,"Referenz",{"$f":"'D-Vergütungssatz Neuanlagen'!E6","v":"EEG 2017"}]
[null,null,"Gase","frei wählbar ->","Referenz",{"$f":"'D-Bruttozubau'!E7","v":"0,01GW/a"},null,null,"Gase","frei wählbar ->",null,"Referenz",{"$f":"'D-Vergütungssatz Neuanlagen'!E7","v":"EEG 2017"}]
[null,null,null,null,null,"zu den Szenariendaten:   >",null,null,null,null,null,null,"zu den Szenariendaten:   >"]
[]
[null,null,null,"Eingabeparameter: \nAusnahmen für stromintensive Unternehmen (BesAR)",null,null,null,null,null,"Eingabeparameter: \nStrompreis, Liquiditätsreserve und Kontostand"]
[null,null,null,"mögliche Werte","gewähltes Szenario",null,null,null,null,"mögliche Werte",null,"gewähltes Szenario"]
[null,null,"Privilegierter \nLetztverbrauch","frei wählbar ->","Referenz",{"$f":"'D-Privilegierter Letztverbrauch'!$D$6","v":"MFP Referenz"},null,">","Großhandelsstrompreis (Future)","frei wählbar ->",null,"Referenz",{"$f":"'D-Future Strompreis'!$D$6","v":"4,9 -> 6,5 ct/kWh"},null,">"]
[null,null,"Anteil an Umlage für privilegierte Letztverbraucher","frei wählbar ->","Referenz",{"$f":"'D-Umlage priv. Letztverbrauch'!$D$6","v":"15% (gem. EEG 2021)"},null,">","Liquiditätsreserve","frei wählbar ->",null,"Referenz",{"$f":"'D-Liquiditätspuffer'!$D$6","v":"ÜNB-Umlageberechnungen, danach 6%"},null,">"]
[null,null,"Faktor zur Erfassung zusätzlicher Privilegierungen","frei wählbar ->","Referenz",{"$f":"'D-Faktor Zusatzprivilegierung'!$D$6","v":"Bis 2021: ÜNB-Umlageberechnungen, danach konstant (wirkt wie vollständige Befreiung von 62% des priv. LV)"},null,">",{"$f":"CONCATENATE(\"Kontostand am 30.9.\",ControlPanel!$D$59-1)","v":"Kontostand am 30.9.2021"},"frei wählbar ->",null,"endogen",{"$f":"'D-Kontostand aktuelles Jahr'!D6","v":"wird endogen berechnet"},null,">"]
[null,null,null,null,null,null,null,null,{"$f":"CONCATENATE(\"Alternativ: Abweichung von Kontostandsprognose für den 30.9.\",ControlPanel!$D$59-1)","v":"Alternativ: Abweichung von Kontostandsprognose für den 30.9.2021"},"frei wählbar ->",null,"keine Abweichung",{"$f":"'D-Prognosefehler Kontostand'!D6","v":"keine Abweichung"},null,">"]
[]
[null,null,null,"Eingabeparameter: \nEigenverbrauch",null,null,null,null,null,"Eingabeparameter: \nSonstiges"]
[null,null,"Kategorien Eigenverbrauch\nund jeweilige Beteiligung","mögliche Werte","gewähltes Szenario",null,null,null,null,"mögliche Werte",null,"gewähltes Szenario"]
[null,null,"Eigenverbrauch \n(KWK-Neuanlagen)","frei wählbar ->","Referenz",{"$f":"'D-Eigenverbrauch KWK Neue'!$D$6","v":"2021: ÜNB-Umlageberechnungen bis 2025, danach konstant"},null,">","Nettostromverbrauch","frei wählbar ->",null,"Referenz",{"$f":"'D-Nettostromverbrauch'!$D$6","v":"2021: ÜNB-Umlageberechnung 2020. Danach ansteigend auf 600 TWh in 2030"},null,">"]
[null,null,"Eigenverbrauchsanteil bei PV-Neuanlagen","frei wählbar ->","Referenz",{"$f":"'D-Anteil Eigenverbrauch EE neu'!E12","v":"9%"},null,">","Spot-Skalierungsfaktor \n(Verhältnis Spotpreis zu Futurepreis)","frei wählbar ->",null,"Referenz",{"$f":"'D-Spot-Skalierungsfaktor'!$D$6","v":"100%"},null,">"]
[null,null,"Anteil an Umlage für neuen Eigenverbrauch (PV und KWK)","frei wählbar ->","Referenz",{"$f":"'D-Umlage Eigenverbrauch PV+KWK'!$D$6","v":"gem. EEG 2017, ab 2020 konstant 38%"},null,">","Vermiedene Netzentgelte (für nicht fluktuierende Erzeugung)","frei wählbar ->",null,"Referenz",{"$f":"'D-vermiedene Netzentgelte'!$D$6","v":"7.17€/MWh"},null,">"]
[null,null,"Anteil an Umlage für Eigenverbrauch \n(Bestandsanlagen)","frei wählbar ->","Referenz",{"$f":"'D-Umlage EV Bestand'!$D$6","v":"vollständig befreit (gem. EEG 2014)"},null,">","Sonstige Kosten","frei wählbar ->",null,"Referenz",{"$f":"'D-Sonstige Kosten'!$D$6","v":"0,06Mrd. €"},null,">"]
[null,null,null,null,null,null,null,null,"Inflationsrate","frei wählbar ->",null,"Referenz",{"$f":"'D-Inflationsrate'!$D$6","v":"1,5% pro Jahr"},null,">"]
[]
[null,null,null,null,"Eingabeparameter: Standardauslastung",null,null,null," Eingabeparameter: Dargebotsfaktor",null,null," Eingabeparameter: Profilfaktor"]
[null,null,"Technologie","mögliche Werte","gewähltes Szenario",null,null,null,"gewähltes Szenario",null,null,"gewähltes Szenario"]
[null,null,"Wind Onshore","frei wählbar ->","Referenz",{"$f":"'D-Standardauslastung'!E10","v":"Anstieg auf 2600h in 2035"},null,null,"Referenz",{"$f":"'D-Dargebotsfaktor'!E10","v":"100%"},null,"Referenz",{"$f":"'D-Profilfaktoren'!E10","v":"eigene Berechnung"}]
[null,null,"Wind Offshore","frei wählbar ->","Referenz",{"$f":"'D-Standardauslastung'!E11","v":"Anstieg auf 4700 h in 2035"},null,null,"Referenz",{"$f":"'D-Dargebotsfaktor'!E11","v":"100%"},null,"Referenz",{"$f":"'D-Profilfaktoren'!E11","v":"eigene Berechnung"}]
[null,null,"Solar","frei wählbar ->","Referenz",{"$f":"'D-Standardauslastung'!E12","v":"Anstieg auf 950h in 2035"},null,null,"Referenz",{"$f":"'D-Dargebotsfaktor'!E12","v":"100%"},null,"Referenz",{"$f":"'D-Profilfaktoren'!E12","v":"eigene Berechnung"},null,null,null,"Ergebnis: EEG-Umlage und Summe aus Strompreis und Umlage [ct/kWh]"]
[null,null,"Biomasse","frei wählbar ->","Referenz",{"$f":"'D-Standardauslastung'!E8","v":"MFP Trend"},null,null,"Referenz",{"$f":"'D-Dargebotsfaktor'!E8","v":"100%"},null,"Referenz",{"$f":"'D-Profilfaktoren'!E8","v":"100%"},null,null,null,null,null,{"$f":"ControlPanel!$D$59-1","v":2021},{"$f":"ControlPanel!$D$59","v":2022},{"$f":"ControlPanel!$D$59+1","v":2023},{"$f":"ControlPanel!$D$59+2","v":2024},{"$f":"ControlPanel!$D$59+3","v":2025},2025,2030,2035]
[null,null,"Geothermie","frei wählbar ->","Referenz",{"$f":"'D-Standardauslastung'!E9","v":"MFP Trend"},null,null,"Referenz",{"$f":"'D-Dargebotsfaktor'!E9","v":"100%"},null,"Referenz",{"$f":"'D-Profilfaktoren'!E9","v":"100%"},null,null,null,"Referenz-Szenario "]
[null,null,"Wasser","frei wählbar ->","Referenz",{"$f":"'D-Standardauslastung'!E6","v":"MFP Trend"},null,null,"Referenz",{"$f":"'D-Dargebotsfaktor'!E6","v":"100%"},null,"Referenz",{"$f":"'D-Profilfaktoren'!E6","v":"100%"},null,null,null,"Umlage [ct/kWh]",null,{"$f":"IF(ControlPanel!$T$5=\"nominal\",OFFSET('GrD-Grafikdaten'!$J8,0,S$37-2014),OFFSET('GrD-Grafikdaten'!$J26,0,S$37-2014))","v":6.5036153637169205},{"$f":"IF(ControlPanel!$T$5=\"nominal\",OFFSET('GrD-Grafikdaten'!$J8,0,T$37-2014),OFFSET('GrD-Grafikdaten'!$J26,0,T$37-2014))","v":4.272216637741538},{"$f":"IF(ControlPanel!$T$5=\"nominal\",OFFSET('GrD-Grafikdaten'!$J8,0,U$37-2014),OFFSET('GrD-Grafikdaten'!$J26,0,U$37-2014))","v":4.3097166630738721},{"$f":"IF(ControlPanel!$T$5=\"nominal\",OFFSET('GrD-Grafikdaten'!$J8,0,V$37-2014),OFFSET('GrD-Grafikdaten'!$J26,0,V$37-2014))","v":4.0140943880966908},{"$f":"IF(ControlPanel!$T$5=\"nominal\",OFFSET('GrD-Grafikdaten'!$J8,0,W$37-2014),OFFSET('GrD-Grafikdaten'!$J26,0,W$37-2014))","v":3.379770582274936},{"$f":"IF(ControlPanel!$T$5=\"nominal\",OFFSET('GrD-Grafikdaten'!$J8,0,X$37-2014),OFFSET('GrD-Grafikdaten'!$J26,0,X$37-2014))","v":3.379770582274936},{"$f":"IF(ControlPanel!$T$5=\"nominal\",OFFSET('GrD-Grafikdaten'!$J8,0,Y$37-2014),OFFSET('GrD-Grafikdaten'!$J26,0,Y$37-2014))","v":1.1351683324450654},{"$f":"IF(ControlPanel!$T$5=\"nominal\",OFFSET('GrD-Grafikdaten'!$J8,0,Z$37-2014),OFFSET('GrD-Grafikdaten'!$J26,0,Z$37-2014))","v":-0.12285987283779966}]
[null,null,"Gase","frei wählbar ->","Referenz",{"$f":"'D-Standardauslastung'!E7","v":"MFP Trend"},null,null,"Referenz",{"$f":"'D-Dargebotsfaktor'!E7","v":"100%"},null,"Referenz",{"$f":"'D-Profilfaktoren'!E7","v":"100%"},null,null,null,"Strompreis + Umlage [ct/kWh]",null,{"$f":"IF(ControlPanel!$T$5=\"nominal\",OFFSET('GrD-Grafikdaten'!$J20,0,S$37-2014),OFFSET('GrD-Grafikdaten'!$J38,0,S$37-2014))","v":10.577615363716919},{"$f":"IF(ControlPanel!$T$5=\"nominal\",OFFSET('GrD-Grafikdaten'!$J20,0,T$37-2014),OFFSET('GrD-Grafikdaten'!$J38,0,T$37-2014))","v":11.523376637741537},{"$f":"IF(ControlPanel!$T$5=\"nominal\",OFFSET('GrD-Grafikdaten'!$J20,0,U$37-2014),OFFSET('GrD-Grafikdaten'!$J38,0,U$37-2014))","v":10.836192038073872},{"$f":"IF(ControlPanel!$T$5=\"nominal\",OFFSET('GrD-Grafikdaten'!$J20,0,V$37-2014),OFFSET('GrD-Grafikdaten'!$J38,0,V$37-2014))","v":10.652844971377938},{"$f":"IF(ControlPanel!$T$5=\"nominal\",OFFSET('GrD-Grafikdaten'!$J20,0,W$37-2014),OFFSET('GrD-Grafikdaten'!$J38,0,W$37-2014))","v":10.132696173126496},{"$f":"IF(ControlPanel!$T$5=\"nominal\",OFFSET('GrD-Grafikdaten'!$J20,0,X$37-2014),OFFSET('GrD-Grafikdaten'!$J38,0,X$37-2014))","v":10.132696173126496},{"$f":"IF(ControlPanel!$T$5=\"nominal\",OFFSET('GrD-Grafikdaten'!$J20,0,Y$37-2014),OFFSET('GrD-Grafikdaten'!$J38,0,Y$37-2014))","v":8.4885951116992402},{"$f":"IF(ControlPanel!$T$5=\"nominal\",OFFSET('GrD-Grafikdaten'!$J20,0,Z$37-2014),OFFSET('GrD-Grafikdaten'!$J38,0,Z$37-2014))","v":7.8835523766729283}]
[null,null,null,null,null,">",null,null,null,">",null,null,">",null,null,null,"EE-Anteil an Bruttostromverbrauch",null,{"$f":"OFFSET('GrD-Grafikdaten'!$J48,0,S$37-2014)","v":0.4325342394860715},{"$f":"OFFSET('GrD-Grafikdaten'!$J48,0,T$37-2014)","v":0.46359232941256695},{"$f":"OFFSET('GrD-Grafikdaten'!$J48,0,U$37-2014)","v":0.47472620210275479},{"$f":"OFFSET('GrD-Grafikdaten'!$J48,0,V$37-2014)","v":0.48615866142445308},{"$f":"OFFSET('GrD-Grafikdaten'!$J48,0,W$37-2014)","v":0.49418321096510404},{"$f":"OFFSET('GrD-Grafikdaten'!$J48,0,X$37-2014)","v":0.49418321096510404},{"$f":"OFFSET('GrD-Grafikdaten'!$J48,0,Y$37-2014)","v":0.51622816644394032},{"$f":"OFFSET('GrD-Grafikdaten'!$J48,0,Z$37-2014)","v":0.53204603528117611}]
[null,null,null,null,null,null,null,null,null,null,null,null,null,null,null,null,"Prognose-Szenario "]
[null,null,null,null,"Eingabeparameter: Lebensdauer der Anlagen nach Ende der Förderung",null,null,null,null," Eingabeparameter: Zuschüsse aus dem Bundeshaushalt",null,null,null,null,null,null,"Umlage [ct/kWh]",null,{"$f":"S39+S47","v":6.5036153637169205},{"$f":"T39+T47","v":4.272216637741538},4.3097166630738721,4.0140943880966908,3.379770582274936,3.379770582274936,1.1351683324450654,-0.12285987283779966]
[null,null,"Technologie","mögliche Werte","gewähltes Szenario",null,null,null,null,"mögliche Werte",null,"gewähltes Szenario",null,null,null,null,"Strompreis + Umlage [ct/kWh]",null,{"$f":"S40+S48","v":10.577615363716919},11.523376637741537,10.836192038073872,10.652844971377938,10.132696173126496,10.132696173126496,8.4885951116992402,7.8835523766729283]
[null,null,"Wind Onshore","frei wählbar ->","Referenz",{"$f":"'D-Dauer Goldenes Ende'!E10","v":"5 Jahre"},null,null,"Referenz","frei wählbar ->",null,"Referenz",{"$f":"'D-Zuschuss'!D6","v":"6,5 ct/kWh in 2021 und 6,0 ct/kWh in 2022 werden erreicht"},null,">",null,"EE-Anteil an Bruttostromverbrauch",null,{"$f":"S41+S49","v":0.4325342394860715},0.46359232941256695,0.47472620210275479,0.48615866142445308,0.49418321096510404,0.49418321096510404,0.51622816644394032,0.53204603528117611]
[null,null,"Wind Offshore","frei wählbar ->","Referenz",{"$f":"'D-Dauer Goldenes Ende'!E11","v":"keine"},null,null,null,null,null,null,null,null,null,null,"Differenz zum Referenz-Szenario "]
[null,null,"Solar","frei wählbar ->","Referenz",{"$f":"'D-Dauer Goldenes Ende'!E12","v":"5 Jahre"},null,null,null,null,null,null,null,null,null,null,"Umlage [ct/kWh]",null,{"$f":"OFFSET('GrD-Grafikdaten'!$J132,0,S$37-2014)","v":0},{"$f":"OFFSET('GrD-Grafikdaten'!$J132,0,T$37-2014)","v":0},{"$f":"OFFSET('GrD-Grafikdaten'!$J132,0,U$37-2014)","v":0},{"$f":"OFFSET('GrD-Grafikdaten'!$J132,0,V$37-2014)","v":0},{"$f":"OFFSET('GrD-Grafikdaten'!$J132,0,W$37-2014)","v":0},{"$f":"OFFSET('GrD-Grafikdaten'!$J132,0,X$37-2014)","v":0},{"$f":"OFFSET('GrD-Grafikdaten'!$J132,0,Y$37-2014)","v":0},{"$f":"OFFSET('GrD-Grafikdaten'!$J132,0,Z$37-2014)","v":0}]
[null,null,"Biomasse","frei wählbar ->","Referenz",{"$f":"'D-Dauer Goldenes Ende'!E8","v":"keine"},null,null,null,null,null,null,null,null,null,null,"Strompreis + Umlage [ct/kWh]",null,{"$f":"OFFSET('GrD-Grafikdaten'!$J144,0,S$37-2014)","v":0},{"$f":"OFFSET('GrD-Grafikdaten'!$J144,0,T$37-2014)","v":0},{"$f":"OFFSET('GrD-Grafikdaten'!$J144,0,U$37-2014)","v":0},{"$f":"OFFSET('GrD-Grafikdaten'!$J144,0,V$37-2014)","v":0},{"$f":"OFFSET('GrD-Grafikdaten'!$J144,0,W$37-2014)","v":0},{"$f":"OFFSET('GrD-Grafikdaten'!$J144,0,X$37-2014)","v":0},{"$f":"OFFSET('GrD-Grafikdaten'!$J144,0,Y$37-2014)","v":0},{"$f":"OFFSET('GrD-Grafikdaten'!$J144,0,Z$37-2014)","v":0}]
[null,null,"Geothermie","frei wählbar ->","Referenz",{"$f":"'D-Dauer Goldenes Ende'!E9","v":"keine"},null,null,null,null,null,null,null,null,null,null,"EE-Anteil an Bruttostromverbrauch",null,{"$f":"OFFSET('GrD-Grafikdaten'!$J92,0,S$37-2014) - OFFSET('GrD-Grafikdaten'!$J48,0,S$37-2014)","v":0},{"$f":"OFFSET('GrD-Grafikdaten'!$J92,0,T$37-2014) - OFFSET('GrD-Grafikdaten'!$J48,0,T$37-2014)","v":0},{"$f":"OFFSET('GrD-Grafikdaten'!$J92,0,U$37-2014) - OFFSET('GrD-Grafikdaten'!$J48,0,U$37-2014)","v":0},{"$f":"OFFSET('GrD-Grafikdaten'!$J92,0,V$37-2014) - OFFSET('GrD-Grafikdaten'!$J48,0,V$37-2014)","v":0},{"$f":"OFFSET('GrD-Grafikdaten'!$J92,0,W$37-2014) - OFFSET('GrD-Grafikdaten'!$J48,0,W$37-2014)","v":0},{"$f":"OFFSET('GrD-Grafikdaten'!$J92,0,X$37-2014) - OFFSET('GrD-Grafikdaten'!$J48,0,X$37-2014)","v":0},{"$f":"OFFSET('GrD-Grafikdaten'!$J92,0,Y$37-2014) - OFFSET('GrD-Grafikdaten'!$J48,0,Y$37-2014)","v":0},{"$f":"OFFSET('GrD-Grafikdaten'!$J92,0,Z$37-2014) - OFFSET('GrD-Grafikdaten'!$J48,0,Z$37-2014)","v":0}]
[null,null,"Wasser","frei wählbar ->","Referenz",{"$f":"'D-Dauer Goldenes Ende'!E6","v":"keine"}]
[null,null,"Gase","frei wählbar ->","Referenz",{"$f":"'D-Dauer Goldenes Ende'!E7","v":"keine"}]
[null,null,null,null,null,">"]

{"sheet":"ControlPanel","index":1,"n_rows":60,"n_cols":20,"rows_kept":60,"cut":false,"hidden":true,"merged":[[43,4,43,5],[29,9,29,10],[1,2,2,2],[6,4,6,5],[5,3,5,5],[23,3,23,5],[23,9,23,12],[24,4,24,5],[24,9,24,10],[24,11,24,12],[13,9,13,10],[25,9,25,10],[32,8,32,9],[31,4,31,5],[31,8,31,9],[12,9,12,10],[28,9,28,10],[1,19,2,20],[5,9,5,12],[6,9,6,10],[6,11,6,12],[4,16,4,18],[8,9,8,10],[7,9,7,10],[9,9,9,10],[10,9,10,10],[11,9,11,10],[42,8,42,9],[16,3,16,5],[17,4,17,5],[16,9,16,12],[17,9,17,10],[17,11,17,12],[18,9,18,10],[19,9,19,10],[20,9,20,10],[21,9,21,10],[42,4,42,5],[31,11,31,12],[32,4,32,5],[32,11,32,12],[26,9,26,10],[27,9,27,10]]}
[]
[null,null,"EEG Calculator"]
[]
[null,null,"Entscheidermodus"]
[null,null,null,null,null,null,null,null,null,null,null,null,null,null,null,null,"Monetäre Daten nominal oder real darstellen?",null,null,"nominal"]
[null,null,null,"Eingabeparameter: \nJährlicher Kapazitätszubau",null,null,null,null,null,"Eingabe-Parameter:\nEntwicklung der Vergütungssätze (Änderung pro Jahr)"]
[null,null,"Technologie","mögliche Werte","gewähltes Szenario",null,null,null,"Technologie","mögliche Werte",null,"gewähltes Szenario",null,null,null,null,null,"Auswahl für nominal / real Schalter:"]
[null,null,"Wind Onshore",null,{"$f":"IF($C$4=\"Entscheidermodus\",'Parameter-Entscheider'!E8,'Start-Experte'!E8)","v":"Referenz"},{"$f":"'D-Bruttozubau'!E10","v":"1,5 GW bis 2021, ab 2023 2,5 GW/a"},null,null,"Wind Onshore"," ",null,{"$f":"IF($C$4=\"Entscheidermodus\",'Parameter-Entscheider'!L8,'Start-Experte'!L8)","v":"Referenz"},{"$f":"'D-Vergütungssatz Neuanlagen'!E10","v":"sinkt auf 3,5 ct/kWh in 2035"},null,null,null,null,"nominal"]
[null,null,"Wind Offshore",null,{"$f":"IF($C$4=\"Entscheidermodus\",'Parameter-Entscheider'!E9,'Start-Experte'!E9)","v":"Referenz"},{"$f":"'D-Bruttozubau'!E11","v":"MFP Trend, danach konstant 1,6 GW"},null,null,"Wind Offshore"," ",null,{"$f":"IF($C$4=\"Entscheidermodus\",'Parameter-Entscheider'!L9,'Start-Experte'!L9)","v":"Referenz"},{"$f":"'D-Vergütungssatz Neuanlagen'!E11","v":"sinkt auf 4,5 ct/kWh in 2035"},null,null,null,null,"real"]
[null,null,"PV",null,{"$f":"IF($C$4=\"Entscheidermodus\",'Parameter-Entscheider'!E10,'Start-Experte'!E10)","v":"Referenz"},{"$f":"'D-Bruttozubau'!E12","v":"MFP Trend"},null,null,"Solar"," ",null,{"$f":"IF($C$4=\"Entscheidermodus\",'Parameter-Entscheider'!L10,'Start-Experte'!L10)","v":"Referenz"},{"$f":"'D-Vergütungssatz Neuanlagen'!E12","v":"EEG 2017; Anteil Ausschreibungen ab 2020 50%"}]
[null,null,"Biomasse",null,{"$f":"IF($C$4=\"Entscheidermodus\",'Parameter-Entscheider'!E11,'Start-Experte'!E11)","v":"Referenz"},{"$f":"'D-Bruttozubau'!E8","v":"0,2 GW/a"},null,null,"Biomasse"," ",null,{"$f":"IF($C$4=\"Entscheidermodus\",'Parameter-Entscheider'!L11,'Start-Experte'!L11)","v":"Referenz"},{"$f":"'D-Vergütungssatz Neuanlagen'!E8","v":"EEG 2017"},null,null,null,null,"Achsenbeschriftung für monetäre Einheiten:"]
[null,null,"Geothermie",null,{"$f":"IF($C$4=\"Entscheidermodus\",'Parameter-Entscheider'!E12,'Start-Experte'!E12)","v":"Referenz"},{"$f":"'D-Bruttozubau'!E9","v":"0,01GW/a"},null,null,"Geothermie"," ",null,{"$f":"IF($C$4=\"Entscheidermodus\",'Parameter-Entscheider'!L12,'Start-Experte'!L12)","v":"Referenz"},{"$f":"'D-Vergütungssatz Neuanlagen'!E9","v":"EEG 2017"},null,null,null,null,{"$f":"IF(T5=\"real\",CONCATENATE(\"Mrd. € (\",D60,\")\"),\"Mrd. €\")","v":"Mrd. €"}]
[null,null,"Wasser",null,{"$f":"IF($C$4=\"Entscheidermodus\",'Parameter-Entscheider'!E13,'Start-Experte'!E13)","v":"Referenz"},{"$f":"'D-Bruttozubau'!E6","v":"0,01 GW/a"},null,null,"Wasser"," ",null,{"$f":"IF($C$4=\"Entscheidermodus\",'Parameter-Entscheider'!L13,'Start-Experte'!L13)","v":"Referenz"},{"$f":"'D-Vergütungssatz Neuanlagen'!E6","v":"EEG 2017"},null,null,null,null,{"$f":"IF(T5=\"real\",CONCATENATE(\"ct/kWh (\",D60,\")\"),\"ct/kWh\")","v":"ct/kWh"}]
[null,null,"Gase",null,{"$f":"IF($C$4=\"Entscheidermodus\",'Parameter-Entscheider'!E14,'Start-Experte'!E14)","v":"Referenz"},{"$f":"'D-Bruttozubau'!E7","v":"0,01GW/a"},null,null,"Gase"," ",null,{"$f":"IF($C$4=\"Entscheidermodus\",'Parameter-Entscheider'!L14,'Start-Experte'!L14)","v":"Referenz"},{"$f":"'D-Vergütungssatz Neuanlagen'!E7","v":"EEG 2017"}]
[]
[]
[null,null,null,"Eingabeparameter: \nPrivilegierungen",null,null,null,null,null,"Eingabeparameter: \nStrompreis, Liquiditätsreserve und Kontostand"]
[null,null,null,"mögliche Werte","gewähltes Szenario",null,null,null,null,"mögliche Werte",null,"gewähltes Szenario"]
[null,null,"Privilegierter Letztverbrauch",null,{"$f":"IF($C$4=\"Entscheidermodus\",'Parameter-Entscheider'!E19,'Start-Experte'!E19)","v":"Referenz"},{"$f":"'D-Privilegierter Letztverbrauch'!$D$6","v":"MFP Referenz"},null,null,"Großhandelsstrompreis (Future)",null,null,{"$f":"IF($C$4=\"Entscheidermodus\",'Parameter-Entscheider'!L19,'Start-Experte'!L19)","v":"Referenz"},{"$f":"'D-Future Strompreis'!$D$6","v":"4,9 -> 6,5 ct/kWh"}]
[null,null,"Anteil an Umlage für privilegierte Letztverbraucher",null,{"$f":"IF($C$4=\"Entscheidermodus\",'Parameter-Entscheider'!E20,'Start-Experte'!E20)","v":"Referenz"},{"$f":"'D-Umlage priv. Letztverbrauch'!$D$6","v":"15% (gem. EEG 2021)"},null,null,"Liquiditätsreserve",null,null,{"$f":"IF($C$4=\"Entscheidermodus\",'Parameter-Entscheider'!L20,'Start-Experte'!L20)","v":"Referenz"},{"$f":"'D-Liquiditätspuffer'!$D$6","v":"ÜNB-Umlageberechnungen, danach 6%"}]
[null,null,"Faktor zur Erfassung zusätzlicher Privilegierungen",null,{"$f":"IF($C$4=\"Entscheidermodus\",'Parameter-Entscheider'!E21,'Start-Experte'!E21)","v":"Referenz"},null,null,null,{"$f":"CONCATENATE(\"Kontostand am 30.9.\",ControlPanel!$D$59-1)","v":"Kontostand am 30.9.2021"},null,null,{"$f":"IF($C$4=\"Entscheidermodus\",'Parameter-Entscheider'!L21,'Start-Experte'!L21)","v":"endogen"},{"$f":"'D-Kontostand aktuelles Jahr'!D6","v":"wird endogen berechnet"}]
[null,null,null,null,null,null,null,null,{"$f":"CONCATENATE(\"Alternativ: Prognosefehler für Kontostand am 30.9.\",ControlPanel!$D$59-1)","v":"Alternativ: Prognosefehler für Kontostand am 30.9.2021"},null,null,{"$f":"IF($C$4=\"Entscheidermodus\",'Parameter-Entscheider'!L22,'Start-Experte'!L22)","v":"keine Abweichung"},{"$f":"'D-Prognosefehler Kontostand'!D6","v":"keine Abweichung"}]
[]
[null,null,null,"Eingabeparameter: \nEigenverbrauch",null,null,null,null,null,"Eingabeparameter: \nSonstiges"]
[null,null,"Kategorien Eigenverbrauch\nund jeweilige Beteiligung","mögliche Werte","gewähltes Szenario",null,null,null,null,"mögliche Werte",null,"gewähltes Szenario"]
[null,null,"Eigenverbrauch \n(KWK-Neuanlagen)",null,{"$f":"IF($C$4=\"Entscheidermodus\",'Parameter-Entscheider'!E26,'Start-Experte'!E26)","v":"Referenz"},{"$f":"'D-Eigenverbrauch fossil Bestand'!$D$6","v":"Eigenversorgung nach §61(3) aus ÜNB-Umlageberechnung für 2020"},null,null,"Nettostromverbrauch",null,null,{"$f":"IF($C$4=\"Entscheidermodus\",'Parameter-Entscheider'!L26,'Start-Experte'!L26)","v":"Referenz"},{"$f":"'D-Nettostromverbrauch'!$D$6","v":"2021: ÜNB-Umlageberechnung 2020. Danach ansteigend auf 600 TWh in 2030"}]
[null,null,"Eigenverbrauchsanteil bei PV-Neuanlagen",null,{"$f":"IF($C$4=\"Entscheidermodus\",'Parameter-Entscheider'!E27,'Start-Experte'!E27)","v":"Referenz"},{"$f":"'D-Anteil Eigenverbrauch EE neu'!E12","v":"9%"},null,null,"Spot-Skalierungsfaktor",null,null,{"$f":"IF($C$4=\"Entscheidermodus\",'Parameter-Entscheider'!L27,'Start-Experte'!L27)","v":"Referenz"},{"$f":"'D-Spot-Skalierungsfaktor'!$D$6","v":"100%"}]
[null,null,"Anteil an Umlage für neuen Eigenverbrauch (PV und KWK)",null,{"$f":"IF($C$4=\"Entscheidermodus\",'Parameter-Entscheider'!E28,'Start-Experte'!E28)","v":"Referenz"},null,null,null,"Vermiedene Netzentgelte ",null,null,{"$f":"IF($C$4=\"Entscheidermodus\",'Parameter-Entscheider'!L28,'Start-Experte'!L28)","v":"Referenz"},{"$f":"'D-vermiedene Netzentgelte'!$D$6","v":"7.17€/MWh"}]
[null,null,"Anteil an Umlage für Eigenverbrauch \n(Bestandsanlagen)",null,{"$f":"IF($C$4=\"Entscheidermodus\",'Parameter-Entscheider'!E29,'Start-Experte'!E29)","v":"Referenz"},null,null,null,"Sonstige Kosten",null,null,{"$f":"IF($C$4=\"Entscheidermodus\",'Parameter-Entscheider'!L29,'Start-Experte'!L29)","v":"Referenz"},{"$f":"'D-Sonstige Kosten'!$D$6","v":"0,06Mrd. €"}]
[null,null,null,null,null,null,null,null,"Inflationsrate",null,null,{"$f":"IF($C$4=\"Entscheidermodus\",'Parameter-Entscheider'!L30,'Start-Experte'!L30)","v":"Referenz"},{"$f":"'D-Inflationsrate'!$D$6","v":"1,5% pro Jahr"}]
[]
[null,null,null,null,"Eingabeparameter: Standardauslastung",null,null,null," Eingabeparameter: Dargebotsfaktor",null,null," Eingabeparameter: Profilfaktor"]
[null,null,"Technologie","mögliche Werte","gewähltes Szenario",null,null,null,"gewähltes Szenario",null,null,"gewähltes Szenario"]
[null,null,"Wind Onshore",null,{"$f":"IF($C$4=\"Entscheidermodus\",'Parameter-Entscheider'!E34,'Start-Experte'!E34)","v":"Referenz"},{"$f":"'D-Standardauslastung'!E10","v":"Anstieg auf 2600h in 2035"},null,null,{"$f":"IF($C$4=\"Entscheidermodus\",'Parameter-Entscheider'!I34,'Start-Experte'!I34)","v":"Referenz"},{"$f":"'D-Dargebotsfaktor'!E10","v":"100%"},null,{"$f":"IF($C$4=\"Entscheidermodus\",'Parameter-Entscheider'!L34,'Start-Experte'!L34)","v":"Referenz"},{"$f":"'D-Profilfaktoren'!E10","v":"eigene Berechnung"}]
[null,null,"Wind Offshore",null,{"$f":"IF($C$4=\"Entscheidermodus\",'Parameter-Entscheider'!E35,'Start-Experte'!E35)","v":"Referenz"},{"$f":"'D-Standardauslastung'!E11","v":"Anstieg auf 4700 h in 2035"},null,null,{"$f":"IF($C$4=\"Entscheidermodus\",'Parameter-Entscheider'!I35,'Start-Experte'!I35)","v":"Referenz"},{"$f":"'D-Dargebotsfaktor'!E11","v":"100%"},null,{"$f":"IF($C$4=\"Entscheidermodus\",'Parameter-Entscheider'!L35,'Start-Experte'!L35)","v":"Referenz"},{"$f":"'D-Profilfaktoren'!E11","v":"eigene Berechnung"}]
[null,null,"PV",null,{"$f":"IF($C$4=\"Entscheidermodus\",'Parameter-Entscheider'!E36,'Start-Experte'!E36)","v":"Referenz"},{"$f":"'D-Standardauslastung'!E12","v":"Anstieg auf 950h in 2035"},null,null,{"$f":"IF($C$4=\"Entscheidermodus\",'Parameter-Entscheider'!I36,'Start-Experte'!I36)","v":"Referenz"},{"$f":"'D-Dargebotsfaktor'!E12","v":"100%"},null,{"$f":"IF($C$4=\"Entscheidermodus\",'Parameter-Entscheider'!L36,'Start-Experte'!L36)","v":"Referenz"},{"$f":"'D-Profilfaktoren'!E12","v":"eigene Berechnung"}]
[null,null,"Biomasse",null,{"$f":"IF($C$4=\"Entscheidermodus\",'Parameter-Entscheider'!E37,'Start-Experte'!E37)","v":"Referenz"},{"$f":"'D-Standardauslastung'!E8","v":"MFP Trend"},null,null,{"$f":"IF($C$4=\"Entscheidermodus\",'Parameter-Entscheider'!I37,'Start-Experte'!I37)","v":"Referenz"},{"$f":"'D-Dargebotsfaktor'!E8","v":"100%"},null,{"$f":"IF($C$4=\"Entscheidermodus\",'Parameter-Entscheider'!L37,'Start-Experte'!L37)","v":"Referenz"},{"$f":"'D-Profilfaktoren'!E8","v":"100%"}]
[null,null,"Geothermie",null,{"$f":"IF($C$4=\"Entscheidermodus\",'Parameter-Entscheider'!E38,'Start-Experte'!E38)","v":"Referenz"},{"$f":"'D-Standardauslastung'!E9","v":"MFP Trend"},null,null,{"$f":"IF($C$4=\"Entscheidermodus\",'Parameter-Entscheider'!I38,'Start-Experte'!I38)","v":"Referenz"},{"$f":"'D-Dargebotsfaktor'!E9","v":"100%"},null,{"$f":"IF($C$4=\"Entscheidermodus\",'Parameter-Entscheider'!L38,'Start-Experte'!L38)","v":"Referenz"},{"$f":"'D-Profilfaktoren'!E9","v":"100%"}]
[null,null,"Wasser",null,{"$f":"IF($C$4=\"Entscheidermodus\",'Parameter-Entscheider'!E39,'Start-Experte'!E39)","v":"Referenz"},{"$f":"'D-Standardauslastung'!E6","v":"MFP Trend"},null,null,{"$f":"IF($C$4=\"Entscheidermodus\",'Parameter-Entscheider'!I39,'Start-Experte'!I39)","v":"Referenz"},{"$f":"'D-Dargebotsfaktor'!E6","v":"100%"},null,{"$f":"IF($C$4=\"Entscheidermodus\",'Parameter-Entscheider'!L39,'Start-Experte'!L39)","v":"Referenz"},{"$f":"'D-Profilfaktoren'!E6","v":"100%"}]
[null,null,"Gase",null,{"$f":"IF($C$4=\"Entscheidermodus\",'Parameter-Entscheider'!E40,'Start-Experte'!E40)","v":"Referenz"},{"$f":"'D-Standardauslastung'!E7","v":"MFP Trend"},null,null,{"$f":"IF($C$4=\"Entscheidermodus\",'Parameter-Entscheider'!I40,'Start-Experte'!I40)","v":"Referenz"},{"$f":"'D-Dargebotsfaktor'!E7","v":"100%"},null,{"$f":"IF($C$4=\"Entscheidermodus\",'Parameter-Entscheider'!L40,'Start-Experte'!L40)","v":"Referenz"},{"$f":"'D-Profilfaktoren'!E7","v":"100%"}]
[]
[]
[null,null,null,null,"Eingabeparameter: Lebensdauer der Anlagen nach Ende der Förderung",null,null,null," Eingabeparameter: Zuschüsse aus dem Bundeshaushalt"]
[null,null,"Technologie","mögliche Werte","gewähltes Szenario",null,null,null,"gewähltes Szenario"]
[null,null,"Wind Onshore",null,{"$f":"IF($C$4=\"Entscheidermodus\",'Parameter-Entscheider'!E45,'Start-Experte'!E45)","v":"Referenz"},{"$f":"'D-Dauer Goldenes Ende'!E10","v":"5 Jahre"},null,null,{"$f":"IF($C$4=\"Entscheidermodus\",'Parameter-Entscheider'!I45,'Start-Experte'!L45)","v":"Referenz"},{"$f":"'D-Zuschuss'!D6","v":"6,5 ct/kWh in 2021 und 6,0 ct/kWh in 2022 werden erreicht"}]
[null,null,"Wind Offshore",null,{"$f":"IF($C$4=\"Entscheidermodus\",'Parameter-Entscheider'!E46,'Start-Experte'!E46)","v":"Referenz"},{"$f":"'D-Dauer Goldenes Ende'!E11","v":"keine"}]
[null,null,"Solar",null,{"$f":"IF($C$4=\"Entscheidermodus\",'Parameter-Entscheider'!E47,'Start-Experte'!E47)","v":"Referenz"},{"$f":"'D-Dauer Goldenes Ende'!E12","v":"5 Jahre"}]
[null,null,"Biomasse",null,{"$f":"IF($C$4=\"Entscheidermodus\",'Parameter-Entscheider'!E48,'Start-Experte'!E48)","v":"Referenz"},{"$f":"'D-Dauer Goldenes Ende'!E8","v":"keine"}]
[null,null,"Geothermie",null,{"$f":"IF($C$4=\"Entscheidermodus\",'Parameter-Entscheider'!E49,'Start-Experte'!E49)","v":"Referenz"},{"$f":"'D-Dauer Goldenes Ende'!E9","v":"keine"}]
[null,null,"Wasser",null,{"$f":"IF($C$4=\"Entscheidermodus\",'Parameter-Entscheider'!E50,'Start-Experte'!E50)","v":"Referenz"},{"$f":"'D-Dauer Goldenes Ende'!E6","v":"keine"}]
[null,null,"Gase",null,{"$f":"IF($C$4=\"Entscheidermodus\",'Parameter-Entscheider'!E51,'Start-Experte'!E51)","v":"Referenz"},{"$f":"'D-Dauer Goldenes Ende'!E7","v":"keine"}]
[]
[]
[]
[]
[]
[]
[]
[null,null,"Erstes Prognose-Jahr",2022]
[null,null,"Basisjahr für reale monetäre Daten",2021]

{"sheet":"Parameter-Entscheider","index":2,"n_rows":51,"n_cols":18,"rows_kept":51,"cut":false,"hidden":true,"merged":[[42,4,42,5],[43,4,43,5],[18,9,18,10],[19,9,19,10],[20,9,20,10],[21,9,21,10],[31,4,31,5],[31,8,31,9],[5,3,5,5],[6,4,6,5],[6,11,6,12],[16,3,16,5],[17,4,17,5],[11,9,11,10],[12,9,12,10],[13,9,13,10],[1,2,2,2],[1,19,2,20],[7,9,7,10],[23,3,23,5],[24,4,24,5],[5,9,5,12],[6,9,6,10],[16,9,16,12],[17,9,17,10],[17,11,17,12],[23,9,23,12],[24,9,24,10],[24,11,24,12],[8,9,8,10],[9,9,9,10],[10,9,10,10],[31,11,31,12],[32,4,32,5],[32,11,32,12],[29,9,29,10],[25,9,25,10],[26,9,26,10],[27,9,27,10],[28,9,28,10],[70,17,70,21],[32,8,32,9],[45,16,45,21],[46,16,46,17],[47,16,47,21],[48,16,54,16],[55,16,57,16],[66,16,68,16],[59,16,65,16],[58,16,58,21],[42,8,42,9]]}
[]
[null,null,"EEG Calculator","Entscheidermodus"]
[]
[null,null,"Entscheidermodus"]
[]
[null,null,null,"Eingabeparameter: \nJährlicher Kapazitätszubau",null,null,null,null,null,"Eingabe-Parameter:\nEntwicklung der Vergütungssätze (Änderung pro Jahr)"]
[null,null,"Technologie","mögliche Werte","gewähltes Szenario",null,null,null,"Technologie","mögliche Werte",null,"gewähltes Szenario"]
[null,null,"Wind Onshore",null,{"$f":"Start!E8","v":"Referenz"},null,null,null,"Wind Onshore",null,null,{"$f":"Start!L8","v":"Referenz"}]
[null,null,"Wind Offshore",null,{"$f":"Start!E9","v":"Referenz"},null,null,null,"Wind Offshore",null,null,{"$f":"Start!L9","v":"Referenz"}]
[null,null,"PV",null,{"$f":"Start!E10","v":"Referenz"},null,null,null,"Solar",null,null,{"$f":"Start!L10","v":"Referenz"}]
[null,null,"Biomasse",null,{"$f":"Start!E11","v":"Referenz"},null,null,null,"Biomasse",null,null,{"$f":"Start!L11","v":"Referenz"}]
[null,null,"Geothermie",null,"Referenz",null,null,null,"Geothermie",null,null,"Referenz",null,null,null,null,null,"Was bedeuten die Farben?"]
[null,null,"Wasser",null,"Referenz",null,null,null,"Wasser",null,null,"Referenz",null,null,null,null,null,"blau: kann im Entscheidermodus verändert werden"]
[null,null,"Gase",null,"Referenz",null,null,null,"Gase",null,null,"Referenz",null,null,null,null,null,"grau: kann nur im Expertenmodus verändert werden. Standardwert ifür Entscheidermodus st hier eingetragen. "]
[]
[]
[null,null,null,"Eingabeparameter: \nPrivilegierungen",null,null,null,null,null,"Eingabeparameter: \nStrompreis, Liquiditätsreserve und Kontostand"]
[null,null,null,"mögliche Werte","gewähltes Szenario",null,null,null,null,"mögliche Werte",null,"gewähltes Szenario"]
[null,null,"Privilegierter Letztverbrauch",null,{"$f":"Start!E19","v":"Referenz"},null,null,null,"Großhandelsstrompreis (Future)",null,null,{"$f":"Start!L19","v":"Referenz"}]
[null,null,"Anteil an Umlage für privilegierte Letztverbraucher",null,{"$f":"Start!E20","v":"Referenz"},null,null,null,"Liquiditätsreserve",null,null,"Referenz"]
[null,null,"Faktor zur Erfassung zusätzlicher Privilegierungen",null,{"$f":"Start!E21","v":"Referenz"},null,null,null,{"$f":"CONCATENATE(\"Kontostand am 30.9.\",ControlPanel!$D$59-1)","v":"Kontostand am 30.9.2021"},null,null,"endogen"]
[null,null,null,null,null,null,null,null,{"$f":"CONCATENATE(\"Alternativ: Prognosefehler für Kontostand am 30.9.\",ControlPanel!$D$59-1)","v":"Alternativ: Prognosefehler für Kontostand am 30.9.2021"},null,null,{"$f":"Start!L20","v":"keine Abweichung"}]
[]
[null,null,null,"Eingabeparameter: \nEigenverbrauch",null,null,null,null,null,"Eingabeparameter: \nSonstiges"]
[null,null,"Kategorien Eigenverbrauch\nund jeweilige Beteiligung","mögliche Werte","gewähltes Szenario",null,null,null,null,"mögliche Werte",null,"gewähltes Szenario"]
[null,null,"Eigenverbrauch \n(KWK-Neuanlagen)",null,{"$f":"Start!E26","v":"Referenz"},null,null,null,"Nettostromverbrauch",null,null,{"$f":"Start!E34","v":"Referenz"}]
[null,null,"Eigenverbrauchsanteil bei PV-Neuanlagen",null,{"$f":"Start!E27","v":"Referenz"},null,null,null,"Spot-Skalierungsfaktor",null,null,"Referenz"]
[null,null,"Anteil an Umlage für neuen Eigenverbrauch (PV und KWK)",null,{"$f":"Start!E28","v":"Referenz"},null,null,null,"Vermiedene Netzentgelte ",null,null,"Referenz"]
[null,null,"Umlagereduktion für Eigenverbrauch (Bestandsanlagen)",null,{"$f":"Start!E29","v":"Referenz"},null,null,null,"Sonstige Kosten",null,null,"Referenz"]
[null,null,null,null,null,null,null,null,"Sonstige Kosten",null,null,"Referenz"]
[]
[null,null,null,null,"Eingabeparameter: Standardauslastung",null,null,null," Eingabeparameter: Dargebotsfaktor",null,null," Eingabeparameter: Profilfaktor"]
[null,null,"Technologie","mögliche Werte","gewähltes Szenario",null,null,null,"gewähltes Szenario",null,null,"gewähltes Szenario"]
[null,null,"Wind Onshore",null,"Referenz",null,null,null,"Referenz",null,null,"Referenz"]
[null,null,"Wind Offshore",null,"Referenz",null,null,null,"Referenz",null,null,"Referenz"]
[null,null,"PV",null,"Referenz",null,null,null,"Referenz",null,null,"Referenz"]
[null,null,"Biomasse",null,"Referenz",null,null,null,"Referenz",null,null,"Referenz"]
[null,null,"Geothermie",null,"Referenz",null,null,null,"Referenz",null,null,"Referenz"]
[null,null,"Wasser",null,"Referenz",null,null,null,"Referenz",null,null,"Referenz"]
[null,null,"Gase",null,"Referenz",null,null,null,"Referenz",null,null,"Referenz"]
[]
[]
[null,null,null,null,"Eingabeparameter: Lebensdauer der Anlagen nach Ende der Förderung",null,null,null," Eingabeparameter: Zuschüsse aus dem Bundeshaushalt"]
[null,null,"Technologie","mögliche Werte","gewähltes Szenario",null,null,null,"gewähltes Szenario"]
[null,null,"Wind Onshore",null,"Referenz",null,null,null,{"$f":"Start!L21","v":"Referenz"}]
[null,null,"Wind Offshore",null,"Referenz"]
[null,null,"PV",null,"Referenz"]
[null,null,"Biomasse",null,"Referenz"]
[null,null,"Geothermie",null,"Referenz"]
[null,null,"Wasser",null,"Referenz"]
[null,null,"Gase",null,"Referenz"]

{"sheet":"Start","index":3,"n_rows":45,"n_cols":26,"rows_kept":45,"cut":false,"hidden":false,"merged":[[33,16,33,17],[4,20,4,21],[34,16,34,17],[21,16,21,25],[22,16,22,17],[23,16,23,25],[24,16,24,17],[25,16,25,17],[31,3,31,5],[32,4,32,5],[4,16,4,18],[26,16,26,17],[31,16,31,25],[32,16,32,17],[23,3,23,5],[24,4,24,5],[27,16,27,25],[20,9,20,10],[19,9,19,10],[18,9,18,10],[1,19,2,20],[6,11,6,12],[16,9,16,12],[17,9,17,10],[17,11,17,12],[13,9,13,10],[12,9,12,10],[11,9,11,10],[10,9,10,10],[5,9,5,12],[6,9,6,10],[9,9,9,10],[7,9,7,10],[8,9,8,10],[1,2,2,2],[17,4,17,5],[5,3,5,5],[6,4,6,5],[16,3,16,5]]}
[" "]
[null,null,"EEG-Rechner",null,null,null,null,null,null,null,null,null,null,null,null,null,null,null,null,{"$f":"CONCATENATE(\"Version \",Impressum!$C$17)","v":"Version 4.2.1"}]
[]
[null,null,"Entscheidermodus"]
[null,null,null,null,null,null,null,null,null,null,null,null,null,null,null,null,"Darstellung monetärer Daten: ",null,null,{"$f":"ControlPanel!$T$5","v":"nominal"}]
[null,null,null,"Eingabeparameter: \nJährlicher Kapazitätszubau (Brutto)",null,null,null,null,null,{"$f":"\"Eingabe-Parameter:\nEntwicklung der Vergütungssätze (real, bezogen auf \"&ControlPanel!D60&\")\"","v":"Eingabe-Parameter:\nEntwicklung der Vergütungssätze (real, bezogen auf 2021)"}]
[null,null,"Technologie","mögliche Werte","gewähltes Szenario",null,null,null,"Technologie","mögliche Werte",null,"gewähltes Szenario"]
[null,null,"Wind Onshore","Szenario wählbar -->","Referenz",{"$f":"'D-Bruttozubau'!E10","v":"1,5 GW bis 2021, ab 2023 2,5 GW/a"},null,null,"Wind Onshore","Szenario wählbar -->",null,"Referenz",{"$f":"'D-Vergütungssatz Neuanlagen'!E10","v":"sinkt auf 3,5 ct/kWh in 2035"}]
[null,null,"Wind Offshore","Szenario wählbar -->","Referenz",{"$f":"'D-Bruttozubau'!E11","v":"MFP Trend, danach konstant 1,6 GW"},null,null,"Wind Offshore","Szenario wählbar -->",null,"Referenz",{"$f":"'D-Vergütungssatz Neuanlagen'!E11","v":"sinkt auf 4,5 ct/kWh in 2035"}]
[null,null,"Solar","Szenario wählbar -->","Referenz",{"$f":"'D-Bruttozubau'!E12","v":"MFP Trend"},null,null,"Solar","Szenario wählbar -->",null,"Referenz",{"$f":"'D-Vergütungssatz Neuanlagen'!E12","v":"EEG 2017; Anteil Ausschreibungen ab 2020 50%"}]
[null,null,"Biomasse","Szenario wählbar -->","Referenz",{"$f":"'D-Bruttozubau'!E8","v":"0,2 GW/a"},null,null,"Biomasse","Szenario wählbar -->",null,"Referenz",{"$f":"'D-Vergütungssatz Neuanlagen'!E8","v":"EEG 2017"}]
[null,null,"Geothermie","fest vorgegeben","Referenz",{"$f":"'D-Bruttozubau'!E9","v":"0,01GW/a"},null,null,"Geothermie","fest vorgegeben",null,"Referenz",{"$f":"'D-Vergütungssatz Neuanlagen'!E9","v":"EEG 2017"}]
[null,null,"Wasser","fest vorgegeben","Referenz",{"$f":"'D-Bruttozubau'!E6","v":"0,01 GW/a"},null,null,"Wasser","fest vorgegeben",null,"Referenz",{"$f":"'D-Vergütungssatz Neuanlagen'!E6","v":"EEG 2017"}]
[null,null,"Gase","fest vorgegeben","Referenz",{"$f":"'D-Bruttozubau'!E7","v":"0,01GW/a"},null,null,"Gase","fest vorgegeben",null,"Referenz",{"$f":"'D-Vergütungssatz Neuanlagen'!E7","v":"EEG 2017"}]
[]
[]
[null,null,null,"Eingabeparameter: \nAusnahmen für stromintensive Unternehmen (BesAR)",null,null,null,null,null,"Eingabeparameter: \nStrompreis und Kontostand"]
[null,null,null,"mögliche Werte","gewähltes Szenario",null,null,null,null,"mögliche Werte",null,"gewähltes Szenario"]
[null,null,"Privilegierter \nLetztverbrauch","Szenario wählbar -->","Referenz",{"$f":"'D-Privilegierter Letztverbrauch'!$D$6","v":"MFP Referenz"},null,null,"Großhandelsstrompreis (Future)","Szenario wählbar -->",null,"Referenz",{"$f":"'D-Future Strompreis'!$D$6","v":"4,9 -> 6,5 ct/kWh"}]
[null,null,"Anteil an Umlage für privilegierte Letztverbraucher","Szenario wählbar -->","Referenz",{"$f":"'D-Umlage priv. Letztverbrauch'!$D$6","v":"15% (gem. EEG 2021)"},null,null,"Abweichung von Kontostandsprognose für den 30.9.2019","Szenario wählbar -->",null,"keine Abweichung",{"$f":"'D-Prognosefehler Kontostand'!D6","v":"keine Abweichung"}]
[null,null,"Faktor zur Erfassung zusätzlicher Privilegierungen","Szenario wählbar -->","Referenz",{"$f":"'D-Faktor Zusatzprivilegierung'!$D$6","v":"Bis 2021: ÜNB-Umlageberechnungen, danach konstant (wirkt wie vollständige Befreiung von 62% des priv. LV)"},null,null,"Zuschüsse aus dem Bundeshaushalt","Szenario wählbar -->",null,"Referenz",{"$f":"'D-Zuschuss'!D6","v":"6,5 ct/kWh in 2021 und 6,0 ct/kWh in 2022 werden erreicht"}]
[null,null,null,null,null,null,null,null,null,null,null,null,null,null,null,null,"Ergebnis: EEG-Umlage und Summe aus Strompreis und Umlage [ct/kWh]"]
[null,null,null,null,null,null,null,null,null,null,null,null,null,null,null,null,null,null,{"$f":"ControlPanel!$D$59-1","v":2021},{"$f":"ControlPanel!$D$59","v":2022},{"$f":"ControlPanel!$D$59+1","v":2023},{"$f":"ControlPanel!$D$59+2","v":2024},{"$f":"ControlPanel!$D$59+3","v":2025},2025,2030,2035]
[null,null,null,"Eingabeparameter: \nEigenverbrauch",null,null,null,null,null,null,null,null,null,null,null,null,"Referenz-Szenario "]
[null,null,"Kategorien Eigenverbrauch\nund jeweilige Beteiligung","mögliche Werte","gewähltes Szenario",null,null,null,null,null,null,null,null,null,null,null,"Umlage",null,{"$f":"IF(ControlPanel!$T$5=\"nominal\",OFFSET('GrD-Grafikdaten'!$J8,0,S$23-2014),OFFSET('GrD-Grafikdaten'!$J26,0,S$23-2014))","v":6.5036153637169205},{"$f":"IF(ControlPanel!$T$5=\"nominal\",OFFSET('GrD-Grafikdaten'!$J8,0,T$23-2014),OFFSET('GrD-Grafikdaten'!$J26,0,T$23-2014))","v":4.272216637741538},{"$f":"IF(ControlPanel!$T$5=\"nominal\",OFFSET('GrD-Grafikdaten'!$J8,0,U$23-2014),OFFSET('GrD-Grafikdaten'!$J26,0,U$23-2014))","v":4.3097166630738721},{"$f":"IF(ControlPanel!$T$5=\"nominal\",OFFSET('GrD-Grafikdaten'!$J8,0,V$23-2014),OFFSET('GrD-Grafikdaten'!$J26,0,V$23-2014))","v":4.0140943880966908},{"$f":"IF(ControlPanel!$T$5=\"nominal\",OFFSET('GrD-Grafikdaten'!$J8,0,W$23-2014),OFFSET('GrD-Grafikdaten'!$J26,0,W$23-2014))","v":3.379770582274936},{"$f":"IF(ControlPanel!$T$5=\"nominal\",OFFSET('GrD-Grafikdaten'!$J8,0,X$23-2014),OFFSET('GrD-Grafikdaten'!$J26,0,X$23-2014))","v":3.379770582274936},{"$f":"IF(ControlPanel!$T$5=\"nominal\",OFFSET('GrD-Grafikdaten'!$J8,0,Y$23-2014),OFFSET('GrD-Grafikdaten'!$J26,0,Y$23-2014))","v":1.1351683324450654},{"$f":"IF(ControlPanel!$T$5=\"nominal\",OFFSET('GrD-Grafikdaten'!$J8,0,Z$23-2014),OFFSET('GrD-Grafikdaten'!$J26,0,Z$23-2014))","v":-0.12285987283779966}]
[null,null,"Eigenverbrauch \n(KWK-Neuanlagen)","Szenario wählbar -->","Referenz",{"$f":"'D-Eigenverbrauch KWK Neue'!$D$6","v":"2021: ÜNB-Umlageberechnungen bis 2025, danach konstant"},null,null,null,null,null,null,null,null,null,null,"Strompreis + Umlage [ct/kWh]",null,{"$f":"IF(ControlPanel!$T$5=\"nominal\",OFFSET('GrD-Grafikdaten'!$J20,0,S$23-2014),OFFSET('GrD-Grafikdaten'!$J38,0,S$23-2014))","v":10.577615363716919},{"$f":"IF(ControlPanel!$T$5=\"nominal\",OFFSET('GrD-Grafikdaten'!$J20,0,T$23-2014),OFFSET('GrD-Grafikdaten'!$J38,0,T$23-2014))","v":11.523376637741537},{"$f":"IF(ControlPanel!$T$5=\"nominal\",OFFSET('GrD-Grafikdaten'!$J20,0,U$23-2014),OFFSET('GrD-Grafikdaten'!$J38,0,U$23-2014))","v":10.836192038073872},{"$f":"IF(ControlPanel!$T$5=\"nominal\",OFFSET('GrD-Grafikdaten'!$J20,0,V$23-2014),OFFSET('GrD-Grafikdaten'!$J38,0,V$23-2014))","v":10.652844971377938},{"$f":"IF(ControlPanel!$T$5=\"nominal\",OFFSET('GrD-Grafikdaten'!$J20,0,W$23-2014),OFFSET('GrD-Grafikdaten'!$J38,0,W$23-2014))","v":10.132696173126496},{"$f":"IF(ControlPanel!$T$5=\"nominal\",OFFSET('GrD-Grafikdaten'!$J20,0,X$23-2014),OFFSET('GrD-Grafikdaten'!$J38,0,X$23-2014))","v":10.132696173126496},{"$f":"IF(ControlPanel!$T$5=\"nominal\",OFFSET('GrD-Grafikdaten'!$J20,0,Y$23-2014),OFFSET('GrD-Grafikdaten'!$J38,0,Y$23-2014))","v":8.4885951116992402},{"$f":"IF(ControlPanel!$T$5=\"nominal\",OFFSET('GrD-Grafikdaten'!$J20,0,Z$23-2014),OFFSET('GrD-Grafikdaten'!$J38,0,Z$23-2014))","v":7.8835523766729283}]
[null,null,"Eigenverbrauchsanteil bei PV-Neuanlagen","Szenario wählbar -->","Referenz",{"$f":"'D-Anteil Eigenverbrauch EE neu'!E12","v":"9%"},null,null,null,null,null,null,null,null,null,null,"EE-Anteil an Bruttostromverbrauch",null,{"$f":"OFFSET('GrD-Grafikdaten'!$J48,0,S$23-2014)","v":0.4325342394860715},{"$f":"OFFSET('GrD-Grafikdaten'!$J48,0,T$23-2014)","v":0.46359232941256695},{"$f":"OFFSET('GrD-Grafikdaten'!$J48,0,U$23-2014)","v":0.47472620210275479},{"$f":"OFFSET('GrD-Grafikdaten'!$J48,0,V$23-2014)","v":0.48615866142445308},{"$f":"OFFSET('GrD-Grafikdaten'!$J48,0,W$23-2014)","v":0.49418321096510404},{"$f":"OFFSET('GrD-Grafikdaten'!$J48,0,X$23-2014)","v":0.49418321096510404},{"$f":"OFFSET('GrD-Grafikdaten'!$J48,0,Y$23-2014)","v":0.51622816644394032},{"$f":"OFFSET('GrD-Grafikdaten'!$J48,0,Z$23-2014)","v":0.53204603528117611}]
[null,null,"Anteil an Umlage für neuen Eigenverbrauch (PV und KWK)","Szenario wählbar -->","Referenz",{"$f":"'D-Umlage Eigenverbrauch PV+KWK'!$D$6","v":"gem. EEG 2017, ab 2020 konstant 38%"},null,null,null,null,null,null,null,null,null,null,"Prognose-Szenario "]
[null,null,"Anteil an Umlage für Eigenverbrauch \n(Bestandsanlagen)","Szenario wählbar -->","Referenz",{"$f":"'D-Umlage EV Bestand'!$D$6","v":"vollständig befreit (gem. EEG 2014)"},null,null,null,null,null,null,null,null,null,null,"Umlage [ct/kWh]",null,{"$f":"S25+S33","v":6.5036153637169205},{"$f":"T25+T33","v":4.272216637741538},4.3097166630738721,4.0140943880966908,3.379770582274936,3.379770582274936,1.1351683324450654,-0.12285987283779966]
[null,null,null,null,null,null,null,null,null,null,null,null,null,null,null,null,"Strompreis + Umlage [ct/kWh]",null,{"$f":"S26+S34","v":10.577615363716919},11.523376637741537,10.836192038073872,10.652844971377938,10.132696173126496,10.132696173126496,8.4885951116992402,7.8835523766729283]
[null,null,null,null,null,null,null,null,null,null,null,null,null,null,null,null,"EE-Anteil an Bruttostromverbrauch",null,0.4325342394860715,0.46359232941256695,0.47472620210275479,0.48615866142445308,0.49418321096510404,0.49418321096510404,0.51622816644394032,0.53204603528117611]
[null,null,null,"Eingabeparameter: Stromverbrauch",null,null,null,null,null,null,null,null,null,null,null,null,"Differenz zum Referenz-Szenario "]
[null,null,null,"mögliche Werte","gewähltes Szenario",null,null,null,null,null,null,null,null,null,null,null,"Umlage [ct/kWh]",null,{"$f":"OFFSET('GrD-Grafikdaten'!$J132,0,S$23-2014)","v":0},{"$f":"OFFSET('GrD-Grafikdaten'!$J132,0,T$23-2014)","v":0},{"$f":"OFFSET('GrD-Grafikdaten'!$J132,0,U$23-2014)","v":0},{"$f":"OFFSET('GrD-Grafikdaten'!$J132,0,V$23-2014)","v":0},{"$f":"OFFSET('GrD-Grafikdaten'!$J132,0,W$23-2014)","v":0},{"$f":"OFFSET('GrD-Grafikdaten'!$J132,0,X$23-2014)","v":0},{"$f":"OFFSET('GrD-Grafikdaten'!$J132,0,Y$23-2014)","v":0},{"$f":"OFFSET('GrD-Grafikdaten'!$J132,0,Z$23-2014)","v":0}]
[null,null,"Nettostromverbrauch","Szenario wählbar -->","Referenz",{"$f":"'D-Nettostromverbrauch'!D6","v":"2021: ÜNB-Umlageberechnung 2020. Danach ansteigend auf 600 TWh in 2030"},null,null,null,null,null,null,null,null,null,null,"Strompreis + Umlage [ct/kWh]",null,{"$f":"OFFSET('GrD-Grafikdaten'!$J144,0,S$23-2014)","v":0},{"$f":"OFFSET('GrD-Grafikdaten'!$J144,0,T$23-2014)","v":0},{"$f":"OFFSET('GrD-Grafikdaten'!$J144,0,U$23-2014)","v":0},{"$f":"OFFSET('GrD-Grafikdaten'!$J144,0,V$23-2014)","v":0},{"$f":"OFFSET('GrD-Grafikdaten'!$J144,0,W$23-2014)","v":0},{"$f":"OFFSET('GrD-Grafikdaten'!$J144,0,X$23-2014)","v":0},{"$f":"OFFSET('GrD-Grafikdaten'!$J144,0,Y$23-2014)","v":0},{"$f":"OFFSET('GrD-Grafikdaten'!$J144,0,Z$23-2014)","v":0}]
[null,null,null,null,null,null,null,null,null,null,null,null,null,null,null,null,"EE-Anteil an Bruttostromverbrauch",null,{"$f":"OFFSET('GrD-Grafikdaten'!$J92,0,S$23-2014) - OFFSET('GrD-Grafikdaten'!$J48,0,S$23-2014)","v":0},{"$f":"OFFSET('GrD-Grafikdaten'!$J92,0,T$23-2014) - OFFSET('GrD-Grafikdaten'!$J48,0,T$23-2014)","v":0},{"$f":"OFFSET('GrD-Grafikdaten'!$J92,0,U$23-2014) - OFFSET('GrD-Grafikdaten'!$J48,0,U$23-2014)","v":0},{"$f":"OFFSET('GrD-Grafikdaten'!$J92,0,V$23-2014) - OFFSET('GrD-Grafikdaten'!$J48,0,V$23-2014)","v":0},{"$f":"OFFSET('GrD-Grafikdaten'!$J92,0,W$23-2014) - OFFSET('GrD-Grafikdaten'!$J48,0,W$23-2014)","v":0},{"$f":"OFFSET('GrD-Grafikdaten'!$J92,0,X$23-2014) - OFFSET('GrD-Grafikdaten'!$J48,0,X$23-2014)","v":0},{"$f":"OFFSET('GrD-Grafikdaten'!$J92,0,Y$23-2014) - OFFSET('GrD-Grafikdaten'!$J48,0,Y$23-2014)","v":0},{"$f":"OFFSET('GrD-Grafikdaten'!$J92,0,Z$23-2014) - OFFSET('GrD-Grafikdaten'!$J48,0,Z$23-2014)","v":0}]
[]
[]
[]
[]
[]
[]
[]
[]
[]
[null,null,null,null,null,null,null,null,"Referenz"]

{"sheet":"Ergebnisse","index":4,"n_rows":176,"n_cols":31,"rows_kept":176,"cut":false,"hidden":false,"merged":[[1,19,2,20],[170,4,170,5],[167,7,167,8],[167,10,167,11],[157,11,157,12],[158,4,158,5],[159,4,159,5],[160,4,160,5],[161,4,161,5],[162,4,162,5],[163,4,163,5],[164,4,164,5],[160,8,160,10],[161,8,161,10],[162,8,162,10],[157,3,157,5],[168,3,168,5],[174,4,174,5],[175,4,175,5],[171,4,171,5],[172,4,172,5],[173,4,173,5],[169,4,169,5],[150,4,150,5],[133,8,133,10],[134,8,134,10],[136,8,136,10],[135,8,135,10],[141,8,141,10],[139,8,139,12],[142,8,142,10],[141,4,141,5],[142,4,142,5],[140,11,140,12],[168,7,168,8],[168,10,168,11],[144,8,144,10],[157,8,157,10],[156,8,156,12],[145,8,145,10],[167,2,167,5],[158,8,158,10],[159,8,159,10],[156,2,156,5],[135,4,135,5],[136,4,136,5],[140,3,140,5],[139,2,139,5],[151,4,151,5],[148,4,148,5],[149,4,149,5],[147,3,147,5],[143,4,143,5],[146,2,146,5],[143,8,143,10],[140,8,140,10],[128,2,128,5],[133,4,133,5],[134,4,134,5],[130,4,130,5],[131,4,131,5],[132,4,132,5],[129,3,129,5],[128,8,128,12],[130,8,130,10],[131,8,131,10],[132,8,132,10],[129,8,129,10],[129,11,129,12],[1,2,2,2],[5,20,7,21],[8,20,8,21],[9,20,9,21],[121,13,123,13],[101,2,101,3],[100,2,100,11],[105,2,105,3],[112,2,112,11],[114,2,114,3],[102,2,102,11],[115,2,115,3],[116,2,116,3],[107,2,107,3],[108,2,108,3],[113,2,113,3],[114,13,120,13],[100,13,100,22],[102,13,102,22],[106,2,106,11],[104,2,104,3],[109,2,109,3],[103,13,109,13],[101,13,101,14],[103,2,103,3],[113,13,113,22],[110,13,112,13]]}
[" "]
[null,null,"EEG-Rechner",null,null,null,null,null,null,null,null,null,null,null,null,null,null,null,null,{"$f":"CONCATENATE(\"Modellversion \",Impressum!$C$17)","v":"Modellversion 4.2.1"}]
[]
[null,"Ergebnisse"]
[]
[null,null,null,null,null,null,null,null,null,null,null,null,null,null,null,null,null,null,null,null,"Darstellung monetärer Daten:"]
[]
[]
[null,null,null,null,null,null,null,null,null,null,null,null,null,null,null,null,null,null,null,null,{"$f":"ControlPanel!$T$5","v":"nominal"}]
[]
[]
[]
[]
[]
[]
[]
[]
[]
[]
[]
[]
[]
[]
[]
[]
[]
[]
[]
[]
[]
[]
[]
[]
[]
[]
[]
[]
[]
[]
[]
[]
[]
[]
[]
[]
[]
[]
[]
[]
[]
[]
[]
[]
[]
[]
[]
[null,null,null,null,null,null,null,null,null,null,null,null,null,null,null,"Technologie auswählen:"]
[null,null,null,null,null,null,null,null,null,null,null,null,null,null,null,"Solar"]
[]
[]
[]
[]
[]
[]
[]
[]
[]
[]
[]
[]
[]
[]
[]
[null,null,null,null,null,null,null,null,null,null,null,null,null,null,null,null,null,null,null,null,null,null,null,null,null,null,null,null,null,null,"x"]
[]
[]
[]
[]
[]
[]
[]
[]
[]
[]
[]
[]
[]
[]
[]
[]
[]
[]
[]
[]
[]
[]
[]
[]
[null,"Ergebnistabellen"]
[]
[null,null,"Ergebnis: EEG-Umlage und Summe aus Strompreis und Umlage [ct/kWh]",null,null,null,null,null,null,null,null,null,null,"Ergebnis: Zahlungsströme [Mrd. Euro]"]
[null,null,null,null,{"$f":"ControlPanel!$D$59-1","v":2021},{"$f":"ControlPanel!$D$59","v":2022},{"$f":"ControlPanel!$D$59+1","v":2023},{"$f":"ControlPanel!$D$59+2","v":2024},{"$f":"ControlPanel!$D$59+3","v":2025},2025,2030,2035,null,null,null,{"$f":"E102","v":2021},{"$f":"F102","v":2022},2023,2024,2025,2025,2030,2035]
[null,null,"Referenz-Szenario ",null,null,null,null,null,null,null,null,null,null,"Referenzszenario [Mrd. Euro]"]
[null,null,"Umlage",null,{"$f":"IF(ControlPanel!$T$5=\"nominal\",OFFSET('GrD-Grafikdaten'!$J8,0,E$102-2014),OFFSET('GrD-Grafikdaten'!$J26,0,E$102-2014))","v":6.5036153637169205},{"$f":"IF(ControlPanel!$T$5=\"nominal\",OFFSET('GrD-Grafikdaten'!$J8,0,F$102-2014),OFFSET('GrD-Grafikdaten'!$J26,0,F$102-2014))","v":4.272216637741538},{"$f":"IF(ControlPanel!$T$5=\"nominal\",OFFSET('GrD-Grafikdaten'!$J8,0,G$102-2014),OFFSET('GrD-Grafikdaten'!$J26,0,G$102-2014))","v":4.3097166630738721},{"$f":"IF(ControlPanel!$T$5=\"nominal\",OFFSET('GrD-Grafikdaten'!$J8,0,H$102-2014),OFFSET('GrD-Grafikdaten'!$J26,0,H$102-2014))","v":4.0140943880966908},{"$f":"IF(ControlPanel!$T$5=\"nominal\",OFFSET('GrD-Grafikdaten'!$J8,0,I$102-2014),OFFSET('GrD-Grafikdaten'!$J26,0,I$102-2014))","v":3.379770582274936},{"$f":"IF(ControlPanel!$T$5=\"nominal\",OFFSET('GrD-Grafikdaten'!$J8,0,J$102-2014),OFFSET('GrD-Grafikdaten'!$J26,0,J$102-2014))","v":3.379770582274936},{"$f":"IF(ControlPanel!$T$5=\"nominal\",OFFSET('GrD-Grafikdaten'!$J8,0,K$102-2014),OFFSET('GrD-Grafikdaten'!$J26,0,K$102-2014))","v":1.1351683324450654},{"$f":"IF(ControlPanel!$T$5=\"nominal\",OFFSET('GrD-Grafikdaten'!$J8,0,L$102-2014),OFFSET('GrD-Grafikdaten'!$J26,0,L$102-2014))","v":-0.12285987283779966},null,"Nettozahlungen an Anlagenbetreiber","Wind Onshore",{"$f":"IF(ControlPanel!$T$5=\"nominal\",OFFSET('GrD-Grafikdaten'!$J13,0,E$102-2014),OFFSET('GrD-Grafikdaten'!$J31,0,E$102-2014))","v":5.691108289571261},{"$f":"IF(ControlPanel!$T$5=\"nominal\",OFFSET('GrD-Grafikdaten'!$J13,0,F$102-2014),OFFSET('GrD-Grafikdaten'!$J31,0,F$102-2014))","v":2.1762809982380729},{"$f":"IF(ControlPanel!$T$5=\"nominal\",OFFSET('GrD-Grafikdaten'!$J13,0,G$102-2014),OFFSET('GrD-Grafikdaten'!$J31,0,G$102-2014))","v":2.6893565421059451},{"$f":"IF(ControlPanel!$T$5=\"nominal\",OFFSET('GrD-Grafikdaten'!$J13,0,H$102-2014),OFFSET('GrD-Grafikdaten'!$J31,0,H$102-2014))","v":2.6153349708734615},{"$f":"IF(ControlPanel!$T$5=\"nominal\",OFFSET('GrD-Grafikdaten'!$J13,0,I$102-2014),OFFSET('GrD-Grafikdaten'!$J31,0,I$102-2014))","v":2.0924149605224152},{"$f":"IF(ControlPanel!$T$5=\"nominal\",OFFSET('GrD-Grafikdaten'!$J13,0,J$102-2014),OFFSET('GrD-Grafikdaten'!$J31,0,J$102-2014))","v":2.0924149605224152},{"$f":"IF(ControlPanel!$T$5=\"nominal\",OFFSET('GrD-Grafikdaten'!$J13,0,K$102-2014),OFFSET('GrD-Grafikdaten'!$J31,0,K$102-2014))","v":1.5819795318523822},{"$f":"IF(ControlPanel!$T$5=\"nominal\",OFFSET('GrD-Grafikdaten'!$J13,0,L$102-2014),OFFSET('GrD-Grafikdaten'!$J31,0,L$102-2014))","v":1.7739505265358266}]
[null,null,"Strompreis + Umlage [ct/kWh]",null,{"$f":"IF(ControlPanel!$T$5=\"nominal\",OFFSET('GrD-Grafikdaten'!$J20,0,E$102-2014),OFFSET('GrD-Grafikdaten'!$J38,0,E$102-2014))","v":10.577615363716919},{"$f":"IF(ControlPanel!$T$5=\"nominal\",OFFSET('GrD-Grafikdaten'!$J20,0,F$102-2014),OFFSET('GrD-Grafikdaten'!$J38,0,F$102-2014))","v":11.523376637741537},{"$f":"IF(ControlPanel!$T$5=\"nominal\",OFFSET('GrD-Grafikdaten'!$J20,0,G$102-2014),OFFSET('GrD-Grafikdaten'!$J38,0,G$102-2014))","v":10.836192038073872},{"$f":"IF(ControlPanel!$T$5=\"nominal\",OFFSET('GrD-Grafikdaten'!$J20,0,H$102-2014),OFFSET('GrD-Grafikdaten'!$J38,0,H$102-2014))","v":10.652844971377938},{"$f":"IF(ControlPanel!$T$5=\"nominal\",OFFSET('GrD-Grafikdaten'!$J20,0,I$102-2014),OFFSET('GrD-Grafikdaten'!$J38,0,I$102-2014))","v":10.132696173126496},{"$f":"IF(ControlPanel!$T$5=\"nominal\",OFFSET('GrD-Grafikdaten'!$J20,0,J$102-2014),OFFSET('GrD-Grafikdaten'!$J38,0,J$102-2014))","v":10.132696173126496},{"$f":"IF(ControlPanel!$T$5=\"nominal\",OFFSET('GrD-Grafikdaten'!$J20,0,K$102-2014),OFFSET('GrD-Grafikdaten'!$J38,0,K$102-2014))","v":8.4885951116992402},{"$f":"IF(ControlPanel!$T$5=\"nominal\",OFFSET('GrD-Grafikdaten'!$J20,0,L$102-2014),OFFSET('GrD-Grafikdaten'!$J38,0,L$102-2014))","v":7.8835523766729283},null,null,"Wind Offshore",{"$f":"IF(ControlPanel!$T$5=\"nominal\",OFFSET('GrD-Grafikdaten'!$J14,0,E$102-2014),OFFSET('GrD-Grafikdaten'!$J32,0,E$102-2014))","v":4.5754770980000004},{"$f":"IF(ControlPanel!$T$5=\"nominal\",OFFSET('GrD-Grafikdaten'!$J14,0,F$102-2014),OFFSET('GrD-Grafikdaten'!$J32,0,F$102-2014))","v":2.8252185456414249},{"$f":"IF(ControlPanel!$T$5=\"nominal\",OFFSET('GrD-Grafikdaten'!$J14,0,G$102-2014),OFFSET('GrD-Grafikdaten'!$J32,0,G$102-2014))","v":2.9454188821697782},{"$f":"IF(ControlPanel!$T$5=\"nominal\",OFFSET('GrD-Grafikdaten'!$J14,0,H$102-2014),OFFSET('GrD-Grafikdaten'!$J32,0,H$102-2014))","v":2.6320477957496249},{"$f":"IF(ControlPanel!$T$5=\"nominal\",OFFSET('GrD-Grafikdaten'!$J14,0,I$102-2014),OFFSET('GrD-Grafikdaten'!$J32,0,I$102-2014))","v":2.1944218133689106},{"$f":"IF(ControlPanel!$T$5=\"nominal\",OFFSET('GrD-Grafikdaten'!$J14,0,J$102-2014),OFFSET('GrD-Grafikdaten'!$J32,0,J$102-2014))","v":2.1944218133689106},{"$f":"IF(ControlPanel!$T$5=\"nominal\",OFFSET('GrD-Grafikdaten'!$J14,0,K$102-2014),OFFSET('GrD-Grafikdaten'!$J32,0,K$102-2014))","v":0},{"$f":"IF(ControlPanel!$T$5=\"nominal\",OFFSET('GrD-Grafikdaten'!$J14,0,L$102-2014),OFFSET('GrD-Grafikdaten'!$J32,0,L$102-2014))","v":0}]
[null,null,"EE-Anteil an Bruttostromverbrauch",null,{"$f":"OFFSET('GrD-Grafikdaten'!$J48,0,E$102-2014)","v":0.4325342394860715},{"$f":"OFFSET('GrD-Grafikdaten'!$J48,0,F$102-2014)","v":0.46359232941256695},{"$f":"OFFSET('GrD-Grafikdaten'!$J48,0,G$102-2014)","v":0.47472620210275479},{"$f":"OFFSET('GrD-Grafikdaten'!$J48,0,H$102-2014)","v":0.48615866142445308},{"$f":"OFFSET('GrD-Grafikdaten'!$J48,0,I$102-2014)","v":0.49418321096510404},{"$f":"OFFSET('GrD-Grafikdaten'!$J48,0,J$102-2014)","v":0.49418321096510404},{"$f":"OFFSET('GrD-Grafikdaten'!$J48,0,K$102-2014)","v":0.51622816644394032},{"$f":"OFFSET('GrD-Grafikdaten'!$J48,0,L$102-2014)","v":0.53204603528117611},null,null,"Solar",{"$f":"IF(ControlPanel!$T$5=\"nominal\",OFFSET('GrD-Grafikdaten'!$J15,0,E$102-2014),OFFSET('GrD-Grafikdaten'!$J33,0,E$102-2014))","v":9.5790299026995775},{"$f":"IF(ControlPanel!$T$5=\"nominal\",OFFSET('GrD-Grafikdaten'!$J15,0,F$102-2014),OFFSET('GrD-Grafikdaten'!$J33,0,F$102-2014))","v":9.3377856881107011},{"$f":"IF(ControlPanel!$T$5=\"nominal\",OFFSET('GrD-Grafikdaten'!$J15,0,G$102-2014),OFFSET('GrD-Grafikdaten'!$J33,0,G$102-2014))","v":9.6890749652030141},{"$f":"IF(ControlPanel!$T$5=\"nominal\",OFFSET('GrD-Grafikdaten'!$J15,0,H$102-2014),OFFSET('GrD-Grafikdaten'!$J33,0,H$102-2014))","v":9.6385197880038724},{"$f":"IF(ControlPanel!$T$5=\"nominal\",OFFSET('GrD-Grafikdaten'!$J15,0,I$102-2014),OFFSET('GrD-Grafikdaten'!$J33,0,I$102-2014))","v":8.9210562390148205},{"$f":"IF(ControlPanel!$T$5=\"nominal\",OFFSET('GrD-Grafikdaten'!$J15,0,J$102-2014),OFFSET('GrD-Grafikdaten'!$J33,0,J$102-2014))","v":8.9210562390148205},{"$f":"IF(ControlPanel!$T$5=\"nominal\",OFFSET('GrD-Grafikdaten'!$J15,0,K$102-2014),OFFSET('GrD-Grafikdaten'!$J33,0,K$102-2014))","v":5.5515617611293999},{"$f":"IF(ControlPanel!$T$5=\"nominal\",OFFSET('GrD-Grafikdaten'!$J15,0,L$102-2014),OFFSET('GrD-Grafikdaten'!$J33,0,L$102-2014))","v":1.4951824399719955}]
[null,null,"Differenz zum Referenz-Szenario ",null,null,null,null,null,null,null,null,null,null,null,"Biomasse",{"$f":"IF(ControlPanel!$T$5=\"nominal\",OFFSET('GrD-Grafikdaten'!$J11,0,E$102-2014),OFFSET('GrD-Grafikdaten'!$J29,0,E$102-2014))","v":6.4954462491599987},{"$f":"IF(ControlPanel!$T$5=\"nominal\",OFFSET('GrD-Grafikdaten'!$J11,0,F$102-2014),OFFSET('GrD-Grafikdaten'!$J29,0,F$102-2014))","v":5.033777345492731},{"$f":"IF(ControlPanel!$T$5=\"nominal\",OFFSET('GrD-Grafikdaten'!$J11,0,G$102-2014),OFFSET('GrD-Grafikdaten'!$J29,0,G$102-2014))","v":5.2948609199974417},{"$f":"IF(ControlPanel!$T$5=\"nominal\",OFFSET('GrD-Grafikdaten'!$J11,0,H$102-2014),OFFSET('GrD-Grafikdaten'!$J29,0,H$102-2014))","v":5.1674784093091999},{"$f":"IF(ControlPanel!$T$5=\"nominal\",OFFSET('GrD-Grafikdaten'!$J11,0,I$102-2014),OFFSET('GrD-Grafikdaten'!$J29,0,I$102-2014))","v":4.8767918668557986},{"$f":"IF(ControlPanel!$T$5=\"nominal\",OFFSET('GrD-Grafikdaten'!$J11,0,J$102-2014),OFFSET('GrD-Grafikdaten'!$J29,0,J$102-2014))","v":4.8767918668557986},{"$f":"IF(ControlPanel!$T$5=\"nominal\",OFFSET('GrD-Grafikdaten'!$J11,0,K$102-2014),OFFSET('GrD-Grafikdaten'!$J29,0,K$102-2014))","v":2.7821965232270065},{"$f":"IF(ControlPanel!$T$5=\"nominal\",OFFSET('GrD-Grafikdaten'!$J11,0,L$102-2014),OFFSET('GrD-Grafikdaten'!$J29,0,L$102-2014))","v":0.98625194562265772}]
[null,null,"Umlage [ct/kWh]",null,{"$f":"OFFSET('GrD-Grafikdaten'!$J132,0,E$102-2014)","v":0},{"$f":"OFFSET('GrD-Grafikdaten'!$J132,0,F$102-2014)","v":0},{"$f":"OFFSET('GrD-Grafikdaten'!$J132,0,G$102-2014)","v":0},{"$f":"OFFSET('GrD-Grafikdaten'!$J132,0,H$102-2014)","v":0},{"$f":"OFFSET('GrD-Grafikdaten'!$J132,0,I$102-2014)","v":0},{"$f":"OFFSET('GrD-Grafikdaten'!$J132,0,J$102-2014)","v":0},{"$f":"OFFSET('GrD-Grafikdaten'!$J132,0,K$102-2014)","v":0},{"$f":"OFFSET('GrD-Grafikdaten'!$J132,0,L$102-2014)","v":0},null,null,"Geothermie",{"$f":"IF(ControlPanel!$T$5=\"nominal\",OFFSET('GrD-Grafikdaten'!$J12,0,E$102-2014),OFFSET('GrD-Grafikdaten'!$J30,0,E$102-2014))","v":4.5731817699999996E-2},{"$f":"IF(ControlPanel!$T$5=\"nominal\",OFFSET('GrD-Grafikdaten'!$J12,0,F$102-2014),OFFSET('GrD-Grafikdaten'!$J30,0,F$102-2014))","v":6.4598051196114684E-2},{"$f":"IF(ControlPanel!$T$5=\"nominal\",OFFSET('GrD-Grafikdaten'!$J12,0,G$102-2014),OFFSET('GrD-Grafikdaten'!$J30,0,G$102-2014))","v":8.386774013444781E-2},{"$f":"IF(ControlPanel!$T$5=\"nominal\",OFFSET('GrD-Grafikdaten'!$J12,0,H$102-2014),OFFSET('GrD-Grafikdaten'!$J30,0,H$102-2014))","v":9.1087029895798713E-2},{"$f":"IF(ControlPanel!$T$5=\"nominal\",OFFSET('GrD-Grafikdaten'!$J12,0,I$102-2014),OFFSET('GrD-Grafikdaten'!$J30,0,I$102-2014))","v":9.4662477603135939E-2},{"$f":"IF(ControlPanel!$T$5=\"nominal\",OFFSET('GrD-Grafikdaten'!$J12,0,J$102-2014),OFFSET('GrD-Grafikdaten'!$J30,0,J$102-2014))","v":9.4662477603135939E-2},{"$f":"IF(ControlPanel!$T$5=\"nominal\",OFFSET('GrD-Grafikdaten'!$J12,0,K$102-2014),OFFSET('GrD-Grafikdaten'!$J30,0,K$102-2014))","v":0.11402860889825686},{"$f":"IF(ControlPanel!$T$5=\"nominal\",OFFSET('GrD-Grafikdaten'!$J12,0,L$102-2014),OFFSET('GrD-Grafikdaten'!$J30,0,L$102-2014))","v":9.751920727095291E-2}]
[null,null,"Strompreis + Umlage [ct/kWh]",null,{"$f":"OFFSET('GrD-Grafikdaten'!$J144,0,E$102-2014)","v":0},{"$f":"OFFSET('GrD-Grafikdaten'!$J144,0,F$102-2014)","v":0},{"$f":"OFFSET('GrD-Grafikdaten'!$J144,0,G$102-2014)","v":0},{"$f":"OFFSET('GrD-Grafikdaten'!$J144,0,H$102-2014)","v":0},{"$f":"OFFSET('GrD-Grafikdaten'!$J144,0,I$102-2014)","v":0},{"$f":"OFFSET('GrD-Grafikdaten'!$J144,0,J$102-2014)","v":0},{"$f":"OFFSET('GrD-Grafikdaten'!$J144,0,K$102-2014)","v":0},{"$f":"OFFSET('GrD-Grafikdaten'!$J144,0,L$102-2014)","v":0},null,null,"Wasser",{"$f":"IF(ControlPanel!$T$5=\"nominal\",OFFSET('GrD-Grafikdaten'!$J9,0,E$102-2014),OFFSET('GrD-Grafikdaten'!$J27,0,E$102-2014))","v":0.33209319147999994},{"$f":"IF(ControlPanel!$T$5=\"nominal\",OFFSET('GrD-Grafikdaten'!$J9,0,F$102-2014),OFFSET('GrD-Grafikdaten'!$J27,0,F$102-2014))","v":0.19257259112063896},{"$f":"IF(ControlPanel!$T$5=\"nominal\",OFFSET('GrD-Grafikdaten'!$J9,0,G$102-2014),OFFSET('GrD-Grafikdaten'!$J27,0,G$102-2014))","v":0.25204375101400833},{"$f":"IF(ControlPanel!$T$5=\"nominal\",OFFSET('GrD-Grafikdaten'!$J9,0,H$102-2014),OFFSET('GrD-Grafikdaten'!$J27,0,H$102-2014))","v":0.24538039316924765},{"$f":"IF(ControlPanel!$T$5=\"nominal\",OFFSET('GrD-Grafikdaten'!$J9,0,I$102-2014),OFFSET('GrD-Grafikdaten'!$J27,0,I$102-2014))","v":0.23841098115285853},{"$f":"IF(ControlPanel!$T$5=\"nominal\",OFFSET('GrD-Grafikdaten'!$J9,0,J$102-2014),OFFSET('GrD-Grafikdaten'!$J27,0,J$102-2014))","v":0.23841098115285853},{"$f":"IF(ControlPanel!$T$5=\"nominal\",OFFSET('GrD-Grafikdaten'!$J9,0,K$102-2014),OFFSET('GrD-Grafikdaten'!$J27,0,K$102-2014))","v":0.18445377056366552},{"$f":"IF(ControlPanel!$T$5=\"nominal\",OFFSET('GrD-Grafikdaten'!$J9,0,L$102-2014),OFFSET('GrD-Grafikdaten'!$J27,0,L$102-2014))","v":0.12568549857387357}]
[null,null,"EE-Anteil an Bruttostromverbrauch",null,{"$f":"OFFSET('GrD-Grafikdaten'!$J92,0,E$102-2014) - OFFSET('GrD-Grafikdaten'!$J48,0,E$102-2014)","v":0},{"$f":"OFFSET('GrD-Grafikdaten'!$J92,0,F$102-2014) - OFFSET('GrD-Grafikdaten'!$J48,0,F$102-2014)","v":0},{"$f":"OFFSET('GrD-Grafikdaten'!$J92,0,G$102-2014) - OFFSET('GrD-Grafikdaten'!$J48,0,G$102-2014)","v":0},{"$f":"OFFSET('GrD-Grafikdaten'!$J92,0,H$102-2014) - OFFSET('GrD-Grafikdaten'!$J48,0,H$102-2014)","v":0},{"$f":"OFFSET('GrD-Grafikdaten'!$J92,0,I$102-2014) - OFFSET('GrD-Grafikdaten'!$J48,0,I$102-2014)","v":0},{"$f":"OFFSET('GrD-Grafikdaten'!$J92,0,J$102-2014) - OFFSET('GrD-Grafikdaten'!$J48,0,J$102-2014)","v":0},{"$f":"OFFSET('GrD-Grafikdaten'!$J92,0,K$102-2014) - OFFSET('GrD-Grafikdaten'!$J48,0,K$102-2014)","v":0},{"$f":"OFFSET('GrD-Grafikdaten'!$J92,0,L$102-2014) - OFFSET('GrD-Grafikdaten'!$J48,0,L$102-2014)","v":0},null,null,"Gase",{"$f":"IF(ControlPanel!$T$5=\"nominal\",OFFSET('GrD-Grafikdaten'!$J10,0,E$102-2014),OFFSET('GrD-Grafikdaten'!$J28,0,E$102-2014))","v":3.0264385259999999E-2},{"$f":"IF(ControlPanel!$T$5=\"nominal\",OFFSET('GrD-Grafikdaten'!$J10,0,F$102-2014),OFFSET('GrD-Grafikdaten'!$J28,0,F$102-2014))","v":2.3243644597302493E-4},{"$f":"IF(ControlPanel!$T$5=\"nominal\",OFFSET('GrD-Grafikdaten'!$J10,0,G$102-2014),OFFSET('GrD-Grafikdaten'!$J28,0,G$102-2014))","v":7.3687860848976605E-3},{"$f":"IF(ControlPanel!$T$5=\"nominal\",OFFSET('GrD-Grafikdaten'!$J10,0,H$102-2014),OFFSET('GrD-Grafikdaten'!$J28,0,H$102-2014))","v":4.8225306175326901E-3},{"$f":"IF(ControlPanel!$T$5=\"nominal\",OFFSET('GrD-Grafikdaten'!$J10,0,I$102-2014),OFFSET('GrD-Grafikdaten'!$J28,0,I$102-2014))","v":2.9450121726897413E-3},{"$f":"IF(ControlPanel!$T$5=\"nominal\",OFFSET('GrD-Grafikdaten'!$J10,0,J$102-2014),OFFSET('GrD-Grafikdaten'!$J28,0,J$102-2014))","v":2.9450121726897413E-3},{"$f":"IF(ControlPanel!$T$5=\"nominal\",OFFSET('GrD-Grafikdaten'!$J10,0,K$102-2014),OFFSET('GrD-Grafikdaten'!$J28,0,K$102-2014))","v":1.3756896311648351E-3},{"$f":"IF(ControlPanel!$T$5=\"nominal\",OFFSET('GrD-Grafikdaten'!$J10,0,L$102-2014),OFFSET('GrD-Grafikdaten'!$J28,0,L$102-2014))","v":1.4718080499439776E-3}]
[null,null,null,null,null,null,null,null,null,null,null,null,null,"Belastung Letztver-brauch","nichtprivilegiert",{"$f":"IF(ControlPanel!$T$5=\"nominal\",OFFSET('GrD-Grafikdaten'!$J16,0,E$102-2014),OFFSET('GrD-Grafikdaten'!$J34,0,E$102-2014))","v":21.567921937973843},{"$f":"IF(ControlPanel!$T$5=\"nominal\",OFFSET('GrD-Grafikdaten'!$J16,0,F$102-2014),OFFSET('GrD-Grafikdaten'!$J34,0,F$102-2014))","v":14.55273836600416},{"$f":"IF(ControlPanel!$T$5=\"nominal\",OFFSET('GrD-Grafikdaten'!$J16,0,G$102-2014),OFFSET('GrD-Grafikdaten'!$J34,0,G$102-2014))","v":15.144140307957475},{"$f":"IF(ControlPanel!$T$5=\"nominal\",OFFSET('GrD-Grafikdaten'!$J16,0,H$102-2014),OFFSET('GrD-Grafikdaten'!$J34,0,H$102-2014))","v":14.503115640102065},{"$f":"IF(ControlPanel!$T$5=\"nominal\",OFFSET('GrD-Grafikdaten'!$J16,0,I$102-2014),OFFSET('GrD-Grafikdaten'!$J34,0,I$102-2014))","v":12.546404311684421},{"$f":"IF(ControlPanel!$T$5=\"nominal\",OFFSET('GrD-Grafikdaten'!$J16,0,J$102-2014),OFFSET('GrD-Grafikdaten'!$J34,0,J$102-2014))","v":12.546404311684421},{"$f":"IF(ControlPanel!$T$5=\"nominal\",OFFSET('GrD-Grafikdaten'!$J16,0,K$102-2014),OFFSET('GrD-Grafikdaten'!$J34,0,K$102-2014))","v":4.7237011232163928},{"$f":"IF(ControlPanel!$T$5=\"nominal\",OFFSET('GrD-Grafikdaten'!$J16,0,L$102-2014),OFFSET('GrD-Grafikdaten'!$J34,0,L$102-2014))","v":-0.56668481426938611}]
[null,null,null,null,null,null,null,null,null,null,null,null,null,null,"privilegiert",{"$f":"IF(ControlPanel!$T$5=\"nominal\",OFFSET('GrD-Grafikdaten'!$J17,0,E$102-2014),OFFSET('GrD-Grafikdaten'!$J35,0,E$102-2014))","v":0.41990360429802659},{"$f":"IF(ControlPanel!$T$5=\"nominal\",OFFSET('GrD-Grafikdaten'!$J17,0,F$102-2014),OFFSET('GrD-Grafikdaten'!$J35,0,F$102-2014))","v":0.27319153701502857},{"$f":"IF(ControlPanel!$T$5=\"nominal\",OFFSET('GrD-Grafikdaten'!$J17,0,G$102-2014),OFFSET('GrD-Grafikdaten'!$J35,0,G$102-2014))","v":0.27270156584896521},{"$f":"IF(ControlPanel!$T$5=\"nominal\",OFFSET('GrD-Grafikdaten'!$J17,0,H$102-2014),OFFSET('GrD-Grafikdaten'!$J35,0,H$102-2014))","v":0.25103003895234238},{"$f":"IF(ControlPanel!$T$5=\"nominal\",OFFSET('GrD-Grafikdaten'!$J17,0,I$102-2014),OFFSET('GrD-Grafikdaten'!$J35,0,I$102-2014))","v":0.20890286940480923},{"$f":"IF(ControlPanel!$T$5=\"nominal\",OFFSET('GrD-Grafikdaten'!$J17,0,J$102-2014),OFFSET('GrD-Grafikdaten'!$J35,0,J$102-2014))","v":0.20890286940480923},{"$f":"IF(ControlPanel!$T$5=\"nominal\",OFFSET('GrD-Grafikdaten'!$J17,0,K$102-2014),OFFSET('GrD-Grafikdaten'!$J35,0,K$102-2014))","v":7.0164502628940806E-2},{"$f":"IF(ControlPanel!$T$5=\"nominal\",OFFSET('GrD-Grafikdaten'!$J17,0,L$102-2014),OFFSET('GrD-Grafikdaten'!$J35,0,L$102-2014))","v":-7.5939414660656044E-3}]
[null,null,"Ergebnis: Kontostand am Tag der Umlage-Neuberechnung \n(30.9. des Vorjahres) [Mrd. Euro]",null,null,null,null,null,null,null,null,null,null,null,"Eigenverbrauch",{"$f":"IF(ControlPanel!$T$5=\"nominal\",OFFSET('GrD-Grafikdaten'!$J18,0,E$102-2014),OFFSET('GrD-Grafikdaten'!$J36,0,E$102-2014))","v":6.298200678060191E-2},{"$f":"IF(ControlPanel!$T$5=\"nominal\",OFFSET('GrD-Grafikdaten'!$J18,0,F$102-2014),OFFSET('GrD-Grafikdaten'!$J36,0,F$102-2014))","v":6.7107654250889784E-2},{"$f":"IF(ControlPanel!$T$5=\"nominal\",OFFSET('GrD-Grafikdaten'!$J18,0,G$102-2014),OFFSET('GrD-Grafikdaten'!$J36,0,G$102-2014))","v":6.9197254619618564E-2},{"$f":"IF(ControlPanel!$T$5=\"nominal\",OFFSET('GrD-Grafikdaten'!$J18,0,H$102-2014),OFFSET('GrD-Grafikdaten'!$J36,0,H$102-2014))","v":7.0969183553727194E-2},{"$f":"IF(ControlPanel!$T$5=\"nominal\",OFFSET('GrD-Grafikdaten'!$J18,0,I$102-2014),OFFSET('GrD-Grafikdaten'!$J36,0,I$102-2014))","v":7.2700419814562045E-2},{"$f":"IF(ControlPanel!$T$5=\"nominal\",OFFSET('GrD-Grafikdaten'!$J18,0,J$102-2014),OFFSET('GrD-Grafikdaten'!$J36,0,J$102-2014))","v":7.2700419814562045E-2},{"$f":"IF(ControlPanel!$T$5=\"nominal\",OFFSET('GrD-Grafikdaten'!$J18,0,K$102-2014),OFFSET('GrD-Grafikdaten'!$J36,0,K$102-2014))","v":7.7355660155927125E-2},{"$f":"IF(ControlPanel!$T$5=\"nominal\",OFFSET('GrD-Grafikdaten'!$J18,0,L$102-2014),OFFSET('GrD-Grafikdaten'!$J36,0,L$102-2014))","v":8.2103127247247248E-2}]
[null,null,"für Umlage des Jahres",null,{"$f":"E102","v":2021},{"$f":"F102","v":2022},2023,2024,2025,2025,2030,2035,null,"Differenz zum Referenz-Szenario [Mrd. Euro]"]
[null,null,"Kontostand am",null,{"$f":"CONCATENATE(\"30.9.\",E$102-1)","v":"30.9.2020"},"30.9.2021","30.9.2022","30.9.2023","30.9.2024","30.9.2024","30.9.2029","30.9.2034",null,"Nettozahlungen an Anlagenbetreiber","Wind Onshore",{"$f":"OFFSET('GrD-Grafikdaten'!$J137,0,E$102-2014)","v":0},{"$f":"OFFSET('GrD-Grafikdaten'!$J137,0,F$102-2014)","v":0},{"$f":"OFFSET('GrD-Grafikdaten'!$J137,0,G$102-2014)","v":0},{"$f":"OFFSET('GrD-Grafikdaten'!$J137,0,H$102-2014)","v":0},{"$f":"OFFSET('GrD-Grafikdaten'!$J137,0,I$102-2014)","v":0},{"$f":"OFFSET('GrD-Grafikdaten'!$J137,0,J$102-2014)","v":0},{"$f":"OFFSET('GrD-Grafikdaten'!$J137,0,K$102-2014)","v":0},{"$f":"OFFSET('GrD-Grafikdaten'!$J137,0,L$102-2014)","v":0}]
[null,null,"Referenzszenario",null,{"$f":"IF(ControlPanel!$T$5=\"nominal\",OFFSET('GrD-Grafikdaten'!$J23,0,E$102-2014),OFFSET('GrD-Grafikdaten'!$J41,0,E$102-2014))","v":-4.0803942770500008},{"$f":"IF(ControlPanel!$T$5=\"nominal\",OFFSET('GrD-Grafikdaten'!$J23,0,F$102-2014),OFFSET('GrD-Grafikdaten'!$J41,0,F$102-2014))","v":5.348731995891753},{"$f":"IF(ControlPanel!$T$5=\"nominal\",OFFSET('GrD-Grafikdaten'!$J23,0,G$102-2014),OFFSET('GrD-Grafikdaten'!$J41,0,G$102-2014))","v":1.1581902076936634},{"$f":"IF(ControlPanel!$T$5=\"nominal\",OFFSET('GrD-Grafikdaten'!$J23,0,H$102-2014),OFFSET('GrD-Grafikdaten'!$J41,0,H$102-2014))","v":1.2381086401569759},{"$f":"IF(ControlPanel!$T$5=\"nominal\",OFFSET('GrD-Grafikdaten'!$J23,0,I$102-2014),OFFSET('GrD-Grafikdaten'!$J41,0,I$102-2014))","v":1.2043659238099336},{"$f":"IF(ControlPanel!$T$5=\"nominal\",OFFSET('GrD-Grafikdaten'!$J23,0,J$102-2014),OFFSET('GrD-Grafikdaten'!$J41,0,J$102-2014))","v":1.2043659238099336},{"$f":"IF(ControlPanel!$T$5=\"nominal\",OFFSET('GrD-Grafikdaten'!$J23,0,K$102-2014),OFFSET('GrD-Grafikdaten'!$J41,0,K$102-2014))","v":0.714008267797964},{"$f":"IF(ControlPanel!$T$5=\"nominal\",OFFSET('GrD-Grafikdaten'!$J23,0,L$102-2014),OFFSET('GrD-Grafikdaten'!$J41,0,L$102-2014))","v":0.18510726686586754},null,null,"Wind Offshore",{"$f":"OFFSET('GrD-Grafikdaten'!$J138,0,E$102-2014)","v":0},{"$f":"OFFSET('GrD-Grafikdaten'!$J138,0,F$102-2014)","v":0},{"$f":"OFFSET('GrD-Grafikdaten'!$J138,0,G$102-2014)","v":0},{"$f":"OFFSET('GrD-Grafikdaten'!$J138,0,H$102-2014)","v":0},{"$f":"OFFSET('GrD-Grafikdaten'!$J138,0,I$102-2014)","v":0},{"$f":"OFFSET('GrD-Grafikdaten'!$J138,0,J$102-2014)","v":0},{"$f":"OFFSET('GrD-Grafikdaten'!$J138,0,K$102-2014)","v":0},{"$f":"OFFSET('GrD-Grafikdaten'!$J138,0,L$102-2014)","v":0}]
[null,null,"neues Szenario",null,{"$f":"IF(ControlPanel!$T$5=\"nominal\",OFFSET('GrD-Grafikdaten'!$J67,0,E$102-2014),OFFSET('GrD-Grafikdaten'!$J85,0,E$102-2014))","v":-4.0803942770500008},{"$f":"IF(ControlPanel!$T$5=\"nominal\",OFFSET('GrD-Grafikdaten'!$J67,0,F$102-2014),OFFSET('GrD-Grafikdaten'!$J85,0,F$102-2014))","v":5.348731995891753},{"$f":"IF(ControlPanel!$T$5=\"nominal\",OFFSET('GrD-Grafikdaten'!$J67,0,G$102-2014),OFFSET('GrD-Grafikdaten'!$J85,0,G$102-2014))","v":1.1581902076936634},{"$f":"IF(ControlPanel!$T$5=\"nominal\",OFFSET('GrD-Grafikdaten'!$J67,0,H$102-2014),OFFSET('GrD-Grafikdaten'!$J85,0,H$102-2014))","v":1.2381086401569759},{"$f":"IF(ControlPanel!$T$5=\"nominal\",OFFSET('GrD-Grafikdaten'!$J67,0,I$102-2014),OFFSET('GrD-Grafikdaten'!$J85,0,I$102-2014))","v":1.2043659238099336},{"$f":"IF(ControlPanel!$T$5=\"nominal\",OFFSET('GrD-Grafikdaten'!$J67,0,J$102-2014),OFFSET('GrD-Grafikdaten'!$J85,0,J$102-2014))","v":1.2043659238099336},{"$f":"IF(ControlPanel!$T$5=\"nominal\",OFFSET('GrD-Grafikdaten'!$J67,0,K$102-2014),OFFSET('GrD-Grafikdaten'!$J85,0,K$102-2014))","v":0.714008267797964},{"$f":"IF(ControlPanel!$T$5=\"nominal\",OFFSET('GrD-Grafikdaten'!$J67,0,L$102-2014),OFFSET('GrD-Grafikdaten'!$J85,0,L$102-2014))","v":0.18510726686586754},null,null,"Solar",{"$f":"OFFSET('GrD-Grafikdaten'!$J139,0,E$102-2014)","v":0},{"$f":"OFFSET('GrD-Grafikdaten'!$J139,0,F$102-2014)","v":0},{"$f":"OFFSET('GrD-Grafikdaten'!$J139,0,G$102-2014)","v":0},{"$f":"OFFSET('GrD-Grafikdaten'!$J139,0,H$102-2014)","v":0},{"$f":"OFFSET('GrD-Grafikdaten'!$J139,0,I$102-2014)","v":0},{"$f":"OFFSET('GrD-Grafikdaten'!$J139,0,J$102-2014)","v":0},{"$f":"OFFSET('GrD-Grafikdaten'!$J139,0,K$102-2014)","v":0},{"$f":"OFFSET('GrD-Grafikdaten'!$J139,0,L$102-2014)","v":0}]
[null,null,null,null,null,null,null,null,null,null,null,null,null,null,"Biomasse",{"$f":"OFFSET('GrD-Grafikdaten'!$J135,0,E$102-2014)","v":0},{"$f":"OFFSET('GrD-Grafikdaten'!$J135,0,F$102-2014)","v":0},{"$f":"OFFSET('GrD-Grafikdaten'!$J135,0,G$102-2014)","v":0},{"$f":"OFFSET('GrD-Grafikdaten'!$J135,0,H$102-2014)","v":0},{"$f":"OFFSET('GrD-Grafikdaten'!$J135,0,I$102-2014)","v":0},{"$f":"OFFSET('GrD-Grafikdaten'!$J135,0,J$102-2014)","v":0},{"$f":"OFFSET('GrD-Grafikdaten'!$J135,0,K$102-2014)","v":0},{"$f":"OFFSET('GrD-Grafikdaten'!$J135,0,L$102-2014)","v":0}]
[null,null,null,null,null,null,null,null,null,null,null,null,null,null,"Geothermie",{"$f":"OFFSET('GrD-Grafikdaten'!$J136,0,E$102-2014)","v":0},{"$f":"OFFSET('GrD-Grafikdaten'!$J136,0,F$102-2014)","v":0},{"$f":"OFFSET('GrD-Grafikdaten'!$J136,0,G$102-2014)","v":0},{"$f":"OFFSET('GrD-Grafikdaten'!$J136,0,H$102-2014)","v":0},{"$f":"OFFSET('GrD-Grafikdaten'!$J136,0,I$102-2014)","v":0},{"$f":"OFFSET('GrD-Grafikdaten'!$J136,0,J$102-2014)","v":0},{"$f":"OFFSET('GrD-Grafikdaten'!$J136,0,K$102-2014)","v":0},{"$f":"OFFSET('GrD-Grafikdaten'!$J136,0,L$102-2014)","v":0}]
[null,null,null,null,null,null,null,null,null,null,null,null,null,null,"Wasser",{"$f":"OFFSET('GrD-Grafikdaten'!$J133,0,E$102-2014)","v":0},{"$f":"OFFSET('GrD-Grafikdaten'!$J133,0,F$102-2014)","v":0},{"$f":"OFFSET('GrD-Grafikdaten'!$J133,0,G$102-2014)","v":0},{"$f":"OFFSET('GrD-Grafikdaten'!$J133,0,H$102-2014)","v":0},{"$f":"OFFSET('GrD-Grafikdaten'!$J133,0,I$102-2014)","v":0},{"$f":"OFFSET('GrD-Grafikdaten'!$J133,0,J$102-2014)","v":0},{"$f":"OFFSET('GrD-Grafikdaten'!$J133,0,K$102-2014)","v":0},{"$f":"OFFSET('GrD-Grafikdaten'!$J133,0,L$102-2014)","v":0}]
[null,null,null,null,null,null,null,null,null,null,null,null,null,null,"Gase",{"$f":"OFFSET('GrD-Grafikdaten'!$J134,0,E$102-2014)","v":0},{"$f":"OFFSET('GrD-Grafikdaten'!$J134,0,F$102-2014)","v":0},{"$f":"OFFSET('GrD-Grafikdaten'!$J134,0,G$102-2014)","v":0},{"$f":"OFFSET('GrD-Grafikdaten'!$J134,0,H$102-2014)","v":0},{"$f":"OFFSET('GrD-Grafikdaten'!$J134,0,I$102-2014)","v":0},{"$f":"OFFSET('GrD-Grafikdaten'!$J134,0,J$102-2014)","v":0},{"$f":"OFFSET('GrD-Grafikdaten'!$J134,0,K$102-2014)","v":0},{"$f":"OFFSET('GrD-Grafikdaten'!$J134,0,L$102-2014)","v":0}]
[null,null,null,null,null,null,null,null,null,null,null,null,null,"Belastung Letztver-brauch","nichtprivilegiert",{"$f":"OFFSET('GrD-Grafikdaten'!$J140,0,E$102-2014)","v":0},{"$f":"OFFSET('GrD-Grafikdaten'!$J140,0,F$102-2014)","v":0},{"$f":"OFFSET('GrD-Grafikdaten'!$J140,0,G$102-2014)","v":0},{"$f":"OFFSET('GrD-Grafikdaten'!$J140,0,H$102-2014)","v":0},{"$f":"OFFSET('GrD-Grafikdaten'!$J140,0,I$102-2014)","v":0},{"$f":"OFFSET('GrD-Grafikdaten'!$J140,0,J$102-2014)","v":0},{"$f":"OFFSET('GrD-Grafikdaten'!$J140,0,K$102-2014)","v":0},{"$f":"OFFSET('GrD-Grafikdaten'!$J140,0,L$102-2014)","v":0}]
[null,null,null,null,null,null,null,null,null,null,null,null,null,null,"privilegiert",{"$f":"OFFSET('GrD-Grafikdaten'!$J141,0,E$102-2014)","v":0},{"$f":"OFFSET('GrD-Grafikdaten'!$J141,0,F$102-2014)","v":0},{"$f":"OFFSET('GrD-Grafikdaten'!$J141,0,G$102-2014)","v":0},{"$f":"OFFSET('GrD-Grafikdaten'!$J141,0,H$102-2014)","v":0},{"$f":"OFFSET('GrD-Grafikdaten'!$J141,0,I$102-2014)","v":0},{"$f":"OFFSET('GrD-Grafikdaten'!$J141,0,J$102-2014)","v":0},{"$f":"OFFSET('GrD-Grafikdaten'!$J141,0,K$102-2014)","v":0},{"$f":"OFFSET('GrD-Grafikdaten'!$J141,0,L$102-2014)","v":0}]
[null,null,null,null,null,null,null,null,null,null,null,null,null,null,"Eigenverbrauch",{"$f":"OFFSET('GrD-Grafikdaten'!$J142,0,E$102-2014)","v":0},{"$f":"OFFSET('GrD-Grafikdaten'!$J142,0,F$102-2014)","v":0},{"$f":"OFFSET('GrD-Grafikdaten'!$J142,0,G$102-2014)","v":0},{"$f":"OFFSET('GrD-Grafikdaten'!$J142,0,H$102-2014)","v":0},{"$f":"OFFSET('GrD-Grafikdaten'!$J142,0,I$102-2014)","v":0},{"$f":"OFFSET('GrD-Grafikdaten'!$J142,0,J$102-2014)","v":0},{"$f":"OFFSET('GrD-Grafikdaten'!$J142,0,K$102-2014)","v":0},{"$f":"OFFSET('GrD-Grafikdaten'!$J142,0,L$102-2014)","v":0}]
[]
[]
[null,"Gewählte Eingabeparameter"]
[]
[null,null,"Eingabeparameter: \nJährlicher Kapazitätszubau (Brutto)",null,null,null,null,null,{"$f":"\"Eingabe-Parameter:\nEntwicklung der Vergütungssätze (real, bezogen auf \"&ControlPanel!D60&\")\"","v":"Eingabe-Parameter:\nEntwicklung der Vergütungssätze (real, bezogen auf 2021)"}]
[null,null,{"$f":"'Start-Experte'!C7","v":"Technologie"},"gewähltes Szenario",null,null,null,null,"Technologie",null,null,{"$f":"'Start-Experte'!L7","v":"gewähltes Szenario"}]
[null,null,{"$f":"'Start-Experte'!C8","v":"Wind Onshore"},{"$f":"'Start-Experte'!E8","v":"Referenz"},{"$f":"'Start-Experte'!F8","v":"1,5 GW bis 2021, ab 2023 2,5 GW/a"},null,null,null,{"$f":"'Start-Experte'!I8","v":"Wind Onshore"},null,null,{"$f":"'Start-Experte'!L8","v":"Referenz"},{"$f":"'Start-Experte'!M8","v":"sinkt auf 3,5 ct/kWh in 2035"}]
[null,null,{"$f":"'Start-Experte'!C9","v":"Wind Offshore"},{"$f":"'Start-Experte'!E9","v":"Referenz"},{"$f":"'Start-Experte'!F9","v":"MFP Trend, danach konstant 1,6 GW"},null,null,null,{"$f":"'Start-Experte'!I9","v":"Wind Offshore"},null,null,{"$f":"'Start-Experte'!L9","v":"Referenz"},{"$f":"'Start-Experte'!M9","v":"sinkt auf 4,5 ct/kWh in 2035"}]
[null,null,{"$f":"'Start-Experte'!C10","v":"Solar"},{"$f":"'Start-Experte'!E10","v":"Referenz"},{"$f":"'Start-Experte'!F10","v":"MFP Trend"},null,null,null,{"$f":"'Start-Experte'!I10","v":"Solar"},null,null,{"$f":"'Start-Experte'!L10","v":"Referenz"},{"$f":"'Start-Experte'!M10","v":"EEG 2017; Anteil Ausschreibungen ab 2020 50%"}]
[null,null,{"$f":"'Start-Experte'!C11","v":"Biomasse"},{"$f":"'Start-Experte'!E11","v":"Referenz"},{"$f":"'Start-Experte'!F11","v":"0,2 GW/a"},null,null,null,{"$f":"'Start-Experte'!I11","v":"Biomasse"},null,null,{"$f":"'Start-Experte'!L11","v":"Referenz"},{"$f":"'Start-Experte'!M11","v":"EEG 2017"}]
[null,null,{"$f":"'Start-Experte'!C12","v":"Geothermie"},{"$f":"'Start-Experte'!E12","v":"Referenz"},{"$f":"'Start-Experte'!F12","v":"0,01GW/a"},null,null,null,{"$f":"'Start-Experte'!I12","v":"Geothermie"},null,null,{"$f":"'Start-Experte'!L12","v":"Referenz"},{"$f":"'Start-Experte'!M12","v":"EEG 2017"}]
[null,null,{"$f":"'Start-Experte'!C13","v":"Wasser"},{"$f":"'Start-Experte'!E13","v":"Referenz"},{"$f":"'Start-Experte'!F13","v":"0,01 GW/a"},null,null,null,{"$f":"'Start-Experte'!I13","v":"Wasser"},null,null,{"$f":"'Start-Experte'!L13","v":"Referenz"},{"$f":"'Start-Experte'!M13","v":"EEG 2017"}]
[null,null,{"$f":"'Start-Experte'!C14","v":"Gase"},{"$f":"'Start-Experte'!E14","v":"Referenz"},{"$f":"'Start-Experte'!F14","v":"0,01GW/a"},null,null,null,{"$f":"'Start-Experte'!I14","v":"Gase"},null,null,{"$f":"'Start-Experte'!L14","v":"Referenz"},{"$f":"'Start-Experte'!M14","v":"EEG 2017"}]
[]
[]
[null,null,"Eingabeparameter: \nPrivilegierungen",null,null,null,null,null,"Eingabeparameter: \nStrompreis, Liquiditätsreserve und Kontostand"]
[null,null,"Parameter",{"$f":"'Start-Experte'!E18","v":"gewähltes Szenario"},null,null,null,null,"Parameter",null,null,{"$f":"'Start-Experte'!L18","v":"gewähltes Szenario"},{"$f":"'Start-Experte'!M18","v":0}]
[null,null,{"$f":"'Start-Experte'!C19","v":"Privilegierter \nLetztverbrauch"},{"$f":"'Start-Experte'!E19","v":"Referenz"},{"$f":"'Start-Experte'!F19","v":"MFP Referenz"},null,null,null,{"$f":"'Start-Experte'!I19","v":"Großhandelsstrompreis (Future)"},null,null,{"$f":"'Start-Experte'!L19","v":"Referenz"},{"$f":"'Start-Experte'!M19","v":"4,9 -> 6,5 ct/kWh"}]
[null,null,{"$f":"'Start-Experte'!C20","v":"Anteil an Umlage für privilegierte Letztverbraucher"},{"$f":"'Start-Experte'!E20","v":"Referenz"},{"$f":"'Start-Experte'!F20","v":"15% (gem. EEG 2021)"},null,null,null,{"$f":"'Start-Experte'!I20","v":"Liquiditätsreserve"},null,null,{"$f":"'Start-Experte'!L20","v":"Referenz"},{"$f":"'Start-Experte'!M20","v":"ÜNB-Umlageberechnungen, danach 6%"}]
[null,null,{"$f":"'Start-Experte'!C21","v":"Faktor zur Erfassung zusätzlicher Privilegierungen"},{"$f":"'Start-Experte'!E21","v":"Referenz"},{"$f":"'Start-Experte'!F21","v":"Bis 2021: ÜNB-Umlageberechnungen, danach konstant (wirkt wie vollständige Befreiung von 62% des priv. LV)"},null,null,null,{"$f":"'Start-Experte'!I21","v":"Kontostand am 30.9.2021"},null,null,{"$f":"'Start-Experte'!L21","v":"endogen"},{"$f":"'Start-Experte'!M21","v":"wird endogen berechnet"}]
[null,null,null,null,null,null,null,null,{"$f":"'Start-Experte'!I22","v":"Alternativ: Abweichung von Kontostandsprognose für den 30.9.2021"},null,null,{"$f":"'Start-Experte'!L22","v":"keine Abweichung"},{"$f":"'Start-Experte'!M22","v":"keine Abweichung"}]
[null,null,null,null,null,null,null,null,"Zuschüsse aus dem Bundeshaushalt",null,null,{"$f":"'Start-Experte'!L45","v":"Referenz"},{"$f":"'Start-Experte'!J45","v":"frei wählbar ->"}]
[null,null,"Eingabeparameter: \nEigenverbrauch"]
[null,null,{"$f":"'Start-Experte'!C25","v":"Kategorien Eigenverbrauch\nund jeweilige Beteiligung"},{"$f":"'Start-Experte'!E25","v":"gewähltes Szenario"}]
[null,null,{"$f":"'Start-Experte'!C26","v":"Eigenverbrauch \n(KWK-Neuanlagen)"},{"$f":"'Start-Experte'!E26","v":"Referenz"},{"$f":"'Start-Experte'!F26","v":"2021: ÜNB-Umlageberechnungen bis 2025, danach konstant"}]
[null,null,{"$f":"'Start-Experte'!C27","v":"Eigenverbrauchsanteil bei PV-Neuanlagen"},{"$f":"'Start-Experte'!E27","v":"Referenz"},{"$f":"'Start-Experte'!F27","v":"9%"}]
[null,null,{"$f":"'Start-Experte'!C28","v":"Anteil an Umlage für neuen Eigenverbrauch (PV und KWK)"},{"$f":"'Start-Experte'!E28","v":"Referenz"},{"$f":"'Start-Experte'!F28","v":"gem. EEG 2017, ab 2020 konstant 38%"}]
[null,null,{"$f":"'Start-Experte'!C29","v":"Anteil an Umlage für Eigenverbrauch \n(Bestandsanlagen)"},{"$f":"'Start-Experte'!E29","v":"Referenz"},{"$f":"'Start-Experte'!F29","v":"vollständig befreit (gem. EEG 2014)"}]
[]
[]
[null,"Gewählte Eingabeparameter (Expertenmodus)"]
[]
[null,null,"Eingabeparameter: Standardauslastung",null,null,null,null,null,"Eingabeparameter: \nSonstiges"]
[null,null,{"$f":"'Start-Experte'!C33","v":"Technologie"},{"$f":"'Start-Experte'!E33","v":"gewähltes Szenario"},null,null,null,null,"Parameter",null,null,{"$f":"'Start-Experte'!L25","v":"gewähltes Szenario"}]
[null,null,{"$f":"'Start-Experte'!C34","v":"Wind Onshore"},{"$f":"'Start-Experte'!E34","v":"Referenz"},{"$f":"'Start-Experte'!F34","v":"Anstieg auf 2600h in 2035"},null,null,null,{"$f":"'Start-Experte'!I26","v":"Nettostromverbrauch"},null,null,{"$f":"'Start-Experte'!L26","v":"Referenz"},{"$f":"'Start-Experte'!M26","v":"2021: ÜNB-Umlageberechnung 2020. Danach ansteigend auf 600 TWh in 2030"}]
[null,null,{"$f":"'Start-Experte'!C35","v":"Wind Offshore"},{"$f":"'Start-Experte'!E35","v":"Referenz"},{"$f":"'Start-Experte'!F35","v":"Anstieg auf 4700 h in 2035"},null,null,null,{"$f":"'Start-Experte'!I27","v":"Spot-Skalierungsfaktor \n(Verhältnis Spotpreis zu Futurepreis)"},null,null,{"$f":"'Start-Experte'!L27","v":"Referenz"},{"$f":"'Start-Experte'!M27","v":"100%"}]
[null,null,{"$f":"'Start-Experte'!C36","v":"Solar"},{"$f":"'Start-Experte'!E36","v":"Referenz"},{"$f":"'Start-Experte'!F36","v":"Anstieg auf 950h in 2035"},null,null,null,{"$f":"'Start-Experte'!I28","v":"Vermiedene Netzentgelte (für nicht fluktuierende Erzeugung)"},null,null,{"$f":"'Start-Experte'!L28","v":"Referenz"},{"$f":"'Start-Experte'!M28","v":"7.17€/MWh"}]
[null,null,{"$f":"'Start-Experte'!C37","v":"Biomasse"},{"$f":"'Start-Experte'!E37","v":"Referenz"},{"$f":"'Start-Experte'!F37","v":"MFP Trend"},null,null,null,{"$f":"'Start-Experte'!I29","v":"Sonstige Kosten"},null,null,{"$f":"'Start-Experte'!L29","v":"Referenz"},{"$f":"'Start-Experte'!M29","v":"0,06Mrd. €"}]
[null,null,{"$f":"'Start-Experte'!C38","v":"Geothermie"},{"$f":"'Start-Experte'!E38","v":"Referenz"},{"$f":"'Start-Experte'!F38","v":"MFP Trend"},null,null,null,{"$f":"'Start-Experte'!I30","v":"Inflationsrate"},null,null,{"$f":"'Start-Experte'!L30","v":"Referenz"},{"$f":"'Start-Experte'!M30","v":"1,5% pro Jahr"}]
[null,null,{"$f":"'Start-Experte'!C39","v":"Wasser"},{"$f":"'Start-Experte'!E39","v":"Referenz"},{"$f":"'Start-Experte'!F39","v":"MFP Trend"}]
[null,null,{"$f":"'Start-Experte'!C40","v":"Gase"},{"$f":"'Start-Experte'!E40","v":"Referenz"},{"$f":"'Start-Experte'!F40","v":"MFP Trend"}]
[]
[]
[null,null,"Eingabeparameter: Lebensdauer der Anlagen nach Ende der Förderung",null,null,null,null," Eingabeparameter: Dargebotsfaktor",null,null," Eingabeparameter: Profilfaktor"]
[null,null,{"$f":"'Start-Experte'!C44","v":"Technologie"},{"$f":"'Start-Experte'!E44","v":"gewähltes Szenario"},null,null,null,{"$f":"'Start-Experte'!I33","v":"gewähltes Szenario"},null,null,{"$f":"'Start-Experte'!L33","v":"gewähltes Szenario"}]
[null,null,{"$f":"'Start-Experte'!C45","v":"Wind Onshore"},{"$f":"'Start-Experte'!E45","v":"Referenz"},{"$f":"'Start-Experte'!F45","v":"5 Jahre"},null,null,{"$f":"'Start-Experte'!I34","v":"Referenz"},{"$f":"'Start-Experte'!J34","v":"100%"},null,{"$f":"'Start-Experte'!L34","v":"Referenz"},{"$f":"'Start-Experte'!M34","v":"eigene Berechnung"}]
[null,null,{"$f":"'Start-Experte'!C46","v":"Wind Offshore"},{"$f":"'Start-Experte'!E46","v":"Referenz"},{"$f":"'Start-Experte'!F46","v":"keine"},null,null,{"$f":"'Start-Experte'!I35","v":"Referenz"},{"$f":"'Start-Experte'!J35","v":"100%"},null,{"$f":"'Start-Experte'!L35","v":"Referenz"},{"$f":"'Start-Experte'!M35","v":"eigene Berechnung"}]
[null,null,{"$f":"'Start-Experte'!C47","v":"Solar"},{"$f":"'Start-Experte'!E47","v":"Referenz"},{"$f":"'Start-Experte'!F47","v":"5 Jahre"},null,null,{"$f":"'Start-Experte'!I36","v":"Referenz"},{"$f":"'Start-Experte'!J36","v":"100%"},null,{"$f":"'Start-Experte'!L36","v":"Referenz"},{"$f":"'Start-Experte'!M36","v":"eigene Berechnung"}]
[null,null,{"$f":"'Start-Experte'!C48","v":"Biomasse"},{"$f":"'Start-Experte'!E48","v":"Referenz"},{"$f":"'Start-Experte'!F48","v":"keine"},null,null,{"$f":"'Start-Experte'!I37","v":"Referenz"},{"$f":"'Start-Experte'!J37","v":"100%"},null,{"$f":"'Start-Experte'!L37","v":"Referenz"},{"$f":"'Start-Experte'!M37","v":"100%"}]
[null,null,{"$f":"'Start-Experte'!C49","v":"Geothermie"},{"$f":"'Start-Experte'!E49","v":"Referenz"},{"$f":"'Start-Experte'!F49","v":"keine"},null,null,{"$f":"'Start-Experte'!I38","v":"Referenz"},{"$f":"'Start-Experte'!J38","v":"100%"},null,{"$f":"'Start-Experte'!L38","v":"Referenz"},{"$f":"'Start-Experte'!M38","v":"100%"}]
[null,null,{"$f":"'Start-Experte'!C50","v":"Wasser"},{"$f":"'Start-Experte'!E50","v":"Referenz"},{"$f":"'Start-Experte'!F50","v":"keine"},null,null,{"$f":"'Start-Experte'!I39","v":"Referenz"},{"$f":"'Start-Experte'!J39","v":"100%"},null,{"$f":"'Start-Experte'!L39","v":"Referenz"},{"$f":"'Start-Experte'!M39","v":"100%"}]
[null,null,{"$f":"'Start-Experte'!C51","v":"Gase"},{"$f":"'Start-Experte'!E51","v":"Referenz"},{"$f":"'Start-Experte'!F51","v":"keine"},null,null,{"$f":"'Start-Experte'!I40","v":"Referenz"},{"$f":"'Start-Experte'!J40","v":"100%"},null,{"$f":"'Start-Experte'!L40","v":"Referenz"},{"$f":"'Start-Experte'!M40","v":"100%"}]

{"sheet":"Manual","index":5,"n_rows":29,"n_cols":3,"rows_kept":29,"cut":false,"hidden":false,"merged":[]}
[null," "]
[null,null,"EEG-Rechner:  Kurzanleitung"]
[]
[null,null,"Wichtige Hinweise: "]
[null,null,"1. Für die Nutzung des EEG-Rechners müssen Makros zugelassen sein!"]
[null,null,"2. Standardmässig werden alle Ergebniss als nominale Werte (also ohne Inflationsbereinigung) angegeben. Um auf reale Werte (bezogen auf das aktuelle Jahr) zu wechseln, bitte auf das entsprechende Feld bei \"Start\" klicken."]
[null,null,"3. Der EEG-Rechner führt keine Plausibilitätsprüfung der gewählten Szenarien durch. Der Benutzer ist selbst dafür verantwortlich, konsistente Szenarien (z.B. mit Blick auf EE-Zubaumenge, Vergütungshöhe und Strompreisprognose) einzugeben. Dies gilt insbesondere für mögliche 0 Cent-Gebote in Ausschreibungen, da hierfür die Strompreis-Erwartung über dem Niveau des EEG-Vergütungssatzes für Neuanlagen liegen muss."]
[]
[null,null,"Das Erneuerbare-Energien-Gesetz (EEG) ist das zentrale Instrument zur Flankierung der Stromerzeugung aus erneuerbaren Energien in Deutschland. Es regelt u.a. die Einspeisevergütungen für die verschiedenen Anlagenklassen und in welcher Form die nach Vermarktung des erzeugten Stroms entstehende Deckungslücke auf die verschiedenen Stromverbraucher umgelegt werden. "]
[null,null,"Einen wesentlichen Parameter bildet dabei die EEG-Umlage, die für Endkunden auf den Stromverbrauch aufgeschlagen wird, und über die ein Großteil der Netto-Kosten des EEG gedeckt wird. Die Höhe der EEG-Umlage wird, entsprechend der zu erwartenden Deckungslücke, einmal jährlich angepasst. Die Höhe der Umlage wird von zahlreichen Parametern beeinflusst. Der EEG-Rechner erlaubt es, diese Parameter zu variieren und die Entwicklung der EEG-Umlage sowie der zu Grunde liegenden Zahlungsströme bis 2035 abzuschätzen. "]
[null,null,"Bedienung:"]
[null,null,"Der EEG-Rechner  kann in zwei verschiedenen Modi betrieben werden: "]
[null,null,"Im Entscheidermodus können die wichtigesten Stellgrößen auf einer benutzerfreundlicher Oberfläche variiert werden. Für jeden Parameter stehen verschiedene vordefinierte Szenarien zur Verfügung.  "]
[null,null,"Im Expertenmodus stehen wesentlich mehr (alle relevanten) Eingangsparameter für Variationen zur Verfügung. Darüber hinaus können für jeden Parameter,    zusätzlich zu den vordefinierten Szenarien, eigene Szenarien definiert und in einer Datenbankstruktur abgelegt werden. Im Expertenmodus sind sämtliche Daten und Berechnungen für den Benutzer zugänglich. "]
[null,null,"Über die entsprechende Schaltfläche auf der Benutzeroberfläche kann zwischen den beiden Modi hin- und hergeschaltet werden, dabei werden die für den jeweiligen Modus nutzbaren Tabellenblätter ein- bzw. ausgeblendet. "]
[]
[null,null,"Bedienung im Entscheidermodus (Blatt \"Start\"):"]
[null,null,"Auf der Benutzeroberfläche im Tabellenblatt \"Start\" werden alle veränderbaren Parameter dargestellt. Für jeden Parameter wird der ausgewählte Wert angezeigt, sowie die Spannbreite der möglichen auszuwählenden Werte. Für jeden Parameter ist ein Referenzwert voreingestellt - dieses Referenzszenario stellt die Entwicklung der EEG-Umlage unter der Annahme dar, dass keine wesentlichen Änderungen am EEG-Mechanismus vorgenommen werden und Kapazitätsausbau, Strompreis und -nachfrage sich moderat entwickeln. "]
[null,null,"Die Abbildungen auf dem Tabellenblatt \"Start\" geben einen Überblick über die wichtigsten Ergebnisse (Entwicklung der EEG-Umlage und der Summe aus Börsenstrompreis und Umlage). Weitere Ergebnisse in Form von Abbildungen und Tabellen sind im Tabellenblatt \"Ergebnisse\" zusammengestellt. Dieses Tabellenblatt kann auch ausgedruckt werden, um alle Ergebnisse und Schalterstellungen für ein Szenario festzuhalten. "]
[null,null,"Für jeden Parameter kann durch Anklicken aus einer Auswahlliste das gewünschte Szenario ausgewählt werden. Die Grafiken und Tabellen zeigen, wie sich die Änderung eines Parameters auf EEG-Umlage und Zahlungströme etc. auswirkt. "]
[null,null,"Über die Schaltfläche \"Zurücksetzen\" können alle Parameter wieder auf ihren Referenzwert zurückgestellt werden. "]
[null,null,"Über die Schaltfläche \"Hilfe\" kann von der Benutzeroberfläche diese Kurzanleitung angewählt werden. "]
[null,null,"Bedienung im Expertenmodus (Blatt \"Start-Experte\"):"]
[null,null,"Im Expertenmodus kann über die Benutzeroberfläche im Tabellenblatt \"Start-Experte\" eine wesentlich größere Zahl an Eingangsparametern variiert werden. Darüber hinaus können in den für die einzelnen Parameter hinterlegten Bibliotheken eigene Szenarien definert werden. Die mitgelieferten Standard-Szenarien können jedoch nicht verändert werden. Auf der Benutzeroberfläche ist neben jedem Parameter ein Link ( > ) zu dem entsprechenden Bibliotheks-Datenblatt eingefügt. Pro Parameter können, einschließlich der mitgelieferten Standard-Szenarien bis zu 20 Szenarien definiert werden. Sind die Szenarien im Bibliotheks-Datenblatt erstellt, können sie in der Benutzeroberfläche über das jeweilige Dropdown-Menüs ausgewählt werden. Für die Konsistenz neu angelegter Szenarien müssen die Nutzer eigenverantwortlich sorgen. "]
[null,null,"Die Berechnungen werden in dem Tabellenblatt \"MOD-Berechnungen\" und \"MOD-Jahresgang\" durchgeführt. Hier können alle Methoden und Zwischenergebnisse nachvollzogen werden. Die Daten für die Abbildungen und Tabellen sind auf den Datenblättern \"Grd-Grafikdaten\" und \"Grd-Grafikdaten(2)\" zusammengefasst. Das Tabellenblatt \"Index\" enthält eine Liste aller Tabellenblätter mit einer kurzen Beschreibung. "]
[null,null,"Über die Schaltfläche \"Zurücksetzen\" können alle Parameter wieder auf ihren Referenzwert zurückgestellt werden. "]
[]
[null,null,"Eine ausführliche Dokumentation für den EEG-Rechner steht auf der Webseite der Agora Energiewende zur Verfügung:"]
[null,null,"http://www.agora-energiewende.de/de/service/eeg-rechner/"]

{"sheet":"Impressum","index":6,"n_rows":19,"n_cols":10,"rows_kept":19,"cut":false,"hidden":false,"merged":[]}
[" "]
[]
[]
[null,"EEG-Rechner: Berechnungs- und Szenarienmodell zur Ermittlung der EEG-Umlage"]
[]
[null,"erarbeitet durch: ","Öko-Institut e.V.",null,null,null,null,"im Auftrag von:",null,"Agora Energiewende"]
[null,null,"Schicklerstr. 5-7",null,null,null,null,null,null,"Anna-Louisa-Karsch-Straße 2"]
[null,null,"10179 Berlin",null,null,null,null,null,null,"10178 Berlin"]
[null,null,"www.oeko.de",null,null,null,null,null,null,"www.agora-energiewende.de"]
[]
[null,"Autoren:","Markus Haller"]
[null,null,"David Ritter"]
[null,null,"Charlotte Loreck"]
[null,null,"Felix Chr. Matthes",null,null,null,null,"© Öko-Institut und Agora Energiewende. Alle Rechte vorbehalten. Nutzung der Methoden, "]
[null,null,null,null,null,null,null,"Standarddaten und Ergebnisse nur mit Verweis auf die Autoren und Agora Energiewende gestattet."]
[null,"Letzte Aktualisierung:","2021-07-20"]
[null,"Modellversion:","4.2.1",null,null,null,null,"Zitiervorschlag:",null,"Öko-Institut (2021): EEG-Rechner. Berechnungs- und Szenarienmodell"]
[null,null,null,null,null,null,null,null,null,"zur Ermittlung der EEG-Umlage. Erstellt im Auftrag von Agora Energiewende."]
[null,"Kontakt:","info@agora-energiewende.de",null,null,null,null,null,null,{"$f":"CONCATENATE(\"Modellversion \",C17,\", Berlin, \",TEXT(C16,\"TT.MM.JJJJ\"))","v":"Modellversion 4.2.1, Berlin, 20.07.2021"}]

{"sheet":"Index","index":7,"n_rows":64,"n_cols":4,"rows_kept":64,"cut":false,"hidden":true,"merged":[]}
[" "]
[]
[null,"Index"]
[]
[null,"No.","Name"]
[]
[null,1,"Start-Experte","Table"]
[null,2,"ControlPanel","Table"]
[null,3,"Parameter-Entscheider","Table"]
[null,4,"Start","Table"]
[null,5,"Ergebnisse","Table"]
[null,6,"Manual","Table"]
[null,7,"Impressum","Table"]
[null,8,"Version","Table"]
[null,9,"Index","Table"]
[null,10,"IndexComplete","Table"]
[null,11,"MOD-Berechnungen","Table"]
[null,12,"MOD-Jahresgang","Table"]
[null,13,"GrD-Grafikdaten","Table"]
[null,14,"GrD-Grafikdaten (2)","Table"]
[null,15,"MOD_Absenkung_Wind_offshore","Table"]
[null,16,"D-Vergütungssatz Neuanlagen","Table"]
[null,17,"D-Bruttozubau","Table"]
[null,18,"D-Standardauslastung","Table"]
[null,19,"D-Dargebotsfaktor","Table"]
[null,20,"D-Spot-Skalierungsfaktor","Table"]
[null,21,"D-Profilfaktoren","Table"]
[null,22,"D-Dauer Goldenes Ende","Table"]
[null,23,"D-Future Strompreis","Table"]
[null,24,"D-Liquiditätspuffer","Table"]
[null,25,"D-Nettostromverbrauch","Table"]
[null,26,"D-Privilegierter Letztverbrauch","Table"]
[null,27,"D-Umlage priv. Letztverbrauch","Table"]
[null,28,"D-Faktor Zusatzprivilegierung","Table"]
[null,29,"D-Umlage EV Bestand","Table"]
[null,30,"D-Eigenverbrauch KWK Neue","Table"]
[null,31,"D-Umlage Eigenverbrauch PV+KWK","Table"]
[null,32,"D-vermiedene Netzentgelte","Table"]
[null,33,"D-Sonstige Kosten","Table"]
[null,34,"D-Inflationsrate","Table"]
[null,35,"D-Prognosefehler Kontostand","Table"]
[null,36,"D-Kontostand aktuelles Jahr","Table"]
[null,37,"D-Anteil Eigenverbrauch EE neu","Table"]
[null,38,"D-Strommenge ges.","Table"]
[null,39,"D-Strommenge FV+DM","Table"]
[null,40,"D-Mittlerer Vergütungssatz","Table"]
[null,41,"D-Kontostand Vorjahr","Table"]
[null,42,"D-Bestand Kapazität","Table"]
[null,43,"D-Bestand Strommenge","Table"]
[null,44,"D-Bestand Zahlungen","Table"]
[null,45,"D-Grünstromprivileg","Table"]
[null,46,"D-Eigenverbrauch fossil Bestand","Table"]
[null,47,"D-Eigenverbrauch fossile Neue","Table"]
[null,48,"D-Eigenverbrauch EE-Bestand","Table"]
[null,49,"D-Umlagereduktion Grünstrom","Table"]
[null,50,"D-Umlage Eigenverb fossile Neue","Table"]
[null,51,"D-Vergütung Eigenverbrauch","Table"]
[null,52,"D-Managementprämie_Bestand","Table"]
[null,53,"D-Netzverl. u. KW-Eigenverbr.","Table"]
[null,54,"D-Kapazitäten 2009","Table"]
[null,55,"D-Rückbau vor 2015","Table"]
[null,56,"D-EE-Kapazitäten nicht EEG","Table"]
[null,57,"D-EE-Strommengen nicht EEG","Table"]
[null,58,"D-Korrekt. Strommenge akt. Jahr","Table"]

{"sheet":"IndexComplete","index":8,"n_rows":46,"n_cols":7,"rows_kept":46,"cut":false,"hidden":true,"merged":[[3,6,3,9],[4,6,4,9],[5,6,5,9]]}
["Table of contents",null,null,null,"   ### kein Bezug möglich, Text nach Abschluss der Arbeiten per Hand eingeben"]
[]
[null,"Index"]
[null,null,null,null,null,null,"For Update of Index"]
[null,"No.","Name",null,null,null,"click this button"]
[null,null,null,null,null,null,"(Macros must be enabled)"]
[null,1,"Impressum","Table","Impressum"]
[null,2,"Manual","Table","Kurzanleitung"]
[null,3,"Version","Table","Versionshistorie."]
[null,4,"Index","Table","Index aller Tabellenblätter."]
[null,5,"IndexComplete","Table","Vollständiger Index (inkl. Für benutzer nicht sichtbarer Sheets)"]
[null,6,"Start","Table","Benutzeroberfläche für Entscheidermodus"]
[null,7,"Start-Experte","Table","Benutzeroberfläche im Expertenmodus"]
[null,8,"Parameter-Entscheider","Table","Für den Entscheidermodus werden hier die Standardwerte definiert, die für Parameter genutzt werden, die im Entscheidermodus nicht variiert werden können. "]
[null,9,"ControlPanel","Table","In dieses Tabellenblatt werden die Einstellungen aus den beiden Startblättern kopiert, und auf dieses Blatt greifen die Bibliotheksblätter zu, um die gewünschten Parameter zu filtern. "]
[null,10,"MOD-Berechnungen","Table","Hier finden alle Berechnung in jahresscharfer Auflösung statt. "]
[null,11,"MOD-Jahresgang","Table","Berechnung des Kontoverlaufs für das aktuelle Jahr."]
[null,12,"GrD-Grafikdaten","Table","Ergebnisse für Grafiken aufbereitet"]
[null,13,"MOD-Output","Table","Modell-Ergebnisse in tabellarischer Form"]
[null,14,"D-Jahreszubau","Table","Datenblatt: Jährlicher Kapazitätszubau pro Technologie"]
[null,15,"D-Standardauslastung","Table","Datenblatt: jährliche Vollaststunden pro Technologie"]
[null,16,"D-Dargebotsfaktor","Table","Datenblatt: Dargebotsfaktor pro Technologie"]
[null,17,"D-Anteil Direktvermarktung","Table","Datenblatt: Anteil des direkt vermarkteten Stroms (Marktprämienmodell) an der Gesamt-Stromerzeugung (pro Technologie)"]
[null,18,"D-Anteil Eigenverbrauch","Table","Datenblatt: Anteil des Eigenverbrauchs an der Gesamt-Stromerzeugung (pro Technologie)"]
[null,19,"D-Anteil Sonstige DV","Table","Datenblatt: Anteil der sonstigen Direktvermarktungsmodelle an der Gesamt-Stromerzeugung (pro Technologie)"]
[null,20,"D-Profilfaktoren-real","Table","Datenblatt: Profilfaktoren für Berechnung von Vermarktungserlösen und Marktprämienzahlungen in Prognosejahren"]
[null,21,"D-Vergütungssatz Neuanlagen","Table","Datenblatt: Vergütungssätze für Neuanlagen (pro Technologie). Nur relevant für Prognosejahre."]
[null,22,"D-Vergütung Eigenverbrauch","Table","Datenblatt: Vergütungssätze für eigenverbrauchten Strom (pro Technologie)."]
[null,23,"D-Managementprämie","Table","Datenblatt: Managementprämien (pro Technologie)."]
[null,24,"D-Future Strompreis","Table","Datenblatt: Entwicklung des Strompreises (PHELIX base year future) für die Umlageberechnung."]
[null,25,"D-Spot-Skalierungsfaktor","Table","Datenblatt: Skalierungsfaktor, der die systematische Differenz zwischen Future- und Spotmarktpreis beschreibt."]
[null,26,"D-Liquiditätspuffer","Table","Datenblatt: Höhe des Liquiditätspuffers."]
[null,27,"D-Gesamtstromverbrauch","Table","Datenblatt: Gesamt-Stromverbrauch."]
[null,28,"D-Privilegierter Letztverbrauch","Table","Datenblatt: Anteil des privilegierten Letztverbrauchs am Gesamt-Stromverbrauch."]
[null,29,"D-Eigenstromverbrauch","Table","Datenblatt: Anteil des eigenerzeugten Eigenverbrauchs am Gesamt-Stromverbrauch."]
[null,30,"D-Grünstromprivileg","Table","Datenblatt: Anteil des für Grünstromprivileg-Stroms am Gesamt-Stromverbrauch."]
[null,31,"D-Umlage priv. Letztverbrauch","Table","Datenblatt: Umlagesätze für privilegierten Letztverbrauch"]
[null,32,"D-Umlage Eigenstromverbrauch","Table","Datenblatt: Umlagesätze für eigenverbrauchte Eigenerzeugung"]
[null,33,"D-Umlage Grünstromprivileg","Table","Datenblatt: Umlagesätze für Grünstromprivileg."]
[null,34,"D-vermiedene Netzentgelte","Table","Datenblatt: vermiedene Netzentgelte (abgebildet als Pauschalbetrag pro zu vergütender Strommenge)."]
[null,35,"D-Sonstige Kosten","Table","Datenblatt: sonstige Kosten (als Pauschalbetrag)."]
[null,36,"D-Stromerzeugung","Table","Datenblatt: Stromerzeugung pro Technologie (nur für historische Jahre relevant)."]
[null,37,"D-Mittlerer Vergütungssatz","Table","Datenblatt: Mittlere Vergütungssätze pro Technologie (nur für historische Jahre relevant)."]
[null,38,"D-Profilfaktoren","Table","Datenblatt: In den ÜNB-Jahresprognosen verwendete Profilfaktoren (nur für historische Jahre relevant)."]
[null,39,"D-Profilfaktoren-Marktprämie","Table","Datenblatt: In den ÜNB-Jahresprognosen für die Berechnung der Marktprämienzahlungen verwendete Profilfaktoren (nur für historische Jahre relevant)."]
[null,40,"D-Kontostand September","Table","Datenblatt: historische Kontostände, jeweils am 30.9. (nur für historische Jahre relevant)."]

{"sheet":"MOD-Berechnungen","index":9,"n_rows":402,"n_cols":37,"rows_kept":402,"cut":false,"hidden":true,"merged":[]}
[" ","Übersicht der ausgewählten Eingangsparameter (blau) und Berechnungen (grün)",null,null,"In diesem Tabellenblatt finden alle Berechnung in jährlicher Auflösung statt."]
[]
[null,null,null,null,"grün: Eingangsparameter"]
[null,null,null,null,"blau: Berechnungen"]
["ID","Szenario","Bearbeiter","Beschreibung",null,2010,2011,2012,2013,2014,2015,2016,2017,2018,2019,2020,2021,2022,2023,2024,2025,2026,2027,2028,2029,2030,2031,2032,2033,2034,2035,"zuletzt geändert","wann hinzu-gefügt",null,null,"Kommentar"]
[null,null,null,null,"Eingangsparameter"]
[7,{"$f":"'D-Future Strompreis'!B$6","v":"Referenz"},{"$f":"'D-Future Strompreis'!C$6","v":"fh"},{"$f":"'D-Future Strompreis'!D$6","v":"4,9 -> 6,5 ct/kWh"},"Future-Strompreis (nominal für historische Jahre, real für Prognosejahre) [Euro/MWh]",{"$f":"'D-Future Strompreis'!F$6","v":53.650480000000002},{"$f":"'D-Future Strompreis'!G$6","v":50.739089999999997},{"$f":"'D-Future Strompreis'!H$6","v":55.22},{"$f":"'D-Future Strompreis'!I$6","v":51.15},{"$f":"'D-Future Strompreis'!J$6","v":41.45},{"$f":"'D-Future Strompreis'!K$6","v":35.67},{"$f":"'D-Future Strompreis'!L$6","v":31.26},{"$f":"'D-Future Strompreis'!M$6","v":26.75},{"$f":"'D-Future Strompreis'!N$6","v":32.22},{"$f":"'D-Future Strompreis'!O$6","v":46.28},{"$f":"'D-Future Strompreis'!P$6","v":49.34},{"$f":"'D-Future Strompreis'!Q$6","v":40.74},{"$f":"'D-Future Strompreis'!R$6","v":71.44},{"$f":"'D-Future Strompreis'!S$6","v":63.35},{"$f":"'D-Future Strompreis'!T$6","v":63.487500000000004},{"$f":"'D-Future Strompreis'!U$6","v":63.625},{"$f":"'D-Future Strompreis'!V$6","v":63.762500000000003},{"$f":"'D-Future Strompreis'!W$6","v":63.9},{"$f":"'D-Future Strompreis'!X$6","v":64.037499999999994},{"$f":"'D-Future Strompreis'!Y$6","v":64.174999999999997},{"$f":"'D-Future Strompreis'!Z$6","v":64.3125},{"$f":"'D-Future Strompreis'!AA$6","v":64.45},{"$f":"'D-Future Strompreis'!AB$6","v":64.587500000000006},{"$f":"'D-Future Strompreis'!AC$6","v":64.724999999999994},{"$f":"'D-Future Strompreis'!AD$6","v":64.862499999999997},{"$f":"'D-Future Strompreis'!AE$6","v":65}]
[8,{"$f":"'D-Spot-Skalierungsfaktor'!B$6","v":"Referenz"},{"$f":"'D-Spot-Skalierungsfaktor'!C$6","v":"fh"},{"$f":"'D-Spot-Skalierungsfaktor'!D$6","v":"100%"},"Spot-Skalierungsfaktor [-]",{"$f":"'D-Spot-Skalierungsfaktor'!F$6","v":0},{"$f":"'D-Spot-Skalierungsfaktor'!G$6","v":0},{"$f":"'D-Spot-Skalierungsfaktor'!H$6","v":0},{"$f":"'D-Spot-Skalierungsfaktor'!I$6","v":0.68426197458455529},{"$f":"'D-Spot-Skalierungsfaktor'!J$6","v":0.9},{"$f":"'D-Spot-Skalierungsfaktor'!K$6","v":0.9},{"$f":"'D-Spot-Skalierungsfaktor'!L$6","v":0.9},{"$f":"'D-Spot-Skalierungsfaktor'!M$6","v":0.9},{"$f":"'D-Spot-Skalierungsfaktor'!N$6","v":0.9},{"$f":"'D-Spot-Skalierungsfaktor'!O$6","v":0.9},{"$f":"'D-Spot-Skalierungsfaktor'!P$6","v":0.9},{"$f":"'D-Spot-Skalierungsfaktor'!Q$6","v":1.39},{"$f":"'D-Spot-Skalierungsfaktor'!R$6","v":1},{"$f":"'D-Spot-Skalierungsfaktor'!S$6","v":1},{"$f":"'D-Spot-Skalierungsfaktor'!T$6","v":1},{"$f":"'D-Spot-Skalierungsfaktor'!U$6","v":1},{"$f":"'D-Spot-Skalierungsfaktor'!V$6","v":1},{"$f":"'D-Spot-Skalierungsfaktor'!W$6","v":1},{"$f":"'D-Spot-Skalierungsfaktor'!X$6","v":1},{"$f":"'D-Spot-Skalierungsfaktor'!Y$6","v":1},{"$f":"'D-Spot-Skalierungsfaktor'!Z$6","v":1},{"$f":"'D-Spot-Skalierungsfaktor'!AA$6","v":1},{"$f":"'D-Spot-Skalierungsfaktor'!AB$6","v":1},{"$f":"'D-Spot-Skalierungsfaktor'!AC$6","v":1},{"$f":"'D-Spot-Skalierungsfaktor'!AD$6","v":1},{"$f":"'D-Spot-Skalierungsfaktor'!AE$6","v":1}]
[9,{"$f":"'D-Liquiditätspuffer'!B$6","v":"Referenz"},{"$f":"'D-Liquiditätspuffer'!C$6","v":"fh"},{"$f":"'D-Liquiditätspuffer'!D$6","v":"ÜNB-Umlageberechnungen, danach 6%"},"Liquiditätsreserve [-]",{"$f":"'D-Liquiditätspuffer'!F$6","v":0},{"$f":"'D-Liquiditätspuffer'!G$6","v":0},{"$f":"'D-Liquiditätspuffer'!H$6","v":0.03},{"$f":"'D-Liquiditätspuffer'!I$6","v":0.1},{"$f":"'D-Liquiditätspuffer'!J$6","v":0.1},{"$f":"'D-Liquiditätspuffer'!K$6","v":0.1},{"$f":"'D-Liquiditätspuffer'!L$6","v":0.1},{"$f":"'D-Liquiditätspuffer'!M$6","v":0.06},{"$f":"'D-Liquiditätspuffer'!N$6","v":0.06},{"$f":"'D-Liquiditätspuffer'!O$6","v":0.06},{"$f":"'D-Liquiditätspuffer'!P$6","v":0.08},{"$f":"'D-Liquiditätspuffer'!Q$6","v":0.1},{"$f":"'D-Liquiditätspuffer'!R$6","v":0.06},{"$f":"'D-Liquiditätspuffer'!S$6","v":0.06},{"$f":"'D-Liquiditätspuffer'!T$6","v":0.06},{"$f":"'D-Liquiditätspuffer'!U$6","v":0.06},{"$f":"'D-Liquiditätspuffer'!V$6","v":0.06},{"$f":"'D-Liquiditätspuffer'!W$6","v":0.06},{"$f":"'D-Liquiditätspuffer'!X$6","v":0.06},{"$f":"'D-Liquiditätspuffer'!Y$6","v":0.06},{"$f":"'D-Liquiditätspuffer'!Z$6","v":0.06},{"$f":"'D-Liquiditätspuffer'!AA$6","v":0.06},{"$f":"'D-Liquiditätspuffer'!AB$6","v":0.06},{"$f":"'D-Liquiditätspuffer'!AC$6","v":0.06},{"$f":"'D-Liquiditätspuffer'!AD$6","v":0.06},{"$f":"'D-Liquiditätspuffer'!AE$6","v":0.06}]
[10,{"$f":"'D-Kontostand Vorjahr'!B$6","v":"Historisch"},{"$f":"'D-Kontostand Vorjahr'!C$6","v":"fh"},{"$f":"'D-Kontostand Vorjahr'!D$6","v":"ÜNB-Jahresprognosen"},"Kontostand September (nominal) [Euro]",{"$f":"'D-Kontostand Vorjahr'!F$6","v":0},{"$f":"'D-Kontostand Vorjahr'!G$6","v":-1.11629894236},{"$f":"'D-Kontostand Vorjahr'!H$6","v":-0.71124112144000007},{"$f":"'D-Kontostand Vorjahr'!I$6","v":-2.5889139132900003},{"$f":"'D-Kontostand Vorjahr'!J$6","v":-2.1969250054800002},{"$f":"'D-Kontostand Vorjahr'!K$6","v":1.38074493721},{"$f":"'D-Kontostand Vorjahr'!L$6","v":2.5211899999999998},{"$f":"'D-Kontostand Vorjahr'!M$6","v":1.9478101488699999},{"$f":"'D-Kontostand Vorjahr'!N$6","v":3.3292301430700002},{"$f":"'D-Kontostand Vorjahr'!O$6","v":3.6518353547200002},{"$f":"'D-Kontostand Vorjahr'!P$6","v":2.19040541733},{"$f":"'D-Kontostand Vorjahr'!Q$6","v":-4.0803942770500008},{"$f":"'D-Kontostand Vorjahr'!R$6","v":0},{"$f":"'D-Kontostand Vorjahr'!S$6","v":0},{"$f":"'D-Kontostand Vorjahr'!T$6","v":0},{"$f":"'D-Kontostand Vorjahr'!U$6","v":0},{"$f":"'D-Kontostand Vorjahr'!V$6","v":0},{"$f":"'D-Kontostand Vorjahr'!W$6","v":0},{"$f":"'D-Kontostand Vorjahr'!X$6","v":0},{"$f":"'D-Kontostand Vorjahr'!Y$6","v":0},{"$f":"'D-Kontostand Vorjahr'!Z$6","v":0},{"$f":"'D-Kontostand Vorjahr'!AA$6","v":0},{"$f":"'D-Kontostand Vorjahr'!AB$6","v":0},{"$f":"'D-Kontostand Vorjahr'!AC$6","v":0},{"$f":"'D-Kontostand Vorjahr'!AD$6","v":0},{"$f":"'D-Kontostand Vorjahr'!AE$6","v":0}]
[11,{"$f":"'D-Nettostromverbrauch'!B$6","v":"Referenz"},{"$f":"'D-Nettostromverbrauch'!C$6","v":"fh"},{"$f":"'D-Nettostromverbrauch'!D$6","v":"2021: ÜNB-Umlageberechnung 2020. Danach ansteigend auf 600 TWh in 2030"},"Nettostromverbrauch [TWh]",{"$f":"'D-Nettostromverbrauch'!F$6","v":535.4},{"$f":"'D-Nettostromverbrauch'!G$6","v":536.79999999999995},{"$f":"'D-Nettostromverbrauch'!H$6","v":540.29999999999995},{"$f":"'D-Nettostromverbrauch'!I$6","v":537.10000000000014},{"$f":"'D-Nettostromverbrauch'!J$6","v":529.87864653548297},{"$f":"'D-Nettostromverbrauch'!K$6","v":520.6},{"$f":"'D-Nettostromverbrauch'!L$6","v":511.6},{"$f":"'D-Nettostromverbrauch'!M$6","v":521.90464399999996},{"$f":"'D-Nettostromverbrauch'!N$6","v":524.64},{"$f":"'D-Nettostromverbrauch'!O$6","v":536.23646499999995},{"$f":"'D-Nettostromverbrauch'!P$6","v":538.51776999999993},{"$f":"'D-Nettostromverbrauch'!Q$6","v":518.52683000000002},{"$f":"'D-Nettostromverbrauch'!R$6","v":527.57940444444444},{"$f":"'D-Nettostromverbrauch'!S$6","v":536.63197888888885},{"$f":"'D-Nettostromverbrauch'!T$6","v":545.68455333333327},{"$f":"'D-Nettostromverbrauch'!U$6","v":554.73712777777769},{"$f":"'D-Nettostromverbrauch'!V$6","v":563.7897022222221},{"$f":"'D-Nettostromverbrauch'!W$6","v":572.84227666666652},{"$f":"'D-Nettostromverbrauch'!X$6","v":581.89485111111105},{"$f":"'D-Nettostromverbrauch'!Y$6","v":590.94742555555558},{"$f":"'D-Nettostromverbrauch'!Z$6","v":600},{"$f":"'D-Nettostromverbrauch'!AA$6","v":609.05257444444442},{"$f":"'D-Nettostromverbrauch'!AB$6","v":618.10514888888883},{"$f":"'D-Nettostromverbrauch'!AC$6","v":627.15772333333325},{"$f":"'D-Nettostromverbrauch'!AD$6","v":636.21029777777767},{"$f":"'D-Nettostromverbrauch'!AE$6","v":645.26287222222209}]
[12,{"$f":"'D-Privilegierter Letztverbrauch'!B$6","v":"Referenz"},{"$f":"'D-Privilegierter Letztverbrauch'!C$6","v":"fh"},{"$f":"'D-Privilegierter Letztverbrauch'!D$6","v":"MFP Referenz"},"Privilegierter Letztverbrauch [TWh]",{"$f":"'D-Privilegierter Letztverbrauch'!F$6","v":67.885999999999996},{"$f":"'D-Privilegierter Letztverbrauch'!G$6","v":74.729966079999997},{"$f":"'D-Privilegierter Letztverbrauch'!H$6","v":84.727446},{"$f":"'D-Privilegierter Letztverbrauch'!I$6","v":96.225492000000003},{"$f":"'D-Privilegierter Letztverbrauch'!J$6","v":106.52299099999999},{"$f":"'D-Privilegierter Letztverbrauch'!K$6","v":110.247},{"$f":"'D-Privilegierter Letztverbrauch'!L$6","v":103.9},{"$f":"'D-Privilegierter Letztverbrauch'!M$6","v":114.145597},{"$f":"'D-Privilegierter Letztverbrauch'!N$6","v":114.690017},{"$f":"'D-Privilegierter Letztverbrauch'!O$6","v":113.926688},{"$f":"'D-Privilegierter Letztverbrauch'!P$6","v":116.17166499999999},{"$f":"'D-Privilegierter Letztverbrauch'!Q$6","v":112.73},{"$f":"'D-Privilegierter Letztverbrauch'!R$6","v":111.65},{"$f":"'D-Privilegierter Letztverbrauch'!S$6","v":110.48},{"$f":"'D-Privilegierter Letztverbrauch'!T$6","v":109.19},{"$f":"'D-Privilegierter Letztverbrauch'!U$6","v":107.92},{"$f":"'D-Privilegierter Letztverbrauch'!V$6","v":107.92},{"$f":"'D-Privilegierter Letztverbrauch'!W$6","v":107.92},{"$f":"'D-Privilegierter Letztverbrauch'!X$6","v":107.92},{"$f":"'D-Privilegierter Letztverbrauch'!Y$6","v":107.92},{"$f":"'D-Privilegierter Letztverbrauch'!Z$6","v":107.92},{"$f":"'D-Privilegierter Letztverbrauch'!AA$6","v":107.92},{"$f":"'D-Privilegierter Letztverbrauch'!AB$6","v":107.92},{"$f":"'D-Privilegierter Letztverbrauch'!AC$6","v":107.92},{"$f":"'D-Privilegierter Letztverbrauch'!AD$6","v":107.92},{"$f":"'D-Privilegierter Letztverbrauch'!AE$6","v":107.92}]
[13,{"$f":"'D-Eigenverbrauch fossil Bestand'!B$6","v":"Referenz"},{"$f":"'D-Eigenverbrauch fossil Bestand'!C$6","v":"fh"},{"$f":"'D-Eigenverbrauch fossil Bestand'!D$6","v":"Eigenversorgung nach §61(3) aus ÜNB-Umlageberechnung für 2020"},"Eigenverbrauch fossile Bestandsanlagen [TWh]",{"$f":"'D-Eigenverbrauch fossil Bestand'!F$6","v":66.919000000000011},{"$f":"'D-Eigenverbrauch fossil Bestand'!G$6","v":54.256241999999979},{"$f":"'D-Eigenverbrauch fossil Bestand'!H$6","v":62.173272999999973},{"$f":"'D-Eigenverbrauch fossil Bestand'!I$6","v":52.680143000000065},{"$f":"'D-Eigenverbrauch fossil Bestand'!J$6","v":44.33},{"$f":"'D-Eigenverbrauch fossil Bestand'!K$6","v":57.291305999999999},{"$f":"'D-Eigenverbrauch fossil Bestand'!L$6","v":48.547290999999994},{"$f":"'D-Eigenverbrauch fossil Bestand'!M$6","v":60.951926519999994},{"$f":"'D-Eigenverbrauch fossil Bestand'!N$6","v":61.173551851607797},{"$f":"'D-Eigenverbrauch fossil Bestand'!O$6","v":69.750429999999994},{"$f":"'D-Eigenverbrauch fossil Bestand'!P$6","v":68.086641999999998},{"$f":"'D-Eigenverbrauch fossil Bestand'!Q$6","v":60.732941999999994},{"$f":"'D-Eigenverbrauch fossil Bestand'!R$6","v":60.732941999999994},{"$f":"'D-Eigenverbrauch fossil Bestand'!S$6","v":60.732941999999994},{"$f":"'D-Eigenverbrauch fossil Bestand'!T$6","v":60.732941999999994},{"$f":"'D-Eigenverbrauch fossil Bestand'!U$6","v":60.732941999999994},{"$f":"'D-Eigenverbrauch fossil Bestand'!V$6","v":60.732941999999994},{"$f":"'D-Eigenverbrauch fossil Bestand'!W$6","v":60.732941999999994},{"$f":"'D-Eigenverbrauch fossil Bestand'!X$6","v":60.732941999999994},{"$f":"'D-Eigenverbrauch fossil Bestand'!Y$6","v":60.732941999999994},{"$f":"'D-Eigenverbrauch fossil Bestand'!Z$6","v":60.732941999999994},{"$f":"'D-Eigenverbrauch fossil Bestand'!AA$6","v":60.732941999999994},{"$f":"'D-Eigenverbrauch fossil Bestand'!AB$6","v":60.732941999999994},{"$f":"'D-Eigenverbrauch fossil Bestand'!AC$6","v":60.732941999999994},{"$f":"'D-Eigenverbrauch fossil Bestand'!AD$6","v":60.732941999999994},{"$f":"'D-Eigenverbrauch fossil Bestand'!AE$6","v":60.732941999999994}]
[14,{"$f":"'D-Eigenverbrauch KWK Neue'!B$6","v":"Referenz"},{"$f":"'D-Eigenverbrauch KWK Neue'!C$6","v":"fh"},{"$f":"'D-Eigenverbrauch KWK Neue'!D$6","v":"2021: ÜNB-Umlageberechnungen bis 2025, danach konstant"},"Eigenverbrauch KWK-Neuanlagen [TWh]",{"$f":"'D-Eigenverbrauch KWK Neue'!F$6","v":0},{"$f":"'D-Eigenverbrauch KWK Neue'!G$6","v":0},{"$f":"'D-Eigenverbrauch KWK Neue'!H$6","v":0},{"$f":"'D-Eigenverbrauch KWK Neue'!I$6","v":0},{"$f":"'D-Eigenverbrauch KWK Neue'!J$6","v":0},{"$f":"'D-Eigenverbrauch KWK Neue'!K$6","v":0.2},{"$f":"'D-Eigenverbrauch KWK Neue'!L$6","v":0.52702499999999997},{"$f":"'D-Eigenverbrauch KWK Neue'!M$6","v":0.79537799999999992},{"$f":"'D-Eigenverbrauch KWK Neue'!N$6","v":1.2451939999999999},{"$f":"'D-Eigenverbrauch KWK Neue'!O$6","v":2.9838139999999997},{"$f":"'D-Eigenverbrauch KWK Neue'!P$6","v":3.2852449999999997},{"$f":"'D-Eigenverbrauch KWK Neue'!Q$6","v":5.1942199999999996},{"$f":"'D-Eigenverbrauch KWK Neue'!R$6","v":5.45},{"$f":"'D-Eigenverbrauch KWK Neue'!S$6","v":5.68},{"$f":"'D-Eigenverbrauch KWK Neue'!T$6","v":5.9},{"$f":"'D-Eigenverbrauch KWK Neue'!U$6","v":6.11},{"$f":"'D-Eigenverbrauch KWK Neue'!V$6","v":6.11},{"$f":"'D-Eigenverbrauch KWK Neue'!W$6","v":6.11},{"$f":"'D-Eigenverbrauch KWK Neue'!X$6","v":6.11},{"$f":"'D-Eigenverbrauch KWK Neue'!Y$6","v":6.11},{"$f":"'D-Eigenverbrauch KWK Neue'!Z$6","v":6.11},{"$f":"'D-Eigenverbrauch KWK Neue'!AA$6","v":6.11},{"$f":"'D-Eigenverbrauch KWK Neue'!AB$6","v":6.11},{"$f":"'D-Eigenverbrauch KWK Neue'!AC$6","v":6.11},{"$f":"'D-Eigenverbrauch KWK Neue'!AD$6","v":6.11},{"$f":"'D-Eigenverbrauch KWK Neue'!AE$6","v":6.11}]
[15,{"$f":"'D-Eigenverbrauch fossile Neue'!B$6","v":"Referenz"},{"$f":"'D-Eigenverbrauch fossile Neue'!C$6","v":"fh"},{"$f":"'D-Eigenverbrauch fossile Neue'!D$6","v":"Kein Neubau"},"Eigenverbrauch fossile Nicht-KWK-Neuanlagen [TWh]",{"$f":"'D-Eigenverbrauch fossile Neue'!F$6","v":0},{"$f":"'D-Eigenverbrauch fossile Neue'!G$6","v":0},{"$f":"'D-Eigenverbrauch fossile Neue'!H$6","v":0},{"$f":"'D-Eigenverbrauch fossile Neue'!I$6","v":0},{"$f":"'D-Eigenverbrauch fossile Neue'!J$6","v":0},{"$f":"'D-Eigenverbrauch fossile Neue'!K$6","v":0},{"$f":"'D-Eigenverbrauch fossile Neue'!L$6","v":0},{"$f":"'D-Eigenverbrauch fossile Neue'!M$6","v":1.1745889999999999},{"$f":"'D-Eigenverbrauch fossile Neue'!N$6","v":1.5439479999999999},{"$f":"'D-Eigenverbrauch fossile Neue'!O$6","v":2.5107649999999997},{"$f":"'D-Eigenverbrauch fossile Neue'!P$6","v":3.6564139999999998},{"$f":"'D-Eigenverbrauch fossile Neue'!Q$6","v":3.8827539999999998},{"$f":"'D-Eigenverbrauch fossile Neue'!R$6","v":3.8827539999999998},{"$f":"'D-Eigenverbrauch fossile Neue'!S$6","v":3.8827539999999998},{"$f":"'D-Eigenverbrauch fossile Neue'!T$6","v":3.8827539999999998},{"$f":"'D-Eigenverbrauch fossile Neue'!U$6","v":3.8827539999999998},{"$f":"'D-Eigenverbrauch fossile Neue'!V$6","v":3.8827539999999998},{"$f":"'D-Eigenverbrauch fossile Neue'!W$6","v":3.8827539999999998},{"$f":"'D-Eigenverbrauch fossile Neue'!X$6","v":3.8827539999999998},{"$f":"'D-Eigenverbrauch fossile Neue'!Y$6","v":3.8827539999999998},{"$f":"'D-Eigenverbrauch fossile Neue'!Z$6","v":3.8827539999999998},{"$f":"'D-Eigenverbrauch fossile Neue'!AA$6","v":3.8827539999999998},{"$f":"'D-Eigenverbrauch fossile Neue'!AB$6","v":3.8827539999999998},{"$f":"'D-Eigenverbrauch fossile Neue'!AC$6","v":3.8827539999999998},{"$f":"'D-Eigenverbrauch fossile Neue'!AD$6","v":3.8827539999999998},{"$f":"'D-Eigenverbrauch fossile Neue'!AE$6","v":3.8827539999999998}]
[16,{"$f":"'D-Grünstromprivileg'!B$6","v":"Referenz"},{"$f":"'D-Grünstromprivileg'!C$6","v":"mh"},{"$f":"'D-Grünstromprivileg'!D$6","v":"ÜNB-Jahresprognosen und Prognos 2012; ab 2015 kein Grünstromprivileg mehr"},"Strommenge Grünstromprivileg [TWh]",{"$f":"'D-Grünstromprivileg'!F$6","v":0},{"$f":"'D-Grünstromprivileg'!G$6","v":24.664059639999998},{"$f":"'D-Grünstromprivileg'!H$6","v":6.3188509999999996},{"$f":"'D-Grünstromprivileg'!I$6","v":2.5983429999999998},{"$f":"'D-Grünstromprivileg'!J$6","v":5.9772400000000001},{"$f":"'D-Grünstromprivileg'!K$6","v":0},{"$f":"'D-Grünstromprivileg'!L$6","v":0},{"$f":"'D-Grünstromprivileg'!M$6","v":0},{"$f":"'D-Grünstromprivileg'!N$6","v":0},{"$f":"'D-Grünstromprivileg'!O$6","v":0},{"$f":"'D-Grünstromprivileg'!P$6","v":0},{"$f":"'D-Grünstromprivileg'!Q$6","v":0},{"$f":"'D-Grünstromprivileg'!R$6","v":0},{"$f":"'D-Grünstromprivileg'!S$6","v":0},{"$f":"'D-Grünstromprivileg'!T$6","v":0},{"$f":"'D-Grünstromprivileg'!U$6","v":0},{"$f":"'D-Grünstromprivileg'!V$6","v":0},{"$f":"'D-Grünstromprivileg'!W$6","v":0},{"$f":"'D-Grünstromprivileg'!X$6","v":0},{"$f":"'D-Grünstromprivileg'!Y$6","v":0},{"$f":"'D-Grünstromprivileg'!Z$6","v":0},{"$f":"'D-Grünstromprivileg'!AA$6","v":0},{"$f":"'D-Grünstromprivileg'!AB$6","v":0},{"$f":"'D-Grünstromprivileg'!AC$6","v":0},{"$f":"'D-Grünstromprivileg'!AD$6","v":0},{"$f":"'D-Grünstromprivileg'!AE$6","v":0}]
[17,{"$f":"'D-Umlage priv. Letztverbrauch'!B$6","v":"Referenz"},{"$f":"'D-Umlage priv. Letztverbrauch'!C$6","v":"dr"},{"$f":"'D-Umlage priv. Letztverbrauch'!D$6","v":"15% (gem. EEG 2021)"},"Anteil an Umlage für privilegierte Letztverbraucher [-]",{"$f":"'D-Umlage priv. Letztverbrauch'!F$6","v":2.4421006724375267E-2},{"$f":"'D-Umlage priv. Letztverbrauch'!G$6","v":1.416149742259081E-2},{"$f":"'D-Umlage priv. Letztverbrauch'!H$6","v":1.3920264634567114E-2},{"$f":"'D-Umlage priv. Letztverbrauch'!I$6","v":6.442107437727964E-3},{"$f":"'D-Umlage priv. Letztverbrauch'!J$6","v":2.083534312096447E-2},{"$f":"'D-Umlage priv. Letztverbrauch'!K$6","v":0.15},{"$f":"'D-Umlage priv. Letztverbrauch'!L$6","v":0.15},{"$f":"'D-Umlage priv. Letztverbrauch'!M$6","v":0.15},{"$f":"'D-Umlage priv. Letztverbrauch'!N$6","v":0.15},{"$f":"'D-Umlage priv. Letztverbrauch'!O$6","v":0.15},{"$f":"'D-Umlage priv. Letztverbrauch'!P$6","v":0.15},{"$f":"'D-Umlage priv. Letztverbrauch'!Q$6","v":0.15},{"$f":"'D-Umlage priv. Letztverbrauch'!R$6","v":0.15},{"$f":"'D-Umlage priv. Letztverbrauch'!S$6","v":0.15},{"$f":"'D-Umlage priv. Letztverbrauch'!T$6","v":0.15},{"$f":"'D-Umlage priv. Letztverbrauch'!U$6","v":0.15},{"$f":"'D-Umlage priv. Letztverbrauch'!V$6","v":0.15},{"$f":"'D-Umlage priv. Letztverbrauch'!W$6","v":0.15},{"$f":"'D-Umlage priv. Letztverbrauch'!X$6","v":0.15},{"$f":"'D-Umlage priv. Letztverbrauch'!Y$6","v":0.15},{"$f":"'D-Umlage priv. Letztverbrauch'!Z$6","v":0.15},{"$f":"'D-Umlage priv. Letztverbrauch'!AA$6","v":0.15},{"$f":"'D-Umlage priv. Letztverbrauch'!AB$6","v":0.15},{"$f":"'D-Umlage priv. Letztverbrauch'!AC$6","v":0.15},{"$f":"'D-Umlage priv. Letztverbrauch'!AD$6","v":0.15},{"$f":"'D-Umlage priv. Letztverbrauch'!AE$6","v":0.15}]
[18,{"$f":"'D-Faktor Zusatzprivilegierung'!B$6","v":"Referenz"},{"$f":"'D-Faktor Zusatzprivilegierung'!C$6","v":"fh"},{"$f":"'D-Faktor Zusatzprivilegierung'!D$6","v":"Bis 2021: ÜNB-Umlageberechnungen, danach konstant (wirkt wie vollständige Befreiung von 62% des priv. LV)"},"Faktor für zusätzliche Privilegierungsmechanismen [-]",{"$f":"'D-Faktor Zusatzprivilegierung'!F$6","v":0},{"$f":"'D-Faktor Zusatzprivilegierung'!G$6","v":0},{"$f":"'D-Faktor Zusatzprivilegierung'!H$6","v":0},{"$f":"'D-Faktor Zusatzprivilegierung'!I$6","v":0},{"$f":"'D-Faktor Zusatzprivilegierung'!J$6","v":0},{"$f":"'D-Faktor Zusatzprivilegierung'!K$6","v":0.53400000000000003},{"$f":"'D-Faktor Zusatzprivilegierung'!L$6","v":0.502},{"$f":"'D-Faktor Zusatzprivilegierung'!M$6","v":0.61956606648897039},{"$f":"'D-Faktor Zusatzprivilegierung'!N$6","v":0.59982457576591419},{"$f":"'D-Faktor Zusatzprivilegierung'!O$6","v":0.61796806733819043},{"$f":"'D-Faktor Zusatzprivilegierung'!P$6","v":0.62235249305977924},{"$f":"'D-Faktor Zusatzprivilegierung'!Q$6","v":0.6181753273601267},{"$f":"'D-Faktor Zusatzprivilegierung'!R$6","v":0.6181753273601267},{"$f":"'D-Faktor Zusatzprivilegierung'!S$6","v":0.6181753273601267},{"$f":"'D-Faktor Zusatzprivilegierung'!T$6","v":0.6181753273601267},{"$f":"'D-Faktor Zusatzprivilegierung'!U$6","v":0.6181753273601267},{"$f":"'D-Faktor Zusatzprivilegierung'!V$6","v":0.6181753273601267},{"$f":"'D-Faktor Zusatzprivilegierung'!W$6","v":0.6181753273601267},{"$f":"'D-Faktor Zusatzprivilegierung'!X$6","v":0.6181753273601267},{"$f":"'D-Faktor Zusatzprivilegierung'!Y$6","v":0.6181753273601267},{"$f":"'D-Faktor Zusatzprivilegierung'!Z$6","v":0.6181753273601267},{"$f":"'D-Faktor Zusatzprivilegierung'!AA$6","v":0.6181753273601267},{"$f":"'D-Faktor Zusatzprivilegierung'!AB$6","v":0.6181753273601267},{"$f":"'D-Faktor Zusatzprivilegierung'!AC$6","v":0.6181753273601267},{"$f":"'D-Faktor Zusatzprivilegierung'!AD$6","v":0.6181753273601267},{"$f":"'D-Faktor Zusatzprivilegierung'!AE$6","v":0.6181753273601267}]
[19,null,null,null,"Anteil an Umlage für Eigenverbrauch aus Bestandsanlagen [-]",{"$f":"'D-Umlage EV Bestand'!F$6","v":0},{"$f":"'D-Umlage EV Bestand'!G$6","v":0},{"$f":"'D-Umlage EV Bestand'!H$6","v":0},{"$f":"'D-Umlage EV Bestand'!I$6","v":0},{"$f":"'D-Umlage EV Bestand'!J$6","v":0},{"$f":"'D-Umlage EV Bestand'!K$6","v":0},{"$f":"'D-Umlage EV Bestand'!L$6","v":0},{"$f":"'D-Umlage EV Bestand'!M$6","v":0},{"$f":"'D-Umlage EV Bestand'!N$6","v":0},{"$f":"'D-Umlage EV Bestand'!O$6","v":0},{"$f":"'D-Umlage EV Bestand'!P$6","v":0},{"$f":"'D-Umlage EV Bestand'!Q$6","v":0},{"$f":"'D-Umlage EV Bestand'!R$6","v":0},{"$f":"'D-Umlage EV Bestand'!S$6","v":0},{"$f":"'D-Umlage EV Bestand'!T$6","v":0},{"$f":"'D-Umlage EV Bestand'!U$6","v":0},{"$f":"'D-Umlage EV Bestand'!V$6","v":0},{"$f":"'D-Umlage EV Bestand'!W$6","v":0},{"$f":"'D-Umlage EV Bestand'!X$6","v":0},{"$f":"'D-Umlage EV Bestand'!Y$6","v":0},{"$f":"'D-Umlage EV Bestand'!Z$6","v":0},{"$f":"'D-Umlage EV Bestand'!AA$6","v":0},{"$f":"'D-Umlage EV Bestand'!AB$6","v":0},{"$f":"'D-Umlage EV Bestand'!AC$6","v":0},{"$f":"'D-Umlage EV Bestand'!AD$6","v":0},{"$f":"'D-Umlage EV Bestand'!AE$6","v":0},"v2.1.4","v2.1.4"]
[20,{"$f":"'D-Umlage Eigenverbrauch PV+KWK'!B$6","v":"Referenz"},{"$f":"'D-Umlage Eigenverbrauch PV+KWK'!C$6","v":"mh"},{"$f":"'D-Umlage Eigenverbrauch PV+KWK'!D$6","v":"gem. EEG 2017, ab 2020 konstant 38%"},"Anteil an Umlage für Eigenverbrauch aus Solar- und KWK-Neuanlagen [-]",{"$f":"'D-Umlage Eigenverbrauch PV+KWK'!F$6","v":0},{"$f":"'D-Umlage Eigenverbrauch PV+KWK'!G$6","v":0},{"$f":"'D-Umlage Eigenverbrauch PV+KWK'!H$6","v":0},{"$f":"'D-Umlage Eigenverbrauch PV+KWK'!I$6","v":0},{"$f":"'D-Umlage Eigenverbrauch PV+KWK'!J$6","v":0},{"$f":"'D-Umlage Eigenverbrauch PV+KWK'!K$6","v":0.3},{"$f":"'D-Umlage Eigenverbrauch PV+KWK'!L$6","v":0.35},{"$f":"'D-Umlage Eigenverbrauch PV+KWK'!M$6","v":0.40000062775558548},{"$f":"'D-Umlage Eigenverbrauch PV+KWK'!N$6","v":0.33640703685486462},{"$f":"'D-Umlage Eigenverbrauch PV+KWK'!O$6","v":0.36296708149217022},{"$f":"'D-Umlage Eigenverbrauch PV+KWK'!P$6","v":0.37707011244336597},{"$f":"'D-Umlage Eigenverbrauch PV+KWK'!Q$6","v":0.37707011244336597},{"$f":"'D-Umlage Eigenverbrauch PV+KWK'!R$6","v":0.37707011244336597},{"$f":"'D-Umlage Eigenverbrauch PV+KWK'!S$6","v":0.37707011244336597},{"$f":"'D-Umlage Eigenverbrauch PV+KWK'!T$6","v":0.37707011244336597},{"$f":"'D-Umlage Eigenverbrauch PV+KWK'!U$6","v":0.37707011244336597},{"$f":"'D-Umlage Eigenverbrauch PV+KWK'!V$6","v":0.37707011244336597},{"$f":"'D-Umlage Eigenverbrauch PV+KWK'!W$6","v":0.37707011244336597},{"$f":"'D-Umlage Eigenverbrauch PV+KWK'!X$6","v":0.37707011244336597},{"$f":"'D-Umlage Eigenverbrauch PV+KWK'!Y$6","v":0.37707011244336597},{"$f":"'D-Umlage Eigenverbrauch PV+KWK'!Z$6","v":0.37707011244336597},{"$f":"'D-Umlage Eigenverbrauch PV+KWK'!AA$6","v":0.37707011244336597},{"$f":"'D-Umlage Eigenverbrauch PV+KWK'!AB$6","v":0.37707011244336597},{"$f":"'D-Umlage Eigenverbrauch PV+KWK'!AC$6","v":0.37707011244336597},{"$f":"'D-Umlage Eigenverbrauch PV+KWK'!AD$6","v":0.37707011244336597},{"$f":"'D-Umlage Eigenverbrauch PV+KWK'!AE$6","v":0.37707011244336597}]
[21,{"$f":"'D-Umlage Eigenverb fossile Neue'!B$6","v":"Referenz"},{"$f":"'D-Umlage Eigenverb fossile Neue'!C$6","v":"mh"},{"$f":"'D-Umlage Eigenverb fossile Neue'!D$6","v":"100% (gem. EEG 2014)"},"Anteil an Umlage für Eigenverbrauch aus fossilen Nicht-KWK-Neuanlagen [-]",{"$f":"'D-Umlage Eigenverb fossile Neue'!F$6","v":0},{"$f":"'D-Umlage Eigenverb fossile Neue'!G$6","v":0},{"$f":"'D-Umlage Eigenverb fossile Neue'!H$6","v":0},{"$f":"'D-Umlage Eigenverb fossile Neue'!I$6","v":0},{"$f":"'D-Umlage Eigenverb fossile Neue'!J$6","v":0},{"$f":"'D-Umlage Eigenverb fossile Neue'!K$6","v":1},{"$f":"'D-Umlage Eigenverb fossile Neue'!L$6","v":1},{"$f":"'D-Umlage Eigenverb fossile Neue'!M$6","v":1},{"$f":"'D-Umlage Eigenverb fossile Neue'!N$6","v":1},{"$f":"'D-Umlage Eigenverb fossile Neue'!O$6","v":1},{"$f":"'D-Umlage Eigenverb fossile Neue'!P$6","v":1},{"$f":"'D-Umlage Eigenverb fossile Neue'!Q$6","v":1},{"$f":"'D-Umlage Eigenverb fossile Neue'!R$6","v":1},{"$f":"'D-Umlage Eigenverb fossile Neue'!S$6","v":1},{"$f":"'D-Umlage Eigenverb fossile Neue'!T$6","v":1},{"$f":"'D-Umlage Eigenverb fossile Neue'!U$6","v":1},{"$f":"'D-Umlage Eigenverb fossile Neue'!V$6","v":1},{"$f":"'D-Umlage Eigenverb fossile Neue'!W$6","v":1},{"$f":"'D-Umlage Eigenverb fossile Neue'!X$6","v":1},{"$f":"'D-Umlage Eigenverb fossile Neue'!Y$6","v":1},{"$f":"'D-Umlage Eigenverb fossile Neue'!Z$6","v":1},{"$f":"'D-Umlage Eigenverb fossile Neue'!AA$6","v":1},{"$f":"'D-Umlage Eigenverb fossile Neue'!AB$6","v":1},{"$f":"'D-Umlage Eigenverb fossile Neue'!AC$6","v":1},{"$f":"'D-Umlage Eigenverb fossile Neue'!AD$6","v":1},{"$f":"'D-Umlage Eigenverb fossile Neue'!AE$6","v":1}]
[22,{"$f":"'D-Umlagereduktion Grünstrom'!B$6","v":"Referenz"},{"$f":"'D-Umlagereduktion Grünstrom'!C$6","v":"mh"},{"$f":"'D-Umlagereduktion Grünstrom'!D$6","v":"ÜNB-Jahresprognosen. Abzug von Umlage in Höhe der Umlage (100% Befreiung) von 2009-2011, Abzug von 2ct/kWh in 2012 und 2013."},"Umlagereduktion Grünstromprivileg (nominal) [Euro/MWh]",{"$f":"'D-Umlagereduktion Grünstrom'!F$6","v":20.47},{"$f":"'D-Umlagereduktion Grünstrom'!G$6","v":35.31},{"$f":"'D-Umlagereduktion Grünstrom'!H$6","v":20},{"$f":"'D-Umlagereduktion Grünstrom'!I$6","v":20},{"$f":"'D-Umlagereduktion Grünstrom'!J$6","v":20},{"$f":"'D-Umlagereduktion Grünstrom'!K$6","v":0},{"$f":"'D-Umlagereduktion Grünstrom'!L$6","v":0},{"$f":"'D-Umlagereduktion Grünstrom'!M$6","v":0},{"$f":"'D-Umlagereduktion Grünstrom'!N$6","v":0},{"$f":"'D-Umlagereduktion Grünstrom'!O$6","v":0},{"$f":"'D-Umlagereduktion Grünstrom'!P$6","v":0},{"$f":"'D-Umlagereduktion Grünstrom'!Q$6","v":0},{"$f":"'D-Umlagereduktion Grünstrom'!R$6","v":0},{"$f":"'D-Umlagereduktion Grünstrom'!S$6","v":0},{"$f":"'D-Umlagereduktion Grünstrom'!T$6","v":0},{"$f":"'D-Umlagereduktion Grünstrom'!U$6","v":0},{"$f":"'D-Umlagereduktion Grünstrom'!V$6","v":0},{"$f":"'D-Umlagereduktion Grünstrom'!W$6","v":0},{"$f":"'D-Umlagereduktion Grünstrom'!X$6","v":0},{"$f":"'D-Umlagereduktion Grünstrom'!Y$6","v":0},{"$f":"'D-Umlagereduktion Grünstrom'!Z$6","v":0},{"$f":"'D-Umlagereduktion Grünstrom'!AA$6","v":0},{"$f":"'D-Umlagereduktion Grünstrom'!AB$6","v":0},{"$f":"'D-Umlagereduktion Grünstrom'!AC$6","v":0},{"$f":"'D-Umlagereduktion Grünstrom'!AD$6","v":0},{"$f":"'D-Umlagereduktion Grünstrom'!AE$6","v":0}]
[23,{"$f":"'D-vermiedene Netzentgelte'!B$6","v":"Referenz"},{"$f":"'D-vermiedene Netzentgelte'!C$6","v":"fh"},{"$f":"'D-vermiedene Netzentgelte'!D$6","v":"7.17€/MWh"},"vermiedene Netzentgelte (nominal für historische Jahre, real für Prognosejahre) [Euro/MWh]",{"$f":"'D-vermiedene Netzentgelte'!F$6","v":3.6986274118651017},{"$f":"'D-vermiedene Netzentgelte'!G$6","v":3.67623039746714},{"$f":"'D-vermiedene Netzentgelte'!H$6","v":3.8466309856018386},{"$f":"'D-vermiedene Netzentgelte'!I$6","v":3.7273122127772123},{"$f":"'D-vermiedene Netzentgelte'!J$6","v":4.6460245701332967},{"$f":"'D-vermiedene Netzentgelte'!K$6","v":4.6631872317218352},{"$f":"'D-vermiedene Netzentgelte'!L$6","v":4.8191604494594991},{"$f":"'D-vermiedene Netzentgelte'!M$6","v":7.7231242789896131},{"$f":"'D-vermiedene Netzentgelte'!N$6","v":6.3391841590858826},{"$f":"'D-vermiedene Netzentgelte'!O$6","v":7.3821193026159877},{"$f":"'D-vermiedene Netzentgelte'!P$6","v":7.0575324728422038},{"$f":"'D-vermiedene Netzentgelte'!Q$6","v":7.1727090185728217},{"$f":"'D-vermiedene Netzentgelte'!R$6","v":7.1727090185728217},{"$f":"'D-vermiedene Netzentgelte'!S$6","v":7.1727090185728217},{"$f":"'D-vermiedene Netzentgelte'!T$6","v":7.1727090185728217},{"$f":"'D-vermiedene Netzentgelte'!U$6","v":7.1727090185728217},{"$f":"'D-vermiedene Netzentgelte'!V$6","v":7.1727090185728217},{"$f":"'D-vermiedene Netzentgelte'!W$6","v":7.1727090185728217},{"$f":"'D-vermiedene Netzentgelte'!X$6","v":7.1727090185728217},{"$f":"'D-vermiedene Netzentgelte'!Y$6","v":7.1727090185728217},{"$f":"'D-vermiedene Netzentgelte'!Z$6","v":7.1727090185728217},{"$f":"'D-vermiedene Netzentgelte'!AA$6","v":7.1727090185728217},{"$f":"'D-vermiedene Netzentgelte'!AB$6","v":7.1727090185728217},{"$f":"'D-vermiedene Netzentgelte'!AC$6","v":7.1727090185728217},{"$f":"'D-vermiedene Netzentgelte'!AD$6","v":7.1727090185728217},{"$f":"'D-vermiedene Netzentgelte'!AE$6","v":7.1727090185728217}]
[24,{"$f":"'D-Sonstige Kosten'!B$6","v":"Referenz"},{"$f":"'D-Sonstige Kosten'!C$6","v":"fh"},{"$f":"'D-Sonstige Kosten'!D$6","v":"0,06Mrd. €"},"sonstige Kosten (nominal für historische Jahre, real für Prognosejahre)  [Mrd. Euro]",{"$f":"'D-Sonstige Kosten'!F$6","v":0.38450000000000001},{"$f":"'D-Sonstige Kosten'!G$6","v":0.42218865985000004},{"$f":"'D-Sonstige Kosten'!H$6","v":0.23028867101000003},{"$f":"'D-Sonstige Kosten'!I$6","v":0.15466122681000002},{"$f":"'D-Sonstige Kosten'!J$6","v":0.29887697133000007},{"$f":"'D-Sonstige Kosten'!K$6","v":0.19595140036000003},{"$f":"'D-Sonstige Kosten'!L$6","v":0.13908307713999998},{"$f":"'D-Sonstige Kosten'!M$6","v":0.14340741743000002},{"$f":"'D-Sonstige Kosten'!N$6","v":6.8122188890000004E-2},{"$f":"'D-Sonstige Kosten'!O$6","v":7.0404653730000002E-2},{"$f":"'D-Sonstige Kosten'!P$6","v":6.4167895450000012E-2},{"$f":"'D-Sonstige Kosten'!Q$6","v":5.9920528000000001E-2},{"$f":"'D-Sonstige Kosten'!R$6","v":5.9920528000000001E-2},{"$f":"'D-Sonstige Kosten'!S$6","v":5.9920528000000001E-2},{"$f":"'D-Sonstige Kosten'!T$6","v":5.9920528000000001E-2},{"$f":"'D-Sonstige Kosten'!U$6","v":5.9920528000000001E-2},{"$f":"'D-Sonstige Kosten'!V$6","v":5.9920528000000001E-2},{"$f":"'D-Sonstige Kosten'!W$6","v":5.9920528000000001E-2},{"$f":"'D-Sonstige Kosten'!X$6","v":5.9920528000000001E-2},{"$f":"'D-Sonstige Kosten'!Y$6","v":5.9920528000000001E-2},{"$f":"'D-Sonstige Kosten'!Z$6","v":5.9920528000000001E-2},{"$f":"'D-Sonstige Kosten'!AA$6","v":5.9920528000000001E-2},{"$f":"'D-Sonstige Kosten'!AB$6","v":5.9920528000000001E-2},{"$f":"'D-Sonstige Kosten'!AC$6","v":5.9920528000000001E-2},{"$f":"'D-Sonstige Kosten'!AD$6","v":5.9920528000000001E-2},{"$f":"'D-Sonstige Kosten'!AE$6","v":5.9920528000000001E-2}]
[25,null,null,null,"jährliche Inflationsrate [-]",{"$f":"'D-Inflationsrate'!F6","v":1.1000000000000001E-2},{"$f":"'D-Inflationsrate'!G6","v":2.1000000000000001E-2},{"$f":"'D-Inflationsrate'!H6","v":0.02},{"$f":"'D-Inflationsrate'!I6","v":1.4999999999999999E-2},{"$f":"'D-Inflationsrate'!J6","v":9.0000000000000011E-3},{"$f":"'D-Inflationsrate'!K6","v":3.0000000000000001E-3},{"$f":"'D-Inflationsrate'!L6","v":1.4999999999999999E-2},{"$f":"'D-Inflationsrate'!M6","v":1.4999999999999999E-2},{"$f":"'D-Inflationsrate'!N6","v":1.4999999999999999E-2},{"$f":"'D-Inflationsrate'!O6","v":1.4999999999999999E-2},{"$f":"'D-Inflationsrate'!P6","v":1.4999999999999999E-2},{"$f":"'D-Inflationsrate'!Q6","v":1.4999999999999999E-2},{"$f":"'D-Inflationsrate'!R6","v":1.4999999999999999E-2},{"$f":"'D-Inflationsrate'!S6","v":1.4999999999999999E-2},{"$f":"'D-Inflationsrate'!T6","v":1.4999999999999999E-2},{"$f":"'D-Inflationsrate'!U6","v":1.4999999999999999E-2},{"$f":"'D-Inflationsrate'!V6","v":1.4999999999999999E-2},{"$f":"'D-Inflationsrate'!W6","v":1.4999999999999999E-2},{"$f":"'D-Inflationsrate'!X6","v":1.4999999999999999E-2},{"$f":"'D-Inflationsrate'!Y6","v":1.4999999999999999E-2},{"$f":"'D-Inflationsrate'!Z6","v":1.4999999999999999E-2},{"$f":"'D-Inflationsrate'!AA6","v":1.4999999999999999E-2},{"$f":"'D-Inflationsrate'!AB6","v":1.4999999999999999E-2},{"$f":"'D-Inflationsrate'!AC6","v":1.4999999999999999E-2},{"$f":"'D-Inflationsrate'!AD6","v":1.4999999999999999E-2},{"$f":"'D-Inflationsrate'!AE6","v":1.4999999999999999E-2},"v2.1.11","v2.1.11"]
[26,null,null,null,"Umrechnungsfaktor real  zu nominal [-]",{"$f":"IF(F5<ControlPanel!$D$60,G26/(1+G25),IF(F5>ControlPanel!$D$60,E26*(1+F25),1))","v":0.85490861030867138},{"$f":"IF(G5<ControlPanel!$D$60,H26/(1+H25),IF(G5>ControlPanel!$D$60,F26*(1+G25),1))","v":0.87286169112515344},{"$f":"IF(H5<ControlPanel!$D$60,I26/(1+I25),IF(H5>ControlPanel!$D$60,G26*(1+H25),1))","v":0.89031892494765652},{"$f":"IF(I5<ControlPanel!$D$60,J26/(1+J25),IF(I5>ControlPanel!$D$60,H26*(1+I25),1))","v":0.90367370882187126},{"$f":"IF(J5<ControlPanel!$D$60,K26/(1+K25),IF(J5>ControlPanel!$D$60,I26*(1+J25),1))","v":0.91180677220126805},{"$f":"IF(K5<ControlPanel!$D$60,L26/(1+L25),IF(K5>ControlPanel!$D$60,J26*(1+K25),1))","v":0.91454219251787172},{"$f":"IF(L5<ControlPanel!$D$60,M26/(1+M25),IF(L5>ControlPanel!$D$60,K26*(1+L25),1))","v":0.92826032540563974},{"$f":"IF(M5<ControlPanel!$D$60,N26/(1+N25),IF(M5>ControlPanel!$D$60,L26*(1+M25),1))","v":0.94218423028672427},{"$f":"IF(N5<ControlPanel!$D$60,O26/(1+O25),IF(N5>ControlPanel!$D$60,M26*(1+N25),1))","v":0.95631699374102508},{"$f":"IF(O5<ControlPanel!$D$60,P26/(1+P25),IF(O5>ControlPanel!$D$60,N26*(1+O25),1))","v":0.97066174864714039},{"$f":"IF(P5<ControlPanel!$D$60,Q26/(1+Q25),IF(P5>ControlPanel!$D$60,O26*(1+P25),1))","v":0.98522167487684742},{"$f":"IF(Q5<ControlPanel!$D$60,R26/(1+R25),IF(Q5>ControlPanel!$D$60,P26*(1+Q25),1))","v":1},{"$f":"IF(R5<ControlPanel!$D$60,S26/(1+S25),IF(R5>ControlPanel!$D$60,Q26*(1+R25),1))","v":1.0149999999999999},{"$f":"IF(S5<ControlPanel!$D$60,T26/(1+T25),IF(S5>ControlPanel!$D$60,R26*(1+S25),1))","v":1.0302249999999997},{"$f":"IF(T5<ControlPanel!$D$60,U26/(1+U25),IF(T5>ControlPanel!$D$60,S26*(1+T25),1))","v":1.0456783749999996},{"$f":"IF(U5<ControlPanel!$D$60,V26/(1+V25),IF(U5>ControlPanel!$D$60,T26*(1+U25),1))","v":1.0613635506249994},{"$f":"IF(V5<ControlPanel!$D$60,W26/(1+W25),IF(V5>ControlPanel!$D$60,U26*(1+V25),1))","v":1.0772840038843743},{"$f":"IF(W5<ControlPanel!$D$60,X26/(1+X25),IF(W5>ControlPanel!$D$60,V26*(1+W25),1))","v":1.0934432639426397},{"$f":"IF(X5<ControlPanel!$D$60,Y26/(1+Y25),IF(X5>ControlPanel!$D$60,W26*(1+X25),1))","v":1.1098449129017791},{"$f":"IF(Y5<ControlPanel!$D$60,Z26/(1+Z25),IF(Y5>ControlPanel!$D$60,X26*(1+Y25),1))","v":1.1264925865953057},{"$f":"IF(Z5<ControlPanel!$D$60,AA26/(1+AA25),IF(Z5>ControlPanel!$D$60,Y26*(1+Z25),1))","v":1.1433899753942351},{"$f":"IF(AA5<ControlPanel!$D$60,AB26/(1+AB25),IF(AA5>ControlPanel!$D$60,Z26*(1+AA25),1))","v":1.1605408250251485},{"$f":"IF(AB5<ControlPanel!$D$60,AC26/(1+AC25),IF(AB5>ControlPanel!$D$60,AA26*(1+AB25),1))","v":1.1779489374005256},{"$f":"IF(AC5<ControlPanel!$D$60,AD26/(1+AD25),IF(AC5>ControlPanel!$D$60,AB26*(1+AC25),1))","v":1.1956181714615335},{"$f":"IF(AD5<ControlPanel!$D$60,AE26/(1+AE25),IF(AD5>ControlPanel!$D$60,AC26*(1+AD25),1))","v":1.2135524440334564},{"$f":"IF(AE5<ControlPanel!$D$60,AF26/(1+AF25),IF(AE5>ControlPanel!$D$60,AD26*(1+AE25),1))","v":1.2317557306939582},"v3.1.3","v2.1.11",null,null,"mit diesem Faktor werden reale Zahlungen (bezugsjahr 2015) multipliziert, um sie in nominale Zahlungen umzurechnen."]
[27]
[28,null,null,null,"Profilfaktoren [-]"]
[29,{"$f":"#REF!","v":{"$error":"#REF!"}},{"$f":"#REF!","v":{"$error":"#REF!"}},{"$f":"#REF!","v":{"$error":"#REF!"}},"Wasser",{"$f":"'D-Profilfaktoren'!G$6","v":1},{"$f":"'D-Profilfaktoren'!H$6","v":1},{"$f":"'D-Profilfaktoren'!I$6","v":1},{"$f":"'D-Profilfaktoren'!J$6","v":1},{"$f":"'D-Profilfaktoren'!K$6","v":1},{"$f":"'D-Profilfaktoren'!L$6","v":1},{"$f":"'D-Profilfaktoren'!M$6","v":1},{"$f":"'D-Profilfaktoren'!N$6","v":1},{"$f":"'D-Profilfaktoren'!O$6","v":1},{"$f":"'D-Profilfaktoren'!P$6","v":1},{"$f":"'D-Profilfaktoren'!Q$6","v":1},{"$f":"'D-Profilfaktoren'!R$6","v":1},{"$f":"'D-Profilfaktoren'!S$6","v":1},{"$f":"'D-Profilfaktoren'!T$6","v":1},{"$f":"'D-Profilfaktoren'!U$6","v":1},{"$f":"'D-Profilfaktoren'!V$6","v":1},{"$f":"'D-Profilfaktoren'!W$6","v":1},{"$f":"'D-Profilfaktoren'!X$6","v":1},{"$f":"'D-Profilfaktoren'!Y$6","v":1},{"$f":"'D-Profilfaktoren'!Z$6","v":1},{"$f":"'D-Profilfaktoren'!AA$6","v":1},{"$f":"'D-Profilfaktoren'!AB$6","v":1},{"$f":"'D-Profilfaktoren'!AC$6","v":1},{"$f":"'D-Profilfaktoren'!AD$6","v":1},{"$f":"'D-Profilfaktoren'!AE$6","v":1},{"$f":"'D-Profilfaktoren'!AF$6","v":1}]
[30,{"$f":"#REF!","v":{"$error":"#REF!"}},{"$f":"#REF!","v":{"$error":"#REF!"}},{"$f":"#REF!","v":{"$error":"#REF!"}},"Gas",{"$f":"'D-Profilfaktoren'!G$7","v":1},{"$f":"'D-Profilfaktoren'!H$7","v":1},{"$f":"'D-Profilfaktoren'!I$7","v":1},{"$f":"'D-Profilfaktoren'!J$7","v":1},{"$f":"'D-Profilfaktoren'!K$7","v":1},{"$f":"'D-Profilfaktoren'!L$7","v":1},{"$f":"'D-Profilfaktoren'!M$7","v":1},{"$f":"'D-Profilfaktoren'!N$7","v":1},{"$f":"'D-Profilfaktoren'!O$7","v":1},{"$f":"'D-Profilfaktoren'!P$7","v":1},{"$f":"'D-Profilfaktoren'!Q$7","v":1},{"$f":"'D-Profilfaktoren'!R$7","v":1},{"$f":"'D-Profilfaktoren'!S$7","v":1},{"$f":"'D-Profilfaktoren'!T$7","v":1},{"$f":"'D-Profilfaktoren'!U$7","v":1},{"$f":"'D-Profilfaktoren'!V$7","v":1},{"$f":"'D-Profilfaktoren'!W$7","v":1},{"$f":"'D-Profilfaktoren'!X$7","v":1},{"$f":"'D-Profilfaktoren'!Y$7","v":1},{"$f":"'D-Profilfaktoren'!Z$7","v":1},{"$f":"'D-Profilfaktoren'!AA$7","v":1},{"$f":"'D-Profilfaktoren'!AB$7","v":1},{"$f":"'D-Profilfaktoren'!AC$7","v":1},{"$f":"'D-Profilfaktoren'!AD$7","v":1},{"$f":"'D-Profilfaktoren'!AE$7","v":1},{"$f":"'D-Profilfaktoren'!AF$7","v":1}]
[31,{"$f":"#REF!","v":{"$error":"#REF!"}},{"$f":"#REF!","v":{"$error":"#REF!"}},{"$f":"#REF!","v":{"$error":"#REF!"}},"Biomasse",{"$f":"'D-Profilfaktoren'!G$8","v":1},{"$f":"'D-Profilfaktoren'!H$8","v":1},{"$f":"'D-Profilfaktoren'!I$8","v":1},{"$f":"'D-Profilfaktoren'!J$8","v":1},{"$f":"'D-Profilfaktoren'!K$8","v":1},{"$f":"'D-Profilfaktoren'!L$8","v":1},{"$f":"'D-Profilfaktoren'!M$8","v":1},{"$f":"'D-Profilfaktoren'!N$8","v":1},{"$f":"'D-Profilfaktoren'!O$8","v":1},{"$f":"'D-Profilfaktoren'!P$8","v":1},{"$f":"'D-Profilfaktoren'!Q$8","v":1},{"$f":"'D-Profilfaktoren'!R$8","v":1},{"$f":"'D-Profilfaktoren'!S$8","v":1},{"$f":"'D-Profilfaktoren'!T$8","v":1},{"$f":"'D-Profilfaktoren'!U$8","v":1},{"$f":"'D-Profilfaktoren'!V$8","v":1},{"$f":"'D-Profilfaktoren'!W$8","v":1},{"$f":"'D-Profilfaktoren'!X$8","v":1},{"$f":"'D-Profilfaktoren'!Y$8","v":1},{"$f":"'D-Profilfaktoren'!Z$8","v":1},{"$f":"'D-Profilfaktoren'!AA$8","v":1},{"$f":"'D-Profilfaktoren'!AB$8","v":1},{"$f":"'D-Profilfaktoren'!AC$8","v":1},{"$f":"'D-Profilfaktoren'!AD$8","v":1},{"$f":"'D-Profilfaktoren'!AE$8","v":1},{"$f":"'D-Profilfaktoren'!AF$8","v":1}]
[32,{"$f":"#REF!","v":{"$error":"#REF!"}},{"$f":"#REF!","v":{"$error":"#REF!"}},{"$f":"#REF!","v":{"$error":"#REF!"}},"Geothermie",{"$f":"'D-Profilfaktoren'!G$9","v":1},{"$f":"'D-Profilfaktoren'!H$9","v":1},{"$f":"'D-Profilfaktoren'!I$9","v":1},{"$f":"'D-Profilfaktoren'!J$9","v":1},{"$f":"'D-Profilfaktoren'!K$9","v":1},{"$f":"'D-Profilfaktoren'!L$9","v":1},{"$f":"'D-Profilfaktoren'!M$9","v":1},{"$f":"'D-Profilfaktoren'!N$9","v":1},{"$f":"'D-Profilfaktoren'!O$9","v":1},{"$f":"'D-Profilfaktoren'!P$9","v":1},{"$f":"'D-Profilfaktoren'!Q$9","v":1},{"$f":"'D-Profilfaktoren'!R$9","v":1},{"$f":"'D-Profilfaktoren'!S$9","v":1},{"$f":"'D-Profilfaktoren'!T$9","v":1},{"$f":"'D-Profilfaktoren'!U$9","v":1},{"$f":"'D-Profilfaktoren'!V$9","v":1},{"$f":"'D-Profilfaktoren'!W$9","v":1},{"$f":"'D-Profilfaktoren'!X$9","v":1},{"$f":"'D-Profilfaktoren'!Y$9","v":1},{"$f":"'D-Profilfaktoren'!Z$9","v":1},{"$f":"'D-Profilfaktoren'!AA$9","v":1},{"$f":"'D-Profilfaktoren'!AB$9","v":1},{"$f":"'D-Profilfaktoren'!AC$9","v":1},{"$f":"'D-Profilfaktoren'!AD$9","v":1},{"$f":"'D-Profilfaktoren'!AE$9","v":1},{"$f":"'D-Profilfaktoren'!AF$9","v":1}]
[33,{"$f":"#REF!","v":{"$error":"#REF!"}},{"$f":"#REF!","v":{"$error":"#REF!"}},{"$f":"#REF!","v":{"$error":"#REF!"}},"Wind Onshore",{"$f":"'D-Profilfaktoren'!G$10","v":0.82750000000000001},{"$f":"'D-Profilfaktoren'!H$10","v":0.82},{"$f":"'D-Profilfaktoren'!I$10","v":0.90500000000000003},{"$f":"'D-Profilfaktoren'!J$10","v":0.88900000000000001},{"$f":"'D-Profilfaktoren'!K$10","v":0.85099999999999998},{"$f":"'D-Profilfaktoren'!L$10","v":0.84899999999999998},{"$f":"'D-Profilfaktoren'!M$10","v":0.88},{"$f":"'D-Profilfaktoren'!N$10","v":0.873},{"$f":"'D-Profilfaktoren'!O$10","v":0.82699999999999996},{"$f":"'D-Profilfaktoren'!P$10","v":0.78400000000000003},{"$f":"'D-Profilfaktoren'!Q$10","v":0.89200000000000002},{"$f":"'D-Profilfaktoren'!R$10","v":0.86899999999999999},{"$f":"'D-Profilfaktoren'!S$10","v":0.88600000000000001},{"$f":"'D-Profilfaktoren'!T$10","v":0.879},{"$f":"'D-Profilfaktoren'!U$10","v":0.85199999999999998},{"$f":"'D-Profilfaktoren'!V$10","v":0.89200000000000002},{"$f":"'D-Profilfaktoren'!W$10","v":0.87},{"$f":"'D-Profilfaktoren'!X$10","v":0.84799999999999998},{"$f":"'D-Profilfaktoren'!Y$10","v":0.82599999999999996},{"$f":"'D-Profilfaktoren'!Z$10","v":0.80399999999999994},{"$f":"'D-Profilfaktoren'!AA$10","v":0.78199999999999992},{"$f":"'D-Profilfaktoren'!AB$10","v":0.7599999999999999},{"$f":"'D-Profilfaktoren'!AC$10","v":0.73799999999999988},{"$f":"'D-Profilfaktoren'!AD$10","v":0.71599999999999986},{"$f":"'D-Profilfaktoren'!AE$10","v":0.69399999999999984},{"$f":"'D-Profilfaktoren'!AF$10","v":0.6}]
[34,{"$f":"#REF!","v":{"$error":"#REF!"}},{"$f":"#REF!","v":{"$error":"#REF!"}},{"$f":"#REF!","v":{"$error":"#REF!"}},"Wind Offshore",{"$f":"'D-Profilfaktoren'!G$11","v":0.82750000000000001},{"$f":"'D-Profilfaktoren'!H$11","v":0.82},{"$f":"'D-Profilfaktoren'!I$11","v":1.02},{"$f":"'D-Profilfaktoren'!J$11","v":0.997},{"$f":"'D-Profilfaktoren'!K$11","v":0.91800000000000004},{"$f":"'D-Profilfaktoren'!L$11","v":0.94099999999999995},{"$f":"'D-Profilfaktoren'!M$11","v":0.98},{"$f":"'D-Profilfaktoren'!N$11","v":0.92100000000000004},{"$f":"'D-Profilfaktoren'!O$11","v":0.90600000000000003},{"$f":"'D-Profilfaktoren'!P$11","v":0.91300000000000003},{"$f":"'D-Profilfaktoren'!Q$11","v":0.92200000000000004},{"$f":"'D-Profilfaktoren'!R$11","v":0.88800000000000001},{"$f":"'D-Profilfaktoren'!S$11","v":0.90400000000000003},{"$f":"'D-Profilfaktoren'!T$11","v":0.89600000000000002},{"$f":"'D-Profilfaktoren'!U$11","v":0.878},{"$f":"'D-Profilfaktoren'!V$11","v":0.92200000000000004},{"$f":"'D-Profilfaktoren'!W$11","v":0.90630769230769237},{"$f":"'D-Profilfaktoren'!X$11","v":0.8906153846153847},{"$f":"'D-Profilfaktoren'!Y$11","v":0.87492307692307703},{"$f":"'D-Profilfaktoren'!Z$11","v":0.85923076923076935},{"$f":"'D-Profilfaktoren'!AA$11","v":0.84353846153846168},{"$f":"'D-Profilfaktoren'!AB$11","v":0.82784615384615401},{"$f":"'D-Profilfaktoren'!AC$11","v":0.81215384615384634},{"$f":"'D-Profilfaktoren'!AD$11","v":0.79646153846153867},{"$f":"'D-Profilfaktoren'!AE$11","v":0.78076923076923099},{"$f":"'D-Profilfaktoren'!AF$11","v":0.7}]
[35,{"$f":"#REF!","v":{"$error":"#REF!"}},{"$f":"#REF!","v":{"$error":"#REF!"}},{"$f":"#REF!","v":{"$error":"#REF!"}},"Solar",{"$f":"'D-Profilfaktoren'!G$12","v":1.2},{"$f":"'D-Profilfaktoren'!H$12","v":1.2},{"$f":"'D-Profilfaktoren'!I$12","v":1.046},{"$f":"'D-Profilfaktoren'!J$12","v":0.98099999999999998},{"$f":"'D-Profilfaktoren'!K$12","v":1.0109999999999999},{"$f":"'D-Profilfaktoren'!L$12","v":0.84899999999999998},{"$f":"'D-Profilfaktoren'!M$12","v":0.98},{"$f":"'D-Profilfaktoren'!N$12","v":0.997},{"$f":"'D-Profilfaktoren'!O$12","v":0.95},{"$f":"'D-Profilfaktoren'!P$12","v":0.98899999999999999},{"$f":"'D-Profilfaktoren'!Q$12","v":0.95299999999999996},{"$f":"'D-Profilfaktoren'!R$12","v":0.91500000000000004},{"$f":"'D-Profilfaktoren'!S$12","v":0.88200000000000001},{"$f":"'D-Profilfaktoren'!T$12","v":0.86899999999999999},{"$f":"'D-Profilfaktoren'!U$12","v":0.86399999999999999},{"$f":"'D-Profilfaktoren'!V$12","v":0.95299999999999996},{"$f":"'D-Profilfaktoren'!W$12","v":0.93130769230769228},{"$f":"'D-Profilfaktoren'!X$12","v":0.9096153846153846},{"$f":"'D-Profilfaktoren'!Y$12","v":0.88792307692307693},{"$f":"'D-Profilfaktoren'!Z$12","v":0.86623076923076925},{"$f":"'D-Profilfaktoren'!AA$12","v":0.84453846153846157},{"$f":"'D-Profilfaktoren'!AB$12","v":0.82284615384615389},{"$f":"'D-Profilfaktoren'!AC$12","v":0.80115384615384622},{"$f":"'D-Profilfaktoren'!AD$12","v":0.77946153846153854},{"$f":"'D-Profilfaktoren'!AE$12","v":0.75776923076923086},{"$f":"'D-Profilfaktoren'!AF$12","v":0.6}]
[36]
["36.01",null,null,null,"Profilfaktoren ÜNB Marktprämie [-]",null,null,null,null,null,null,null,null,null,null,null,null,null,null,null,null,null,null,null,null,null,null,null,null,null,null,null,null,null,null,"neu hinzugefügt"]
["36.02",{"$f":"#REF!","v":{"$error":"#REF!"}},{"$f":"#REF!","v":{"$error":"#REF!"}},{"$f":"#REF!","v":{"$error":"#REF!"}},"Wasser",{"$f":"'D-Profilfaktoren_Marktprämie'!G6","v":0},{"$f":"'D-Profilfaktoren_Marktprämie'!H6","v":0},{"$f":"'D-Profilfaktoren_Marktprämie'!I6","v":0.997},{"$f":"'D-Profilfaktoren_Marktprämie'!J6","v":0.99499999999999988},{"$f":"'D-Profilfaktoren_Marktprämie'!K6","v":0.999},{"$f":"'D-Profilfaktoren_Marktprämie'!L6","v":0.98105590087551808},{"$f":"'D-Profilfaktoren_Marktprämie'!M6","v":0.9956912515825258},{"$f":"'D-Profilfaktoren_Marktprämie'!N6","v":1.0116209702340726},{"$f":"'D-Profilfaktoren_Marktprämie'!O6","v":0.9709722384042121},{"$f":"'D-Profilfaktoren_Marktprämie'!P6","v":0.86677709396424174},{"$f":"'D-Profilfaktoren_Marktprämie'!Q6","v":0.90209234807398175},{"$f":"'D-Profilfaktoren_Marktprämie'!R6","v":0.856711414157037},{"$f":"'D-Profilfaktoren_Marktprämie'!S6","v":0},{"$f":"'D-Profilfaktoren_Marktprämie'!T6","v":0},{"$f":"'D-Profilfaktoren_Marktprämie'!U6","v":0},{"$f":"'D-Profilfaktoren_Marktprämie'!V6","v":0},{"$f":"'D-Profilfaktoren_Marktprämie'!W6","v":0},{"$f":"'D-Profilfaktoren_Marktprämie'!X6","v":0},{"$f":"'D-Profilfaktoren_Marktprämie'!Y6","v":0},{"$f":"'D-Profilfaktoren_Marktprämie'!Z6","v":0},{"$f":"'D-Profilfaktoren_Marktprämie'!AA6","v":0},{"$f":"'D-Profilfaktoren_Marktprämie'!AB6","v":0},{"$f":"'D-Profilfaktoren_Marktprämie'!AC6","v":0},{"$f":"'D-Profilfaktoren_Marktprämie'!AD6","v":0},{"$f":"'D-Profilfaktoren_Marktprämie'!AE6","v":0},{"$f":"'D-Profilfaktoren_Marktprämie'!AF6","v":0},null,null,null,null,"neu hinzugefügt"]
["36.03",{"$f":"#REF!","v":{"$error":"#REF!"}},{"$f":"#REF!","v":{"$error":"#REF!"}},{"$f":"#REF!","v":{"$error":"#REF!"}},"Gas",{"$f":"'D-Profilfaktoren_Marktprämie'!G7","v":0},{"$f":"'D-Profilfaktoren_Marktprämie'!H7","v":0},{"$f":"'D-Profilfaktoren_Marktprämie'!I7","v":1},{"$f":"'D-Profilfaktoren_Marktprämie'!J7","v":1},{"$f":"'D-Profilfaktoren_Marktprämie'!K7","v":1.0009999999999999},{"$f":"'D-Profilfaktoren_Marktprämie'!L7","v":0.97717321179556171},{"$f":"'D-Profilfaktoren_Marktprämie'!M7","v":1.0002629114025319},{"$f":"'D-Profilfaktoren_Marktprämie'!N7","v":1.0049373882866919},{"$f":"'D-Profilfaktoren_Marktprämie'!O7","v":0.97058959073921358},{"$f":"'D-Profilfaktoren_Marktprämie'!P7","v":0.86662455275027428},{"$f":"'D-Profilfaktoren_Marktprämie'!Q7","v":0.90281181980152869},{"$f":"'D-Profilfaktoren_Marktprämie'!R7","v":0.8571700494579414},{"$f":"'D-Profilfaktoren_Marktprämie'!S7","v":0},{"$f":"'D-Profilfaktoren_Marktprämie'!T7","v":0},{"$f":"'D-Profilfaktoren_Marktprämie'!U7","v":0},{"$f":"'D-Profilfaktoren_Marktprämie'!V7","v":0},{"$f":"'D-Profilfaktoren_Marktprämie'!W7","v":0},{"$f":"'D-Profilfaktoren_Marktprämie'!X7","v":0},{"$f":"'D-Profilfaktoren_Marktprämie'!Y7","v":0},{"$f":"'D-Profilfaktoren_Marktprämie'!Z7","v":0},{"$f":"'D-Profilfaktoren_Marktprämie'!AA7","v":0},{"$f":"'D-Profilfaktoren_Marktprämie'!AB7","v":0},{"$f":"'D-Profilfaktoren_Marktprämie'!AC7","v":0},{"$f":"'D-Profilfaktoren_Marktprämie'!AD7","v":0},{"$f":"'D-Profilfaktoren_Marktprämie'!AE7","v":0},{"$f":"'D-Profilfaktoren_Marktprämie'!AF7","v":0},null,null,null,null,"neu hinzugefügt"]
["36.04",{"$f":"#REF!","v":{"$error":"#REF!"}},{"$f":"#REF!","v":{"$error":"#REF!"}},{"$f":"#REF!","v":{"$error":"#REF!"}},"Biomasse",{"$f":"'D-Profilfaktoren_Marktprämie'!G8","v":0},{"$f":"'D-Profilfaktoren_Marktprämie'!H8","v":0},{"$f":"'D-Profilfaktoren_Marktprämie'!I8","v":1},{"$f":"'D-Profilfaktoren_Marktprämie'!J8","v":1},{"$f":"'D-Profilfaktoren_Marktprämie'!K8","v":1},{"$f":"'D-Profilfaktoren_Marktprämie'!L8","v":0.97709594916872755},{"$f":"'D-Profilfaktoren_Marktprämie'!M8","v":1.0002385970999215},{"$f":"'D-Profilfaktoren_Marktprämie'!N8","v":1.0063944731686187},{"$f":"'D-Profilfaktoren_Marktprämie'!O8","v":0.9705803052660652},{"$f":"'D-Profilfaktoren_Marktprämie'!P8","v":0.86662613565660029},{"$f":"'D-Profilfaktoren_Marktprämie'!Q8","v":0.903426744754666},{"$f":"'D-Profilfaktoren_Marktprämie'!R8","v":0.85645616834366967},{"$f":"'D-Profilfaktoren_Marktprämie'!S8","v":0},{"$f":"'D-Profilfaktoren_Marktprämie'!T8","v":0},{"$f":"'D-Profilfaktoren_Marktprämie'!U8","v":0},{"$f":"'D-Profilfaktoren_Marktprämie'!V8","v":0},{"$f":"'D-Profilfaktoren_Marktprämie'!W8","v":0},{"$f":"'D-Profilfaktoren_Marktprämie'!X8","v":0},{"$f":"'D-Profilfaktoren_Marktprämie'!Y8","v":0},{"$f":"'D-Profilfaktoren_Marktprämie'!Z8","v":0},{"$f":"'D-Profilfaktoren_Marktprämie'!AA8","v":0},{"$f":"'D-Profilfaktoren_Marktprämie'!AB8","v":0},{"$f":"'D-Profilfaktoren_Marktprämie'!AC8","v":0},{"$f":"'D-Profilfaktoren_Marktprämie'!AD8","v":0},{"$f":"'D-Profilfaktoren_Marktprämie'!AE8","v":0},{"$f":"'D-Profilfaktoren_Marktprämie'!AF8","v":0},null,null,null,null,"neu hinzugefügt"]
["36.05",{"$f":"#REF!","v":{"$error":"#REF!"}},{"$f":"#REF!","v":{"$error":"#REF!"}},{"$f":"#REF!","v":{"$error":"#REF!"}},"Geothermie",{"$f":"'D-Profilfaktoren_Marktprämie'!G9","v":0},{"$f":"'D-Profilfaktoren_Marktprämie'!H9","v":0},{"$f":"'D-Profilfaktoren_Marktprämie'!I9","v":1},{"$f":"'D-Profilfaktoren_Marktprämie'!J9","v":1},{"$f":"'D-Profilfaktoren_Marktprämie'!K9","v":1.0009999999999999},{"$f":"'D-Profilfaktoren_Marktprämie'!L9","v":0.9704087662222286},{"$f":"'D-Profilfaktoren_Marktprämie'!M9","v":1.0002616235355399},{"$f":"'D-Profilfaktoren_Marktprämie'!N9","v":1.0008007458944923},{"$f":"'D-Profilfaktoren_Marktprämie'!O9","v":0.9576555779076602},{"$f":"'D-Profilfaktoren_Marktprämie'!P9","v":0.86672159719942365},{"$f":"'D-Profilfaktoren_Marktprämie'!Q9","v":0.90252197726556671},{"$f":"'D-Profilfaktoren_Marktprämie'!R9","v":0.85439545882115719},{"$f":"'D-Profilfaktoren_Marktprämie'!S9","v":0},{"$f":"'D-Profilfaktoren_Marktprämie'!T9","v":0},{"$f":"'D-Profilfaktoren_Marktprämie'!U9","v":0},{"$f":"'D-Profilfaktoren_Marktprämie'!V9","v":0},{"$f":"'D-Profilfaktoren_Marktprämie'!W9","v":0},{"$f":"'D-Profilfaktoren_Marktprämie'!X9","v":0},{"$f":"'D-Profilfaktoren_Marktprämie'!Y9","v":0},{"$f":"'D-Profilfaktoren_Marktprämie'!Z9","v":0},{"$f":"'D-Profilfaktoren_Marktprämie'!AA9","v":0},{"$f":"'D-Profilfaktoren_Marktprämie'!AB9","v":0},{"$f":"'D-Profilfaktoren_Marktprämie'!AC9","v":0},{"$f":"'D-Profilfaktoren_Marktprämie'!AD9","v":0},{"$f":"'D-Profilfaktoren_Marktprämie'!AE9","v":0},{"$f":"'D-Profilfaktoren_Marktprämie'!AF9","v":0},null,null,null,null,"neu hinzugefügt"]
["36.06",{"$f":"#REF!","v":{"$error":"#REF!"}},{"$f":"#REF!","v":{"$error":"#REF!"}},{"$f":"#REF!","v":{"$error":"#REF!"}},"Wind Onshore",{"$f":"'D-Profilfaktoren_Marktprämie'!G10","v":0},{"$f":"'D-Profilfaktoren_Marktprämie'!H10","v":0},{"$f":"'D-Profilfaktoren_Marktprämie'!I10","v":0.90500000000000003},{"$f":"'D-Profilfaktoren_Marktprämie'!J10","v":0.88900000000000012},{"$f":"'D-Profilfaktoren_Marktprämie'!K10","v":0.85099999999999998},{"$f":"'D-Profilfaktoren_Marktprämie'!L10","v":0.87804199451939391},{"$f":"'D-Profilfaktoren_Marktprämie'!M10","v":0.88474320646636939},{"$f":"'D-Profilfaktoren_Marktprämie'!N10","v":0.88556376387505709},{"$f":"'D-Profilfaktoren_Marktprämie'!O10","v":0.79928775421656872},{"$f":"'D-Profilfaktoren_Marktprämie'!P10","v":0.67846507330943984},{"$f":"'D-Profilfaktoren_Marktprämie'!Q10","v":0.76098384865625657},{"$f":"'D-Profilfaktoren_Marktprämie'!R10","v":0.74498851826199786},{"$f":"'D-Profilfaktoren_Marktprämie'!S10","v":0},{"$f":"'D-Profilfaktoren_Marktprämie'!T10","v":0},{"$f":"'D-Profilfaktoren_Marktprämie'!U10","v":0},{"$f":"'D-Profilfaktoren_Marktprämie'!V10","v":0},{"$f":"'D-Profilfaktoren_Marktprämie'!W10","v":0},{"$f":"'D-Profilfaktoren_Marktprämie'!X10","v":0},{"$f":"'D-Profilfaktoren_Marktprämie'!Y10","v":0},{"$f":"'D-Profilfaktoren_Marktprämie'!Z10","v":0},{"$f":"'D-Profilfaktoren_Marktprämie'!AA10","v":0},{"$f":"'D-Profilfaktoren_Marktprämie'!AB10","v":0},{"$f":"'D-Profilfaktoren_Marktprämie'!AC10","v":0},{"$f":"'D-Profilfaktoren_Marktprämie'!AD10","v":0},{"$f":"'D-Profilfaktoren_Marktprämie'!AE10","v":0},{"$f":"'D-Profilfaktoren_Marktprämie'!AF10","v":0},null,null,null,null,"neu hinzugefügt"]
["36.07",{"$f":"#REF!","v":{"$error":"#REF!"}},{"$f":"#REF!","v":{"$error":"#REF!"}},{"$f":"#REF!","v":{"$error":"#REF!"}},"Wind Offshore",{"$f":"'D-Profilfaktoren_Marktprämie'!G11","v":0},{"$f":"'D-Profilfaktoren_Marktprämie'!H11","v":0},{"$f":"'D-Profilfaktoren_Marktprämie'!I11","v":1.02},{"$f":"'D-Profilfaktoren_Marktprämie'!J11","v":0.997},{"$f":"'D-Profilfaktoren_Marktprämie'!K11","v":0.91799999999999993},{"$f":"'D-Profilfaktoren_Marktprämie'!L11","v":0.93555612050472214},{"$f":"'D-Profilfaktoren_Marktprämie'!M11","v":0.9825534567397779},{"$f":"'D-Profilfaktoren_Marktprämie'!N11","v":0.92131005898091034},{"$f":"'D-Profilfaktoren_Marktprämie'!O11","v":0.88317632340840491},{"$f":"'D-Profilfaktoren_Marktprämie'!P11","v":0.79026862178293367},{"$f":"'D-Profilfaktoren_Marktprämie'!Q11","v":0.78878831448197484},{"$f":"'D-Profilfaktoren_Marktprämie'!R11","v":0.76115118938091875},{"$f":"'D-Profilfaktoren_Marktprämie'!S11","v":0},{"$f":"'D-Profilfaktoren_Marktprämie'!T11","v":0},{"$f":"'D-Profilfaktoren_Marktprämie'!U11","v":0},{"$f":"'D-Profilfaktoren_Marktprämie'!V11","v":0},{"$f":"'D-Profilfaktoren_Marktprämie'!W11","v":0},{"$f":"'D-Profilfaktoren_Marktprämie'!X11","v":0},{"$f":"'D-Profilfaktoren_Marktprämie'!Y11","v":0},{"$f":"'D-Profilfaktoren_Marktprämie'!Z11","v":0},{"$f":"'D-Profilfaktoren_Marktprämie'!AA11","v":0},{"$f":"'D-Profilfaktoren_Marktprämie'!AB11","v":0},{"$f":"'D-Profilfaktoren_Marktprämie'!AC11","v":0},{"$f":"'D-Profilfaktoren_Marktprämie'!AD11","v":0},{"$f":"'D-Profilfaktoren_Marktprämie'!AE11","v":0},{"$f":"'D-Profilfaktoren_Marktprämie'!AF11","v":0},null,null,null,null,"neu hinzugefügt"]
["36.08",{"$f":"#REF!","v":{"$error":"#REF!"}},{"$f":"#REF!","v":{"$error":"#REF!"}},{"$f":"#REF!","v":{"$error":"#REF!"}},"Solar",{"$f":"'D-Profilfaktoren_Marktprämie'!G12","v":0},{"$f":"'D-Profilfaktoren_Marktprämie'!H12","v":0},{"$f":"'D-Profilfaktoren_Marktprämie'!I12","v":1.046},{"$f":"'D-Profilfaktoren_Marktprämie'!J12","v":0.98100000000000009},{"$f":"'D-Profilfaktoren_Marktprämie'!K12","v":1.0109999999999999},{"$f":"'D-Profilfaktoren_Marktprämie'!L12","v":0.94011333796182017},{"$f":"'D-Profilfaktoren_Marktprämie'!M12","v":0.97823510223085741},{"$f":"'D-Profilfaktoren_Marktprämie'!N12","v":1.0007946618334671},{"$f":"'D-Profilfaktoren_Marktprämie'!O12","v":0.9155231610892961},{"$f":"'D-Profilfaktoren_Marktprämie'!P12","v":0.85632717217267751},{"$f":"'D-Profilfaktoren_Marktprämie'!Q12","v":0.8187078708852541},{"$f":"'D-Profilfaktoren_Marktprämie'!R12","v":0.78547462477492302},{"$f":"'D-Profilfaktoren_Marktprämie'!S12","v":0},{"$f":"'D-Profilfaktoren_Marktprämie'!T12","v":0},{"$f":"'D-Profilfaktoren_Marktprämie'!U12","v":0},{"$f":"'D-Profilfaktoren_Marktprämie'!V12","v":0},{"$f":"'D-Profilfaktoren_Marktprämie'!W12","v":0},{"$f":"'D-Profilfaktoren_Marktprämie'!X12","v":0},{"$f":"'D-Profilfaktoren_Marktprämie'!Y12","v":0},{"$f":"'D-Profilfaktoren_Marktprämie'!Z12","v":0},{"$f":"'D-Profilfaktoren_Marktprämie'!AA12","v":0},{"$f":"'D-Profilfaktoren_Marktprämie'!AB12","v":0},{"$f":"'D-Profilfaktoren_Marktprämie'!AC12","v":0},{"$f":"'D-Profilfaktoren_Marktprämie'!AD12","v":0},{"$f":"'D-Profilfaktoren_Marktprämie'!AE12","v":0},{"$f":"'D-Profilfaktoren_Marktprämie'!AF12","v":0},null,null,null,null,"neu hinzugefügt"]
["36.09"]
[37,null,null,null,"Dargebotsfaktor [-]"]
[38,{"$f":"'D-Dargebotsfaktor'!C$6","v":"Referenz"},{"$f":"'D-Dargebotsfaktor'!D$6","v":"mh"},{"$f":"'D-Dargebotsfaktor'!E$6","v":"100%"},"Wasser",{"$f":"'D-Dargebotsfaktor'!G$6","v":0},{"$f":"'D-Dargebotsfaktor'!H$6","v":0},{"$f":"'D-Dargebotsfaktor'!I$6","v":0},{"$f":"'D-Dargebotsfaktor'!J$6","v":0},{"$f":"'D-Dargebotsfaktor'!K$6","v":1},{"$f":"'D-Dargebotsfaktor'!L$6","v":1},{"$f":"'D-Dargebotsfaktor'!M$6","v":1},{"$f":"'D-Dargebotsfaktor'!N$6","v":1},{"$f":"'D-Dargebotsfaktor'!O$6","v":1},{"$f":"'D-Dargebotsfaktor'!P$6","v":1},{"$f":"'D-Dargebotsfaktor'!Q$6","v":1},{"$f":"'D-Dargebotsfaktor'!R$6","v":1},{"$f":"'D-Dargebotsfaktor'!S$6","v":1},{"$f":"'D-Dargebotsfaktor'!T$6","v":1},{"$f":"'D-Dargebotsfaktor'!U$6","v":1},{"$f":"'D-Dargebotsfaktor'!V$6","v":1},{"$f":"'D-Dargebotsfaktor'!W$6","v":1},{"$f":"'D-Dargebotsfaktor'!X$6","v":1},{"$f":"'D-Dargebotsfaktor'!Y$6","v":1},{"$f":"'D-Dargebotsfaktor'!Z$6","v":1},{"$f":"'D-Dargebotsfaktor'!AA$6","v":1},{"$f":"'D-Dargebotsfaktor'!AB$6","v":1},{"$f":"'D-Dargebotsfaktor'!AC$6","v":1},{"$f":"'D-Dargebotsfaktor'!AD$6","v":1},{"$f":"'D-Dargebotsfaktor'!AE$6","v":1},{"$f":"'D-Dargebotsfaktor'!AF$6","v":1}]
[39,{"$f":"'D-Dargebotsfaktor'!C$7","v":"Referenz"},{"$f":"'D-Dargebotsfaktor'!D$7","v":"mh"},{"$f":"'D-Dargebotsfaktor'!E$7","v":"100%"},"Gas",{"$f":"'D-Dargebotsfaktor'!G$7","v":0},{"$f":"'D-Dargebotsfaktor'!H$7","v":0},{"$f":"'D-Dargebotsfaktor'!I$7","v":0},{"$f":"'D-Dargebotsfaktor'!J$7","v":0},{"$f":"'D-Dargebotsfaktor'!K$7","v":1},{"$f":"'D-Dargebotsfaktor'!L$7","v":1},{"$f":"'D-Dargebotsfaktor'!M$7","v":1},{"$f":"'D-Dargebotsfaktor'!N$7","v":1},{"$f":"'D-Dargebotsfaktor'!O$7","v":1},{"$f":"'D-Dargebotsfaktor'!P$7","v":1},{"$f":"'D-Dargebotsfaktor'!Q$7","v":1},{"$f":"'D-Dargebotsfaktor'!R$7","v":1},{"$f":"'D-Dargebotsfaktor'!S$7","v":1},{"$f":"'D-Dargebotsfaktor'!T$7","v":1},{"$f":"'D-Dargebotsfaktor'!U$7","v":1},{"$f":"'D-Dargebotsfaktor'!V$7","v":1},{"$f":"'D-Dargebotsfaktor'!W$7","v":1},{"$f":"'D-Dargebotsfaktor'!X$7","v":1},{"$f":"'D-Dargebotsfaktor'!Y$7","v":1},{"$f":"'D-Dargebotsfaktor'!Z$7","v":1},{"$f":"'D-Dargebotsfaktor'!AA$7","v":1},{"$f":"'D-Dargebotsfaktor'!AB$7","v":1},{"$f":"'D-Dargebotsfaktor'!AC$7","v":1},{"$f":"'D-Dargebotsfaktor'!AD$7","v":1},{"$f":"'D-Dargebotsfaktor'!AE$7","v":1},{"$f":"'D-Dargebotsfaktor'!AF$7","v":1}]
[40,{"$f":"'D-Dargebotsfaktor'!C$8","v":"Referenz"},{"$f":"'D-Dargebotsfaktor'!D$8","v":"mh"},{"$f":"'D-Dargebotsfaktor'!E$8","v":"100%"},"Biomasse",{"$f":"'D-Dargebotsfaktor'!G$8","v":0},{"$f":"'D-Dargebotsfaktor'!H$8","v":0},{"$f":"'D-Dargebotsfaktor'!I$8","v":0},{"$f":"'D-Dargebotsfaktor'!J$8","v":0},{"$f":"'D-Dargebotsfaktor'!K$8","v":1},{"$f":"'D-Dargebotsfaktor'!L$8","v":1},{"$f":"'D-Dargebotsfaktor'!M$8","v":1},{"$f":"'D-Dargebotsfaktor'!N$8","v":1},{"$f":"'D-Dargebotsfaktor'!O$8","v":1},{"$f":"'D-Dargebotsfaktor'!P$8","v":1},{"$f":"'D-Dargebotsfaktor'!Q$8","v":1},{"$f":"'D-Dargebotsfaktor'!R$8","v":1},{"$f":"'D-Dargebotsfaktor'!S$8","v":1},{"$f":"'D-Dargebotsfaktor'!T$8","v":1},{"$f":"'D-Dargebotsfaktor'!U$8","v":1},{"$f":"'D-Dargebotsfaktor'!V$8","v":1},{"$f":"'D-Dargebotsfaktor'!W$8","v":1},{"$f":"'D-Dargebotsfaktor'!X$8","v":1},{"$f":"'D-Dargebotsfaktor'!Y$8","v":1},{"$f":"'D-Dargebotsfaktor'!Z$8","v":1},{"$f":"'D-Dargebotsfaktor'!AA$8","v":1},{"$f":"'D-Dargebotsfaktor'!AB$8","v":1},{"$f":"'D-Dargebotsfaktor'!AC$8","v":1},{"$f":"'D-Dargebotsfaktor'!AD$8","v":1},{"$f":"'D-Dargebotsfaktor'!AE$8","v":1},{"$f":"'D-Dargebotsfaktor'!AF$8","v":1}]
[41,{"$f":"'D-Dargebotsfaktor'!C$9","v":"Referenz"},{"$f":"'D-Dargebotsfaktor'!D$9","v":"mh"},{"$f":"'D-Dargebotsfaktor'!E$9","v":"100%"},"Geothermie",{"$f":"'D-Dargebotsfaktor'!G$9","v":0},{"$f":"'D-Dargebotsfaktor'!H$9","v":0},{"$f":"'D-Dargebotsfaktor'!I$9","v":0},{"$f":"'D-Dargebotsfaktor'!J$9","v":0},{"$f":"'D-Dargebotsfaktor'!K$9","v":1},{"$f":"'D-Dargebotsfaktor'!L$9","v":1},{"$f":"'D-Dargebotsfaktor'!M$9","v":1},{"$f":"'D-Dargebotsfaktor'!N$9","v":1},{"$f":"'D-Dargebotsfaktor'!O$9","v":1},{"$f":"'D-Dargebotsfaktor'!P$9","v":1},{"$f":"'D-Dargebotsfaktor'!Q$9","v":1},{"$f":"'D-Dargebotsfaktor'!R$9","v":1},{"$f":"'D-Dargebotsfaktor'!S$9","v":1},{"$f":"'D-Dargebotsfaktor'!T$9","v":1},{"$f":"'D-Dargebotsfaktor'!U$9","v":1},{"$f":"'D-Dargebotsfaktor'!V$9","v":1},{"$f":"'D-Dargebotsfaktor'!W$9","v":1},{"$f":"'D-Dargebotsfaktor'!X$9","v":1},{"$f":"'D-Dargebotsfaktor'!Y$9","v":1},{"$f":"'D-Dargebotsfaktor'!Z$9","v":1},{"$f":"'D-Dargebotsfaktor'!AA$9","v":1},{"$f":"'D-Dargebotsfaktor'!AB$9","v":1},{"$f":"'D-Dargebotsfaktor'!AC$9","v":1},{"$f":"'D-Dargebotsfaktor'!AD$9","v":1},{"$f":"'D-Dargebotsfaktor'!AE$9","v":1},{"$f":"'D-Dargebotsfaktor'!AF$9","v":1}]
[42,{"$f":"'D-Dargebotsfaktor'!C$10","v":"Referenz"},{"$f":"'D-Dargebotsfaktor'!D$10","v":"mh"},{"$f":"'D-Dargebotsfaktor'!E$10","v":"100%"},"Wind Onshore",{"$f":"'D-Dargebotsfaktor'!G$10","v":0},{"$f":"'D-Dargebotsfaktor'!H$10","v":0},{"$f":"'D-Dargebotsfaktor'!I$10","v":0},{"$f":"'D-Dargebotsfaktor'!J$10","v":0},{"$f":"'D-Dargebotsfaktor'!K$10","v":1},{"$f":"'D-Dargebotsfaktor'!L$10","v":1},{"$f":"'D-Dargebotsfaktor'!M$10","v":1},{"$f":"'D-Dargebotsfaktor'!N$10","v":1},{"$f":"'D-Dargebotsfaktor'!O$10","v":1},{"$f":"'D-Dargebotsfaktor'!P$10","v":1},{"$f":"'D-Dargebotsfaktor'!Q$10","v":1},{"$f":"'D-Dargebotsfaktor'!R$10","v":1},{"$f":"'D-Dargebotsfaktor'!S$10","v":1},{"$f":"'D-Dargebotsfaktor'!T$10","v":1},{"$f":"'D-Dargebotsfaktor'!U$10","v":1},{"$f":"'D-Dargebotsfaktor'!V$10","v":1},{"$f":"'D-Dargebotsfaktor'!W$10","v":1},{"$f":"'D-Dargebotsfaktor'!X$10","v":1},{"$f":"'D-Dargebotsfaktor'!Y$10","v":1},{"$f":"'D-Dargebotsfaktor'!Z$10","v":1},{"$f":"'D-Dargebotsfaktor'!AA$10","v":1},{"$f":"'D-Dargebotsfaktor'!AB$10","v":1},{"$f":"'D-Dargebotsfaktor'!AC$10","v":1},{"$f":"'D-Dargebotsfaktor'!AD$10","v":1},{"$f":"'D-Dargebotsfaktor'!AE$10","v":1},{"$f":"'D-Dargebotsfaktor'!AF$10","v":1}]
[43,{"$f":"'D-Dargebotsfaktor'!C$11","v":"Referenz"},{"$f":"'D-Dargebotsfaktor'!D$11","v":"mh"},{"$f":"'D-Dargebotsfaktor'!E$11","v":"100%"},"Wind Offshore",{"$f":"'D-Dargebotsfaktor'!G$11","v":0},{"$f":"'D-Dargebotsfaktor'!H$11","v":0},{"$f":"'D-Dargebotsfaktor'!I$11","v":0},{"$f":"'D-Dargebotsfaktor'!J$11","v":0},{"$f":"'D-Dargebotsfaktor'!K$11","v":1},{"$f":"'D-Dargebotsfaktor'!L$11","v":1},{"$f":"'D-Dargebotsfaktor'!M$11","v":1},{"$f":"'D-Dargebotsfaktor'!N$11","v":1},{"$f":"'D-Dargebotsfaktor'!O$11","v":1},{"$f":"'D-Dargebotsfaktor'!P$11","v":1},{"$f":"'D-Dargebotsfaktor'!Q$11","v":1},{"$f":"'D-Dargebotsfaktor'!R$11","v":1},{"$f":"'D-Dargebotsfaktor'!S$11","v":1},{"$f":"'D-Dargebotsfaktor'!T$11","v":1},{"$f":"'D-Dargebotsfaktor'!U$11","v":1},{"$f":"'D-Dargebotsfaktor'!V$11","v":1},{"$f":"'D-Dargebotsfaktor'!W$11","v":1},{"$f":"'D-Dargebotsfaktor'!X$11","v":1},{"$f":"'D-Dargebotsfaktor'!Y$11","v":1},{"$f":"'D-Dargebotsfaktor'!Z$11","v":1},{"$f":"'D-Dargebotsfaktor'!AA$11","v":1},{"$f":"'D-Dargebotsfaktor'!AB$11","v":1},{"$f":"'D-Dargebotsfaktor'!AC$11","v":1},{"$f":"'D-Dargebotsfaktor'!AD$11","v":1},{"$f":"'D-Dargebotsfaktor'!AE$11","v":1},{"$f":"'D-Dargebotsfaktor'!AF$11","v":1}]
[44,{"$f":"'D-Dargebotsfaktor'!C$12","v":"Referenz"},{"$f":"'D-Dargebotsfaktor'!D$12","v":"mh"},{"$f":"'D-Dargebotsfaktor'!E$12","v":"100%"},"Solar",{"$f":"'D-Dargebotsfaktor'!G$12","v":0},{"$f":"'D-Dargebotsfaktor'!H$12","v":0},{"$f":"'D-Dargebotsfaktor'!I$12","v":0},{"$f":"'D-Dargebotsfaktor'!J$12","v":0},{"$f":"'D-Dargebotsfaktor'!K$12","v":1},{"$f":"'D-Dargebotsfaktor'!L$12","v":1},{"$f":"'D-Dargebotsfaktor'!M$12","v":1},{"$f":"'D-Dargebotsfaktor'!N$12","v":1},{"$f":"'D-Dargebotsfaktor'!O$12","v":1},{"$f":"'D-Dargebotsfaktor'!P$12","v":1},{"$f":"'D-Dargebotsfaktor'!Q$12","v":1},{"$f":"'D-Dargebotsfaktor'!R$12","v":1},{"$f":"'D-Dargebotsfaktor'!S$12","v":1},{"$f":"'D-Dargebotsfaktor'!T$12","v":1},{"$f":"'D-Dargebotsfaktor'!U$12","v":1},{"$f":"'D-Dargebotsfaktor'!V$12","v":1},{"$f":"'D-Dargebotsfaktor'!W$12","v":1},{"$f":"'D-Dargebotsfaktor'!X$12","v":1},{"$f":"'D-Dargebotsfaktor'!Y$12","v":1},{"$f":"'D-Dargebotsfaktor'!Z$12","v":1},{"$f":"'D-Dargebotsfaktor'!AA$12","v":1},{"$f":"'D-Dargebotsfaktor'!AB$12","v":1},{"$f":"'D-Dargebotsfaktor'!AC$12","v":1},{"$f":"'D-Dargebotsfaktor'!AD$12","v":1},{"$f":"'D-Dargebotsfaktor'!AE$12","v":1},{"$f":"'D-Dargebotsfaktor'!AF$12","v":1}]
[45]
[46,null,null,null,"Jahreszubau (Brutto) [GW]",null,null,null,null,null,null,null,null,null,null,null,null,null,null,null,null,null,null,null,null,null,null,null,null,null,null,"v2.1.29"]
[47,{"$f":"'D-Bruttozubau'!C$6","v":"Referenz"},{"$f":"'D-Bruttozubau'!D$6","v":"fh"},{"$f":"'D-Bruttozubau'!E$6","v":"0,01 GW/a"},"Wasser",{"$f":"'D-Bruttozubau'!G$6","v":0.11411000000000038},{"$f":"'D-Bruttozubau'!H$6","v":9.2075899999999766E-2},{"$f":"'D-Bruttozubau'!I$6","v":5.082349999999991E-2},{"$f":"'D-Bruttozubau'!J$6","v":7.4043600000000209E-2},{"$f":"'D-Bruttozubau'!K$6","v":0},{"$f":"'D-Bruttozubau'!L$6","v":0.2908247849999997},{"$f":"'D-Bruttozubau'!M$6","v":2.1633774999999821E-2},{"$f":"'D-Bruttozubau'!N$6","v":5.4000000000000003E-3},{"$f":"'D-Bruttozubau'!O$6","v":1.4999999999999999E-2},{"$f":"'D-Bruttozubau'!P$6","v":1.7000000000000001E-2},{"$f":"'D-Bruttozubau'!Q$6","v":1.2999999999999999E-2},{"$f":"'D-Bruttozubau'!R$6","v":1.4E-2},{"$f":"'D-Bruttozubau'!S$6","v":1.4E-2},{"$f":"'D-Bruttozubau'!T$6","v":1.4E-2},{"$f":"'D-Bruttozubau'!U$6","v":1.4E-2},{"$f":"'D-Bruttozubau'!V$6","v":1.4E-2},{"$f":"'D-Bruttozubau'!W$6","v":1.4E-2},{"$f":"'D-Bruttozubau'!X$6","v":1.4E-2},{"$f":"'D-Bruttozubau'!Y$6","v":1.4E-2},{"$f":"'D-Bruttozubau'!Z$6","v":1.4E-2},{"$f":"'D-Bruttozubau'!AA$6","v":1.4E-2},{"$f":"'D-Bruttozubau'!AB$6","v":1.4E-2},{"$f":"'D-Bruttozubau'!AC$6","v":1.4E-2},{"$f":"'D-Bruttozubau'!AD$6","v":1.4E-2},{"$f":"'D-Bruttozubau'!AE$6","v":1.4E-2},{"$f":"'D-Bruttozubau'!AF$6","v":1.4E-2}]
[48,{"$f":"'D-Bruttozubau'!C$7","v":"Referenz"},{"$f":"'D-Bruttozubau'!D$7","v":"fh"},{"$f":"'D-Bruttozubau'!E$7","v":"0,01GW/a"},"Gas",{"$f":"'D-Bruttozubau'!G$7","v":1.5435999999999849E-2},{"$f":"'D-Bruttozubau'!H$7","v":1.2638999999999964E-2},{"$f":"'D-Bruttozubau'!I$7","v":7.8030000000000209E-3},{"$f":"'D-Bruttozubau'!J$7","v":8.2572000000000756E-3},{"$f":"'D-Bruttozubau'!K$7","v":0},{"$f":"'D-Bruttozubau'!L$7","v":4.5781999999999823E-2},{"$f":"'D-Bruttozubau'!M$7","v":4.0839999999999765E-3},{"$f":"'D-Bruttozubau'!N$7","v":1.6999999999999999E-3},{"$f":"'D-Bruttozubau'!O$7","v":6.0000000000000001E-3},{"$f":"'D-Bruttozubau'!P$7","v":2E-3},{"$f":"'D-Bruttozubau'!Q$7","v":2E-3},{"$f":"'D-Bruttozubau'!R$7","v":2E-3},{"$f":"'D-Bruttozubau'!S$7","v":2E-3},{"$f":"'D-Bruttozubau'!T$7","v":2E-3},{"$f":"'D-Bruttozubau'!U$7","v":2E-3},{"$f":"'D-Bruttozubau'!V$7","v":0.01},{"$f":"'D-Bruttozubau'!W$7","v":0.01},{"$f":"'D-Bruttozubau'!X$7","v":0.01},{"$f":"'D-Bruttozubau'!Y$7","v":0.01},{"$f":"'D-Bruttozubau'!Z$7","v":0.01},{"$f":"'D-Bruttozubau'!AA$7","v":0.01},{"$f":"'D-Bruttozubau'!AB$7","v":0.01},{"$f":"'D-Bruttozubau'!AC$7","v":0.01},{"$f":"'D-Bruttozubau'!AD$7","v":0.01},{"$f":"'D-Bruttozubau'!AE$7","v":0.01},{"$f":"'D-Bruttozubau'!AF$7","v":0.01}]
[49,{"$f":"'D-Bruttozubau'!C$8","v":"Referenz"},{"$f":"'D-Bruttozubau'!D$8","v":"fh"},{"$f":"'D-Bruttozubau'!E$8","v":"0,2 GW/a"},"Biomasse",{"$f":"'D-Bruttozubau'!G$8","v":0.41799999999999998},{"$f":"'D-Bruttozubau'!H$8","v":0.86586812999999996},{"$f":"'D-Bruttozubau'!I$8","v":0.32809184000000102},{"$f":"'D-Bruttozubau'!J$8","v":0.67685502999999902},{"$f":"'D-Bruttozubau'!K$8","v":0.21741000000000099},{"$f":"'D-Bruttozubau'!L$8","v":0.23461600000000002},{"$f":"'D-Bruttozubau'!M$8","v":0.22497200000000001},{"$f":"'D-Bruttozubau'!N$8","v":0.30678699999999998},{"$f":"'D-Bruttozubau'!O$8","v":0.42751108100000101},{"$f":"'D-Bruttozubau'!P$8","v":0.33253365899999998},{"$f":"'D-Bruttozubau'!Q$8","v":0.17599999999999999},{"$f":"'D-Bruttozubau'!R$8","v":0.124},{"$f":"'D-Bruttozubau'!S$8","v":3.5999999999999997E-2},{"$f":"'D-Bruttozubau'!T$8","v":0.04},{"$f":"'D-Bruttozubau'!U$8","v":4.2999999999999997E-2},{"$f":"'D-Bruttozubau'!V$8","v":4.4999999999999998E-2},{"$f":"'D-Bruttozubau'!W$8","v":0.2},{"$f":"'D-Bruttozubau'!X$8","v":0.2},{"$f":"'D-Bruttozubau'!Y$8","v":0.2},{"$f":"'D-Bruttozubau'!Z$8","v":0.2},{"$f":"'D-Bruttozubau'!AA$8","v":0.2},{"$f":"'D-Bruttozubau'!AB$8","v":0.2},{"$f":"'D-Bruttozubau'!AC$8","v":0.2},{"$f":"'D-Bruttozubau'!AD$8","v":0.2},{"$f":"'D-Bruttozubau'!AE$8","v":0.2},{"$f":"'D-Bruttozubau'!AF$8","v":0.2}]
[50,{"$f":"'D-Bruttozubau'!C$9","v":"Referenz"},{"$f":"'D-Bruttozubau'!D$9","v":"fh"},{"$f":"'D-Bruttozubau'!E$9","v":"0,01GW/a"},"Geothermie",{"$f":"'D-Bruttozubau'!G$9","v":0},{"$f":"'D-Bruttozubau'!H$9","v":0},{"$f":"'D-Bruttozubau'!I$9","v":1.1799999999999998E-2},{"$f":"'D-Bruttozubau'!J$9","v":1.132E-2},{"$f":"'D-Bruttozubau'!K$9","v":3.7300000000000041E-3},{"$f":"'D-Bruttozubau'!L$9","v":0},{"$f":"'D-Bruttozubau'!M$9","v":4.9999999999999984E-3},{"$f":"'D-Bruttozubau'!N$9","v":2E-3},{"$f":"'D-Bruttozubau'!O$9","v":5.0000000000000001E-3},{"$f":"'D-Bruttozubau'!P$9","v":4.0000000000000001E-3},{"$f":"'D-Bruttozubau'!Q$9","v":5.0000000000000001E-3},{"$f":"'D-Bruttozubau'!R$9","v":8.9999999999999993E-3},{"$f":"'D-Bruttozubau'!S$9","v":2.5000000000000001E-2},{"$f":"'D-Bruttozubau'!T$9","v":1.4E-2},{"$f":"'D-Bruttozubau'!U$9","v":6.0000000000000001E-3},{"$f":"'D-Bruttozubau'!V$9","v":6.0000000000000001E-3},{"$f":"'D-Bruttozubau'!W$9","v":0.01},{"$f":"'D-Bruttozubau'!X$9","v":0.01},{"$f":"'D-Bruttozubau'!Y$9","v":0.01},{"$f":"'D-Bruttozubau'!Z$9","v":0.01},{"$f":"'D-Bruttozubau'!AA$9","v":0.01},{"$f":"'D-Bruttozubau'!AB$9","v":0.01},{"$f":"'D-Bruttozubau'!AC$9","v":0.01},{"$f":"'D-Bruttozubau'!AD$9","v":0.01},{"$f":"'D-Bruttozubau'!AE$9","v":0.01},{"$f":"'D-Bruttozubau'!AF$9","v":0.01}]
[51,{"$f":"'D-Bruttozubau'!C$10","v":"Referenz"},{"$f":"'D-Bruttozubau'!D$10","v":"fh"},{"$f":"'D-Bruttozubau'!E$10","v":"1,5 GW bis 2021, ab 2023 2,5 GW/a"},"Wind Onshore",{"$f":"'D-Bruttozubau'!G$10","v":1.411797},{"$f":"'D-Bruttozubau'!H$10","v":1.8712979999999999},{"$f":"'D-Bruttozubau'!I$10","v":2.4085290000000001},{"$f":"'D-Bruttozubau'!J$10","v":2.9965709999999999},{"$f":"'D-Bruttozubau'!K$10","v":4.6522969999999999},{"$f":"'D-Bruttozubau'!L$10","v":3.7872080000000001},{"$f":"'D-Bruttozubau'!M$10","v":4.4454030000000007},{"$f":"'D-Bruttozubau'!N$10","v":5.5017449999999997},{"$f":"'D-Bruttozubau'!O$10","v":2.4031500000000001},{"$f":"'D-Bruttozubau'!P$10","v":1.5},{"$f":"'D-Bruttozubau'!Q$10","v":1.5},{"$f":"'D-Bruttozubau'!R$10","v":1.5},{"$f":"'D-Bruttozubau'!S$10","v":2},{"$f":"'D-Bruttozubau'!T$10","v":2.5},{"$f":"'D-Bruttozubau'!U$10","v":2.5},{"$f":"'D-Bruttozubau'!V$10","v":2.5},{"$f":"'D-Bruttozubau'!W$10","v":2.5},{"$f":"'D-Bruttozubau'!X$10","v":2.5},{"$f":"'D-Bruttozubau'!Y$10","v":2.5},{"$f":"'D-Bruttozubau'!Z$10","v":2.5},{"$f":"'D-Bruttozubau'!AA$10","v":2.5},{"$f":"'D-Bruttozubau'!AB$10","v":2.5},{"$f":"'D-Bruttozubau'!AC$10","v":2.5},{"$f":"'D-Bruttozubau'!AD$10","v":2.5},{"$f":"'D-Bruttozubau'!AE$10","v":2.5},{"$f":"'D-Bruttozubau'!AF$10","v":2.5}]
[52,{"$f":"'D-Bruttozubau'!C$11","v":"Referenz"},{"$f":"'D-Bruttozubau'!D$11","v":"fh"},{"$f":"'D-Bruttozubau'!E$11","v":"MFP Trend, danach konstant 1,6 GW"},"Wind Offshore",{"$f":"'D-Bruttozubau'!G$11","v":4.4999999999999998E-2},{"$f":"'D-Bruttozubau'!H$11","v":0.108},{"$f":"'D-Bruttozubau'!I$11","v":0.08},{"$f":"'D-Bruttozubau'!J$11","v":0.24},{"$f":"'D-Bruttozubau'!K$11","v":0.48599999999999999},{"$f":"'D-Bruttozubau'!L$11","v":2.2890000000000001},{"$f":"'D-Bruttozubau'!M$11","v":0.86899999999999999},{"$f":"'D-Bruttozubau'!N$11","v":1.254},{"$f":"'D-Bruttozubau'!O$11","v":0.98699999999999999},{"$f":"'D-Bruttozubau'!P$11","v":1.135},{"$f":"'D-Bruttozubau'!Q$11","v":0.219},{"$f":"'D-Bruttozubau'!R$11","v":0},{"$f":"'D-Bruttozubau'!S$11","v":0.34200000000000003},{"$f":"'D-Bruttozubau'!T$11","v":0.97499999999999998},{"$f":"'D-Bruttozubau'!U$11","v":0.9},{"$f":"'D-Bruttozubau'!V$11","v":0.9},{"$f":"'D-Bruttozubau'!W$11","v":0.9},{"$f":"'D-Bruttozubau'!X$11","v":0.9},{"$f":"'D-Bruttozubau'!Y$11","v":0.9},{"$f":"'D-Bruttozubau'!Z$11","v":0.9},{"$f":"'D-Bruttozubau'!AA$11","v":0.9},{"$f":"'D-Bruttozubau'!AB$11","v":0.9},{"$f":"'D-Bruttozubau'!AC$11","v":0.9},{"$f":"'D-Bruttozubau'!AD$11","v":0.9},{"$f":"'D-Bruttozubau'!AE$11","v":0.9},{"$f":"'D-Bruttozubau'!AF$11","v":0.9}]
[53,{"$f":"'D-Bruttozubau'!C$12","v":"Referenz"},{"$f":"'D-Bruttozubau'!D$12","v":"fh"},{"$f":"'D-Bruttozubau'!E$12","v":"MFP Trend"},"Solar",{"$f":"'D-Bruttozubau'!G$12","v":7.44},{"$f":"'D-Bruttozubau'!H$12","v":7.91},{"$f":"'D-Bruttozubau'!I$12","v":8.1609999999999996},{"$f":"'D-Bruttozubau'!J$12","v":2.633},{"$f":"'D-Bruttozubau'!K$12","v":1.19},{"$f":"'D-Bruttozubau'!L$12","v":1.3240000000000001},{"$f":"'D-Bruttozubau'!M$12","v":1.4550000000000001},{"$f":"'D-Bruttozubau'!N$12","v":1.6140000000000001},{"$f":"'D-Bruttozubau'!O$12","v":2.8650000000000002},{"$f":"'D-Bruttozubau'!P$12","v":3.8889999999999998},{"$f":"'D-Bruttozubau'!Q$12","v":4.8010000000000002},{"$f":"'D-Bruttozubau'!R$12","v":5.4139999999999997},{"$f":"'D-Bruttozubau'!S$12","v":4.9379999999999997},{"$f":"'D-Bruttozubau'!T$12","v":3.1520000000000001},{"$f":"'D-Bruttozubau'!U$12","v":3.0219999999999998},{"$f":"'D-Bruttozubau'!V$12","v":3.129},{"$f":"'D-Bruttozubau'!W$12","v":3},{"$f":"'D-Bruttozubau'!X$12","v":3},{"$f":"'D-Bruttozubau'!Y$12","v":3},{"$f":"'D-Bruttozubau'!Z$12","v":3},{"$f":"'D-Bruttozubau'!AA$12","v":3},{"$f":"'D-Bruttozubau'!AB$12","v":3},{"$f":"'D-Bruttozubau'!AC$12","v":3},{"$f":"'D-Bruttozubau'!AD$12","v":3},{"$f":"'D-Bruttozubau'!AE$12","v":3},{"$f":"'D-Bruttozubau'!AF$12","v":3}]
[54]
[55,null,null,null,"Verbleibende Kapazitäten von Anlagen, die bis ende 2014 gebaut wurden [GW]",null,null,null,null,null,null,{"$f":"K69-L69","v":0.34400000000000119},null,null,null,null,null,null,null,null,null,null,null,null,null,null,null,null,null,null,null,null,"v2.1.6"]
[56,{"$f":"'D-Standardauslastung'!C$6","v":"Referenz"},{"$f":"'D-Standardauslastung'!D$6","v":"fh"},{"$f":"'D-Standardauslastung'!E$6","v":"MFP Trend"},"Wasser",{"$f":"'D-Bestand Kapazität'!G6","v":0},{"$f":"'D-Bestand Kapazität'!H6","v":0},{"$f":"'D-Bestand Kapazität'!I6","v":0},{"$f":"'D-Bestand Kapazität'!J6","v":0},{"$f":"'D-Bestand Kapazität'!K6","v":1.5617438099999998},{"$f":"'D-Bestand Kapazität'!L6","v":1.5617438099999998},{"$f":"'D-Bestand Kapazität'!M6","v":1.5617438099999998},{"$f":"'D-Bestand Kapazität'!N6","v":1.5617438099999998},{"$f":"'D-Bestand Kapazität'!O6","v":1.5617438099999998},{"$f":"'D-Bestand Kapazität'!P6","v":1.5617438099999998},{"$f":"'D-Bestand Kapazität'!Q6","v":1.5617438099999998},{"$f":"'D-Bestand Kapazität'!R6","v":1.5617438099999998},{"$f":"'D-Bestand Kapazität'!S6","v":1.5617438099999998},{"$f":"'D-Bestand Kapazität'!T6","v":1.5617438099999998},{"$f":"'D-Bestand Kapazität'!U6","v":1.5617438099999998},{"$f":"'D-Bestand Kapazität'!V6","v":1.5617438099999998},{"$f":"'D-Bestand Kapazität'!W6","v":1.5617438099999998},{"$f":"'D-Bestand Kapazität'!X6","v":1.5617438099999998},{"$f":"'D-Bestand Kapazität'!Y6","v":1.5617438099999998},{"$f":"'D-Bestand Kapazität'!Z6","v":1.5617438099999998},{"$f":"'D-Bestand Kapazität'!AA6","v":1.45086618},{"$f":"'D-Bestand Kapazität'!AB6","v":1.3595179899999998},{"$f":"'D-Bestand Kapazität'!AC6","v":1.2860902400000001},{"$f":"'D-Bestand Kapazität'!AD6","v":1.2395648899999998},{"$f":"'D-Bestand Kapazität'!AE6","v":1.1316575499999999},{"$f":"'D-Bestand Kapazität'!AF6","v":1.1188063499999998},null,"v2.1.6"]
[57,{"$f":"'D-Standardauslastung'!C$7","v":"Referenz"},{"$f":"'D-Standardauslastung'!D$7","v":"fh"},{"$f":"'D-Standardauslastung'!E$7","v":"MFP Trend"},"Gas",{"$f":"'D-Bestand Kapazität'!G7","v":0},{"$f":"'D-Bestand Kapazität'!H7","v":0},{"$f":"'D-Bestand Kapazität'!I7","v":0},{"$f":"'D-Bestand Kapazität'!J7","v":0},{"$f":"'D-Bestand Kapazität'!K7","v":0.50447248999999994},{"$f":"'D-Bestand Kapazität'!L7","v":0.50447248999999994},{"$f":"'D-Bestand Kapazität'!M7","v":0.50447248999999994},{"$f":"'D-Bestand Kapazität'!N7","v":0.50447248999999994},{"$f":"'D-Bestand Kapazität'!O7","v":0.50447248999999994},{"$f":"'D-Bestand Kapazität'!P7","v":0.50447248999999994},{"$f":"'D-Bestand Kapazität'!Q7","v":0.50447248999999994},{"$f":"'D-Bestand Kapazität'!R7","v":0.32682229000000002},{"$f":"'D-Bestand Kapazität'!S7","v":0.27378529000000001},{"$f":"'D-Bestand Kapazität'!T7","v":0.21108429000000001},{"$f":"'D-Bestand Kapazität'!U7","v":0.13316929},{"$f":"'D-Bestand Kapazität'!V7","v":6.6771990000000003E-2},{"$f":"'D-Bestand Kapazität'!W7","v":5.3154990000000006E-2},{"$f":"'D-Bestand Kapazität'!X7","v":4.4618990000000004E-2},{"$f":"'D-Bestand Kapazität'!Y7","v":3.6103990000000002E-2},{"$f":"'D-Bestand Kapazität'!Z7","v":3.0399990000000002E-2},{"$f":"'D-Bestand Kapazität'!AA7","v":2.0893000000000005E-2},{"$f":"'D-Bestand Kapazität'!AB7","v":1.7971000000000004E-2},{"$f":"'D-Bestand Kapazität'!AC7","v":8.7540000000000014E-3},{"$f":"'D-Bestand Kapazität'!AD7","v":6.9640000000000006E-3},{"$f":"'D-Bestand Kapazität'!AE7","v":5.836E-3},{"$f":"'D-Bestand Kapazität'!AF7","v":0},null,"v2.1.6"]
[58,{"$f":"'D-Standardauslastung'!C$8","v":"Referenz"},{"$f":"'D-Standardauslastung'!D$8","v":"fh"},{"$f":"'D-Standardauslastung'!E$8","v":"MFP Trend"},"Biomasse",{"$f":"'D-Bestand Kapazität'!G8","v":0},{"$f":"'D-Bestand Kapazität'!H8","v":0},{"$f":"'D-Bestand Kapazität'!I8","v":0},{"$f":"'D-Bestand Kapazität'!J8","v":0},{"$f":"'D-Bestand Kapazität'!K8","v":6.7990000000000004},{"$f":"'D-Bestand Kapazität'!L8","v":6.7990000000000004},{"$f":"'D-Bestand Kapazität'!M8","v":6.7990000000000004},{"$f":"'D-Bestand Kapazität'!N8","v":6.7990000000000004},{"$f":"'D-Bestand Kapazität'!O8","v":6.7990000000000004},{"$f":"'D-Bestand Kapazität'!P8","v":6.7990000000000004},{"$f":"'D-Bestand Kapazität'!Q8","v":6.7990000000000004},{"$f":"'D-Bestand Kapazität'!R8","v":6.6231892300000004},{"$f":"'D-Bestand Kapazität'!S8","v":6.4349554299999987},{"$f":"'D-Bestand Kapazität'!T8","v":6.2947062699999998},{"$f":"'D-Bestand Kapazität'!U8","v":6.0627479199999996},{"$f":"'D-Bestand Kapazität'!V8","v":5.4902409299999997},{"$f":"'D-Bestand Kapazität'!W8","v":4.7945024299999996},{"$f":"'D-Bestand Kapazität'!X8","v":3.9465003999999988},{"$f":"'D-Bestand Kapazität'!Y8","v":3.3060079999999994},{"$f":"'D-Bestand Kapazität'!Z8","v":2.9487315999999995},{"$f":"'D-Bestand Kapazität'!AA8","v":2.4935236000000001},{"$f":"'D-Bestand Kapazität'!AB8","v":1.8564320000000003},{"$f":"'D-Bestand Kapazität'!AC8","v":0.80025794000000006},{"$f":"'D-Bestand Kapazität'!AD8","v":0.46639323999999999},{"$f":"'D-Bestand Kapazität'!AE8","v":0.21003932999999994},{"$f":"'D-Bestand Kapazität'!AF8","v":0},null,"v2.1.6"]
[59,{"$f":"'D-Standardauslastung'!C$9","v":"Referenz"},{"$f":"'D-Standardauslastung'!D$9","v":"fh"},{"$f":"'D-Standardauslastung'!E$9","v":"MFP Trend"},"Geothermie",{"$f":"'D-Bestand Kapazität'!G9","v":0},{"$f":"'D-Bestand Kapazität'!H9","v":0},{"$f":"'D-Bestand Kapazität'!I9","v":0},{"$f":"'D-Bestand Kapazität'!J9","v":0},{"$f":"'D-Bestand Kapazität'!K9","v":3.3985000000000001E-2},{"$f":"'D-Bestand Kapazität'!L9","v":3.3985000000000001E-2},{"$f":"'D-Bestand Kapazität'!M9","v":3.3985000000000001E-2},{"$f":"'D-Bestand Kapazität'!N9","v":3.3985000000000001E-2},{"$f":"'D-Bestand Kapazität'!O9","v":3.3985000000000001E-2},{"$f":"'D-Bestand Kapazität'!P9","v":3.3985000000000001E-2},{"$f":"'D-Bestand Kapazität'!Q9","v":3.3985000000000001E-2},{"$f":"'D-Bestand Kapazität'!R9","v":3.3985000000000001E-2},{"$f":"'D-Bestand Kapazität'!S9","v":3.3985000000000001E-2},{"$f":"'D-Bestand Kapazität'!T9","v":3.3985000000000001E-2},{"$f":"'D-Bestand Kapazität'!U9","v":3.3985000000000001E-2},{"$f":"'D-Bestand Kapazität'!V9","v":3.3765000000000003E-2},{"$f":"'D-Bestand Kapazität'!W9","v":3.3765000000000003E-2},{"$f":"'D-Bestand Kapazität'!X9","v":3.3765000000000003E-2},{"$f":"'D-Bestand Kapazität'!Y9","v":3.0765000000000001E-2},{"$f":"'D-Bestand Kapazität'!Z9","v":3.0765000000000001E-2},{"$f":"'D-Bestand Kapazität'!AA9","v":2.6615000000000003E-2},{"$f":"'D-Bestand Kapazität'!AB9","v":2.6615000000000003E-2},{"$f":"'D-Bestand Kapazität'!AC9","v":2.6615000000000003E-2},{"$f":"'D-Bestand Kapazität'!AD9","v":1.4815E-2},{"$f":"'D-Bestand Kapazität'!AE9","v":3.5000000000000001E-3},{"$f":"'D-Bestand Kapazität'!AF9","v":0},null,"v2.1.6"]
[60,{"$f":"'D-Standardauslastung'!C$10","v":"Referenz"},{"$f":"'D-Standardauslastung'!D$10","v":"fh"},{"$f":"'D-Standardauslastung'!E$10","v":"Anstieg auf 2600h in 2035"},"Wind Onshore",{"$f":"'D-Bestand Kapazität'!G10","v":0},{"$f":"'D-Bestand Kapazität'!H10","v":0},{"$f":"'D-Bestand Kapazität'!I10","v":0},{"$f":"'D-Bestand Kapazität'!J10","v":0},{"$f":"'D-Bestand Kapazität'!K10","v":37.619999999999997},{"$f":"'D-Bestand Kapazität'!L10","v":37.508569479999998},{"$f":"'D-Bestand Kapazität'!M10","v":37.164569479999997},{"$f":"'D-Bestand Kapazität'!N10","v":36.764569479999999},{"$f":"'D-Bestand Kapazität'!O10","v":36.264569479999999},{"$f":"'D-Bestand Kapazität'!P10","v":35.664569479999997},{"$f":"'D-Bestand Kapazität'!Q10","v":34.964569480000002},{"$f":"'D-Bestand Kapazität'!R10","v":33.158776369999998},{"$f":"'D-Bestand Kapazität'!S10","v":30.565102570000001},{"$f":"'D-Bestand Kapazität'!T10","v":27.51489948},{"$f":"'D-Bestand Kapazität'!U10","v":24.797031480000001},{"$f":"'D-Bestand Kapazität'!V10","v":22.74326048},{"$f":"'D-Bestand Kapazität'!W10","v":20.92921698},{"$f":"'D-Bestand Kapazität'!X10","v":18.699378980000002},{"$f":"'D-Bestand Kapazität'!Y10","v":17.013132779999999},{"$f":"'D-Bestand Kapazität'!Z10","v":16.241268779999999},{"$f":"'D-Bestand Kapazität'!AA10","v":13.541928859999999},{"$f":"'D-Bestand Kapazität'!AB10","v":12.115269209999999},{"$f":"'D-Bestand Kapazität'!AC10","v":10.238786949999998},{"$f":"'D-Bestand Kapazität'!AD10","v":7.8176624199999987},{"$f":"'D-Bestand Kapazität'!AE10","v":4.7852306299999992},{"$f":"'D-Bestand Kapazität'!AF10","v":0},null,"v2.1.6"]
[61,{"$f":"'D-Standardauslastung'!C$11","v":"Referenz"},{"$f":"'D-Standardauslastung'!D$11","v":"as/pl/fh"},{"$f":"'D-Standardauslastung'!E$11","v":"Anstieg auf 4700 h in 2035"},"Wind Offshore",{"$f":"'D-Bestand Kapazität'!G11","v":0},{"$f":"'D-Bestand Kapazität'!H11","v":0},{"$f":"'D-Bestand Kapazität'!I11","v":0},{"$f":"'D-Bestand Kapazität'!J11","v":0},{"$f":"'D-Bestand Kapazität'!K11","v":0.99399999999999999},{"$f":"'D-Bestand Kapazität'!L11","v":0.99399999999999999},{"$f":"'D-Bestand Kapazität'!M11","v":0.99399999999999999},{"$f":"'D-Bestand Kapazität'!N11","v":0.99399999999999999},{"$f":"'D-Bestand Kapazität'!O11","v":0.99399999999999999},{"$f":"'D-Bestand Kapazität'!P11","v":0.99399999999999999},{"$f":"'D-Bestand Kapazität'!Q11","v":0.99399999999999999},{"$f":"'D-Bestand Kapazität'!R11","v":0.99399999999999999},{"$f":"'D-Bestand Kapazität'!S11","v":0.99399999999999999},{"$f":"'D-Bestand Kapazität'!T11","v":0.99399999999999999},{"$f":"'D-Bestand Kapazität'!U11","v":0.99399999999999999},{"$f":"'D-Bestand Kapazität'!V11","v":0.99399999999999999},{"$f":"'D-Bestand Kapazität'!W11","v":0.99399999999999999},{"$f":"'D-Bestand Kapazität'!X11","v":0.99399999999999999},{"$f":"'D-Bestand Kapazität'!Y11","v":0.99399999999999999},{"$f":"'D-Bestand Kapazität'!Z11","v":0.99399999999999999},{"$f":"'D-Bestand Kapazität'!AA11","v":0.96219999999999994},{"$f":"'D-Bestand Kapazität'!AB11","v":0.9171999999999999},{"$f":"'D-Bestand Kapazität'!AC11","v":0.80889999999999995},{"$f":"'D-Bestand Kapazität'!AD11","v":0.72889999999999999},{"$f":"'D-Bestand Kapazität'!AE11","v":0.4889},{"$f":"'D-Bestand Kapazität'!AF11","v":0},null,"v2.1.6"]
[62,{"$f":"'D-Standardauslastung'!C$12","v":"Referenz"},{"$f":"'D-Standardauslastung'!D$12","v":"fh"},{"$f":"'D-Standardauslastung'!E$12","v":"Anstieg auf 950h in 2035"},"Solar",{"$f":"'D-Bestand Kapazität'!G12","v":0},{"$f":"'D-Bestand Kapazität'!H12","v":0},{"$f":"'D-Bestand Kapazität'!I12","v":0},{"$f":"'D-Bestand Kapazität'!J12","v":0},{"$f":"'D-Bestand Kapazität'!K12","v":37.9},{"$f":"'D-Bestand Kapazität'!L12","v":37.9},{"$f":"'D-Bestand Kapazität'!M12","v":37.9},{"$f":"'D-Bestand Kapazität'!N12","v":37.9},{"$f":"'D-Bestand Kapazität'!O12","v":37.9},{"$f":"'D-Bestand Kapazität'!P12","v":37.9},{"$f":"'D-Bestand Kapazität'!Q12","v":37.9},{"$f":"'D-Bestand Kapazität'!R12","v":37.776027506000062},{"$f":"'D-Bestand Kapazität'!S12","v":37.667388816000063},{"$f":"'D-Bestand Kapazität'!T12","v":37.557167266000064},{"$f":"'D-Bestand Kapazität'!U12","v":37.414720716000062},{"$f":"'D-Bestand Kapazität'!V12","v":36.758691416000062},{"$f":"'D-Bestand Kapazität'!W12","v":35.834089356000064},{"$f":"'D-Bestand Kapazität'!X12","v":34.989494406000063},{"$f":"'D-Bestand Kapazität'!Y12","v":33.735743280000058},{"$f":"'D-Bestand Kapazität'!Z12","v":31.75620017000006},{"$f":"'D-Bestand Kapazität'!AA12","v":27.317740330000046},{"$f":"'D-Bestand Kapazität'!AB12","v":19.723863990000012},{"$f":"'D-Bestand Kapazität'!AC12","v":11.723473930000008},{"$f":"'D-Bestand Kapazität'!AD12","v":4.8811800499999842},{"$f":"'D-Bestand Kapazität'!AE12","v":1.7455592899999977},{"$f":"'D-Bestand Kapazität'!AF12","v":0},null,"v2.1.6"]
[63,null,null,null,null,null,null,null,null,null,null,null,null,null,null,null,null,null,null,null,null,null,null,null,null,null,null,null,null,null,null,null,"v2.1.6"]
[64,null,null,null,"Verbleibende Strommengen von Anlagen, die bis ende 2014 gebaut wurden [TWh/a]",null,null,null,null,null,null,null,null,null,null,null,null,null,null,null,null,null,null,null,null,null,null,null,null,null,null,null,"v2.1.6"]
[65,null,null,null,"Wasser",{"$f":"'D-Bestand Strommenge'!G6","v":0},{"$f":"'D-Bestand Strommenge'!H6","v":0},{"$f":"'D-Bestand Strommenge'!I6","v":0},{"$f":"'D-Bestand Strommenge'!J6","v":0},{"$f":"'D-Bestand Strommenge'!K6","v":6.3400577197004209},{"$f":"'D-Bestand Strommenge'!L6","v":6.3653839009576823},{"$f":"'D-Bestand Strommenge'!M6","v":6.3653839009576823},{"$f":"'D-Bestand Strommenge'!N6","v":6.3653839009576823},{"$f":"'D-Bestand Strommenge'!O6","v":6.3653839009576823},{"$f":"'D-Bestand Strommenge'!P6","v":6.3653839009576823},{"$f":"'D-Bestand Strommenge'!Q6","v":6.3653839009576823},{"$f":"'D-Bestand Strommenge'!R6","v":6.3653839009576823},{"$f":"'D-Bestand Strommenge'!S6","v":6.3653839009576823},{"$f":"'D-Bestand Strommenge'!T6","v":6.3653839009576823},{"$f":"'D-Bestand Strommenge'!U6","v":6.3653839009576823},{"$f":"'D-Bestand Strommenge'!V6","v":6.3653839009576823},{"$f":"'D-Bestand Strommenge'!W6","v":6.3653839009576823},{"$f":"'D-Bestand Strommenge'!X6","v":6.3653839009576823},{"$f":"'D-Bestand Strommenge'!Y6","v":6.3653839009576823},{"$f":"'D-Bestand Strommenge'!Z6","v":6.3653839009576823},{"$f":"'D-Bestand Strommenge'!AA6","v":5.8264018677620077},{"$f":"'D-Bestand Strommenge'!AB6","v":5.3606672290276043},{"$f":"'D-Bestand Strommenge'!AC6","v":5.0397223665748268},{"$f":"'D-Bestand Strommenge'!AD6","v":4.8537221589924613},{"$f":"'D-Bestand Strommenge'!AE6","v":4.2530569317466336},{"$f":"'D-Bestand Strommenge'!AF6","v":4.2024045692321126},null,"v2.1.6"]
[66,null,null,null,"Gas",{"$f":"'D-Bestand Strommenge'!G7","v":0},{"$f":"'D-Bestand Strommenge'!H7","v":0},{"$f":"'D-Bestand Strommenge'!I7","v":0},{"$f":"'D-Bestand Strommenge'!J7","v":0},{"$f":"'D-Bestand Strommenge'!K7","v":1.4340048917520307},{"$f":"'D-Bestand Strommenge'!L7","v":1.4380650412409677},{"$f":"'D-Bestand Strommenge'!M7","v":1.4380650412409677},{"$f":"'D-Bestand Strommenge'!N7","v":1.4380650412409677},{"$f":"'D-Bestand Strommenge'!O7","v":1.4380650412409677},{"$f":"'D-Bestand Strommenge'!P7","v":1.4380650412409677},{"$f":"'D-Bestand Strommenge'!Q7","v":1.4380650412409677},{"$f":"'D-Bestand Strommenge'!R7","v":1.1116422809573945},{"$f":"'D-Bestand Strommenge'!S7","v":1.0106083811612576},{"$f":"'D-Bestand Strommenge'!T7","v":0.74197769522039103},{"$f":"'D-Bestand Strommenge'!U7","v":0.43927686747089773},{"$f":"'D-Bestand Strommenge'!V7","v":0.15582886179697539},{"$f":"'D-Bestand Strommenge'!W7","v":0.12537230832477717},{"$f":"'D-Bestand Strommenge'!X7","v":0.10047524852672238},{"$f":"'D-Bestand Strommenge'!Y7","v":9.6752700738409095E-2},{"$f":"'D-Bestand Strommenge'!Z7","v":9.3619703214801536E-2},{"$f":"'D-Bestand Strommenge'!AA7","v":5.5079993384563354E-2},{"$f":"'D-Bestand Strommenge'!AB7","v":4.8352437199624974E-2},{"$f":"'D-Bestand Strommenge'!AC7","v":1.5104555416539968E-2},{"$f":"'D-Bestand Strommenge'!AD7","v":1.2367230452041226E-2},{"$f":"'D-Bestand Strommenge'!AE7","v":8.1202989778740627E-3},{"$f":"'D-Bestand Strommenge'!AF7","v":0},null,"v2.1.6"]
[67,null,null,null,"Biomasse",{"$f":"'D-Bestand Strommenge'!G8","v":0},{"$f":"'D-Bestand Strommenge'!H8","v":0},{"$f":"'D-Bestand Strommenge'!I8","v":0},{"$f":"'D-Bestand Strommenge'!J8","v":0},{"$f":"'D-Bestand Strommenge'!K8","v":38.108395000000002},{"$f":"'D-Bestand Strommenge'!L8","v":38.108395000000002},{"$f":"'D-Bestand Strommenge'!M8","v":38.108395000000002},{"$f":"'D-Bestand Strommenge'!N8","v":38.108395000000002},{"$f":"'D-Bestand Strommenge'!O8","v":38.108395000000002},{"$f":"'D-Bestand Strommenge'!P8","v":38.108395000000002},{"$f":"'D-Bestand Strommenge'!Q8","v":38.108395000000002},{"$f":"'D-Bestand Strommenge'!R8","v":37.122975634150002},{"$f":"'D-Bestand Strommenge'!S8","v":36.067925185149996},{"$f":"'D-Bestand Strommenge'!T8","v":35.281828643349996},{"$f":"'D-Bestand Strommenge'!U8","v":33.981702091599999},{"$f":"'D-Bestand Strommenge'!V8","v":30.77280041265},{"$f":"'D-Bestand Strommenge'!W8","v":26.873186120149999},{"$f":"'D-Bestand Strommenge'!X8","v":22.120134741999994},{"$f":"'D-Bestand Strommenge'!Y8","v":18.530174839999997},{"$f":"'D-Bestand Strommenge'!Z8","v":16.527640617999996},{"$f":"'D-Bestand Strommenge'!AA8","v":13.976199778},{"$f":"'D-Bestand Strommenge'!AB8","v":10.405301360000001},{"$f":"'D-Bestand Strommenge'!AC8","v":4.4854457537000005},{"$f":"'D-Bestand Strommenge'!AD8","v":2.6141341102000002},{"$f":"'D-Bestand Strommenge'!AE8","v":1.1772704446499997},{"$f":"'D-Bestand Strommenge'!AF8","v":0},null,"v2.1.6"]
[68,null,null,null,"Geothermie",{"$f":"'D-Bestand Strommenge'!G9","v":0},{"$f":"'D-Bestand Strommenge'!H9","v":0},{"$f":"'D-Bestand Strommenge'!I9","v":0},{"$f":"'D-Bestand Strommenge'!J9","v":0},{"$f":"'D-Bestand Strommenge'!K9","v":0.14134193593954347},{"$f":"'D-Bestand Strommenge'!L9","v":0.14968884020373421},{"$f":"'D-Bestand Strommenge'!M9","v":0.14968884020373421},{"$f":"'D-Bestand Strommenge'!N9","v":0.14968884020373421},{"$f":"'D-Bestand Strommenge'!O9","v":0.14968884020373421},{"$f":"'D-Bestand Strommenge'!P9","v":0.14968884020373421},{"$f":"'D-Bestand Strommenge'!Q9","v":0.14968884020373421},{"$f":"'D-Bestand Strommenge'!R9","v":0.14968884020373421},{"$f":"'D-Bestand Strommenge'!S9","v":0.14968884020373421},{"$f":"'D-Bestand Strommenge'!T9","v":0.14968884020373421},{"$f":"'D-Bestand Strommenge'!U9","v":0.14968884020373421},{"$f":"'D-Bestand Strommenge'!V9","v":0.14968884020373421},{"$f":"'D-Bestand Strommenge'!W9","v":0.14968884020373421},{"$f":"'D-Bestand Strommenge'!X9","v":0.14968884020373421},{"$f":"'D-Bestand Strommenge'!Y9","v":0.14968884020373421},{"$f":"'D-Bestand Strommenge'!Z9","v":0.14968884020373421},{"$f":"'D-Bestand Strommenge'!AA9","v":0.14027279747116281},{"$f":"'D-Bestand Strommenge'!AB9","v":0.14027279747116281},{"$f":"'D-Bestand Strommenge'!AC9","v":0.14027279747116281},{"$f":"'D-Bestand Strommenge'!AD9","v":8.0174710482014119E-2},{"$f":"'D-Bestand Strommenge'!AE9","v":1.6693808528381489E-2},{"$f":"'D-Bestand Strommenge'!AF9","v":0},null,"v2.1.6"]
[69,null,null,null,"Wind Onshore",{"$f":"'D-Bestand Strommenge'!G10","v":0},{"$f":"'D-Bestand Strommenge'!H10","v":0},{"$f":"'D-Bestand Strommenge'!I10","v":0},{"$f":"'D-Bestand Strommenge'!J10","v":0},{"$f":"'D-Bestand Strommenge'!K10","v":61.583939999999998},{"$f":"'D-Bestand Strommenge'!L10","v":61.401528238759994},{"$f":"'D-Bestand Strommenge'!M10","v":60.838400238759995},{"$f":"'D-Bestand Strommenge'!N10","v":60.183600238759993},{"$f":"'D-Bestand Strommenge'!O10","v":59.365100238759993},{"$f":"'D-Bestand Strommenge'!P10","v":58.382900238759994},{"$f":"'D-Bestand Strommenge'!Q10","v":57.237000238760004},{"$f":"'D-Bestand Strommenge'!R10","v":54.280916917689993},{"$f":"'D-Bestand Strommenge'!S10","v":50.035072907089997},{"$f":"'D-Bestand Strommenge'!T10","v":45.04189044876},{"$f":"'D-Bestand Strommenge'!U10","v":40.592740532759997},{"$f":"'D-Bestand Strommenge'!V10","v":37.230717405759997},{"$f":"'D-Bestand Strommenge'!W10","v":34.261128196259996},{"$f":"'D-Bestand Strommenge'!X10","v":30.610883390260007},{"$f":"'D-Bestand Strommenge'!Y10","v":27.850498360859998},{"$f":"'D-Bestand Strommenge'!Z10","v":26.586956992859999},{"$f":"'D-Bestand Strommenge'!AA10","v":22.168137543819999},{"$f":"'D-Bestand Strommenge'!AB10","v":19.832695696769999},{"$f":"'D-Bestand Strommenge'!AC10","v":16.760894237149998},{"$f":"'D-Bestand Strommenge'!AD10","v":12.797513381539998},{"$f":"'D-Bestand Strommenge'!AE10","v":7.8334225413099983},{"$f":"'D-Bestand Strommenge'!AF10","v":0},null,"v2.1.6"]
[70,null,null,null,"Wind Offshore",{"$f":"'D-Bestand Strommenge'!G11","v":0},{"$f":"'D-Bestand Strommenge'!H11","v":0},{"$f":"'D-Bestand Strommenge'!I11","v":0},{"$f":"'D-Bestand Strommenge'!J11","v":0},{"$f":"'D-Bestand Strommenge'!K11","v":3.4412280000000002},{"$f":"'D-Bestand Strommenge'!L11","v":3.4412280000000002},{"$f":"'D-Bestand Strommenge'!M11","v":3.4412280000000002},{"$f":"'D-Bestand Strommenge'!N11","v":3.4412280000000002},{"$f":"'D-Bestand Strommenge'!O11","v":3.4412280000000002},{"$f":"'D-Bestand Strommenge'!P11","v":3.4412280000000002},{"$f":"'D-Bestand Strommenge'!Q11","v":3.4412280000000002},{"$f":"'D-Bestand Strommenge'!R11","v":3.4412280000000002},{"$f":"'D-Bestand Strommenge'!S11","v":3.4412280000000002},{"$f":"'D-Bestand Strommenge'!T11","v":3.4412280000000002},{"$f":"'D-Bestand Strommenge'!U11","v":3.4412280000000002},{"$f":"'D-Bestand Strommenge'!V11","v":3.4412280000000002},{"$f":"'D-Bestand Strommenge'!W11","v":3.4412280000000002},{"$f":"'D-Bestand Strommenge'!X11","v":3.4412280000000002},{"$f":"'D-Bestand Strommenge'!Y11","v":3.4412280000000002},{"$f":"'D-Bestand Strommenge'!Z11","v":3.4412280000000002},{"$f":"'D-Bestand Strommenge'!AA11","v":3.3311363999999997},{"$f":"'D-Bestand Strommenge'!AB11","v":3.1753463999999996},{"$f":"'D-Bestand Strommenge'!AC11","v":2.8004118},{"$f":"'D-Bestand Strommenge'!AD11","v":2.5234517999999997},{"$f":"'D-Bestand Strommenge'!AE11","v":1.6925717999999998},{"$f":"'D-Bestand Strommenge'!AF11","v":0},null,"v2.1.6"]
[71,null,null,null,"Solar",{"$f":"'D-Bestand Strommenge'!G12","v":0},{"$f":"'D-Bestand Strommenge'!H12","v":0},{"$f":"'D-Bestand Strommenge'!I12","v":0},{"$f":"'D-Bestand Strommenge'!J12","v":0},{"$f":"'D-Bestand Strommenge'!K12","v":36.384},{"$f":"'D-Bestand Strommenge'!L12","v":36.384},{"$f":"'D-Bestand Strommenge'!M12","v":36.384},{"$f":"'D-Bestand Strommenge'!N12","v":36.384},{"$f":"'D-Bestand Strommenge'!O12","v":36.384},{"$f":"'D-Bestand Strommenge'!P12","v":36.384},{"$f":"'D-Bestand Strommenge'!Q12","v":36.384},{"$f":"'D-Bestand Strommenge'!R12","v":36.264986405760055},{"$f":"'D-Bestand Strommenge'!S12","v":36.160693263360059},{"$f":"'D-Bestand Strommenge'!T12","v":36.054880575360059},{"$f":"'D-Bestand Strommenge'!U12","v":35.918131887360062},{"$f":"'D-Bestand Strommenge'!V12","v":35.28834375936006},{"$f":"'D-Bestand Strommenge'!W12","v":34.400725781760059},{"$f":"'D-Bestand Strommenge'!X12","v":33.589914629760059},{"$f":"'D-Bestand Strommenge'!Y12","v":32.386313548800054},{"$f":"'D-Bestand Strommenge'!Z12","v":30.485952163200057},{"$f":"'D-Bestand Strommenge'!AA12","v":26.225030716800042},{"$f":"'D-Bestand Strommenge'!AB12","v":18.934909430400008},{"$f":"'D-Bestand Strommenge'!AC12","v":11.254534972800007},{"$f":"'D-Bestand Strommenge'!AD12","v":4.6859328479999851},{"$f":"'D-Bestand Strommenge'!AE12","v":1.6757369183999977},{"$f":"'D-Bestand Strommenge'!AF12","v":0},null,"v2.1.6"]
[72,null,null,null,null,null,null,null,null,null,null,null,null,null,null,null,null,null,null,null,null,null,null,null,null,null,null,null,null,null,null,null,"v2.1.6"]
[73,null,null,null,"Verbleibende Zahlungen für Anlagen, die bis ende 2014 gebaut wurden (nominal) [Mrd. Euro/a]",null,null,null,null,null,null,null,null,null,null,null,null,null,null,null,null,null,null,null,null,null,null,null,null,null,null,null,"v2.1.6"]
[74,null,null,null,"Wasser",{"$f":"'D-Bestand Zahlungen'!G6","v":0},{"$f":"'D-Bestand Zahlungen'!H6","v":0},{"$f":"'D-Bestand Zahlungen'!I6","v":0},{"$f":"'D-Bestand Zahlungen'!J6","v":0},{"$f":"'D-Bestand Zahlungen'!K6","v":0.59286870539361292},{"$f":"'D-Bestand Zahlungen'!L6","v":0.59589834152286625},{"$f":"'D-Bestand Zahlungen'!M6","v":0.59589834152286625},{"$f":"'D-Bestand Zahlungen'!N6","v":0.59589834152286625},{"$f":"'D-Bestand Zahlungen'!O6","v":0.59589834152286625},{"$f":"'D-Bestand Zahlungen'!P6","v":0.59589834152286625},{"$f":"'D-Bestand Zahlungen'!Q6","v":0.59589834152286625},{"$f":"'D-Bestand Zahlungen'!R6","v":0.59589834152286625},{"$f":"'D-Bestand Zahlungen'!S6","v":0.59589834152286625},{"$f":"'D-Bestand Zahlungen'!T6","v":0.59589834152286625},{"$f":"'D-Bestand Zahlungen'!U6","v":0.59589834152286625},{"$f":"'D-Bestand Zahlungen'!V6","v":0.59589834152286625},{"$f":"'D-Bestand Zahlungen'!W6","v":0.59589834152286625},{"$f":"'D-Bestand Zahlungen'!X6","v":0.59589834152286625},{"$f":"'D-Bestand Zahlungen'!Y6","v":0.59589834152286625},{"$f":"'D-Bestand Zahlungen'!Z6","v":0.59589834152286625},{"$f":"'D-Bestand Zahlungen'!AA6","v":0.54195695216777517},{"$f":"'D-Bestand Zahlungen'!AB6","v":0.50533948832503828},{"$f":"'D-Bestand Zahlungen'!AC6","v":0.47262537548595118},{"$f":"'D-Bestand Zahlungen'!AD6","v":0.45094447604902621},{"$f":"'D-Bestand Zahlungen'!AE6","v":0.40388984807890255},{"$f":"'D-Bestand Zahlungen'!AF6","v":0.39783057582039583},null,"v2.1.6"]
[75,null,null,null,"Gas",{"$f":"'D-Bestand Zahlungen'!G7","v":0},{"$f":"'D-Bestand Zahlungen'!H7","v":0},{"$f":"'D-Bestand Zahlungen'!I7","v":0},{"$f":"'D-Bestand Zahlungen'!J7","v":0},{"$f":"'D-Bestand Zahlungen'!K7","v":0.10088070045763399},{"$f":"'D-Bestand Zahlungen'!L7","v":0.10116121574165485},{"$f":"'D-Bestand Zahlungen'!M7","v":0.10116121574165485},{"$f":"'D-Bestand Zahlungen'!N7","v":0.10116121574165485},{"$f":"'D-Bestand Zahlungen'!O7","v":0.10116121574165485},{"$f":"'D-Bestand Zahlungen'!P7","v":0.10116121574165485},{"$f":"'D-Bestand Zahlungen'!Q7","v":0.10116121574165485},{"$f":"'D-Bestand Zahlungen'!R7","v":7.9133545585612253E-2},{"$f":"'D-Bestand Zahlungen'!S7","v":7.1727150881228011E-2},{"$f":"'D-Bestand Zahlungen'!T7","v":5.2864086060311559E-2},{"$f":"'D-Bestand Zahlungen'!U7","v":3.1357929537542545E-2},{"$f":"'D-Bestand Zahlungen'!V7","v":1.1322285335139877E-2},{"$f":"'D-Bestand Zahlungen'!W7","v":9.0650761329917826E-3},{"$f":"'D-Bestand Zahlungen'!X7","v":7.244575089586645E-3},{"$f":"'D-Bestand Zahlungen'!Y7","v":6.9699990613540114E-3},{"$f":"'D-Bestand Zahlungen'!Z7","v":6.741430146899088E-3},{"$f":"'D-Bestand Zahlungen'!AA7","v":3.8404013457238352E-3},{"$f":"'D-Bestand Zahlungen'!AB7","v":3.1931576106920341E-3},{"$f":"'D-Bestand Zahlungen'!AC7","v":1.0846120363654757E-3},{"$f":"'D-Bestand Zahlungen'!AD7","v":8.5736373947492236E-4},{"$f":"'D-Bestand Zahlungen'!AE7","v":5.6103056804173075E-4},{"$f":"'D-Bestand Zahlungen'!AF7","v":0},null,"v2.1.6"]
[76,null,null,null,"Biomasse",{"$f":"'D-Bestand Zahlungen'!G8","v":0},{"$f":"'D-Bestand Zahlungen'!H8","v":0},{"$f":"'D-Bestand Zahlungen'!I8","v":0},{"$f":"'D-Bestand Zahlungen'!J8","v":0},{"$f":"'D-Bestand Zahlungen'!K8","v":7.2799949454380881},{"$f":"'D-Bestand Zahlungen'!L8","v":7.2822097617115737},{"$f":"'D-Bestand Zahlungen'!M8","v":7.2822097617115737},{"$f":"'D-Bestand Zahlungen'!N8","v":7.2822097617115737},{"$f":"'D-Bestand Zahlungen'!O8","v":7.2822097617115737},{"$f":"'D-Bestand Zahlungen'!P8","v":7.2822097617115737},{"$f":"'D-Bestand Zahlungen'!Q8","v":7.2822097617115737},{"$f":"'D-Bestand Zahlungen'!R8","v":7.1835599193497597},{"$f":"'D-Bestand Zahlungen'!S8","v":7.0063821479103723},{"$f":"'D-Bestand Zahlungen'!T8","v":6.8884682715222976},{"$f":"'D-Bestand Zahlungen'!U8","v":6.7127656435478675},{"$f":"'D-Bestand Zahlungen'!V8","v":6.2423181166542427},{"$f":"'D-Bestand Zahlungen'!W8","v":5.4761455165830508},{"$f":"'D-Bestand Zahlungen'!X8","v":4.5511637155272862},{"$f":"'D-Bestand Zahlungen'!Y8","v":3.8293232180234993},{"$f":"'D-Bestand Zahlungen'!Z8","v":3.4436416618349535},{"$f":"'D-Bestand Zahlungen'!AA8","v":2.9305329049374462},{"$f":"'D-Bestand Zahlungen'!AB8","v":2.1644259699180277},{"$f":"'D-Bestand Zahlungen'!AC8","v":0.89513810954450024},{"$f":"'D-Bestand Zahlungen'!AD8","v":0.51884364039180542},{"$f":"'D-Bestand Zahlungen'!AE8","v":0.23001388790139352},{"$f":"'D-Bestand Zahlungen'!AF8","v":0},null,"v2.1.6"]
[77,null,null,null,"Geothermie",{"$f":"'D-Bestand Zahlungen'!G9","v":0},{"$f":"'D-Bestand Zahlungen'!H9","v":0},{"$f":"'D-Bestand Zahlungen'!I9","v":0},{"$f":"'D-Bestand Zahlungen'!J9","v":0},{"$f":"'D-Bestand Zahlungen'!K9","v":3.5347562923361824E-2},{"$f":"'D-Bestand Zahlungen'!L9","v":3.7412390998028656E-2},{"$f":"'D-Bestand Zahlungen'!M9","v":3.7412390998028656E-2},{"$f":"'D-Bestand Zahlungen'!N9","v":3.7412390998028656E-2},{"$f":"'D-Bestand Zahlungen'!O9","v":3.7412390998028656E-2},{"$f":"'D-Bestand Zahlungen'!P9","v":3.7412390998028656E-2},{"$f":"'D-Bestand Zahlungen'!Q9","v":3.7412390998028656E-2},{"$f":"'D-Bestand Zahlungen'!R9","v":3.7412390998028656E-2},{"$f":"'D-Bestand Zahlungen'!S9","v":3.7412390998028656E-2},{"$f":"'D-Bestand Zahlungen'!T9","v":3.7412390998028656E-2},{"$f":"'D-Bestand Zahlungen'!U9","v":3.7412390998028656E-2},{"$f":"'D-Bestand Zahlungen'!V9","v":3.7412390998028656E-2},{"$f":"'D-Bestand Zahlungen'!W9","v":3.7412390998028656E-2},{"$f":"'D-Bestand Zahlungen'!X9","v":3.7412390998028656E-2},{"$f":"'D-Bestand Zahlungen'!Y9","v":3.7412390998028656E-2},{"$f":"'D-Bestand Zahlungen'!Z9","v":3.7412390998028656E-2},{"$f":"'D-Bestand Zahlungen'!AA9","v":3.5255721675931898E-2},{"$f":"'D-Bestand Zahlungen'!AB9","v":3.5255721675931898E-2},{"$f":"'D-Bestand Zahlungen'!AC9","v":3.5255721675931898E-2},{"$f":"'D-Bestand Zahlungen'!AD9","v":2.0118844946834122E-2},{"$f":"'D-Bestand Zahlungen'!AE9","v":4.1296561493336659E-3},{"$f":"'D-Bestand Zahlungen'!AF9","v":0},null,"v2.1.6"]
[78,null,null,null,"Wind Onshore",{"$f":"'D-Bestand Zahlungen'!G10","v":0},{"$f":"'D-Bestand Zahlungen'!H10","v":0},{"$f":"'D-Bestand Zahlungen'!I10","v":0},{"$f":"'D-Bestand Zahlungen'!J10","v":0},{"$f":"'D-Bestand Zahlungen'!K10","v":5.913608732102106},{"$f":"'D-Bestand Zahlungen'!L10","v":5.9080181485994006},{"$f":"'D-Bestand Zahlungen'!M10","v":5.8559783800617975},{"$f":"'D-Bestand Zahlungen'!N10","v":5.7958207532086137},{"$f":"'D-Bestand Zahlungen'!O10","v":5.7206040650143537},{"$f":"'D-Bestand Zahlungen'!P10","v":5.5391983038891324},{"$f":"'D-Bestand Zahlungen'!Q10","v":5.3450702699699582},{"$f":"'D-Bestand Zahlungen'!R10","v":5.0040482709215501},{"$f":"'D-Bestand Zahlungen'!S10","v":4.5933769461465612},{"$f":"'D-Bestand Zahlungen'!T10","v":4.1397134228611003},{"$f":"'D-Bestand Zahlungen'!U10","v":3.7472829262103087},{"$f":"'D-Bestand Zahlungen'!V10","v":3.4352475905939217},{"$f":"'D-Bestand Zahlungen'!W10","v":3.1723216082086347},{"$f":"'D-Bestand Zahlungen'!X10","v":2.9186027412083968},{"$f":"'D-Bestand Zahlungen'!Y10","v":2.5442182293103834},{"$f":"'D-Bestand Zahlungen'!Z10","v":2.3488502345062381},{"$f":"'D-Bestand Zahlungen'!AA10","v":1.9616616738554147},{"$f":"'D-Bestand Zahlungen'!AB10","v":1.6397653312195617},{"$f":"'D-Bestand Zahlungen'!AC10","v":1.212221907437363},{"$f":"'D-Bestand Zahlungen'!AD10","v":0.62948449664969264},{"$f":"'D-Bestand Zahlungen'!AE10","v":0.38775441579484493},{"$f":"'D-Bestand Zahlungen'!AF10","v":0},null,"v2.1.6"]
[79,null,null,null,"Wind Offshore",{"$f":"'D-Bestand Zahlungen'!G11","v":0},{"$f":"'D-Bestand Zahlungen'!H11","v":0},{"$f":"'D-Bestand Zahlungen'!I11","v":0},{"$f":"'D-Bestand Zahlungen'!J11","v":0},{"$f":"'D-Bestand Zahlungen'!K11","v":0.60716545563098923},{"$f":"'D-Bestand Zahlungen'!L11","v":0.60356357547678685},{"$f":"'D-Bestand Zahlungen'!M11","v":0.60356357547678685},{"$f":"'D-Bestand Zahlungen'!N11","v":0.60356357547678685},{"$f":"'D-Bestand Zahlungen'!O11","v":0.60356357547678685},{"$f":"'D-Bestand Zahlungen'!P11","v":0.60356357547678685},{"$f":"'D-Bestand Zahlungen'!Q11","v":0.60356357547678685},{"$f":"'D-Bestand Zahlungen'!R11","v":0.59254805064153393},{"$f":"'D-Bestand Zahlungen'!S11","v":0.56103308229646875},{"$f":"'D-Bestand Zahlungen'!T11","v":0.49277975552190662},{"$f":"'D-Bestand Zahlungen'!U11","v":0.46000856913702937},{"$f":"'D-Bestand Zahlungen'!V11","v":0.35126853272283842},{"$f":"'D-Bestand Zahlungen'!W11","v":0.15540393694483204},{"$f":"'D-Bestand Zahlungen'!X11","v":0.10890415353008552},{"$f":"'D-Bestand Zahlungen'!Y11","v":0.10880177353992368},{"$f":"'D-Bestand Zahlungen'!Z11","v":0.10865322218164962},{"$f":"'D-Bestand Zahlungen'!AA11","v":0.1045481204783134},{"$f":"'D-Bestand Zahlungen'!AB11","v":9.8851901663614142E-2},{"$f":"'D-Bestand Zahlungen'!AC11","v":8.5362751275515861E-2},{"$f":"'D-Bestand Zahlungen'!AD11","v":7.5324521014464643E-2},{"$f":"'D-Bestand Zahlungen'!AE11","v":4.6121585919529411E-2},{"$f":"'D-Bestand Zahlungen'!AF11","v":0},null,"v2.1.6"]
[80,null,null,null,"Solar",{"$f":"'D-Bestand Zahlungen'!G12","v":0},{"$f":"'D-Bestand Zahlungen'!H12","v":0},{"$f":"'D-Bestand Zahlungen'!I12","v":0},{"$f":"'D-Bestand Zahlungen'!J12","v":0},{"$f":"'D-Bestand Zahlungen'!K12","v":11.066647591016324},{"$f":"'D-Bestand Zahlungen'!L12","v":10.908026153270542},{"$f":"'D-Bestand Zahlungen'!M12","v":10.908026153270542},{"$f":"'D-Bestand Zahlungen'!N12","v":10.908026153270542},{"$f":"'D-Bestand Zahlungen'!O12","v":10.908026153270542},{"$f":"'D-Bestand Zahlungen'!P12","v":10.908026153270542},{"$f":"'D-Bestand Zahlungen'!Q12","v":10.908026153270542},{"$f":"'D-Bestand Zahlungen'!R12","v":10.86119713155138},{"$f":"'D-Bestand Zahlungen'!S12","v":10.811821691314007},{"$f":"'D-Bestand Zahlungen'!T12","v":10.762723491319454},{"$f":"'D-Bestand Zahlungen'!U12","v":10.700911781188493},{"$f":"'D-Bestand Zahlungen'!V12","v":10.350049468665192},{"$f":"'D-Bestand Zahlungen'!W12","v":9.8807645450106261},{"$f":"'D-Bestand Zahlungen'!X12","v":9.4713339193349313},{"$f":"'D-Bestand Zahlungen'!Y12","v":8.8991898717387148},{"$f":"'D-Bestand Zahlungen'!Z12","v":8.0374772613756083},{"$f":"'D-Bestand Zahlungen'!AA12","v":6.2929346397361767},{"$f":"'D-Bestand Zahlungen'!AB12","v":3.7425659024949911},{"$f":"'D-Bestand Zahlungen'!AC12","v":1.7293195011654334},{"$f":"'D-Bestand Zahlungen'!AD12","v":0.49607269647010133},{"$f":"'D-Bestand Zahlungen'!AE12","v":0.15176649063590028},{"$f":"'D-Bestand Zahlungen'!AF12","v":0},null,"v2.1.6"]
[81,null,null,null,null,null,null,null,null,null,null,null,null,null,null,null,null,null,null,null,null,null,null,null,null,null,null,null,null,null,null,null,"v2.1.6"]
[82,null,null,null,"Standardauslastung Neuanlagen [h]"]
[83,{"$f":"'D-Standardauslastung'!C$6","v":"Referenz"},{"$f":"'D-Standardauslastung'!D$6","v":"fh"},{"$f":"'D-Standardauslastung'!E$6","v":"MFP Trend"},"Wasser",{"$f":"'D-Standardauslastung'!G$6","v":0},{"$f":"'D-Standardauslastung'!H$6","v":0},{"$f":"'D-Standardauslastung'!I$6","v":0},{"$f":"'D-Standardauslastung'!J$6","v":0},{"$f":"'D-Standardauslastung'!K$6","v":0},{"$f":"'D-Standardauslastung'!L$6","v":3956},{"$f":"'D-Standardauslastung'!M$6","v":3956},{"$f":"'D-Standardauslastung'!N$6","v":3956},{"$f":"'D-Standardauslastung'!O$6","v":3956},{"$f":"'D-Standardauslastung'!P$6","v":3956},{"$f":"'D-Standardauslastung'!Q$6","v":3956},{"$f":"'D-Standardauslastung'!R$6","v":3950},{"$f":"'D-Standardauslastung'!S$6","v":3950},{"$f":"'D-Standardauslastung'!T$6","v":3950},{"$f":"'D-Standardauslastung'!U$6","v":3960},{"$f":"'D-Standardauslastung'!V$6","v":3950},{"$f":"'D-Standardauslastung'!W$6","v":3950},{"$f":"'D-Standardauslastung'!X$6","v":3950},{"$f":"'D-Standardauslastung'!Y$6","v":3950},{"$f":"'D-Standardauslastung'!Z$6","v":3950},{"$f":"'D-Standardauslastung'!AA$6","v":3950},{"$f":"'D-Standardauslastung'!AB$6","v":3950},{"$f":"'D-Standardauslastung'!AC$6","v":3950},{"$f":"'D-Standardauslastung'!AD$6","v":3950},{"$f":"'D-Standardauslastung'!AE$6","v":3950},{"$f":"'D-Standardauslastung'!AF$6","v":3950}]
[84,{"$f":"'D-Standardauslastung'!C$7","v":"Referenz"},{"$f":"'D-Standardauslastung'!D$7","v":"fh"},{"$f":"'D-Standardauslastung'!E$7","v":"MFP Trend"},"Gas",{"$f":"'D-Standardauslastung'!G$7","v":0},{"$f":"'D-Standardauslastung'!H$7","v":0},{"$f":"'D-Standardauslastung'!I$7","v":0},{"$f":"'D-Standardauslastung'!J$7","v":0},{"$f":"'D-Standardauslastung'!K$7","v":0},{"$f":"'D-Standardauslastung'!L$7","v":2901},{"$f":"'D-Standardauslastung'!M$7","v":2901},{"$f":"'D-Standardauslastung'!N$7","v":3944},{"$f":"'D-Standardauslastung'!O$7","v":3767},{"$f":"'D-Standardauslastung'!P$7","v":3685},{"$f":"'D-Standardauslastung'!Q$7","v":3372.3653395784545},{"$f":"'D-Standardauslastung'!R$7","v":4128.712871287129},{"$f":"'D-Standardauslastung'!S$7","v":4306.8592057761734},{"$f":"'D-Standardauslastung'!T$7","v":5080.7174887892379},{"$f":"'D-Standardauslastung'!U$7","v":5776.3975155279504},{"$f":"'D-Standardauslastung'!V$7","v":5222.2222222222226},{"$f":"'D-Standardauslastung'!W$7","v":5222.2222222222226},{"$f":"'D-Standardauslastung'!X$7","v":5222.2222222222226},{"$f":"'D-Standardauslastung'!Y$7","v":5222.2222222222226},{"$f":"'D-Standardauslastung'!Z$7","v":5222.2222222222226},{"$f":"'D-Standardauslastung'!AA$7","v":5222.2222222222226},{"$f":"'D-Standardauslastung'!AB$7","v":5222.2222222222226},{"$f":"'D-Standardauslastung'!AC$7","v":5222.2222222222226},{"$f":"'D-Standardauslastung'!AD$7","v":5222.2222222222226},{"$f":"'D-Standardauslastung'!AE$7","v":5222.2222222222226},{"$f":"'D-Standardauslastung'!AF$7","v":5222.2222222222226}]
[85,{"$f":"'D-Standardauslastung'!C$8","v":"Referenz"},{"$f":"'D-Standardauslastung'!D$8","v":"fh"},{"$f":"'D-Standardauslastung'!E$8","v":"MFP Trend"},"Biomasse",{"$f":"'D-Standardauslastung'!G$8","v":0},{"$f":"'D-Standardauslastung'!H$8","v":0},{"$f":"'D-Standardauslastung'!I$8","v":0},{"$f":"'D-Standardauslastung'!J$8","v":0},{"$f":"'D-Standardauslastung'!K$8","v":0},{"$f":"'D-Standardauslastung'!L$8","v":5605},{"$f":"'D-Standardauslastung'!M$8","v":4000},{"$f":"'D-Standardauslastung'!N$8","v":4000},{"$f":"'D-Standardauslastung'!O$8","v":4000},{"$f":"'D-Standardauslastung'!P$8","v":4000},{"$f":"'D-Standardauslastung'!Q$8","v":4000},{"$f":"'D-Standardauslastung'!R$8","v":4000},{"$f":"'D-Standardauslastung'!S$8","v":4000},{"$f":"'D-Standardauslastung'!T$8","v":4000},{"$f":"'D-Standardauslastung'!U$8","v":4000},{"$f":"'D-Standardauslastung'!V$8","v":4000},{"$f":"'D-Standardauslastung'!W$8","v":4000},{"$f":"'D-Standardauslastung'!X$8","v":4000},{"$f":"'D-Standardauslastung'!Y$8","v":4000},{"$f":"'D-Standardauslastung'!Z$8","v":4000},{"$f":"'D-Standardauslastung'!AA$8","v":4000},{"$f":"'D-Standardauslastung'!AB$8","v":4000},{"$f":"'D-Standardauslastung'!AC$8","v":4000},{"$f":"'D-Standardauslastung'!AD$8","v":4000},{"$f":"'D-Standardauslastung'!AE$8","v":4000},{"$f":"'D-Standardauslastung'!AF$8","v":4000}]
[86,{"$f":"'D-Standardauslastung'!C$9","v":"Referenz"},{"$f":"'D-Standardauslastung'!D$9","v":"fh"},{"$f":"'D-Standardauslastung'!E$9","v":"MFP Trend"},"Geothermie",{"$f":"'D-Standardauslastung'!G$9","v":0},{"$f":"'D-Standardauslastung'!H$9","v":0},{"$f":"'D-Standardauslastung'!I$9","v":0},{"$f":"'D-Standardauslastung'!J$9","v":0},{"$f":"'D-Standardauslastung'!K$9","v":0},{"$f":"'D-Standardauslastung'!L$9","v":4341},{"$f":"'D-Standardauslastung'!M$9","v":4341},{"$f":"'D-Standardauslastung'!N$9","v":6304},{"$f":"'D-Standardauslastung'!O$9","v":6304},{"$f":"'D-Standardauslastung'!P$9","v":6406},{"$f":"'D-Standardauslastung'!Q$9","v":5457},{"$f":"'D-Standardauslastung'!R$9","v":5797},{"$f":"'D-Standardauslastung'!S$9","v":5797},{"$f":"'D-Standardauslastung'!T$9","v":5797},{"$f":"'D-Standardauslastung'!U$9","v":5815},{"$f":"'D-Standardauslastung'!V$9","v":5797},{"$f":"'D-Standardauslastung'!W$9","v":5797},{"$f":"'D-Standardauslastung'!X$9","v":5797},{"$f":"'D-Standardauslastung'!Y$9","v":5797},{"$f":"'D-Standardauslastung'!Z$9","v":5797},{"$f":"'D-Standardauslastung'!AA$9","v":5797},{"$f":"'D-Standardauslastung'!AB$9","v":5797},{"$f":"'D-Standardauslastung'!AC$9","v":5797},{"$f":"'D-Standardauslastung'!AD$9","v":5797},{"$f":"'D-Standardauslastung'!AE$9","v":5797},{"$f":"'D-Standardauslastung'!AF$9","v":5797}]
[87,{"$f":"'D-Standardauslastung'!C$10","v":"Referenz"},{"$f":"'D-Standardauslastung'!D$10","v":"fh"},{"$f":"'D-Standardauslastung'!E$10","v":"Anstieg auf 2600h in 2035"},"Wind Onshore",{"$f":"'D-Standardauslastung'!G$10","v":0},{"$f":"'D-Standardauslastung'!H$10","v":0},{"$f":"'D-Standardauslastung'!I$10","v":0},{"$f":"'D-Standardauslastung'!J$10","v":0},{"$f":"'D-Standardauslastung'!K$10","v":0},{"$f":"'D-Standardauslastung'!L$10","v":2258.3528764765942},{"$f":"'D-Standardauslastung'!M$10","v":2316.6989503493969},{"$f":"'D-Standardauslastung'!N$10","v":2375.0450242222141},{"$f":"'D-Standardauslastung'!O$10","v":2433.3910980950168},{"$f":"'D-Standardauslastung'!P$10","v":2491.737171967834},{"$f":"'D-Standardauslastung'!Q$10","v":2491.737171967834},{"$f":"'D-Standardauslastung'!R$10","v":2491.737171967834},{"$f":"'D-Standardauslastung'!S$10","v":2133},{"$f":"'D-Standardauslastung'!T$10","v":2186},{"$f":"'D-Standardauslastung'!U$10","v":2246},{"$f":"'D-Standardauslastung'!V$10","v":2364},{"$f":"'D-Standardauslastung'!W$10","v":2423},{"$f":"'D-Standardauslastung'!X$10","v":2458.4},{"$f":"'D-Standardauslastung'!Y$10","v":2482},{"$f":"'D-Standardauslastung'!Z$10","v":2498.8571428571427},{"$f":"'D-Standardauslastung'!AA$10","v":2511.5},{"$f":"'D-Standardauslastung'!AB$10","v":2521.3333333333335},{"$f":"'D-Standardauslastung'!AC$10","v":2529.2000000000003},{"$f":"'D-Standardauslastung'!AD$10","v":2535.636363636364},{"$f":"'D-Standardauslastung'!AE$10","v":2541.0000000000005},{"$f":"'D-Standardauslastung'!AF$10","v":2600}]
[88,{"$f":"'D-Standardauslastung'!C$11","v":"Referenz"},{"$f":"'D-Standardauslastung'!D$11","v":"as/pl/fh"},{"$f":"'D-Standardauslastung'!E$11","v":"Anstieg auf 4700 h in 2035"},"Wind Offshore",{"$f":"'D-Standardauslastung'!G$11","v":0},{"$f":"'D-Standardauslastung'!H$11","v":0},{"$f":"'D-Standardauslastung'!I$11","v":0},{"$f":"'D-Standardauslastung'!J$11","v":0},{"$f":"'D-Standardauslastung'!K$11","v":0},{"$f":"'D-Standardauslastung'!L$11","v":3462},{"$f":"'D-Standardauslastung'!M$11","v":3562},{"$f":"'D-Standardauslastung'!N$11","v":3662},{"$f":"'D-Standardauslastung'!O$11","v":3762},{"$f":"'D-Standardauslastung'!P$11","v":3862},{"$f":"'D-Standardauslastung'!Q$11","v":3962},{"$f":"'D-Standardauslastung'!R$11","v":4259},{"$f":"'D-Standardauslastung'!S$11","v":4270},{"$f":"'D-Standardauslastung'!T$11","v":4302},{"$f":"'D-Standardauslastung'!U$11","v":4360},{"$f":"'D-Standardauslastung'!V$11","v":4473.333333333333},{"$f":"'D-Standardauslastung'!W$11","v":4530},{"$f":"'D-Standardauslastung'!X$11","v":4564},{"$f":"'D-Standardauslastung'!Y$11","v":4586.666666666667},{"$f":"'D-Standardauslastung'!Z$11","v":4602.8571428571431},{"$f":"'D-Standardauslastung'!AA$11","v":4615},{"$f":"'D-Standardauslastung'!AB$11","v":4624.4444444444443},{"$f":"'D-Standardauslastung'!AC$11","v":4632},{"$f":"'D-Standardauslastung'!AD$11","v":4638.181818181818},{"$f":"'D-Standardauslastung'!AE$11","v":4643.333333333333},{"$f":"'D-Standardauslastung'!AF$11","v":4700}]
[89,{"$f":"'D-Standardauslastung'!C$12","v":"Referenz"},{"$f":"'D-Standardauslastung'!D$12","v":"fh"},{"$f":"'D-Standardauslastung'!E$12","v":"Anstieg auf 950h in 2035"},"Solar",{"$f":"'D-Standardauslastung'!G$12","v":0},{"$f":"'D-Standardauslastung'!H$12","v":0},{"$f":"'D-Standardauslastung'!I$12","v":0},{"$f":"'D-Standardauslastung'!J$12","v":0},{"$f":"'D-Standardauslastung'!K$12","v":0},{"$f":"'D-Standardauslastung'!L$12","v":960},{"$f":"'D-Standardauslastung'!M$12","v":960},{"$f":"'D-Standardauslastung'!N$12","v":960},{"$f":"'D-Standardauslastung'!O$12","v":965},{"$f":"'D-Standardauslastung'!P$12","v":965},{"$f":"'D-Standardauslastung'!Q$12","v":965},{"$f":"'D-Standardauslastung'!R$12","v":965},{"$f":"'D-Standardauslastung'!S$12","v":884.96877931993924},{"$f":"'D-Standardauslastung'!T$12","v":899.03187575995446},{"$f":"'D-Standardauslastung'!U$12","v":900.07794920065294},{"$f":"'D-Standardauslastung'!V$12","v":900.01687241641127},{"$f":"'D-Standardauslastung'!W$12","v":904.26421610308171},{"$f":"'D-Standardauslastung'!X$12","v":908.51155978975214},{"$f":"'D-Standardauslastung'!Y$12","v":912.75890347642257},{"$f":"'D-Standardauslastung'!Z$12","v":917.00624716309301},{"$f":"'D-Standardauslastung'!AA$12","v":921.25359084976344},{"$f":"'D-Standardauslastung'!AB$12","v":925.50093453643387},{"$f":"'D-Standardauslastung'!AC$12","v":929.74827822310431},{"$f":"'D-Standardauslastung'!AD$12","v":933.99562190977474},{"$f":"'D-Standardauslastung'!AE$12","v":938.24296559644517},{"$f":"'D-Standardauslastung'!AF$12","v":950}]
[90]
[91,null,null,null,"Stromerzeugung gesamt aus ÜNB-Prognosen [TWh]"]
[92,{"$f":"'D-Strommenge ges.'!C$6","v":"Historisch"},{"$f":"'D-Strommenge ges.'!D$6","v":"fh"},{"$f":"'D-Strommenge ges.'!E$6","v":"ÜNB Jahresprognose"},"Wasser",{"$f":"'D-Strommenge ges.'!G$6","v":5.444},{"$f":"'D-Strommenge ges.'!H$6","v":6.0667459999999993},{"$f":"'D-Strommenge ges.'!I$6","v":5.8298559999999995},{"$f":"'D-Strommenge ges.'!J$6","v":6.2952879999999993},{"$f":"'D-Strommenge ges.'!K$6","v":6.154331},{"$f":"'D-Strommenge ges.'!L$6","v":6.0918529999999995},{"$f":"'D-Strommenge ges.'!M$6","v":6.2462140000000002},{"$f":"'D-Strommenge ges.'!N$6","v":6.2808169999999999},{"$f":"'D-Strommenge ges.'!O$6","v":5.9237959999999994},{"$f":"'D-Strommenge ges.'!P$6","v":6.5145869999999997},{"$f":"'D-Strommenge ges.'!Q$6","v":6.250337},{"$f":"'D-Strommenge ges.'!R$6","v":6.378431},{"$f":"'D-Strommenge ges.'!S$6","v":0},{"$f":"'D-Strommenge ges.'!T$6","v":0},{"$f":"'D-Strommenge ges.'!U$6","v":0},{"$f":"'D-Strommenge ges.'!V$6","v":0},{"$f":"'D-Strommenge ges.'!W$6","v":0},{"$f":"'D-Strommenge ges.'!X$6","v":0},{"$f":"'D-Strommenge ges.'!Y$6","v":0},{"$f":"'D-Strommenge ges.'!Z$6","v":0},{"$f":"'D-Strommenge ges.'!AA$6","v":0},{"$f":"'D-Strommenge ges.'!AB$6","v":0},{"$f":"'D-Strommenge ges.'!AC$6","v":0},{"$f":"'D-Strommenge ges.'!AD$6","v":0},{"$f":"'D-Strommenge ges.'!AE$6","v":0},{"$f":"'D-Strommenge ges.'!AF$6","v":0}]
[93,{"$f":"'D-Strommenge ges.'!C$7","v":"Historisch"},{"$f":"'D-Strommenge ges.'!D$7","v":"fh"},{"$f":"'D-Strommenge ges.'!E$7","v":"ÜNB Jahresprognose"},"Gas",{"$f":"'D-Strommenge ges.'!G$7","v":1.835},{"$f":"'D-Strommenge ges.'!H$7","v":1.993012},{"$f":"'D-Strommenge ges.'!I$7","v":1.667049},{"$f":"'D-Strommenge ges.'!J$7","v":1.9069669999999999},{"$f":"'D-Strommenge ges.'!K$7","v":1.824149},{"$f":"'D-Strommenge ges.'!L$7","v":1.6785699999999999},{"$f":"'D-Strommenge ges.'!M$7","v":1.607626},{"$f":"'D-Strommenge ges.'!N$7","v":1.3880729999999999},{"$f":"'D-Strommenge ges.'!O$7","v":1.6777449999999998},{"$f":"'D-Strommenge ges.'!P$7","v":1.7078559999999998},{"$f":"'D-Strommenge ges.'!Q$7","v":1.4397339999999998},{"$f":"'D-Strommenge ges.'!R$7","v":1.2507809999999999},{"$f":"'D-Strommenge ges.'!S$7","v":0},{"$f":"'D-Strommenge ges.'!T$7","v":0},{"$f":"'D-Strommenge ges.'!U$7","v":0},{"$f":"'D-Strommenge ges.'!V$7","v":0},{"$f":"'D-Strommenge ges.'!W$7","v":0},{"$f":"'D-Strommenge ges.'!X$7","v":0},{"$f":"'D-Strommenge ges.'!Y$7","v":0},{"$f":"'D-Strommenge ges.'!Z$7","v":0},{"$f":"'D-Strommenge ges.'!AA$7","v":0},{"$f":"'D-Strommenge ges.'!AB$7","v":0},{"$f":"'D-Strommenge ges.'!AC$7","v":0},{"$f":"'D-Strommenge ges.'!AD$7","v":0},{"$f":"'D-Strommenge ges.'!AE$7","v":0},{"$f":"'D-Strommenge ges.'!AF$7","v":0}]
[94,{"$f":"'D-Strommenge ges.'!C$8","v":"Historisch"},{"$f":"'D-Strommenge ges.'!D$8","v":"fh"},{"$f":"'D-Strommenge ges.'!E$8","v":"ÜNB Jahresprognose"},"Biomasse",{"$f":"'D-Strommenge ges.'!G$8","v":26.262},{"$f":"'D-Strommenge ges.'!H$8","v":27.776935999999999},{"$f":"'D-Strommenge ges.'!I$8","v":30.355590999999997},{"$f":"'D-Strommenge ges.'!J$8","v":33.165135999999997},{"$f":"'D-Strommenge ges.'!K$8","v":34.944730999999997},{"$f":"'D-Strommenge ges.'!L$8","v":38.357603999999995},{"$f":"'D-Strommenge ges.'!M$8","v":40.238844999999998},{"$f":"'D-Strommenge ges.'!N$8","v":40.770392999999999},{"$f":"'D-Strommenge ges.'!O$8","v":41.554488999999997},{"$f":"'D-Strommenge ges.'!P$8","v":41.351619999999997},{"$f":"'D-Strommenge ges.'!Q$8","v":41.746690000000001},{"$f":"'D-Strommenge ges.'!R$8","v":40.206693999999999},{"$f":"'D-Strommenge ges.'!S$8","v":0},{"$f":"'D-Strommenge ges.'!T$8","v":0},{"$f":"'D-Strommenge ges.'!U$8","v":0},{"$f":"'D-Strommenge ges.'!V$8","v":0},{"$f":"'D-Strommenge ges.'!W$8","v":0},{"$f":"'D-Strommenge ges.'!X$8","v":0},{"$f":"'D-Strommenge ges.'!Y$8","v":0},{"$f":"'D-Strommenge ges.'!Z$8","v":0},{"$f":"'D-Strommenge ges.'!AA$8","v":0},{"$f":"'D-Strommenge ges.'!AB$8","v":0},{"$f":"'D-Strommenge ges.'!AC$8","v":0},{"$f":"'D-Strommenge ges.'!AD$8","v":0},{"$f":"'D-Strommenge ges.'!AE$8","v":0},{"$f":"'D-Strommenge ges.'!AF$8","v":0}]
[95,{"$f":"'D-Strommenge ges.'!C$9","v":"Historisch"},{"$f":"'D-Strommenge ges.'!D$9","v":"fh"},{"$f":"'D-Strommenge ges.'!E$9","v":"ÜNB Jahresprognose"},"Geothermie",{"$f":"'D-Strommenge ges.'!G$9","v":3.5999999999999997E-2},{"$f":"'D-Strommenge ges.'!H$9","v":6.1612E-2},{"$f":"'D-Strommenge ges.'!I$9","v":0.10724},{"$f":"'D-Strommenge ges.'!J$9","v":7.6874999999999999E-2},{"$f":"'D-Strommenge ges.'!K$9","v":0.130407},{"$f":"'D-Strommenge ges.'!L$9","v":0.15870499999999998},{"$f":"'D-Strommenge ges.'!M$9","v":0.18035599999999999},{"$f":"'D-Strommenge ges.'!N$9","v":0.189524},{"$f":"'D-Strommenge ges.'!O$9","v":0.25728000000000001},{"$f":"'D-Strommenge ges.'!P$9","v":0.28638599999999997},{"$f":"'D-Strommenge ges.'!Q$9","v":0.214729},{"$f":"'D-Strommenge ges.'!R$9","v":0.26771400000000001},{"$f":"'D-Strommenge ges.'!S$9","v":0},{"$f":"'D-Strommenge ges.'!T$9","v":0},{"$f":"'D-Strommenge ges.'!U$9","v":0},{"$f":"'D-Strommenge ges.'!V$9","v":0},{"$f":"'D-Strommenge ges.'!W$9","v":0},{"$f":"'D-Strommenge ges.'!X$9","v":0},{"$f":"'D-Strommenge ges.'!Y$9","v":0},{"$f":"'D-Strommenge ges.'!Z$9","v":0},{"$f":"'D-Strommenge ges.'!AA$9","v":0},{"$f":"'D-Strommenge ges.'!AB$9","v":0},{"$f":"'D-Strommenge ges.'!AC$9","v":0},{"$f":"'D-Strommenge ges.'!AD$9","v":0},{"$f":"'D-Strommenge ges.'!AE$9","v":0},{"$f":"'D-Strommenge ges.'!AF$9","v":0}]
[96,{"$f":"'D-Strommenge ges.'!C$10","v":"Historisch"},{"$f":"'D-Strommenge ges.'!D$10","v":"fh"},{"$f":"'D-Strommenge ges.'!E$10","v":"ÜNB Jahresprognose"},"Wind Onshore",{"$f":"'D-Strommenge ges.'!G$10","v":47.704000000000001},{"$f":"'D-Strommenge ges.'!H$10","v":53.882748999999997},{"$f":"'D-Strommenge ges.'!I$10","v":50.125189999999996},{"$f":"'D-Strommenge ges.'!J$10","v":55.830889999999997},{"$f":"'D-Strommenge ges.'!K$10","v":62.190390000000001},{"$f":"'D-Strommenge ges.'!L$10","v":66.872687999999997},{"$f":"'D-Strommenge ges.'!M$10","v":75.948886000000002},{"$f":"'D-Strommenge ges.'!N$10","v":82.001902999999999},{"$f":"'D-Strommenge ges.'!O$10","v":92.724075999999997},{"$f":"'D-Strommenge ges.'!P$10","v":98.799182999999999},{"$f":"'D-Strommenge ges.'!Q$10","v":102.08820399999999},{"$f":"'D-Strommenge ges.'!R$10","v":101.185739},{"$f":"'D-Strommenge ges.'!S$10","v":0},{"$f":"'D-Strommenge ges.'!T$10","v":0},{"$f":"'D-Strommenge ges.'!U$10","v":0},{"$f":"'D-Strommenge ges.'!V$10","v":0},{"$f":"'D-Strommenge ges.'!W$10","v":0},{"$f":"'D-Strommenge ges.'!X$10","v":0},{"$f":"'D-Strommenge ges.'!Y$10","v":0},{"$f":"'D-Strommenge ges.'!Z$10","v":0},{"$f":"'D-Strommenge ges.'!AA$10","v":0},{"$f":"'D-Strommenge ges.'!AB$10","v":0},{"$f":"'D-Strommenge ges.'!AC$10","v":0},{"$f":"'D-Strommenge ges.'!AD$10","v":0},{"$f":"'D-Strommenge ges.'!AE$10","v":0},{"$f":"'D-Strommenge ges.'!AF$10","v":0}]
[97,{"$f":"'D-Strommenge ges.'!C$11","v":"Historisch"},{"$f":"'D-Strommenge ges.'!D$11","v":"fh"},{"$f":"'D-Strommenge ges.'!E$11","v":"ÜNB Jahresprognose"},"Wind Offshore",{"$f":"'D-Strommenge ges.'!G$11","v":0.65400000000000003},{"$f":"'D-Strommenge ges.'!H$11","v":1.1467909999999999},{"$f":"'D-Strommenge ges.'!I$11","v":1.361415},{"$f":"'D-Strommenge ges.'!J$11","v":2.4940419999999999},{"$f":"'D-Strommenge ges.'!K$11","v":7.397958},{"$f":"'D-Strommenge ges.'!L$11","v":11.231204},{"$f":"'D-Strommenge ges.'!M$11","v":15.379543999999999},{"$f":"'D-Strommenge ges.'!N$11","v":20.033355},{"$f":"'D-Strommenge ges.'!O$11","v":22.564405999999998},{"$f":"'D-Strommenge ges.'!P$11","v":26.466161},{"$f":"'D-Strommenge ges.'!Q$11","v":29.940075999999998},{"$f":"'D-Strommenge ges.'!R$11","v":29.638939999999998},{"$f":"'D-Strommenge ges.'!S$11","v":0},{"$f":"'D-Strommenge ges.'!T$11","v":0},{"$f":"'D-Strommenge ges.'!U$11","v":0},{"$f":"'D-Strommenge ges.'!V$11","v":0},{"$f":"'D-Strommenge ges.'!W$11","v":0},{"$f":"'D-Strommenge ges.'!X$11","v":0},{"$f":"'D-Strommenge ges.'!Y$11","v":0},{"$f":"'D-Strommenge ges.'!Z$11","v":0},{"$f":"'D-Strommenge ges.'!AA$11","v":0},{"$f":"'D-Strommenge ges.'!AB$11","v":0},{"$f":"'D-Strommenge ges.'!AC$11","v":0},{"$f":"'D-Strommenge ges.'!AD$11","v":0},{"$f":"'D-Strommenge ges.'!AE$11","v":0},{"$f":"'D-Strommenge ges.'!AF$11","v":0}]
[98,{"$f":"'D-Strommenge ges.'!C$12","v":"Historisch"},{"$f":"'D-Strommenge ges.'!D$12","v":"fh"},{"$f":"'D-Strommenge ges.'!E$12","v":"ÜNB Jahresprognose"},"Solar",{"$f":"'D-Strommenge ges.'!G$12","v":8.2959999999999994},{"$f":"'D-Strommenge ges.'!H$12","v":19.399286999999998},{"$f":"'D-Strommenge ges.'!I$12","v":24.072319},{"$f":"'D-Strommenge ges.'!J$12","v":34.673694999999995},{"$f":"'D-Strommenge ges.'!K$12","v":36.594586999999997},{"$f":"'D-Strommenge ges.'!L$12","v":36.096958000000001},{"$f":"'D-Strommenge ges.'!M$12","v":36.82555},{"$f":"'D-Strommenge ges.'!N$12","v":36.562143999999996},{"$f":"'D-Strommenge ges.'!O$12","v":39.173614999999998},{"$f":"'D-Strommenge ges.'!P$12","v":41.877699},{"$f":"'D-Strommenge ges.'!Q$12","v":43.939245999999997},{"$f":"'D-Strommenge ges.'!R$12","v":49.344335000000001},{"$f":"'D-Strommenge ges.'!S$12","v":0},{"$f":"'D-Strommenge ges.'!T$12","v":0},{"$f":"'D-Strommenge ges.'!U$12","v":0},{"$f":"'D-Strommenge ges.'!V$12","v":0},{"$f":"'D-Strommenge ges.'!W$12","v":0},{"$f":"'D-Strommenge ges.'!X$12","v":0},{"$f":"'D-Strommenge ges.'!Y$12","v":0},{"$f":"'D-Strommenge ges.'!Z$12","v":0},{"$f":"'D-Strommenge ges.'!AA$12","v":0},{"$f":"'D-Strommenge ges.'!AB$12","v":0},{"$f":"'D-Strommenge ges.'!AC$12","v":0},{"$f":"'D-Strommenge ges.'!AD$12","v":0},{"$f":"'D-Strommenge ges.'!AE$12","v":0},{"$f":"'D-Strommenge ges.'!AF$12","v":0}]
[99,null,null,null,"Gesamt",{"$f":"SUM(F101:F107)","v":90.230999999999995},110.32713299999998,113.51865999999998,134.44289299999997,149.23655299999999,160.48758199999997,176.427021,187.22620899999998,203.875407,217.00349199999999,225.61901599999999,228.27263399999998,0,0,0,0,0,0,0,0,0,0,0,0,0,0]
[100]
[101,null,null,null,"Strommenge Festvergütung (§23-33 EEG) aus ÜNB-Prognosen [TWh]",null,null,null,null,null,null,null,null,null,null,null,null,null,null,null,null,null,null,null,null,null,null,null,null,null,null,null,null,null,null,"umbenannt"]
[102,{"$f":"'D-Strommenge FV+DM'!C6","v":"Historisch"},{"$f":"'D-Strommenge FV+DM'!D6","v":"fh"},{"$f":"'D-Strommenge FV+DM'!E6","v":"ÜNB Jahresprognose"},"Wasser",{"$f":"'D-Strommenge FV+DM'!G6","v":5.444},{"$f":"'D-Strommenge FV+DM'!H6","v":2.0696829999999999},{"$f":"'D-Strommenge FV+DM'!I6","v":2.6419329999999999},{"$f":"'D-Strommenge FV+DM'!J6","v":1.4335309999999999},{"$f":"'D-Strommenge FV+DM'!K6","v":2.6266479999999999},{"$f":"'D-Strommenge FV+DM'!L6","v":2.5155029999999998},{"$f":"'D-Strommenge FV+DM'!M6","v":2.4509639999999999},{"$f":"'D-Strommenge FV+DM'!N6","v":3.2915449999999997},{"$f":"'D-Strommenge FV+DM'!O6","v":2.4494499999999997},{"$f":"'D-Strommenge FV+DM'!P6","v":2.4839579999999999},{"$f":"'D-Strommenge FV+DM'!Q6","v":2.2986149999999999},{"$f":"'D-Strommenge FV+DM'!R6","v":2.250448},{"$f":"'D-Strommenge FV+DM'!S6","v":0},{"$f":"'D-Strommenge FV+DM'!T6","v":0},{"$f":"'D-Strommenge FV+DM'!U6","v":0},{"$f":"'D-Strommenge FV+DM'!V6","v":0},{"$f":"'D-Strommenge FV+DM'!W6","v":0},{"$f":"'D-Strommenge FV+DM'!X6","v":0},{"$f":"'D-Strommenge FV+DM'!Y6","v":0},{"$f":"'D-Strommenge FV+DM'!Z6","v":0},{"$f":"'D-Strommenge FV+DM'!AA6","v":0},{"$f":"'D-Strommenge FV+DM'!AB6","v":0},{"$f":"'D-Strommenge FV+DM'!AC6","v":0},{"$f":"'D-Strommenge FV+DM'!AD6","v":0},{"$f":"'D-Strommenge FV+DM'!AE6","v":0},{"$f":"'D-Strommenge FV+DM'!AF6","v":0},null,null,null,null,"umbenannt"]
[103,{"$f":"'D-Strommenge FV+DM'!C7","v":"Historisch"},{"$f":"'D-Strommenge FV+DM'!D7","v":"fh"},{"$f":"'D-Strommenge FV+DM'!E7","v":"ÜNB Jahresprognose"},"Gas",{"$f":"'D-Strommenge FV+DM'!G7","v":1.835},{"$f":"'D-Strommenge FV+DM'!H7","v":0.19930099999999998},{"$f":"'D-Strommenge FV+DM'!I7","v":0.434035},{"$f":"'D-Strommenge FV+DM'!J7","v":0.26808399999999999},{"$f":"'D-Strommenge FV+DM'!K7","v":0.274088},{"$f":"'D-Strommenge FV+DM'!L7","v":0.72458999999999996},{"$f":"'D-Strommenge FV+DM'!M7","v":0.67505300000000001},{"$f":"'D-Strommenge FV+DM'!N7","v":0.48945699999999998},{"$f":"'D-Strommenge FV+DM'!O7","v":0.40027299999999999},{"$f":"'D-Strommenge FV+DM'!P7","v":0.30525099999999999},{"$f":"'D-Strommenge FV+DM'!Q7","v":0.23846799999999999},{"$f":"'D-Strommenge FV+DM'!R7","v":0.12540099999999998},{"$f":"'D-Strommenge FV+DM'!S7","v":0},{"$f":"'D-Strommenge FV+DM'!T7","v":0},{"$f":"'D-Strommenge FV+DM'!U7","v":0},{"$f":"'D-Strommenge FV+DM'!V7","v":0},{"$f":"'D-Strommenge FV+DM'!W7","v":0},{"$f":"'D-Strommenge FV+DM'!X7","v":0},{"$f":"'D-Strommenge FV+DM'!Y7","v":0},{"$f":"'D-Strommenge FV+DM'!Z7","v":0},{"$f":"'D-Strommenge FV+DM'!AA7","v":0},{"$f":"'D-Strommenge FV+DM'!AB7","v":0},{"$f":"'D-Strommenge FV+DM'!AC7","v":0},{"$f":"'D-Strommenge FV+DM'!AD7","v":0},{"$f":"'D-Strommenge FV+DM'!AE7","v":0},{"$f":"'D-Strommenge FV+DM'!AF7","v":0},null,null,null,null,"umbenannt"]
[104,{"$f":"'D-Strommenge FV+DM'!C8","v":"Historisch"},{"$f":"'D-Strommenge FV+DM'!D8","v":"fh"},{"$f":"'D-Strommenge FV+DM'!E8","v":"ÜNB Jahresprognose"},"Biomasse",{"$f":"'D-Strommenge FV+DM'!G8","v":26.262},{"$f":"'D-Strommenge FV+DM'!H8","v":24.314577},{"$f":"'D-Strommenge FV+DM'!I8","v":23.696601999999999},{"$f":"'D-Strommenge FV+DM'!J8","v":11.950588999999999},{"$f":"'D-Strommenge FV+DM'!K8","v":12.996518},{"$f":"'D-Strommenge FV+DM'!L8","v":9.971876},{"$f":"'D-Strommenge FV+DM'!M8","v":11.098848},{"$f":"'D-Strommenge FV+DM'!N8","v":9.7514399999999988},{"$f":"'D-Strommenge FV+DM'!O8","v":10.333107999999999},{"$f":"'D-Strommenge FV+DM'!P8","v":9.4306009999999993},{"$f":"'D-Strommenge FV+DM'!Q8","v":7.5909040000000001},{"$f":"'D-Strommenge FV+DM'!R8","v":6.6323159999999994},{"$f":"'D-Strommenge FV+DM'!S8","v":0},{"$f":"'D-Strommenge FV+DM'!T8","v":0},{"$f":"'D-Strommenge FV+DM'!U8","v":0},{"$f":"'D-Strommenge FV+DM'!V8","v":0},{"$f":"'D-Strommenge FV+DM'!W8","v":0},{"$f":"'D-Strommenge FV+DM'!X8","v":0},{"$f":"'D-Strommenge FV+DM'!Y8","v":0},{"$f":"'D-Strommenge FV+DM'!Z8","v":0},{"$f":"'D-Strommenge FV+DM'!AA8","v":0},{"$f":"'D-Strommenge FV+DM'!AB8","v":0},{"$f":"'D-Strommenge FV+DM'!AC8","v":0},{"$f":"'D-Strommenge FV+DM'!AD8","v":0},{"$f":"'D-Strommenge FV+DM'!AE8","v":0},{"$f":"'D-Strommenge FV+DM'!AF8","v":0},null,null,null,null,"umbenannt"]
[105,{"$f":"'D-Strommenge FV+DM'!C9","v":"Historisch"},{"$f":"'D-Strommenge FV+DM'!D9","v":"fh"},{"$f":"'D-Strommenge FV+DM'!E9","v":"ÜNB Jahresprognose"},"Geothermie",{"$f":"'D-Strommenge FV+DM'!G9","v":3.5999999999999997E-2},{"$f":"'D-Strommenge FV+DM'!H9","v":6.1612E-2},{"$f":"'D-Strommenge FV+DM'!I9","v":9.0604999999999991E-2},{"$f":"'D-Strommenge FV+DM'!J9","v":7.6874999999999999E-2},{"$f":"'D-Strommenge FV+DM'!K9","v":0.113607},{"$f":"'D-Strommenge FV+DM'!L9","v":7.9647999999999997E-2},{"$f":"'D-Strommenge FV+DM'!M9","v":8.2011000000000001E-2},{"$f":"'D-Strommenge FV+DM'!N9","v":8.3442999999999989E-2},{"$f":"'D-Strommenge FV+DM'!O9","v":3.2674000000000002E-2},{"$f":"'D-Strommenge FV+DM'!P9","v":5.3082999999999998E-2},{"$f":"'D-Strommenge FV+DM'!Q9","v":7.8399999999999997E-3},{"$f":"'D-Strommenge FV+DM'!R9","v":1.1445E-2},{"$f":"'D-Strommenge FV+DM'!S9","v":0},{"$f":"'D-Strommenge FV+DM'!T9","v":0},{"$f":"'D-Strommenge FV+DM'!U9","v":0},{"$f":"'D-Strommenge FV+DM'!V9","v":0},{"$f":"'D-Strommenge FV+DM'!W9","v":0},{"$f":"'D-Strommenge FV+DM'!X9","v":0},{"$f":"'D-Strommenge FV+DM'!Y9","v":0},{"$f":"'D-Strommenge FV+DM'!Z9","v":0},{"$f":"'D-Strommenge FV+DM'!AA9","v":0},{"$f":"'D-Strommenge FV+DM'!AB9","v":0},{"$f":"'D-Strommenge FV+DM'!AC9","v":0},{"$f":"'D-Strommenge FV+DM'!AD9","v":0},{"$f":"'D-Strommenge FV+DM'!AE9","v":0},{"$f":"'D-Strommenge FV+DM'!AF9","v":0},null,null,null,null,"umbenannt"]
[106,{"$f":"'D-Strommenge FV+DM'!C10","v":"Historisch"},{"$f":"'D-Strommenge FV+DM'!D10","v":"fh"},{"$f":"'D-Strommenge FV+DM'!E10","v":"ÜNB Jahresprognose"},"Wind Onshore",{"$f":"'D-Strommenge FV+DM'!G10","v":47.704000000000001},{"$f":"'D-Strommenge FV+DM'!H10","v":50.803851999999999},{"$f":"'D-Strommenge FV+DM'!I10","v":41.210659},{"$f":"'D-Strommenge FV+DM'!J10","v":8.037706},{"$f":"'D-Strommenge FV+DM'!K10","v":8.9237459999999995},{"$f":"'D-Strommenge FV+DM'!L10","v":9.3738069999999993},{"$f":"'D-Strommenge FV+DM'!M10","v":8.1825499999999991},{"$f":"'D-Strommenge FV+DM'!N10","v":6.2020169999999997},{"$f":"'D-Strommenge FV+DM'!O10","v":4.9509549999999996},{"$f":"'D-Strommenge FV+DM'!P10","v":3.3705379999999998},{"$f":"'D-Strommenge FV+DM'!Q10","v":3.5940459999999996},{"$f":"'D-Strommenge FV+DM'!R10","v":2.3290289999999998},{"$f":"'D-Strommenge FV+DM'!S10","v":0},{"$f":"'D-Strommenge FV+DM'!T10","v":0},{"$f":"'D-Strommenge FV+DM'!U10","v":0},{"$f":"'D-Strommenge FV+DM'!V10","v":0},{"$f":"'D-Strommenge FV+DM'!W10","v":0},{"$f":"'D-Strommenge FV+DM'!X10","v":0},{"$f":"'D-Strommenge FV+DM'!Y10","v":0},{"$f":"'D-Strommenge FV+DM'!Z10","v":0},{"$f":"'D-Strommenge FV+DM'!AA10","v":0},{"$f":"'D-Strommenge FV+DM'!AB10","v":0},{"$f":"'D-Strommenge FV+DM'!AC10","v":0},{"$f":"'D-Strommenge FV+DM'!AD10","v":0},{"$f":"'D-Strommenge FV+DM'!AE10","v":0},{"$f":"'D-Strommenge FV+DM'!AF10","v":0},null,null,null,null,"umbenannt"]
[107,{"$f":"'D-Strommenge FV+DM'!C11","v":"Historisch"},{"$f":"'D-Strommenge FV+DM'!D11","v":"fh"},{"$f":"'D-Strommenge FV+DM'!E11","v":"ÜNB Jahresprognose"},"Wind Offshore",{"$f":"'D-Strommenge FV+DM'!G11","v":0.65400000000000003},{"$f":"'D-Strommenge FV+DM'!H11","v":1.1467909999999999},{"$f":"'D-Strommenge FV+DM'!I11","v":0.91880899999999999},{"$f":"'D-Strommenge FV+DM'!J11","v":0},{"$f":"'D-Strommenge FV+DM'!K11","v":0},{"$f":"'D-Strommenge FV+DM'!L11","v":0},{"$f":"'D-Strommenge FV+DM'!M11","v":0},{"$f":"'D-Strommenge FV+DM'!N11","v":0},{"$f":"'D-Strommenge FV+DM'!O11","v":0},{"$f":"'D-Strommenge FV+DM'!P11","v":0},{"$f":"'D-Strommenge FV+DM'!Q11","v":0},{"$f":"'D-Strommenge FV+DM'!R11","v":0},{"$f":"'D-Strommenge FV+DM'!S11","v":0},{"$f":"'D-Strommenge FV+DM'!T11","v":0},{"$f":"'D-Strommenge FV+DM'!U11","v":0},{"$f":"'D-Strommenge FV+DM'!V11","v":0},{"$f":"'D-Strommenge FV+DM'!W11","v":0},{"$f":"'D-Strommenge FV+DM'!X11","v":0},{"$f":"'D-Strommenge FV+DM'!Y11","v":0},{"$f":"'D-Strommenge FV+DM'!Z11","v":0},{"$f":"'D-Strommenge FV+DM'!AA11","v":0},{"$f":"'D-Strommenge FV+DM'!AB11","v":0},{"$f":"'D-Strommenge FV+DM'!AC11","v":0},{"$f":"'D-Strommenge FV+DM'!AD11","v":0},{"$f":"'D-Strommenge FV+DM'!AE11","v":0},{"$f":"'D-Strommenge FV+DM'!AF11","v":0},null,null,null,null,"umbenannt"]
[108,{"$f":"'D-Strommenge FV+DM'!C12","v":"Historisch"},{"$f":"'D-Strommenge FV+DM'!D12","v":"fh"},{"$f":"'D-Strommenge FV+DM'!E12","v":"ÜNB Jahresprognose"},"Solar",{"$f":"'D-Strommenge FV+DM'!G12","v":8.2959999999999994},{"$f":"'D-Strommenge FV+DM'!H12","v":19.399286999999998},{"$f":"'D-Strommenge FV+DM'!I12","v":22.864761999999999},{"$f":"'D-Strommenge FV+DM'!J12","v":29.414850999999999},{"$f":"'D-Strommenge FV+DM'!K12","v":28.987663999999999},{"$f":"'D-Strommenge FV+DM'!L12","v":27.794584999999998},{"$f":"'D-Strommenge FV+DM'!M12","v":27.602309999999999},{"$f":"'D-Strommenge FV+DM'!N12","v":26.451788999999998},{"$f":"'D-Strommenge FV+DM'!O12","v":27.684709999999999},{"$f":"'D-Strommenge FV+DM'!P12","v":26.884110999999997},{"$f":"'D-Strommenge FV+DM'!Q12","v":27.468408},{"$f":"'D-Strommenge FV+DM'!R12","v":28.536632999999998},{"$f":"'D-Strommenge FV+DM'!S12","v":0},{"$f":"'D-Strommenge FV+DM'!T12","v":0},{"$f":"'D-Strommenge FV+DM'!U12","v":0},{"$f":"'D-Strommenge FV+DM'!V12","v":0},{"$f":"'D-Strommenge FV+DM'!W12","v":0},{"$f":"'D-Strommenge FV+DM'!X12","v":0},{"$f":"'D-Strommenge FV+DM'!Y12","v":0},{"$f":"'D-Strommenge FV+DM'!Z12","v":0},{"$f":"'D-Strommenge FV+DM'!AA12","v":0},{"$f":"'D-Strommenge FV+DM'!AB12","v":0},{"$f":"'D-Strommenge FV+DM'!AC12","v":0},{"$f":"'D-Strommenge FV+DM'!AD12","v":0},{"$f":"'D-Strommenge FV+DM'!AE12","v":0},{"$f":"'D-Strommenge FV+DM'!AF12","v":0},null,null,null,null,"umbenannt"]
[109,null,null,null,"Gesamt",{"$f":"SUM(F111:F117)","v":90.230999999999995},97.995103,91.857405,51.181635999999997,53.922270999999995,50.460008999999999,50.091735999999997,46.269690999999995,45.851169999999996,42.527541999999997,41.198281000000001,39.885272000000001,0,0,0,0,0,0,0,0,0,0,0,0,0,0,null,null,null,null,"umbenannt"]
[110]
["110.01",null,null,null,"Strommenge Direktvermarktung nach § 33b Zif. 1 (Marktprämie) aus ÜNB-Prognosen [TWh]"]
["110.02",{"$f":"'D-Strommenge FV+DM'!C26","v":0},{"$f":"'D-Strommenge FV+DM'!D26","v":0},{"$f":"'D-Strommenge FV+DM'!E26","v":0},"Wasser",{"$f":"'D-Strommenge FV+DM'!G19","v":0},{"$f":"'D-Strommenge FV+DM'!H19","v":0},{"$f":"'D-Strommenge FV+DM'!I19","v":2.1817889999999998},{"$f":"'D-Strommenge FV+DM'!J19","v":4.2967389999999996},{"$f":"'D-Strommenge FV+DM'!K19","v":2.8318239999999997},{"$f":"'D-Strommenge FV+DM'!L19","v":3.5763499999999997},{"$f":"'D-Strommenge FV+DM'!M19","v":3.7087819999999998},{"$f":"'D-Strommenge FV+DM'!N19","v":2.8920019999999997},{"$f":"'D-Strommenge FV+DM'!O19","v":3.0121289999999998},{"$f":"'D-Strommenge FV+DM'!P19","v":3.465357},{"$f":"'D-Strommenge FV+DM'!Q19","v":3.2058839999999997},{"$f":"'D-Strommenge FV+DM'!R19","v":3.3938739999999998},{"$f":"'D-Strommenge FV+DM'!S19","v":0},{"$f":"'D-Strommenge FV+DM'!T19","v":0},{"$f":"'D-Strommenge FV+DM'!U19","v":0},{"$f":"'D-Strommenge FV+DM'!V19","v":0},{"$f":"'D-Strommenge FV+DM'!W19","v":0},{"$f":"'D-Strommenge FV+DM'!X19","v":0},{"$f":"'D-Strommenge FV+DM'!Y19","v":0},{"$f":"'D-Strommenge FV+DM'!Z19","v":0},{"$f":"'D-Strommenge FV+DM'!AA19","v":0},{"$f":"'D-Strommenge FV+DM'!AB19","v":0},{"$f":"'D-Strommenge FV+DM'!AC19","v":0},{"$f":"'D-Strommenge FV+DM'!AD19","v":0},{"$f":"'D-Strommenge FV+DM'!AE19","v":0},{"$f":"'D-Strommenge FV+DM'!AF19","v":0},null,null,null,null,"neu hinzugefügt"]
["110.03",{"$f":"'D-Strommenge FV+DM'!C27","v":0},{"$f":"'D-Strommenge FV+DM'!D27","v":0},{"$f":"'D-Strommenge FV+DM'!E27","v":0},"Gas",{"$f":"'D-Strommenge FV+DM'!G20","v":0},{"$f":"'D-Strommenge FV+DM'!H20","v":0},{"$f":"'D-Strommenge FV+DM'!I20","v":0.29039300000000001},{"$f":"'D-Strommenge FV+DM'!J20","v":1.1700359999999999},{"$f":"'D-Strommenge FV+DM'!K20","v":0.52149199999999996},{"$f":"'D-Strommenge FV+DM'!L20","v":0.95397999999999994},{"$f":"'D-Strommenge FV+DM'!M20","v":0.9315199999999999},{"$f":"'D-Strommenge FV+DM'!N20","v":0.88699699999999992},{"$f":"'D-Strommenge FV+DM'!O20","v":0.90645399999999998},{"$f":"'D-Strommenge FV+DM'!P20","v":0.92375699999999994},{"$f":"'D-Strommenge FV+DM'!Q20","v":0.75774799999999998},{"$f":"'D-Strommenge FV+DM'!R20","v":0.72676399999999997},{"$f":"'D-Strommenge FV+DM'!S20","v":0},{"$f":"'D-Strommenge FV+DM'!T20","v":0},{"$f":"'D-Strommenge FV+DM'!U20","v":0},{"$f":"'D-Strommenge FV+DM'!V20","v":0},{"$f":"'D-Strommenge FV+DM'!W20","v":0},{"$f":"'D-Strommenge FV+DM'!X20","v":0},{"$f":"'D-Strommenge FV+DM'!Y20","v":0},{"$f":"'D-Strommenge FV+DM'!Z20","v":0},{"$f":"'D-Strommenge FV+DM'!AA20","v":0},{"$f":"'D-Strommenge FV+DM'!AB20","v":0},{"$f":"'D-Strommenge FV+DM'!AC20","v":0},{"$f":"'D-Strommenge FV+DM'!AD20","v":0},{"$f":"'D-Strommenge FV+DM'!AE20","v":0},{"$f":"'D-Strommenge FV+DM'!AF20","v":0},null,null,null,null,"neu hinzugefügt"]
["110.04",{"$f":"'D-Strommenge FV+DM'!C28","v":0},{"$f":"'D-Strommenge FV+DM'!D28","v":0},{"$f":"'D-Strommenge FV+DM'!E28","v":0},"Biomasse",{"$f":"'D-Strommenge FV+DM'!G21","v":0},{"$f":"'D-Strommenge FV+DM'!H21","v":0},{"$f":"'D-Strommenge FV+DM'!I21","v":5.9434979999999999},{"$f":"'D-Strommenge FV+DM'!J21","v":21.214547},{"$f":"'D-Strommenge FV+DM'!K21","v":21.925464999999999},{"$f":"'D-Strommenge FV+DM'!L21","v":28.385728},{"$f":"'D-Strommenge FV+DM'!M21","v":29.123989999999999},{"$f":"'D-Strommenge FV+DM'!N21","v":31.014032999999998},{"$f":"'D-Strommenge FV+DM'!O21","v":31.204751999999999},{"$f":"'D-Strommenge FV+DM'!P21","v":31.842124999999999},{"$f":"'D-Strommenge FV+DM'!Q21","v":34.123956},{"$f":"'D-Strommenge FV+DM'!R21","v":33.524949999999997},{"$f":"'D-Strommenge FV+DM'!S21","v":0},{"$f":"'D-Strommenge FV+DM'!T21","v":0},{"$f":"'D-Strommenge FV+DM'!U21","v":0},{"$f":"'D-Strommenge FV+DM'!V21","v":0},{"$f":"'D-Strommenge FV+DM'!W21","v":0},{"$f":"'D-Strommenge FV+DM'!X21","v":0},{"$f":"'D-Strommenge FV+DM'!Y21","v":0},{"$f":"'D-Strommenge FV+DM'!Z21","v":0},{"$f":"'D-Strommenge FV+DM'!AA21","v":0},{"$f":"'D-Strommenge FV+DM'!AB21","v":0},{"$f":"'D-Strommenge FV+DM'!AC21","v":0},{"$f":"'D-Strommenge FV+DM'!AD21","v":0},{"$f":"'D-Strommenge FV+DM'!AE21","v":0},{"$f":"'D-Strommenge FV+DM'!AF21","v":0},null,null,null,null,"neu hinzugefügt"]
["110.05",{"$f":"'D-Strommenge FV+DM'!C29","v":0},{"$f":"'D-Strommenge FV+DM'!D29","v":0},{"$f":"'D-Strommenge FV+DM'!E29","v":0},"Geothermie",{"$f":"'D-Strommenge FV+DM'!G22","v":0},{"$f":"'D-Strommenge FV+DM'!H22","v":0},{"$f":"'D-Strommenge FV+DM'!I22","v":1.6635E-2},{"$f":"'D-Strommenge FV+DM'!J22","v":0},{"$f":"'D-Strommenge FV+DM'!K22","v":1.6799999999999999E-2},{"$f":"'D-Strommenge FV+DM'!L22","v":7.9057000000000002E-2},{"$f":"'D-Strommenge FV+DM'!M22","v":9.8345000000000002E-2},{"$f":"'D-Strommenge FV+DM'!N22","v":0.10608099999999999},{"$f":"'D-Strommenge FV+DM'!O22","v":0.17315},{"$f":"'D-Strommenge FV+DM'!P22","v":0.17602599999999999},{"$f":"'D-Strommenge FV+DM'!Q22","v":0.16394300000000001},{"$f":"'D-Strommenge FV+DM'!R22","v":0.20272599999999999},{"$f":"'D-Strommenge FV+DM'!S22","v":0},{"$f":"'D-Strommenge FV+DM'!T22","v":0},{"$f":"'D-Strommenge FV+DM'!U22","v":0},{"$f":"'D-Strommenge FV+DM'!V22","v":0},{"$f":"'D-Strommenge FV+DM'!W22","v":0},{"$f":"'D-Strommenge FV+DM'!X22","v":0},{"$f":"'D-Strommenge FV+DM'!Y22","v":0},{"$f":"'D-Strommenge FV+DM'!Z22","v":0},{"$f":"'D-Strommenge FV+DM'!AA22","v":0},{"$f":"'D-Strommenge FV+DM'!AB22","v":0},{"$f":"'D-Strommenge FV+DM'!AC22","v":0},{"$f":"'D-Strommenge FV+DM'!AD22","v":0},{"$f":"'D-Strommenge FV+DM'!AE22","v":0},{"$f":"'D-Strommenge FV+DM'!AF22","v":0},null,null,null,null,"neu hinzugefügt"]
["110.06",{"$f":"'D-Strommenge FV+DM'!C30","v":0},{"$f":"'D-Strommenge FV+DM'!D30","v":0},{"$f":"'D-Strommenge FV+DM'!E30","v":0},"Wind Onshore",{"$f":"'D-Strommenge FV+DM'!G23","v":0},{"$f":"'D-Strommenge FV+DM'!H23","v":0},{"$f":"'D-Strommenge FV+DM'!I23","v":7.3871079999999996},{"$f":"'D-Strommenge FV+DM'!J23","v":46.901826999999997},{"$f":"'D-Strommenge FV+DM'!K23","v":51.661167999999996},{"$f":"'D-Strommenge FV+DM'!L23","v":57.498880999999997},{"$f":"'D-Strommenge FV+DM'!M23","v":67.570857000000004},{"$f":"'D-Strommenge FV+DM'!N23","v":75.744242},{"$f":"'D-Strommenge FV+DM'!O23","v":87.745678999999996},{"$f":"'D-Strommenge FV+DM'!P23","v":95.400548999999998},{"$f":"'D-Strommenge FV+DM'!Q23","v":98.452184000000003},{"$f":"'D-Strommenge FV+DM'!R23","v":97.184866999999997},{"$f":"'D-Strommenge FV+DM'!S23","v":0},{"$f":"'D-Strommenge FV+DM'!T23","v":0},{"$f":"'D-Strommenge FV+DM'!U23","v":0},{"$f":"'D-Strommenge FV+DM'!V23","v":0},{"$f":"'D-Strommenge FV+DM'!W23","v":0},{"$f":"'D-Strommenge FV+DM'!X23","v":0},{"$f":"'D-Strommenge FV+DM'!Y23","v":0},{"$f":"'D-Strommenge FV+DM'!Z23","v":0},{"$f":"'D-Strommenge FV+DM'!AA23","v":0},{"$f":"'D-Strommenge FV+DM'!AB23","v":0},{"$f":"'D-Strommenge FV+DM'!AC23","v":0},{"$f":"'D-Strommenge FV+DM'!AD23","v":0},{"$f":"'D-Strommenge FV+DM'!AE23","v":0},{"$f":"'D-Strommenge FV+DM'!AF23","v":0},null,null,null,null,"neu hinzugefügt"]
["110.07",{"$f":"'D-Strommenge FV+DM'!C31","v":0},{"$f":"'D-Strommenge FV+DM'!D31","v":0},{"$f":"'D-Strommenge FV+DM'!E31","v":0},"Wind Offshore",{"$f":"'D-Strommenge FV+DM'!G24","v":0},{"$f":"'D-Strommenge FV+DM'!H24","v":0},{"$f":"'D-Strommenge FV+DM'!I24","v":0.442606},{"$f":"'D-Strommenge FV+DM'!J24","v":2.4940419999999999},{"$f":"'D-Strommenge FV+DM'!K24","v":7.397958},{"$f":"'D-Strommenge FV+DM'!L24","v":11.231204},{"$f":"'D-Strommenge FV+DM'!M24","v":15.379543999999999},{"$f":"'D-Strommenge FV+DM'!N24","v":20.033355},{"$f":"'D-Strommenge FV+DM'!O24","v":22.564405999999998},{"$f":"'D-Strommenge FV+DM'!P24","v":26.466161},{"$f":"'D-Strommenge FV+DM'!Q24","v":29.940075999999998},{"$f":"'D-Strommenge FV+DM'!R24","v":29.638939999999998},{"$f":"'D-Strommenge FV+DM'!S24","v":0},{"$f":"'D-Strommenge FV+DM'!T24","v":0},{"$f":"'D-Strommenge FV+DM'!U24","v":0},{"$f":"'D-Strommenge FV+DM'!V24","v":0},{"$f":"'D-Strommenge FV+DM'!W24","v":0},{"$f":"'D-Strommenge FV+DM'!X24","v":0},{"$f":"'D-Strommenge FV+DM'!Y24","v":0},{"$f":"'D-Strommenge FV+DM'!Z24","v":0},{"$f":"'D-Strommenge FV+DM'!AA24","v":0},{"$f":"'D-Strommenge FV+DM'!AB24","v":0},{"$f":"'D-Strommenge FV+DM'!AC24","v":0},{"$f":"'D-Strommenge FV+DM'!AD24","v":0},{"$f":"'D-Strommenge FV+DM'!AE24","v":0},{"$f":"'D-Strommenge FV+DM'!AF24","v":0},null,null,null,null,"neu hinzugefügt"]
["110.08",{"$f":"'D-Strommenge FV+DM'!C32","v":0},{"$f":"'D-Strommenge FV+DM'!D32","v":0},{"$f":"'D-Strommenge FV+DM'!E32","v":0},"Solar",{"$f":"'D-Strommenge FV+DM'!G25","v":0},{"$f":"'D-Strommenge FV+DM'!H25","v":0},{"$f":"'D-Strommenge FV+DM'!I25","v":0.63546899999999995},{"$f":"'D-Strommenge FV+DM'!J25","v":2.9213830000000001},{"$f":"'D-Strommenge FV+DM'!K25","v":4.8185699999999994},{"$f":"'D-Strommenge FV+DM'!L25","v":6.293679},{"$f":"'D-Strommenge FV+DM'!M25","v":6.9605349999999993},{"$f":"'D-Strommenge FV+DM'!N25","v":8.0043569999999988},{"$f":"'D-Strommenge FV+DM'!O25","v":9.0451540000000001},{"$f":"'D-Strommenge FV+DM'!P25","v":11.590814},{"$f":"'D-Strommenge FV+DM'!Q25","v":12.871558},{"$f":"'D-Strommenge FV+DM'!R25","v":15.710374999999999},{"$f":"'D-Strommenge FV+DM'!S25","v":0},{"$f":"'D-Strommenge FV+DM'!T25","v":0},{"$f":"'D-Strommenge FV+DM'!U25","v":0},{"$f":"'D-Strommenge FV+DM'!V25","v":0},{"$f":"'D-Strommenge FV+DM'!W25","v":0},{"$f":"'D-Strommenge FV+DM'!X25","v":0},{"$f":"'D-Strommenge FV+DM'!Y25","v":0},{"$f":"'D-Strommenge FV+DM'!Z25","v":0},{"$f":"'D-Strommenge FV+DM'!AA25","v":0},{"$f":"'D-Strommenge FV+DM'!AB25","v":0},{"$f":"'D-Strommenge FV+DM'!AC25","v":0},{"$f":"'D-Strommenge FV+DM'!AD25","v":0},{"$f":"'D-Strommenge FV+DM'!AE25","v":0},{"$f":"'D-Strommenge FV+DM'!AF25","v":0},null,null,null,null,"neu hinzugefügt"]
["110.09",null,null,null,"Gesamt",{"$f":"SUM(F121:F127)","v":0},0,16.897498000000002,78.998573999999991,89.173276999999999,108.018879,123.77357299999998,138.68106700000001,154.65172399999997,169.864789,179.51534899999999,180.38249599999997,0,0,0,0,0,0,0,0,0,0,0,0,0,0,null,null,null,null,"neu hinzugefügt"]
["110.10"]
[111,null,null,null,"Anteil Eigenverbrauch Neuanlagen [-]"]
[112,{"$f":"'D-Anteil Eigenverbrauch EE neu'!C$6","v":"Referenz"},{"$f":"'D-Anteil Eigenverbrauch EE neu'!D$6","v":"cl"},{"$f":"'D-Anteil Eigenverbrauch EE neu'!E$6","v":0},"Wasser",{"$f":"'D-Anteil Eigenverbrauch EE neu'!G$6","v":0},{"$f":"'D-Anteil Eigenverbrauch EE neu'!H$6","v":0},{"$f":"'D-Anteil Eigenverbrauch EE neu'!I$6","v":0},{"$f":"'D-Anteil Eigenverbrauch EE neu'!J$6","v":0},{"$f":"'D-Anteil Eigenverbrauch EE neu'!K$6","v":0},{"$f":"'D-Anteil Eigenverbrauch EE neu'!L$6","v":0},{"$f":"'D-Anteil Eigenverbrauch EE neu'!M$6","v":0},{"$f":"'D-Anteil Eigenverbrauch EE neu'!N$6","v":0},{"$f":"'D-Anteil Eigenverbrauch EE neu'!O$6","v":0},{"$f":"'D-Anteil Eigenverbrauch EE neu'!P$6","v":0},{"$f":"'D-Anteil Eigenverbrauch EE neu'!Q$6","v":0},{"$f":"'D-Anteil Eigenverbrauch EE neu'!R$6","v":0},{"$f":"'D-Anteil Eigenverbrauch EE neu'!S$6","v":0},{"$f":"'D-Anteil Eigenverbrauch EE neu'!T$6","v":0},{"$f":"'D-Anteil Eigenverbrauch EE neu'!U$6","v":0},{"$f":"'D-Anteil Eigenverbrauch EE neu'!V$6","v":0},{"$f":"'D-Anteil Eigenverbrauch EE neu'!W$6","v":0},{"$f":"'D-Anteil Eigenverbrauch EE neu'!X$6","v":0},{"$f":"'D-Anteil Eigenverbrauch EE neu'!Y$6","v":0},{"$f":"'D-Anteil Eigenverbrauch EE neu'!Z$6","v":0},{"$f":"'D-Anteil Eigenverbrauch EE neu'!AA$6","v":0},{"$f":"'D-Anteil Eigenverbrauch EE neu'!AB$6","v":0},{"$f":"'D-Anteil Eigenverbrauch EE neu'!AC$6","v":0},{"$f":"'D-Anteil Eigenverbrauch EE neu'!AD$6","v":0},{"$f":"'D-Anteil Eigenverbrauch EE neu'!AE$6","v":0},{"$f":"'D-Anteil Eigenverbrauch EE neu'!AF$6","v":0}]
[113,{"$f":"'D-Anteil Eigenverbrauch EE neu'!C$7","v":"Referenz"},{"$f":"'D-Anteil Eigenverbrauch EE neu'!D$7","v":"cl"},{"$f":"'D-Anteil Eigenverbrauch EE neu'!E$7","v":0},"Gas",{"$f":"'D-Anteil Eigenverbrauch EE neu'!G$7","v":0},{"$f":"'D-Anteil Eigenverbrauch EE neu'!H$7","v":0},{"$f":"'D-Anteil Eigenverbrauch EE neu'!I$7","v":0},{"$f":"'D-Anteil Eigenverbrauch EE neu'!J$7","v":0},{"$f":"'D-Anteil Eigenverbrauch EE neu'!K$7","v":0},{"$f":"'D-Anteil Eigenverbrauch EE neu'!L$7","v":0},{"$f":"'D-Anteil Eigenverbrauch EE neu'!M$7","v":0},{"$f":"'D-Anteil Eigenverbrauch EE neu'!N$7","v":0},{"$f":"'D-Anteil Eigenverbrauch EE neu'!O$7","v":0},{"$f":"'D-Anteil Eigenverbrauch EE neu'!P$7","v":0},{"$f":"'D-Anteil Eigenverbrauch EE neu'!Q$7","v":0},{"$f":"'D-Anteil Eigenverbrauch EE neu'!R$7","v":0},{"$f":"'D-Anteil Eigenverbrauch EE neu'!S$7","v":0},{"$f":"'D-Anteil Eigenverbrauch EE neu'!T$7","v":0},{"$f":"'D-Anteil Eigenverbrauch EE neu'!U$7","v":0},{"$f":"'D-Anteil Eigenverbrauch EE neu'!V$7","v":0},{"$f":"'D-Anteil Eigenverbrauch EE neu'!W$7","v":0},{"$f":"'D-Anteil Eigenverbrauch EE neu'!X$7","v":0},{"$f":"'D-Anteil Eigenverbrauch EE neu'!Y$7","v":0},{"$f":"'D-Anteil Eigenverbrauch EE neu'!Z$7","v":0},{"$f":"'D-Anteil Eigenverbrauch EE neu'!AA$7","v":0},{"$f":"'D-Anteil Eigenverbrauch EE neu'!AB$7","v":0},{"$f":"'D-Anteil Eigenverbrauch EE neu'!AC$7","v":0},{"$f":"'D-Anteil Eigenverbrauch EE neu'!AD$7","v":0},{"$f":"'D-Anteil Eigenverbrauch EE neu'!AE$7","v":0},{"$f":"'D-Anteil Eigenverbrauch EE neu'!AF$7","v":0}]
[114,{"$f":"'D-Anteil Eigenverbrauch EE neu'!C$8","v":"Referenz"},{"$f":"'D-Anteil Eigenverbrauch EE neu'!D$8","v":"cl"},{"$f":"'D-Anteil Eigenverbrauch EE neu'!E$8","v":0},"Biomasse",{"$f":"'D-Anteil Eigenverbrauch EE neu'!G$8","v":0},{"$f":"'D-Anteil Eigenverbrauch EE neu'!H$8","v":0},{"$f":"'D-Anteil Eigenverbrauch EE neu'!I$8","v":0},{"$f":"'D-Anteil Eigenverbrauch EE neu'!J$8","v":0},{"$f":"'D-Anteil Eigenverbrauch EE neu'!K$8","v":0},{"$f":"'D-Anteil Eigenverbrauch EE neu'!L$8","v":0},{"$f":"'D-Anteil Eigenverbrauch EE neu'!M$8","v":0},{"$f":"'D-Anteil Eigenverbrauch EE neu'!N$8","v":0},{"$f":"'D-Anteil Eigenverbrauch EE neu'!O$8","v":0},{"$f":"'D-Anteil Eigenverbrauch EE neu'!P$8","v":0},{"$f":"'D-Anteil Eigenverbrauch EE neu'!Q$8","v":0},{"$f":"'D-Anteil Eigenverbrauch EE neu'!R$8","v":0},{"$f":"'D-Anteil Eigenverbrauch EE neu'!S$8","v":0},{"$f":"'D-Anteil Eigenverbrauch EE neu'!T$8","v":0},{"$f":"'D-Anteil Eigenverbrauch EE neu'!U$8","v":0},{"$f":"'D-Anteil Eigenverbrauch EE neu'!V$8","v":0},{"$f":"'D-Anteil Eigenverbrauch EE neu'!W$8","v":0},{"$f":"'D-Anteil Eigenverbrauch EE neu'!X$8","v":0},{"$f":"'D-Anteil Eigenverbrauch EE neu'!Y$8","v":0},{"$f":"'D-Anteil Eigenverbrauch EE neu'!Z$8","v":0},{"$f":"'D-Anteil Eigenverbrauch EE neu'!AA$8","v":0},{"$f":"'D-Anteil Eigenverbrauch EE neu'!AB$8","v":0},{"$f":"'D-Anteil Eigenverbrauch EE neu'!AC$8","v":0},{"$f":"'D-Anteil Eigenverbrauch EE neu'!AD$8","v":0},{"$f":"'D-Anteil Eigenverbrauch EE neu'!AE$8","v":0},{"$f":"'D-Anteil Eigenverbrauch EE neu'!AF$8","v":0}]
[115,{"$f":"'D-Anteil Eigenverbrauch EE neu'!C$9","v":"Referenz"},{"$f":"'D-Anteil Eigenverbrauch EE neu'!D$9","v":"cl"},{"$f":"'D-Anteil Eigenverbrauch EE neu'!E$9","v":0},"Geothermie",{"$f":"'D-Anteil Eigenverbrauch EE neu'!G$9","v":0},{"$f":"'D-Anteil Eigenverbrauch EE neu'!H$9","v":0},{"$f":"'D-Anteil Eigenverbrauch EE neu'!I$9","v":0},{"$f":"'D-Anteil Eigenverbrauch EE neu'!J$9","v":0},{"$f":"'D-Anteil Eigenverbrauch EE neu'!K$9","v":0},{"$f":"'D-Anteil Eigenverbrauch EE neu'!L$9","v":0},{"$f":"'D-Anteil Eigenverbrauch EE neu'!M$9","v":0},{"$f":"'D-Anteil Eigenverbrauch EE neu'!N$9","v":0},{"$f":"'D-Anteil Eigenverbrauch EE neu'!O$9","v":0},{"$f":"'D-Anteil Eigenverbrauch EE neu'!P$9","v":0},{"$f":"'D-Anteil Eigenverbrauch EE neu'!Q$9","v":0},{"$f":"'D-Anteil Eigenverbrauch EE neu'!R$9","v":0},{"$f":"'D-Anteil Eigenverbrauch EE neu'!S$9","v":0},{"$f":"'D-Anteil Eigenverbrauch EE neu'!T$9","v":0},{"$f":"'D-Anteil Eigenverbrauch EE neu'!U$9","v":0},{"$f":"'D-Anteil Eigenverbrauch EE neu'!V$9","v":0},{"$f":"'D-Anteil Eigenverbrauch EE neu'!W$9","v":0},{"$f":"'D-Anteil Eigenverbrauch EE neu'!X$9","v":0},{"$f":"'D-Anteil Eigenverbrauch EE neu'!Y$9","v":0},{"$f":"'D-Anteil Eigenverbrauch EE neu'!Z$9","v":0},{"$f":"'D-Anteil Eigenverbrauch EE neu'!AA$9","v":0},{"$f":"'D-Anteil Eigenverbrauch EE neu'!AB$9","v":0},{"$f":"'D-Anteil Eigenverbrauch EE neu'!AC$9","v":0},{"$f":"'D-Anteil Eigenverbrauch EE neu'!AD$9","v":0},{"$f":"'D-Anteil Eigenverbrauch EE neu'!AE$9","v":0},{"$f":"'D-Anteil Eigenverbrauch EE neu'!AF$9","v":0}]
[116,{"$f":"'D-Anteil Eigenverbrauch EE neu'!C$10","v":"Referenz"},{"$f":"'D-Anteil Eigenverbrauch EE neu'!D$10","v":"cl"},{"$f":"'D-Anteil Eigenverbrauch EE neu'!E$10","v":0},"Wind Onshore",{"$f":"'D-Anteil Eigenverbrauch EE neu'!G$10","v":0},{"$f":"'D-Anteil Eigenverbrauch EE neu'!H$10","v":0},{"$f":"'D-Anteil Eigenverbrauch EE neu'!I$10","v":0},{"$f":"'D-Anteil Eigenverbrauch EE neu'!J$10","v":0},{"$f":"'D-Anteil Eigenverbrauch EE neu'!K$10","v":0},{"$f":"'D-Anteil Eigenverbrauch EE neu'!L$10","v":0},{"$f":"'D-Anteil Eigenverbrauch EE neu'!M$10","v":0},{"$f":"'D-Anteil Eigenverbrauch EE neu'!N$10","v":0},{"$f":"'D-Anteil Eigenverbrauch EE neu'!O$10","v":0},{"$f":"'D-Anteil Eigenverbrauch EE neu'!P$10","v":0},{"$f":"'D-Anteil Eigenverbrauch EE neu'!Q$10","v":0},{"$f":"'D-Anteil Eigenverbrauch EE neu'!R$10","v":0},{"$f":"'D-Anteil Eigenverbrauch EE neu'!S$10","v":0},{"$f":"'D-Anteil Eigenverbrauch EE neu'!T$10","v":0},{"$f":"'D-Anteil Eigenverbrauch EE neu'!U$10","v":0},{"$f":"'D-Anteil Eigenverbrauch EE neu'!V$10","v":0},{"$f":"'D-Anteil Eigenverbrauch EE neu'!W$10","v":0},{"$f":"'D-Anteil Eigenverbrauch EE neu'!X$10","v":0},{"$f":"'D-Anteil Eigenverbrauch EE neu'!Y$10","v":0},{"$f":"'D-Anteil Eigenverbrauch EE neu'!Z$10","v":0},{"$f":"'D-Anteil Eigenverbrauch EE neu'!AA$10","v":0},{"$f":"'D-Anteil Eigenverbrauch EE neu'!AB$10","v":0},{"$f":"'D-Anteil Eigenverbrauch EE neu'!AC$10","v":0},{"$f":"'D-Anteil Eigenverbrauch EE neu'!AD$10","v":0},{"$f":"'D-Anteil Eigenverbrauch EE neu'!AE$10","v":0},{"$f":"'D-Anteil Eigenverbrauch EE neu'!AF$10","v":0}]
[117,{"$f":"'D-Anteil Eigenverbrauch EE neu'!C$11","v":"Referenz"},{"$f":"'D-Anteil Eigenverbrauch EE neu'!D$11","v":"cl"},{"$f":"'D-Anteil Eigenverbrauch EE neu'!E$11","v":0},"Wind Offshore",{"$f":"'D-Anteil Eigenverbrauch EE neu'!G$11","v":0},{"$f":"'D-Anteil Eigenverbrauch EE neu'!H$11","v":0},{"$f":"'D-Anteil Eigenverbrauch EE neu'!I$11","v":0},{"$f":"'D-Anteil Eigenverbrauch EE neu'!J$11","v":0},{"$f":"'D-Anteil Eigenverbrauch EE neu'!K$11","v":0},{"$f":"'D-Anteil Eigenverbrauch EE neu'!L$11","v":0},{"$f":"'D-Anteil Eigenverbrauch EE neu'!M$11","v":0},{"$f":"'D-Anteil Eigenverbrauch EE neu'!N$11","v":0},{"$f":"'D-Anteil Eigenverbrauch EE neu'!O$11","v":0},{"$f":"'D-Anteil Eigenverbrauch EE neu'!P$11","v":0},{"$f":"'D-Anteil Eigenverbrauch EE neu'!Q$11","v":0},{"$f":"'D-Anteil Eigenverbrauch EE neu'!R$11","v":0},{"$f":"'D-Anteil Eigenverbrauch EE neu'!S$11","v":0},{"$f":"'D-Anteil Eigenverbrauch EE neu'!T$11","v":0},{"$f":"'D-Anteil Eigenverbrauch EE neu'!U$11","v":0},{"$f":"'D-Anteil Eigenverbrauch EE neu'!V$11","v":0},{"$f":"'D-Anteil Eigenverbrauch EE neu'!W$11","v":0},{"$f":"'D-Anteil Eigenverbrauch EE neu'!X$11","v":0},{"$f":"'D-Anteil Eigenverbrauch EE neu'!Y$11","v":0},{"$f":"'D-Anteil Eigenverbrauch EE neu'!Z$11","v":0},{"$f":"'D-Anteil Eigenverbrauch EE neu'!AA$11","v":0},{"$f":"'D-Anteil Eigenverbrauch EE neu'!AB$11","v":0},{"$f":"'D-Anteil Eigenverbrauch EE neu'!AC$11","v":0},{"$f":"'D-Anteil Eigenverbrauch EE neu'!AD$11","v":0},{"$f":"'D-Anteil Eigenverbrauch EE neu'!AE$11","v":0},{"$f":"'D-Anteil Eigenverbrauch EE neu'!AF$11","v":0}]
[118,{"$f":"'D-Anteil Eigenverbrauch EE neu'!C$12","v":"Referenz"},{"$f":"'D-Anteil Eigenverbrauch EE neu'!D$12","v":"dr"},{"$f":"'D-Anteil Eigenverbrauch EE neu'!E$12","v":"9%"},"Solar",{"$f":"'D-Anteil Eigenverbrauch EE neu'!G$12","v":0},{"$f":"'D-Anteil Eigenverbrauch EE neu'!H$12","v":0},{"$f":"'D-Anteil Eigenverbrauch EE neu'!I$12","v":0},{"$f":"'D-Anteil Eigenverbrauch EE neu'!J$12","v":0},{"$f":"'D-Anteil Eigenverbrauch EE neu'!K$12","v":0},{"$f":"'D-Anteil Eigenverbrauch EE neu'!L$12","v":0.20025000000000001},{"$f":"'D-Anteil Eigenverbrauch EE neu'!M$12","v":0.26},{"$f":"'D-Anteil Eigenverbrauch EE neu'!N$12","v":0.123},{"$f":"'D-Anteil Eigenverbrauch EE neu'!O$12","v":0.123},{"$f":"'D-Anteil Eigenverbrauch EE neu'!P$12","v":8.6282704209457411E-2},{"$f":"'D-Anteil Eigenverbrauch EE neu'!Q$12","v":5.896218016593225E-2},{"$f":"'D-Anteil Eigenverbrauch EE neu'!R$12","v":6.7386075190170966E-2},{"$f":"'D-Anteil Eigenverbrauch EE neu'!S$12","v":0.09},{"$f":"'D-Anteil Eigenverbrauch EE neu'!T$12","v":0.09},{"$f":"'D-Anteil Eigenverbrauch EE neu'!U$12","v":0.09},{"$f":"'D-Anteil Eigenverbrauch EE neu'!V$12","v":0.09},{"$f":"'D-Anteil Eigenverbrauch EE neu'!W$12","v":0.09},{"$f":"'D-Anteil Eigenverbrauch EE neu'!X$12","v":0.09},{"$f":"'D-Anteil Eigenverbrauch EE neu'!Y$12","v":0.09},{"$f":"'D-Anteil Eigenverbrauch EE neu'!Z$12","v":0.09},{"$f":"'D-Anteil Eigenverbrauch EE neu'!AA$12","v":0.09},{"$f":"'D-Anteil Eigenverbrauch EE neu'!AB$12","v":0.09},{"$f":"'D-Anteil Eigenverbrauch EE neu'!AC$12","v":0.09},{"$f":"'D-Anteil Eigenverbrauch EE neu'!AD$12","v":0.09},{"$f":"'D-Anteil Eigenverbrauch EE neu'!AE$12","v":0.09},{"$f":"'D-Anteil Eigenverbrauch EE neu'!AF$12","v":0.09}]
[119]
[120,null,null,null,"Mittlerer Vergütungssatz für historische Jahre und das aktuelle (nominal) [Euro/MWh]"]
[121,{"$f":"'D-Mittlerer Vergütungssatz'!C$6","v":"Historisch"},{"$f":"'D-Mittlerer Vergütungssatz'!D$6","v":"fh"},{"$f":"'D-Mittlerer Vergütungssatz'!E$6","v":"Abgeleitet aus ÜNB-Jahresprognosen"},"Wasser",{"$f":"'D-Mittlerer Vergütungssatz'!G$6","v":76.040000000000006},{"$f":"'D-Mittlerer Vergütungssatz'!H$6","v":78.580579248126398},{"$f":"'D-Mittlerer Vergütungssatz'!I$6","v":85.426349075311549},{"$f":"'D-Mittlerer Vergütungssatz'!J$6","v":84.973326885251481},{"$f":"'D-Mittlerer Vergütungssatz'!K$6","v":93.580358696572972},{"$f":"'D-Mittlerer Vergütungssatz'!L$6","v":90.888126814616172},{"$f":"'D-Mittlerer Vergütungssatz'!M$6","v":94.021995549816509},{"$f":"'D-Mittlerer Vergütungssatz'!N$6","v":95.471944662181755},{"$f":"'D-Mittlerer Vergütungssatz'!O$6","v":93.257752565695739},{"$f":"'D-Mittlerer Vergütungssatz'!P$6","v":94.128858532452895},{"$f":"'D-Mittlerer Vergütungssatz'!Q$6","v":94.824277922477592},{"$f":"'D-Mittlerer Vergütungssatz'!R$6","v":96.066608000039679},{"$f":"'D-Mittlerer Vergütungssatz'!S$6","v":0},{"$f":"'D-Mittlerer Vergütungssatz'!T$6","v":0},{"$f":"'D-Mittlerer Vergütungssatz'!U$6","v":0},{"$f":"'D-Mittlerer Vergütungssatz'!V$6","v":0},{"$f":"'D-Mittlerer Vergütungssatz'!W$6","v":0},{"$f":"'D-Mittlerer Vergütungssatz'!X$6","v":0},{"$f":"'D-Mittlerer Vergütungssatz'!Y$6","v":0},{"$f":"'D-Mittlerer Vergütungssatz'!Z$6","v":0},{"$f":"'D-Mittlerer Vergütungssatz'!AA$6","v":0},{"$f":"'D-Mittlerer Vergütungssatz'!AB$6","v":0},{"$f":"'D-Mittlerer Vergütungssatz'!AC$6","v":0},{"$f":"'D-Mittlerer Vergütungssatz'!AD$6","v":0},{"$f":"'D-Mittlerer Vergütungssatz'!AE$6","v":0},{"$f":"'D-Mittlerer Vergütungssatz'!AF$6","v":0}]
[122,{"$f":"'D-Mittlerer Vergütungssatz'!C$7","v":"Historisch"},{"$f":"'D-Mittlerer Vergütungssatz'!D$7","v":"fh"},{"$f":"'D-Mittlerer Vergütungssatz'!E$7","v":"Abgeleitet aus ÜNB-Jahresprognosen"},"Gas",{"$f":"'D-Mittlerer Vergütungssatz'!G$7","v":70.59},{"$f":"'D-Mittlerer Vergütungssatz'!H$7","v":70.623810216707398},{"$f":"'D-Mittlerer Vergütungssatz'!I$7","v":72.333594863809779},{"$f":"'D-Mittlerer Vergütungssatz'!J$7","v":75.078609851750898},{"$f":"'D-Mittlerer Vergütungssatz'!K$7","v":80.301227083888492},{"$f":"'D-Mittlerer Vergütungssatz'!L$7","v":69.689921182911647},{"$f":"'D-Mittlerer Vergütungssatz'!M$7","v":70.331521816935805},{"$f":"'D-Mittlerer Vergütungssatz'!N$7","v":69.72914314608407},{"$f":"'D-Mittlerer Vergütungssatz'!O$7","v":69.58740425505863},{"$f":"'D-Mittlerer Vergütungssatz'!P$7","v":71.700386816033742},{"$f":"'D-Mittlerer Vergütungssatz'!Q$7","v":69.098674383868556},{"$f":"'D-Mittlerer Vergütungssatz'!R$7","v":71.292092493824555},{"$f":"'D-Mittlerer Vergütungssatz'!S$7","v":0},{"$f":"'D-Mittlerer Vergütungssatz'!T$7","v":0},{"$f":"'D-Mittlerer Vergütungssatz'!U$7","v":0},{"$f":"'D-Mittlerer Vergütungssatz'!V$7","v":0},{"$f":"'D-Mittlerer Vergütungssatz'!W$7","v":0},{"$f":"'D-Mittlerer Vergütungssatz'!X$7","v":0},{"$f":"'D-Mittlerer Vergütungssatz'!Y$7","v":0},{"$f":"'D-Mittlerer Vergütungssatz'!Z$7","v":0},{"$f":"'D-Mittlerer Vergütungssatz'!AA$7","v":0},{"$f":"'D-Mittlerer Vergütungssatz'!AB$7","v":0},{"$f":"'D-Mittlerer Vergütungssatz'!AC$7","v":0},{"$f":"'D-Mittlerer Vergütungssatz'!AD$7","v":0},{"$f":"'D-Mittlerer Vergütungssatz'!AE$7","v":0},{"$f":"'D-Mittlerer Vergütungssatz'!AF$7","v":0}]
[123,{"$f":"'D-Mittlerer Vergütungssatz'!C$8","v":"Historisch"},{"$f":"'D-Mittlerer Vergütungssatz'!D$8","v":"fh"},{"$f":"'D-Mittlerer Vergütungssatz'!E$8","v":"Abgeleitet aus ÜNB-Jahresprognosen"},"Biomasse",{"$f":"'D-Mittlerer Vergütungssatz'!G$8","v":150.44},{"$f":"'D-Mittlerer Vergütungssatz'!H$8","v":174.78292585554749},{"$f":"'D-Mittlerer Vergütungssatz'!I$8","v":171.71219457964042},{"$f":"'D-Mittlerer Vergütungssatz'!J$8","v":182.43185910801026},{"$f":"'D-Mittlerer Vergütungssatz'!K$8","v":184.3941182048568},{"$f":"'D-Mittlerer Vergütungssatz'!L$8","v":185.81088443376183},{"$f":"'D-Mittlerer Vergütungssatz'!M$8","v":187.10187197631356},{"$f":"'D-Mittlerer Vergütungssatz'!N$8","v":188.59316836578836},{"$f":"'D-Mittlerer Vergütungssatz'!O$8","v":191.10109988815023},{"$f":"'D-Mittlerer Vergütungssatz'!P$8","v":196.13070462077062},{"$f":"'D-Mittlerer Vergütungssatz'!Q$8","v":192.3639566092275},{"$f":"'D-Mittlerer Vergütungssatz'!R$8","v":197.60807852307477},{"$f":"'D-Mittlerer Vergütungssatz'!S$8","v":0},{"$f":"'D-Mittlerer Vergütungssatz'!T$8","v":0},{"$f":"'D-Mittlerer Vergütungssatz'!U$8","v":0},{"$f":"'D-Mittlerer Vergütungssatz'!V$8","v":0},{"$f":"'D-Mittlerer Vergütungssatz'!W$8","v":0},{"$f":"'D-Mittlerer Vergütungssatz'!X$8","v":0},{"$f":"'D-Mittlerer Vergütungssatz'!Y$8","v":0},{"$f":"'D-Mittlerer Vergütungssatz'!Z$8","v":0},{"$f":"'D-Mittlerer Vergütungssatz'!AA$8","v":0},{"$f":"'D-Mittlerer Vergütungssatz'!AB$8","v":0},{"$f":"'D-Mittlerer Vergütungssatz'!AC$8","v":0},{"$f":"'D-Mittlerer Vergütungssatz'!AD$8","v":0},{"$f":"'D-Mittlerer Vergütungssatz'!AE$8","v":0},{"$f":"'D-Mittlerer Vergütungssatz'!AF$8","v":0}]
[124,{"$f":"'D-Mittlerer Vergütungssatz'!C$9","v":"Historisch"},{"$f":"'D-Mittlerer Vergütungssatz'!D$9","v":"fh"},{"$f":"'D-Mittlerer Vergütungssatz'!E$9","v":"Abgeleitet aus ÜNB-Jahresprognosen"},"Geothermie",{"$f":"'D-Mittlerer Vergütungssatz'!G$9","v":150},{"$f":"'D-Mittlerer Vergütungssatz'!H$9","v":212.46439005388561},{"$f":"'D-Mittlerer Vergütungssatz'!I$9","v":221.27270328235733},{"$f":"'D-Mittlerer Vergütungssatz'!J$9","v":235.75585040650407},{"$f":"'D-Mittlerer Vergütungssatz'!K$9","v":243.3346397049238},{"$f":"'D-Mittlerer Vergütungssatz'!L$9","v":245.37903027629881},{"$f":"'D-Mittlerer Vergütungssatz'!M$9","v":243.88965712257979},{"$f":"'D-Mittlerer Vergütungssatz'!N$9","v":247.41502395474978},{"$f":"'D-Mittlerer Vergütungssatz'!O$9","v":241.0595654539801},{"$f":"'D-Mittlerer Vergütungssatz'!P$9","v":251.13132613734075},{"$f":"'D-Mittlerer Vergütungssatz'!Q$9","v":245.91407182317226},{"$f":"'D-Mittlerer Vergütungssatz'!R$9","v":248.65452372169901},{"$f":"'D-Mittlerer Vergütungssatz'!S$9","v":0},{"$f":"'D-Mittlerer Vergütungssatz'!T$9","v":0},{"$f":"'D-Mittlerer Vergütungssatz'!U$9","v":0},{"$f":"'D-Mittlerer Vergütungssatz'!V$9","v":0},{"$f":"'D-Mittlerer Vergütungssatz'!W$9","v":0},{"$f":"'D-Mittlerer Vergütungssatz'!X$9","v":0},{"$f":"'D-Mittlerer Vergütungssatz'!Y$9","v":0},{"$f":"'D-Mittlerer Vergütungssatz'!Z$9","v":0},{"$f":"'D-Mittlerer Vergütungssatz'!AA$9","v":0},{"$f":"'D-Mittlerer Vergütungssatz'!AB$9","v":0},{"$f":"'D-Mittlerer Vergütungssatz'!AC$9","v":0},{"$f":"'D-Mittlerer Vergütungssatz'!AD$9","v":0},{"$f":"'D-Mittlerer Vergütungssatz'!AE$9","v":0},{"$f":"'D-Mittlerer Vergütungssatz'!AF$9","v":0}]
[125,{"$f":"'D-Mittlerer Vergütungssatz'!C$10","v":"Historisch"},{"$f":"'D-Mittlerer Vergütungssatz'!D$10","v":"fh"},{"$f":"'D-Mittlerer Vergütungssatz'!E$10","v":"Abgeleitet aus ÜNB-Jahresprognosen"},"Wind Onshore",{"$f":"'D-Mittlerer Vergütungssatz'!G$10","v":87.77},{"$f":"'D-Mittlerer Vergütungssatz'!H$10","v":88.470056975207314},{"$f":"'D-Mittlerer Vergütungssatz'!I$10","v":89.579894563937472},{"$f":"'D-Mittlerer Vergütungssatz'!J$10","v":97.55029244575941},{"$f":"'D-Mittlerer Vergütungssatz'!K$10","v":100.74631823317601},{"$f":"'D-Mittlerer Vergütungssatz'!L$10","v":92.874953538580655},{"$f":"'D-Mittlerer Vergütungssatz'!M$10","v":91.555496018812718},{"$f":"'D-Mittlerer Vergütungssatz'!N$10","v":88.105159748659176},{"$f":"'D-Mittlerer Vergütungssatz'!O$10","v":85.970286785170643},{"$f":"'D-Mittlerer Vergütungssatz'!P$10","v":88.681513062623281},{"$f":"'D-Mittlerer Vergütungssatz'!Q$10","v":84.943185603231001},{"$f":"'D-Mittlerer Vergütungssatz'!R$10","v":87.658156173485565},{"$f":"'D-Mittlerer Vergütungssatz'!S$10","v":0},{"$f":"'D-Mittlerer Vergütungssatz'!T$10","v":0},{"$f":"'D-Mittlerer Vergütungssatz'!U$10","v":0},{"$f":"'D-Mittlerer Vergütungssatz'!V$10","v":0},{"$f":"'D-Mittlerer Vergütungssatz'!W$10","v":0},{"$f":"'D-Mittlerer Vergütungssatz'!X$10","v":0},{"$f":"'D-Mittlerer Vergütungssatz'!Y$10","v":0},{"$f":"'D-Mittlerer Vergütungssatz'!Z$10","v":0},{"$f":"'D-Mittlerer Vergütungssatz'!AA$10","v":0},{"$f":"'D-Mittlerer Vergütungssatz'!AB$10","v":0},{"$f":"'D-Mittlerer Vergütungssatz'!AC$10","v":0},{"$f":"'D-Mittlerer Vergütungssatz'!AD$10","v":0},{"$f":"'D-Mittlerer Vergütungssatz'!AE$10","v":0},{"$f":"'D-Mittlerer Vergütungssatz'!AF$10","v":0}]
[126,{"$f":"'D-Mittlerer Vergütungssatz'!C$11","v":"Historisch"},{"$f":"'D-Mittlerer Vergütungssatz'!D$11","v":"fh"},{"$f":"'D-Mittlerer Vergütungssatz'!E$11","v":"Abgeleitet aus ÜNB-Jahresprognosen"},"Wind Offshore",{"$f":"'D-Mittlerer Vergütungssatz'!G$11","v":150},{"$f":"'D-Mittlerer Vergütungssatz'!H$11","v":150.00002964794805},{"$f":"'D-Mittlerer Vergütungssatz'!I$11","v":159.55374326447114},{"$f":"'D-Mittlerer Vergütungssatz'!J$11","v":189.09737949685689},{"$f":"'D-Mittlerer Vergütungssatz'!K$11","v":191.11269267192381},{"$f":"'D-Mittlerer Vergütungssatz'!L$11","v":182.24269170072949},{"$f":"'D-Mittlerer Vergütungssatz'!M$11","v":183.62361985504901},{"$f":"'D-Mittlerer Vergütungssatz'!N$11","v":181.73716679008584},{"$f":"'D-Mittlerer Vergütungssatz'!O$11","v":185.91972037730574},{"$f":"'D-Mittlerer Vergütungssatz'!P$11","v":187.42134928446933},{"$f":"'D-Mittlerer Vergütungssatz'!Q$11","v":184.61609509608459},{"$f":"'D-Mittlerer Vergütungssatz'!R$11","v":185.38314339176773},{"$f":"'D-Mittlerer Vergütungssatz'!S$11","v":0},{"$f":"'D-Mittlerer Vergütungssatz'!T$11","v":0},{"$f":"'D-Mittlerer Vergütungssatz'!U$11","v":0},{"$f":"'D-Mittlerer Vergütungssatz'!V$11","v":0},{"$f":"'D-Mittlerer Vergütungssatz'!W$11","v":0},{"$f":"'D-Mittlerer Vergütungssatz'!X$11","v":0},{"$f":"'D-Mittlerer Vergütungssatz'!Y$11","v":0},{"$f":"'D-Mittlerer Vergütungssatz'!Z$11","v":0},{"$f":"'D-Mittlerer Vergütungssatz'!AA$11","v":0},{"$f":"'D-Mittlerer Vergütungssatz'!AB$11","v":0},{"$f":"'D-Mittlerer Vergütungssatz'!AC$11","v":0},{"$f":"'D-Mittlerer Vergütungssatz'!AD$11","v":0},{"$f":"'D-Mittlerer Vergütungssatz'!AE$11","v":0},{"$f":"'D-Mittlerer Vergütungssatz'!AF$11","v":0}]
[127,{"$f":"'D-Mittlerer Vergütungssatz'!C$12","v":"Historisch"},{"$f":"'D-Mittlerer Vergütungssatz'!D$12","v":"fh"},{"$f":"'D-Mittlerer Vergütungssatz'!E$12","v":"Abgeleitet aus ÜNB-Jahresprognosen"},"Solar",{"$f":"'D-Mittlerer Vergütungssatz'!G$12","v":468.01},{"$f":"'D-Mittlerer Vergütungssatz'!H$12","v":413.44926826434391},{"$f":"'D-Mittlerer Vergütungssatz'!I$12","v":371.1522047462546},{"$f":"'D-Mittlerer Vergütungssatz'!J$12","v":315.53756947644092},{"$f":"'D-Mittlerer Vergütungssatz'!K$12","v":313.88797913696925},{"$f":"'D-Mittlerer Vergütungssatz'!L$12","v":316.55085116684148},{"$f":"'D-Mittlerer Vergütungssatz'!M$12","v":306.12648368500913},{"$f":"'D-Mittlerer Vergütungssatz'!N$12","v":292.27348099233154},{"$f":"'D-Mittlerer Vergütungssatz'!O$12","v":288.19142295217864},{"$f":"'D-Mittlerer Vergütungssatz'!P$12","v":273.54643342384685},{"$f":"'D-Mittlerer Vergütungssatz'!Q$12","v":264.37474625040585},{"$f":"'D-Mittlerer Vergütungssatz'!R$12","v":249.07864310282855},{"$f":"'D-Mittlerer Vergütungssatz'!S$12","v":0},{"$f":"'D-Mittlerer Vergütungssatz'!T$12","v":0},{"$f":"'D-Mittlerer Vergütungssatz'!U$12","v":0},{"$f":"'D-Mittlerer Vergütungssatz'!V$12","v":0},{"$f":"'D-Mittlerer Vergütungssatz'!W$12","v":0},{"$f":"'D-Mittlerer Vergütungssatz'!X$12","v":0},{"$f":"'D-Mittlerer Vergütungssatz'!Y$12","v":0},{"$f":"'D-Mittlerer Vergütungssatz'!Z$12","v":0},{"$f":"'D-Mittlerer Vergütungssatz'!AA$12","v":0},{"$f":"'D-Mittlerer Vergütungssatz'!AB$12","v":0},{"$f":"'D-Mittlerer Vergütungssatz'!AC$12","v":0},{"$f":"'D-Mittlerer Vergütungssatz'!AD$12","v":0},{"$f":"'D-Mittlerer Vergütungssatz'!AE$12","v":0},{"$f":"'D-Mittlerer Vergütungssatz'!AF$12","v":0}]
[128]
[129,null,null,null,"Vergütungssatz für Neuanlagen (real) [Euro/MWh]"]
[130,{"$f":"'D-Vergütungssatz Neuanlagen'!C$6","v":"Referenz"},{"$f":"'D-Vergütungssatz Neuanlagen'!D$6","v":"dr"},{"$f":"'D-Vergütungssatz Neuanlagen'!E$6","v":"EEG 2017"},"Wasser",{"$f":"'D-Vergütungssatz Neuanlagen'!G$6","v":0},{"$f":"'D-Vergütungssatz Neuanlagen'!H$6","v":0},{"$f":"'D-Vergütungssatz Neuanlagen'!I$6","v":0},{"$f":"'D-Vergütungssatz Neuanlagen'!J$6","v":0},{"$f":"'D-Vergütungssatz Neuanlagen'!K$6","v":0},{"$f":"'D-Vergütungssatz Neuanlagen'!L$6","v":115.67111231527093},{"$f":"'D-Vergütungssatz Neuanlagen'!M$6","v":118.57143532657497},{"$f":"'D-Vergütungssatz Neuanlagen'!N$6","v":119.06888980183719},{"$f":"'D-Vergütungssatz Neuanlagen'!O$6","v":116.72270478111133},{"$f":"'D-Vergütungssatz Neuanlagen'!P$6","v":114.42275000709931},{"$f":"'D-Vergütungssatz Neuanlagen'!Q$6","v":112.16811453897915},{"$f":"'D-Vergütungssatz Neuanlagen'!R$6","v":109.95790538550175},{"$f":"'D-Vergütungssatz Neuanlagen'!S$6","v":107.79124715130467},{"$f":"'D-Vergütungssatz Neuanlagen'!T$6","v":105.66728169019525},{"$f":"'D-Vergütungssatz Neuanlagen'!U$6","v":103.58516776526531},{"$f":"'D-Vergütungssatz Neuanlagen'!V$6","v":101.54408071570344},{"$f":"'D-Vergütungssatz Neuanlagen'!W$6","v":99.54321213017235},{"$f":"'D-Vergütungssatz Neuanlagen'!X$6","v":97.581769526622168},{"$f":"'D-Vergütungssatz Neuanlagen'!Y$6","v":95.658976038412874},{"$f":"'D-Vergütungssatz Neuanlagen'!Z$6","v":93.774070106621494},{"$f":"'D-Vergütungssatz Neuanlagen'!AA$6","v":91.926305178412207},{"$f":"'D-Vergütungssatz Neuanlagen'!AB$6","v":90.114949411349897},{"$f":"'D-Vergütungssatz Neuanlagen'!AC$6","v":88.339285383540059},{"$f":"'D-Vergütungssatz Neuanlagen'!AD$6","v":86.598609809480166},{"$f":"'D-Vergütungssatz Neuanlagen'!AE$6","v":84.892233261510128},{"$f":"'D-Vergütungssatz Neuanlagen'!AF$6","v":83.219479896751309}]
[131,{"$f":"'D-Vergütungssatz Neuanlagen'!C$7","v":"Referenz"},{"$f":"'D-Vergütungssatz Neuanlagen'!D$7","v":"dr"},{"$f":"'D-Vergütungssatz Neuanlagen'!E$7","v":"EEG 2017"},"Gas",{"$f":"'D-Vergütungssatz Neuanlagen'!G$7","v":0},{"$f":"'D-Vergütungssatz Neuanlagen'!H$7","v":0},{"$f":"'D-Vergütungssatz Neuanlagen'!I$7","v":0},{"$f":"'D-Vergütungssatz Neuanlagen'!J$7","v":0},{"$f":"'D-Vergütungssatz Neuanlagen'!K$7","v":0},{"$f":"'D-Vergütungssatz Neuanlagen'!L$7","v":80.973162315270926},{"$f":"'D-Vergütungssatz Neuanlagen'!M$7","v":82.169267504056208},{"$f":"'D-Vergütungssatz Neuanlagen'!N$7","v":66.755592908240772},{"$f":"'D-Vergütungssatz Neuanlagen'!O$7","v":64.782521196667162},{"$f":"'D-Vergütungssatz Neuanlagen'!P$7","v":62.867766875583413},{"$f":"'D-Vergütungssatz Neuanlagen'!Q$7","v":61.009606278275527},{"$f":"'D-Vergütungssatz Neuanlagen'!R$7","v":59.206366683843747},{"$f":"'D-Vergütungssatz Neuanlagen'!S$7","v":57.456424811414877},{"$f":"'D-Vergütungssatz Neuanlagen'!T$7","v":55.758205358860749},{"$f":"'D-Vergütungssatz Neuanlagen'!U$7","v":54.110179584707232},{"$f":"'D-Vergütungssatz Neuanlagen'!V$7","v":52.510863931957267},{"$f":"'D-Vergütungssatz Neuanlagen'!W$7","v":50.958818692589077},{"$f":"'D-Vergütungssatz Neuanlagen'!X$7","v":49.452646711527336},{"$f":"'D-Vergütungssatz Neuanlagen'!Y$7","v":47.990992128920624},{"$f":"'D-Vergütungssatz Neuanlagen'!Z$7","v":46.572539159592914},{"$f":"'D-Vergütungssatz Neuanlagen'!AA$7","v":45.196010908570464},{"$f":"'D-Vergütungssatz Neuanlagen'!AB$7","v":43.860168221617648},{"$f":"'D-Vergütungssatz Neuanlagen'!AC$7","v":42.563808569747181},{"$f":"'D-Vergütungssatz Neuanlagen'!AD$7","v":41.305764966700472},{"$f":"'D-Vergütungssatz Neuanlagen'!AE$7","v":40.084904918423611},{"$f":"'D-Vergütungssatz Neuanlagen'!AF$7","v":38.900129403593361}]
[132,{"$f":"'D-Vergütungssatz Neuanlagen'!C$8","v":"Referenz"},{"$f":"'D-Vergütungssatz Neuanlagen'!D$8","v":"dr"},{"$f":"'D-Vergütungssatz Neuanlagen'!E$8","v":"EEG 2017"},"Biomasse",{"$f":"'D-Vergütungssatz Neuanlagen'!G$8","v":0},{"$f":"'D-Vergütungssatz Neuanlagen'!H$8","v":0},{"$f":"'D-Vergütungssatz Neuanlagen'!I$8","v":0},{"$f":"'D-Vergütungssatz Neuanlagen'!J$8","v":0},{"$f":"'D-Vergütungssatz Neuanlagen'!K$8","v":0},{"$f":"'D-Vergütungssatz Neuanlagen'!L$8","v":174.76190476190482},{"$f":"'D-Vergütungssatz Neuanlagen'!M$8","v":178.24364250000005},{"$f":"'D-Vergütungssatz Neuanlagen'!N$8","v":153.77000000000001},{"$f":"'D-Vergütungssatz Neuanlagen'!O$8","v":149.9914941707718},{"$f":"'D-Vergütungssatz Neuanlagen'!P$8","v":146.29623580770996},{"$f":"'D-Vergütungssatz Neuanlagen'!Q$8","v":138.99746124695602},{"$f":"'D-Vergütungssatz Neuanlagen'!R$8","v":142.45904886967196},{"$f":"'D-Vergütungssatz Neuanlagen'!S$8","v":137.90967883577406},{"$f":"'D-Vergütungssatz Neuanlagen'!T$8","v":132.74871581588312},{"$f":"'D-Vergütungssatz Neuanlagen'!U$8","v":128.6261172129752},{"$f":"'D-Vergütungssatz Neuanlagen'!V$8","v":129.53996861454175},{"$f":"'D-Vergütungssatz Neuanlagen'!W$8","v":126.33045913970172},{"$f":"'D-Vergütungssatz Neuanlagen'!X$8","v":123.19758113514828},{"$f":"'D-Vergütungssatz Neuanlagen'!Y$8","v":120.13952287204474},{"$f":"'D-Vergütungssatz Neuanlagen'!Z$8","v":117.15451553321103},{"$f":"'D-Vergütungssatz Neuanlagen'!AA$8","v":114.24083219030085},{"$f":"'D-Vergütungssatz Neuanlagen'!AB$8","v":111.39678680553604},{"$f":"'D-Vergütungssatz Neuanlagen'!AC$8","v":108.62073325740459},{"$f":"'D-Vergütungssatz Neuanlagen'!AD$8","v":105.91106438974299},{"$f":"'D-Vergütungssatz Neuanlagen'!AE$8","v":103.26621108363823},{"$f":"'D-Vergütungssatz Neuanlagen'!AF$8","v":103.20178107568667}]
[133,{"$f":"'D-Vergütungssatz Neuanlagen'!C$9","v":"Referenz"},{"$f":"'D-Vergütungssatz Neuanlagen'!D$9","v":"dr"},{"$f":"'D-Vergütungssatz Neuanlagen'!E$9","v":"EEG 2017"},"Geothermie",{"$f":"'D-Vergütungssatz Neuanlagen'!G$9","v":0},{"$f":"'D-Vergütungssatz Neuanlagen'!H$9","v":0},{"$f":"'D-Vergütungssatz Neuanlagen'!I$9","v":0},{"$f":"'D-Vergütungssatz Neuanlagen'!J$9","v":0},{"$f":"'D-Vergütungssatz Neuanlagen'!K$9","v":0},{"$f":"'D-Vergütungssatz Neuanlagen'!L$9","v":248.27586206896555},{"$f":"'D-Vergütungssatz Neuanlagen'!M$9","v":249.38549999999995},{"$f":"'D-Vergütungssatz Neuanlagen'!N$9","v":252},{"$f":"'D-Vergütungssatz Neuanlagen'!O$9","v":248.27586206896555},{"$f":"'D-Vergütungssatz Neuanlagen'!P$9","v":244.60676065907938},{"$f":"'D-Vergütungssatz Neuanlagen'!Q$9","v":240.99188242273834},{"$f":"'D-Vergütungssatz Neuanlagen'!R$9","v":225.55890473064181},{"$f":"'D-Vergütungssatz Neuanlagen'!S$9","v":211.11424580700469},{"$f":"'D-Vergütungssatz Neuanlagen'!T$9","v":197.59461430212264},{"$f":"'D-Vergütungssatz Neuanlagen'!U$9","v":184.94077200691282},{"$f":"'D-Vergütungssatz Neuanlagen'!V$9","v":173.09727429218444},{"$f":"'D-Vergütungssatz Neuanlagen'!W$9","v":162.01222717002486},{"$f":"'D-Vergütungssatz Neuanlagen'!X$9","v":151.63705991283115},{"$f":"'D-Vergütungssatz Neuanlagen'!Y$9","v":141.92631223368434},{"$f":"'D-Vergütungssatz Neuanlagen'!Z$9","v":132.83743509556663},{"$f":"'D-Vergütungssatz Neuanlagen'!AA$9","v":124.33060427663872},{"$f":"'D-Vergütungssatz Neuanlagen'!AB$9","v":116.3685458746865},{"$f":"'D-Vergütungssatz Neuanlagen'!AC$9","v":108.91637298615977},{"$f":"'D-Vergütungssatz Neuanlagen'!AD$9","v":101.94143284418897},{"$f":"'D-Vergütungssatz Neuanlagen'!AE$9","v":95.41316374579263},{"$f":"'D-Vergütungssatz Neuanlagen'!AF$9","v":89.302961141382269}]
[134,{"$f":"'D-Vergütungssatz Neuanlagen'!C$10","v":"Referenz"},{"$f":"'D-Vergütungssatz Neuanlagen'!D$10","v":"dr"},{"$f":"'D-Vergütungssatz Neuanlagen'!E$10","v":"sinkt auf 3,5 ct/kWh in 2035"},"Wind Onshore",{"$f":"'D-Vergütungssatz Neuanlagen'!G$10","v":0},{"$f":"'D-Vergütungssatz Neuanlagen'!H$10","v":0},{"$f":"'D-Vergütungssatz Neuanlagen'!I$10","v":0},{"$f":"'D-Vergütungssatz Neuanlagen'!J$10","v":0},{"$f":"'D-Vergütungssatz Neuanlagen'!K$10","v":0},{"$f":"'D-Vergütungssatz Neuanlagen'!L$10","v":87.684729064039445},{"$f":"'D-Vergütungssatz Neuanlagen'!M$10","v":88.277074028919984},{"$f":"'D-Vergütungssatz Neuanlagen'!N$10","v":80.650000000000006},{"$f":"'D-Vergütungssatz Neuanlagen'!O$10","v":74.50738916256158},{"$f":"'D-Vergütungssatz Neuanlagen'!P$10","v":62.153413089373693},{"$f":"'D-Vergütungssatz Neuanlagen'!Q$10","v":60.181028416122707},{"$f":"'D-Vergütungssatz Neuanlagen'!R$10","v":58.253366590167602},{"$f":"'D-Vergütungssatz Neuanlagen'!S$10","v":56.369536520582891},{"$f":"'D-Vergütungssatz Neuanlagen'!T$10","v":54.528663686685597},{"$f":"'D-Vergütungssatz Neuanlagen'!U$10","v":52.729889842887602},{"$f":"'D-Vergütungssatz Neuanlagen'!V$10","v":50.972372728652694},{"$f":"'D-Vergütungssatz Neuanlagen'!W$10","v":49.255285783471933},{"$f":"'D-Vergütungssatz Neuanlagen'!X$10","v":47.577817866772151},{"$f":"'D-Vergütungssatz Neuanlagen'!Y$10","v":45.939172982674187},{"$f":"'D-Vergütungssatz Neuanlagen'!Z$10","v":44.338570009518754},{"$f":"'D-Vergütungssatz Neuanlagen'!AA$10","v":42.775242434078841},{"$f":"'D-Vergütungssatz Neuanlagen'!AB$10","v":41.24843809037958},{"$f":"'D-Vergütungssatz Neuanlagen'!AC$10","v":39.75741890304711},{"$f":"'D-Vergütungssatz Neuanlagen'!AD$10","v":38.301460635109848},{"$f":"'D-Vergütungssatz Neuanlagen'!AE$10","v":36.879852640176559},{"$f":"'D-Vergütungssatz Neuanlagen'!AF$10","v":35.491897618916795}]
[135,{"$f":"'D-Vergütungssatz Neuanlagen'!C$11","v":"Referenz"},{"$f":"'D-Vergütungssatz Neuanlagen'!D$11","v":"dr"},{"$f":"'D-Vergütungssatz Neuanlagen'!E$11","v":"sinkt auf 4,5 ct/kWh in 2035"},"Wind Offshore",{"$f":"'D-Vergütungssatz Neuanlagen'!G$11","v":0},{"$f":"'D-Vergütungssatz Neuanlagen'!H$11","v":0},{"$f":"'D-Vergütungssatz Neuanlagen'!I$11","v":0},{"$f":"'D-Vergütungssatz Neuanlagen'!J$11","v":0},{"$f":"'D-Vergütungssatz Neuanlagen'!K$11","v":0},{"$f":"'D-Vergütungssatz Neuanlagen'!L$11","v":191.13300492610838},{"$f":"'D-Vergütungssatz Neuanlagen'!M$11","v":191.73349999999999},{"$f":"'D-Vergütungssatz Neuanlagen'!N$11","v":194},{"$f":"'D-Vergütungssatz Neuanlagen'!O$11","v":146.79802955665025},{"$f":"'D-Vergütungssatz Neuanlagen'!P$11","v":144.62860054842392},{"$f":"'D-Vergütungssatz Neuanlagen'!Q$11","v":137.70964709870762},{"$f":"'D-Vergütungssatz Neuanlagen'!R$11","v":70},{"$f":"'D-Vergütungssatz Neuanlagen'!S$11","v":65},{"$f":"'D-Vergütungssatz Neuanlagen'!T$11","v":61.666666666666664},{"$f":"'D-Vergütungssatz Neuanlagen'!U$11","v":58.333333333333329},{"$f":"'D-Vergütungssatz Neuanlagen'!V$11","v":55},{"$f":"'D-Vergütungssatz Neuanlagen'!W$11","v":54},{"$f":"'D-Vergütungssatz Neuanlagen'!X$11","v":53},{"$f":"'D-Vergütungssatz Neuanlagen'!Y$11","v":52},{"$f":"'D-Vergütungssatz Neuanlagen'!Z$11","v":51},{"$f":"'D-Vergütungssatz Neuanlagen'!AA$11","v":50},{"$f":"'D-Vergütungssatz Neuanlagen'!AB$11","v":49},{"$f":"'D-Vergütungssatz Neuanlagen'!AC$11","v":48},{"$f":"'D-Vergütungssatz Neuanlagen'!AD$11","v":47},{"$f":"'D-Vergütungssatz Neuanlagen'!AE$11","v":46},{"$f":"'D-Vergütungssatz Neuanlagen'!AF$11","v":45}]
[136,{"$f":"'D-Vergütungssatz Neuanlagen'!C$12","v":"Referenz"},{"$f":"'D-Vergütungssatz Neuanlagen'!D$12","v":"dr"},{"$f":"'D-Vergütungssatz Neuanlagen'!E$12","v":"EEG 2017; Anteil Ausschreibungen ab 2020 50%"},"Solar",{"$f":"'D-Vergütungssatz Neuanlagen'!G$12","v":0},{"$f":"'D-Vergütungssatz Neuanlagen'!H$12","v":0},{"$f":"'D-Vergütungssatz Neuanlagen'!I$12","v":0},{"$f":"'D-Vergütungssatz Neuanlagen'!J$12","v":0},{"$f":"'D-Vergütungssatz Neuanlagen'!K$12","v":0},{"$f":"'D-Vergütungssatz Neuanlagen'!L$12","v":108.02793365944886},{"$f":"'D-Vergütungssatz Neuanlagen'!M$12","v":110.45769389560584},{"$f":"'D-Vergütungssatz Neuanlagen'!N$12","v":101.35881575680968},{"$f":"'D-Vergütungssatz Neuanlagen'!O$12","v":109.04631799757858},{"$f":"'D-Vergütungssatz Neuanlagen'!P$12","v":106.93752173913046},{"$f":"'D-Vergütungssatz Neuanlagen'!Q$12","v":89.118500000000012},{"$f":"'D-Vergütungssatz Neuanlagen'!R$12","v":84.825000000000003},{"$f":"'D-Vergütungssatz Neuanlagen'!S$12","v":78.358541666666667},{"$f":"'D-Vergütungssatz Neuanlagen'!T$12","v":74.209166666666661},{"$f":"'D-Vergütungssatz Neuanlagen'!U$12","v":70.758208333333343},{"$f":"'D-Vergütungssatz Neuanlagen'!V$12","v":67.374750000000006},{"$f":"'D-Vergütungssatz Neuanlagen'!W$12","v":64.198750000000004},{"$f":"'D-Vergütungssatz Neuanlagen'!X$12","v":61.143458333333328},{"$f":"'D-Vergütungssatz Neuanlagen'!Y$12","v":58.260166666666649},{"$f":"'D-Vergütungssatz Neuanlagen'!Z$12","v":55.461749999999988},{"$f":"'D-Vergütungssatz Neuanlagen'!AA$12","v":52.840583333333328},{"$f":"'D-Vergütungssatz Neuanlagen'!AB$12","v":50.376916666666652},{"$f":"'D-Vergütungssatz Neuanlagen'!AC$12","v":47.916249999999991},{"$f":"'D-Vergütungssatz Neuanlagen'!AD$12","v":45.505749999999985},{"$f":"'D-Vergütungssatz Neuanlagen'!AE$12","v":43.285166666666655},{"$f":"'D-Vergütungssatz Neuanlagen'!AF$12","v":41.136499999999998}]
[137]
[138,null,null,null,"Vergütung Eigenverbrauch [Euro/MWh]"]
[139,{"$f":"'D-Vergütung Eigenverbrauch'!C$6","v":"Referenz"},{"$f":"'D-Vergütung Eigenverbrauch'!D$6","v":"cl"},{"$f":"'D-Vergütung Eigenverbrauch'!E$6","v":0},"Wasser",{"$f":"'D-Vergütung Eigenverbrauch'!G6","v":0},{"$f":"'D-Vergütung Eigenverbrauch'!H6","v":0},{"$f":"'D-Vergütung Eigenverbrauch'!I6","v":0},{"$f":"'D-Vergütung Eigenverbrauch'!J6","v":0},{"$f":"'D-Vergütung Eigenverbrauch'!K6","v":0},{"$f":"'D-Vergütung Eigenverbrauch'!L6","v":0},{"$f":"'D-Vergütung Eigenverbrauch'!M6","v":0},{"$f":"'D-Vergütung Eigenverbrauch'!N6","v":0},{"$f":"'D-Vergütung Eigenverbrauch'!O6","v":0},{"$f":"'D-Vergütung Eigenverbrauch'!P6","v":0},{"$f":"'D-Vergütung Eigenverbrauch'!Q6","v":0},{"$f":"'D-Vergütung Eigenverbrauch'!R6","v":0},{"$f":"'D-Vergütung Eigenverbrauch'!S6","v":0},{"$f":"'D-Vergütung Eigenverbrauch'!T6","v":0},{"$f":"'D-Vergütung Eigenverbrauch'!U6","v":0},{"$f":"'D-Vergütung Eigenverbrauch'!V6","v":0},{"$f":"'D-Vergütung Eigenverbrauch'!W6","v":0},{"$f":"'D-Vergütung Eigenverbrauch'!X6","v":0},{"$f":"'D-Vergütung Eigenverbrauch'!Y6","v":0},{"$f":"'D-Vergütung Eigenverbrauch'!Z6","v":0},{"$f":"'D-Vergütung Eigenverbrauch'!AA6","v":0},{"$f":"'D-Vergütung Eigenverbrauch'!AB6","v":0},{"$f":"'D-Vergütung Eigenverbrauch'!AC6","v":0},{"$f":"'D-Vergütung Eigenverbrauch'!AD6","v":0},{"$f":"'D-Vergütung Eigenverbrauch'!AE6","v":0},{"$f":"'D-Vergütung Eigenverbrauch'!AF6","v":0}]
[140,{"$f":"'D-Vergütung Eigenverbrauch'!C$7","v":"Referenz"},{"$f":"'D-Vergütung Eigenverbrauch'!D$7","v":"cl"},{"$f":"'D-Vergütung Eigenverbrauch'!E$7","v":0},"Gas",{"$f":"'D-Vergütung Eigenverbrauch'!G7","v":0},{"$f":"'D-Vergütung Eigenverbrauch'!H7","v":0},{"$f":"'D-Vergütung Eigenverbrauch'!I7","v":0},{"$f":"'D-Vergütung Eigenverbrauch'!J7","v":0},{"$f":"'D-Vergütung Eigenverbrauch'!K7","v":0},{"$f":"'D-Vergütung Eigenverbrauch'!L7","v":0},{"$f":"'D-Vergütung Eigenverbrauch'!M7","v":0},{"$f":"'D-Vergütung Eigenverbrauch'!N7","v":0},{"$f":"'D-Vergütung Eigenverbrauch'!O7","v":0},{"$f":"'D-Vergütung Eigenverbrauch'!P7","v":0},{"$f":"'D-Vergütung Eigenverbrauch'!Q7","v":0},{"$f":"'D-Vergütung Eigenverbrauch'!R7","v":0},{"$f":"'D-Vergütung Eigenverbrauch'!S7","v":0},{"$f":"'D-Vergütung Eigenverbrauch'!T7","v":0},{"$f":"'D-Vergütung Eigenverbrauch'!U7","v":0},{"$f":"'D-Vergütung Eigenverbrauch'!V7","v":0},{"$f":"'D-Vergütung Eigenverbrauch'!W7","v":0},{"$f":"'D-Vergütung Eigenverbrauch'!X7","v":0},{"$f":"'D-Vergütung Eigenverbrauch'!Y7","v":0},{"$f":"'D-Vergütung Eigenverbrauch'!Z7","v":0},{"$f":"'D-Vergütung Eigenverbrauch'!AA7","v":0},{"$f":"'D-Vergütung Eigenverbrauch'!AB7","v":0},{"$f":"'D-Vergütung Eigenverbrauch'!AC7","v":0},{"$f":"'D-Vergütung Eigenverbrauch'!AD7","v":0},{"$f":"'D-Vergütung Eigenverbrauch'!AE7","v":0},{"$f":"'D-Vergütung Eigenverbrauch'!AF7","v":0}]
[141,{"$f":"'D-Vergütung Eigenverbrauch'!C$8","v":"Referenz"},{"$f":"'D-Vergütung Eigenverbrauch'!D$8","v":"cl"},{"$f":"'D-Vergütung Eigenverbrauch'!E$8","v":0},"Biomasse",{"$f":"'D-Vergütung Eigenverbrauch'!G8","v":0},{"$f":"'D-Vergütung Eigenverbrauch'!H8","v":0},{"$f":"'D-Vergütung Eigenverbrauch'!I8","v":0},{"$f":"'D-Vergütung Eigenverbrauch'!J8","v":0},{"$f":"'D-Vergütung Eigenverbrauch'!K8","v":0},{"$f":"'D-Vergütung Eigenverbrauch'!L8","v":0},{"$f":"'D-Vergütung Eigenverbrauch'!M8","v":0},{"$f":"'D-Vergütung Eigenverbrauch'!N8","v":0},{"$f":"'D-Vergütung Eigenverbrauch'!O8","v":0},{"$f":"'D-Vergütung Eigenverbrauch'!P8","v":0},{"$f":"'D-Vergütung Eigenverbrauch'!Q8","v":0},{"$f":"'D-Vergütung Eigenverbrauch'!R8","v":0},{"$f":"'D-Vergütung Eigenverbrauch'!S8","v":0},{"$f":"'D-Vergütung Eigenverbrauch'!T8","v":0},{"$f":"'D-Vergütung Eigenverbrauch'!U8","v":0},{"$f":"'D-Vergütung Eigenverbrauch'!V8","v":0},{"$f":"'D-Vergütung Eigenverbrauch'!W8","v":0},{"$f":"'D-Vergütung Eigenverbrauch'!X8","v":0},{"$f":"'D-Vergütung Eigenverbrauch'!Y8","v":0},{"$f":"'D-Vergütung Eigenverbrauch'!Z8","v":0},{"$f":"'D-Vergütung Eigenverbrauch'!AA8","v":0},{"$f":"'D-Vergütung Eigenverbrauch'!AB8","v":0},{"$f":"'D-Vergütung Eigenverbrauch'!AC8","v":0},{"$f":"'D-Vergütung Eigenverbrauch'!AD8","v":0},{"$f":"'D-Vergütung Eigenverbrauch'!AE8","v":0},{"$f":"'D-Vergütung Eigenverbrauch'!AF8","v":0}]
[142,{"$f":"'D-Vergütung Eigenverbrauch'!C$9","v":"Referenz"},{"$f":"'D-Vergütung Eigenverbrauch'!D$9","v":"cl"},{"$f":"'D-Vergütung Eigenverbrauch'!E$9","v":0},"Geothermie",{"$f":"'D-Vergütung Eigenverbrauch'!G9","v":0},{"$f":"'D-Vergütung Eigenverbrauch'!H9","v":0},{"$f":"'D-Vergütung Eigenverbrauch'!I9","v":0},{"$f":"'D-Vergütung Eigenverbrauch'!J9","v":0},{"$f":"'D-Vergütung Eigenverbrauch'!K9","v":0},{"$f":"'D-Vergütung Eigenverbrauch'!L9","v":0},{"$f":"'D-Vergütung Eigenverbrauch'!M9","v":0},{"$f":"'D-Vergütung Eigenverbrauch'!N9","v":0},{"$f":"'D-Vergütung Eigenverbrauch'!O9","v":0},{"$f":"'D-Vergütung Eigenverbrauch'!P9","v":0},{"$f":"'D-Vergütung Eigenverbrauch'!Q9","v":0},{"$f":"'D-Vergütung Eigenverbrauch'!R9","v":0},{"$f":"'D-Vergütung Eigenverbrauch'!S9","v":0},{"$f":"'D-Vergütung Eigenverbrauch'!T9","v":0},{"$f":"'D-Vergütung Eigenverbrauch'!U9","v":0},{"$f":"'D-Vergütung Eigenverbrauch'!V9","v":0},{"$f":"'D-Vergütung Eigenverbrauch'!W9","v":0},{"$f":"'D-Vergütung Eigenverbrauch'!X9","v":0},{"$f":"'D-Vergütung Eigenverbrauch'!Y9","v":0},{"$f":"'D-Vergütung Eigenverbrauch'!Z9","v":0},{"$f":"'D-Vergütung Eigenverbrauch'!AA9","v":0},{"$f":"'D-Vergütung Eigenverbrauch'!AB9","v":0},{"$f":"'D-Vergütung Eigenverbrauch'!AC9","v":0},{"$f":"'D-Vergütung Eigenverbrauch'!AD9","v":0},{"$f":"'D-Vergütung Eigenverbrauch'!AE9","v":0},{"$f":"'D-Vergütung Eigenverbrauch'!AF9","v":0}]
[143,{"$f":"'D-Vergütung Eigenverbrauch'!C$10","v":"Referenz"},{"$f":"'D-Vergütung Eigenverbrauch'!D$10","v":"cl"},{"$f":"'D-Vergütung Eigenverbrauch'!E$10","v":0},"Wind Onshore",{"$f":"'D-Vergütung Eigenverbrauch'!G10","v":0},{"$f":"'D-Vergütung Eigenverbrauch'!H10","v":0},{"$f":"'D-Vergütung Eigenverbrauch'!I10","v":0},{"$f":"'D-Vergütung Eigenverbrauch'!J10","v":0},{"$f":"'D-Vergütung Eigenverbrauch'!K10","v":0},{"$f":"'D-Vergütung Eigenverbrauch'!L10","v":0},{"$f":"'D-Vergütung Eigenverbrauch'!M10","v":0},{"$f":"'D-Vergütung Eigenverbrauch'!N10","v":0},{"$f":"'D-Vergütung Eigenverbrauch'!O10","v":0},{"$f":"'D-Vergütung Eigenverbrauch'!P10","v":0},{"$f":"'D-Vergütung Eigenverbrauch'!Q10","v":0},{"$f":"'D-Vergütung Eigenverbrauch'!R10","v":0},{"$f":"'D-Vergütung Eigenverbrauch'!S10","v":0},{"$f":"'D-Vergütung Eigenverbrauch'!T10","v":0},{"$f":"'D-Vergütung Eigenverbrauch'!U10","v":0},{"$f":"'D-Vergütung Eigenverbrauch'!V10","v":0},{"$f":"'D-Vergütung Eigenverbrauch'!W10","v":0},{"$f":"'D-Vergütung Eigenverbrauch'!X10","v":0},{"$f":"'D-Vergütung Eigenverbrauch'!Y10","v":0},{"$f":"'D-Vergütung Eigenverbrauch'!Z10","v":0},{"$f":"'D-Vergütung Eigenverbrauch'!AA10","v":0},{"$f":"'D-Vergütung Eigenverbrauch'!AB10","v":0},{"$f":"'D-Vergütung Eigenverbrauch'!AC10","v":0},{"$f":"'D-Vergütung Eigenverbrauch'!AD10","v":0},{"$f":"'D-Vergütung Eigenverbrauch'!AE10","v":0},{"$f":"'D-Vergütung Eigenverbrauch'!AF10","v":0}]
[144,{"$f":"'D-Vergütung Eigenverbrauch'!C$11","v":"Referenz"},{"$f":"'D-Vergütung Eigenverbrauch'!D$11","v":"cl"},{"$f":"'D-Vergütung Eigenverbrauch'!E$11","v":0},"Wind Offshore",{"$f":"'D-Vergütung Eigenverbrauch'!G11","v":0},{"$f":"'D-Vergütung Eigenverbrauch'!H11","v":0},{"$f":"'D-Vergütung Eigenverbrauch'!I11","v":0},{"$f":"'D-Vergütung Eigenverbrauch'!J11","v":0},{"$f":"'D-Vergütung Eigenverbrauch'!K11","v":0},{"$f":"'D-Vergütung Eigenverbrauch'!L11","v":0},{"$f":"'D-Vergütung Eigenverbrauch'!M11","v":0},{"$f":"'D-Vergütung Eigenverbrauch'!N11","v":0},{"$f":"'D-Vergütung Eigenverbrauch'!O11","v":0},{"$f":"'D-Vergütung Eigenverbrauch'!P11","v":0},{"$f":"'D-Vergütung Eigenverbrauch'!Q11","v":0},{"$f":"'D-Vergütung Eigenverbrauch'!R11","v":0},{"$f":"'D-Vergütung Eigenverbrauch'!S11","v":0},{"$f":"'D-Vergütung Eigenverbrauch'!T11","v":0},{"$f":"'D-Vergütung Eigenverbrauch'!U11","v":0},{"$f":"'D-Vergütung Eigenverbrauch'!V11","v":0},{"$f":"'D-Vergütung Eigenverbrauch'!W11","v":0},{"$f":"'D-Vergütung Eigenverbrauch'!X11","v":0},{"$f":"'D-Vergütung Eigenverbrauch'!Y11","v":0},{"$f":"'D-Vergütung Eigenverbrauch'!Z11","v":0},{"$f":"'D-Vergütung Eigenverbrauch'!AA11","v":0},{"$f":"'D-Vergütung Eigenverbrauch'!AB11","v":0},{"$f":"'D-Vergütung Eigenverbrauch'!AC11","v":0},{"$f":"'D-Vergütung Eigenverbrauch'!AD11","v":0},{"$f":"'D-Vergütung Eigenverbrauch'!AE11","v":0},{"$f":"'D-Vergütung Eigenverbrauch'!AF11","v":0}]
[145,{"$f":"'D-Vergütung Eigenverbrauch'!C$12","v":"Referenz"},{"$f":"'D-Vergütung Eigenverbrauch'!D$12","v":"fh"},{"$f":"'D-Vergütung Eigenverbrauch'!E$12","v":"Historische Werte aus ÜNB-Jahresprognosen. Quotient aus Eigenverbrauch und Vergütungszahlungen für Eigenverbrauch"},"Solar",{"$f":"'D-Vergütung Eigenverbrauch'!G12","v":0},{"$f":"'D-Vergütung Eigenverbrauch'!H12","v":0},{"$f":"'D-Vergütung Eigenverbrauch'!I12","v":117.34452741536268},{"$f":"'D-Vergütung Eigenverbrauch'!J12","v":42.446530658693341},{"$f":"'D-Vergütung Eigenverbrauch'!K12","v":42.446530658693341},{"$f":"'D-Vergütung Eigenverbrauch'!L12","v":61.584873056821998},{"$f":"'D-Vergütung Eigenverbrauch'!M12","v":55.353612472804969},{"$f":"'D-Vergütung Eigenverbrauch'!N12","v":116.59227181465116},{"$f":"'D-Vergütung Eigenverbrauch'!O12","v":56.297696752497401},{"$f":"'D-Vergütung Eigenverbrauch'!P12","v":41.435472923873455},{"$f":"'D-Vergütung Eigenverbrauch'!Q12","v":37.246225444316316},{"$f":"'D-Vergütung Eigenverbrauch'!R12","v":28.583544616898731},{"$f":"'D-Vergütung Eigenverbrauch'!S12","v":0},{"$f":"'D-Vergütung Eigenverbrauch'!T12","v":0},{"$f":"'D-Vergütung Eigenverbrauch'!U12","v":0},{"$f":"'D-Vergütung Eigenverbrauch'!V12","v":0},{"$f":"'D-Vergütung Eigenverbrauch'!W12","v":0},{"$f":"'D-Vergütung Eigenverbrauch'!X12","v":0},{"$f":"'D-Vergütung Eigenverbrauch'!Y12","v":0},{"$f":"'D-Vergütung Eigenverbrauch'!Z12","v":0},{"$f":"'D-Vergütung Eigenverbrauch'!AA12","v":0},{"$f":"'D-Vergütung Eigenverbrauch'!AB12","v":0},{"$f":"'D-Vergütung Eigenverbrauch'!AC12","v":0},{"$f":"'D-Vergütung Eigenverbrauch'!AD12","v":0},{"$f":"'D-Vergütung Eigenverbrauch'!AE12","v":0},{"$f":"'D-Vergütung Eigenverbrauch'!AF12","v":0}]
[146]
[147,null,null,null,"Vermiedene Zahlungen durch Absenkung der Vergütung (Wind offshore) (nominal) [Mrd. Euro]",null,null,null,null,null,null,null,null,null,null,null,null,null,null,null,null,null,null,null,null,null,null,null,null,null,null,"v2.1.13",null,null,null,"Dieser Effekt wird dadurch verursacht, dass die für Offshore-Windkraftanlagen gewährte Anfangsvergütung nur für 8 Jahre (bis 2019) bzw. 12 Jahre (ab 2020) gewährt wird. Die Werte werden in \"MOD_Absenkung_Wind_Offshore\" berechnet."]
[148,{"$f":"#REF!","v":{"$error":"#REF!"}},{"$f":"#REF!","v":{"$error":"#REF!"}},{"$f":"#REF!","v":{"$error":"#REF!"}},"Wasser",null,null,null,null,null,null,null,null,null,null,null,null,null,null,null,null,null,null,null,null,null,null,null,null,null,null,"v2.1.13"]
[149,{"$f":"#REF!","v":{"$error":"#REF!"}},{"$f":"#REF!","v":{"$error":"#REF!"}},{"$f":"#REF!","v":{"$error":"#REF!"}},"Gas",null,null,null,null,null,null,null,null,null,null,null,null,null,null,null,null,null,null,null,null,null,null,null,null,null,null,"v2.1.13"]
[150,{"$f":"#REF!","v":{"$error":"#REF!"}},{"$f":"#REF!","v":{"$error":"#REF!"}},{"$f":"#REF!","v":{"$error":"#REF!"}},"Biomasse",null,null,null,null,null,null,null,null,null,null,null,null,null,null,null,null,null,null,null,null,null,null,null,null,null,null,"v2.1.13"]
[151,{"$f":"#REF!","v":{"$error":"#REF!"}},{"$f":"#REF!","v":{"$error":"#REF!"}},{"$f":"#REF!","v":{"$error":"#REF!"}},"Geothermie",null,null,null,null,null,null,null,null,null,null,null,null,null,null,null,null,null,null,null,null,null,null,null,null,null,null,"v2.1.13"]
[152,{"$f":"#REF!","v":{"$error":"#REF!"}},{"$f":"#REF!","v":{"$error":"#REF!"}},{"$f":"#REF!","v":{"$error":"#REF!"}},"Wind Onshore",null,null,null,null,null,null,null,null,null,null,null,null,null,null,null,null,null,null,null,null,null,null,null,null,null,null,"v2.1.13"]
[153,{"$f":"#REF!","v":{"$error":"#REF!"}},{"$f":"#REF!","v":{"$error":"#REF!"}},{"$f":"#REF!","v":{"$error":"#REF!"}},"Wind Offshore",null,null,null,null,null,{"$f":"MOD_Absenkung_Wind_offshore!K11","v":0},{"$f":"MOD_Absenkung_Wind_offshore!L11","v":0},{"$f":"MOD_Absenkung_Wind_offshore!M11","v":0},{"$f":"MOD_Absenkung_Wind_offshore!N11","v":0},{"$f":"MOD_Absenkung_Wind_offshore!O11","v":0},{"$f":"MOD_Absenkung_Wind_offshore!P11","v":0},{"$f":"MOD_Absenkung_Wind_offshore!Q11","v":1.1078400000000002E-2},{"$f":"MOD_Absenkung_Wind_offshore!R11","v":4.4313600000000002E-2},{"$f":"MOD_Absenkung_Wind_offshore!S11","v":0.11161488},{"$f":"MOD_Absenkung_Wind_offshore!T11","v":0.46044600000000008},{"$f":"MOD_Absenkung_Wind_offshore!U11","v":0.67981231999999991},{"$f":"MOD_Absenkung_Wind_offshore!V11","v":1.0749052700000001},{"$f":"MOD_Absenkung_Wind_offshore!W11","v":2.0292228799999998},{"$f":"MOD_Absenkung_Wind_offshore!X11","v":2.3851913499999995},{"$f":"MOD_Absenkung_Wind_offshore!Y11","v":2.9132883699999996},{"$f":"MOD_Absenkung_Wind_offshore!Z11","v":2.9132883699999996},{"$f":"MOD_Absenkung_Wind_offshore!AA11","v":2.89537252},{"$f":"MOD_Absenkung_Wind_offshore!AB11","v":2.8523744799999999},{"$f":"MOD_Absenkung_Wind_offshore!AC11","v":2.8094456799999996},{"$f":"MOD_Absenkung_Wind_offshore!AD11","v":3.0890996199999998},{"$f":"MOD_Absenkung_Wind_offshore!AE11","v":3.3104778599999998},"v2.1.13"]
[154,{"$f":"#REF!","v":{"$error":"#REF!"}},{"$f":"#REF!","v":{"$error":"#REF!"}},{"$f":"#REF!","v":{"$error":"#REF!"}},"Solar",null,null,null,null,null,null,null,null,null,null,null,null,null,null,null,null,null,null,null,null,null,null,null,null,null,null,"v2.1.13"]
[155]
[156]
[157]
[158]
[159]
[160,null,null,null,"Berechnungen"]
[161]
[162,null,null,null,"Future-Strompreis (nominal) [Euro/MWh]",{"$f":"IF(ControlPanel!$D$59>F$5,F7,F7*F26)","v":53.650480000000002},{"$f":"IF(ControlPanel!$D$59>G$5,G7,G7*G26)","v":50.739089999999997},{"$f":"IF(ControlPanel!$D$59>H$5,H7,H7*H26)","v":55.22},{"$f":"IF(ControlPanel!$D$59>I$5,I7,I7*I26)","v":51.15},{"$f":"IF(ControlPanel!$D$59>J$5,J7,J7*J26)","v":41.45},{"$f":"IF(ControlPanel!$D$59>K$5,K7,K7*K26)","v":35.67},{"$f":"IF(ControlPanel!$D$59>L$5,L7,L7*L26)","v":31.26},{"$f":"IF(ControlPanel!$D$59>M$5,M7,M7*M26)","v":26.75},{"$f":"IF(ControlPanel!$D$59>N$5,N7,N7*N26)","v":32.22},{"$f":"IF(ControlPanel!$D$59>O$5,O7,O7*O26)","v":46.28},{"$f":"IF(ControlPanel!$D$59>P$5,P7,P7*P26)","v":49.34},{"$f":"IF(ControlPanel!$D$59>Q$5,Q7,Q7*Q26)","v":40.74},{"$f":"IF(ControlPanel!$D$59>R$5,R7,R7*R26)","v":72.511599999999987},{"$f":"IF(ControlPanel!$D$59>S$5,S7,S7*S26)","v":65.264753749999983},{"$f":"IF(ControlPanel!$D$59>T$5,T7,T7*T26)","v":66.387505832812479},{"$f":"IF(ControlPanel!$D$59>U$5,U7,U7*U26)","v":67.529255908515594},{"$f":"IF(ControlPanel!$D$59>V$5,V7,V7*V26)","v":68.690321297677414},{"$f":"IF(ControlPanel!$D$59>W$5,W7,W7*W26)","v":69.871024565934675},{"$f":"IF(ControlPanel!$D$59>X$5,X7,X7*X26)","v":71.071693609947673},{"$f":"IF(ControlPanel!$D$59>Y$5,Y7,Y7*Y26)","v":72.292661744753744},{"$f":"IF(ControlPanel!$D$59>Z$5,Z7,Z7*Z26)","v":73.534267792541755},{"$f":"IF(ControlPanel!$D$59>AA$5,AA7,AA7*AA26)","v":74.796856172870832},{"$f":"IF(ControlPanel!$D$59>AB$5,AB7,AB7*AB26)","v":76.080776994356455},{"$f":"IF(ControlPanel!$D$59>AC$5,AC7,AC7*AC26)","v":77.386386147847745},{"$f":"IF(ControlPanel!$D$59>AD$5,AD7,AD7*AD26)","v":78.71404540112006},{"$f":"IF(ControlPanel!$D$59>AE$5,AE7,AE7*AE26)","v":80.064122495107284},"v2.1.14","v2.1.14",null,null,"für Prognosejahre werden hier die realen Input-Daten in nominale Werte umgerechnet. Für historische Jahre sind die Input-Daten bereits nominal."]
[163,null,null,null,"vermiedene Netzentgelte (nominal) [Euro/MWh]",{"$f":"IF(ControlPanel!$D$59>F$5,F23,F23*F26)","v":3.6986274118651017},{"$f":"IF(ControlPanel!$D$59>G$5,G23,G23*G26)","v":3.67623039746714},{"$f":"IF(ControlPanel!$D$59>H$5,H23,H23*H26)","v":3.8466309856018386},{"$f":"IF(ControlPanel!$D$59>I$5,I23,I23*I26)","v":3.7273122127772123},{"$f":"IF(ControlPanel!$D$59>J$5,J23,J23*J26)","v":4.6460245701332967},{"$f":"IF(ControlPanel!$D$59>K$5,K23,K23*K26)","v":4.6631872317218352},{"$f":"IF(ControlPanel!$D$59>L$5,L23,L23*L26)","v":4.8191604494594991},{"$f":"IF(ControlPanel!$D$59>M$5,M23,M23*M26)","v":7.7231242789896131},{"$f":"IF(ControlPanel!$D$59>N$5,N23,N23*N26)","v":6.3391841590858826},{"$f":"IF(ControlPanel!$D$59>O$5,O23,O23*O26)","v":7.3821193026159877},{"$f":"IF(ControlPanel!$D$59>P$5,P23,P23*P26)","v":7.0575324728422038},{"$f":"IF(ControlPanel!$D$59>Q$5,Q23,Q23*Q26)","v":7.1727090185728217},{"$f":"IF(ControlPanel!$D$59>R$5,R23,R23*R26)","v":7.2802996538514133},{"$f":"IF(ControlPanel!$D$59>S$5,S23,S23*S26)","v":7.3895041486591833},{"$f":"IF(ControlPanel!$D$59>T$5,T23,T23*T26)","v":7.5003467108890698},{"$f":"IF(ControlPanel!$D$59>U$5,U23,U23*U26)","v":7.6128519115524051},{"$f":"IF(ControlPanel!$D$59>V$5,V23,V23*V26)","v":7.7270446902256902},{"$f":"IF(ControlPanel!$D$59>W$5,W23,W23*W26)","v":7.8429503605790742},{"$f":"IF(ControlPanel!$D$59>X$5,X23,X23*X26)","v":7.960594615987759},{"$f":"IF(ControlPanel!$D$59>Y$5,Y23,Y23*Y26)","v":8.0800035352275739},{"$f":"IF(ControlPanel!$D$59>Z$5,Z23,Z23*Z26)","v":8.2012035882559875},{"$f":"IF(ControlPanel!$D$59>AA$5,AA23,AA23*AA26)","v":8.3242216420798254},{"$f":"IF(ControlPanel!$D$59>AB$5,AB23,AB23*AB26)","v":8.4490849667110233},{"$f":"IF(ControlPanel!$D$59>AC$5,AC23,AC23*AC26)","v":8.5758212412116883},{"$f":"IF(ControlPanel!$D$59>AD$5,AD23,AD23*AD26)","v":8.7044585598298632},{"$f":"IF(ControlPanel!$D$59>AE$5,AE23,AE23*AE26)","v":8.8350254382273103},"v2.1.14","v2.1.14",null,null,"für Prognosejahre werden hier die realen Input-Daten in nominale Werte umgerechnet. Für historische Jahre sind die Input-Daten bereits nominal."]
[164,null,null,null,"sonstige Kosten (nominal) [Mrd. Euro]",{"$f":"IF(ControlPanel!$D$59>F$5,F24,F24*F26)","v":0.38450000000000001},{"$f":"IF(ControlPanel!$D$59>G$5,G24,G24*G26)","v":0.42218865985000004},{"$f":"IF(ControlPanel!$D$59>H$5,H24,H24*H26)","v":0.23028867101000003},{"$f":"IF(ControlPanel!$D$59>I$5,I24,I24*I26)","v":0.15466122681000002},{"$f":"IF(ControlPanel!$D$59>J$5,J24,J24*J26)","v":0.29887697133000007},{"$f":"IF(ControlPanel!$D$59>K$5,K24,K24*K26)","v":0.19595140036000003},{"$f":"IF(ControlPanel!$D$59>L$5,L24,L24*L26)","v":0.13908307713999998},{"$f":"IF(ControlPanel!$D$59>M$5,M24,M24*M26)","v":0.14340741743000002},{"$f":"IF(ControlPanel!$D$59>N$5,N24,N24*N26)","v":6.8122188890000004E-2},{"$f":"IF(ControlPanel!$D$59>O$5,O24,O24*O26)","v":7.0404653730000002E-2},{"$f":"IF(ControlPanel!$D$59>P$5,P24,P24*P26)","v":6.4167895450000012E-2},{"$f":"IF(ControlPanel!$D$59>Q$5,Q24,Q24*Q26)","v":5.9920528000000001E-2},{"$f":"IF(ControlPanel!$D$59>R$5,R24,R24*R26)","v":6.0819335919999995E-2},{"$f":"IF(ControlPanel!$D$59>S$5,S24,S24*S26)","v":6.1731625958799982E-2},{"$f":"IF(ControlPanel!$D$59>T$5,T24,T24*T26)","v":6.2657600348181977E-2},{"$f":"IF(ControlPanel!$D$59>U$5,U24,U24*U26)","v":6.3597464353404701E-2},{"$f":"IF(ControlPanel!$D$59>V$5,V24,V24*V26)","v":6.4551426318705765E-2},{"$f":"IF(ControlPanel!$D$59>W$5,W24,W24*W26)","v":6.5519697713486327E-2},{"$f":"IF(ControlPanel!$D$59>X$5,X24,X24*X26)","v":6.6502493179188618E-2},{"$f":"IF(ControlPanel!$D$59>Y$5,Y24,Y24*Y26)","v":6.7500030576876438E-2},{"$f":"IF(ControlPanel!$D$59>Z$5,Z24,Z24*Z26)","v":6.8512531035529581E-2},{"$f":"IF(ControlPanel!$D$59>AA$5,AA24,AA24*AA26)","v":6.9540219001062512E-2},{"$f":"IF(ControlPanel!$D$59>AB$5,AB24,AB24*AB26)","v":7.0583322286078443E-2},{"$f":"IF(ControlPanel!$D$59>AC$5,AC24,AC24*AC26)","v":7.1642072120369618E-2},{"$f":"IF(ControlPanel!$D$59>AD$5,AD24,AD24*AD26)","v":7.2716703202175159E-2},{"$f":"IF(ControlPanel!$D$59>AE$5,AE24,AE24*AE26)","v":7.380745375020778E-2},"v2.1.14","v2.1.14",null,null,"für Prognosejahre werden hier die realen Input-Daten in nominale Werte umgerechnet. Für historische Jahre sind die Input-Daten bereits nominal."]
[165,null,null,null,null,null,null,null,null,null,null,null,null,null,null,null,null,null,null,null,null,null,null,null,null,null,null,null,null,null,null,null,"v2.1.14"]
[166,null,null,null,"Nicht privilegierter Letztverbrauch [TWh]",{"$f":"F11-F12-F13-F14-F15-F16-F254-F264","v":400.59500000000003},383.14973227999997,386.50834199999997,383.25856100000004,370.260447,350.72573712000002,355.8609206000001,342.7521021199999,343.49791497249993,344.26749819460247,344.07288462324232,331.62972795561251,340.63671391199182,351.39526544086158,361.3047984897737,371.22059045911305,380.07076370333368,388.94857321527627,397.86261021848225,406.91288805015972,416.12340550778958,425.33866579576738,434.55932943145484,443.54216089634696,452.44717052135434,461.24483216544326,{"$f":"AF11-AF12-AF13-AF14-AF15-AF16","v":0},{"$f":"AG11-AG12-AG13-AG14-AG15-AG16","v":0},null,null,"NPL = Nettostromverbrauch \n- Privilegierter Letztverbrauch \n- Eigenverbrauch fossil Bestand \n- Eigenverbrauch KWK neu\n- Eigenverbrauch fossile nicht-KWK neu\n- Strommenge Grünstromprivileg \n- Eigenverbrauch PV Bestand\n- Eigenverbrauch PV neu"]
[167,null,null,null,"Für EEG-Umlage anzulegender Letztverbrauch [TWh]",{"$f":"F185+F12*F17*(1-F18)+(F14+F264)*F20+(F13+F254)*F19+F15*F21+F16","v":402.25284446249094},408.87208014203219,394.00662147013094,386.47679895771228,378.4571300677564,358.53018128399998,363.98592839000008,350.92794580606778,352.57687630193504,354.66726129538745,355.83902681963139,344.3843929356766,353.74208804211702,364.64258937781136,374.65543224597855,384.67161024126352,393.6155994890637,402.58568738236914,411.59243518445555,420.73585623253103,430.03994932407653,439.34921766348759,448.66432176812594,457.74202611948652,466.74234104848,475.63612269086224,"v2.1.4",null,null,null,"Für Umlageberechnung anzulegender Letztverbrauch= \n NPL \n+ privilegierter Letzverbrauch * Anteil an Umlage für privilegierten Letztverbrauch * (1-Faktor für zusätzliche Privilegierungsmechanismen)\n+ (Eigenverbrauch KWK neu + Eigenverbrauch PV neu)* Umlageanteil KWK und EE neu\n+ Eigenverbrauch fossile nicht-KWK neu * Umlageanteil fossile nicht-KWK neu\n+ Strommenge Grünstromprivileg "]
[168]
[169,null,null,null,"Jährliches Ausscheiden aus EEG [GW/a]",null,null,null,null,null,null,null,null,null,null,null,null,null,null,null,null,null,null,null,null,null,null,null,null,null,null,null,"v2.1.29",null,null,"bis 2014: Daten aus D-Rückbau vor 2015 nehmen"]
[170,null,null,null,"Wasser",{"$f":"IF(2015>F$5,'D-Rückbau vor 2015'!G6,IF(F$5<2035,E65-F65,OFFSET(F56,0,2015-F$5)))","v":1.5110000000000401E-2},{"$f":"IF(2015>G$5,'D-Rückbau vor 2015'!H6,IF(G$5<2035,F65-G65,OFFSET(G56,0,2015-G$5)))","v":1.9075899999999812E-2},{"$f":"IF(2015>H$5,'D-Rückbau vor 2015'!I6,IF(H$5<2035,G65-H65,OFFSET(H56,0,2015-H$5)))","v":1.3823499999999989E-2},{"$f":"IF(2015>I$5,'D-Rückbau vor 2015'!J6,IF(I$5<2035,H65-I65,OFFSET(I56,0,2015-I$5)))","v":1.3043600000000044E-2},{"$f":"IF(2015>J$5,'D-Rückbau vor 2015'!K6,IF(J$5<2035,I65-J65,OFFSET(J56,0,2015-J$5)))","v":1.2535300000000138E-2},{"$f":"IF(2015>K$5,'D-Rückbau vor 2015'!L6,IF(K$5<2035,J65-K65,OFFSET(K56,0,2015-K$5)))","v":0},{"$f":"IF(2015>L$5,'D-Rückbau vor 2015'!M6,IF(L$5<2035,K65-L65,OFFSET(L56,0,2015-L$5)))","v":0},{"$f":"IF(2015>M$5,'D-Rückbau vor 2015'!N6,IF(M$5<2035,L65-M65,OFFSET(M56,0,2015-M$5)))","v":0},{"$f":"IF(2015>N$5,'D-Rückbau vor 2015'!O6,IF(N$5<2035,M65-N65,OFFSET(N56,0,2015-N$5)))","v":0},{"$f":"IF(2015>O$5,'D-Rückbau vor 2015'!P6,IF(O$5<2035,N65-O65,OFFSET(O56,0,2015-O$5)))","v":0},{"$f":"IF(2015>P$5,'D-Rückbau vor 2015'!Q6,IF(P$5<2035,O65-P65,OFFSET(P56,0,2015-P$5)))","v":0},{"$f":"IF(2015>Q$5,'D-Rückbau vor 2015'!R6,IF(Q$5<2035,P65-Q65,OFFSET(Q56,0,2015-Q$5)))","v":0},{"$f":"IF(2015>R$5,'D-Rückbau vor 2015'!S6,IF(R$5<2035,Q65-R65,OFFSET(R56,0,2015-R$5)))","v":0},{"$f":"IF(2015>S$5,'D-Rückbau vor 2015'!T6,IF(S$5<2035,R65-S65,OFFSET(S56,0,2015-S$5)))","v":0},{"$f":"IF(2015>T$5,'D-Rückbau vor 2015'!U6,IF(T$5<2035,S65-T65,OFFSET(T56,0,2015-T$5)))","v":0},{"$f":"IF(2015>U$5,'D-Rückbau vor 2015'!V6,IF(U$5<2035,T65-U65,OFFSET(U56,0,2015-U$5)))","v":0},{"$f":"IF(2015>V$5,'D-Rückbau vor 2015'!W6,IF(V$5<2035,U65-V65,OFFSET(V56,0,2015-V$5)))","v":0},{"$f":"IF(2015>W$5,'D-Rückbau vor 2015'!X6,IF(W$5<2035,V65-W65,OFFSET(W56,0,2015-W$5)))","v":0},{"$f":"IF(2015>X$5,'D-Rückbau vor 2015'!Y6,IF(X$5<2035,W65-X65,OFFSET(X56,0,2015-X$5)))","v":0},{"$f":"IF(2015>Y$5,'D-Rückbau vor 2015'!Z6,IF(Y$5<2035,X65-Y65,OFFSET(Y56,0,2015-Y$5)))","v":0},{"$f":"IF(2015>Z$5,'D-Rückbau vor 2015'!AA6,IF(Z$5<2035,Y65-Z65,OFFSET(Z56,0,2015-Z$5)))","v":0.11087762999999984},{"$f":"IF(2015>AA$5,'D-Rückbau vor 2015'!AB6,IF(AA$5<2035,Z65-AA65,OFFSET(AA56,0,2015-AA$5)))","v":9.1348190000000162E-2},{"$f":"IF(2015>AB$5,'D-Rückbau vor 2015'!AC6,IF(AB$5<2035,AA65-AB65,OFFSET(AB56,0,2015-AB$5)))","v":7.3427749999999792E-2},{"$f":"IF(2015>AC$5,'D-Rückbau vor 2015'!AD6,IF(AC$5<2035,AB65-AC65,OFFSET(AC56,0,2015-AC$5)))","v":4.6525350000000243E-2},{"$f":"IF(2015>AD$5,'D-Rückbau vor 2015'!AE6,IF(AD$5<2035,AC65-AD65,OFFSET(AD56,0,2015-AD$5)))","v":0.10790733999999991},{"$f":"IF(2015>AE$5,'D-Rückbau vor 2015'!AF6,IF(AE$5<2035,AD65-AE65,OFFSET(AE56,0,2015-AE$5)))","v":0.2908247849999997},"v3.0.9","v2.1.29",null,null,"2015-2034: Differenz Verbleibender Kapazitäten Baujahr < 2015 aus Vorjahr und aktuellem Jahr"]
[171,null,null,null,"Gas",{"$f":"IF(2015>F$5,'D-Rückbau vor 2015'!G7,IF(F$5<2035,E66-F66,OFFSET(F57,0,2015-F$5)))","v":8.435999999999888E-3},{"$f":"IF(2015>G$5,'D-Rückbau vor 2015'!H7,IF(G$5<2035,F66-G66,OFFSET(G57,0,2015-G$5)))","v":2.639000000000058E-3},{"$f":"IF(2015>H$5,'D-Rückbau vor 2015'!I7,IF(H$5<2035,G66-H66,OFFSET(H57,0,2015-H$5)))","v":7.8029999999998934E-3},{"$f":"IF(2015>I$5,'D-Rückbau vor 2015'!J7,IF(I$5<2035,H66-I66,OFFSET(I57,0,2015-I$5)))","v":7.2572000000000747E-3},{"$f":"IF(2015>J$5,'D-Rückbau vor 2015'!K7,IF(J$5<2035,I66-J66,OFFSET(J57,0,2015-J$5)))","v":8.3369999999999278E-3},{"$f":"IF(2015>K$5,'D-Rückbau vor 2015'!L7,IF(K$5<2035,J66-K66,OFFSET(K57,0,2015-K$5)))","v":0},{"$f":"IF(2015>L$5,'D-Rückbau vor 2015'!M7,IF(L$5<2035,K66-L66,OFFSET(L57,0,2015-L$5)))","v":0},{"$f":"IF(2015>M$5,'D-Rückbau vor 2015'!N7,IF(M$5<2035,L66-M66,OFFSET(M57,0,2015-M$5)))","v":0},{"$f":"IF(2015>N$5,'D-Rückbau vor 2015'!O7,IF(N$5<2035,M66-N66,OFFSET(N57,0,2015-N$5)))","v":0},{"$f":"IF(2015>O$5,'D-Rückbau vor 2015'!P7,IF(O$5<2035,N66-O66,OFFSET(O57,0,2015-O$5)))","v":0},{"$f":"IF(2015>P$5,'D-Rückbau vor 2015'!Q7,IF(P$5<2035,O66-P66,OFFSET(P57,0,2015-P$5)))","v":0},{"$f":"IF(2015>Q$5,'D-Rückbau vor 2015'!R7,IF(Q$5<2035,P66-Q66,OFFSET(Q57,0,2015-Q$5)))","v":0.17765019999999992},{"$f":"IF(2015>R$5,'D-Rückbau vor 2015'!S7,IF(R$5<2035,Q66-R66,OFFSET(R57,0,2015-R$5)))","v":5.3037000000000001E-2},{"$f":"IF(2015>S$5,'D-Rückbau vor 2015'!T7,IF(S$5<2035,R66-S66,OFFSET(S57,0,2015-S$5)))","v":6.2701000000000007E-2},{"$f":"IF(2015>T$5,'D-Rückbau vor 2015'!U7,IF(T$5<2035,S66-T66,OFFSET(T57,0,2015-T$5)))","v":7.7915000000000012E-2},{"$f":"IF(2015>U$5,'D-Rückbau vor 2015'!V7,IF(U$5<2035,T66-U66,OFFSET(U57,0,2015-U$5)))","v":6.6397299999999992E-2},{"$f":"IF(2015>V$5,'D-Rückbau vor 2015'!W7,IF(V$5<2035,U66-V66,OFFSET(V57,0,2015-V$5)))","v":1.3616999999999997E-2},{"$f":"IF(2015>W$5,'D-Rückbau vor 2015'!X7,IF(W$5<2035,V66-W66,OFFSET(W57,0,2015-W$5)))","v":8.5360000000000019E-3},{"$f":"IF(2015>X$5,'D-Rückbau vor 2015'!Y7,IF(X$5<2035,W66-X66,OFFSET(X57,0,2015-X$5)))","v":8.5150000000000017E-3},{"$f":"IF(2015>Y$5,'D-Rückbau vor 2015'!Z7,IF(Y$5<2035,X66-Y66,OFFSET(Y57,0,2015-Y$5)))","v":5.7040000000000007E-3},{"$f":"IF(2015>Z$5,'D-Rückbau vor 2015'!AA7,IF(Z$5<2035,Y66-Z66,OFFSET(Z57,0,2015-Z$5)))","v":9.5069899999999964E-3},{"$f":"IF(2015>AA$5,'D-Rückbau vor 2015'!AB7,IF(AA$5<2035,Z66-AA66,OFFSET(AA57,0,2015-AA$5)))","v":2.922000000000001E-3},{"$f":"IF(2015>AB$5,'D-Rückbau vor 2015'!AC7,IF(AB$5<2035,AA66-AB66,OFFSET(AB57,0,2015-AB$5)))","v":9.217000000000003E-3},{"$f":"IF(2015>AC$5,'D-Rückbau vor 2015'!AD7,IF(AC$5<2035,AB66-AC66,OFFSET(AC57,0,2015-AC$5)))","v":1.7900000000000008E-3},{"$f":"IF(2015>AD$5,'D-Rückbau vor 2015'!AE7,IF(AD$5<2035,AC66-AD66,OFFSET(AD57,0,2015-AD$5)))","v":1.1280000000000005E-3},{"$f":"IF(2015>AE$5,'D-Rückbau vor 2015'!AF7,IF(AE$5<2035,AD66-AE66,OFFSET(AE57,0,2015-AE$5)))","v":4.5781999999999823E-2},"v3.0.9","v2.1.29",null,null,"nach 2034: (modellendogener) Zubau vor 20 Jahren --> im Jahr 2035 also der Zubau im Jahr 2015"]
[172,null,null,null,"Biomasse",{"$f":"IF(2015>F$5,'D-Rückbau vor 2015'!G8,IF(F$5<2035,E67-F67,OFFSET(F58,0,2015-F$5)))","v":0},{"$f":"IF(2015>G$5,'D-Rückbau vor 2015'!H8,IF(G$5<2035,F67-G67,OFFSET(G58,0,2015-G$5)))","v":0},{"$f":"IF(2015>H$5,'D-Rückbau vor 2015'!I8,IF(H$5<2035,G67-H67,OFFSET(H58,0,2015-H$5)))","v":0},{"$f":"IF(2015>I$5,'D-Rückbau vor 2015'!J8,IF(I$5<2035,H67-I67,OFFSET(I58,0,2015-I$5)))","v":0},{"$f":"IF(2015>J$5,'D-Rückbau vor 2015'!K8,IF(J$5<2035,I67-J67,OFFSET(J58,0,2015-J$5)))","v":0},{"$f":"IF(2015>K$5,'D-Rückbau vor 2015'!L8,IF(K$5<2035,J67-K67,OFFSET(K58,0,2015-K$5)))","v":0},{"$f":"IF(2015>L$5,'D-Rückbau vor 2015'!M8,IF(L$5<2035,K67-L67,OFFSET(L58,0,2015-L$5)))","v":0},{"$f":"IF(2015>M$5,'D-Rückbau vor 2015'!N8,IF(M$5<2035,L67-M67,OFFSET(M58,0,2015-M$5)))","v":0},{"$f":"IF(2015>N$5,'D-Rückbau vor 2015'!O8,IF(N$5<2035,M67-N67,OFFSET(N58,0,2015-N$5)))","v":0},{"$f":"IF(2015>O$5,'D-Rückbau vor 2015'!P8,IF(O$5<2035,N67-O67,OFFSET(O58,0,2015-O$5)))","v":0},{"$f":"IF(2015>P$5,'D-Rückbau vor 2015'!Q8,IF(P$5<2035,O67-P67,OFFSET(P58,0,2015-P$5)))","v":0},{"$f":"IF(2015>Q$5,'D-Rückbau vor 2015'!R8,IF(Q$5<2035,P67-Q67,OFFSET(Q58,0,2015-Q$5)))","v":0.17581077000000001},{"$f":"IF(2015>R$5,'D-Rückbau vor 2015'!S8,IF(R$5<2035,Q67-R67,OFFSET(R58,0,2015-R$5)))","v":0.18823380000000167},{"$f":"IF(2015>S$5,'D-Rückbau vor 2015'!T8,IF(S$5<2035,R67-S67,OFFSET(S58,0,2015-S$5)))","v":0.14024915999999887},{"$f":"IF(2015>T$5,'D-Rückbau vor 2015'!U8,IF(T$5<2035,S67-T67,OFFSET(T58,0,2015-T$5)))","v":0.2319583500000002},{"$f":"IF(2015>U$5,'D-Rückbau vor 2015'!V8,IF(U$5<2035,T67-U67,OFFSET(U58,0,2015-U$5)))","v":0.57250698999999994},{"$f":"IF(2015>V$5,'D-Rückbau vor 2015'!W8,IF(V$5<2035,U67-V67,OFFSET(V58,0,2015-V$5)))","v":0.69573850000000004},{"$f":"IF(2015>W$5,'D-Rückbau vor 2015'!X8,IF(W$5<2035,V67-W67,OFFSET(W58,0,2015-W$5)))","v":0.84800203000000085},{"$f":"IF(2015>X$5,'D-Rückbau vor 2015'!Y8,IF(X$5<2035,W67-X67,OFFSET(X58,0,2015-X$5)))","v":0.64049239999999941},{"$f":"IF(2015>Y$5,'D-Rückbau vor 2015'!Z8,IF(Y$5<2035,X67-Y67,OFFSET(Y58,0,2015-Y$5)))","v":0.35727639999999994},{"$f":"IF(2015>Z$5,'D-Rückbau vor 2015'!AA8,IF(Z$5<2035,Y67-Z67,OFFSET(Z58,0,2015-Z$5)))","v":0.45520799999999939},{"$f":"IF(2015>AA$5,'D-Rückbau vor 2015'!AB8,IF(AA$5<2035,Z67-AA67,OFFSET(AA58,0,2015-AA$5)))","v":0.63709159999999976},{"$f":"IF(2015>AB$5,'D-Rückbau vor 2015'!AC8,IF(AB$5<2035,AA67-AB67,OFFSET(AB58,0,2015-AB$5)))","v":1.0561740600000002},{"$f":"IF(2015>AC$5,'D-Rückbau vor 2015'!AD8,IF(AC$5<2035,AB67-AC67,OFFSET(AC58,0,2015-AC$5)))","v":0.33386470000000007},{"$f":"IF(2015>AD$5,'D-Rückbau vor 2015'!AE8,IF(AD$5<2035,AC67-AD67,OFFSET(AD58,0,2015-AD$5)))","v":0.25635391000000007},{"$f":"IF(2015>AE$5,'D-Rückbau vor 2015'!AF8,IF(AE$5<2035,AD67-AE67,OFFSET(AE58,0,2015-AE$5)))","v":0.23461600000000002},"v3.0.9","v2.1.29"]
[173,null,null,null,"Geothermie",{"$f":"IF(2015>F$5,'D-Rückbau vor 2015'!G9,IF(F$5<2035,E68-F68,OFFSET(F59,0,2015-F$5)))","v":0},{"$f":"IF(2015>G$5,'D-Rückbau vor 2015'!H9,IF(G$5<2035,F68-G68,OFFSET(G59,0,2015-G$5)))","v":0},{"$f":"IF(2015>H$5,'D-Rückbau vor 2015'!I9,IF(H$5<2035,G68-H68,OFFSET(H59,0,2015-H$5)))","v":0},{"$f":"IF(2015>I$5,'D-Rückbau vor 2015'!J9,IF(I$5<2035,H68-I68,OFFSET(I59,0,2015-I$5)))","v":0},{"$f":"IF(2015>J$5,'D-Rückbau vor 2015'!K9,IF(J$5<2035,I68-J68,OFFSET(J59,0,2015-J$5)))","v":0},{"$f":"IF(2015>K$5,'D-Rückbau vor 2015'!L9,IF(K$5<2035,J68-K68,OFFSET(K59,0,2015-K$5)))","v":0},{"$f":"IF(2015>L$5,'D-Rückbau vor 2015'!M9,IF(L$5<2035,K68-L68,OFFSET(L59,0,2015-L$5)))","v":0},{"$f":"IF(2015>M$5,'D-Rückbau vor 2015'!N9,IF(M$5<2035,L68-M68,OFFSET(M59,0,2015-M$5)))","v":0},{"$f":"IF(2015>N$5,'D-Rückbau vor 2015'!O9,IF(N$5<2035,M68-N68,OFFSET(N59,0,2015-N$5)))","v":0},{"$f":"IF(2015>O$5,'D-Rückbau vor 2015'!P9,IF(O$5<2035,N68-O68,OFFSET(O59,0,2015-O$5)))","v":0},{"$f":"IF(2015>P$5,'D-Rückbau vor 2015'!Q9,IF(P$5<2035,O68-P68,OFFSET(P59,0,2015-P$5)))","v":0},{"$f":"IF(2015>Q$5,'D-Rückbau vor 2015'!R9,IF(Q$5<2035,P68-Q68,OFFSET(Q59,0,2015-Q$5)))","v":0},{"$f":"IF(2015>R$5,'D-Rückbau vor 2015'!S9,IF(R$5<2035,Q68-R68,OFFSET(R59,0,2015-R$5)))","v":0},{"$f":"IF(2015>S$5,'D-Rückbau vor 2015'!T9,IF(S$5<2035,R68-S68,OFFSET(S59,0,2015-S$5)))","v":0},{"$f":"IF(2015>T$5,'D-Rückbau vor 2015'!U9,IF(T$5<2035,S68-T68,OFFSET(T59,0,2015-T$5)))","v":0},{"$f":"IF(2015>U$5,'D-Rückbau vor 2015'!V9,IF(U$5<2035,T68-U68,OFFSET(U59,0,2015-U$5)))","v":2.1999999999999797E-4},{"$f":"IF(2015>V$5,'D-Rückbau vor 2015'!W9,IF(V$5<2035,U68-V68,OFFSET(V59,0,2015-V$5)))","v":0},{"$f":"IF(2015>W$5,'D-Rückbau vor 2015'!X9,IF(W$5<2035,V68-W68,OFFSET(W59,0,2015-W$5)))","v":0},{"$f":"IF(2015>X$5,'D-Rückbau vor 2015'!Y9,IF(X$5<2035,W68-X68,OFFSET(X59,0,2015-X$5)))","v":3.0000000000000027E-3},{"$f":"IF(2015>Y$5,'D-Rückbau vor 2015'!Z9,IF(Y$5<2035,X68-Y68,OFFSET(Y59,0,2015-Y$5)))","v":0},{"$f":"IF(2015>Z$5,'D-Rückbau vor 2015'!AA9,IF(Z$5<2035,Y68-Z68,OFFSET(Z59,0,2015-Z$5)))","v":4.1499999999999974E-3},{"$f":"IF(2015>AA$5,'D-Rückbau vor 2015'!AB9,IF(AA$5<2035,Z68-AA68,OFFSET(AA59,0,2015-AA$5)))","v":0},{"$f":"IF(2015>AB$5,'D-Rückbau vor 2015'!AC9,IF(AB$5<2035,AA68-AB68,OFFSET(AB59,0,2015-AB$5)))","v":0},{"$f":"IF(2015>AC$5,'D-Rückbau vor 2015'!AD9,IF(AC$5<2035,AB68-AC68,OFFSET(AC59,0,2015-AC$5)))","v":1.1800000000000003E-2},{"$f":"IF(2015>AD$5,'D-Rückbau vor 2015'!AE9,IF(AD$5<2035,AC68-AD68,OFFSET(AD59,0,2015-AD$5)))","v":1.1315E-2},{"$f":"IF(2015>AE$5,'D-Rückbau vor 2015'!AF9,IF(AE$5<2035,AD68-AE68,OFFSET(AE59,0,2015-AE$5)))","v":0},"v3.0.9","v2.1.29"]
[174,null,null,null,"Wind Onshore",{"$f":"IF(2015>F$5,'D-Rückbau vor 2015'!G10,IF(F$5<2035,E69-F69,OFFSET(F60,0,2015-F$5)))","v":0.27600000000000002},{"$f":"IF(2015>G$5,'D-Rückbau vor 2015'!H10,IF(G$5<2035,F69-G69,OFFSET(G60,0,2015-G$5)))","v":0.39100000000000001},{"$f":"IF(2015>H$5,'D-Rückbau vor 2015'!I10,IF(H$5<2035,G69-H69,OFFSET(H60,0,2015-H$5)))","v":0.222},{"$f":"IF(2015>I$5,'D-Rückbau vor 2015'!J10,IF(I$5<2035,H69-I69,OFFSET(I60,0,2015-I$5)))","v":0.73799999999999999},{"$f":"IF(2015>J$5,'D-Rückbau vor 2015'!K10,IF(J$5<2035,I69-J69,OFFSET(J60,0,2015-J$5)))","v":0},{"$f":"IF(2015>K$5,'D-Rückbau vor 2015'!L10,IF(K$5<2035,J69-K69,OFFSET(K60,0,2015-K$5)))","v":0.11143051999999898},{"$f":"IF(2015>L$5,'D-Rückbau vor 2015'!M10,IF(L$5<2035,K69-L69,OFFSET(L60,0,2015-L$5)))","v":0.34400000000000119},{"$f":"IF(2015>M$5,'D-Rückbau vor 2015'!N10,IF(M$5<2035,L69-M69,OFFSET(M60,0,2015-M$5)))","v":0.39999999999999858},{"$f":"IF(2015>N$5,'D-Rückbau vor 2015'!O10,IF(N$5<2035,M69-N69,OFFSET(N60,0,2015-N$5)))","v":0.5},{"$f":"IF(2015>O$5,'D-Rückbau vor 2015'!P10,IF(O$5<2035,N69-O69,OFFSET(O60,0,2015-O$5)))","v":0.60000000000000142},{"$f":"IF(2015>P$5,'D-Rückbau vor 2015'!Q10,IF(P$5<2035,O69-P69,OFFSET(P60,0,2015-P$5)))","v":0.69999999999999574},{"$f":"IF(2015>Q$5,'D-Rückbau vor 2015'!R10,IF(Q$5<2035,P69-Q69,OFFSET(Q60,0,2015-Q$5)))","v":1.8057931100000033},{"$f":"IF(2015>R$5,'D-Rückbau vor 2015'!S10,IF(R$5<2035,Q69-R69,OFFSET(R60,0,2015-R$5)))","v":2.5936737999999977},{"$f":"IF(2015>S$5,'D-Rückbau vor 2015'!T10,IF(S$5<2035,R69-S69,OFFSET(S60,0,2015-S$5)))","v":3.0502030900000001},{"$f":"IF(2015>T$5,'D-Rückbau vor 2015'!U10,IF(T$5<2035,S69-T69,OFFSET(T60,0,2015-T$5)))","v":2.7178679999999993},{"$f":"IF(2015>U$5,'D-Rückbau vor 2015'!V10,IF(U$5<2035,T69-U69,OFFSET(U60,0,2015-U$5)))","v":2.0537710000000011},{"$f":"IF(2015>V$5,'D-Rückbau vor 2015'!W10,IF(V$5<2035,U69-V69,OFFSET(V60,0,2015-V$5)))","v":1.8140435000000004},{"$f":"IF(2015>W$5,'D-Rückbau vor 2015'!X10,IF(W$5<2035,V69-W69,OFFSET(W60,0,2015-W$5)))","v":2.2298379999999973},{"$f":"IF(2015>X$5,'D-Rückbau vor 2015'!Y10,IF(X$5<2035,W69-X69,OFFSET(X60,0,2015-X$5)))","v":1.6862462000000029},{"$f":"IF(2015>Y$5,'D-Rückbau vor 2015'!Z10,IF(Y$5<2035,X69-Y69,OFFSET(Y60,0,2015-Y$5)))","v":0.77186400000000077},{"$f":"IF(2015>Z$5,'D-Rückbau vor 2015'!AA10,IF(Z$5<2035,Y69-Z69,OFFSET(Z60,0,2015-Z$5)))","v":2.6993399199999999},{"$f":"IF(2015>AA$5,'D-Rückbau vor 2015'!AB10,IF(AA$5<2035,Z69-AA69,OFFSET(AA60,0,2015-AA$5)))","v":1.4266596499999995},{"$f":"IF(2015>AB$5,'D-Rückbau vor 2015'!AC10,IF(AB$5<2035,AA69-AB69,OFFSET(AB60,0,2015-AB$5)))","v":1.8764822600000013},{"$f":"IF(2015>AC$5,'D-Rückbau vor 2015'!AD10,IF(AC$5<2035,AB69-AC69,OFFSET(AC60,0,2015-AC$5)))","v":2.4211245299999993},{"$f":"IF(2015>AD$5,'D-Rückbau vor 2015'!AE10,IF(AD$5<2035,AC69-AD69,OFFSET(AD60,0,2015-AD$5)))","v":3.0324317899999995},{"$f":"IF(2015>AE$5,'D-Rückbau vor 2015'!AF10,IF(AE$5<2035,AD69-AE69,OFFSET(AE60,0,2015-AE$5)))","v":3.7872080000000001},"v3.0.9","v2.1.29"]
[175,null,null,null,"Wind Offshore",{"$f":"IF(2015>F$5,'D-Rückbau vor 2015'!G11,IF(F$5<2035,E70-F70,OFFSET(F61,0,2015-F$5)))","v":0},{"$f":"IF(2015>G$5,'D-Rückbau vor 2015'!H11,IF(G$5<2035,F70-G70,OFFSET(G61,0,2015-G$5)))","v":0},{"$f":"IF(2015>H$5,'D-Rückbau vor 2015'!I11,IF(H$5<2035,G70-H70,OFFSET(H61,0,2015-H$5)))","v":0},{"$f":"IF(2015>I$5,'D-Rückbau vor 2015'!J11,IF(I$5<2035,H70-I70,OFFSET(I61,0,2015-I$5)))","v":0},{"$f":"IF(2015>J$5,'D-Rückbau vor 2015'!K11,IF(J$5<2035,I70-J70,OFFSET(J61,0,2015-J$5)))","v":0},{"$f":"IF(2015>K$5,'D-Rückbau vor 2015'!L11,IF(K$5<2035,J70-K70,OFFSET(K61,0,2015-K$5)))","v":0},{"$f":"IF(2015>L$5,'D-Rückbau vor 2015'!M11,IF(L$5<2035,K70-L70,OFFSET(L61,0,2015-L$5)))","v":0},{"$f":"IF(2015>M$5,'D-Rückbau vor 2015'!N11,IF(M$5<2035,L70-M70,OFFSET(M61,0,2015-M$5)))","v":0},{"$f":"IF(2015>N$5,'D-Rückbau vor 2015'!O11,IF(N$5<2035,M70-N70,OFFSET(N61,0,2015-N$5)))","v":0},{"$f":"IF(2015>O$5,'D-Rückbau vor 2015'!P11,IF(O$5<2035,N70-O70,OFFSET(O61,0,2015-O$5)))","v":0},{"$f":"IF(2015>P$5,'D-Rückbau vor 2015'!Q11,IF(P$5<2035,O70-P70,OFFSET(P61,0,2015-P$5)))","v":0},{"$f":"IF(2015>Q$5,'D-Rückbau vor 2015'!R11,IF(Q$5<2035,P70-Q70,OFFSET(Q61,0,2015-Q$5)))","v":0},{"$f":"IF(2015>R$5,'D-Rückbau vor 2015'!S11,IF(R$5<2035,Q70-R70,OFFSET(R61,0,2015-R$5)))","v":0},{"$f":"IF(2015>S$5,'D-Rückbau vor 2015'!T11,IF(S$5<2035,R70-S70,OFFSET(S61,0,2015-S$5)))","v":0},{"$f":"IF(2015>T$5,'D-Rückbau vor 2015'!U11,IF(T$5<2035,S70-T70,OFFSET(T61,0,2015-T$5)))","v":0},{"$f":"IF(2015>U$5,'D-Rückbau vor 2015'!V11,IF(U$5<2035,T70-U70,OFFSET(U61,0,2015-U$5)))","v":0},{"$f":"IF(2015>V$5,'D-Rückbau vor 2015'!W11,IF(V$5<2035,U70-V70,OFFSET(V61,0,2015-V$5)))","v":0},{"$f":"IF(2015>W$5,'D-Rückbau vor 2015'!X11,IF(W$5<2035,V70-W70,OFFSET(W61,0,2015-W$5)))","v":0},{"$f":"IF(2015>X$5,'D-Rückbau vor 2015'!Y11,IF(X$5<2035,W70-X70,OFFSET(X61,0,2015-X$5)))","v":0},{"$f":"IF(2015>Y$5,'D-Rückbau vor 2015'!Z11,IF(Y$5<2035,X70-Y70,OFFSET(Y61,0,2015-Y$5)))","v":0},{"$f":"IF(2015>Z$5,'D-Rückbau vor 2015'!AA11,IF(Z$5<2035,Y70-Z70,OFFSET(Z61,0,2015-Z$5)))","v":3.180000000000005E-2},{"$f":"IF(2015>AA$5,'D-Rückbau vor 2015'!AB11,IF(AA$5<2035,Z70-AA70,OFFSET(AA61,0,2015-AA$5)))","v":4.500000000000004E-2},{"$f":"IF(2015>AB$5,'D-Rückbau vor 2015'!AC11,IF(AB$5<2035,AA70-AB70,OFFSET(AB61,0,2015-AB$5)))","v":0.10829999999999995},{"$f":"IF(2015>AC$5,'D-Rückbau vor 2015'!AD11,IF(AC$5<2035,AB70-AC70,OFFSET(AC61,0,2015-AC$5)))","v":7.999999999999996E-2},{"$f":"IF(2015>AD$5,'D-Rückbau vor 2015'!AE11,IF(AD$5<2035,AC70-AD70,OFFSET(AD61,0,2015-AD$5)))","v":0.24},{"$f":"IF(2015>AE$5,'D-Rückbau vor 2015'!AF11,IF(AE$5<2035,AD70-AE70,OFFSET(AE61,0,2015-AE$5)))","v":2.2890000000000001},"v3.0.9","v2.1.29"]
[176,null,null,null,"Solar",{"$f":"IF(2015>F$5,'D-Rückbau vor 2015'!G12,IF(F$5<2035,E71-F71,OFFSET(F62,0,2015-F$5)))","v":0},{"$f":"IF(2015>G$5,'D-Rückbau vor 2015'!H12,IF(G$5<2035,F71-G71,OFFSET(G62,0,2015-G$5)))","v":0},{"$f":"IF(2015>H$5,'D-Rückbau vor 2015'!I12,IF(H$5<2035,G71-H71,OFFSET(H62,0,2015-H$5)))","v":0},{"$f":"IF(2015>I$5,'D-Rückbau vor 2015'!J12,IF(I$5<2035,H71-I71,OFFSET(I62,0,2015-I$5)))","v":0},{"$f":"IF(2015>J$5,'D-Rückbau vor 2015'!K12,IF(J$5<2035,I71-J71,OFFSET(J62,0,2015-J$5)))","v":0},{"$f":"IF(2015>K$5,'D-Rückbau vor 2015'!L12,IF(K$5<2035,J71-K71,OFFSET(K62,0,2015-K$5)))","v":0},{"$f":"IF(2015>L$5,'D-Rückbau vor 2015'!M12,IF(L$5<2035,K71-L71,OFFSET(L62,0,2015-L$5)))","v":0},{"$f":"IF(2015>M$5,'D-Rückbau vor 2015'!N12,IF(M$5<2035,L71-M71,OFFSET(M62,0,2015-M$5)))","v":0},{"$f":"IF(2015>N$5,'D-Rückbau vor 2015'!O12,IF(N$5<2035,M71-N71,OFFSET(N62,0,2015-N$5)))","v":0},{"$f":"IF(2015>O$5,'D-Rückbau vor 2015'!P12,IF(O$5<2035,N71-O71,OFFSET(O62,0,2015-O$5)))","v":0},{"$f":"IF(2015>P$5,'D-Rückbau vor 2015'!Q12,IF(P$5<2035,O71-P71,OFFSET(P62,0,2015-P$5)))","v":0},{"$f":"IF(2015>Q$5,'D-Rückbau vor 2015'!R12,IF(Q$5<2035,P71-Q71,OFFSET(Q62,0,2015-Q$5)))","v":0.12397249399993626},{"$f":"IF(2015>R$5,'D-Rückbau vor 2015'!S12,IF(R$5<2035,Q71-R71,OFFSET(R62,0,2015-R$5)))","v":0.10863868999999937},{"$f":"IF(2015>S$5,'D-Rückbau vor 2015'!T12,IF(S$5<2035,R71-S71,OFFSET(S62,0,2015-S$5)))","v":0.11022154999999856},{"$f":"IF(2015>T$5,'D-Rückbau vor 2015'!U12,IF(T$5<2035,S71-T71,OFFSET(T62,0,2015-T$5)))","v":0.1424465500000025},{"$f":"IF(2015>U$5,'D-Rückbau vor 2015'!V12,IF(U$5<2035,T71-U71,OFFSET(U62,0,2015-U$5)))","v":0.65602930000000015},{"$f":"IF(2015>V$5,'D-Rückbau vor 2015'!W12,IF(V$5<2035,U71-V71,OFFSET(V62,0,2015-V$5)))","v":0.924602059999998},{"$f":"IF(2015>W$5,'D-Rückbau vor 2015'!X12,IF(W$5<2035,V71-W71,OFFSET(W62,0,2015-W$5)))","v":0.84459495000000118},{"$f":"IF(2015>X$5,'D-Rückbau vor 2015'!Y12,IF(X$5<2035,W71-X71,OFFSET(X62,0,2015-X$5)))","v":1.2537511260000045},{"$f":"IF(2015>Y$5,'D-Rückbau vor 2015'!Z12,IF(Y$5<2035,X71-Y71,OFFSET(Y62,0,2015-Y$5)))","v":1.9795431099999981},{"$f":"IF(2015>Z$5,'D-Rückbau vor 2015'!AA12,IF(Z$5<2035,Y71-Z71,OFFSET(Z62,0,2015-Z$5)))","v":4.4384598400000144},{"$f":"IF(2015>AA$5,'D-Rückbau vor 2015'!AB12,IF(AA$5<2035,Z71-AA71,OFFSET(AA62,0,2015-AA$5)))","v":7.5938763400000333},{"$f":"IF(2015>AB$5,'D-Rückbau vor 2015'!AC12,IF(AB$5<2035,AA71-AB71,OFFSET(AB62,0,2015-AB$5)))","v":8.0003900600000044},{"$f":"IF(2015>AC$5,'D-Rückbau vor 2015'!AD12,IF(AC$5<2035,AB71-AC71,OFFSET(AC62,0,2015-AC$5)))","v":6.8422938800000237},{"$f":"IF(2015>AD$5,'D-Rückbau vor 2015'!AE12,IF(AD$5<2035,AC71-AD71,OFFSET(AD62,0,2015-AD$5)))","v":3.1356207599999868},{"$f":"IF(2015>AE$5,'D-Rückbau vor 2015'!AF12,IF(AE$5<2035,AD71-AE71,OFFSET(AE62,0,2015-AE$5)))","v":1.3240000000000001},"v3.0.9","v2.1.29"]
[177,null,null,null,"Gesamt",{"$f":"SUM(F189:F195)","v":0.29954600000000031},0.41271489999999988,0.24362649999999988,0.75830080000000011,2.0872300000000066E-2,0.11143051999999898,0.34400000000000119,0.39999999999999858,0.5,0.60000000000000142,0.69999999999999574,2.2832265739999396,2.9435832899999985,3.3633747999999977,3.1701879000000019,3.3489245900000011,3.4480010599999984,3.9309709799999992,3.592004726000007,3.1143875099999985,7.7493423800000141,9.7968977800000321,11.123991130000006,9.7373984600000227,6.784756799999986,7.971430784999999,null,"v2.1.29"]
[178]
[179,null,null,null,"Jahreszubau (Netto) [GW/a]",null,null,null,null,null,null,null,null,null,null,null,null,null,null,null,null,null,null,null,null,null,null,null,null,null,null,"v2.1.29","v2.1.6",null,null,"Nettozubau = Bruttozubau - Ausscheidende Kapazitäten"]
[180,null,null,null,"Wasser",{"$f":"F56-F189","v":9.8999999999999977E-2},7.2999999999999954E-2,3.6999999999999922E-2,6.1000000000000165E-2,-1.2535300000000138E-2,0.2908247849999997,2.1633774999999821E-2,5.4000000000000003E-3,1.4999999999999999E-2,1.7000000000000001E-2,1.2999999999999999E-2,1.4E-2,1.4E-2,1.4E-2,1.4E-2,1.4E-2,1.4E-2,1.4E-2,1.4E-2,1.4E-2,-9.687762999999984E-2,-7.7348190000000164E-2,-5.9427749999999793E-2,-3.2525350000000244E-2,-9.3907339999999909E-2,-0.27682478499999968,"v2.1.29","v2.1.6"]
[181,null,null,null,"Gas",{"$f":"F57-F190","v":6.9999999999999611E-3},9.9999999999999065E-3,1.2750217548429532E-16,1.0000000000000009E-3,-8.3369999999999278E-3,4.5781999999999823E-2,4.0839999999999765E-3,1.6999999999999999E-3,6.0000000000000001E-3,2E-3,2E-3,-0.17565019999999992,-5.1036999999999999E-2,-6.0701000000000005E-2,-7.591500000000001E-2,-5.639729999999999E-2,-3.616999999999997E-3,1.4639999999999983E-3,1.4849999999999985E-3,4.2959999999999995E-3,4.9301000000000379E-4,7.0779999999999992E-3,7.8299999999999724E-4,8.2099999999999985E-3,8.8719999999999997E-3,-3.5781999999999821E-2,"v2.1.29","v2.1.6"]
[182,null,null,null,"Biomasse",{"$f":"F58-F191","v":0.41799999999999998},0.86586812999999996,0.32809184000000102,0.67685502999999902,0.21741000000000099,0.23461600000000002,0.22497200000000001,0.30678699999999998,0.42751108100000101,0.33253365899999998,0.17599999999999999,-5.1810770000000006E-2,-0.15223380000000167,-0.10024915999999887,-0.18895835000000022,-0.5275069899999999,-0.49573850000000003,-0.64800203000000089,-0.4404923999999994,-0.15727639999999993,-0.25520799999999938,-0.43709159999999975,-0.85617406000000029,-0.13386470000000006,-5.6353910000000063E-2,-3.4616000000000008E-2,"v2.1.29","v2.1.6"]
[183,null,null,null,"Geothermie",{"$f":"F59-F192","v":0},0,1.1799999999999998E-2,1.132E-2,3.7300000000000041E-3,0,4.9999999999999984E-3,2E-3,5.0000000000000001E-3,4.0000000000000001E-3,5.0000000000000001E-3,8.9999999999999993E-3,2.5000000000000001E-2,1.4E-2,6.0000000000000001E-3,5.7800000000000021E-3,0.01,0.01,6.9999999999999975E-3,0.01,5.8500000000000028E-3,0.01,0.01,-1.800000000000003E-3,-1.3150000000000002E-3,0.01,"v2.1.29","v2.1.6"]
[184,null,null,null,"Wind Onshore",{"$f":"F60-F193","v":1.1357969999999999},1.4802979999999999,2.1865290000000002,2.2585709999999999,4.6522969999999999,3.6757774800000012,4.1014029999999995,5.1017450000000011,1.9031500000000001,0.89999999999999858,0.80000000000000426,-0.30579311000000331,-0.5936737999999977,-0.55020309000000012,-0.21786799999999928,0.44622899999999888,0.68595649999999964,0.27016200000000268,0.81375379999999709,1.7281359999999992,-0.19933991999999989,1.0733403500000005,0.62351773999999871,7.8875470000000725E-2,-0.53243178999999952,-1.2872080000000001,"v2.1.29","v2.1.6"]
[185,null,null,null,"Wind Offshore",{"$f":"F61-F194","v":4.4999999999999998E-2},0.108,0.08,0.24,0.48599999999999999,2.2890000000000001,0.86899999999999999,1.254,0.98699999999999999,1.135,0.219,0,0.34200000000000003,0.97499999999999998,0.9,0.9,0.9,0.9,0.9,0.9,0.86819999999999997,0.85499999999999998,0.79170000000000007,0.82000000000000006,0.66,-1.3890000000000002,"v2.1.29","v2.1.6"]
[186,null,null,null,"Solar",{"$f":"F62-F195","v":7.44},7.91,8.1609999999999996,2.633,1.19,1.3240000000000001,1.4550000000000001,1.6140000000000001,2.8650000000000002,3.8889999999999998,4.8010000000000002,5.2900275060000634,4.8293613100000004,3.0417784500000016,2.8795534499999973,2.4729706999999999,2.075397940000002,2.1554050499999988,1.7462488739999955,1.0204568900000019,-1.4384598400000144,-4.5938763400000333,-5.0003900600000044,-3.8422938800000237,-0.1356207599999868,1.6759999999999999,"v2.1.29","v2.1.6"]
[187,null,null,null,"Gesamt",{"$f":"SUM(F199:F205)","v":9.1447970000000005},10.447166129999999,10.804420840000001,5.8817460299999995,6.5285647000000004,7.860000265,6.6810927749999989,8.2856320000000014,6.2086610810000016,6.2795336589999984,6.0160000000000045,4.7797734260000606,4.4134167100000008,3.3336252000000024,3.3168120999999977,3.255075409999999,3.1859989400000015,2.7030290200000007,3.0419952739999934,3.5196124900000014,-1.1153423800000135,-3.1628977800000326,-4.4899911300000053,-3.1033984600000233,-0.15075679999998626,-1.3374307849999998,"v2.1.29","v2.1.6"]
[188]
[189,null,null,null,"Installierte Kapazitäten zum Jahresende [GW]",null,null,null,null,null,null,null,null,null,null,null,null,null,null,null,null,null,null,null,null,null,null,null,null,null,null,"v2.1.29",null,null,null,"Kapazität = Kapazität im Vorjahr + Netto-Zubau im aktuellen Jahr. "]
[190,null,null,null,"Wasser",{"$f":"'D-Kapazitäten 2009'!G6+F56","v":1.3371100000000005},{"$f":"F209+G199","v":1.4101100000000004},1.4471100000000003,1.5081100000000005,1.4955747000000004,1.786399485,1.8080332599999998,1.8134332599999998,1.8284332599999997,1.8454332599999996,1.8584332599999995,1.8724332599999995,1.8864332599999996,1.9004332599999996,1.9144332599999996,1.9284332599999996,1.9424332599999996,1.9564332599999996,1.9704332599999996,1.9844332599999996,1.8875556299999998,1.8102074399999997,1.7507796899999999,1.7182543399999997,1.6243469999999998,1.3475222150000001,"v2.1.29",null,null,null,"für Kapazitäten in 2009 werden Daten aus D-Kapazität 2009 verwendet"]
[191,null,null,null,"Gas",{"$f":"'D-Kapazitäten 2009'!G7+F57","v":0.56543599999999994},{"$f":"F210+G200","v":0.57543599999999984},0.57543599999999995,0.57643599999999995,0.56809900000000002,0.6138809999999999,0.61796499999999988,0.61966499999999991,0.62566499999999992,0.62766499999999992,0.62966499999999992,0.4540148,0.4029778,0.34227679999999999,0.26636179999999998,0.2099645,0.20634749999999999,0.20781149999999998,0.20929649999999997,0.21359249999999996,0.21408550999999998,0.22116350999999998,0.22194650999999999,0.23015650999999998,0.23902850999999997,0.20324651000000016,"v2.1.29",null,null,null,"für Kapazitäten in 2009 werden Daten aus D-Kapazität 2009 verwendet"]
[192,null,null,null,"Biomasse",{"$f":"'D-Kapazitäten 2009'!G8+F58","v":4.7110000000000003},{"$f":"F211+G201","v":5.5768681300000003},5.9049599700000011,6.5818149999999997,6.7992250000000007,7.0338410000000007,7.2588130000000008,7.5656000000000008,7.9931110810000021,8.3256447400000013,8.5016447400000015,8.449833970000002,8.2976001700000008,8.197351010000002,8.0083926600000019,7.4808856700000019,6.9851471700000021,6.3371451400000014,5.8966527400000022,5.7393763400000024,5.4841683400000028,5.0470767400000032,4.1909026800000024,4.0570379800000023,4.0006840700000019,3.9660680700000017,"v2.1.29",null,null,null,"für Kapazitäten in 2009 werden Daten aus D-Kapazität 2009 verwendet"]
[193,null,null,null,"Geothermie",{"$f":"'D-Kapazitäten 2009'!G9+F59","v":7.1500000000000001E-3},{"$f":"F212+G202","v":7.1500000000000001E-3},1.8949999999999998E-2,3.0269999999999998E-2,3.4000000000000002E-2,3.4000000000000002E-2,3.9E-2,4.1000000000000002E-2,4.5999999999999999E-2,0.05,5.5E-2,6.4000000000000001E-2,8.8999999999999996E-2,0.10299999999999999,0.109,0.11478000000000001,0.12478,0.13478000000000001,0.14178000000000002,0.15178000000000003,0.15763000000000002,0.16763000000000003,0.17763000000000004,0.17583000000000004,0.17451500000000003,0.18451500000000004,"v2.1.29",null,null,null,"für Kapazitäten in 2009 werden Daten aus D-Kapazität 2009 verwendet"]
[194,null,null,null,"Wind Onshore",{"$f":"'D-Kapazitäten 2009'!G10+F60","v":27.043797000000001},{"$f":"F213+G203","v":28.524095000000003},30.710624000000003,32.969194999999999,37.621491999999996,41.297269479999997,45.398672479999995,50.500417479999996,52.403567479999992,53.303567479999991,54.103567479999995,53.797774369999992,53.204100569999994,52.653897479999998,52.436029480000002,52.882258480000004,53.568214980000008,53.838376980000007,54.652130780000007,56.380266780000007,56.180926860000007,57.254267210000009,57.877784950000006,57.956660420000006,57.424228630000009,56.137020630000009,"v2.1.29",null,null,null,"für Kapazitäten in 2009 werden Daten aus D-Kapazität 2009 verwendet"]
[195,null,null,null,"Wind Offshore",{"$f":"'D-Kapazitäten 2009'!G11+F61","v":0.08},{"$f":"F214+G204","v":0.188},0.26800000000000002,0.50800000000000001,0.99399999999999999,3.2830000000000004,4.1520000000000001,5.4060000000000006,6.3930000000000007,7.5280000000000005,7.7470000000000008,7.7470000000000008,8.0890000000000004,9.0640000000000001,9.9640000000000004,10.864000000000001,11.764000000000001,12.664000000000001,13.564000000000002,14.464000000000002,15.332200000000002,16.187200000000001,16.978899999999999,17.7989,18.4589,17.069900000000001,"v2.1.29",null,null,null,"für Kapazitäten in 2009 werden Daten aus D-Kapazität 2009 verwendet"]
[196,null,null,null,"Solar",{"$f":"'D-Kapazitäten 2009'!G12+F62","v":18.006},{"$f":"F215+G205","v":25.916},34.076999999999998,36.71,37.9,39.223999999999997,40.678999999999995,42.292999999999992,45.157999999999994,49.046999999999997,53.847999999999999,59.138027506000064,63.967388816000067,67.009167266000063,69.888720716000066,72.36169141600007,74.437089356000072,76.592494406000071,78.338743280000074,79.359200170000079,77.920740330000058,73.326863990000021,68.32647393000002,64.484180049999992,64.348559290000011,66.024559290000013,"v2.1.29",null,null,null,"für Kapazitäten in 2009 werden Daten aus D-Kapazität 2009 verwendet"]
[197,null,null,null,"Gesamt",{"$f":"SUM(F209:F215)","v":51.750492999999999},{"$f":"SUM(G209:G215)","v":62.197659130000005},73.002079970000011,78.883825999999999,85.412390700000003,93.272390965,99.953483739999996,108.23911573999999,114.44777682099999,120.72731048,126.74331047999999,131.52308390600007,135.93650061600005,139.27012581600007,142.58693791600007,145.84201332600009,149.02801226600008,151.73104128600008,154.77303656000009,158.29264905000008,157.17730667000006,154.01440889000003,149.52441776000001,146.42101930000001,146.2702625,144.93283171500002,"v2.1.29"]
[198]
[199,null,null,null,"Durchschnittliche Standardauslastung von Anlagen, die nach 2014 gebaut werden [h]",null,null,null,null,null,null,null,null,null,null,null,null,null,null,null,null,null,null,null,null,null,null,null,null,null,null,null,"v2.1.30",null,null,"Standardauslastung = Mittelwert der Standardauslastungen aller Jahre ab 2015, gewichtet mit dem Bruttozubau. \nUm Division durch Null zu vermeiden: Wenn die Summe aller Bruttozubauten gleich Null ist, wird Standardauslastung auch auf Null gesetzt."]
[200,null,null,null,"Wasser",null,null,null,null,null,{"$f":"IF(SUM($K56:K56)>0,SUMPRODUCT($K56:K56,$K92:K92)/SUM($K56:K56),0)","v":3956},{"$f":"IF(SUM($K56:L56)>0,SUMPRODUCT($K56:L56,$K92:L92)/SUM($K56:L56),0)","v":3956},{"$f":"IF(SUM($K56:M56)>0,SUMPRODUCT($K56:M56,$K92:M92)/SUM($K56:M56),0)","v":3955.9999999999995},{"$f":"IF(SUM($K56:N56)>0,SUMPRODUCT($K56:N56,$K92:N92)/SUM($K56:N56),0)","v":3955.9999999999991},{"$f":"IF(SUM($K56:O56)>0,SUMPRODUCT($K56:O56,$K92:O92)/SUM($K56:O56),0)","v":3955.9999999999991},{"$f":"IF(SUM($K56:P56)>0,SUMPRODUCT($K56:P56,$K92:P92)/SUM($K56:P56),0)","v":3955.9999999999986},{"$f":"IF(SUM($K56:Q56)>0,SUMPRODUCT($K56:Q56,$K92:Q92)/SUM($K56:Q56),0)","v":3955.7771047047449},{"$f":"IF(SUM($K56:R56)>0,SUMPRODUCT($K56:R56,$K92:R92)/SUM($K56:R56),0)","v":3955.5701769970174},{"$f":"IF(SUM($K56:S56)>0,SUMPRODUCT($K56:S56,$K92:S92)/SUM($K56:S56),0)","v":3955.3775604003513},{"$f":"IF(SUM($K56:T56)>0,SUMPRODUCT($K56:T56,$K92:T92)/SUM($K56:T56),0)","v":3955.5320616104855},{"$f":"IF(SUM($K56:U56)>0,SUMPRODUCT($K56:U56,$K92:U92)/SUM($K56:U56),0)","v":3955.3531374313102},{"$f":"IF(SUM($K56:V56)>0,SUMPRODUCT($K56:V56,$K92:V92)/SUM($K56:V56),0)","v":3955.185424578191},{"$f":"IF(SUM($K56:W56)>0,SUMPRODUCT($K56:W56,$K92:W92)/SUM($K56:W56),0)","v":3955.0279013153167},{"$f":"IF(SUM($K56:X56)>0,SUMPRODUCT($K56:X56,$K92:X92)/SUM($K56:X56),0)","v":3954.8796664000306},{"$f":"IF(SUM($K56:Y56)>0,SUMPRODUCT($K56:Y56,$K92:Y92)/SUM($K56:Y56),0)","v":3954.7399218293299},{"$f":"IF(SUM($K56:Z56)>0,SUMPRODUCT($K56:Z56,$K92:Z92)/SUM($K56:Z56),0)","v":3954.6079584684785},{"$f":"IF(SUM($K56:AA56)>0,SUMPRODUCT($K56:AA56,$K92:AA92)/SUM($K56:AA56),0)","v":3954.4831440152579},{"$f":"IF(SUM($K56:AB56)>0,SUMPRODUCT($K56:AB56,$K92:AB92)/SUM($K56:AB56),0)","v":3954.3649128686911},{"$f":"IF(SUM($K56:AC56)>0,SUMPRODUCT($K56:AC56,$K92:AC92)/SUM($K56:AC56),0)","v":3954.2527575596851},{"$f":"IF(SUM($K56:AD56)>0,SUMPRODUCT($K56:AD56,$K92:AD92)/SUM($K56:AD56),0)","v":3954.1462214697026},{"$f":"IF(SUM($K56:AE56)>0,SUMPRODUCT($K56:AE56,$K92:AE92)/SUM($K56:AE56),0)","v":3954.0448926171221},null,"v2.1.30"]
[201,null,null,null,"Gas",null,null,null,null,null,{"$f":"IF(SUM($K57:K57)>0,SUMPRODUCT($K57:K57,$K93:K93)/SUM($K57:K57),0)","v":2901},{"$f":"IF(SUM($K57:L57)>0,SUMPRODUCT($K57:L57,$K93:L93)/SUM($K57:L57),0)","v":2901},{"$f":"IF(SUM($K57:M57)>0,SUMPRODUCT($K57:M57,$K93:M93)/SUM($K57:M57),0)","v":2935.3850599232055},{"$f":"IF(SUM($K57:N57)>0,SUMPRODUCT($K57:N57,$K93:N93)/SUM($K57:N57),0)","v":3022.0627801132619},{"$f":"IF(SUM($K57:O57)>0,SUMPRODUCT($K57:O57,$K93:O93)/SUM($K57:O57),0)","v":3044.3216935835885},{"$f":"IF(SUM($K57:P57)>0,SUMPRODUCT($K57:P57,$K93:P93)/SUM($K57:P57),0)","v":3054.9783432277059},{"$f":"IF(SUM($K57:Q57)>0,SUMPRODUCT($K57:Q57,$K93:Q93)/SUM($K57:Q57),0)","v":3088.7616402122394},{"$f":"IF(SUM($K57:R57)>0,SUMPRODUCT($K57:R57,$K93:R93)/SUM($K57:R57),0)","v":3125.9180189928252},{"$f":"IF(SUM($K57:S57)>0,SUMPRODUCT($K57:S57,$K93:S93)/SUM($K57:S57),0)","v":3183.7814257298351},{"$f":"IF(SUM($K57:T57)>0,SUMPRODUCT($K57:T57,$K93:T93)/SUM($K57:T57),0)","v":3258.3182997716981},{"$f":"IF(SUM($K57:U57)>0,SUMPRODUCT($K57:U57,$K93:U93)/SUM($K57:U57),0)","v":3505.1453266990952},{"$f":"IF(SUM($K57:V57)>0,SUMPRODUCT($K57:V57,$K93:V93)/SUM($K57:V57),0)","v":3696.8561204738685},{"$f":"IF(SUM($K57:W57)>0,SUMPRODUCT($K57:W57,$K93:W93)/SUM($K57:W57),0)","v":3850.0576251791249},{"$f":"IF(SUM($K57:X57)>0,SUMPRODUCT($K57:X57,$K93:X93)/SUM($K57:X57),0)","v":3975.2939756019846},{"$f":"IF(SUM($K57:Y57)>0,SUMPRODUCT($K57:Y57,$K93:Y93)/SUM($K57:Y57),0)","v":4079.5818372533104},{"$f":"IF(SUM($K57:Z57)>0,SUMPRODUCT($K57:Z57,$K93:Z93)/SUM($K57:Z57),0)","v":4167.7716698458817},{"$f":"IF(SUM($K57:AA57)>0,SUMPRODUCT($K57:AA57,$K93:AA93)/SUM($K57:AA57),0)","v":4243.3237779794044},{"$f":"IF(SUM($K57:AB57)>0,SUMPRODUCT($K57:AB57,$K93:AB93)/SUM($K57:AB57),0)","v":4308.773040796008},{"$f":"IF(SUM($K57:AC57)>0,SUMPRODUCT($K57:AC57,$K93:AC93)/SUM($K57:AC57),0)","v":4366.0188940119942},{"$f":"IF(SUM($K57:AD57)>0,SUMPRODUCT($K57:AD57,$K93:AD93)/SUM($K57:AD57),0)","v":4416.5127033965537},{"$f":"IF(SUM($K57:AE57)>0,SUMPRODUCT($K57:AE57,$K93:AE93)/SUM($K57:AE57),0)","v":4461.3825294675062},null,"v2.1.30"]
[202,null,null,null,"Biomasse",null,null,null,null,null,{"$f":"IF(SUM($K58:K58)>0,SUMPRODUCT($K58:K58,$K94:K94)/SUM($K58:K58),0)","v":5605},{"$f":"IF(SUM($K58:L58)>0,SUMPRODUCT($K58:L58,$K94:L94)/SUM($K58:L58),0)","v":4819.3396694430667},{"$f":"IF(SUM($K58:M58)>0,SUMPRODUCT($K58:M58,$K94:M94)/SUM($K58:M58),0)","v":4491.3504224433209},{"$f":"IF(SUM($K58:N58)>0,SUMPRODUCT($K58:N58,$K94:N94)/SUM($K58:N58),0)","v":4315.4058716260388},{"$f":"IF(SUM($K58:O58)>0,SUMPRODUCT($K58:O58,$K94:O94)/SUM($K58:O58),0)","v":4246.6940580839182},{"$f":"IF(SUM($K58:P58)>0,SUMPRODUCT($K58:P58,$K94:P94)/SUM($K58:P58),0)","v":4221.1902688581367},{"$f":"IF(SUM($K58:Q58)>0,SUMPRODUCT($K58:Q58,$K94:Q94)/SUM($K58:Q58),0)","v":4206.1731330170578},{"$f":"IF(SUM($K58:R58)>0,SUMPRODUCT($K58:R58,$K94:R94)/SUM($K58:R58),0)","v":4202.1878698515084},{"$f":"IF(SUM($K58:S58)>0,SUMPRODUCT($K58:S58,$K94:S94)/SUM($K58:S58),0)","v":4197.9366971875515},{"$f":"IF(SUM($K58:T58)>0,SUMPRODUCT($K58:T58,$K94:T94)/SUM($K58:T58),0)","v":4193.5616629447795},{"$f":"IF(SUM($K58:U58)>0,SUMPRODUCT($K58:U58,$K94:U94)/SUM($K58:U58),0)","v":4189.1855634430149},{"$f":"IF(SUM($K58:V58)>0,SUMPRODUCT($K58:V58,$K94:V94)/SUM($K58:V58),0)","v":4171.9116537910677},{"$f":"IF(SUM($K58:W58)>0,SUMPRODUCT($K58:W58,$K94:W94)/SUM($K58:W58),0)","v":4157.5282673995989},{"$f":"IF(SUM($K58:X58)>0,SUMPRODUCT($K58:X58,$K94:X94)/SUM($K58:X58),0)","v":4145.3658934825744},{"$f":"IF(SUM($K58:Y58)>0,SUMPRODUCT($K58:Y58,$K94:Y94)/SUM($K58:Y58),0)","v":4134.9469667957546},{"$f":"IF(SUM($K58:Z58)>0,SUMPRODUCT($K58:Z58,$K94:Z94)/SUM($K58:Z58),0)","v":4125.9216808139436},{"$f":"IF(SUM($K58:AA58)>0,SUMPRODUCT($K58:AA58,$K94:AA94)/SUM($K58:AA58),0)","v":4118.0279432448588},{"$f":"IF(SUM($K58:AB58)>0,SUMPRODUCT($K58:AB58,$K94:AB94)/SUM($K58:AB58),0)","v":4111.0655048274339},{"$f":"IF(SUM($K58:AC58)>0,SUMPRODUCT($K58:AC58,$K94:AC94)/SUM($K58:AC58),0)","v":4104.8787348746009},{"$f":"IF(SUM($K58:AD58)>0,SUMPRODUCT($K58:AD58,$K94:AD94)/SUM($K58:AD58),0)","v":4099.344849866151},{"$f":"IF(SUM($K58:AE58)>0,SUMPRODUCT($K58:AE58,$K94:AE94)/SUM($K58:AE58),0)","v":4094.3656819420189},null,"v2.1.30"]
[203,null,null,null,"Geothermie",null,null,null,null,null,{"$f":"IF(SUM($K59:K59)>0,SUMPRODUCT($K59:K59,$K95:K95)/SUM($K59:K59),0)","v":0},{"$f":"IF(SUM($K59:L59)>0,SUMPRODUCT($K59:L59,$K95:L95)/SUM($K59:L59),0)","v":4341},{"$f":"IF(SUM($K59:M59)>0,SUMPRODUCT($K59:M59,$K95:M95)/SUM($K59:M59),0)","v":4901.8571428571422},{"$f":"IF(SUM($K59:N59)>0,SUMPRODUCT($K59:N59,$K95:N95)/SUM($K59:N59),0)","v":5486.083333333333},{"$f":"IF(SUM($K59:O59)>0,SUMPRODUCT($K59:O59,$K95:O95)/SUM($K59:O59),0)","v":5716.0624999999982},{"$f":"IF(SUM($K59:P59)>0,SUMPRODUCT($K59:P59,$K95:P95)/SUM($K59:P59),0)","v":5654.3809523809505},{"$f":"IF(SUM($K59:Q59)>0,SUMPRODUCT($K59:Q59,$K95:Q95)/SUM($K59:Q59),0)","v":5697.1666666666661},{"$f":"IF(SUM($K59:R59)>0,SUMPRODUCT($K59:R59,$K95:R95)/SUM($K59:R59),0)","v":5742.545454545454},{"$f":"IF(SUM($K59:S59)>0,SUMPRODUCT($K59:S59,$K95:S95)/SUM($K59:S59),0)","v":5753.5942028985501},{"$f":"IF(SUM($K59:T59)>0,SUMPRODUCT($K59:T59,$K95:T95)/SUM($K59:T59),0)","v":5758.5066666666653},{"$f":"IF(SUM($K59:U59)>0,SUMPRODUCT($K59:U59,$K95:U95)/SUM($K59:U59),0)","v":5761.3580246913561},{"$f":"IF(SUM($K59:V59)>0,SUMPRODUCT($K59:V59,$K95:V95)/SUM($K59:V59),0)","v":5765.274725274724},{"$f":"IF(SUM($K59:W59)>0,SUMPRODUCT($K59:W59,$K95:W95)/SUM($K59:W59),0)","v":5768.4158415841584},{"$f":"IF(SUM($K59:X59)>0,SUMPRODUCT($K59:X59,$K95:X95)/SUM($K59:X59),0)","v":5770.9909909909911},{"$f":"IF(SUM($K59:Y59)>0,SUMPRODUCT($K59:Y59,$K95:Y95)/SUM($K59:Y59),0)","v":5773.1404958677695},{"$f":"IF(SUM($K59:Z59)>0,SUMPRODUCT($K59:Z59,$K95:Z95)/SUM($K59:Z59),0)","v":5774.9618320610689},{"$f":"IF(SUM($K59:AA59)>0,SUMPRODUCT($K59:AA59,$K95:AA95)/SUM($K59:AA59),0)","v":5776.5248226950362},{"$f":"IF(SUM($K59:AB59)>0,SUMPRODUCT($K59:AB59,$K95:AB95)/SUM($K59:AB59),0)","v":5777.8807947019868},{"$f":"IF(SUM($K59:AC59)>0,SUMPRODUCT($K59:AC59,$K95:AC95)/SUM($K59:AC59),0)","v":5779.0683229813667},{"$f":"IF(SUM($K59:AD59)>0,SUMPRODUCT($K59:AD59,$K95:AD95)/SUM($K59:AD59),0)","v":5780.1169590643276},{"$f":"IF(SUM($K59:AE59)>0,SUMPRODUCT($K59:AE59,$K95:AE95)/SUM($K59:AE59),0)","v":5781.0497237569052},null,"v2.1.30"]
[204,null,null,null,"Wind Onshore",null,null,null,null,null,{"$f":"IF(SUM($K60:K60)>0,SUMPRODUCT($K60:K60,$K96:K96)/SUM($K60:K60),0)","v":2258.3528764765942},{"$f":"IF(SUM($K60:L60)>0,SUMPRODUCT($K60:L60,$K96:L96)/SUM($K60:L60),0)","v":2289.8582897449214},{"$f":"IF(SUM($K60:M60)>0,SUMPRODUCT($K60:M60,$K96:M96)/SUM($K60:M60),0)","v":2323.9826193077179},{"$f":"IF(SUM($K60:N60)>0,SUMPRODUCT($K60:N60,$K96:N96)/SUM($K60:N60),0)","v":2340.2754086518516},{"$f":"IF(SUM($K60:O60)>0,SUMPRODUCT($K60:O60,$K96:O96)/SUM($K60:O60),0)","v":2353.156631483128},{"$f":"IF(SUM($K60:P60)>0,SUMPRODUCT($K60:P60,$K96:P96)/SUM($K60:P60),0)","v":2364.0185907544701},{"$f":"IF(SUM($K60:Q60)>0,SUMPRODUCT($K60:Q60,$K96:Q96)/SUM($K60:Q60),0)","v":2373.3015860844312},{"$f":"IF(SUM($K60:R60)>0,SUMPRODUCT($K60:R60,$K96:R96)/SUM($K60:R60),0)","v":2352.0711920574186},{"$f":"IF(SUM($K60:S60)>0,SUMPRODUCT($K60:S60,$K96:S96)/SUM($K60:S60),0)","v":2335.554916332072},{"$f":"IF(SUM($K60:T60)>0,SUMPRODUCT($K60:T60,$K96:T96)/SUM($K60:T60),0)","v":2327.4540663194052},{"$f":"IF(SUM($K60:U60)>0,SUMPRODUCT($K60:U60,$K96:U96)/SUM($K60:U60),0)","v":2330.4856653575439},{"$f":"IF(SUM($K60:V60)>0,SUMPRODUCT($K60:V60,$K96:V96)/SUM($K60:V60),0)","v":2337.5721699638129},{"$f":"IF(SUM($K60:W60)>0,SUMPRODUCT($K60:W60,$K96:W96)/SUM($K60:W60),0)","v":2346.1689546955031},{"$f":"IF(SUM($K60:X60)>0,SUMPRODUCT($K60:X60,$K96:X96)/SUM($K60:X60),0)","v":2355.1912744331935},{"$f":"IF(SUM($K60:Y60)>0,SUMPRODUCT($K60:Y60,$K96:Y96)/SUM($K60:Y60),0)","v":2364.1396298955351},{"$f":"IF(SUM($K60:Z60)>0,SUMPRODUCT($K60:Z60,$K96:Z96)/SUM($K60:Z60),0)","v":2372.7799318226967},{"$f":"IF(SUM($K60:AA60)>0,SUMPRODUCT($K60:AA60,$K96:AA96)/SUM($K60:AA60),0)","v":2381.0077568996203},{"$f":"IF(SUM($K60:AB60)>0,SUMPRODUCT($K60:AB60,$K96:AB96)/SUM($K60:AB60),0)","v":2388.7848350646896},{"$f":"IF(SUM($K60:AC60)>0,SUMPRODUCT($K60:AC60,$K96:AC96)/SUM($K60:AC60),0)","v":2396.1072739077622},{"$f":"IF(SUM($K60:AD60)>0,SUMPRODUCT($K60:AD60,$K96:AD96)/SUM($K60:AD60),0)","v":2402.9889034293165},{"$f":"IF(SUM($K60:AE60)>0,SUMPRODUCT($K60:AE60,$K96:AE96)/SUM($K60:AE60),0)","v":2411.921620506268},null,"v2.1.30"]
[205,null,null,null,"Wind Offshore",null,null,null,null,null,{"$f":"IF(SUM($K61:K61)>0,SUMPRODUCT($K61:K61,$K97:K97)/SUM($K61:K61),0)","v":3462},{"$f":"IF(SUM($K61:L61)>0,SUMPRODUCT($K61:L61,$K97:L97)/SUM($K61:L61),0)","v":3489.5174160861302},{"$f":"IF(SUM($K61:M61)>0,SUMPRODUCT($K61:M61,$K97:M97)/SUM($K61:M61),0)","v":3538.5412511332725},{"$f":"IF(SUM($K61:N61)>0,SUMPRODUCT($K61:N61,$K97:N97)/SUM($K61:N61),0)","v":3579.3921096499353},{"$f":"IF(SUM($K61:O61)>0,SUMPRODUCT($K61:O61,$K97:O97)/SUM($K61:O61),0)","v":3628.4830119375574},{"$f":"IF(SUM($K61:P61)>0,SUMPRODUCT($K61:P61,$K97:P97)/SUM($K61:P61),0)","v":3639.2989782318964},{"$f":"IF(SUM($K61:Q61)>0,SUMPRODUCT($K61:Q61,$K97:Q97)/SUM($K61:Q61),0)","v":3639.2989782318964},{"$f":"IF(SUM($K61:R61)>0,SUMPRODUCT($K61:R61,$K97:R97)/SUM($K61:R61),0)","v":3669.7006342494715},{"$f":"IF(SUM($K61:S61)>0,SUMPRODUCT($K61:S61,$K97:S97)/SUM($K61:S61),0)","v":3746.0936802973979},{"$f":"IF(SUM($K61:T61)>0,SUMPRODUCT($K61:T61,$K97:T97)/SUM($K61:T61),0)","v":3807.6896321070235},{"$f":"IF(SUM($K61:U61)>0,SUMPRODUCT($K61:U61,$K97:U97)/SUM($K61:U61),0)","v":3868.3866261398175},{"$f":"IF(SUM($K61:V61)>0,SUMPRODUCT($K61:V61,$K97:V97)/SUM($K61:V61),0)","v":3923.6746518105847},{"$f":"IF(SUM($K61:W61)>0,SUMPRODUCT($K61:W61,$K97:W97)/SUM($K61:W61),0)","v":3973.0570694087401},{"$f":"IF(SUM($K61:X61)>0,SUMPRODUCT($K61:X61,$K97:X97)/SUM($K61:X61),0)","v":4016.9909307875887},{"$f":"IF(SUM($K61:Y61)>0,SUMPRODUCT($K61:Y61,$K97:Y97)/SUM($K61:Y61),0)","v":4056.1356665606099},{"$f":"IF(SUM($K61:Z61)>0,SUMPRODUCT($K61:Z61,$K97:Z97)/SUM($K61:Z61),0)","v":4091.1376081121375},{"$f":"IF(SUM($K61:AA61)>0,SUMPRODUCT($K61:AA61,$K97:AA97)/SUM($K61:AA61),0)","v":4122.5702310786783},{"$f":"IF(SUM($K61:AB61)>0,SUMPRODUCT($K61:AB61,$K97:AB97)/SUM($K61:AB61),0)","v":4150.924392614188},{"$f":"IF(SUM($K61:AC61)>0,SUMPRODUCT($K61:AC61,$K97:AC97)/SUM($K61:AC61),0)","v":4176.614590798773},{"$f":"IF(SUM($K61:AD61)>0,SUMPRODUCT($K61:AD61,$K97:AD97)/SUM($K61:AD61),0)","v":4199.9894860843106},{"$f":"IF(SUM($K61:AE61)>0,SUMPRODUCT($K61:AE61,$K97:AE97)/SUM($K61:AE61),0)","v":4223.8373643314817},null,"v2.1.30"]
[206,null,null,null,"Solar",null,null,null,null,null,{"$f":"IF(SUM($K62:K62)>0,SUMPRODUCT($K62:K62,$K98:K98)/SUM($K62:K62),0)","v":959.99999999999989},{"$f":"IF(SUM($K62:L62)>0,SUMPRODUCT($K62:L62,$K98:L98)/SUM($K62:L62),0)","v":960.00000000000011},{"$f":"IF(SUM($K62:M62)>0,SUMPRODUCT($K62:M62,$K98:M98)/SUM($K62:M62),0)","v":960.00000000000023},{"$f":"IF(SUM($K62:N62)>0,SUMPRODUCT($K62:N62,$K98:N98)/SUM($K62:N62),0)","v":961.97368421052647},{"$f":"IF(SUM($K62:O62)>0,SUMPRODUCT($K62:O62,$K98:O98)/SUM($K62:O62),0)","v":963.02951466762363},{"$f":"IF(SUM($K62:P62)>0,SUMPRODUCT($K62:P62,$K98:P98)/SUM($K62:P62),0)","v":963.62271131176328},{"$f":"IF(SUM($K62:Q62)>0,SUMPRODUCT($K62:Q62,$K98:Q98)/SUM($K62:Q62),0)","v":963.9717723059639},{"$f":"IF(SUM($K62:R62)>0,SUMPRODUCT($K62:R62,$K98:R98)/SUM($K62:R62),0)","v":949.13843468752327},{"$f":"IF(SUM($K62:S62)>0,SUMPRODUCT($K62:S62,$K98:S98)/SUM($K62:S62),0)","v":943.77595085825203},{"$f":"IF(SUM($K62:T62)>0,SUMPRODUCT($K62:T62,$K98:T98)/SUM($K62:T62),0)","v":939.70945578498515},{"$f":"IF(SUM($K62:U62)>0,SUMPRODUCT($K62:U62,$K98:U98)/SUM($K62:U62),0)","v":936.22103926502143},{"$f":"IF(SUM($K62:V62)>0,SUMPRODUCT($K62:V62,$K98:V98)/SUM($K62:V62),0)","v":933.73754136367131},{"$f":"IF(SUM($K62:W62)>0,SUMPRODUCT($K62:W62,$K98:W98)/SUM($K62:W62),0)","v":931.91849118167113},{"$f":"IF(SUM($K62:X62)>0,SUMPRODUCT($K62:X62,$K98:X98)/SUM($K62:X62),0)","v":930.62981635899666},{"$f":"IF(SUM($K62:Y62)>0,SUMPRODUCT($K62:Y62,$K98:Y98)/SUM($K62:Y62),0)","v":929.77124216014977},{"$f":"IF(SUM($K62:Z62)>0,SUMPRODUCT($K62:Z62,$K98:Z98)/SUM($K62:Z62),0)","v":929.2662730094836},{"$f":"IF(SUM($K62:AA62)>0,SUMPRODUCT($K62:AA62,$K98:AA98)/SUM($K62:AA62),0)","v":929.05553824801223},{"$f":"IF(SUM($K62:AB62)>0,SUMPRODUCT($K62:AB62,$K98:AB98)/SUM($K62:AB62),0)","v":929.09225396847364},{"$f":"IF(SUM($K62:AC62)>0,SUMPRODUCT($K62:AC62,$K98:AC98)/SUM($K62:AC62),0)","v":929.33905536813313},{"$f":"IF(SUM($K62:AD62)>0,SUMPRODUCT($K62:AD62,$K98:AD98)/SUM($K62:AD62),0)","v":929.76573988301152},{"$f":"IF(SUM($K62:AE62)>0,SUMPRODUCT($K62:AE62,$K98:AE98)/SUM($K62:AE62),0)","v":930.69104482868408},null,"v2.1.30"]
[207]
[208,null,null,null,"Stromerzeugung für Anlagen, die nach 2014 gebaut werden (TWh)",null,null,null,null,null,null,null,null,null,null,null,null,null,null,null,null,null,null,null,null,null,null,null,null,null,null,null,"v2.1.33",null,null,"für 2015: Stromerzeugung = 0,5*Bruttozubau 2015 * Standardauslastung 2015 * Dargebotsfaktor 2015\nfür alle anderen Jahre:\nStromerzeugung = \n  ( Summe über Vorjahre (Bruttozubau * Standardauslastung)\n  + 0,5* Bruttozubau aktuelles Jahr * Standardauslastung aktuelles Jahr )\n  * Dargebotsfaktor aktuelles Jahr"]
[209,null,null,null,"Wasser",null,null,null,null,null,{"$f":"(0.5*K56*K92)*K47/1000","v":0.57525142472999935},{"$f":"(SUMPRODUCT($K56:K56,$K92:K92) + 0.5*L56*L92)*L47/1000","v":1.1932944564099985},{"$f":"(SUMPRODUCT($K56:L56,$K92:L92) + 0.5*M56*M92)*M47/1000","v":1.246767263359998},{"$f":"(SUMPRODUCT($K56:M56,$K92:M92) + 0.5*N56*N92)*N47/1000","v":1.2871184633599981},{"$f":"(SUMPRODUCT($K56:N56,$K92:N92) + 0.5*O56*O92)*O47/1000","v":1.3504144633599979},{"$f":"(SUMPRODUCT($K56:O56,$K92:O92) + 0.5*P56*P92)*P47/1000","v":1.4097544633599979},{"$f":"(SUMPRODUCT($K56:P56,$K92:P92) + 0.5*Q56*Q92)*Q47/1000","v":1.4631184633599978},{"$f":"(SUMPRODUCT($K56:Q56,$K92:Q92) + 0.5*R56*R92)*R47/1000","v":1.5184184633599977},{"$f":"(SUMPRODUCT($K56:R56,$K92:R92) + 0.5*S56*S92)*S47/1000","v":1.5737184633599977},{"$f":"(SUMPRODUCT($K56:S56,$K92:S92) + 0.5*T56*T92)*T47/1000","v":1.6290884633599976},{"$f":"(SUMPRODUCT($K56:T56,$K92:T92) + 0.5*U56*U92)*U47/1000","v":1.6844584633599977},{"$f":"(SUMPRODUCT($K56:U56,$K92:U92) + 0.5*V56*V92)*V47/1000","v":1.7397584633599976},{"$f":"(SUMPRODUCT($K56:V56,$K92:V92) + 0.5*W56*W92)*W47/1000","v":1.7950584633599975},{"$f":"(SUMPRODUCT($K56:W56,$K92:W92) + 0.5*X56*X92)*X47/1000","v":1.8503584633599977},{"$f":"(SUMPRODUCT($K56:X56,$K92:X92) + 0.5*Y56*Y92)*Y47/1000","v":1.9056584633599976},{"$f":"(SUMPRODUCT($K56:Y56,$K92:Y92) + 0.5*Z56*Z92)*Z47/1000","v":1.9609584633599975},{"$f":"(SUMPRODUCT($K56:Z56,$K92:Z92) + 0.5*AA56*AA92)*AA47/1000","v":2.0162584633599976},{"$f":"(SUMPRODUCT($K56:AA56,$K92:AA92) + 0.5*AB56*AB92)*AB47/1000","v":2.0715584633599975},{"$f":"(SUMPRODUCT($K56:AB56,$K92:AB92) + 0.5*AC56*AC92)*AC47/1000","v":2.1268584633599974},{"$f":"(SUMPRODUCT($K56:AC56,$K92:AC92) + 0.5*AD56*AD92)*AD47/1000","v":2.1821584633599977},{"$f":"(SUMPRODUCT($K56:AD56,$K92:AD92) + 0.5*AE56*AE92)*AE47/1000","v":2.2374584633599981},"v2.1.40","v2.1.33"]
[210,null,null,null,"Gas",null,null,null,null,null,6.6406790999999743E-2,{"$f":"(SUMPRODUCT($K57:K57,$K93:K93) + 0.5*L57*L93)*L48/1000","v":0.13873742399999947},{"$f":"(SUMPRODUCT($K57:L57,$K93:L93) + 0.5*M57*M93)*M48/1000","v":0.14801366599999941},{"$f":"(SUMPRODUCT($K57:M57,$K93:M93) + 0.5*N57*N93)*N48/1000","v":0.16266706599999942},{"$f":"(SUMPRODUCT($K57:N57,$K93:N93) + 0.5*O57*O93)*O48/1000","v":0.17765306599999942},{"$f":"(SUMPRODUCT($K57:O57,$K93:O93) + 0.5*P57*P93)*P48/1000","v":0.1847104313395779},{"$f":"(SUMPRODUCT($K57:P57,$K93:P93) + 0.5*Q57*Q93)*Q48/1000","v":0.19221150955044344},{"$f":"(SUMPRODUCT($K57:Q57,$K93:Q93) + 0.5*R57*R93)*R48/1000","v":0.20064708162750677},{"$f":"(SUMPRODUCT($K57:R57,$K93:R93) + 0.5*S57*S93)*S48/1000","v":0.21003465832207222},{"$f":"(SUMPRODUCT($K57:S57,$K93:S93) + 0.5*T57*T93)*T48/1000","v":0.22089177332638937},{"$f":"(SUMPRODUCT($K57:T57,$K93:T93) + 0.5*U57*U93)*U48/1000","v":0.25277928195302846},{"$f":"(SUMPRODUCT($K57:U57,$K93:U93) + 0.5*V57*V93)*V48/1000","v":0.30500150417525063},{"$f":"(SUMPRODUCT($K57:V57,$K93:V93) + 0.5*W57*W93)*W48/1000","v":0.35722372639747291},{"$f":"(SUMPRODUCT($K57:W57,$K93:W93) + 0.5*X57*X93)*X48/1000","v":0.40944594861969508},{"$f":"(SUMPRODUCT($K57:X57,$K93:X93) + 0.5*Y57*Y93)*Y48/1000","v":0.46166817084191736},{"$f":"(SUMPRODUCT($K57:Y57,$K93:Y93) + 0.5*Z57*Z93)*Z48/1000","v":0.51389039306413953},{"$f":"(SUMPRODUCT($K57:Z57,$K93:Z93) + 0.5*AA57*AA93)*AA48/1000","v":0.5661126152863617},{"$f":"(SUMPRODUCT($K57:AA57,$K93:AA93) + 0.5*AB57*AB93)*AB48/1000","v":0.61833483750858387},{"$f":"(SUMPRODUCT($K57:AB57,$K93:AB93) + 0.5*AC57*AC93)*AC48/1000","v":0.67055705973080604},{"$f":"(SUMPRODUCT($K57:AC57,$K93:AC93) + 0.5*AD57*AD93)*AD48/1000","v":0.72277928195302821},{"$f":"(SUMPRODUCT($K57:AD57,$K93:AD93) + 0.5*AE57*AE93)*AE48/1000","v":0.77500150417525038},"v2.1.40","v2.1.33"]
[211,null,null,null,"Biomasse",null,null,null,null,null,0.65751134,{"$f":"(SUMPRODUCT($K58:K58,$K94:K94) + 0.5*L58*L94)*L49/1000","v":1.7649666799999999},{"$f":"(SUMPRODUCT($K58:L58,$K94:L94) + 0.5*M58*M94)*M49/1000","v":2.8284846799999999},{"$f":"(SUMPRODUCT($K58:M58,$K94:M94) + 0.5*N58*N94)*N49/1000","v":4.2970808420000024},{"$f":"(SUMPRODUCT($K58:N58,$K94:N94) + 0.5*O58*O94)*O49/1000","v":5.8171703220000044},{"$f":"(SUMPRODUCT($K58:O58,$K94:O94) + 0.5*P58*P94)*P49/1000","v":6.834237640000004},{"$f":"(SUMPRODUCT($K58:P58,$K94:P94) + 0.5*Q58*Q94)*Q49/1000","v":7.4342376400000036},{"$f":"(SUMPRODUCT($K58:Q58,$K94:Q94) + 0.5*R58*R94)*R49/1000","v":7.7542376400000039},{"$f":"(SUMPRODUCT($K58:R58,$K94:R94) + 0.5*S58*S94)*S49/1000","v":7.9062376400000041},{"$f":"(SUMPRODUCT($K58:S58,$K94:S94) + 0.5*T58*T94)*T49/1000","v":8.0722376400000044},{"$f":"(SUMPRODUCT($K58:T58,$K94:T94) + 0.5*U58*U94)*U49/1000","v":8.2482376400000028},{"$f":"(SUMPRODUCT($K58:U58,$K94:U94) + 0.5*V58*V94)*V49/1000","v":8.738237640000003},{"$f":"(SUMPRODUCT($K58:V58,$K94:V94) + 0.5*W58*W94)*W49/1000","v":9.5382376400000037},{"$f":"(SUMPRODUCT($K58:W58,$K94:W94) + 0.5*X58*X94)*X49/1000","v":10.338237640000003},{"$f":"(SUMPRODUCT($K58:X58,$K94:X94) + 0.5*Y58*Y94)*Y49/1000","v":11.138237640000003},{"$f":"(SUMPRODUCT($K58:Y58,$K94:Y94) + 0.5*Z58*Z94)*Z49/1000","v":11.938237640000002},{"$f":"(SUMPRODUCT($K58:Z58,$K94:Z94) + 0.5*AA58*AA94)*AA49/1000","v":12.738237640000003},{"$f":"(SUMPRODUCT($K58:AA58,$K94:AA94) + 0.5*AB58*AB94)*AB49/1000","v":13.538237640000004},{"$f":"(SUMPRODUCT($K58:AB58,$K94:AB94) + 0.5*AC58*AC94)*AC49/1000","v":14.338237640000003},{"$f":"(SUMPRODUCT($K58:AC58,$K94:AC94) + 0.5*AD58*AD94)*AD49/1000","v":15.138237640000003},{"$f":"(SUMPRODUCT($K58:AD58,$K94:AD94) + 0.5*AE58*AE94)*AE49/1000","v":15.938237640000002},"v2.1.40","v2.1.33"]
[212,null,null,null,"Geothermie",null,null,null,null,null,0,{"$f":"(SUMPRODUCT($K59:K59,$K95:K95) + 0.5*L59*L95)*L50/1000","v":1.0852499999999996E-2},{"$f":"(SUMPRODUCT($K59:L59,$K95:L95) + 0.5*M59*M95)*M50/1000","v":2.8008999999999992E-2},{"$f":"(SUMPRODUCT($K59:M59,$K95:M95) + 0.5*N59*N95)*N50/1000","v":5.0072999999999986E-2},{"$f":"(SUMPRODUCT($K59:N59,$K95:N95) + 0.5*O59*O95)*O50/1000","v":7.8644999999999979E-2},{"$f":"(SUMPRODUCT($K59:O59,$K95:O95) + 0.5*P59*P95)*P50/1000","v":0.10509949999999998},{"$f":"(SUMPRODUCT($K59:P59,$K95:P95) + 0.5*Q59*Q95)*Q50/1000","v":0.14482849999999997},{"$f":"(SUMPRODUCT($K59:Q59,$K95:Q95) + 0.5*R59*R95)*R50/1000","v":0.24337749999999997},{"$f":"(SUMPRODUCT($K59:R59,$K95:R95) + 0.5*S59*S95)*S50/1000","v":0.35641899999999999},{"$f":"(SUMPRODUCT($K59:S59,$K95:S95) + 0.5*T59*T95)*T50/1000","v":0.41444300000000001},{"$f":"(SUMPRODUCT($K59:T59,$K95:T95) + 0.5*U59*U95)*U50/1000","v":0.44927899999999998},{"$f":"(SUMPRODUCT($K59:U59,$K95:U95) + 0.5*V59*V95)*V50/1000","v":0.49565499999999996},{"$f":"(SUMPRODUCT($K59:V59,$K95:V95) + 0.5*W59*W95)*W50/1000","v":0.55362500000000003},{"$f":"(SUMPRODUCT($K59:W59,$K95:W95) + 0.5*X59*X95)*X50/1000","v":0.611595},{"$f":"(SUMPRODUCT($K59:X59,$K95:X95) + 0.5*Y59*Y95)*Y50/1000","v":0.66956500000000008},{"$f":"(SUMPRODUCT($K59:Y59,$K95:Y95) + 0.5*Z59*Z95)*Z50/1000","v":0.72753500000000004},{"$f":"(SUMPRODUCT($K59:Z59,$K95:Z95) + 0.5*AA59*AA95)*AA50/1000","v":0.78550500000000012},{"$f":"(SUMPRODUCT($K59:AA59,$K95:AA95) + 0.5*AB59*AB95)*AB50/1000","v":0.84347500000000009},{"$f":"(SUMPRODUCT($K59:AB59,$K95:AB95) + 0.5*AC59*AC95)*AC50/1000","v":0.90144500000000016},{"$f":"(SUMPRODUCT($K59:AC59,$K95:AC95) + 0.5*AD59*AD95)*AD50/1000","v":0.95941500000000024},{"$f":"(SUMPRODUCT($K59:AD59,$K95:AD95) + 0.5*AE59*AE95)*AE50/1000","v":1.0173850000000002},"v2.1.40","v2.1.33"]
[213,null,null,null,"Wind Onshore",null,null,null,null,null,4.2764260403075847,{"$f":"(SUMPRODUCT($K60:K60,$K96:K96) + 0.5*L60*L96)*L51/1000","v":13.702182312605201},{"$f":"(SUMPRODUCT($K60:L60,$K96:L96) + 0.5*M60*M96)*M51/1000","v":25.384958587989953},{"$f":"(SUMPRODUCT($K60:M60,$K96:M96) + 0.5*N60*N96)*N51/1000","v":34.842306540078191},{"$f":"(SUMPRODUCT($K60:N60,$K96:N96) + 0.5*O60*O96)*O51/1000","v":39.635011327747591},{"$f":"(SUMPRODUCT($K60:O60,$K96:O96) + 0.5*P60*P96)*P51/1000","v":43.372617085699339},{"$f":"(SUMPRODUCT($K60:P60,$K96:P96) + 0.5*Q60*Q96)*Q51/1000","v":47.110222843651094},{"$f":"(SUMPRODUCT($K60:Q60,$K96:Q96) + 0.5*R60*R96)*R51/1000","v":51.112025722626967},{"$f":"(SUMPRODUCT($K60:R60,$K96:R96) + 0.5*S60*S96)*S51/1000","v":55.977525722626964},{"$f":"(SUMPRODUCT($K60:S60,$K96:S96) + 0.5*T60*T96)*T51/1000","v":61.517525722626971},{"$f":"(SUMPRODUCT($K60:T60,$K96:T96) + 0.5*U60*U96)*U51/1000","v":67.280025722626974},{"$f":"(SUMPRODUCT($K60:U60,$K96:U96) + 0.5*V60*V96)*V51/1000","v":73.263775722626974},{"$f":"(SUMPRODUCT($K60:V60,$K96:V96) + 0.5*W60*W96)*W51/1000","v":79.36552572262697},{"$f":"(SUMPRODUCT($K60:W60,$K96:W96) + 0.5*X60*X96)*X51/1000","v":85.541025722626969},{"$f":"(SUMPRODUCT($K60:X60,$K96:X96) + 0.5*Y60*Y96)*Y51/1000","v":91.767097151198413},{"$f":"(SUMPRODUCT($K60:Y60,$K96:Y96) + 0.5*Z60*Z96)*Z51/1000","v":98.030043579769824},{"$f":"(SUMPRODUCT($K60:Z60,$K96:Z96) + 0.5*AA60*AA96)*AA51/1000","v":104.3210852464365},{"$f":"(SUMPRODUCT($K60:AA60,$K96:AA96) + 0.5*AB60*AB96)*AB51/1000","v":110.63425191310316},{"$f":"(SUMPRODUCT($K60:AB60,$K96:AB96) + 0.5*AC60*AC96)*AC51/1000","v":116.96529736764862},{"$f":"(SUMPRODUCT($K60:AC60,$K96:AC96) + 0.5*AD60*AD96)*AD51/1000","v":123.31109282219407},{"$f":"(SUMPRODUCT($K60:AD60,$K96:AD96) + 0.5*AE60*AE96)*AE51/1000","v":129.73734282219408},"v2.1.40","v2.1.33"]
[214,null,null,null,"Wind Offshore",null,null,null,null,null,3.9622590000000004,{"$f":"(SUMPRODUCT($K61:K61,$K97:K97) + 0.5*L61*L97)*L52/1000","v":9.4722070000000009},{"$f":"(SUMPRODUCT($K61:L61,$K97:L97) + 0.5*M61*M97)*M52/1000","v":13.315970000000002},{"$f":"(SUMPRODUCT($K61:M61,$K97:M97) + 0.5*N61*N97)*N52/1000","v":17.468591},{"$f":"(SUMPRODUCT($K61:N61,$K97:N97) + 0.5*O61*O97)*O52/1000","v":21.516823000000002},{"$f":"(SUMPRODUCT($K61:O61,$K97:O97) + 0.5*P61*P97)*P52/1000","v":24.142347000000001},{"$f":"(SUMPRODUCT($K61:P61,$K97:P97) + 0.5*Q61*Q97)*Q52/1000","v":24.576186},{"$f":"(SUMPRODUCT($K61:Q61,$K97:Q97) + 0.5*R61*R97)*R52/1000","v":25.306356000000001},{"$f":"(SUMPRODUCT($K61:R61,$K97:R97) + 0.5*S61*S97)*S52/1000","v":28.133751},{"$f":"(SUMPRODUCT($K61:S61,$K97:S97) + 0.5*T61*T97)*T52/1000","v":32.192976000000002},{"$f":"(SUMPRODUCT($K61:T61,$K97:T97) + 0.5*U61*U97)*U52/1000","v":36.167976000000003},{"$f":"(SUMPRODUCT($K61:U61,$K97:U97) + 0.5*V61*V97)*V52/1000","v":40.219476},{"$f":"(SUMPRODUCT($K61:V61,$K97:V97) + 0.5*W61*W97)*W52/1000","v":44.311776000000002},{"$f":"(SUMPRODUCT($K61:W61,$K97:W97) + 0.5*X61*X97)*X52/1000","v":48.429576000000004},{"$f":"(SUMPRODUCT($K61:X61,$K97:X97) + 0.5*Y61*Y97)*Y52/1000","v":52.564861714285719},{"$f":"(SUMPRODUCT($K61:Y61,$K97:Y97) + 0.5*Z61*Z97)*Z52/1000","v":56.712897428571431},{"$f":"(SUMPRODUCT($K61:Z61,$K97:Z97) + 0.5*AA61*AA97)*AA52/1000","v":60.870647428571431},{"$f":"(SUMPRODUCT($K61:AA61,$K97:AA97) + 0.5*AB61*AB97)*AB52/1000","v":65.036047428571436},{"$f":"(SUMPRODUCT($K61:AB61,$K97:AB97) + 0.5*AC61*AC97)*AC52/1000","v":69.207629246753243},{"$f":"(SUMPRODUCT($K61:AC61,$K97:AC97) + 0.5*AD61*AD97)*AD52/1000","v":73.384311064935062},{"$f":"(SUMPRODUCT($K61:AD61,$K97:AD97) + 0.5*AE61*AE97)*AE52/1000","v":77.588811064935058},"v2.1.40","v2.1.33"]
[215,null,null,null,"Solar",null,null,null,null,null,0.63551999999999997,{"$f":"(SUMPRODUCT($K62:K62,$K98:K98) + 0.5*L62*L98)*L53/1000","v":1.9694400000000001},{"$f":"(SUMPRODUCT($K62:L62,$K98:L98) + 0.5*M62*M98)*M53/1000","v":3.4425600000000003},{"$f":"(SUMPRODUCT($K62:M62,$K98:M98) + 0.5*N62*N98)*N53/1000","v":5.5996425000000007},{"$f":"(SUMPRODUCT($K62:N62,$K98:N98) + 0.5*O62*O98)*O53/1000","v":8.8584475000000005},{"$f":"(SUMPRODUCT($K62:O62,$K98:O98) + 0.5*P62*P98)*P53/1000","v":13.051372500000001},{"$f":"(SUMPRODUCT($K62:P62,$K98:P98) + 0.5*Q62*Q98)*Q53/1000","v":17.98011},{"$f":"(SUMPRODUCT($K62:Q62,$K98:Q98) + 0.5*R62*R98)*R53/1000","v":22.777352916140931},{"$f":"(SUMPRODUCT($K62:R62,$K98:R98) + 0.5*S62*S98)*S53/1000","v":26.379215068479549},{"$f":"(SUMPRODUCT($K62:S62,$K98:S98) + 0.5*T62*T98)*T53/1000","v":29.156107085919427},{"$f":"(SUMPRODUCT($K62:T62,$K98:T98) + 0.5*U62*U98)*U53/1000","v":31.924201264057086},{"$f":"(SUMPRODUCT($K62:U62,$K98:U98) + 0.5*V62*V98)*V53/1000","v":34.688673985107187},{"$f":"(SUMPRODUCT($K62:V62,$K98:V98) + 0.5*W62*W98)*W53/1000","v":37.407837648946433},{"$f":"(SUMPRODUCT($K62:W62,$K98:W98) + 0.5*X62*X98)*X53/1000","v":40.139743343845701},{"$f":"(SUMPRODUCT($K62:X62,$K98:X98) + 0.5*Y62*Y98)*Y53/1000","v":42.88439106980497},{"$f":"(SUMPRODUCT($K62:Y62,$K98:Y98) + 0.5*Z62*Z98)*Z53/1000","v":45.641780826824252},{"$f":"(SUMPRODUCT($K62:Z62,$K98:Z98) + 0.5*AA62*AA98)*AA53/1000","v":48.411912614903549},{"$f":"(SUMPRODUCT($K62:AA62,$K98:AA98) + 0.5*AB62*AB98)*AB53/1000","v":51.194786434042854},{"$f":"(SUMPRODUCT($K62:AB62,$K98:AB98) + 0.5*AC62*AC98)*AC53/1000","v":53.99040228424218},{"$f":"(SUMPRODUCT($K62:AC62,$K98:AC98) + 0.5*AD62*AD98)*AD53/1000","v":56.798760165501513},{"$f":"(SUMPRODUCT($K62:AD62,$K98:AD98) + 0.5*AE62*AE98)*AE53/1000","v":59.631124613896169},"v2.1.40","v2.1.33"]
[216,null,null,null,"Gesamt",null,null,null,null,null,{"$f":"SUM(K228:K234)","v":10.173374596037583},{"$f":"SUM(L228:L234)","v":28.251680373015198},46.394763197349953,63.707479411438186,77.434164679107596,89.100138620398923,98.900914956561536,108.9124153237554,120.53690155278859,133.20326968523278,146.00695737199709,159.45057831526941,173.32928420133089,187.31998211845237,201.39147920949102,215.52534333158965,229.70975900855782,243.93669171658604,258.20042706173484,272.49675443794365,286.92536110856059]
[217]
[218,null,null,null,"Stromerzeugung gesamt (TWh)",null,null,null,null,null,null,null,null,null,null,null,null,null,null,null,null,null,null,null,null,null,null,null,null,null,null,"v2.1.33",null,null,null,"Stromerzeugung = Stromerzeugung Bestand (Baujahr<2015) * Dargebotsfaktor\n+ Strommenge Neuanlagen Baujahr >2014"]
[219,null,null,null,"Wasser",{"$f":"IF(ControlPanel!$D$59>F$5,F101,F74*F47+F228)","v":5.444},{"$f":"IF(ControlPanel!$D$59>G$5,G101,G74*G47+G228)","v":6.0667459999999993},{"$f":"IF(ControlPanel!$D$59>H$5,H101,H74*H47+H228)","v":5.8298559999999995},{"$f":"IF(ControlPanel!$D$59>I$5,I101,I74*I47+I228)","v":6.2952879999999993},{"$f":"IF(ControlPanel!$D$59>J$5,J101,J74*J47+J228)","v":6.154331},{"$f":"IF(ControlPanel!$D$59>K$5,K101,K74*K47+K228)","v":6.0918529999999995},{"$f":"IF(ControlPanel!$D$59>L$5,L101,L74*L47+L228)","v":6.2462140000000002},{"$f":"IF(ControlPanel!$D$59>M$5,M101,M74*M47+M228)","v":6.2808169999999999},{"$f":"IF(ControlPanel!$D$59>N$5,N101,N74*N47+N228)","v":5.9237959999999994},{"$f":"IF(ControlPanel!$D$59>O$5,O101,O74*O47+O228)","v":6.5145869999999997},{"$f":"IF(ControlPanel!$D$59>P$5,P101,P74*P47+P228)","v":6.250337},{"$f":"IF(ControlPanel!$D$59>Q$5,Q101,Q74*Q47+Q228)","v":6.378431},{"$f":"IF(ControlPanel!$D$59>R$5,R101,R74*R47+R228)","v":7.8838023643176802},{"$f":"IF(ControlPanel!$D$59>S$5,S101,S74*S47+S228)","v":7.9391023643176801},{"$f":"IF(ControlPanel!$D$59>T$5,T101,T74*T47+T228)","v":7.99447236431768},{"$f":"IF(ControlPanel!$D$59>U$5,U101,U74*U47+U228)","v":8.04984236431768},{"$f":"IF(ControlPanel!$D$59>V$5,V101,V74*V47+V228)","v":8.105142364317679},{"$f":"IF(ControlPanel!$D$59>W$5,W101,W74*W47+W228)","v":8.1604423643176798},{"$f":"IF(ControlPanel!$D$59>X$5,X101,X74*X47+X228)","v":8.2157423643176806},{"$f":"IF(ControlPanel!$D$59>Y$5,Y101,Y74*Y47+Y228)","v":8.2710423643176796},{"$f":"IF(ControlPanel!$D$59>Z$5,Z101,Z74*Z47+Z228)","v":7.787360331122005},{"$f":"IF(ControlPanel!$D$59>AA$5,AA101,AA74*AA47+AA228)","v":7.3769256923876014},{"$f":"IF(ControlPanel!$D$59>AB$5,AB101,AB74*AB47+AB228)","v":7.1112808299348238},{"$f":"IF(ControlPanel!$D$59>AC$5,AC101,AC74*AC47+AC228)","v":6.9805806223524591},{"$f":"IF(ControlPanel!$D$59>AD$5,AD101,AD74*AD47+AD228)","v":6.4352153951066313},{"$f":"IF(ControlPanel!$D$59>AE$5,AE101,AE74*AE47+AE228)","v":6.4398630325921111},"v2.1.33"]
[220,null,null,null,"Gas",{"$f":"IF(ControlPanel!$D$59>F$5,F102,F75*F48+F229)","v":1.835},{"$f":"IF(ControlPanel!$D$59>G$5,G102,G75*G48+G229)","v":1.993012},{"$f":"IF(ControlPanel!$D$59>H$5,H102,H75*H48+H229)","v":1.667049},{"$f":"IF(ControlPanel!$D$59>I$5,I102,I75*I48+I229)","v":1.9069669999999999},{"$f":"IF(ControlPanel!$D$59>J$5,J102,J75*J48+J229)","v":1.824149},{"$f":"IF(ControlPanel!$D$59>K$5,K102,K75*K48+K229)","v":1.6785699999999999},{"$f":"IF(ControlPanel!$D$59>L$5,L102,L75*L48+L229)","v":1.607626},{"$f":"IF(ControlPanel!$D$59>M$5,M102,M75*M48+M229)","v":1.3880729999999999},{"$f":"IF(ControlPanel!$D$59>N$5,N102,N75*N48+N229)","v":1.6777449999999998},{"$f":"IF(ControlPanel!$D$59>O$5,O102,O75*O48+O229)","v":1.7078559999999998},{"$f":"IF(ControlPanel!$D$59>P$5,P102,P75*P48+P229)","v":1.4397339999999998},{"$f":"IF(ControlPanel!$D$59>Q$5,Q102,Q75*Q48+Q229)","v":1.2507809999999999},{"$f":"IF(ControlPanel!$D$59>R$5,R102,R75*R48+R229)","v":1.2112554627887644},{"$f":"IF(ControlPanel!$D$59>S$5,S102,S75*S48+S229)","v":0.95201235354246327},{"$f":"IF(ControlPanel!$D$59>T$5,T102,T75*T48+T229)","v":0.6601686407972871},{"$f":"IF(ControlPanel!$D$59>U$5,U102,U75*U48+U229)","v":0.40860814375000387},{"$f":"IF(ControlPanel!$D$59>V$5,V102,V75*V48+V229)","v":0.43037381250002782},{"$f":"IF(ControlPanel!$D$59>W$5,W102,W75*W48+W229)","v":0.45769897492419531},{"$f":"IF(ControlPanel!$D$59>X$5,X102,X75*X48+X229)","v":0.50619864935810421},{"$f":"IF(ControlPanel!$D$59>Y$5,Y102,Y75*Y48+Y229)","v":0.55528787405671887},{"$f":"IF(ControlPanel!$D$59>Z$5,Z102,Z75*Z48+Z229)","v":0.5689703864487029},{"$f":"IF(ControlPanel!$D$59>AA$5,AA102,AA75*AA48+AA229)","v":0.61446505248598671},{"$f":"IF(ControlPanel!$D$59>AB$5,AB102,AB75*AB48+AB229)","v":0.63343939292512386},{"$f":"IF(ControlPanel!$D$59>AC$5,AC102,AC75*AC48+AC229)","v":0.68292429018284728},{"$f":"IF(ControlPanel!$D$59>AD$5,AD102,AD75*AD48+AD229)","v":0.73089958093090224},{"$f":"IF(ControlPanel!$D$59>AE$5,AE102,AE75*AE48+AE229)","v":0.77500150417525038},"v2.1.33"]
[221,null,null,null,"Biomasse",{"$f":"IF(ControlPanel!$D$59>F$5,F103,F76*F49+F230)","v":26.262},{"$f":"IF(ControlPanel!$D$59>G$5,G103,G76*G49+G230)","v":27.776935999999999},{"$f":"IF(ControlPanel!$D$59>H$5,H103,H76*H49+H230)","v":30.355590999999997},{"$f":"IF(ControlPanel!$D$59>I$5,I103,I76*I49+I230)","v":33.165135999999997},{"$f":"IF(ControlPanel!$D$59>J$5,J103,J76*J49+J230)","v":34.944730999999997},{"$f":"IF(ControlPanel!$D$59>K$5,K103,K76*K49+K230)","v":38.357603999999995},{"$f":"IF(ControlPanel!$D$59>L$5,L103,L76*L49+L230)","v":40.238844999999998},{"$f":"IF(ControlPanel!$D$59>M$5,M103,M76*M49+M230)","v":40.770392999999999},{"$f":"IF(ControlPanel!$D$59>N$5,N103,N76*N49+N230)","v":41.554488999999997},{"$f":"IF(ControlPanel!$D$59>O$5,O103,O76*O49+O230)","v":41.351619999999997},{"$f":"IF(ControlPanel!$D$59>P$5,P103,P76*P49+P230)","v":41.746690000000001},{"$f":"IF(ControlPanel!$D$59>Q$5,Q103,Q76*Q49+Q230)","v":40.206693999999999},{"$f":"IF(ControlPanel!$D$59>R$5,R103,R76*R49+R230)","v":43.822162825150002},{"$f":"IF(ControlPanel!$D$59>S$5,S103,S76*S49+S230)","v":43.188066283349997},{"$f":"IF(ControlPanel!$D$59>T$5,T103,T76*T49+T230)","v":42.053939731600003},{"$f":"IF(ControlPanel!$D$59>U$5,U103,U76*U49+U230)","v":39.021038052649999},{"$f":"IF(ControlPanel!$D$59>V$5,V103,V76*V49+V230)","v":35.611423760150004},{"$f":"IF(ControlPanel!$D$59>W$5,W103,W76*W49+W230)","v":31.658372381999996},{"$f":"IF(ControlPanel!$D$59>X$5,X103,X76*X49+X230)","v":28.86841248},{"$f":"IF(ControlPanel!$D$59>Y$5,Y103,Y76*Y49+Y230)","v":27.665878257999999},{"$f":"IF(ControlPanel!$D$59>Z$5,Z103,Z76*Z49+Z230)","v":25.914437418000002},{"$f":"IF(ControlPanel!$D$59>AA$5,AA103,AA76*AA49+AA230)","v":23.143539000000004},{"$f":"IF(ControlPanel!$D$59>AB$5,AB103,AB76*AB49+AB230)","v":18.023683393700004},{"$f":"IF(ControlPanel!$D$59>AC$5,AC103,AC76*AC49+AC230)","v":16.952371750200001},{"$f":"IF(ControlPanel!$D$59>AD$5,AD103,AD76*AD49+AD230)","v":16.315508084650002},{"$f":"IF(ControlPanel!$D$59>AE$5,AE103,AE76*AE49+AE230)","v":15.938237640000002},"v2.1.33"]
[222,null,null,null,"Geothermie",{"$f":"IF(ControlPanel!$D$59>F$5,F104,F77*F50+F231)","v":3.5999999999999997E-2},{"$f":"IF(ControlPanel!$D$59>G$5,G104,G77*G50+G231)","v":6.1612E-2},{"$f":"IF(ControlPanel!$D$59>H$5,H104,H77*H50+H231)","v":0.10724},{"$f":"IF(ControlPanel!$D$59>I$5,I104,I77*I50+I231)","v":7.6874999999999999E-2},{"$f":"IF(ControlPanel!$D$59>J$5,J104,J77*J50+J231)","v":0.130407},{"$f":"IF(ControlPanel!$D$59>K$5,K104,K77*K50+K231)","v":0.15870499999999998},{"$f":"IF(ControlPanel!$D$59>L$5,L104,L77*L50+L231)","v":0.18035599999999999},{"$f":"IF(ControlPanel!$D$59>M$5,M104,M77*M50+M231)","v":0.189524},{"$f":"IF(ControlPanel!$D$59>N$5,N104,N77*N50+N231)","v":0.25728000000000001},{"$f":"IF(ControlPanel!$D$59>O$5,O104,O77*O50+O231)","v":0.28638599999999997},{"$f":"IF(ControlPanel!$D$59>P$5,P104,P77*P50+P231)","v":0.214729},{"$f":"IF(ControlPanel!$D$59>Q$5,Q104,Q77*Q50+Q231)","v":0.26771400000000001},{"$f":"IF(ControlPanel!$D$59>R$5,R104,R77*R50+R231)","v":0.39306634020373421},{"$f":"IF(ControlPanel!$D$59>S$5,S104,S77*S50+S231)","v":0.50610784020373423},{"$f":"IF(ControlPanel!$D$59>T$5,T104,T77*T50+T231)","v":0.56413184020373419},{"$f":"IF(ControlPanel!$D$59>U$5,U104,U77*U50+U231)","v":0.59896784020373417},{"$f":"IF(ControlPanel!$D$59>V$5,V104,V77*V50+V231)","v":0.64534384020373414},{"$f":"IF(ControlPanel!$D$59>W$5,W104,W77*W50+W231)","v":0.70331384020373422},{"$f":"IF(ControlPanel!$D$59>X$5,X104,X77*X50+X231)","v":0.76128384020373419},{"$f":"IF(ControlPanel!$D$59>Y$5,Y104,Y77*Y50+Y231)","v":0.81925384020373426},{"$f":"IF(ControlPanel!$D$59>Z$5,Z104,Z77*Z50+Z231)","v":0.86780779747116288},{"$f":"IF(ControlPanel!$D$59>AA$5,AA104,AA77*AA50+AA231)","v":0.92577779747116296},{"$f":"IF(ControlPanel!$D$59>AB$5,AB104,AB77*AB50+AB231)","v":0.98374779747116292},{"$f":"IF(ControlPanel!$D$59>AC$5,AC104,AC77*AC50+AC231)","v":0.98161971048201424},{"$f":"IF(ControlPanel!$D$59>AD$5,AD104,AD77*AD50+AD231)","v":0.97610880852838178},{"$f":"IF(ControlPanel!$D$59>AE$5,AE104,AE77*AE50+AE231)","v":1.0173850000000002},"v2.1.33"]
[223,null,null,null,"Wind Onshore",{"$f":"IF(ControlPanel!$D$59>F$5,F105,F78*F51+F232)","v":47.704000000000001},{"$f":"IF(ControlPanel!$D$59>G$5,G105,G78*G51+G232)","v":53.882748999999997},{"$f":"IF(ControlPanel!$D$59>H$5,H105,H78*H51+H232)","v":50.125189999999996},{"$f":"IF(ControlPanel!$D$59>I$5,I105,I78*I51+I232)","v":55.830889999999997},{"$f":"IF(ControlPanel!$D$59>J$5,J105,J78*J51+J232)","v":62.190390000000001},{"$f":"IF(ControlPanel!$D$59>K$5,K105,K78*K51+K232)","v":66.872687999999997},{"$f":"IF(ControlPanel!$D$59>L$5,L105,L78*L51+L232)","v":75.948886000000002},{"$f":"IF(ControlPanel!$D$59>M$5,M105,M78*M51+M232)","v":82.001902999999999},{"$f":"IF(ControlPanel!$D$59>N$5,N105,N78*N51+N232)","v":92.724075999999997},{"$f":"IF(ControlPanel!$D$59>O$5,O105,O78*O51+O232)","v":98.799182999999999},{"$f":"IF(ControlPanel!$D$59>P$5,P105,P78*P51+P232)","v":102.08820399999999},{"$f":"IF(ControlPanel!$D$59>Q$5,Q105,Q78*Q51+Q232)","v":101.185739},{"$f":"IF(ControlPanel!$D$59>R$5,R105,R78*R51+R232)","v":101.14709862971696},{"$f":"IF(ControlPanel!$D$59>S$5,S105,S78*S51+S232)","v":101.01941617138696},{"$f":"IF(ControlPanel!$D$59>T$5,T105,T78*T51+T232)","v":102.11026625538696},{"$f":"IF(ControlPanel!$D$59>U$5,U105,U78*U51+U232)","v":104.51074312838696},{"$f":"IF(ControlPanel!$D$59>V$5,V105,V78*V51+V232)","v":107.52490391888696},{"$f":"IF(ControlPanel!$D$59>W$5,W105,W78*W51+W232)","v":109.97640911288698},{"$f":"IF(ControlPanel!$D$59>X$5,X105,X78*X51+X232)","v":113.39152408348697},{"$f":"IF(ControlPanel!$D$59>Y$5,Y105,Y78*Y51+Y232)","v":118.35405414405841},{"$f":"IF(ControlPanel!$D$59>Z$5,Z105,Z78*Z51+Z232)","v":120.19818112358982},{"$f":"IF(ControlPanel!$D$59>AA$5,AA105,AA78*AA51+AA232)","v":124.1537809432065},{"$f":"IF(ControlPanel!$D$59>AB$5,AB105,AB78*AB51+AB232)","v":127.39514615025315},{"$f":"IF(ControlPanel!$D$59>AC$5,AC105,AC78*AC51+AC232)","v":129.76281074918862},{"$f":"IF(ControlPanel!$D$59>AD$5,AD105,AD78*AD51+AD232)","v":131.14451536350407},{"$f":"IF(ControlPanel!$D$59>AE$5,AE105,AE78*AE51+AE232)","v":129.73734282219408},"v2.1.33"]
[224,null,null,null,"Wind Offshore",{"$f":"IF(ControlPanel!$D$59>F$5,F106,F79*F52+F233)","v":0.65400000000000003},{"$f":"IF(ControlPanel!$D$59>G$5,G106,G79*G52+G233)","v":1.1467909999999999},{"$f":"IF(ControlPanel!$D$59>H$5,H106,H79*H52+H233)","v":1.361415},{"$f":"IF(ControlPanel!$D$59>I$5,I106,I79*I52+I233)","v":2.4940419999999999},{"$f":"IF(ControlPanel!$D$59>J$5,J106,J79*J52+J233)","v":7.397958},{"$f":"IF(ControlPanel!$D$59>K$5,K106,K79*K52+K233)","v":11.231204},{"$f":"IF(ControlPanel!$D$59>L$5,L106,L79*L52+L233)","v":15.379543999999999},{"$f":"IF(ControlPanel!$D$59>M$5,M106,M79*M52+M233)","v":20.033355},{"$f":"IF(ControlPanel!$D$59>N$5,N106,N79*N52+N233)","v":22.564405999999998},{"$f":"IF(ControlPanel!$D$59>O$5,O106,O79*O52+O233)","v":26.466161},{"$f":"IF(ControlPanel!$D$59>P$5,P106,P79*P52+P233)","v":29.940075999999998},{"$f":"IF(ControlPanel!$D$59>Q$5,Q106,Q79*Q52+Q233)","v":29.638939999999998},{"$f":"IF(ControlPanel!$D$59>R$5,R106,R79*R52+R233)","v":28.747584},{"$f":"IF(ControlPanel!$D$59>S$5,S106,S79*S52+S233)","v":31.574978999999999},{"$f":"IF(ControlPanel!$D$59>T$5,T106,T79*T52+T233)","v":35.634204000000004},{"$f":"IF(ControlPanel!$D$59>U$5,U106,U79*U52+U233)","v":39.609204000000005},{"$f":"IF(ControlPanel!$D$59>V$5,V106,V79*V52+V233)","v":43.660704000000003},{"$f":"IF(ControlPanel!$D$59>W$5,W106,W79*W52+W233)","v":47.753004000000004},{"$f":"IF(ControlPanel!$D$59>X$5,X106,X79*X52+X233)","v":51.870804000000007},{"$f":"IF(ControlPanel!$D$59>Y$5,Y106,Y79*Y52+Y233)","v":56.006089714285721},{"$f":"IF(ControlPanel!$D$59>Z$5,Z106,Z79*Z52+Z233)","v":60.044033828571429},{"$f":"IF(ControlPanel!$D$59>AA$5,AA106,AA79*AA52+AA233)","v":64.045993828571426},{"$f":"IF(ControlPanel!$D$59>AB$5,AB106,AB79*AB52+AB233)","v":67.836459228571442},{"$f":"IF(ControlPanel!$D$59>AC$5,AC106,AC79*AC52+AC233)","v":71.731081046753246},{"$f":"IF(ControlPanel!$D$59>AD$5,AD106,AD79*AD52+AD233)","v":75.076882864935058},{"$f":"IF(ControlPanel!$D$59>AE$5,AE106,AE79*AE52+AE233)","v":77.588811064935058},"v2.1.33"]
[225,null,null,null,"Solar",{"$f":"IF(ControlPanel!$D$59>F$5,F107,F80*F53+F234)","v":8.2959999999999994},{"$f":"IF(ControlPanel!$D$59>G$5,G107,G80*G53+G234)","v":19.399286999999998},{"$f":"IF(ControlPanel!$D$59>H$5,H107,H80*H53+H234)","v":24.072319},{"$f":"IF(ControlPanel!$D$59>I$5,I107,I80*I53+I234)","v":34.673694999999995},{"$f":"IF(ControlPanel!$D$59>J$5,J107,J80*J53+J234)","v":36.594586999999997},{"$f":"IF(ControlPanel!$D$59>K$5,K107,K80*K53+K234)","v":36.096958000000001},{"$f":"IF(ControlPanel!$D$59>L$5,L107,L80*L53+L234)","v":36.82555},{"$f":"IF(ControlPanel!$D$59>M$5,M107,M80*M53+M234)","v":36.562143999999996},{"$f":"IF(ControlPanel!$D$59>N$5,N107,N80*N53+N234)","v":39.173614999999998},{"$f":"IF(ControlPanel!$D$59>O$5,O107,O80*O53+O234)","v":41.877699},{"$f":"IF(ControlPanel!$D$59>P$5,P107,P80*P53+P234)","v":43.939245999999997},{"$f":"IF(ControlPanel!$D$59>Q$5,Q107,Q80*Q53+Q234)","v":49.344335000000001},{"$f":"IF(ControlPanel!$D$59>R$5,R107,R80*R53+R234)","v":58.938046179500986},{"$f":"IF(ControlPanel!$D$59>S$5,S107,S80*S53+S234)","v":62.434095643839612},{"$f":"IF(ControlPanel!$D$59>T$5,T107,T80*T53+T234)","v":65.074238973279492},{"$f":"IF(ControlPanel!$D$59>U$5,U107,U80*U53+U234)","v":67.21254502341715},{"$f":"IF(ControlPanel!$D$59>V$5,V107,V80*V53+V234)","v":69.089399766867245},{"$f":"IF(ControlPanel!$D$59>W$5,W107,W80*W53+W234)","v":70.997752278706486},{"$f":"IF(ControlPanel!$D$59>X$5,X107,X80*X53+X234)","v":72.526056892645755},{"$f":"IF(ControlPanel!$D$59>Y$5,Y107,Y80*Y53+Y234)","v":73.37034323300503},{"$f":"IF(ControlPanel!$D$59>Z$5,Z107,Z80*Z53+Z234)","v":71.866811543624294},{"$f":"IF(ControlPanel!$D$59>AA$5,AA107,AA80*AA53+AA234)","v":67.346822045303554},{"$f":"IF(ControlPanel!$D$59>AB$5,AB107,AB80*AB53+AB234)","v":62.449321406842863},{"$f":"IF(ControlPanel!$D$59>AC$5,AC107,AC80*AC53+AC234)","v":58.676335132242166},{"$f":"IF(ControlPanel!$D$59>AD$5,AD107,AD80*AD53+AD234)","v":58.474497083901511},{"$f":"IF(ControlPanel!$D$59>AE$5,AE107,AE80*AE53+AE234)","v":59.631124613896169},"v2.1.33"]
[226,null,null,null,"Gesamt",{"$f":"SUM(F238:F244)","v":90.230999999999995},110.32713299999998,113.51865999999998,134.44289299999997,149.23655299999999,160.48758199999997,176.427021,187.22620899999998,{"$f":"SUM(N238:N244)","v":203.875407},{"$f":"SUM(O238:O244)","v":217.00349199999999},225.61901599999999,{"$f":"SUM(Q238:Q244)","v":228.27263399999998},242.1430158016781,247.61377965664042,254.09142180558518,259.41094855272553,265.06729146292565,269.70699295303905,276.14002231001223,285.04194942792731,287.24760242882746,287.60730435942628,284.43307819969857,285.76772330140136,289.15362718155654,291.12776567779269]
[227]
[228,null,null,null,"Strommenge Eigenverbrauch - Bestand [TWh]"]
[229,null,null,null,"Wasser"]
[230,null,null,null,"Gas"]
[231,null,null,null,"Biomasse"]
[232,null,null,null,"Geothermie"]
[233,null,null,null,"Wind Onshore"]
[234,null,null,null,"Wind Offshore"]
[235,null,null,null,"Solar",{"$f":"IF(F$5<ControlPanel!$D$59,'D-Eigenverbrauch EE-Bestand'!G12,'D-Eigenverbrauch EE-Bestand'!G12*F53)","v":0},{"$f":"IF(G$5<ControlPanel!$D$59,'D-Eigenverbrauch EE-Bestand'!H12,'D-Eigenverbrauch EE-Bestand'!H12*G53)","v":0},{"$f":"IF(H$5<ControlPanel!$D$59,'D-Eigenverbrauch EE-Bestand'!I12,'D-Eigenverbrauch EE-Bestand'!I12*H53)","v":0.57208800000000004},{"$f":"IF(I$5<ControlPanel!$D$59,'D-Eigenverbrauch EE-Bestand'!J12,'D-Eigenverbrauch EE-Bestand'!J12*I53)","v":2.3374609999999998},{"$f":"IF(J$5<ControlPanel!$D$59,'D-Eigenverbrauch EE-Bestand'!K12,'D-Eigenverbrauch EE-Bestand'!K12*J53)","v":2.7879685354829888},{"$f":"IF(K$5<ControlPanel!$D$59,'D-Eigenverbrauch EE-Bestand'!L12,'D-Eigenverbrauch EE-Bestand'!L12*K53)","v":2.0086940000000002},{"$f":"IF(L$5<ControlPanel!$D$59,'D-Eigenverbrauch EE-Bestand'!M12,'D-Eigenverbrauch EE-Bestand'!M12*L53)","v":2.2527089999999999},{"$f":"IF(M$5<ControlPanel!$D$59,'D-Eigenverbrauch EE-Bestand'!N12,'D-Eigenverbrauch EE-Bestand'!N12*M53)","v":1.6616164800000002},{"$f":"IF(N$5<ControlPanel!$D$59,'D-Eigenverbrauch EE-Bestand'!O12,'D-Eigenverbrauch EE-Bestand'!O12*N53)","v":1.800618148392207},{"$f":"IF(O$5<ControlPanel!$D$59,'D-Eigenverbrauch EE-Bestand'!P12,'D-Eigenverbrauch EE-Bestand'!P12*O53)","v":2.0329390000000003},{"$f":"IF(P$5<ControlPanel!$D$59,'D-Eigenverbrauch EE-Bestand'!Q12,'D-Eigenverbrauch EE-Bestand'!Q12*P53)","v":2.4753820000000002},{"$f":"IF(Q$5<ControlPanel!$D$59,'D-Eigenverbrauch EE-Bestand'!R12,'D-Eigenverbrauch EE-Bestand'!R12*Q53)","v":3.1455769999999998},{"$f":"IF(R$5<ControlPanel!$D$59,'D-Eigenverbrauch EE-Bestand'!S12,'D-Eigenverbrauch EE-Bestand'!S12*R53)","v":3.1770327699999998},{"$f":"IF(S$5<ControlPanel!$D$59,'D-Eigenverbrauch EE-Bestand'!T12,'D-Eigenverbrauch EE-Bestand'!T12*S53)","v":2.0868880918641164},{"$f":"IF(T$5<ControlPanel!$D$59,'D-Eigenverbrauch EE-Bestand'!U12,'D-Eigenverbrauch EE-Bestand'!U12*T53)","v":2.0500092058269064},{"$f":"IF(U$5<ControlPanel!$D$59,'D-Eigenverbrauch EE-Bestand'!V12,'D-Eigenverbrauch EE-Bestand'!V12*U53)","v":1.9976632048994638},{"$f":"IF(V$5<ControlPanel!$D$59,'D-Eigenverbrauch EE-Bestand'!W12,'D-Eigenverbrauch EE-Bestand'!W12*V53)","v":1.9512618602287659},{"$f":"IF(W$5<ControlPanel!$D$59,'D-Eigenverbrauch EE-Bestand'!X12,'D-Eigenverbrauch EE-Bestand'!X12*W53)","v":1.8813020629850441},{"$f":"IF(X$5<ControlPanel!$D$59,'D-Eigenverbrauch EE-Bestand'!Y12,'D-Eigenverbrauch EE-Bestand'!Y12*X53)","v":1.7739679916827171},{"$f":"IF(Y$5<ControlPanel!$D$59,'D-Eigenverbrauch EE-Bestand'!Z12,'D-Eigenverbrauch EE-Bestand'!Z12*Y53)","v":1.5292463091134123},{"$f":"IF(Z$5<ControlPanel!$D$59,'D-Eigenverbrauch EE-Bestand'!AA12,'D-Eigenverbrauch EE-Bestand'!AA12*Z53)","v":1.1231382177961986},{"$f":"IF(AA$5<ControlPanel!$D$59,'D-Eigenverbrauch EE-Bestand'!AB12,'D-Eigenverbrauch EE-Bestand'!AB12*AA53)","v":0.71114051333572914},{"$f":"IF(AB$5<ControlPanel!$D$59,'D-Eigenverbrauch EE-Bestand'!AC12,'D-Eigenverbrauch EE-Bestand'!AC12*AB53)","v":0.29259267837014319},{"$f":"IF(AC$5<ControlPanel!$D$59,'D-Eigenverbrauch EE-Bestand'!AD12,'D-Eigenverbrauch EE-Bestand'!AD12*AC53)","v":0.11073023140455976},{"$f":"IF(AD$5<ControlPanel!$D$59,'D-Eigenverbrauch EE-Bestand'!AE12,'D-Eigenverbrauch EE-Bestand'!AE12*AD53)","v":5.5428415282797027E-3},{"$f":"IF(AE$5<ControlPanel!$D$59,'D-Eigenverbrauch EE-Bestand'!AF12,'D-Eigenverbrauch EE-Bestand'!AF12*AE53)","v":5.5428415282797027E-3},null,null,null,null,"Strommenge Eigenverbrauch Bestand = für historische Jahre: historischer Eigenverbrauch; für Szenariojahre: historischer Eigenverbrauch * Dargebotsfaktor"]
[236,null,null,null,"Gesamt",{"$f":"SUM(F248:F254)","v":0},0,0.57208800000000004,2.3374609999999998,2.7879685354829888,2.0086940000000002,2.2527089999999999,1.6616164800000002,{"$f":"SUM(N248:N254)","v":1.800618148392207},{"$f":"SUM(O248:O254)","v":2.0329390000000003},2.4753820000000002,{"$f":"SUM(Q248:Q254)","v":3.1455769999999998},3.1770327699999998,2.0868880918641164,2.0500092058269064,1.9976632048994638,1.9512618602287659,1.8813020629850441,1.7739679916827171,1.5292463091134123,1.1231382177961986,0.71114051333572914,0.29259267837014319,0.11073023140455976,5.5428415282797027E-3,5.5428415282797027E-3]
[237]
[238,null,null,null,"Strommenge Eigenverbrauch - Neuanlagen [TWh]",null,null,null,null,null,null,null,null,null,null,null,null,null,null,null,null,null,null,null,null,null,null,null,null,null,null,null,null,null,null,"ab 2015: Strommenge Eigenverbrauch = \nStromerzeugung Neuanlagen  * Anteil Eigenverbrauch im aktuellen Jahr "]
[239,null,null,null,"Wasser"]
[240,null,null,null,"Gas"]
[241,null,null,null,"Biomasse"]
[242,null,null,null,"Geothermie"]
[243,null,null,null,"Wind Onshore"]
[244,null,null,null,"Wind Offshore"]
[245,null,null,null,"Solar",{"$f":"F234*F137","v":0},0,0,0,0,0.12726287999999999,0.51205440000000002,0.42343488000000001,0.68875602750000009,0.76433080539750753,0.76953737675769363,1.2116090443875449,2.0499617624526838,2.3741293561631593,2.6240496377327482,2.8731781137651375,3.1219806586596466,3.3667053884051787,3.6125769009461131,3.8595951962824473,4.1077602744141828,4.3570721353413191,4.6075307790638567,4.8591362055817964,5.1118884148951356,5.3668012152506552,"v2.1.33"]
[246,null,null,null,"Gesamt",{"$f":"SUM(F258:F264)","v":0},0,0,0,0,0.12726287999999999,0.51205440000000002,0.42343488000000001,0.68875602750000009,{"$f":"SUM(O258:O264)","v":0.76433080539750753},0.76953737675769363,{"$f":"SUM(Q258:Q264)","v":1.2116090443875449},2.0499617624526838,2.3741293561631593,2.6240496377327482,2.8731781137651375,3.1219806586596466,3.3667053884051787,3.6125769009461131,3.8595951962824473,4.1077602744141828,4.3570721353413191,4.6075307790638567,4.8591362055817964,5.1118884148951356,5.3668012152506552]
[247]
[248,null,null,null,"Vergütungssätze für Neuanlagen (nominal) [Euro/kWh]",null,null,null,null,null,null,null,null,null,null,null,null,null,null,null,null,null,null,null,null,null,null,null,null,null,null,"v2.1.11","v2.1.11",null,null," = Vergütungssatz für Neuanlagen (real) * Umrechnungsfaktor real zu nominal (2015)"]
[249,null,null,null,"Wasser",null,null,null,null,null,{"$f":"K149*K$26","v":105.78611266778887},110.06515914006025,112.18483028903876,111.62390613759356,111.06578660690562,110.5104576738711,109.95790538550175,109.40811585857423,108.86107527928138,108.31676990288497,107.77518605337055,107.23631012310368,106.70012857248815,106.1666279296257,105.63579478997758,105.10761581602769,104.58207773694754,104.0591673482628,103.53887151152149,103.02117715396389,102.50607126819408,"v2.1.11","v2.1.11"]
[250,null,null,null,"Gas",null,null,null,null,null,{"$f":"K150*K$26","v":74.053373398913379},76.274470991658276,62.89606692158474,61.952625917760976,61.023336528994562,60.10798648105964,59.206366683843747,58.318271183586091,57.443497115832301,56.581844659094813,55.733116989208384,54.897120234370256,54.073663430854701,53.262558479391878,52.463620102200984,51.676665800667969,50.901515813657952,50.137993076453078,49.385923180306285,48.645134332601693,47.91545731761267,"v2.1.11","v2.1.11"]
[251,null,null,null,"Biomasse",null,null,null,null,null,{"$f":"K151*K$26","v":159.82713554955191},165.45650158853655,144.87966909118961,143.43941479211696,142.00416006960614,136.94331157335571,142.45904886967196,139.97832401831064,136.76104575141815,134.50154922982338,137.48900103658102,136.0937828345692,134.70956522625471,133.3362382979858,131.97369323432682,130.62182230708504,129.28051886444737,127.94967732022567,126.62919314320925,125.31896284662398,127.11938525780033,"v2.1.11","v2.1.11"]
[252,null,null,null,"Geothermie",null,null,null,null,null,{"$f":"K152*K$26","v":227.05875124581647},231.49466538144813,237.4304260322545,237.43042603225453,237.43042603225453,237.43042603225456,225.55890473064181,214.28095949410974,203.56691151940424,193.388565943434,183.71913764626231,174.53318076394919,165.80652172575171,157.51619563946412,149.64038585749088,142.15836656461633,135.05044823638553,128.29792582456622,121.88302953333792,115.78887805667102,109.99943415383747,"v2.1.11","v2.1.11"]
[253,null,null,null,"Wind Onshore",null,null,null,null,null,{"$f":"K153*K$26","v":80.191384368562183},81.944105463943018,75.987158172624319,71.252682415433526,60.329940633719531,59.291653611943559,58.253366590167602,57.21507956839163,56.176792546615651,55.138505524839694,54.100218503063715,53.061931481287743,52.023644459511779,50.9853574377358,49.947070415959828,48.90878339418385,47.870496372407878,46.832209350631913,45.793922328855942,44.755635307079984,43.717348285304013,"v2.1.11","v2.1.11"]
[254,null,null,null,"Wind Offshore",null,null,null,null,null,{"$f":"K154*K$26","v":174.79919738765233},177.97860110116221,182.7837406756245,140.3854503127219,140.38545031272193,135.67452916128832,70,65.974999999999994,63.53054166666665,60.997905208333307,58.374995284374968,58.173336209756215,57.952492988959904,57.711935470892513,57.451121916360592,57.169498769711758,56.866500426232278,56.541548995225227,56.194054058692075,55.823412425538997,55.429007881228117,"v2.1.11","v2.1.11"]
[255,null,null,null,"Solar",null,null,null,null,null,{"$f":"K155*K$26","v":98.796103302087559},102.53349487909162,95.498677806603624,104.28284700597219,103.80016184729597,87.801477832512333,84.825000000000003,79.533919791666662,76.452138729166634,73.99032830791144,71.509103882471692,69.160286444371977,66.856902648740785,64.659749599809786,62.477250214602186,60.417393277317025,58.464468430556472,56.442895771717929,54.407501605985658,52.528819798728819,50.670119615692009,"v2.1.11","v2.1.11"]
[256,null,null,null,null,null,null,null,null,null,null,null,null,null,null,null,null,null,null,null,null,null,null,null,null,null,null,null,null,null,null,"v2.1.11","v2.1.11"]
[257,null,null,null,"Mittlerer Vergütungssatz für ab 2015 gebaute Anlagen (nominal) [Euro/MWh] (zur Kontrolle)",null,null,null,null,null,null,null,null,null,null,null,null,null,null,null,null,null,null,null,null,null,null,null,null,null,null,"v2.1.29",null,null,null,"Mittlerer Vergütungssatz =\nSumme(t)2015->aktuelles Vorjahr (Zubau brutto (t) * Vergütungssatz Neuanlagen nominal (t)) + Zubau brutto (aktuelles Jahr)/2 *Vergütungsssatz Neuanlagen nominal  (aktuelles Jahr))\n/ (Summe(t)2015->aktuelles Vorjahr (Zubau brutto (t)) + Zubau brutto (aktuelles Jahr)/2)"]
[258,null,null,null,"Wasser",null,null,null,null,null,{"$f":"K268","v":105.78611266778887},{"$f":"IF((SUM($K56:K56)+L56/2)>0,(SUMPRODUCT($K56:K56,$K268:K268)+(L56/2)*L268) / (SUM($K56:K56)+L56/2),K277)","v":105.93955951720531},{"$f":"IF((SUM($K56:L56)+M56/2)>0,(SUMPRODUCT($K56:L56,$K268:L268)+(M56/2)*M268) / (SUM($K56:L56)+M56/2),L277)","v":106.13466250940841},{"$f":"IF((SUM($K56:M56)+N56/2)>0,(SUMPRODUCT($K56:M56,$K268:M268)+(N56/2)*N268) / (SUM($K56:M56)+N56/2),M277)","v":106.31140530116524},{"$f":"IF((SUM($K56:N56)+O56/2)>0,(SUMPRODUCT($K56:N56,$K268:N268)+(O56/2)*O268) / (SUM($K56:N56)+O56/2),N277)","v":106.54651291754377},{"$f":"IF((SUM($K56:O56)+P56/2)>0,(SUMPRODUCT($K56:O56,$K268:O268)+(P56/2)*P268) / (SUM($K56:O56)+P56/2),O277)","v":106.72661092690743},{"$f":"IF((SUM($K56:P56)+Q56/2)>0,(SUMPRODUCT($K56:P56,$K268:P268)+(Q56/2)*Q268) / (SUM($K56:P56)+Q56/2),P277)","v":106.85426530663956},{"$f":"IF((SUM($K56:Q56)+R56/2)>0,(SUMPRODUCT($K56:Q56,$K268:Q268)+(R56/2)*R268) / (SUM($K56:Q56)+R56/2),Q277)","v":106.95743464697047},{"$f":"IF((SUM($K56:R56)+S56/2)>0,(SUMPRODUCT($K56:R56,$K268:R268)+(S56/2)*S268) / (SUM($K56:R56)+S56/2),R277)","v":107.03404542268785},{"$f":"IF((SUM($K56:S56)+T56/2)>0,(SUMPRODUCT($K56:S56,$K268:S268)+(T56/2)*T268) / (SUM($K56:S56)+T56/2),S277)","v":107.08689919937648},{"$f":"IF((SUM($K56:T56)+U56/2)>0,(SUMPRODUCT($K56:T56,$K268:T268)+(U56/2)*U268) / (SUM($K56:T56)+U56/2),T277)","v":107.11842868865695},{"$f":"IF((SUM($K56:U56)+V56/2)>0,(SUMPRODUCT($K56:U56,$K268:U268)+(V56/2)*V268) / (SUM($K56:U56)+V56/2),U277)","v":107.1307564505496},{"$f":"IF((SUM($K56:V56)+W56/2)>0,(SUMPRODUCT($K56:V56,$K268:V268)+(W56/2)*W268) / (SUM($K56:V56)+W56/2),V277)","v":107.12574273121255},{"$f":"IF((SUM($K56:W56)+X56/2)>0,(SUMPRODUCT($K56:W56,$K268:W268)+(X56/2)*X268) / (SUM($K56:W56)+X56/2),W277)","v":107.10502471181331},{"$f":"IF((SUM($K56:X56)+Y56/2)>0,(SUMPRODUCT($K56:X56,$K268:X268)+(Y56/2)*Y268) / (SUM($K56:X56)+Y56/2),X277)","v":107.07004891533029},{"$f":"IF((SUM($K56:Y56)+Z56/2)>0,(SUMPRODUCT($K56:Y56,$K268:Y268)+(Z56/2)*Z268) / (SUM($K56:Y56)+Z56/2),Y277)","v":107.02209812353072},{"$f":"IF((SUM($K56:Z56)+AA56/2)>0,(SUMPRODUCT($K56:Z56,$K268:Z268)+(AA56/2)*AA268) / (SUM($K56:Z56)+AA56/2),Z277)","v":106.96231385932499},{"$f":"IF((SUM($K56:AA56)+AB56/2)>0,(SUMPRODUCT($K56:AA56,$K268:AA268)+(AB56/2)*AB268) / (SUM($K56:AA56)+AB56/2),AA277)","v":106.89171526409716},{"$f":"IF((SUM($K56:AB56)+AC56/2)>0,(SUMPRODUCT($K56:AB56,$K268:AB268)+(AC56/2)*AC268) / (SUM($K56:AB56)+AC56/2),AB277)","v":106.81121502686216},{"$f":"IF((SUM($K56:AC56)+AD56/2)>0,(SUMPRODUCT($K56:AC56,$K268:AC268)+(AD56/2)*AD268) / (SUM($K56:AC56)+AD56/2),AC277)","v":106.72163288879099},{"$f":"IF((SUM($K56:AD56)+AE56/2)>0,(SUMPRODUCT($K56:AD56,$K268:AD268)+(AE56/2)*AE268) / (SUM($K56:AD56)+AE56/2),AD277)","v":106.62370714302165},"v2.1.37",null,null,null,"Sonderfall: 2015: Mittlerer Vergütungssatz = Vergütungssatz für Neuanlagen 2015"]
[259,null,null,null,"Gas",null,null,null,null,null,{"$f":"K269","v":74.053373398913379},{"$f":"IF((SUM($K57:K57)+L57/2)>0,(SUMPRODUCT($K57:K57,$K269:K269)+(L57/2)*L269) / (SUM($K57:K57)+L57/2),K278)","v":74.148210327743783},{"$f":"IF((SUM($K57:L57)+M57/2)>0,(SUMPRODUCT($K57:L57,$K269:L269)+(M57/2)*M269) / (SUM($K57:L57)+M57/2),L278)","v":74.045234982300101},{"$f":"IF((SUM($K57:M57)+N57/2)>0,(SUMPRODUCT($K57:M57,$K269:M269)+(N57/2)*N269) / (SUM($K57:M57)+N57/2),M278)","v":73.206716123574409},{"$f":"IF((SUM($K57:N57)+O57/2)>0,(SUMPRODUCT($K57:N57,$K269:N269)+(O57/2)*O269) / (SUM($K57:N57)+O57/2),N278)","v":72.422205482382935},{"$f":"IF((SUM($K57:O57)+P57/2)>0,(SUMPRODUCT($K57:O57,$K269:O269)+(P57/2)*P269) / (SUM($K57:O57)+P57/2),O278)","v":72.030680733271026},{"$f":"IF((SUM($K57:P57)+Q57/2)>0,(SUMPRODUCT($K57:P57,$K269:P269)+(Q57/2)*Q269) / (SUM($K57:P57)+Q57/2),P278)","v":71.635146284822369},{"$f":"IF((SUM($K57:Q57)+R57/2)>0,(SUMPRODUCT($K57:Q57,$K269:Q269)+(R57/2)*R269) / (SUM($K57:Q57)+R57/2),Q278)","v":71.236396870235509},{"$f":"IF((SUM($K57:R57)+S57/2)>0,(SUMPRODUCT($K57:R57,$K269:R269)+(S57/2)*S269) / (SUM($K57:R57)+S57/2),R278)","v":70.83512556895478},{"$f":"IF((SUM($K57:S57)+T57/2)>0,(SUMPRODUCT($K57:S57,$K269:S269)+(T57/2)*T269) / (SUM($K57:S57)+T57/2),S278)","v":70.431938721785897},{"$f":"IF((SUM($K57:T57)+U57/2)>0,(SUMPRODUCT($K57:T57,$K269:T269)+(U57/2)*U269) / (SUM($K57:T57)+U57/2),T278)","v":69.260571037780053},{"$f":"IF((SUM($K57:U57)+V57/2)>0,(SUMPRODUCT($K57:U57,$K269:U269)+(V57/2)*V269) / (SUM($K57:U57)+V57/2),U278)","v":67.611509662523943},{"$f":"IF((SUM($K57:V57)+W57/2)>0,(SUMPRODUCT($K57:V57,$K269:V269)+(W57/2)*W269) / (SUM($K57:V57)+W57/2),V278)","v":66.223471907949218},{"$f":"IF((SUM($K57:W57)+X57/2)>0,(SUMPRODUCT($K57:W57,$K269:W269)+(X57/2)*X269) / (SUM($K57:W57)+X57/2),W278)","v":65.022760304480983},{"$f":"IF((SUM($K57:X57)+Y57/2)>0,(SUMPRODUCT($K57:X57,$K269:X269)+(Y57/2)*Y269) / (SUM($K57:X57)+Y57/2),X278)","v":63.961392096314107},{"$f":"IF((SUM($K57:Y57)+Z57/2)>0,(SUMPRODUCT($K57:Y57,$K269:Y269)+(Z57/2)*Z269) / (SUM($K57:Y57)+Z57/2),Y278)","v":63.00677774369143},{"$f":"IF((SUM($K57:Z57)+AA57/2)>0,(SUMPRODUCT($K57:Z57,$K269:Z269)+(AA57/2)*AA269) / (SUM($K57:Z57)+AA57/2),Z278)","v":62.136001549368316},{"$f":"IF((SUM($K57:AA57)+AB57/2)>0,(SUMPRODUCT($K57:AA57,$K269:AA269)+(AB57/2)*AB269) / (SUM($K57:AA57)+AB57/2),AA278)","v":61.332476024396129},{"$f":"IF((SUM($K57:AB57)+AC57/2)>0,(SUMPRODUCT($K57:AB57,$K269:AB269)+(AC57/2)*AC269) / (SUM($K57:AB57)+AC57/2),AB278)","v":60.583894971899682},{"$f":"IF((SUM($K57:AC57)+AD57/2)>0,(SUMPRODUCT($K57:AC57,$K269:AC269)+(AD57/2)*AD269) / (SUM($K57:AC57)+AD57/2),AC278)","v":59.880932864572181},{"$f":"IF((SUM($K57:AD57)+AE57/2)>0,(SUMPRODUCT($K57:AD57,$K269:AD269)+(AE57/2)*AE269) / (SUM($K57:AD57)+AE57/2),AD278)","v":59.216391256271308},"v2.1.37",null,null,null,"Sonderfall: \n   Wenn:  Summe(t)2015->aktuelles Vorjahr (Zubau brutto (t)) + Zubau brutto (aktuelles Jahr)/2) = 0, \n   dann:    verwende mittleren Vergütungssatz aus dem Vorjahr \n  (um Division durch Null zu vermeiden)"]
[260,null,null,null,"Biomasse",null,null,null,null,null,159.82713554955191,{"$f":"IF((SUM($K58:K58)+L58/2)>0,(SUMPRODUCT($K58:K58,$K270:K270)+(L58/2)*L270) / (SUM($K58:K58)+L58/2),K279)","v":161.6514548224493},{"$f":"IF((SUM($K58:L58)+M58/2)>0,(SUMPRODUCT($K58:L58,$K270:L270)+(M58/2)*M270) / (SUM($K58:L58)+M58/2),L279)","v":158.15270579978238},{"$f":"IF((SUM($K58:M58)+N58/2)>0,(SUMPRODUCT($K58:M58,$K270:M270)+(N58/2)*N270) / (SUM($K58:M58)+N58/2),M279)","v":152.86662928838851},{"$f":"IF((SUM($K58:N58)+O58/2)>0,(SUMPRODUCT($K58:N58,$K270:N270)+(O58/2)*O270) / (SUM($K58:N58)+O58/2),N279)","v":150.05724835914904},{"$f":"IF((SUM($K58:O58)+P58/2)>0,(SUMPRODUCT($K58:O58,$K270:O270)+(P58/2)*P270) / (SUM($K58:O58)+P58/2),O279)","v":148.51304778171078},{"$f":"IF((SUM($K58:P58)+Q58/2)>0,(SUMPRODUCT($K58:P58,$K270:P270)+(Q58/2)*Q270) / (SUM($K58:P58)+Q58/2),P279)","v":147.72327838200908},{"$f":"IF((SUM($K58:Q58)+R58/2)>0,(SUMPRODUCT($K58:Q58,$K270:Q270)+(R58/2)*R270) / (SUM($K58:Q58)+R58/2),Q279)","v":147.47073748895215},{"$f":"IF((SUM($K58:R58)+S58/2)>0,(SUMPRODUCT($K58:R58,$K270:R270)+(S58/2)*S270) / (SUM($K58:R58)+S58/2),R279)","v":147.28530739076254},{"$f":"IF((SUM($K58:S58)+T58/2)>0,(SUMPRODUCT($K58:S58,$K270:S270)+(T58/2)*T270) / (SUM($K58:S58)+T58/2),S279)","v":147.03304321198388},{"$f":"IF((SUM($K58:T58)+U58/2)>0,(SUMPRODUCT($K58:T58,$K270:T270)+(U58/2)*U270) / (SUM($K58:T58)+U58/2),T279)","v":146.78701281769406},{"$f":"IF((SUM($K58:U58)+V58/2)>0,(SUMPRODUCT($K58:U58,$K270:U270)+(V58/2)*V270) / (SUM($K58:U58)+V58/2),U279)","v":146.17539963832965},{"$f":"IF((SUM($K58:V58)+W58/2)>0,(SUMPRODUCT($K58:V58,$K270:V270)+(W58/2)*W270) / (SUM($K58:V58)+W58/2),V279)","v":145.23463533912587},{"$f":"IF((SUM($K58:W58)+X58/2)>0,(SUMPRODUCT($K58:W58,$K270:W270)+(X58/2)*X270) / (SUM($K58:W58)+X58/2),W279)","v":144.33424626840596},{"$f":"IF((SUM($K58:X58)+Y58/2)>0,(SUMPRODUCT($K58:X58,$K270:X270)+(Y58/2)*Y270) / (SUM($K58:X58)+Y58/2),X279)","v":143.46603374910219},{"$f":"IF((SUM($K58:Y58)+Z58/2)>0,(SUMPRODUCT($K58:Y58,$K270:Y270)+(Z58/2)*Z270) / (SUM($K58:Y58)+Z58/2),Y279)","v":142.62406081278422},{"$f":"IF((SUM($K58:Z58)+AA58/2)>0,(SUMPRODUCT($K58:Z58,$K270:Z270)+(AA58/2)*AA270) / (SUM($K58:Z58)+AA58/2),Z279)","v":141.80392042453923},{"$f":"IF((SUM($K58:AA58)+AB58/2)>0,(SUMPRODUCT($K58:AA58,$K270:AA270)+(AB58/2)*AB270) / (SUM($K58:AA58)+AB58/2),AA279)","v":141.00227058200559},{"$f":"IF((SUM($K58:AB58)+AC58/2)>0,(SUMPRODUCT($K58:AB58,$K270:AB270)+(AC58/2)*AC270) / (SUM($K58:AB58)+AC58/2),AB279)","v":140.21652924590552},{"$f":"IF((SUM($K58:AC58)+AD58/2)>0,(SUMPRODUCT($K58:AC58,$K270:AC270)+(AD58/2)*AD270) / (SUM($K58:AC58)+AD58/2),AC279)","v":139.44466846830252},{"$f":"IF((SUM($K58:AD58)+AE58/2)>0,(SUMPRODUCT($K58:AD58,$K270:AD270)+(AE58/2)*AE270) / (SUM($K58:AD58)+AE58/2),AD279)","v":138.76476782518634},"v2.1.37"]
[261,null,null,null,"Geothermie",null,null,null,null,null,227.05875124581647,{"$f":"IF((SUM($K59:K59)+L59/2)>0,(SUMPRODUCT($K59:K59,$K271:K271)+(L59/2)*L271) / (SUM($K59:K59)+L59/2),K280)","v":231.49466538144816},{"$f":"IF((SUM($K59:L59)+M59/2)>0,(SUMPRODUCT($K59:L59,$K271:L271)+(M59/2)*M271) / (SUM($K59:L59)+M59/2),L280)","v":232.48395882324922},{"$f":"IF((SUM($K59:M59)+N59/2)>0,(SUMPRODUCT($K59:M59,$K271:M271)+(N59/2)*N271) / (SUM($K59:M59)+N59/2),M280)","v":234.30634147919855},{"$f":"IF((SUM($K59:N59)+O59/2)>0,(SUMPRODUCT($K59:N59,$K271:N271)+(O59/2)*O271) / (SUM($K59:N59)+O59/2),N280)","v":235.31051151410938},{"$f":"IF((SUM($K59:O59)+P59/2)>0,(SUMPRODUCT($K59:O59,$K271:O271)+(P59/2)*P271) / (SUM($K59:O59)+P59/2),O280)","v":235.82616639690141},{"$f":"IF((SUM($K59:P59)+Q59/2)>0,(SUMPRODUCT($K59:P59,$K271:P271)+(Q59/2)*Q271) / (SUM($K59:P59)+Q59/2),P280)","v":234.17157704749803},{"$f":"IF((SUM($K59:Q59)+R59/2)>0,(SUMPRODUCT($K59:Q59,$K271:Q271)+(R59/2)*R271) / (SUM($K59:Q59)+R59/2),Q280)","v":227.40946540412847},{"$f":"IF((SUM($K59:R59)+S59/2)>0,(SUMPRODUCT($K59:R59,$K271:R271)+(S59/2)*S271) / (SUM($K59:R59)+S59/2),R280)","v":222.07068796754297},{"$f":"IF((SUM($K59:S59)+T59/2)>0,(SUMPRODUCT($K59:S59,$K271:S271)+(T59/2)*T271) / (SUM($K59:S59)+T59/2),S280)","v":219.07662128408049},{"$f":"IF((SUM($K59:T59)+U59/2)>0,(SUMPRODUCT($K59:T59,$K271:T271)+(U59/2)*U271) / (SUM($K59:T59)+U59/2),T280)","v":216.72871593875485},{"$f":"IF((SUM($K59:U59)+V59/2)>0,(SUMPRODUCT($K59:U59,$K271:U271)+(V59/2)*V271) / (SUM($K59:U59)+V59/2),U280)","v":213.12399023234201},{"$f":"IF((SUM($K59:V59)+W59/2)>0,(SUMPRODUCT($K59:V59,$K271:V271)+(W59/2)*W271) / (SUM($K59:V59)+W59/2),V280)","v":208.64960075447829},{"$f":"IF((SUM($K59:W59)+X59/2)>0,(SUMPRODUCT($K59:W59,$K271:W271)+(X59/2)*X271) / (SUM($K59:W59)+X59/2),W280)","v":204.21674772883011},{"$f":"IF((SUM($K59:X59)+Y59/2)>0,(SUMPRODUCT($K59:X59,$K271:X271)+(Y59/2)*Y271) / (SUM($K59:X59)+Y59/2),X280)","v":199.85136350638595},{"$f":"IF((SUM($K59:Y59)+Z59/2)>0,(SUMPRODUCT($K59:Y59,$K271:Y271)+(Z59/2)*Z271) / (SUM($K59:Y59)+Z59/2),Y280)","v":195.56945975278813},{"$f":"IF((SUM($K59:Z59)+AA59/2)>0,(SUMPRODUCT($K59:Z59,$K271:Z271)+(AA59/2)*AA271) / (SUM($K59:Z59)+AA59/2),Z280)","v":191.38085296217878},{"$f":"IF((SUM($K59:AA59)+AB59/2)>0,(SUMPRODUCT($K59:AA59,$K271:AA271)+(AB59/2)*AB271) / (SUM($K59:AA59)+AB59/2),AA280)","v":187.29135529562379},{"$f":"IF((SUM($K59:AB59)+AC59/2)>0,(SUMPRODUCT($K59:AB59,$K271:AB271)+(AC59/2)*AC271) / (SUM($K59:AB59)+AC59/2),AB280)","v":183.30411955096534},{"$f":"IF((SUM($K59:AC59)+AD59/2)>0,(SUMPRODUCT($K59:AC59,$K271:AC271)+(AD59/2)*AD271) / (SUM($K59:AC59)+AD59/2),AC280)","v":179.42049510783517},{"$f":"IF((SUM($K59:AD59)+AE59/2)>0,(SUMPRODUCT($K59:AD59,$K271:AD271)+(AE59/2)*AE271) / (SUM($K59:AD59)+AE59/2),AD280)","v":175.64058948268854},"v2.1.37"]
[262,null,null,null,"Wind Onshore",null,null,null,null,null,80.191384368562183,{"$f":"IF((SUM($K60:K60)+L60/2)>0,(SUMPRODUCT($K60:K60,$K272:K272)+(L60/2)*L272) / (SUM($K60:K60)+L60/2),K281)","v":80.839609738309363},{"$f":"IF((SUM($K60:L60)+M60/2)>0,(SUMPRODUCT($K60:L60,$K272:L272)+(M60/2)*M272) / (SUM($K60:L60)+M60/2),L281)","v":79.847801332213493},{"$f":"IF((SUM($K60:M60)+N60/2)>0,(SUMPRODUCT($K60:M60,$K272:M272)+(N60/2)*N272) / (SUM($K60:M60)+N60/2),M281)","v":78.445289690156713},{"$f":"IF((SUM($K60:N60)+O60/2)>0,(SUMPRODUCT($K60:N60,$K272:N272)+(O60/2)*O272) / (SUM($K60:N60)+O60/2),N281)","v":77.128992962951784},{"$f":"IF((SUM($K60:O60)+P60/2)>0,(SUMPRODUCT($K60:O60,$K272:O272)+(P60/2)*P272) / (SUM($K60:O60)+P60/2),O281)","v":75.716224218774059},{"$f":"IF((SUM($K60:P60)+Q60/2)>0,(SUMPRODUCT($K60:P60,$K272:P272)+(Q60/2)*Q272) / (SUM($K60:P60)+Q60/2),P281)","v":74.438257480432029},{"$f":"IF((SUM($K60:Q60)+R60/2)>0,(SUMPRODUCT($K60:Q60,$K272:Q272)+(R60/2)*R272) / (SUM($K60:Q60)+R60/2),Q281)","v":73.081269014213291},{"$f":"IF((SUM($K60:R60)+S60/2)>0,(SUMPRODUCT($K60:R60,$K272:R272)+(S60/2)*S272) / (SUM($K60:R60)+S60/2),R281)","v":71.532476727972991},{"$f":"IF((SUM($K60:S60)+T60/2)>0,(SUMPRODUCT($K60:S60,$K272:S272)+(T60/2)*T272) / (SUM($K60:S60)+T60/2),S281)","v":70.028466866995089},{"$f":"IF((SUM($K60:T60)+U60/2)>0,(SUMPRODUCT($K60:T60,$K272:T272)+(U60/2)*U272) / (SUM($K60:T60)+U60/2),T281)","v":68.694922803599368},{"$f":"IF((SUM($K60:U60)+V60/2)>0,(SUMPRODUCT($K60:U60,$K272:U272)+(V60/2)*V272) / (SUM($K60:U60)+V60/2),U281)","v":67.491111977452192},{"$f":"IF((SUM($K60:V60)+W60/2)>0,(SUMPRODUCT($K60:V60,$K272:V272)+(W60/2)*W272) / (SUM($K60:V60)+W60/2),V281)","v":66.388321762745008},{"$f":"IF((SUM($K60:W60)+X60/2)>0,(SUMPRODUCT($K60:W60,$K272:W272)+(X60/2)*X272) / (SUM($K60:W60)+X60/2),W281)","v":65.365730326132038},{"$f":"IF((SUM($K60:X60)+Y60/2)>0,(SUMPRODUCT($K60:X60,$K272:X272)+(Y60/2)*Y272) / (SUM($K60:X60)+Y60/2),X281)","v":64.407870210386605},{"$f":"IF((SUM($K60:Y60)+Z60/2)>0,(SUMPRODUCT($K60:Y60,$K272:Y272)+(Z60/2)*Z272) / (SUM($K60:Y60)+Z60/2),Y281)","v":63.503011186910129},{"$f":"IF((SUM($K60:Z60)+AA60/2)>0,(SUMPRODUCT($K60:Z60,$K272:Z272)+(AA60/2)*AA272) / (SUM($K60:Z60)+AA60/2),Z281)","v":62.642095821634285},{"$f":"IF((SUM($K60:AA60)+AB60/2)>0,(SUMPRODUCT($K60:AA60,$K272:AA272)+(AB60/2)*AB272) / (SUM($K60:AA60)+AB60/2),AA281)","v":61.818019239455317},{"$f":"IF((SUM($K60:AB60)+AC60/2)>0,(SUMPRODUCT($K60:AB60,$K272:AB272)+(AC60/2)*AC272) / (SUM($K60:AB60)+AC60/2),AB281)","v":61.025129876285959},{"$f":"IF((SUM($K60:AC60)+AD60/2)>0,(SUMPRODUCT($K60:AC60,$K272:AC272)+(AD60/2)*AD272) / (SUM($K60:AC60)+AD60/2),AC281)","v":60.258875961457036},{"$f":"IF((SUM($K60:AD60)+AE60/2)>0,(SUMPRODUCT($K60:AD60,$K272:AD272)+(AE60/2)*AE272) / (SUM($K60:AD60)+AE60/2),AD281)","v":59.515550404450138},"v2.1.37"]
[263,null,null,null,"Wind Offshore",null,null,null,null,null,174.79919738765233,{"$f":"IF((SUM($K61:K61)+L61/2)>0,(SUMPRODUCT($K61:K61,$K273:K273)+(L61/2)*L273) / (SUM($K61:K61)+L61/2),K282)","v":175.3064310625266},{"$f":"IF((SUM($K61:L61)+M61/2)>0,(SUMPRODUCT($K61:L61,$K273:L273)+(M61/2)*M273) / (SUM($K61:L61)+M61/2),L282)","v":176.8518289513508},{"$f":"IF((SUM($K61:M61)+N61/2)>0,(SUMPRODUCT($K61:M61,$K273:M273)+(N61/2)*N273) / (SUM($K61:M61)+N61/2),M282)","v":173.94145300454741},{"$f":"IF((SUM($K61:N61)+O61/2)>0,(SUMPRODUCT($K61:N61,$K273:N273)+(O61/2)*O273) / (SUM($K61:N61)+O61/2),N282)","v":167.97431668408706},{"$f":"IF((SUM($K61:O61)+P61/2)>0,(SUMPRODUCT($K61:O61,$K273:O273)+(P61/2)*P273) / (SUM($K61:O61)+P61/2),O282)","v":165.08525092063465},{"$f":"IF((SUM($K61:P61)+Q61/2)>0,(SUMPRODUCT($K61:P61,$K273:P273)+(Q61/2)*Q273) / (SUM($K61:P61)+Q61/2),P282)","v":164.60835561000997},{"$f":"IF((SUM($K61:Q61)+R61/2)>0,(SUMPRODUCT($K61:Q61,$K273:Q273)+(R61/2)*R273) / (SUM($K61:Q61)+R61/2),Q282)","v":162.17243651565531},{"$f":"IF((SUM($K61:R61)+S61/2)>0,(SUMPRODUCT($K61:R61,$K273:R273)+(S61/2)*S273) / (SUM($K61:R61)+S61/2),R282)","v":153.66103719049096},{"$f":"IF((SUM($K61:S61)+T61/2)>0,(SUMPRODUCT($K61:S61,$K273:S273)+(T61/2)*T273) / (SUM($K61:S61)+T61/2),S282)","v":143.60974306374973},{"$f":"IF((SUM($K61:T61)+U61/2)>0,(SUMPRODUCT($K61:T61,$K273:T273)+(U61/2)*U273) / (SUM($K61:T61)+U61/2),T282)","v":135.59159406845717},{"$f":"IF((SUM($K61:U61)+V61/2)>0,(SUMPRODUCT($K61:U61,$K273:U273)+(V61/2)*V273) / (SUM($K61:U61)+V61/2),U282)","v":128.84879508694044},{"$f":"IF((SUM($K61:V61)+W61/2)>0,(SUMPRODUCT($K61:V61,$K273:V273)+(W61/2)*W273) / (SUM($K61:V61)+W61/2),V282)","v":123.17078328312368},{"$f":"IF((SUM($K61:W61)+X61/2)>0,(SUMPRODUCT($K61:W61,$K273:W273)+(X61/2)*X273) / (SUM($K61:W61)+X61/2),W282)","v":118.31890934352982},{"$f":"IF((SUM($K61:X61)+Y61/2)>0,(SUMPRODUCT($K61:X61,$K273:X273)+(Y61/2)*Y273) / (SUM($K61:X61)+Y61/2),X282)","v":114.12047289307567},{"$f":"IF((SUM($K61:Y61)+Z61/2)>0,(SUMPRODUCT($K61:Y61,$K273:Y273)+(Z61/2)*Z273) / (SUM($K61:Y61)+Z61/2),Y282)","v":110.44740203854725},{"$f":"IF((SUM($K61:Z61)+AA61/2)>0,(SUMPRODUCT($K61:Z61,$K273:Z273)+(AA61/2)*AA273) / (SUM($K61:Z61)+AA61/2),Z282)","v":107.20270148547588},{"$f":"IF((SUM($K61:AA61)+AB61/2)>0,(SUMPRODUCT($K61:AA61,$K273:AA273)+(AB61/2)*AB273) / (SUM($K61:AA61)+AB61/2),AA282)","v":104.31155586860106},{"$f":"IF((SUM($K61:AB61)+AC61/2)>0,(SUMPRODUCT($K61:AB61,$K273:AB273)+(AC61/2)*AC273) / (SUM($K61:AB61)+AC61/2),AB282)","v":101.7153236840356},{"$f":"IF((SUM($K61:AC61)+AD61/2)>0,(SUMPRODUCT($K61:AC61,$K273:AC273)+(AD61/2)*AD273) / (SUM($K61:AC61)+AD61/2),AC282)","v":99.367382394210949},{"$f":"IF((SUM($K61:AD61)+AE61/2)>0,(SUMPRODUCT($K61:AD61,$K273:AD273)+(AE61/2)*AE273) / (SUM($K61:AD61)+AE61/2),AD282)","v":97.230191568111877},"v2.1.37"]
[264,null,null,null,"Solar",null,null,null,null,null,98.796103302087559,{"$f":"IF((SUM($K62:K62)+L62/2)>0,(SUMPRODUCT($K62:K62,$K274:K274)+(L62/2)*L274) / (SUM($K62:K62)+L62/2),K283)","v":100.12145176529519},{"$f":"IF((SUM($K62:L62)+M62/2)>0,(SUMPRODUCT($K62:L62,$K274:L274)+(M62/2)*M274) / (SUM($K62:L62)+M62/2),L283)","v":99.570470945613863},{"$f":"IF((SUM($K62:M62)+N62/2)>0,(SUMPRODUCT($K62:M62,$K274:M274)+(N62/2)*N274) / (SUM($K62:M62)+N62/2),M283)","v":100.16519099424181},{"$f":"IF((SUM($K62:N62)+O62/2)>0,(SUMPRODUCT($K62:N62,$K274:N274)+(O62/2)*O274) / (SUM($K62:N62)+O62/2),N283)","v":101.5742366949283},{"$f":"IF((SUM($K62:O62)+P62/2)>0,(SUMPRODUCT($K62:O62,$K274:O274)+(P62/2)*P274) / (SUM($K62:O62)+P62/2),O283)","v":99.453314296666591},{"$f":"IF((SUM($K62:P62)+Q62/2)>0,(SUMPRODUCT($K62:P62,$K274:P274)+(Q62/2)*Q274) / (SUM($K62:P62)+Q62/2),P283)","v":95.831278368857468},{"$f":"IF((SUM($K62:Q62)+R62/2)>0,(SUMPRODUCT($K62:Q62,$K274:Q274)+(R62/2)*R274) / (SUM($K62:Q62)+R62/2),Q283)","v":92.892577774187444},{"$f":"IF((SUM($K62:R62)+S62/2)>0,(SUMPRODUCT($K62:R62,$K274:R274)+(S62/2)*S274) / (SUM($K62:R62)+S62/2),R283)","v":90.779912452986537},{"$f":"IF((SUM($K62:S62)+T62/2)>0,(SUMPRODUCT($K62:S62,$K274:S274)+(T62/2)*T274) / (SUM($K62:S62)+T62/2),S283)","v":89.231301755316778},{"$f":"IF((SUM($K62:T62)+U62/2)>0,(SUMPRODUCT($K62:T62,$K274:T274)+(U62/2)*U274) / (SUM($K62:T62)+U62/2),T283)","v":87.740181716211183},{"$f":"IF((SUM($K62:U62)+V62/2)>0,(SUMPRODUCT($K62:U62,$K274:U274)+(V62/2)*V274) / (SUM($K62:U62)+V62/2),U283)","v":86.304627605259412},{"$f":"IF((SUM($K62:V62)+W62/2)>0,(SUMPRODUCT($K62:V62,$K274:V274)+(W62/2)*W274) / (SUM($K62:V62)+W62/2),V283)","v":84.9359494720497},{"$f":"IF((SUM($K62:W62)+X62/2)>0,(SUMPRODUCT($K62:W62,$K274:W274)+(X62/2)*X274) / (SUM($K62:W62)+X62/2),W283)","v":83.601173005369333},{"$f":"IF((SUM($K62:X62)+Y62/2)>0,(SUMPRODUCT($K62:X62,$K274:X274)+(Y62/2)*Y274) / (SUM($K62:X62)+Y62/2),X283)","v":82.297613165565195},{"$f":"IF((SUM($K62:Y62)+Z62/2)>0,(SUMPRODUCT($K62:Y62,$K274:Y274)+(Z62/2)*Z274) / (SUM($K62:Y62)+Z62/2),Y283)","v":81.023742439564401},{"$f":"IF((SUM($K62:Z62)+AA62/2)>0,(SUMPRODUCT($K62:Z62,$K274:Z274)+(AA62/2)*AA274) / (SUM($K62:Z62)+AA62/2),Z283)","v":79.781041736017926},{"$f":"IF((SUM($K62:AA62)+AB62/2)>0,(SUMPRODUCT($K62:AA62,$K274:AA274)+(AB62/2)*AB274) / (SUM($K62:AA62)+AB62/2),AA283)","v":78.565462204873654},{"$f":"IF((SUM($K62:AB62)+AC62/2)>0,(SUMPRODUCT($K62:AB62,$K274:AB274)+(AC62/2)*AC274) / (SUM($K62:AB62)+AC62/2),AB283)","v":77.370673802414814},{"$f":"IF((SUM($K62:AC62)+AD62/2)>0,(SUMPRODUCT($K62:AC62,$K274:AC274)+(AD62/2)*AD274) / (SUM($K62:AC62)+AD62/2),AC283)","v":76.19712194243786},{"$f":"IF((SUM($K62:AD62)+AE62/2)>0,(SUMPRODUCT($K62:AD62,$K274:AD274)+(AE62/2)*AE274) / (SUM($K62:AD62)+AE62/2),AD283)","v":75.045959645732822},"v2.1.37"]
[265]
["257.02",null,null,null,"Mittlerer Vergütungssatz für ab 2015 gebaute Anlagen (nominal) [Euro/MWh]",null,null,null,null,null,null,null,null,null,null,null,null,null,null,null,null,null,null,null,null,null,null,null,null,null,null,"v2.1.29"]
["258.02",null,null,null,"Wasser",null,null,null,null,null,{"$f":"IF(K277<K$181*K29,K$181*K29,K277)","v":105.78611266778887},105.93955951720531,106.13466250940841,106.31140530116524,106.54651291754377,106.72661092690743,106.85426530663956,106.95743464697047,107.03404542268785,107.08689919937648,107.11842868865695,107.1307564505496,107.12574273121255,107.10502471181331,107.07004891533029,107.02209812353072,106.96231385932499,106.89171526409716,106.81121502686216,106.72163288879099,106.62370714302165,"v2.1.37",null,null,null,"(Ergebnis Zwischenrechnung für Jahr -1\n+ Vergütungssatzabfrage aktuelles Jahr * Stromenge/2)/Strommengen"]
["259.02",null,null,null,"Gas",null,null,null,null,null,{"$f":"IF(K278<K$181*K30,K$181*K30,K278)","v":74.053373398913379},74.148210327743783,74.045234982300101,73.206716123574409,72.422205482382935,72.030680733271026,71.635146284822369,72.511599999999987,70.83512556895478,70.431938721785897,69.260571037780053,68.690321297677414,69.871024565934675,71.071693609947673,72.292661744753744,73.534267792541755,74.796856172870832,76.080776994356455,77.386386147847745,78.71404540112006,80.064122495107284,"v2.1.37"]
["260.02",null,null,null,"Biomasse",null,null,null,null,null,{"$f":"IF(K279<K$181*K31,K$181*K31,K279)","v":159.82713554955191},161.6514548224493,158.15270579978238,152.86662928838851,150.05724835914904,148.51304778171078,147.72327838200908,147.47073748895215,147.28530739076254,147.03304321198388,146.78701281769406,146.17539963832965,145.23463533912587,144.33424626840596,143.46603374910219,142.62406081278422,141.80392042453923,141.00227058200559,140.21652924590552,139.44466846830252,138.76476782518634,"v2.1.37"]
["261.02",null,null,null,"Geothermie",null,null,null,null,null,{"$f":"IF(K280<K$181*K32,K$181*K32,K280)","v":227.05875124581647},231.49466538144816,232.48395882324922,234.30634147919855,235.31051151410938,235.82616639690141,234.17157704749803,227.40946540412847,222.07068796754297,219.07662128408049,216.72871593875485,213.12399023234201,208.64960075447829,204.21674772883011,199.85136350638595,195.56945975278813,191.38085296217878,187.29135529562379,183.30411955096534,179.42049510783517,175.64058948268854,"v2.1.37"]
["262.02",null,null,null,"Wind Onshore",null,null,null,null,null,{"$f":"IF(K281<K$181*K33,K$181*K33,K281)","v":80.191384368562183},80.839609738309363,79.847801332213493,78.445289690156713,77.128992962951784,75.716224218774059,74.438257480432029,73.081269014213291,71.532476727972991,70.028466866995089,68.694922803599368,67.491111977452192,66.388321762745008,65.365730326132038,64.407870210386605,63.503011186910129,62.642095821634285,61.818019239455317,61.025129876285959,60.258875961457036,59.515550404450138,"v2.1.37"]
["263.02",null,null,null,"Wind Offshore",null,null,null,null,null,{"$f":"IF(K282<K$181*K34,K$181*K34,K282)","v":174.79919738765233},175.3064310625266,176.8518289513508,173.94145300454741,167.97431668408706,165.08525092063465,164.60835561000997,162.17243651565531,153.66103719049096,143.60974306374973,135.59159406845717,128.84879508694044,123.17078328312368,118.31890934352982,114.12047289307567,110.44740203854725,107.20270148547588,104.31155586860106,101.7153236840356,99.367382394210949,97.230191568111877,"v2.1.37"]
["264.02",null,null,null,"Solar",null,null,null,null,null,{"$f":"IF(K283<K$181*K35,K$181*K35,K283)","v":98.796103302087559},100.12145176529519,99.570470945613863,100.16519099424181,101.5742366949283,99.453314296666591,95.831278368857468,92.892577774187444,90.779912452986537,89.231301755316778,87.740181716211183,86.304627605259412,84.9359494720497,83.601173005369333,82.297613165565195,81.023742439564401,79.781041736017926,78.565462204873654,77.370673802414814,76.19712194243786,75.045959645732822,"v2.1.37"]
["265.02"]
[266,null,null,null,"Einnahmen der Anlagenbetreiber (Baujahr nach 2014) gemäß Vergütungssatz (nominal) [Mrd. Euro]",null,null,null,null,null,null,null,null,null,null,null,null,null,null,null,null,null,null,null,null,null,null,null,null,null,null,"v2.1.33",null,null,null,"Einnahmen der Anlagenbetreiber = \nMittlerer Vergütungssatz * (\nStrommenge aus Anlagen Baujahr >2014 \n- Eigenverbrauch Neu)\n- Vermiedene Zahlungen durch Absenkung der Vergütung","Vermarktungserlöse"]
[267,null,null,null,"Wasser",null,null,null,null,null,{"$f":"IF(K286*(K228-K258)/1000-K167+K355+K315<=K345,K345-K355-K315,K286*(K228-K258)/1000-K167)","v":6.0853612028793781E-2},0.1264170890863982,0.1323252227244921,0.13683537262887777,0.14388195206442395,0.15045831611349364,0.15634044845891198,0.16240614356158029,0.16844145348979653,0.17445403206269919,0.18043654378643256,0.18638164022100231,0.19229697113338884,0.19818268894388547,0.20403894488786808,0.20986588908188167,0.21566367057943239,0.22143243741840749,0.22717233666164632,0.23288351443187394,{"$f":"IF(AE286*(AE228-AE258)/1000-AE167+AE355+AE315<=AE345,AE345-AE355-AE315,AE286*(AE228-AE258)/1000-AE167)","v":0.23856611594197166},"v3.0.8",null,null,null,"Korrekturfaktor eingefügt für Strommenge im Jahr 2015 (wegen Anpassung der Zubauzahlen an aktuelle Statistik, damit sich die Umlage in 2015 nicht ändert)",{"$f":"AE345","v":0.51560198269316793}]
[268,null,null,null,"Gas",null,null,null,null,null,4.9176468901465818E-3,1.0287131695081327E-2,1.0959706679561639E-2,1.1908321723316699E-2,1.2866026850427294E-2,1.3304818107925914E-2,1.3769099604272547E-2,1.4549240924141119E-2,1.4877831396076499E-2,1.5557835843070876E-2,1.750763741458676E-2,2.0950651318072864E-2,2.4959587762652558E-2,2.9100017010133344E-2,3.3375220912993921E-2,3.7788553779592983E-2,4.2343443863221752E-2,4.7043394880332198E-2,5.1891987558493564E-2,5.6892881214639625E-2,{"$f":"IF(AE287*(AE229-AE259)/1000-AE168+AE356+AE316<=AE346,AE346-AE356-AE316,AE287*(AE229-AE259)/1000-AE168)","v":6.2049815364179646E-2},"v3.0.8",null,null,null,"Korrekturfaktor eingefügt für Strommenge im Jahr 2015 (wegen Anpassung der Zubauzahlen an aktuelle Statistik, damit sich die Umlage in 2015 nicht ändert)",{"$f":"AE346","v":6.2049815364179646E-2}]
[269,null,null,null,"Biomasse",null,null,null,null,null,0.10508815406354752,0.28530943153514832,0.44733250545523157,0.65688026409625067,0.87290857175582559,1.0149734611808869,1.0982099564517307,1.1435231434353925,1.1644726411118176,1.1868856657395233,1.2107341641860672,1.2773153791616951,1.3852824654233251,1.4921617375130645,1.5979587771657608,1.70267993116483,1.8063320366514308,1.9089222469187734,2.0104579173838037,2.1109465289041789,2.2116658456572464,"v3.0.8",null,null,null,"Korrekturfaktor eingefügt für Strommenge im Jahr 2015 (wegen Anpassung der Zubauzahlen an aktuelle Statistik, damit sich die Umlage in 2015 nicht ändert)",1.2760810107650897]
[270,null,null,null,"Geothermie",null,null,null,null,null,0,2.5122958560521652E-3,6.5116432026803856E-3,1.1732421436887906E-2,1.8505995178027129E-2,2.4785212175231136E-2,3.3914718246423559E-2,5.5346347166393271E-2,7.9150212534703696E-2,9.0794772154838166E-2,9.7371660768247839E-2,0.10563597137861147,0.11551363521769806,0.12489794182721385,0.13381347820615333,0.14228362690124474,0.15033061690605626,0.15797557590797628,0.16523858204861996,0.17213871431388372,0.17869410113084513,"v3.0.8",null,null,null,"Korrekturfaktor eingefügt für Strommenge im Jahr 2015 (wegen Anpassung der Zubauzahlen an aktuelle Statistik, damit sich die Umlage in 2015 nicht ändert)",8.1456037264684741E-2]
[271,null,null,null,"Wind Onshore",null,null,null,null,null,0.34293252432203392,1.1076790707141697,2.0269331301602884,2.7332148300096755,3.057008509784358,3.2840108002158419,3.5068028979962311,3.7353317016966909,4.0042110560433226,4.307978011806501,4.6217961732400399,4.9446536911867609,5.268944058543175,5.5914516192059578,5.9105232828983265,6.2252029540994105,6.5348914182241531,6.8391903133069576,7.1378224628791651,7.4305878470443076,7.7213893660737192,"v3.0.8",null,null,null,"Korrekturfaktor eingefügt für Strommenge im Jahr 2015 (wegen Anpassung der Zubauzahlen an aktuelle Statistik, damit sich die Umlage in 2015 nicht ändert)",6.2323839047435241]
[272,null,null,null,"Wind Offshore",null,null,null,null,null,0.69259969304200197,1.6605388034554822,2.354953648761319,3.0385121004821598,3.6142736406374483,3.9855454123080314,4.0343671646257491,4.0596798118525728,4.2114464787190116,4.1627790118174612,4.2242612000697015,4.1073257516281192,3.4286932785863211,3.3449432622895889,3.2901027961353173,3.5409836247557824,3.7891225551951737,4.0295815892746898,4.2703504162340202,4.4935415750182353,4.2751804661388118,"v3.0.8",null,null,null,"Korrekturfaktor eingefügt für Strommenge im Jahr 2015 (wegen Anpassung der Zubauzahlen an aktuelle Statistik, damit sich die Umlage in 2015 nicht ändert)",4.3484560513468873]
[273,null,null,null,"Solar",null,null,null,null,null,5.0213822931541516E-2,0.1459155620538358,0.300615710042133,0.49189988146900099,0.82215372497392425,1.2214692086516561,1.6069468829057498,1.92542079479999,2.17917957939052,2.3674900243485455,2.5489420502484732,2.7243517122684824,2.8913158896526929,3.0537139611887691,3.2116475546643013,3.3652417837180479,3.5147410669735666,3.6601492733900387,3.8013191612716803,3.9383908696041008,4.0723182239777467,"v3.0.8",null,null,null,"Korrekturfaktor eingefügt für Strommenge im Jahr 2015 (wegen Anpassung der Zubauzahlen an aktuelle Statistik, damit sich die Umlage in 2015 nicht ändert)",2.6065089917761073]
[274,null,null,null,"Gesamt",null,null,null,null,null,{"$f":"SUM(K295:K301)","v":1.2566054532780653},3.3386593843961681,5.2796315670257057,{"$f":"SUM(N295:N301)","v":7.080983191846169},{"$f":"SUM(O295:O301)","v":8.5415984212444354},9.6945472287530681,{"$f":"SUM(Q295:Q301)","v":10.450351168289068},11.096257183436762,11.82177925268525,12.30593935377264,12.901049429713549,13.366614797162745,13.307005886319255,13.834451227978613,14.381460054870722,15.22404636350079,16.053424808393036,16.864294831097176,17.664252864037429,18.435381930531221,18.759863934284521,null,null,null,null,null,15.12253779395364]
[275]
[276,null,null,null,"Einnahmen der Anlagenbetrieber (alle Baujahre) gemäß Vergütungssatz, Berechnung für historische Jahre (nominal) [Mrd. Euro]",null,null,null,null,null,null,null,null,null,null,null,null,null,null,null,null,null,null,null,null,null,null,null,null,null,null,"v2.1.26",null,null,null,"Einnahmen der Anlagenbetreiber =\nMittlerer Vergütungssatz * (Strommenge Festvergütung + Strommenge Marktprämie)\n+ Vergütungssatz für Eigenverbrauch * (Strommenge Eigenverbrauch Bestand + Strommenge Eigenverbrauch Neuanlagen)"]
[277,null,null,null,"Wasser",{"$f":"F140*(F111+F121)/1000 + F158*(F248+F258)/1000","v":0.41396176000000001},0.16263688900000001,0.41207295941425998,0.48692010585074991,0.51080576769520003,0.55367710800000003,0.57915161100000001,0.59035525699999991,0.50933458300000001,0.56000223000000005,0.52196014299999993,0.54223086899999995,0,0,0,0,0,0,0,0,0,0,0,0,0,0,"v2.1.33","v.3.0.9"]
[278,null,null,null,"Gas",{"$f":"F141*(F112+F122)/1000 + F159*(F249+F259)/1000","v":0.12953265},1.4075396E-2,5.2400481459999995E-2,0.10797205039999999,6.3886050243399994E-2,0.11697941100000001,0.11299272400000002,9.5978957999999989E-2,9.0931739999999997E-2,8.8120348999999987E-2,6.8837204999999999E-2,6.0752625999999997E-2,0,0,0,0,0,0,0,0,0,0,0,0,0,0,"v2.1.33","v.3.0.9"]
[279,null,null,null,"Biomasse",{"$f":"F142*(F113+F123)/1000 + F160*(F250+F260)/1000","v":3.9508552800000003},4.2497729089999998,5.0895666185599993,6.0503774180499983,6.4394082612499988,7.1272603240000008,7.5257682859999999,7.6880897129999992,7.9379307329999991,8.0948488320000003,8.0244355190000007,7.9354001729999988,0,0,0,0,0,0,0,0,0,0,0,0,0,0,"v2.1.33","v.3.0.9"]
[280,null,null,null,"Geothermie",{"$f":"F143*(F114+F124)/1000 + F161*(F251+F261)/1000","v":5.3999999999999994E-3},1.3090355999999999E-2,2.3729284699999999E-2,1.8123731000000001E-2,3.1732540359999999E-2,3.8942879E-2,4.3986963000000004E-2,4.6891084999999992E-2,4.9615844000000006E-2,5.7536446999999998E-2,4.2243857000000003E-2,5.3254587999999999E-2,0,0,0,0,0,0,0,0,0,0,0,0,0,0,"v2.1.33","v.3.0.9"]
[281,null,null,null,"Wind Onshore",{"$f":"F144*(F115+F125)/1000 + F162*(F252+F262)/1000","v":4.1869800800000005},4.4946196810000005,4.3533828439027991,5.3593675109834491,6.1037070259736002,6.2107977910000001,6.9356407530000004,7.2198882399999995,7.9691562089999985,8.759169442000001,8.6681318550000004,8.7232046370000003,0,0,0,0,0,0,0,0,0,0,0,0,0,0,"v2.1.33","v.3.0.9"]
[282,null,null,null,"Wind Offshore",{"$f":"F145*(F116+F126)/1000 + F163*(F253+F263)/1000","v":9.8100000000000007E-2},0.17201868399999998,0.21721885938639998,0.47161680655509991,1.4138436736538,2.0468048479999998,2.8240475410000001,3.640805179,4.1951680539999998,4.9603236049999992,5.5274199179999997,5.4945598640000002,0,0,0,0,0,0,0,0,0,0,0,0,0,0,"v2.1.33","v.3.0.9"]
[283,null,null,null,"Solar",{"$f":"F146*(F117+F127)/1000 + F164*(F254+F264)/1000","v":3.8826109599999996},8.0206210149999997,8.7892939436962809,10.302513792381449,10.72971006440835,10.922211617309644,10.733641847822593,10.313718607912627,10.725377803457876,10.640584707282317,10.785729273655347,11.145528535703878,0,0,0,0,0,0,0,0,0,0,0,0,0,0,"v2.1.33","v.3.0.9"]
[284,null,null,null,"Gesamt",{"$f":"SUM(F305:F311)","v":12.667440729999999},17.126834930000001,18.937664991119739,22.796891415220745,{"$f":"SUM(J305:J311)","v":25.293093383584349},27.016673978309647,{"$f":"SUM(L305:L311)","v":28.755229725822591},29.595727039912624,31.477514966457875,33.160585612282318,33.638757770655353,33.954931292703876,0,0,0,0,0,0,0,0,0,0,0,0,0,0]
[285]
[286,null,null,null,"Zahlungen für Managementprämie für Bestandsanlagen (Berechnung für Prognosejahre) (nominal) [Mrd. Euro]",null,null,null,null,null,null,null,null,null,null,null,null,null,null,null,null,null,null,null,null,null,null,null,null,null,null,"v2.1.14"]
[287,null,null,null,"Wasser",null,null,null,null,null,null,{"$f":"'D-Managementprämie_Bestand'!M6*L26","v":6.8854294440968333E-3},{"$f":"'D-Managementprämie_Bestand'!N6*M26","v":5.4495973567153348E-3},{"$f":"'D-Managementprämie_Bestand'!O6*N26","v":5.7611003000803207E-3},{"$f":"'D-Managementprämie_Bestand'!P6","v":0},{"$f":"'D-Managementprämie_Bestand'!Q6","v":0},{"$f":"'D-Managementprämie_Bestand'!R6","v":0},{"$f":"'D-Managementprämie_Bestand'!S6","v":5.9352295566502469E-3},{"$f":"'D-Managementprämie_Bestand'!T6","v":5.8475168045815252E-3},{"$f":"'D-Managementprämie_Bestand'!U6","v":5.7611003000803207E-3},{"$f":"'D-Managementprämie_Bestand'!V6","v":5.6759608867786426E-3},{"$f":"'D-Managementprämie_Bestand'!W6","v":5.59207969140753E-3},{"$f":"'D-Managementprämie_Bestand'!X6","v":5.5094381196133316E-3},{"$f":"'D-Managementprämie_Bestand'!Y6","v":5.4280178518357949E-3},{"$f":"'D-Managementprämie_Bestand'!Z6","v":5.3478008392470891E-3},{"$f":"'D-Managementprämie_Bestand'!AA6","v":5.2687692997508279E-3},{"$f":"'D-Managementprämie_Bestand'!AB6","v":5.1909057140402245E-3},{"$f":"'D-Managementprämie_Bestand'!AC6","v":5.1141928217145081E-3},{"$f":"'D-Managementprämie_Bestand'!AD6","v":5.0386136174527174E-3},{"$f":"'D-Managementprämie_Bestand'!AE6","v":4.9641513472440564E-3},{"$f":"'D-Managementprämie_Bestand'!AF6","v":4.890789504673948E-3},"v2.1.14",null,null,null,"Berechnung der Managementprämien für Anlagen, die zwischen 2012 und 2014 in die Direktvermarktung gegangen sind und für die Prognosejahre weiterhin dort bleiben."]
[288,null,null,null,"Gas",null,null,null,null,null,null,{"$f":"'D-Managementprämie_Bestand'!M7*L27","v":0},{"$f":"'D-Managementprämie_Bestand'!N7*M27","v":0},{"$f":"'D-Managementprämie_Bestand'!O7*N27","v":0},{"$f":"'D-Managementprämie_Bestand'!P7","v":0},{"$f":"'D-Managementprämie_Bestand'!Q7","v":0},{"$f":"'D-Managementprämie_Bestand'!R7","v":0},{"$f":"'D-Managementprämie_Bestand'!S7","v":1.7861162561576356E-3},{"$f":"'D-Managementprämie_Bestand'!T7","v":1.7597204494163902E-3},{"$f":"'D-Managementprämie_Bestand'!U7","v":1.7337147284890546E-3},{"$f":"'D-Managementprämie_Bestand'!V7","v":1.708093328560645E-3},{"$f":"'D-Managementprämie_Bestand'!W7","v":1.6828505700104879E-3},{"$f":"'D-Managementprämie_Bestand'!X7","v":1.6579808571531905E-3},{"$f":"'D-Managementprämie_Bestand'!Y7","v":1.6334786769982175E-3},{"$f":"'D-Managementprämie_Bestand'!Z7","v":1.6093385980278005E-3},{"$f":"'D-Managementprämie_Bestand'!AA7","v":1.5855552689929072E-3},{"$f":"'D-Managementprämie_Bestand'!AB7","v":1.5621234177270024E-3},{"$f":"'D-Managementprämie_Bestand'!AC7","v":1.5390378499773422E-3},{"$f":"'D-Managementprämie_Bestand'!AD7","v":1.5162934482535393E-3},{"$f":"'D-Managementprämie_Bestand'!AE7","v":1.4938851706931423E-3},{"$f":"'D-Managementprämie_Bestand'!AF7","v":1.4718080499439826E-3},"v2.1.14",null,null,null," = Managementprämie (real) * Umrechnungsfaktor real -> nominal"]
[289,null,null,null,"Biomasse",null,null,null,null,null,null,{"$f":"'D-Managementprämie_Bestand'!M8*L28","v":0},{"$f":"'D-Managementprämie_Bestand'!N8*M28","v":0},{"$f":"'D-Managementprämie_Bestand'!O8*N28","v":0},{"$f":"'D-Managementprämie_Bestand'!P8","v":0},{"$f":"'D-Managementprämie_Bestand'!Q8","v":0},{"$f":"'D-Managementprämie_Bestand'!R8","v":0},{"$f":"'D-Managementprämie_Bestand'!S8","v":6.1487196059113312E-2},{"$f":"'D-Managementprämie_Bestand'!T8","v":6.0578518284840711E-2},{"$f":"'D-Managementprämie_Bestand'!U8","v":5.9683269246148488E-2},{"$f":"'D-Managementprämie_Bestand'!V8","v":5.8801250488816258E-2},{"$f":"'D-Managementprämie_Bestand'!W8","v":5.7932266491444596E-2},{"$f":"'D-Managementprämie_Bestand'!X8","v":5.7076124622112909E-2},{"$f":"'D-Managementprämie_Bestand'!Y8","v":5.6232635095677753E-2},{"$f":"'D-Managementprämie_Bestand'!Z8","v":5.5401610931702226E-2},{"$f":"'D-Managementprämie_Bestand'!AA8","v":5.4582867913007128E-2},{"$f":"'D-Managementprämie_Bestand'!AB8","v":5.3776224544834612E-2},{"$f":"'D-Managementprämie_Bestand'!AC8","v":5.2981502014615385E-2},{"$f":"'D-Managementprämie_Bestand'!AD8","v":5.2198524152330436E-2},{"$f":"'D-Managementprämie_Bestand'!AE8","v":5.1427117391458561E-2},{"$f":"'D-Managementprämie_Bestand'!AF8","v":5.0667110730501043E-2},"v2.1.14"]
[290,null,null,null,"Geothermie",null,null,null,null,null,null,{"$f":"'D-Managementprämie_Bestand'!M9*L29","v":1.9669000000000002E-4},{"$f":"'D-Managementprämie_Bestand'!N9*M29","v":2.1216200000000001E-4},{"$f":"'D-Managementprämie_Bestand'!O9*N29","v":3.4630000000000001E-4},{"$f":"'D-Managementprämie_Bestand'!P9","v":0},{"$f":"'D-Managementprämie_Bestand'!Q9","v":0},{"$f":"'D-Managementprämie_Bestand'!R9","v":0},{"$f":"'D-Managementprämie_Bestand'!S9","v":3.4118226600985226E-4},{"$f":"'D-Managementprämie_Bestand'!T9","v":3.3614016355650473E-4},{"$f":"'D-Managementprämie_Bestand'!U9","v":3.3117257493251703E-4},{"$f":"'D-Managementprämie_Bestand'!V9","v":3.2627839894829269E-4},{"$f":"'D-Managementprämie_Bestand'!W9","v":3.2145655068797316E-4},{"$f":"'D-Managementprämie_Bestand'!X9","v":3.1670596126893909E-4},{"$f":"'D-Managementprämie_Bestand'!Y9","v":3.1202557760486618E-4},{"$f":"'D-Managementprämie_Bestand'!Z9","v":3.0741436217228196E-4},{"$f":"'D-Managementprämie_Bestand'!AA9","v":3.0287129278057341E-4},{"$f":"'D-Managementprämie_Bestand'!AB9","v":2.9839536234539253E-4},{"$f":"'D-Managementprämie_Bestand'!AC9","v":2.939855786654114E-4},{"$f":"'D-Managementprämie_Bestand'!AD9","v":2.8964096420237579E-4},{"$f":"'D-Managementprämie_Bestand'!AE9","v":2.8536055586440964E-4},{"$f":"'D-Managementprämie_Bestand'!AF9","v":2.8114340479252185E-4},"v2.1.14"]
[291,null,null,null,"Wind Onshore",null,null,null,null,null,null,{"$f":"'D-Managementprämie_Bestand'!M10*L30","v":0.27028342599999999},{"$f":"'D-Managementprämie_Bestand'!N10*M30","v":0.30297696900000004},{"$f":"'D-Managementprämie_Bestand'!O10*N30","v":0.350982717},{"$f":"'D-Managementprämie_Bestand'!P10","v":0},{"$f":"'D-Managementprämie_Bestand'!Q10","v":0},{"$f":"'D-Managementprämie_Bestand'!R10","v":0},{"$f":"'D-Managementprämie_Bestand'!S10","v":0.34579578029556651},{"$f":"'D-Managementprämie_Bestand'!T10","v":0.34068549782814445},{"$f":"'D-Managementprämie_Bestand'!U10","v":0.33565073677649704},{"$f":"'D-Managementprämie_Bestand'!V10","v":0.33069038106058823},{"$f":"'D-Managementprämie_Bestand'!W10","v":0.32580333109417564},{"$f":"'D-Managementprämie_Bestand'!X10","v":0.32098850354105979},{"$f":"'D-Managementprämie_Bestand'!Y10","v":0.31624483107493584},{"$f":"'D-Managementprämie_Bestand'!Z10","v":0.31157126214279396},{"$f":"'D-Managementprämie_Bestand'!AA10","v":0.30696676073181672},{"$f":"'D-Managementprämie_Bestand'!AB10","v":0.30243030613972094},{"$f":"'D-Managementprämie_Bestand'!AC10","v":0.29796089274849358},{"$f":"'D-Managementprämie_Bestand'!AD10","v":0.29355752980147154},{"$f":"'D-Managementprämie_Bestand'!AE10","v":0.28921924118371578},{"$f":"'D-Managementprämie_Bestand'!AF10","v":0.28494506520563134},"v2.1.14"]
[292,null,null,null,"Wind Offshore",null,null,null,null,null,null,{"$f":"'D-Managementprämie_Bestand'!M11*L31","v":6.1518174000000002E-2},{"$f":"'D-Managementprämie_Bestand'!N11*M31","v":8.013342200000001E-2},{"$f":"'D-Managementprämie_Bestand'!O11*N31","v":9.025762200000001E-2},{"$f":"'D-Managementprämie_Bestand'!P11","v":0},{"$f":"'D-Managementprämie_Bestand'!Q11","v":0},{"$f":"'D-Managementprämie_Bestand'!R11","v":0},{"$f":"'D-Managementprämie_Bestand'!S11","v":8.892376551724139E-2},{"$f":"'D-Managementprämie_Bestand'!T11","v":8.7609621199252627E-2},{"$f":"'D-Managementprämie_Bestand'!U11","v":8.631489773325382E-2},{"$f":"'D-Managementprämie_Bestand'!V11","v":8.5039308111580142E-2},{"$f":"'D-Managementprämie_Bestand'!W11","v":8.3782569568059254E-2},{"$f":"'D-Managementprämie_Bestand'!X11","v":8.2544403515329337E-2},{"$f":"'D-Managementprämie_Bestand'!Y11","v":8.1324535483083105E-2},{"$f":"'D-Managementprämie_Bestand'!Z11","v":8.0122695057224733E-2},{"$f":"'D-Managementprämie_Bestand'!AA11","v":7.8938615819925853E-2},{"$f":"'D-Managementprämie_Bestand'!AB11","v":7.7772035290567351E-2},{"$f":"'D-Managementprämie_Bestand'!AC11","v":7.6622694867554061E-2},{"$f":"'D-Managementprämie_Bestand'!AD11","v":7.549033977098922E-2},{"$f":"'D-Managementprämie_Bestand'!AE11","v":7.4374718986196284E-2},{"$f":"'D-Managementprämie_Bestand'!AF11","v":7.3275585208075159E-2},"v2.1.14"]
[293,null,null,null,"Solar",null,null,null,null,null,null,{"$f":"'D-Managementprämie_Bestand'!M12*L32","v":2.7842141000000001E-2},{"$f":"'D-Managementprämie_Bestand'!N12*M32","v":3.2017428000000001E-2},{"$f":"'D-Managementprämie_Bestand'!O12*N32","v":3.6180617000000005E-2},{"$f":"'D-Managementprämie_Bestand'!P12","v":0},{"$f":"'D-Managementprämie_Bestand'!Q12","v":0},{"$f":"'D-Managementprämie_Bestand'!R12","v":0},{"$f":"'D-Managementprämie_Bestand'!S12","v":3.5645928078817744E-2},{"$f":"'D-Managementprämie_Bestand'!T12","v":3.5119140964352459E-2},{"$f":"'D-Managementprämie_Bestand'!U12","v":3.4600138881135431E-2},{"$f":"'D-Managementprämie_Bestand'!V12","v":3.408880677944378E-2},{"$f":"'D-Managementprämie_Bestand'!W12","v":3.3585031309796835E-2},{"$f":"'D-Managementprämie_Bestand'!X12","v":3.3088700797829398E-2},{"$f":"'D-Managementprämie_Bestand'!Y12","v":3.2599705219536361E-2},{"$f":"'D-Managementprämie_Bestand'!Z12","v":3.2117936176883119E-2},{"$f":"'D-Managementprämie_Bestand'!AA12","v":3.1643286873776474E-2},{"$f":"'D-Managementprämie_Bestand'!AB12","v":3.1175652092390618E-2},{"$f":"'D-Managementprämie_Bestand'!AC12","v":3.0714928169842975E-2},{"$f":"'D-Managementprämie_Bestand'!AD12","v":3.0261012975214756E-2},{"$f":"'D-Managementprämie_Bestand'!AE12","v":2.9813805886911092E-2},{"$f":"'D-Managementprämie_Bestand'!AF12","v":2.9373207770355757E-2},"v2.1.14"]
[294,null,null,null,"Gesamt",{"$f":"SUM(F315:F321)","v":0},0,0,0,0,{"$f":"SUM(K315:K321)","v":0},{"$f":"SUM(L315:L321)","v":0.36672586044409677},0.42078957835671538,{"$f":"SUM(N315:N321)","v":0.48352835630008034},{"$f":"SUM(O315:O321)","v":0},0,{"$f":"SUM(Q315:Q321)","v":0},0.53991519802955668,0.53193615569414465,0.5240750302405367,0.51633007905471606,0.50869958527558223,0.50118185741436694,0.49377522897967191,0.48647805810805123,0.4792887272000505,0.47220564256162612,0.4652272340508633,0.45835195472991463,0.45157828052208332,0.44490470987397374]
[295]
[296,null,null,null,"Einnahmen aus Vermarktung (Berechnung für Prognosejahre) (nominal) [Mrd. Euro]",null,null,null,null,null,null,null,null,null,null,null,null,null,null,null,null,null,null,null,null,null,null,null,null,null,null,"v2.1.14",null,null,null,"Hier werden die Vermarktungserlöse für fest vergüteten und direkt vermarkteten Strom berechnet.\nEinnahmen aus Vermarktung = \n(Stromerzeugung gesamt \n-Strommenge Eigenverbrauch Bestand \n- Strommenge Eigenverbrauch Neu) * Strompreis (nominal) * Profilfaktor für Prognoserechnungen"]
[297,null,null,null,"Wasser",null,null,null,null,null,null,{"$f":"(L238-L248-L258)*L$181*L29/1000","v":0.19525664964},0.16801185474999999,0.19086470711999998,0.30149508636,0.30839162758000005,0.25985727893999999,0.57166712352045779,0.51814356080323598,0.53073308071639813,0.54359986504321889,0.55674483316839818,0.57017846890613466,0.58390672409505329,0.5979356679201463,0.57263783998574214,0.55177085001147097,0.54103177096651345,0.54020190757755071,0.50654183677641018,0.51560198269316793,"v3.0.8",null,null,null,"Korrekturfaktor eingefügt für Strommenge im Jahr 2015 (wegen Anpassung der Zubauzahlen an aktuelle Statistik, damit sich die Umlage in 2015 nicht ändert)"]
[298,null,null,null,"Gas",null,null,null,null,null,null,{"$f":"(L239-L249-L259)*L$181*L30/1000","v":5.0254388760000004E-2},3.7130952750000001E-2,5.4056943899999994E-2,7.9039575680000002E-2,7.1036475560000006E-2,5.0956817940000003E-2,8.7830071615553743E-2,6.213285182090679E-2,4.3826949491569782E-2,2.7593003905597539E-2,2.9562515458733288E-2,3.1979896320731567E-2,3.5976395312948516E-2,4.0143238450145793E-2,4.1838820763144886E-2,4.5960054154049877E-2,4.819256119257688E-2,5.2849042829834644E-2,5.7532062797054667E-2,6.2049815364179646E-2,"v3.0.8",null,null,null,"Korrekturfaktor eingefügt für Strommenge im Jahr 2015 (wegen Anpassung der Zubauzahlen an aktuelle Statistik, damit sich die Umlage in 2015 nicht ändert)"]
[299,null,null,null,"Biomasse",null,null,null,null,null,null,{"$f":"(L240-L250-L260)*L$181*L31/1000","v":1.2578662947000001},1.09060801275,1.3388856355799998,1.9137529735999999,2.0597816845999999,1.63802071356,3.1776151419121463,2.8186585109215145,2.7918561692243395,2.6350616644733269,2.4461601399524473,2.2120029144202293,2.0517269667841496,2.000039978777131,1.9055991807882764,1.7310639579142271,1.3712558368929759,1.3118827863828428,1.2842596441174816,1.2760810107650897,"v3.0.8",null,null,null,"Korrekturfaktor eingefügt für Strommenge im Jahr 2015 (wegen Anpassung der Zubauzahlen an aktuelle Statistik, damit sich die Umlage in 2015 nicht ändert)"]
[300,null,null,null,"Geothermie",null,null,null,null,null,null,{"$f":"(L241-L251-L261)*L$181*L32/1000","v":5.6379285599999999E-3},5.0697669999999993E-3,8.2895616000000002E-3,1.3253944079999998E-2,1.0594728859999999E-2,1.0906668360000002E-2,2.8501869234317089E-2,3.3031003561841056E-2,3.7451305832000639E-2,4.044785256208884E-2,4.4328875731071492E-2,4.914125860643697E-2,5.4105731841164156E-2,5.9226040752939101E-2,6.3813610971700324E-2,6.9245268765487727E-2,7.4844296798092888E-2,7.5964001965699662E-2,7.6833473070936256E-2,8.1456037264684741E-2,"v3.0.8",null,null,null,"Korrekturfaktor eingefügt für Strommenge im Jahr 2015 (wegen Anpassung der Zubauzahlen an aktuelle Statistik, damit sich die Umlage in 2015 nicht ändert)"]
[301,null,null,null,"Wind Onshore",null,null,null,null,null,null,{"$f":"(L242-L252-L262)*L$181*L33/1000","v":2.0892627151967997},1.9149699402832501,2.4707201656514393,3.5847821323641602,4.493032530941119,3.5822847889613398,6.4982234299007446,5.7952534346266225,5.7755767039198451,6.2953191843721346,6.4257505719905073,6.5161713966142383,6.6566742451995617,6.8791282002947733,6.91185185683426,7.0575974973606153,7.1529334178625925,7.1899824858710266,7.1641032434829359,6.2323839047435241,"v3.0.8",null,null,null,"Korrekturfaktor eingefügt für Strommenge im Jahr 2015 (wegen Anpassung der Zubauzahlen an aktuelle Statistik, damit sich die Umlage in 2015 nicht ändert)"]
[302,null,null,null,"Wind Offshore",null,null,null,null,null,null,{"$f":"(L243-L253-L263)*L$181*L34/1000","v":0.47114925453119999},0.49355675879624999,0.6586847961559199,1.11829163907604,1.36201836855248,1.0722514890528001,1.8844181140248573,1.8464169732703928,2.0770546829381193,2.4661472275352092,2.7180782040615195,2.9715839332152982,3.2254440725879285,3.4788787133741916,3.7244703610540215,3.9657464921493553,4.1915670354177594,4.4211652770194743,4.614037879923961,4.3484560513468873,"v3.0.8",null,null,null,"Korrekturfaktor eingefügt für Strommenge im Jahr 2015 (wegen Anpassung der Zubauzahlen an aktuelle Statistik, damit sich die Umlage in 2015 nicht ändert)"]
[303,null,null,null,"Solar",null,null,null,null,null,null,{"$f":"(L244-L254-L264)*L$181*L35/1000","v":1.04344538533368},0.91949544143563988,1.1228679273851152,1.7887471982318153,1.9134887460380088,1.6769904503332611,3.4351027260821145,3.2879472464713122,3.4644821564143014,4.0120240866782879,4.0952303837771966,4.1787749289303369,4.236919262181801,4.2571463023357463,4.1382579491986009,3.8330183151592156,3.5077621421168179,3.2395587029015678,3.1825932611804961,2.6065089917761073,"v3.0.8",null,null,null,"Korrekturfaktor eingefügt für Strommenge im Jahr 2015 (wegen Anpassung der Zubauzahlen an aktuelle Statistik, damit sich die Umlage in 2015 nicht ändert)"]
[304,null,null,null,"Gesamt",null,null,null,null,null,null,{"$f":"SUM(L325:L331)","v":5.1128726167216794},4.6288427277651403,5.8443697373924746,{"$f":"SUM(O325:O331)","v":8.7993625493920149},10.218344162131608,{"$f":"SUM(Q325:Q331)","v":8.2912682071474002},15.683358476290191,14.361583581475827,14.720981048536572,16.020192884569866,16.315855524139874,16.529832797013405,16.844753398002606,17.312498141905074,17.358469619595745,17.254402435514422,16.887587061247327,16.831604204547997,16.885901401349276,15.12253779395364]
[305]
[306,null,null,null,"Einnahmen aus Vermarktung (Nachrechnung ÜNB-Prognosen) (nominal) [Mrd. Euro]",null,null,null,null,null,null,null,null,null,null,null,null,null,null,null,null,null,null,null,null,null,null,null,null,null,null,null,null,null,null,"Einnahmen aus Vermarktung (historisch) = ((Strommenge Festvergütung * Profilfaktor) + (Strommenge Marktprämie * Profilfaktor Marktprämie) * Strompreis "]
[307,null,null,null,"Wasser",{"$f":"(F111*F29+F121*F38)*F$181/1000","v":0.29207321312000001},0.10501383200846999,0.26600449367425993,0.2920044195007499,0.2261362852952,0.21487972800999999,0.19205411863999999,0.16630889274999999,0.17315490799999997,0.25396844524000001,0.2561051131,0.21013767752000001,0,0,0,0,0,0,0,0,0,0,0,0,0,0,"v2.1.33"]
[308,null,null,null,"Gas",{"$f":"(F112*F30+F122*F39)*F$181/1000","v":9.8448630800000006E-2},1.0112351376089998E-2,4.000291416E-2,7.3559837999999989E-2,3.2998406843399997E-2,5.9097831299999994E-2,5.0229127780000001E-2,3.6937294750000002E-2,4.1243785060000003E-2,5.1176493279999999E-2,4.5519695120000002E-2,3.0488240739999999E-2,0,0,0,0,0,0,0,0,0,0,0,0,0,0,"v2.1.33"]
[309,null,null,null,"Biomasse",{"$f":"(F113*F31+F123*F40)*F$181/1000","v":1.4089689057600001},1.2336995107149298,1.6367263219999997,1.6963967063999998,1.44751619535,1.3450249499200002,1.2575831384799998,1.0957814199999998,1.3087707847599999,1.71355489128,1.89561312136,1.4399539238400001,0,0,0,0,0,0,0,0,0,0,0,0,0,0,"v2.1.33"]
[310,null,null,null,"Geothermie",{"$f":"(F114*F32+F124*F41)*F$181/1000","v":1.9314172799999999E-3},3.1261368130799999E-3,5.9217927999999998E-3,3.9321562499999999E-3,5.4060665100000007E-3,5.5775611600000002E-3,5.6387328600000005E-3,5.0720392499999994E-3,6.3954142800000001E-3,9.5174142399999991E-3,7.6872786000000016E-3,7.5227703000000012E-3,0,0,0,0,0,0,0,0,0,0,0,0,0,0,"v2.1.33"]
[311,null,null,null,"Wind Onshore",{"$f":"(F115*F33+F125*F42)*F$181/1000","v":2.1178559170288001},2.1137477995592371,2.4286296678346999,2.4982296734125504,2.1370692271902998,2.0847258126408099,2.0939042314399998,1.9391266764967501,2.3916418348726998,3.1178115079337601,3.8547571148388795,3.0320963474287397,0,0,0,0,0,0,0,0,0,0,0,0,0,0,"v2.1.33"]
[312,null,null,null,"Wind Offshore",{"$f":"(F116*F34+F126*F43)*F$181/1000","v":2.9034835018800002E-2},4.771344804335579E-2,7.6680883025999999E-2,0.12718753755509998,0.28150043965380001,0.37479973,0.47237686600000001,0.49372291699999998,0.64209140899999995,0.96796362800000002,1.165232292,0.91908276599999983,0,0,0,0,0,0,0,0,0,0,0,0,0,0,"v2.1.33"]
[313,null,null,null,"Solar",{"$f":"(F117*F35+F127*F44)*F$181/1000","v":0.53410125849599999},1.1811626028345956,1.3573761625877201,1.6225724000870998,1.4166823516922997,1.05277772906055,1.058441826388,0.91974929968274977,1.1142166543900001,1.6898639748521196,1.81153974393616,1.5664986330043003,0,0,0,0,0,0,0,0,0,0,0,0,0,0,"v2.1.33"]
[314,null,null,null,"Gesamt",{"$f":"SUM(F335:F341)","v":4.4824141775036006},4.6945756813497583,5.8113422360826803,6.3138827312054993,5.5473089725349993,{"$f":"SUM(K335:K341)","v":5.1368833420913607},5.1302280415879995,{"$f":"SUM(M335:M341)","v":4.6566985399294998},5.6775147903626992,7.8038563548258795,9.036454358955039,7.2057803588330405,0,0,0,0,0,0,0,0,0,0,0,0,0,0]
[315]
[316,null,null,null,"Einnahmen aus Vermarktung (nominal)  [Mrd. Euro]"]
[317,null,null,null,"Wasser",{"$f":"IF(F$5<ControlPanel!$D$59,F335,F325)","v":0.29207321312000001},{"$f":"IF(G$5<ControlPanel!$D$59,G335,G325)","v":0.10501383200846999},{"$f":"IF(H$5<ControlPanel!$D$59,H335,H325)","v":0.26600449367425993},{"$f":"IF(I$5<ControlPanel!$D$59,I335,I325)","v":0.2920044195007499},{"$f":"IF(J$5<ControlPanel!$D$59,J335,J325)","v":0.2261362852952},{"$f":"IF(K$5<ControlPanel!$D$59,K335,K325)","v":0.21487972800999999},{"$f":"IF(L$5<ControlPanel!$D$59,L335,L325)","v":0.19205411863999999},{"$f":"IF(M$5<ControlPanel!$D$59,M335,M325)","v":0.16630889274999999},{"$f":"IF(N$5<ControlPanel!$D$59,N335,N325)","v":0.17315490799999997},{"$f":"IF(O$5<ControlPanel!$D$59,O335,O325)","v":0.25396844524000001},{"$f":"IF(P$5<ControlPanel!$D$59,P335,P325)","v":0.2561051131},{"$f":"IF(Q$5<ControlPanel!$D$59,Q335,Q325)","v":0.21013767752000001},{"$f":"IF(R$5<ControlPanel!$D$59,R335,R325)","v":0.57166712352045779},{"$f":"IF(S$5<ControlPanel!$D$59,S335,S325)","v":0.51814356080323598},{"$f":"IF(T$5<ControlPanel!$D$59,T335,T325)","v":0.53073308071639813},{"$f":"IF(U$5<ControlPanel!$D$59,U335,U325)","v":0.54359986504321889},{"$f":"IF(V$5<ControlPanel!$D$59,V335,V325)","v":0.55674483316839818},{"$f":"IF(W$5<ControlPanel!$D$59,W335,W325)","v":0.57017846890613466},{"$f":"IF(X$5<ControlPanel!$D$59,X335,X325)","v":0.58390672409505329},{"$f":"IF(Y$5<ControlPanel!$D$59,Y335,Y325)","v":0.5979356679201463},{"$f":"IF(Z$5<ControlPanel!$D$59,Z335,Z325)","v":0.57263783998574214},{"$f":"IF(AA$5<ControlPanel!$D$59,AA335,AA325)","v":0.55177085001147097},{"$f":"IF(AB$5<ControlPanel!$D$59,AB335,AB325)","v":0.54103177096651345},{"$f":"IF(AC$5<ControlPanel!$D$59,AC335,AC325)","v":0.54020190757755071},{"$f":"IF(AD$5<ControlPanel!$D$59,AD335,AD325)","v":0.50654183677641018},{"$f":"IF(AE$5<ControlPanel!$D$59,AE335,AE325)","v":0.51560198269316793},null,null,null,null,"Hier werden die Ergebnisse für historische und Prognose-Jahre zusammengeführt."]
[318,null,null,null,"Gas",{"$f":"IF(F$5<ControlPanel!$D$59,F336,F326)","v":9.8448630800000006E-2},{"$f":"IF(G$5<ControlPanel!$D$59,G336,G326)","v":1.0112351376089998E-2},{"$f":"IF(H$5<ControlPanel!$D$59,H336,H326)","v":4.000291416E-2},{"$f":"IF(I$5<ControlPanel!$D$59,I336,I326)","v":7.3559837999999989E-2},{"$f":"IF(J$5<ControlPanel!$D$59,J336,J326)","v":3.2998406843399997E-2},{"$f":"IF(K$5<ControlPanel!$D$59,K336,K326)","v":5.9097831299999994E-2},{"$f":"IF(L$5<ControlPanel!$D$59,L336,L326)","v":5.0229127780000001E-2},{"$f":"IF(M$5<ControlPanel!$D$59,M336,M326)","v":3.6937294750000002E-2},{"$f":"IF(N$5<ControlPanel!$D$59,N336,N326)","v":4.1243785060000003E-2},{"$f":"IF(O$5<ControlPanel!$D$59,O336,O326)","v":5.1176493279999999E-2},{"$f":"IF(P$5<ControlPanel!$D$59,P336,P326)","v":4.5519695120000002E-2},{"$f":"IF(Q$5<ControlPanel!$D$59,Q336,Q326)","v":3.0488240739999999E-2},{"$f":"IF(R$5<ControlPanel!$D$59,R336,R326)","v":8.7830071615553743E-2},{"$f":"IF(S$5<ControlPanel!$D$59,S336,S326)","v":6.213285182090679E-2},{"$f":"IF(T$5<ControlPanel!$D$59,T336,T326)","v":4.3826949491569782E-2},{"$f":"IF(U$5<ControlPanel!$D$59,U336,U326)","v":2.7593003905597539E-2},{"$f":"IF(V$5<ControlPanel!$D$59,V336,V326)","v":2.9562515458733288E-2},{"$f":"IF(W$5<ControlPanel!$D$59,W336,W326)","v":3.1979896320731567E-2},{"$f":"IF(X$5<ControlPanel!$D$59,X336,X326)","v":3.5976395312948516E-2},{"$f":"IF(Y$5<ControlPanel!$D$59,Y336,Y326)","v":4.0143238450145793E-2},{"$f":"IF(Z$5<ControlPanel!$D$59,Z336,Z326)","v":4.1838820763144886E-2},{"$f":"IF(AA$5<ControlPanel!$D$59,AA336,AA326)","v":4.5960054154049877E-2},{"$f":"IF(AB$5<ControlPanel!$D$59,AB336,AB326)","v":4.819256119257688E-2},{"$f":"IF(AC$5<ControlPanel!$D$59,AC336,AC326)","v":5.2849042829834644E-2},{"$f":"IF(AD$5<ControlPanel!$D$59,AD336,AD326)","v":5.7532062797054667E-2},{"$f":"IF(AE$5<ControlPanel!$D$59,AE336,AE326)","v":6.2049815364179646E-2}]
[319,null,null,null,"Biomasse",{"$f":"IF(F$5<ControlPanel!$D$59,F337,F327)","v":1.4089689057600001},{"$f":"IF(G$5<ControlPanel!$D$59,G337,G327)","v":1.2336995107149298},{"$f":"IF(H$5<ControlPanel!$D$59,H337,H327)","v":1.6367263219999997},{"$f":"IF(I$5<ControlPanel!$D$59,I337,I327)","v":1.6963967063999998},{"$f":"IF(J$5<ControlPanel!$D$59,J337,J327)","v":1.44751619535},{"$f":"IF(K$5<ControlPanel!$D$59,K337,K327)","v":1.3450249499200002},{"$f":"IF(L$5<ControlPanel!$D$59,L337,L327)","v":1.2575831384799998},{"$f":"IF(M$5<ControlPanel!$D$59,M337,M327)","v":1.0957814199999998},{"$f":"IF(N$5<ControlPanel!$D$59,N337,N327)","v":1.3087707847599999},{"$f":"IF(O$5<ControlPanel!$D$59,O337,O327)","v":1.71355489128},{"$f":"IF(P$5<ControlPanel!$D$59,P337,P327)","v":1.89561312136},{"$f":"IF(Q$5<ControlPanel!$D$59,Q337,Q327)","v":1.4399539238400001},{"$f":"IF(R$5<ControlPanel!$D$59,R337,R327)","v":3.1776151419121463},{"$f":"IF(S$5<ControlPanel!$D$59,S337,S327)","v":2.8186585109215145},{"$f":"IF(T$5<ControlPanel!$D$59,T337,T327)","v":2.7918561692243395},{"$f":"IF(U$5<ControlPanel!$D$59,U337,U327)","v":2.6350616644733269},{"$f":"IF(V$5<ControlPanel!$D$59,V337,V327)","v":2.4461601399524473},{"$f":"IF(W$5<ControlPanel!$D$59,W337,W327)","v":2.2120029144202293},{"$f":"IF(X$5<ControlPanel!$D$59,X337,X327)","v":2.0517269667841496},{"$f":"IF(Y$5<ControlPanel!$D$59,Y337,Y327)","v":2.000039978777131},{"$f":"IF(Z$5<ControlPanel!$D$59,Z337,Z327)","v":1.9055991807882764},{"$f":"IF(AA$5<ControlPanel!$D$59,AA337,AA327)","v":1.7310639579142271},{"$f":"IF(AB$5<ControlPanel!$D$59,AB337,AB327)","v":1.3712558368929759},{"$f":"IF(AC$5<ControlPanel!$D$59,AC337,AC327)","v":1.3118827863828428},{"$f":"IF(AD$5<ControlPanel!$D$59,AD337,AD327)","v":1.2842596441174816},{"$f":"IF(AE$5<ControlPanel!$D$59,AE337,AE327)","v":1.2760810107650897}]
[320,null,null,null,"Geothermie",{"$f":"IF(F$5<ControlPanel!$D$59,F338,F328)","v":1.9314172799999999E-3},{"$f":"IF(G$5<ControlPanel!$D$59,G338,G328)","v":3.1261368130799999E-3},{"$f":"IF(H$5<ControlPanel!$D$59,H338,H328)","v":5.9217927999999998E-3},{"$f":"IF(I$5<ControlPanel!$D$59,I338,I328)","v":3.9321562499999999E-3},{"$f":"IF(J$5<ControlPanel!$D$59,J338,J328)","v":5.4060665100000007E-3},{"$f":"IF(K$5<ControlPanel!$D$59,K338,K328)","v":5.5775611600000002E-3},{"$f":"IF(L$5<ControlPanel!$D$59,L338,L328)","v":5.6387328600000005E-3},{"$f":"IF(M$5<ControlPanel!$D$59,M338,M328)","v":5.0720392499999994E-3},{"$f":"IF(N$5<ControlPanel!$D$59,N338,N328)","v":6.3954142800000001E-3},{"$f":"IF(O$5<ControlPanel!$D$59,O338,O328)","v":9.5174142399999991E-3},{"$f":"IF(P$5<ControlPanel!$D$59,P338,P328)","v":7.6872786000000016E-3},{"$f":"IF(Q$5<ControlPanel!$D$59,Q338,Q328)","v":7.5227703000000012E-3},{"$f":"IF(R$5<ControlPanel!$D$59,R338,R328)","v":2.8501869234317089E-2},{"$f":"IF(S$5<ControlPanel!$D$59,S338,S328)","v":3.3031003561841056E-2},{"$f":"IF(T$5<ControlPanel!$D$59,T338,T328)","v":3.7451305832000639E-2},{"$f":"IF(U$5<ControlPanel!$D$59,U338,U328)","v":4.044785256208884E-2},{"$f":"IF(V$5<ControlPanel!$D$59,V338,V328)","v":4.4328875731071492E-2},{"$f":"IF(W$5<ControlPanel!$D$59,W338,W328)","v":4.914125860643697E-2},{"$f":"IF(X$5<ControlPanel!$D$59,X338,X328)","v":5.4105731841164156E-2},{"$f":"IF(Y$5<ControlPanel!$D$59,Y338,Y328)","v":5.9226040752939101E-2},{"$f":"IF(Z$5<ControlPanel!$D$59,Z338,Z328)","v":6.3813610971700324E-2},{"$f":"IF(AA$5<ControlPanel!$D$59,AA338,AA328)","v":6.9245268765487727E-2},{"$f":"IF(AB$5<ControlPanel!$D$59,AB338,AB328)","v":7.4844296798092888E-2},{"$f":"IF(AC$5<ControlPanel!$D$59,AC338,AC328)","v":7.5964001965699662E-2},{"$f":"IF(AD$5<ControlPanel!$D$59,AD338,AD328)","v":7.6833473070936256E-2},{"$f":"IF(AE$5<ControlPanel!$D$59,AE338,AE328)","v":8.1456037264684741E-2}]
[321,null,null,null,"Wind Onshore",{"$f":"IF(F$5<ControlPanel!$D$59,F339,F329)","v":2.1178559170288001},{"$f":"IF(G$5<ControlPanel!$D$59,G339,G329)","v":2.1137477995592371},{"$f":"IF(H$5<ControlPanel!$D$59,H339,H329)","v":2.4286296678346999},{"$f":"IF(I$5<ControlPanel!$D$59,I339,I329)","v":2.4982296734125504},{"$f":"IF(J$5<ControlPanel!$D$59,J339,J329)","v":2.1370692271902998},{"$f":"IF(K$5<ControlPanel!$D$59,K339,K329)","v":2.0847258126408099},{"$f":"IF(L$5<ControlPanel!$D$59,L339,L329)","v":2.0939042314399998},{"$f":"IF(M$5<ControlPanel!$D$59,M339,M329)","v":1.9391266764967501},{"$f":"IF(N$5<ControlPanel!$D$59,N339,N329)","v":2.3916418348726998},{"$f":"IF(O$5<ControlPanel!$D$59,O339,O329)","v":3.1178115079337601},{"$f":"IF(P$5<ControlPanel!$D$59,P339,P329)","v":3.8547571148388795},{"$f":"IF(Q$5<ControlPanel!$D$59,Q339,Q329)","v":3.0320963474287397},{"$f":"IF(R$5<ControlPanel!$D$59,R339,R329)","v":6.4982234299007446},{"$f":"IF(S$5<ControlPanel!$D$59,S339,S329)","v":5.7952534346266225},{"$f":"IF(T$5<ControlPanel!$D$59,T339,T329)","v":5.7755767039198451},{"$f":"IF(U$5<ControlPanel!$D$59,U339,U329)","v":6.2953191843721346},{"$f":"IF(V$5<ControlPanel!$D$59,V339,V329)","v":6.4257505719905073},{"$f":"IF(W$5<ControlPanel!$D$59,W339,W329)","v":6.5161713966142383},{"$f":"IF(X$5<ControlPanel!$D$59,X339,X329)","v":6.6566742451995617},{"$f":"IF(Y$5<ControlPanel!$D$59,Y339,Y329)","v":6.8791282002947733},{"$f":"IF(Z$5<ControlPanel!$D$59,Z339,Z329)","v":6.91185185683426},{"$f":"IF(AA$5<ControlPanel!$D$59,AA339,AA329)","v":7.0575974973606153},{"$f":"IF(AB$5<ControlPanel!$D$59,AB339,AB329)","v":7.1529334178625925},{"$f":"IF(AC$5<ControlPanel!$D$59,AC339,AC329)","v":7.1899824858710266},{"$f":"IF(AD$5<ControlPanel!$D$59,AD339,AD329)","v":7.1641032434829359},{"$f":"IF(AE$5<ControlPanel!$D$59,AE339,AE329)","v":6.2323839047435241}]
[322,null,null,null,"Wind Offshore",{"$f":"IF(F$5<ControlPanel!$D$59,F340,F330)","v":2.9034835018800002E-2},{"$f":"IF(G$5<ControlPanel!$D$59,G340,G330)","v":4.771344804335579E-2},{"$f":"IF(H$5<ControlPanel!$D$59,H340,H330)","v":7.6680883025999999E-2},{"$f":"IF(I$5<ControlPanel!$D$59,I340,I330)","v":0.12718753755509998},{"$f":"IF(J$5<ControlPanel!$D$59,J340,J330)","v":0.28150043965380001},{"$f":"IF(K$5<ControlPanel!$D$59,K340,K330)","v":0.37479973},{"$f":"IF(L$5<ControlPanel!$D$59,L340,L330)","v":0.47237686600000001},{"$f":"IF(M$5<ControlPanel!$D$59,M340,M330)","v":0.49372291699999998},{"$f":"IF(N$5<ControlPanel!$D$59,N340,N330)","v":0.64209140899999995},{"$f":"IF(O$5<ControlPanel!$D$59,O340,O330)","v":0.96796362800000002},{"$f":"IF(P$5<ControlPanel!$D$59,P340,P330)","v":1.165232292},{"$f":"IF(Q$5<ControlPanel!$D$59,Q340,Q330)","v":0.91908276599999983},{"$f":"IF(R$5<ControlPanel!$D$59,R340,R330)","v":1.8844181140248573},{"$f":"IF(S$5<ControlPanel!$D$59,S340,S330)","v":1.8464169732703928},{"$f":"IF(T$5<ControlPanel!$D$59,T340,T330)","v":2.0770546829381193},{"$f":"IF(U$5<ControlPanel!$D$59,U340,U330)","v":2.4661472275352092},{"$f":"IF(V$5<ControlPanel!$D$59,V340,V330)","v":2.7180782040615195},{"$f":"IF(W$5<ControlPanel!$D$59,W340,W330)","v":2.9715839332152982},{"$f":"IF(X$5<ControlPanel!$D$59,X340,X330)","v":3.2254440725879285},{"$f":"IF(Y$5<ControlPanel!$D$59,Y340,Y330)","v":3.4788787133741916},{"$f":"IF(Z$5<ControlPanel!$D$59,Z340,Z330)","v":3.7244703610540215},{"$f":"IF(AA$5<ControlPanel!$D$59,AA340,AA330)","v":3.9657464921493553},{"$f":"IF(AB$5<ControlPanel!$D$59,AB340,AB330)","v":4.1915670354177594},{"$f":"IF(AC$5<ControlPanel!$D$59,AC340,AC330)","v":4.4211652770194743},{"$f":"IF(AD$5<ControlPanel!$D$59,AD340,AD330)","v":4.614037879923961},{"$f":"IF(AE$5<ControlPanel!$D$59,AE340,AE330)","v":4.3484560513468873}]
[323,null,null,null,"Solar",{"$f":"IF(F$5<ControlPanel!$D$59,F341,F331)","v":0.53410125849599999},{"$f":"IF(G$5<ControlPanel!$D$59,G341,G331)","v":1.1811626028345956},{"$f":"IF(H$5<ControlPanel!$D$59,H341,H331)","v":1.3573761625877201},{"$f":"IF(I$5<ControlPanel!$D$59,I341,I331)","v":1.6225724000870998},{"$f":"IF(J$5<ControlPanel!$D$59,J341,J331)","v":1.4166823516922997},{"$f":"IF(K$5<ControlPanel!$D$59,K341,K331)","v":1.05277772906055},{"$f":"IF(L$5<ControlPanel!$D$59,L341,L331)","v":1.058441826388},{"$f":"IF(M$5<ControlPanel!$D$59,M341,M331)","v":0.91974929968274977},{"$f":"IF(N$5<ControlPanel!$D$59,N341,N331)","v":1.1142166543900001},{"$f":"IF(O$5<ControlPanel!$D$59,O341,O331)","v":1.6898639748521196},{"$f":"IF(P$5<ControlPanel!$D$59,P341,P331)","v":1.81153974393616},{"$f":"IF(Q$5<ControlPanel!$D$59,Q341,Q331)","v":1.5664986330043003},{"$f":"IF(R$5<ControlPanel!$D$59,R341,R331)","v":3.4351027260821145},{"$f":"IF(S$5<ControlPanel!$D$59,S341,S331)","v":3.2879472464713122},{"$f":"IF(T$5<ControlPanel!$D$59,T341,T331)","v":3.4644821564143014},{"$f":"IF(U$5<ControlPanel!$D$59,U341,U331)","v":4.0120240866782879},{"$f":"IF(V$5<ControlPanel!$D$59,V341,V331)","v":4.0952303837771966},{"$f":"IF(W$5<ControlPanel!$D$59,W341,W331)","v":4.1787749289303369},{"$f":"IF(X$5<ControlPanel!$D$59,X341,X331)","v":4.236919262181801},{"$f":"IF(Y$5<ControlPanel!$D$59,Y341,Y331)","v":4.2571463023357463},{"$f":"IF(Z$5<ControlPanel!$D$59,Z341,Z331)","v":4.1382579491986009},{"$f":"IF(AA$5<ControlPanel!$D$59,AA341,AA331)","v":3.8330183151592156},{"$f":"IF(AB$5<ControlPanel!$D$59,AB341,AB331)","v":3.5077621421168179},{"$f":"IF(AC$5<ControlPanel!$D$59,AC341,AC331)","v":3.2395587029015678},{"$f":"IF(AD$5<ControlPanel!$D$59,AD341,AD331)","v":3.1825932611804961},{"$f":"IF(AE$5<ControlPanel!$D$59,AE341,AE331)","v":2.6065089917761073}]
[324,null,null,null,"Gesamt",{"$f":"SUM(F345:F351)","v":4.4824141775036006},4.6945756813497583,5.8113422360826803,6.3138827312054993,5.5473089725349993,5.1368833420913607,{"$f":"SUM(L345:L351)","v":5.1302280415879995},4.6566985399294998,{"$f":"SUM(N345:N351)","v":5.6775147903626992},{"$f":"SUM(O345:O351)","v":7.8038563548258795},9.036454358955039,{"$f":"SUM(Q345:Q351)","v":7.2057803588330405},15.683358476290191,14.361583581475827,14.720981048536572,16.020192884569866,16.315855524139874,16.529832797013405,16.844753398002606,17.312498141905074,17.358469619595745,17.254402435514422,16.887587061247327,16.831604204547997,16.885901401349276,15.12253779395364]
[325]
[326,null,null,null,"Verbleibende Zahlungen für Bestandsanlagen, korrigiert mit Dargebotsfaktor (nominal) [Mrd. Euro/a]",null,null,null,null,null,null,null,null,null,null,null,null,null,null,null,null,null,null,null,null,null,null,null,null,null,null,"v2.1.14",null,null,null,"Verbleibende Zahlungen für Bestandsanlagen multipliziert mit dem Dargebotsfaktor des jeweiligen Prognosejahres \n(um Effekt durch verschiedene Wetterjahre zu berücksichtigen)"]
[327,null,null,null,"Wasser",{"$f":"F83*F47","v":0},0,0,0,0.59286870539361292,0.59589834152286625,0.59589834152286625,0.59589834152286625,0.59589834152286625,0.59589834152286625,0.59589834152286625,0.59589834152286625,0.59589834152286625,0.59589834152286625,0.59589834152286625,0.59589834152286625,0.59589834152286625,0.59589834152286625,0.59589834152286625,0.59589834152286625,0.54195695216777517,0.50533948832503828,0.47262537548595118,0.45094447604902621,0.40388984807890255,0.39783057582039583,"v2.1.14",null,null,null," = verbleibende Zahlungen für Bestandsanlagen * Dargebotsfaktor"]
[328,null,null,null,"Gas",{"$f":"F84*F48","v":0},0,0,0,0.10088070045763399,0.10116121574165485,0.10116121574165485,0.10116121574165485,0.10116121574165485,0.10116121574165485,0.10116121574165485,7.9133545585612253E-2,7.1727150881228011E-2,5.2864086060311559E-2,3.1357929537542545E-2,1.1322285335139877E-2,9.0650761329917826E-3,7.244575089586645E-3,6.9699990613540114E-3,6.741430146899088E-3,3.8404013457238352E-3,3.1931576106920341E-3,1.0846120363654757E-3,8.5736373947492236E-4,5.6103056804173075E-4,0,"v2.1.14"]
[329,null,null,null,"Biomasse",{"$f":"F85*F49","v":0},0,0,0,7.2799949454380881,7.2822097617115737,7.2822097617115737,7.2822097617115737,7.2822097617115737,7.2822097617115737,7.2822097617115737,7.1835599193497597,7.0063821479103723,6.8884682715222976,6.7127656435478675,6.2423181166542427,5.4761455165830508,4.5511637155272862,3.8293232180234993,3.4436416618349535,2.9305329049374462,2.1644259699180277,0.89513810954450024,0.51884364039180542,0.23001388790139352,0,"v2.1.14"]
[330,null,null,null,"Geothermie",{"$f":"F86*F50","v":0},0,0,0,3.5347562923361824E-2,3.7412390998028656E-2,3.7412390998028656E-2,3.7412390998028656E-2,3.7412390998028656E-2,3.7412390998028656E-2,3.7412390998028656E-2,3.7412390998028656E-2,3.7412390998028656E-2,3.7412390998028656E-2,3.7412390998028656E-2,3.7412390998028656E-2,3.7412390998028656E-2,3.7412390998028656E-2,3.7412390998028656E-2,3.7412390998028656E-2,3.5255721675931898E-2,3.5255721675931898E-2,3.5255721675931898E-2,2.0118844946834122E-2,4.1296561493336659E-3,0,"v2.1.14"]
[331,null,null,null,"Wind Onshore",{"$f":"F87*F51","v":0},0,0,0,5.913608732102106,5.9080181485994006,5.8559783800617975,5.7958207532086137,5.7206040650143537,5.5391983038891324,5.3450702699699582,5.0040482709215501,4.5933769461465612,4.1397134228611003,3.7472829262103087,3.4352475905939217,3.1723216082086347,2.9186027412083968,2.5442182293103834,2.3488502345062381,1.9616616738554147,1.6397653312195617,1.212221907437363,0.62948449664969264,0.38775441579484493,0,"v2.1.14"]
[332,null,null,null,"Wind Offshore",{"$f":"F88*F52","v":0},0,0,0,0.60716545563098923,0.60356357547678685,0.60356357547678685,0.60356357547678685,0.60356357547678685,0.60356357547678685,0.60356357547678685,0.59254805064153393,0.56103308229646875,0.49277975552190662,0.46000856913702937,0.35126853272283842,0.15540393694483204,0.10890415353008552,0.10880177353992368,0.10865322218164962,0.1045481204783134,9.8851901663614142E-2,8.5362751275515861E-2,7.5324521014464643E-2,4.6121585919529411E-2,0,"v2.1.14"]
[333,null,null,null,"Solar",{"$f":"F89*F53","v":0},0,0,0,11.066647591016324,10.908026153270542,10.908026153270542,10.908026153270542,10.908026153270542,10.908026153270542,10.908026153270542,10.86119713155138,10.811821691314007,10.762723491319454,10.700911781188493,10.350049468665192,9.8807645450106261,9.4713339193349313,8.8991898717387148,8.0374772613756083,6.2929346397361767,3.7425659024949911,1.7293195011654334,0.49607269647010133,0.15176649063590028,0,"v2.1.14"]
[334,null,null,null,"Gesamt",{"$f":"SUM(F355:F361)","v":0},0,0,0,25.596513692962112,25.436289587320857,25.384249818783253,25.32409219193007,{"$f":"SUM(N355:N361)","v":25.24887550373581},{"$f":"SUM(O355:O361)","v":25.067469742610584},24.873341708691413,{"$f":"SUM(Q355:Q361)","v":24.353797650570733},23.677651751069533,22.969859759805964,22.285637582142137,21.023516726492232,19.327011415401032,17.690559837211183,16.021813824194769,14.578674542566244,11.870730414196782,8.1893974729078565,4.4310079786210608,2.1916460392613994,1.224236915047946,0.39783057582039583]
[335]
[336,null,null,null,"Prognostizierte Deckungslücke (nominal) [Mrd. Euro]"]
[337,null,null,null,"Einnahmen der Anlagenbetreiber (Baujahr>2014) aus Vergütungssatz und Managementprämie  (nominal) [Mrd. Euro]",{"$f":"F302","v":0},0,0,0,0,{"$f":"K302","v":1.2566054532780653},{"$f":"L302","v":3.3386593843961681},{"$f":"M302","v":5.2796315670257057},{"$f":"N302","v":7.080983191846169},8.5415984212444354,9.6945472287530681,10.450351168289068,11.096257183436762,11.82177925268525,12.30593935377264,12.901049429713549,13.366614797162745,13.307005886319255,13.834451227978613,14.381460054870722,15.22404636350079,16.053424808393036,16.864294831097176,17.664252864037429,18.435381930531221,18.759863934284521,"v3.0.9",null,null,null," = Vergütungsansprüche  + Managementprämie für Bestandsanlagen"]
[338,null,null,null,"Einnahmen aus Vermarktung  (nominal) [Mrd. Euro]",{"$f":"F352","v":4.4824141775036006},4.6945756813497583,5.8113422360826803,6.3138827312054993,5.5473089725349993,{"$f":"K352","v":5.1368833420913607},{"$f":"L352","v":5.1302280415879995},{"$f":"M352","v":4.6566985399294998},5.6775147903626992,{"$f":"O352","v":7.8038563548258795},9.036454358955039,{"$f":"Q352","v":7.2057803588330405},15.683358476290191,14.361583581475827,14.720981048536572,16.020192884569866,16.315855524139874,16.529832797013405,16.844753398002606,17.312498141905074,17.358469619595745,17.254402435514422,16.887587061247327,16.831604204547997,16.885901401349276,15.12253779395364,null,null,null,null," = Stromverbrauch Grünstromprivileg * Umlagesatz-Reduktion für Grünstromprivileg (geht als Negativposten in die Bilanz ein)"]
[339,null,null,null,"Effekt Günstromprivileg (nominal) [Mrd. Euro]",{"$f":"F16*F22/1000","v":0},0.87088794588839991,0.12637701999999998,5.1966859999999997E-2,0.11954480000000001,0,0,0,0,0,0,0,0,0,0,0,0,0,0,0,0,0,0,0,0,0]
[340,null,null,null,"vermiedene Netzentgelte (nominal) [Mrd. Euro]",{"$f":"F182*'D-vermiedene Netzentgelte'!F32*SUM('MOD-Berechnungen'!F242:F244)/1000\n+F182*SUM('MOD-Berechnungen'!F238:F241)/1000","v":0.33373085000000002},{"$f":"G182*'D-vermiedene Netzentgelte'!G32*SUM('MOD-Berechnungen'!G242:G244)/1000\n+G182*SUM('MOD-Berechnungen'!G238:G241)/1000","v":0.40558795999999997},{"$f":"H182*'D-vermiedene Netzentgelte'!H32*SUM('MOD-Berechnungen'!H242:H244)/1000\n+H182*SUM('MOD-Berechnungen'!H238:H241)/1000","v":0.43666439499999993},{"$f":"I182*'D-vermiedene Netzentgelte'!I32*SUM('MOD-Berechnungen'!I242:I244)/1000\n+I182*SUM('MOD-Berechnungen'!I238:I241)/1000","v":0.50111063699999991},{"$f":"J182*'D-vermiedene Netzentgelte'!J32*SUM('MOD-Berechnungen'!J242:J244)/1000\n+J182*SUM('MOD-Berechnungen'!J238:J241)/1000","v":0.69335669199999983},{"$f":"K182*'D-vermiedene Netzentgelte'!K32*SUM('MOD-Berechnungen'!K242:K244)/1000\n+K182*SUM('MOD-Berechnungen'!K238:K241)/1000","v":0.74838364323231099},{"$f":"L182*'D-vermiedene Netzentgelte'!L32*SUM('MOD-Berechnungen'!L242:L244)/1000\n+L182*SUM('MOD-Berechnungen'!L238:L241)/1000","v":0.85023012181916047},{"$f":"M182*'D-vermiedene Netzentgelte'!M32*SUM('MOD-Berechnungen'!M242:M244)/1000\n+M182*SUM('MOD-Berechnungen'!M238:M241)/1000","v":0.95970784794646691},{"$f":"N182*'D-vermiedene Netzentgelte'!N32*SUM(N242,N244)/1000\n+N182*SUM('MOD-Berechnungen'!N238:N241)/1000","v":0.67580048700000006},{"$f":"O182*'D-vermiedene Netzentgelte'!O32*SUM(O242,O244)/1000\n+O182*SUM('MOD-Berechnungen'!O238:O241)/1000","v":0.54611158999999998},{"$f":"P182*'D-vermiedene Netzentgelte'!P32*SUM(P242,P244)/1000\n+P182*SUM('MOD-Berechnungen'!P238:P241)/1000","v":0.35041700299999995},{"$f":"Q182*'D-vermiedene Netzentgelte'!Q32*SUM(Q242,Q244)/1000\n+Q182*SUM('MOD-Berechnungen'!Q238:Q241)/1000","v":0.34503326899999998},{"$f":"R182*'D-vermiedene Netzentgelte'!R32*SUM(R242,R244)/1000\n+R182*SUM('MOD-Berechnungen'!R238:R241)/1000","v":0.38811486393792732},{"$f":"S182*'D-vermiedene Netzentgelte'!S32*SUM(S242,S244)/1000\n+S182*SUM('MOD-Berechnungen'!S238:S241)/1000","v":0.38857921005206925},{"$f":"T182*'D-vermiedene Netzentgelte'!T32*SUM(T242,T244)/1000\n+T182*SUM('MOD-Berechnungen'!T238:T241)/1000","v":0.38456312113465285},{"$f":"U182*'D-vermiedene Netzentgelte'!U32*SUM(U242,U244)/1000\n+U182*SUM('MOD-Berechnungen'!U238:U241)/1000","v":0.36601416871624359},{"$f":"V182*'D-vermiedene Netzentgelte'!V32*SUM(V242,V244)/1000\n+V182*SUM('MOD-Berechnungen'!V238:V241)/1000","v":0.34611197852347497},{"$f":"W182*'D-vermiedene Netzentgelte'!W32*SUM(W242,W244)/1000\n+W182*SUM('MOD-Berechnungen'!W238:W241)/1000","v":0.32140275334950807},{"$f":"X182*'D-vermiedene Netzentgelte'!X32*SUM(X242,X244)/1000\n+X182*SUM('MOD-Berechnungen'!X238:X241)/1000","v":0.30530183767439639},{"$f":"Y182*'D-vermiedene Netzentgelte'!Y32*SUM(Y242,Y244)/1000\n+Y182*SUM('MOD-Berechnungen'!Y238:Y241)/1000","v":0.30147674758406179},{"$f":"Z182*'D-vermiedene Netzentgelte'!Z32*SUM(Z242,Z244)/1000\n+Z182*SUM('MOD-Berechnungen'!Z238:Z241)/1000","v":0.28817861502826853},{"$f":"AA182*'D-vermiedene Netzentgelte'!AA32*SUM(AA242,AA244)/1000\n+AA182*SUM('MOD-Berechnungen'!AA238:AA241)/1000","v":0.26688043558437813},{"$f":"AB182*'D-vermiedene Netzentgelte'!AB32*SUM(AB242,AB244)/1000\n+AB182*SUM('MOD-Berechnungen'!AB238:AB241)/1000","v":0.22603120033946736},{"$f":"AC182*'D-vermiedene Netzentgelte'!AC32*SUM(AC242,AC244)/1000\n+AC182*SUM('MOD-Berechnungen'!AC238:AC241)/1000","v":0.21951955311927626},{"$f":"AD182*'D-vermiedene Netzentgelte'!AD32*SUM(AD242,AD244)/1000\n+AD182*SUM('MOD-Berechnungen'!AD238:AD241)/1000","v":0.21289131352302013},{"$f":"AE182*'D-vermiedene Netzentgelte'!AE32*SUM(AE242,AE244)/1000\n+AE182*SUM('MOD-Berechnungen'!AE238:AE241)/1000","v":0.21354686906108666},"v2.1.14",null,null,null," = Strommenge fluktuierende Erzeugung * vermiedene Netzentgelte pro kWh* Skalierungsfaktor \n+ Strommenge nicht fluktuierende Erzeugung * vermiedene Netzentgelte pro kWh"]
[341,null,null,null,"Sonstige Kosten (nominal) [Mrd. Euro]",{"$f":"F183","v":0.38450000000000001},0.42218865985000004,0.23028867101000003,0.15466122681000002,0.29887697133000007,0.19595140036000003,0.13908307713999998,0.14340741743000002,6.8122188890000004E-2,7.0404653730000002E-2,6.4167895450000012E-2,5.9920528000000001E-2,6.0819335919999995E-2,6.1731625958799982E-2,6.2657600348181977E-2,6.3597464353404701E-2,6.4551426318705765E-2,6.5519697713486327E-2,6.6502493179188618E-2,6.7500030576876438E-2,6.8512531035529581E-2,6.9540219001062512E-2,7.0583322286078443E-2,7.1642072120369618E-2,7.2716703202175159E-2,7.380745375020778E-2,"v2.1.14"]
[342,null,null,null,"Einnahmen der Anlagenbetreiber (Baujahr<2015) aus Vergütungssatz und Managementprämie (nominal)  [Mrd. Euro]",{"$f":"IF(ControlPanel!$D$59>F$5,F312-F302,F362)+F322","v":12.667440729999999},{"$f":"IF(ControlPanel!$D$59>G$5,G312-G302,G362)+G322","v":17.126834930000001},{"$f":"IF(ControlPanel!$D$59>H$5,H312-H302,H362)+H322","v":18.937664991119739},{"$f":"IF(ControlPanel!$D$59>I$5,I312-I302,I362)+I322","v":22.796891415220745},{"$f":"IF(ControlPanel!$D$59>J$5,J312-J302,J362)+J322","v":25.293093383584349},{"$f":"IF(ControlPanel!$D$59>K$5,K312-K302,K362)+K322","v":25.760068525031581},{"$f":"IF(ControlPanel!$D$59>L$5,L312-L302,L362)+L322","v":25.783296201870517},{"$f":"IF(ControlPanel!$D$59>M$5,M312-M302,M362)+M322","v":24.736885051243632},{"$f":"IF(ControlPanel!$D$59>N$5,N312-N302,N362)+N322","v":24.880060130911787},{"$f":"IF(ControlPanel!$D$59>O$5,O312-O302,O362)+O322","v":24.618987191037881},{"$f":"IF(ControlPanel!$D$59>P$5,P312-P302,P362)+P322","v":23.944210541902287},{"$f":"IF(ControlPanel!$D$59>Q$5,Q312-Q302,Q362)+Q322","v":23.504580124414808},{"$f":"IF(ControlPanel!$D$59>R$5,R312-R302,R362)+R322","v":24.217566949099091},{"$f":"IF(ControlPanel!$D$59>S$5,S312-S302,S362)+S322","v":23.501795915500107},{"$f":"IF(ControlPanel!$D$59>T$5,T312-T302,T362)+T322","v":22.809712612382672},{"$f":"IF(ControlPanel!$D$59>U$5,U312-U302,U362)+U322","v":21.539846805546947},{"$f":"IF(ControlPanel!$D$59>V$5,V312-V302,V362)+V322","v":19.835711000676614},{"$f":"IF(ControlPanel!$D$59>W$5,W312-W302,W362)+W322","v":18.191741694625549},{"$f":"IF(ControlPanel!$D$59>X$5,X312-X302,X362)+X322","v":16.515589053174441},{"$f":"IF(ControlPanel!$D$59>Y$5,Y312-Y302,Y362)+Y322","v":15.065152600674296},{"$f":"IF(ControlPanel!$D$59>Z$5,Z312-Z302,Z362)+Z322","v":12.350019141396832},{"$f":"IF(ControlPanel!$D$59>AA$5,AA312-AA302,AA362)+AA322","v":8.6616031154694824},{"$f":"IF(ControlPanel!$D$59>AB$5,AB312-AB302,AB362)+AB322","v":4.8962352126719244},{"$f":"IF(ControlPanel!$D$59>AC$5,AC312-AC302,AC362)+AC322","v":2.6499979939913141},{"$f":"IF(ControlPanel!$D$59>AD$5,AD312-AD302,AD362)+AD322","v":1.6758151955700293},{"$f":"IF(ControlPanel!$D$59>AE$5,AE312-AE302,AE362)+AE322","v":0.84273528569436951},"v3.0.9",null,null,null,"Wenn historisches Jahr, dann verwende Zahlen aus ÜNB-Nachrechnung. Ansonsten verwende verbleibende Zahlungen für Bestandsanlagen + Managementprämie für Bestandsanlagen"]
["342.1",null,null,null,"Korrekturfaktor [Mrd. Euro]",-1.6799763492082525E-3,-2.8624077349064143E-3,3.6533487268301935E-3,-1.7381631811784334E-3,7.8679211882863532E-4,3.674879619599624E-2,-1.53525312683006E-2,5.8973858480582605E-3,1.2673943492223994E-2,null,-2.1220285848020475E-2,6.0000000000000001E-3,null,null,null,null,null,null,null,null,null,null,null,null,null,null,null,null,null,null,"neu hinzugefügt"]
[343,null,null,null,"Prognostizierte Deckungslücke (nominal) [Mrd. Euro]",{"$f":"F365-F366+F367-F368+F369+F370+F371","v":8.2341157261471896},13.316885486653737,13.049977399773889,16.186787970644065,19.471636282498178,21.364107189541972,23.265227968731221,24.54941503367143,{"$f":"N365-N366+N367-N368+N369+N370+N371","v":25.688524177777481},{"$f":"O365-O366+O367-O368+O369+O370+O371","v":24.881022321186435},24.294834018302296,{"$f":"Q365-Q366+Q367-Q368+Q369+Q370+Q371","v":26.470038192870835},19.303170128227734,20.635144002616261,20.072765396832267,18.118286646327793,16.604909721494717,14.713031728295377,13.266487538655241,11.900137796632759,9.9959298013091384,7.2632852717647811,4.7174951044683846,3.33476917248184,3.0851211144311295,4.3403220107143712,"v2.1.17",null,null,null,"Prognostizierte Deckungslücke = \nEinnahmen der Anlagenbetreiber \n- Einnahmen aus Vermarktung \n+ Effekt Grünstromprivileg \n- vermiedene Netzentgelte \n+ sonstige Kosten \n+ Einnahmen der Anlagenbetreiber (Baujahr<2015) aus Vergütungssatz und Managementprämie\n+ Kosten Managementprämie Bestandsanlagen\n+ Korrekturfaktor"]
[344]
[345,null,null,null,"Berechnung des Kontostandes am 30.9. für Prognosejahre"]
[346,null,null,null,"Minderung der Vermarktungserlöse wg. Differenz zwischen Future- und Spotpreis  (nominal) [Mrd. Euro]",null,null,null,null,null,{"$f":"K352*(1-K8)","v":0.51368833420913595},0.51302280415879986,0.46566985399294986,0.56775147903626977,0.78038563548258777,0.90364543589550372,-2.8102543399448852,0,0,0,0,0,0,0,0,0,0,0,0,0,0,null,null,null,null,"Minderung der Vermarktungserlöse wg. Differenz zwischen Future- und Spotpreis = Einnahmen aus Vermarktung * (1-Spot-Skalierungsfaktor)"]
[347,null,null,null,"Ausgaben aus vergangenem Jahr  (nominal) [Mrd. Euro]",null,null,null,null,null,{"$f":"J372+J375","v":19.471636282498178},{"$f":"K372+K375","v":21.877795523751107},{"$f":"L372+L375","v":23.778250772890022},{"$f":"M372+M375","v":25.015084887664379},{"$f":"N372+N375","v":26.256275656813752},25.661407956669024,{"$f":"P372+P375","v":25.198479454197802},{"$f":"Q372+Q375","v":23.659783852925948},{"$f":"R372+R375","v":19.303170128227734},{"$f":"S372+S375","v":20.635144002616261},{"$f":"T372+T375","v":20.072765396832267},{"$f":"U372+U375","v":18.118286646327793},{"$f":"V372+V375","v":16.604909721494717},{"$f":"W372+W375","v":14.713031728295377},{"$f":"X372+X375","v":13.266487538655241},{"$f":"Y372+Y375","v":11.900137796632759},{"$f":"Z372+Z375","v":9.9959298013091384},{"$f":"AA372+AA375","v":7.2632852717647811},{"$f":"AB372+AB375","v":4.7174951044683846},{"$f":"AC372+AC375","v":3.33476917248184},{"$f":"AD372+AD375","v":3.0851211144311295},null,null,null,null,"Ausgaben aus vergangenem Jahr = Prognostizierte Deckungslücke im Vorjahr + Minderung der Vermarktungserlöse im Vorjahr"]
[348,null,null,null,"Umlageerlöse aus vergangenem Jahr, ohne monatliche Auflösung (nominal) [Mrd. Euro]",null,null,null,null,null,{"$f":"J384","v":23.615724916227997},{"$f":"K384","v":22.119772971286171},23.070560765604341,24.074569786821716,{"$f":"N384","v":23.900605485374129},{"$f":"O384","v":22.722048305737623},{"$f":"P384","v":24.048015322436477},{"$f":"Q384","v":22.397436289207914},{"$f":"R384","v":15.112628340029644},15.715062435079574,15.039022680485225,13.001017921297525,11.514107106004733,9.5995190487034172,8.1796948872768347,6.8181568121114076,4.8816773215897236,2.0993265999921187,-0.43525230556939931,-1.7481943834373523,-1.929857769051913,null,null,null,null,"Umlagebetrag aus Vorjahr"]
[349,null,null,null,"Gesamtsaldo (nominal) [Mrd. Euro]",null,null,null,null,null,{"$f":"K377-K376","v":4.1440886337298188},{"$f":"L377-L376","v":0.24197744753506356},{"$f":"M377-M376","v":-0.70769000728568088},{"$f":"N377-N376","v":-0.94051510084266354},{"$f":"O377-O376","v":-2.3556701714396233},-2.9393596509314008,{"$f":"Q377-Q376","v":-1.1504641317613249},-1.2623475637180341,{"$f":"S377-S376","v":-4.1905417881980895},-4.9200815675366876,-5.0337427163470423,-5.117268725030268,-5.0908026154899844,-5.1135126795919597,-5.0867926513784063,-5.0819809845213513,-5.1142524797194149,-5.1639586717726624,-5.1527474100377839,-5.0829635559191928,-5.0149788834830424,null,null,null,null,"Gesamtsaldo = Umlageerlöse aus vergangenem Jahr - Ausgaben aus vergangenem Jahr "]
[350]
[351,null,null,null,"Berechnung des Umlagebetrags"]
[352,null,null,null,"Liquiditätsreserve (nominal) [Mrd. euro]",{"$f":"F9*(F372)","v":0},0,0.39149932199321663,1.6186787970644065,1.9471636282498179,2.1364107189541972,2.3265227968731224,1.4729649020202857,1.5413114506666488,1.492861339271186,1.9435867214641838,2.6470038192870837,1.1581902076936641,1.2381086401569756,1.204365923809936,1.0870971987796676,0.99629458328968301,0.88278190369772258,0.79598925231931439,0.71400826779796556,0.59975578807854824,0.43579711630588686,0.28304970626810305,0.20008615034891039,0.18510726686586776,0.26041932064286227,"v2.1.17",null,null,null,"Liquiditätsreserve in Mrd. € = Liquiditätsreserve in % * Deckungslücke"]
[353,null,null,null,"Kontostand am 30.9. des Vorjahres (nominal) [Mrd. Euro]",{"$f":"IF(ControlPanel!$D$59>F$5,F10,\n  IF(ControlPanel!$D$59<F$5,E382+F378+E383,\n     IF('D-Kontostand aktuelles Jahr'!$B$6=\"endogen\",'MOD-Jahresgang'!$Q$9+'D-Prognosefehler Kontostand'!$F$6,\n                    'D-Kontostand aktuelles Jahr'!$F$6+'D-Prognosefehler Kontostand'!$F$6)))","v":0},{"$f":"IF(ControlPanel!$D$59>G$5,G10,\n  IF(ControlPanel!$D$59<G$5,F382+G378+F383,\n     IF('D-Kontostand aktuelles Jahr'!$B$6=\"endogen\",'MOD-Jahresgang'!$Q$9+'D-Prognosefehler Kontostand'!$F$6,\n                    'D-Kontostand aktuelles Jahr'!$F$6+'D-Prognosefehler Kontostand'!$F$6)))","v":-1.11629894236},{"$f":"IF(ControlPanel!$D$59>H$5,H10,\n  IF(ControlPanel!$D$59<H$5,G382+H378+G383,\n     IF('D-Kontostand aktuelles Jahr'!$B$6=\"endogen\",'MOD-Jahresgang'!$Q$9+'D-Prognosefehler Kontostand'!$F$6,\n                    'D-Kontostand aktuelles Jahr'!$F$6+'D-Prognosefehler Kontostand'!$F$6)))","v":-0.71124112144000007},{"$f":"IF(ControlPanel!$D$59>I$5,I10,\n  IF(ControlPanel!$D$59<I$5,H382+I378+H383,\n     IF('D-Kontostand aktuelles Jahr'!$B$6=\"endogen\",'MOD-Jahresgang'!$Q$9+'D-Prognosefehler Kontostand'!$F$6,\n                    'D-Kontostand aktuelles Jahr'!$F$6+'D-Prognosefehler Kontostand'!$F$6)))","v":-2.5889139132900003},{"$f":"IF(ControlPanel!$D$59>J$5,J10,\n  IF(ControlPanel!$D$59<J$5,I382+J378+I383,\n     IF('D-Kontostand aktuelles Jahr'!$B$6=\"endogen\",'MOD-Jahresgang'!$Q$9+'D-Prognosefehler Kontostand'!$F$6,\n                    'D-Kontostand aktuelles Jahr'!$F$6+'D-Prognosefehler Kontostand'!$F$6)))","v":-2.1969250054800002},{"$f":"IF(ControlPanel!$D$59>K$5,K10,\n  IF(ControlPanel!$D$59<K$5,J382+K378+J383,\n     IF('D-Kontostand aktuelles Jahr'!$B$6=\"endogen\",'MOD-Jahresgang'!$Q$9+'D-Prognosefehler Kontostand'!$F$6,\n                    'D-Kontostand aktuelles Jahr'!$F$6+'D-Prognosefehler Kontostand'!$F$6)))","v":1.38074493721},{"$f":"IF(ControlPanel!$D$59>L$5,L10,\n  IF(ControlPanel!$D$59<L$5,K382+L378+K383,\n     IF('D-Kontostand aktuelles Jahr'!$B$6=\"endogen\",'MOD-Jahresgang'!$Q$9+'D-Prognosefehler Kontostand'!$F$6,\n                    'D-Kontostand aktuelles Jahr'!$F$6+'D-Prognosefehler Kontostand'!$F$6)))","v":2.5211899999999998},{"$f":"IF(ControlPanel!$D$59>M$5,M10,\n  IF(ControlPanel!$D$59<M$5,L382+M378+L383,\n     IF('D-Kontostand aktuelles Jahr'!$B$6=\"endogen\",'MOD-Jahresgang'!$Q$9+'D-Prognosefehler Kontostand'!$F$6,\n                    'D-Kontostand aktuelles Jahr'!$F$6+'D-Prognosefehler Kontostand'!$F$6)))","v":1.9478101488699999},{"$f":"IF(ControlPanel!$D$59>N$5,N10,\n  IF(ControlPanel!$D$59<N$5,M382+N378+M383,\n     IF('D-Kontostand aktuelles Jahr'!$B$6=\"endogen\",'MOD-Jahresgang'!$Q$9+'D-Prognosefehler Kontostand'!$F$6,\n                    'D-Kontostand aktuelles Jahr'!$F$6+'D-Prognosefehler Kontostand'!$F$6)))","v":3.3292301430700002},{"$f":"IF(ControlPanel!$D$59>O$5,O10,\n  IF(ControlPanel!$D$59<O$5,N382+O378+N383,\n     IF('D-Kontostand aktuelles Jahr'!$B$6=\"endogen\",'MOD-Jahresgang'!$Q$9+'D-Prognosefehler Kontostand'!$F$6,\n                    'D-Kontostand aktuelles Jahr'!$F$6+'D-Prognosefehler Kontostand'!$F$6)))","v":3.6518353547200002},{"$f":"IF(ControlPanel!$D$59>P$5,P10,\n  IF(ControlPanel!$D$59<P$5,O382+P378+O383,\n     IF('D-Kontostand aktuelles Jahr'!$B$6=\"endogen\",'MOD-Jahresgang'!$Q$9+'D-Prognosefehler Kontostand'!$F$6,\n                    'D-Kontostand aktuelles Jahr'!$F$6+'D-Prognosefehler Kontostand'!$F$6)))","v":2.19040541733},{"$f":"IF(ControlPanel!$D$59>Q$5,Q10,\n  IF(ControlPanel!$D$59<Q$5,P382+Q378+P383,\n     IF('D-Kontostand aktuelles Jahr'!$B$6=\"endogen\",'MOD-Jahresgang'!$Q$9+'D-Prognosefehler Kontostand'!$F$6,\n                    'D-Kontostand aktuelles Jahr'!$F$6+'D-Prognosefehler Kontostand'!$F$6)))","v":-4.0803942770500008},{"$f":"IF(ControlPanel!$D$59>R$5,R10,\n  IF(ControlPanel!$D$59<R$5,Q382+R378+Q383,\n     IF('D-Kontostand aktuelles Jahr'!$B$6=\"endogen\",'MOD-Jahresgang'!$Q$9+'D-Prognosefehler Kontostand'!$F$6,\n                    'D-Kontostand aktuelles Jahr'!$F$6+'D-Prognosefehler Kontostand'!$F$6)))","v":5.348731995891753},{"$f":"IF(ControlPanel!$D$59>S$5,S10,\n  IF(ControlPanel!$D$59<S$5,R382+S378+R383,\n     IF('D-Kontostand aktuelles Jahr'!$B$6=\"endogen\",'MOD-Jahresgang'!$Q$9+'D-Prognosefehler Kontostand'!$F$6,\n                    'D-Kontostand aktuelles Jahr'!$F$6+'D-Prognosefehler Kontostand'!$F$6)))","v":1.1581902076936634},{"$f":"IF(ControlPanel!$D$59>T$5,T10,\n  IF(ControlPanel!$D$59<T$5,S382+T378+S383,\n     IF('D-Kontostand aktuelles Jahr'!$B$6=\"endogen\",'MOD-Jahresgang'!$Q$9+'D-Prognosefehler Kontostand'!$F$6,\n                    'D-Kontostand aktuelles Jahr'!$F$6+'D-Prognosefehler Kontostand'!$F$6)))","v":1.2381086401569759},{"$f":"IF(ControlPanel!$D$59>U$5,U10,\n  IF(ControlPanel!$D$59<U$5,T382+U378+T383,\n     IF('D-Kontostand aktuelles Jahr'!$B$6=\"endogen\",'MOD-Jahresgang'!$Q$9+'D-Prognosefehler Kontostand'!$F$6,\n                    'D-Kontostand aktuelles Jahr'!$F$6+'D-Prognosefehler Kontostand'!$F$6)))","v":1.2043659238099336},{"$f":"IF(ControlPanel!$D$59>V$5,V10,\n  IF(ControlPanel!$D$59<V$5,U382+V378+U383,\n     IF('D-Kontostand aktuelles Jahr'!$B$6=\"endogen\",'MOD-Jahresgang'!$Q$9+'D-Prognosefehler Kontostand'!$F$6,\n                    'D-Kontostand aktuelles Jahr'!$F$6+'D-Prognosefehler Kontostand'!$F$6)))","v":1.0870971987796656},{"$f":"IF(ControlPanel!$D$59>W$5,W10,\n  IF(ControlPanel!$D$59<W$5,V382+W378+V383,\n     IF('D-Kontostand aktuelles Jahr'!$B$6=\"endogen\",'MOD-Jahresgang'!$Q$9+'D-Prognosefehler Kontostand'!$F$6,\n                    'D-Kontostand aktuelles Jahr'!$F$6+'D-Prognosefehler Kontostand'!$F$6)))","v":0.99629458328968123},{"$f":"IF(ControlPanel!$D$59>X$5,X10,\n  IF(ControlPanel!$D$59<X$5,W382+X378+W383,\n     IF('D-Kontostand aktuelles Jahr'!$B$6=\"endogen\",'MOD-Jahresgang'!$Q$9+'D-Prognosefehler Kontostand'!$F$6,\n                    'D-Kontostand aktuelles Jahr'!$F$6+'D-Prognosefehler Kontostand'!$F$6)))","v":0.88278190369772158},{"$f":"IF(ControlPanel!$D$59>Y$5,Y10,\n  IF(ControlPanel!$D$59<Y$5,X382+Y378+X383,\n     IF('D-Kontostand aktuelles Jahr'!$B$6=\"endogen\",'MOD-Jahresgang'!$Q$9+'D-Prognosefehler Kontostand'!$F$6,\n                    'D-Kontostand aktuelles Jahr'!$F$6+'D-Prognosefehler Kontostand'!$F$6)))","v":0.79598925231931528},{"$f":"IF(ControlPanel!$D$59>Z$5,Z10,\n  IF(ControlPanel!$D$59<Z$5,Y382+Z378+Y383,\n     IF('D-Kontostand aktuelles Jahr'!$B$6=\"endogen\",'MOD-Jahresgang'!$Q$9+'D-Prognosefehler Kontostand'!$F$6,\n                    'D-Kontostand aktuelles Jahr'!$F$6+'D-Prognosefehler Kontostand'!$F$6)))","v":0.714008267797964},{"$f":"IF(ControlPanel!$D$59>AA$5,AA10,\n  IF(ControlPanel!$D$59<AA$5,Z382+AA378+Z383,\n     IF('D-Kontostand aktuelles Jahr'!$B$6=\"endogen\",'MOD-Jahresgang'!$Q$9+'D-Prognosefehler Kontostand'!$F$6,\n                    'D-Kontostand aktuelles Jahr'!$F$6+'D-Prognosefehler Kontostand'!$F$6)))","v":0.59975578807854912},{"$f":"IF(ControlPanel!$D$59>AB$5,AB10,\n  IF(ControlPanel!$D$59<AB$5,AA382+AB378+AA383,\n     IF('D-Kontostand aktuelles Jahr'!$B$6=\"endogen\",'MOD-Jahresgang'!$Q$9+'D-Prognosefehler Kontostand'!$F$6,\n                    'D-Kontostand aktuelles Jahr'!$F$6+'D-Prognosefehler Kontostand'!$F$6)))","v":0.43579711630588669},{"$f":"IF(ControlPanel!$D$59>AC$5,AC10,\n  IF(ControlPanel!$D$59<AC$5,AB382+AC378+AB383,\n     IF('D-Kontostand aktuelles Jahr'!$B$6=\"endogen\",'MOD-Jahresgang'!$Q$9+'D-Prognosefehler Kontostand'!$F$6,\n                    'D-Kontostand aktuelles Jahr'!$F$6+'D-Prognosefehler Kontostand'!$F$6)))","v":0.28304970626810277},{"$f":"IF(ControlPanel!$D$59>AD$5,AD10,\n  IF(ControlPanel!$D$59<AD$5,AC382+AD378+AC383,\n     IF('D-Kontostand aktuelles Jahr'!$B$6=\"endogen\",'MOD-Jahresgang'!$Q$9+'D-Prognosefehler Kontostand'!$F$6,\n                    'D-Kontostand aktuelles Jahr'!$F$6+'D-Prognosefehler Kontostand'!$F$6)))","v":0.20008615034890997},{"$f":"IF(ControlPanel!$D$59>AE$5,AE10,\n  IF(ControlPanel!$D$59<AE$5,AD382+AE378+AD383,\n     IF('D-Kontostand aktuelles Jahr'!$B$6=\"endogen\",'MOD-Jahresgang'!$Q$9+'D-Prognosefehler Kontostand'!$F$6,\n                    'D-Kontostand aktuelles Jahr'!$F$6+'D-Prognosefehler Kontostand'!$F$6)))","v":0.18510726686586754},"v2.1.19",null,null,null,"Kontostand am 30.9. des Vorjahres aus monatsscharfer Berechnung auf dem Blatt Mod-Jahresgang"]
["353.01",null,null,null,"jährliche Zuschüsse aus dem Bundeshaushalt",{"$f":"'D-Zuschuss'!F$6","v":0},{"$f":"'D-Zuschuss'!G$6","v":0},{"$f":"'D-Zuschuss'!H$6","v":0},{"$f":"'D-Zuschuss'!I$6","v":0},{"$f":"'D-Zuschuss'!J$6","v":0},{"$f":"'D-Zuschuss'!K$6","v":0},{"$f":"'D-Zuschuss'!L$6","v":0},{"$f":"'D-Zuschuss'!M$6","v":0},{"$f":"'D-Zuschuss'!N$6","v":0},{"$f":"'D-Zuschuss'!O$6","v":0},{"$f":"'D-Zuschuss'!P$6","v":0},{"$f":"'D-Zuschuss'!Q$6","v":10.8},{"$f":"'D-Zuschuss'!R$6","v":0},{"$f":"'D-Zuschuss'!S$6","v":5},{"$f":"'D-Zuschuss'!T$6","v":5},{"$f":"'D-Zuschuss'!U$6","v":5},{"$f":"'D-Zuschuss'!V$6","v":5},{"$f":"'D-Zuschuss'!W$6","v":5},{"$f":"'D-Zuschuss'!X$6","v":5},{"$f":"'D-Zuschuss'!Y$6","v":5},{"$f":"'D-Zuschuss'!Z$6","v":5},{"$f":"'D-Zuschuss'!AA$6","v":5},{"$f":"'D-Zuschuss'!AB$6","v":5},{"$f":"'D-Zuschuss'!AC$6","v":5},{"$f":"'D-Zuschuss'!AD$6","v":5},{"$f":"'D-Zuschuss'!AE$6","v":5},"v2.1.19"]
[354,null,null,null,"Umlagebetrag (nominal) [Mrd. Euro]",{"$f":"F372+F381-F382","v":8.2341157261471896},{"$f":"G372+G381-G382","v":14.433184429013737},14.152717843207107,{"$f":"I372+I381-I382-I383","v":20.394380680998474},{"$f":"J372+J381-J382-J383","v":23.615724916227997},22.119772971286171,23.070560765604341,24.074569786821716,23.900605485374129,22.722048305737623,24.048015322436477,22.397436289207914,{"$f":"R372+R381-R382-R383","v":15.112628340029644},15.715062435079574,15.039022680485225,13.001017921297525,11.514107106004733,9.5995190487034172,8.1796948872768347,6.8181568121114076,4.8816773215897236,2.0993265999921187,-0.43525230556939931,-1.7481943834373523,-1.929857769051913,-0.58436593550863414,null,null,null,null,"Umlagebetrag = Prognostizierte Deckungslücke + Liquiditätsreserve - Kontostand - Zuschüsse aus dem Bundeshaushalt"]
[355]
[356,null,null,null,"Berechnung des Umlagesatzes"]
[357,null,null,null,"Kernumlage (nominal) [ct/kWh]",{"$f":"F372/F186*100","v":2.0469999999999997},3.2569808831230973,3.3121213422965754,4.1882948767683201,5.1450044762037139,5.9588029975693937,6.3917932409198031,6.995571406341659,7.28593560848803,7.0153140806712573,6.8274787719158541,7.6861898320156605,5.4568485856648961,5.6590054490963198,5.3576603111024887,4.7100659793854094,4.2185598698448112,3.6546335822220088,3.2232097591176214,2.8284106572689698,2.3244188864361162,1.653191807280735,1.05145314115403,0.72852589060969242,0.66099019589711516,0.9125299369945763,null,null,null,null,"Kernumlage = Prognostizierte Deckungslücke / für EEG-Umlage anzulegenden Letztverbrauch"]
[358,null,null,null,"Umlageanteil aus Liquiditätsreserve (nominal) [ct/kWh]",{"$f":"F381/F$186*100","v":0},0,9.9363640268897269E-2,0.41882948767683209,0.51450044762037139,0.59588029975693935,0.63917932409198042,0.41973428438049953,{"$f":"N381/N$186*100","v":0.43715613650928181},{"$f":"O381/O$186*100","v":0.42091884484027542},0.54619830175326833,{"$f":"Q381/Q$186*100","v":0.76861898320156619},0.32741091513989379,0.33954032694577918,0.3214596186661493,0.28260395876312455,0.25311359219068863,0.21927801493332055,0.19339258554705727,0.1697046394361382,0.13946513318616696,9.91915084368441E-2,6.3087188469241787E-2,4.3711553436581542E-2,3.9659411753826909E-2,5.4751796219674589E-2,null,null,null,null,"Umlage aus Liquiditätsreserve = Liquiditätsreserve / für EEG-Umlage anzulegenden Letztverbrauch"]
[359,null,null,null,"Umlageanteil aus Kontostand (nominal) [ct/kWh]",{"$f":"-F382/F$186*100","v":0},0.27301911687690317,0.18051501743452761,0.66987563555484619,{"$f":"-J382/J$186*100","v":0.580495076175914},{"$f":"-K382/K$186*100","v":-0.38511260956194937},-0.69266139247521119,-0.55504560755227295,-0.94425652016355122,-1.0296510992816279,-0.61556075984894099,1.184837164735316,{"$f":"-R382/R$186*100","v":-1.5120428630632512},-0.31762340478929796,-0.33046595180397664,-0.31308937071143955,-0.27618244810184911,-0.24747392033920404,-0.21447962310145521,-0.18918978274088205,-0.16603300900770268,-0.13651003893170066,-9.7132108608161363E-2,-6.1836075806204649E-2,-4.2868652091738825E-2,-3.891783193812999E-2,null,null,null,null,"Umlageanteil aus Kontostand = - Kontostand am 30.9. des Vorjahres  / für EEG-Umlage anzulegenden Letztverbrauch"]
[360,null,null,null,"EEG-Umlage gesamt (nominal) [ct/kWh]",{"$f":"F384/F$186*100","v":2.0469999999999997},3.5300000000000007,3.5920000000000005,{"$f":"I384/I$186*100","v":5.2769999999999992},6.2399999999999993,6.1695706877643843,6.3383111725365717,{"$f":"M384/M$186*100","v":6.8602600831698846},6.7788352248337613,{"$f":"O384/O$186*100","v":6.406581826229905},{"$f":"P384/P$186*100","v":6.7581163138201807},{"$f":"Q384/Q$186*100","v":6.5036153637169205},{"$f":"R384/R$186*100","v":4.272216637741538},4.3097166630738721,4.0140943880966908,3.379770582274936,2.9252161552923015,2.384466052710402,1.9873287718738313,1.6205314358430076,1.1351683324450654,0.47782641133551845,-9.7010679131812466E-2,-0.38191694965343059,-0.41347390183558697,-0.12285987283779966,null,null,null,null,"EEG-Umlage gesamt = Umlagebetrag / für EEG-Umlage anzulegenden Letztverbrauch"]
[361]
[362,null,null,null,"historische EEG-Umlage (nominal) [ct/kWh]",2.0470000000000002,3.53,3.5920000000000001,5.2770000000000001,6.24,6.17,6.3540000000000001,6.88,6.7919999999999998,6.4050000000000002,6.7560000000000002]
[363,null,null,null,"Abweichung zwischen Berechnung und Historie (%)",{"$f":"(-F392+F390)/F392*100","v":-2.1694636533955185E-14},2.5160861747878903E-14,1.2363285352173235E-14,-1.6831124117872375E-14,-1.423362852083534E-14,-6.9580589240777575E-3,-0.24691261352578481,{"$f":"(-M392+M390)/M392*100","v":-0.28691739578656006},{"$f":"(-N392+N390)/N392*100","v":-0.1938276673474453},{"$f":"(-O392+O390)/O392*100","v":2.4696740513735677E-2},{"$f":"(-P392+P390)/P392*100","v":3.1324952933400166E-2}]
[364,null,null,null,"Korrekturbetrag [Mrd. Euro]",{"$f":"F186*(F392-F390)/(1+F9)/100","v":1.7863614785728775E-15},-3.6315135800005308E-15,-1.6987775650909044E-15,3.1205486595365809E-15,3.0557950518893146E-15,1.3992853969336319E-3,5.1913749360240943E-2,6.5351777958254711E-2,4.3788634955940119E-2,-5.2926601585427625E-3,-6.9728430575738045E-3,null,null,null,null,null,null,null,null,null,null,null,null,null,null,null,null,null,null,null,"Korrekturfaktor = anzulegender Letztverbrauch * (Umlage real - Umlage berechnet)/(1-Liquiditätsreserve)"]
[]
[]
[]
[]
[null,null,null,null,null,null,null,null,null,null,null,null,null,null,null,null,null,null,null,null,null,null,null,null,null,null,null,null,null,null,null,{"$f":"AF74*AF47+(SUMPRODUCT($K56:AF56,$K92:AF92))*AF47/1000","v":0},{"$f":"AG74*AG47+(SUMPRODUCT($K56:AG56,$K92:AG92))*AG47/1000","v":{"$error":"#VALUE!"}},{"$f":"AH74*AH47+(SUMPRODUCT($K56:AH56,$K92:AH92))*AH47/1000","v":0},{"$f":"AI74*AI47+(SUMPRODUCT($K56:AI56,$K92:AI92))*AI47/1000","v":0}]
[null,null,null,null,null,null,null,null,null,null,null,null,null,null,null,null,null,null,null,null,null,null,null,null,null,null,null,null,null,null,null,{"$f":"AF75*AF48+(SUMPRODUCT($K57:AF57,$K93:AF93))*AF48/1000","v":0},{"$f":"AG75*AG48+(SUMPRODUCT($K57:AG57,$K93:AG93))*AG48/1000","v":{"$error":"#VALUE!"}},{"$f":"AH75*AH48+(SUMPRODUCT($K57:AH57,$K93:AH93))*AH48/1000","v":0},{"$f":"AI75*AI48+(SUMPRODUCT($K57:AI57,$K93:AI93))*AI48/1000","v":0}]
[null,null,null,null,null,null,null,null,null,null,null,null,null,null,null,null,null,null,null,null,null,null,null,null,null,null,null,null,null,null,null,{"$f":"AF76*AF49+(SUMPRODUCT($K58:AF58,$K94:AF94))*AF49/1000","v":0},{"$f":"AG76*AG49+(SUMPRODUCT($K58:AG58,$K94:AG94))*AG49/1000","v":{"$error":"#VALUE!"}},{"$f":"AH76*AH49+(SUMPRODUCT($K58:AH58,$K94:AH94))*AH49/1000","v":0},{"$f":"AI76*AI49+(SUMPRODUCT($K58:AI58,$K94:AI94))*AI49/1000","v":0}]
[null,null,null,null,null,null,null,null,null,null,null,null,null,null,null,null,null,null,null,null,null,null,null,null,null,null,null,null,null,null,null,{"$f":"AF77*AF50+(SUMPRODUCT($K59:AF59,$K95:AF95))*AF50/1000","v":0},{"$f":"AG77*AG50+(SUMPRODUCT($K59:AG59,$K95:AG95))*AG50/1000","v":{"$error":"#VALUE!"}},{"$f":"AH77*AH50+(SUMPRODUCT($K59:AH59,$K95:AH95))*AH50/1000","v":0},{"$f":"AI77*AI50+(SUMPRODUCT($K59:AI59,$K95:AI95))*AI50/1000","v":0}]

{"sheet":"MOD-Jahresgang","index":10,"n_rows":110,"n_cols":20,"rows_kept":110,"cut":false,"hidden":true,"merged":[]}
[null,"Monatsscharfe Berechnung des Kontostands im aktuellen Jahr."]
[null,null,null,null,null,null,null,null,"aktuelles Jahr:",null,null,null,null,null,null,null,null,"wann hinzugefügt","zuletzt verändert"]
[null,"rosa: aus anderen Blättern eingelesen",null,null,null,null,null,null,{"$f":"ControlPanel!$D$59-1","v":2021},null,null,null,null,null,null,null,null,null,"v2.1.19"]
[null,"blau: hier berechnet",null,null,9,10,11,12,1,2,3,4,5,6,7,8,9]
[null,null,null,null,{"$f":"CONCATENATE(\"Sept \",$I$3-1)","v":"Sept 2020"},{"$f":"CONCATENATE(\"Okt \",$I$3-1)","v":"Okt 2020"},{"$f":"CONCATENATE(\"Nov \",$I$3-1)","v":"Nov 2020"},{"$f":"CONCATENATE(\"Dez \",$I$3-1)","v":"Dez 2020"},{"$f":"CONCATENATE(\"Jan \",$I$3)","v":"Jan 2021"},{"$f":"CONCATENATE(\"Feb \",$I$3)","v":"Feb 2021"},{"$f":"CONCATENATE(\"Mar \",$I$3)","v":"Mar 2021"},{"$f":"CONCATENATE(\"Apr \",$I$3)","v":"Apr 2021"},{"$f":"CONCATENATE(\"Mai \",$I$3)","v":"Mai 2021"},{"$f":"CONCATENATE(\"Jun \",$I$3)","v":"Jun 2021"},{"$f":"CONCATENATE(\"Jul \",$I$3)","v":"Jul 2021"},{"$f":"CONCATENATE(\"Aug \",$I$3)","v":"Aug 2021"},{"$f":"CONCATENATE(\"Sep \",$I$3)","v":"Sep 2021"}]
[null,"Kontostand ÜNB (Euro)",null,null,null,-4307222476.8599997,-4428900160.9899998,-4373872551.1300001,1258293308.9000001,2075827592.47,2447467981.4000001,2452612494.54,5074873184.3500004,4718390359.7200003,null,null,null,null,"v.2.1.9"]
[null,"Kontostand ÜNB [Mrd. Euro]",null,null,null,{"$f":"F6*0.000000001","v":-4.3072224768599998},-4.4289001609899996,-4.3738725511300007,1.2582933089000001,2.07582759247,{"$f":"K6*0.000000001","v":2.4474679814000004},2.4526124945400003,5.0748731843500003,{"$f":"N6*0.000000001","v":4.7183903597200008},0,0,0,null,"v2.1.25"]
[null,"informativ: Kontostand Modell",null,null,null,{"$f":"E9+OFFSET(F10,0,-$C$12)+F17","v":-3.9890834794200005},{"$f":"F9+OFFSET(G10,0,-$C$12)+G17","v":-4.516182650431249},-3.9359944468549695,1.0480839185718427,1.4405272522075889,2.3972330812573071,2.0277107594903976,4.9350558408762577,4.47926620524201,6.6384633479690676,5.9965176578789805,5.348731995891753]
[null,"Kontostand Modell [Mrd. Euro]",null,null,{"$f":"OFFSET('MOD-Berechnungen'!$I10,0,'MOD-Jahresgang'!$I$3-2013)","v":-4.0803942770500008},{"$f":"IF(ISNUMBER(F6),F7,E9+OFFSET(F10,0,-$C$12)+F17)","v":-4.3072224768599998},{"$f":"IF(ISNUMBER(G6),G7,F9+OFFSET(G10,0,-$C$12)+G17)","v":-4.4289001609899996},-4.3738725511300007,{"$f":"IF(ISNUMBER(I6),I7,H9+OFFSET(I10,0,-$C$12)+I17)","v":1.2582933089000001},2.07582759247,2.4474679814000004,2.4526124945400003,5.0748731843500003,4.7183903597200008,6.6384633479690676,5.9965176578789805,5.348731995891753]
[null,"Saldo Modell ohne staatl. Zuschüsse [Mrd. Euro]",null,null,{"$f":"91310797.6300004/10^9","v":9.1310797630000398E-2},{"$f":"F110","v":-0.20896017357124932},{"$f":"G110","v":0.49290571413503026},{"$f":"H110","v":0.32195646970184344},0.18223394330758888,0.3214054887873069,-0.41975722190960274,-0.51755665366374215,-0.59560697910799032,-0.77992701175093315,-0.64194569009008706,{"$f":"P110","v":-0.64778566198722753},-0.44561227717339713]
[null,"Saldo ÜNB",null,null,null,null,{"$f":"G7-F7","v":-0.1216776841299998},{"$f":"H7-G7","v":5.5027609859998883E-2},5.6321658600300006,0.81753428356999991,0.3716403889300004,5.1445131399998623E-3,2.62226068981,-0.35648282462999958,-4.7183903597200008,0,0]
[null,"Zeitverschiebung zwischen Einspeisung und Buchung [Monate]",1]
[null,"Prognose der monatlichen Einnahmen und Ausgaben:"]
[]
[null,"Staatliche Zuschüsse",{"$f":"$I$3-1","v":2020},{"$f":"$I$3","v":2021}]
[null,"monatl. Verteilung der Zuschüsse[-]","-",null,0,0,0,0,{"$f":"5.1/10.8","v":0.47222222222222215},0,0,0,0,0,{"$f":"1-I16","v":0.5277777777777779},0,0]
[null,"staatliche Zuschüsse [Mrd. Euro]",{"$f":"OFFSET('MOD-Berechnungen'!$I383,0,'MOD-Jahresgang'!$C$15-2013)","v":0},{"$f":"OFFSET('MOD-Berechnungen'!$I383,0,'MOD-Jahresgang'!$D$15-2013)","v":10.8},{"$f":"E16*$C$17","v":0},{"$f":"F16*$C$17","v":0},{"$f":"G16*$C$17","v":0},0,{"$f":"I16*$D$17","v":5.0999999999999996},{"$f":"J16*$D$17","v":0},0,0,3,0,2.7,0,0]
[]
[null,"Last-Skalierungsfaktor [-]","-",null,null,0.99441288064982081,1.0615770076261226,1.016616689841304,1.0654120167840537,1.0808045297769597,1.0285210198134074,0.97918443519059672,0.98647178203863473,0.94383927292442515,0.93996955672495841,0.92452828083915595,0.97866252779055829]
[]
[null,"Volllaststunden pro Monat [h]"]
[null,"Wasser",null,null,null,274,282,359,411,409,477,446,399,295,238,254,263]
[null,"Gas",null,null,null,260,251,260,259,236,259,251,259,251,259,259,251]
[null,"Biomasse",null,null,null,502,486,502,502,454,502,486,502,486,502,502,486]
[null,"Geothermie",null,null,null,350,298,318,318,277,349,362,413,394,413,414,395]
[null,"Wind Onshore",null,null,null,167,164,197,229,186,181,118,103,96,102,100,120]
[null,"Wind Offshore",null,null,null,490,397,523,425,324,442,286,273,321,146,280,280]
[null,"PV",null,null,null,71,30,18,23,36,79,108,118,126,126,111,99]
[]
[null,"Installierte Kapazitäten [GW]",{"$f":"CONCATENATE(\"Ende \",$I$3-2)","v":"Ende 2019"},{"$f":"CONCATENATE(\"Ende \",$I$3-1)","v":"Ende 2020"},{"$f":"CONCATENATE(\"Ende \",$I$3)","v":"Ende 2021"},"Monatsende"]
[null,"Wasser",{"$f":"OFFSET('MOD-Berechnungen'!$I209,0,'MOD-Jahresgang'!$I$3-2013-2)","v":1.8454332599999996},{"$f":"OFFSET('MOD-Berechnungen'!$I209,0,'MOD-Jahresgang'!$I$3-2013-1)","v":1.8584332599999995},{"$f":"OFFSET('MOD-Berechnungen'!$I209,0,'MOD-Jahresgang'!$I$3-2013)","v":1.8724332599999995},{"$f":"$C31+($D31-$C31)*F$4/12","v":1.8562665933333329},{"$f":"$C31+($D31-$C31)*G$4/12","v":1.8573499266666662},1.8584332599999995,{"$f":"$D31+($E31-$D31)*I$4/12","v":1.8595999266666663},{"$f":"$D31+($E31-$D31)*J$4/12","v":1.8607665933333328},1.8619332599999996,1.8630999266666661,1.8642665933333329,1.8654332599999996,1.8665999266666662,1.8677665933333329,1.8689332599999995]
[null,"Gas",{"$f":"OFFSET('MOD-Berechnungen'!$I210,0,'MOD-Jahresgang'!$I$3-2013-2)","v":0.62766499999999992},{"$f":"OFFSET('MOD-Berechnungen'!$I210,0,'MOD-Jahresgang'!$I$3-2013-1)","v":0.62966499999999992},{"$f":"OFFSET('MOD-Berechnungen'!$I210,0,'MOD-Jahresgang'!$I$3-2013)","v":0.4540148},{"$f":"$C32+($D32-$C32)*F$4/12","v":0.62933166666666662},0.62949833333333327,0.62966499999999992,{"$f":"$D32+($E32-$D32)*I$4/12","v":0.61502748333333324},0.60038996666666655,0.58575244999999998,0.5711149333333333,0.55647741666666661,0.54183989999999993,0.52720238333333325,0.51256486666666667,0.49792734999999999]
[null,"Biomasse",{"$f":"OFFSET('MOD-Berechnungen'!$I211,0,'MOD-Jahresgang'!$I$3-2013-2)","v":8.3256447400000013},{"$f":"OFFSET('MOD-Berechnungen'!$I211,0,'MOD-Jahresgang'!$I$3-2013-1)","v":8.5016447400000015},{"$f":"OFFSET('MOD-Berechnungen'!$I211,0,'MOD-Jahresgang'!$I$3-2013)","v":8.449833970000002},8.4723114066666678,8.4869780733333346,8.5016447400000015,8.497327175833334,8.4930096116666682,8.4886920475000025,8.484374483333335,8.4800569191666675,8.4757393550000018,8.471421790833336,8.4671042266666685,8.462786662500001]
[null,"Geothermie",{"$f":"OFFSET('MOD-Berechnungen'!$I212,0,'MOD-Jahresgang'!$I$3-2013-2)","v":0.05},{"$f":"OFFSET('MOD-Berechnungen'!$I212,0,'MOD-Jahresgang'!$I$3-2013-1)","v":5.5E-2},{"$f":"OFFSET('MOD-Berechnungen'!$I212,0,'MOD-Jahresgang'!$I$3-2013)","v":6.4000000000000001E-2},5.4166666666666669E-2,5.4583333333333331E-2,5.5E-2,5.5750000000000001E-2,5.6500000000000002E-2,5.7250000000000002E-2,5.8000000000000003E-2,5.8750000000000004E-2,5.9499999999999997E-2,6.0249999999999998E-2,6.0999999999999999E-2,6.1749999999999999E-2]
[null,"Wind Onshore",{"$f":"OFFSET('MOD-Berechnungen'!$I213,0,'MOD-Jahresgang'!$I$3-2013-2)","v":53.303567479999991},{"$f":"OFFSET('MOD-Berechnungen'!$I213,0,'MOD-Jahresgang'!$I$3-2013-1)","v":54.103567479999995},{"$f":"OFFSET('MOD-Berechnungen'!$I213,0,'MOD-Jahresgang'!$I$3-2013)","v":53.797774369999992},53.970234146666662,54.036900813333325,54.103567479999995,54.078084720833331,54.05260196166666,54.027119202499996,54.001636443333325,53.976153684166661,53.950670924999997,53.925188165833326,53.899705406666662,53.874222647499991]
[null,"Wind Offshore",{"$f":"OFFSET('MOD-Berechnungen'!$I214,0,'MOD-Jahresgang'!$I$3-2013-2)","v":7.5280000000000005},{"$f":"OFFSET('MOD-Berechnungen'!$I214,0,'MOD-Jahresgang'!$I$3-2013-1)","v":7.7470000000000008},{"$f":"OFFSET('MOD-Berechnungen'!$I214,0,'MOD-Jahresgang'!$I$3-2013)","v":7.7470000000000008},7.7105000000000006,7.7287500000000007,7.7470000000000008,7.7470000000000008,7.7470000000000008,7.7470000000000008,7.7470000000000008,7.7470000000000008,7.7470000000000008,7.7470000000000008,7.7470000000000008,7.7470000000000008]
[null,"PV",{"$f":"OFFSET('MOD-Berechnungen'!$I215,0,'MOD-Jahresgang'!$I$3-2013-2)","v":49.046999999999997},{"$f":"OFFSET('MOD-Berechnungen'!$I215,0,'MOD-Jahresgang'!$I$3-2013-1)","v":53.847999999999999},{"$f":"OFFSET('MOD-Berechnungen'!$I215,0,'MOD-Jahresgang'!$I$3-2013)","v":59.138027506000064},53.04783333333333,53.447916666666664,53.847999999999999,54.288835625500006,54.729671251000013,55.170506876500014,55.611342502000021,56.052178127500028,56.493013753000028,56.933849378500035,57.374685004000042,57.81552062950005]
[]
[null,"Spotmarktpreis (day ahead, monatsmittel) [Euro/MWh]",null,{"$f":"$I$3","v":2021}]
[null,"Future",null,{"$f":"OFFSET('MOD-Berechnungen'!$I7,0,'MOD-Jahresgang'!$I$3-2013)","v":40.74}]
[null,"Skalierungsfaktor",null,{"$f":"OFFSET('MOD-Berechnungen'!$I8,0,'MOD-Jahresgang'!$I$3-2013)","v":1.39}]
[null,"Spotmarktpreis",null,{"$f":"D41*D40","v":56.628599999999999},null,{"$f":"$D$42","v":56.628599999999999},56.628599999999999,56.628599999999999,{"$f":"$D$42","v":56.628599999999999},{"$f":"$D$42","v":56.628599999999999},56.628599999999999,56.628599999999999,56.628599999999999,56.628599999999999,56.628599999999999,56.628599999999999,56.628599999999999]
[]
[null,"Mittlere Vergütungssätze [Euro/MWh]",{"$f":"$I$3-1","v":2020},{"$f":"$I$3","v":2021}]
[null,"Wasser",{"$f":"OFFSET('MOD-Berechnungen'!$I140,0,'MOD-Jahresgang'!$I$3-2013-1)","v":94.824277922477592},{"$f":"OFFSET('MOD-Berechnungen'!$I140,0,'MOD-Jahresgang'!$I$3-2013)","v":96.066608000039679},null,{"$f":"$C45","v":94.824277922477592},{"$f":"$C45","v":94.824277922477592},{"$f":"$C45","v":94.824277922477592},{"$f":"$D45","v":96.066608000039679},{"$f":"$D45","v":96.066608000039679},96.066608000039679,96.066608000039679,96.066608000039679,96.066608000039679,96.066608000039679,96.066608000039679,{"$f":"$D45","v":96.066608000039679},null,"v2.1.30"]
[null,"Gas",{"$f":"OFFSET('MOD-Berechnungen'!$I141,0,'MOD-Jahresgang'!$I$3-2013-1)","v":69.098674383868556},{"$f":"OFFSET('MOD-Berechnungen'!$I141,0,'MOD-Jahresgang'!$I$3-2013)","v":71.292092493824555},null,{"$f":"$C46","v":69.098674383868556},69.098674383868556,69.098674383868556,{"$f":"$D46","v":71.292092493824555},71.292092493824555,71.292092493824555,71.292092493824555,71.292092493824555,71.292092493824555,71.292092493824555,71.292092493824555,71.292092493824555,null,"v2.1.30"]
[null,"Biomasse",{"$f":"OFFSET('MOD-Berechnungen'!$I142,0,'MOD-Jahresgang'!$I$3-2013-1)","v":192.3639566092275},{"$f":"OFFSET('MOD-Berechnungen'!$I142,0,'MOD-Jahresgang'!$I$3-2013)","v":197.60807852307477},null,192.3639566092275,192.3639566092275,192.3639566092275,197.60807852307477,197.60807852307477,197.60807852307477,197.60807852307477,197.60807852307477,197.60807852307477,197.60807852307477,197.60807852307477,197.60807852307477,null,"v2.1.30"]
[null,"Geothermie",{"$f":"OFFSET('MOD-Berechnungen'!$I143,0,'MOD-Jahresgang'!$I$3-2013-1)","v":245.91407182317226},{"$f":"OFFSET('MOD-Berechnungen'!$I143,0,'MOD-Jahresgang'!$I$3-2013)","v":248.65452372169901},null,245.91407182317226,245.91407182317226,245.91407182317226,248.65452372169901,248.65452372169901,248.65452372169901,248.65452372169901,248.65452372169901,248.65452372169901,248.65452372169901,248.65452372169901,248.65452372169901,null,"v2.1.30"]
[null,"Wind Onshore",{"$f":"OFFSET('MOD-Berechnungen'!$I144,0,'MOD-Jahresgang'!$I$3-2013-1)","v":84.943185603231001},{"$f":"OFFSET('MOD-Berechnungen'!$I144,0,'MOD-Jahresgang'!$I$3-2013)","v":87.658156173485565},null,84.943185603231001,84.943185603231001,84.943185603231001,87.658156173485565,87.658156173485565,87.658156173485565,87.658156173485565,87.658156173485565,87.658156173485565,87.658156173485565,87.658156173485565,87.658156173485565,null,"v2.1.30"]
[null,"Wind Offshore",{"$f":"OFFSET('MOD-Berechnungen'!$I145,0,'MOD-Jahresgang'!$I$3-2013-1)","v":184.61609509608459},{"$f":"OFFSET('MOD-Berechnungen'!$I145,0,'MOD-Jahresgang'!$I$3-2013)","v":185.38314339176773},null,184.61609509608459,184.61609509608459,184.61609509608459,185.38314339176773,185.38314339176773,185.38314339176773,185.38314339176773,185.38314339176773,185.38314339176773,185.38314339176773,185.38314339176773,185.38314339176773,null,"v2.1.30"]
[null,"PV",{"$f":"OFFSET('MOD-Berechnungen'!$I146,0,'MOD-Jahresgang'!$I$3-2013-1)","v":264.37474625040585},{"$f":"OFFSET('MOD-Berechnungen'!$I146,0,'MOD-Jahresgang'!$I$3-2013)","v":249.07864310282855},null,264.37474625040585,264.37474625040585,264.37474625040585,249.07864310282855,249.07864310282855,249.07864310282855,249.07864310282855,249.07864310282855,249.07864310282855,249.07864310282855,249.07864310282855,249.07864310282855,null,"v2.1.30"]
[]
[null,"Profilfaktoren  [-]",{"$f":"$I$3-1","v":2020},{"$f":"$I$3","v":2021}]
[null,"Wasser",{"$f":"OFFSET('MOD-Berechnungen'!$I29,0,'MOD-Jahresgang'!$I$3-2013-1)","v":1},{"$f":"OFFSET('MOD-Berechnungen'!$I29,0,'MOD-Jahresgang'!$I$3-2013)","v":1},null,{"$f":"$C54","v":1},{"$f":"$C54","v":1},1,{"$f":"$D54","v":1},1,1,1,1,1,1,1,1]
[null,"Gas",{"$f":"OFFSET('MOD-Berechnungen'!$I30,0,'MOD-Jahresgang'!$I$3-2013-1)","v":1},{"$f":"OFFSET('MOD-Berechnungen'!$I30,0,'MOD-Jahresgang'!$I$3-2013)","v":1},null,{"$f":"$C55","v":1},1,1,1,1,1,1,1,1,1,1,1]
[null,"Biomasse",{"$f":"OFFSET('MOD-Berechnungen'!$I31,0,'MOD-Jahresgang'!$I$3-2013-1)","v":1},{"$f":"OFFSET('MOD-Berechnungen'!$I31,0,'MOD-Jahresgang'!$I$3-2013)","v":1},null,1,1,1,1,1,1,1,1,1,1,1,1]
[null,"Geothermie",{"$f":"OFFSET('MOD-Berechnungen'!$I32,0,'MOD-Jahresgang'!$I$3-2013-1)","v":1},{"$f":"OFFSET('MOD-Berechnungen'!$I32,0,'MOD-Jahresgang'!$I$3-2013)","v":1},null,1,1,1,1,1,1,1,1,1,1,1,1]
[null,"Wind Onshore",{"$f":"OFFSET('MOD-Berechnungen'!$I33,0,'MOD-Jahresgang'!$I$3-2013-1)","v":0.89200000000000002},{"$f":"OFFSET('MOD-Berechnungen'!$I33,0,'MOD-Jahresgang'!$I$3-2013)","v":0.86899999999999999},null,{"$f":"$C58","v":0.89200000000000002},0.89200000000000002,0.89200000000000002,0.86899999999999999,0.86899999999999999,0.86899999999999999,0.86899999999999999,0.86899999999999999,0.86899999999999999,0.86899999999999999,0.86899999999999999,0.86899999999999999]
[null,"Wind Offshore",{"$f":"OFFSET('MOD-Berechnungen'!$I34,0,'MOD-Jahresgang'!$I$3-2013-1)","v":0.92200000000000004},{"$f":"OFFSET('MOD-Berechnungen'!$I34,0,'MOD-Jahresgang'!$I$3-2013)","v":0.88800000000000001},null,0.92200000000000004,0.92200000000000004,0.92200000000000004,0.88800000000000001,0.88800000000000001,0.88800000000000001,0.88800000000000001,0.88800000000000001,0.88800000000000001,0.88800000000000001,0.88800000000000001,0.88800000000000001]
[null,"PV",{"$f":"OFFSET('MOD-Berechnungen'!$I35,0,'MOD-Jahresgang'!$I$3-2013-1)","v":0.95299999999999996},{"$f":"OFFSET('MOD-Berechnungen'!$I35,0,'MOD-Jahresgang'!$I$3-2013)","v":0.91500000000000004},null,0.95299999999999996,0.95299999999999996,0.95299999999999996,0.91500000000000004,0.91500000000000004,0.91500000000000004,0.91500000000000004,0.91500000000000004,0.91500000000000004,0.91500000000000004,0.91500000000000004,0.91500000000000004]
[]
[null,null,null,"Dargebotsfaktor [-]"]
[null,"Stromerzeugung Gesamt [TWh]",null,{"$f":"$I$3","v":2021}]
[null,"Wasser",null,{"$f":"OFFSET('MOD-Berechnungen'!$I47,0,'MOD-Jahresgang'!$I$3-2013)","v":1},null,{"$f":"F31*F22*$D64/1000","v":0.50861704657333318},0.52377267931999982,0.66717754033999987,0.76429556985999991,0.7610535366733332,0.88814216501999976,0.83094256729333316,0.74384237073999981,0.55030281169999984,0.4442507825466665,0.47441271470666657,0.49152944737999987]
[null,"Gas",null,{"$f":"OFFSET('MOD-Berechnungen'!$I48,0,'MOD-Jahresgang'!$I$3-2013)","v":1},null,{"$f":"F32*F23*$D65/1000","v":0.16362623333333332},0.15800408166666666,0.16371289999999999,0.1592921181833333,0.14169203213333331,0.15170988455000001,0.14334984826666666,0.14412765091666666,0.13600181489999996,0.1365454172833333,0.13275430046666667,0.12497976484999999]
[null,"Biomasse",null,{"$f":"OFFSET('MOD-Berechnungen'!$I49,0,'MOD-Jahresgang'!$I$3-2013)","v":1},null,{"$f":"F33*F24*$D66/1000","v":4.2531003261466678},4.1246713436400002,4.2678256594800006,4.2656582422683336,3.855826363696667,4.2613234078450013,4.1234059989000009,4.2569885734216673,4.1192093265300009,4.252653738998335,4.250486321786668,4.112914317975001]
[null,"Geothermie",null,{"$f":"OFFSET('MOD-Berechnungen'!$I50,0,'MOD-Jahresgang'!$I$3-2013)","v":1},null,{"$f":"F34*F25*$D67/1000","v":1.8958333333333334E-2},1.6265833333333334E-2,1.7489999999999999E-2,1.7728500000000001E-2,1.5650500000000001E-2,1.9980250000000001E-2,2.0996000000000001E-2,2.4263750000000001E-2,2.3442999999999999E-2,2.4883249999999999E-2,2.5253999999999999E-2,2.439125E-2]
[null,"Wind Onshore",null,{"$f":"OFFSET('MOD-Berechnungen'!$I51,0,'MOD-Jahresgang'!$I$3-2013)","v":1},null,{"$f":"F35*F26*$D68/1000","v":9.0130291024933324},8.8620517333866644,10.658402793559999,12.383881401070832,10.05378396487,9.7789085756524994,6.3721931003133321,5.5595438294691659,5.1792644087999999,5.5003691929149987,5.389970540666666,6.464906717699999]
[null,"Wind Offshore",null,{"$f":"OFFSET('MOD-Berechnungen'!$I52,0,'MOD-Jahresgang'!$I$3-2013)","v":1},null,{"$f":"F36*F27*$D69/1000","v":3.7781450000000003},3.0683137500000002,4.0516810000000003,3.2924750000000005,2.5100280000000001,3.4241740000000003,2.2156420000000003,2.1149309999999999,2.4867870000000001,1.1310620000000002,2.1691600000000002,2.1691600000000002]
[null,"PV",null,{"$f":"OFFSET('MOD-Berechnungen'!$I53,0,'MOD-Jahresgang'!$I$3-2013)","v":1},null,{"$f":"F37*F28*$D70/1000","v":3.7663961666666665},1.6034375000000001,0.96926400000000001,1.2486432193865,1.9702681650360006,4.3584700432435008,6.0060249902160026,6.6141570190450025,7.1181197328780037,7.1736650216910052,6.3685900354440044,5.7237365423205047]
[]
[]
[null,"Einnahmen Anlagenbetreiber [Mrd. Euro]",null,null,"aktuelles Jahr von Oktober bis September"]
[null,"Wasser",null,null,{"$f":"SUM(F74:Q74)","v":0.73263858333291698},{"$f":"F64*F45/1000","v":4.8229244180379473E-2},4.9666366112040394E-2,6.3264628508835158E-2,7.342328290590755E-2,7.3111831774640923E-2,8.5320805215282874E-2,7.9825833882715233E-2,7.1458413443699742E-2,5.2865724492903533E-2,4.2677665780621481E-2,{"$f":"P64*P45/1000","v":4.5575220293959995E-2},4.7219566741930577E-2,null,"v2.1.30"]
[null,"Gas",null,null,{"$f":"SUM(F75:Q75)","v":0.1241098135536088},{"$f":"F65*F46/1000","v":1.1306355817758899E-2},1.0917872590407175E-2,1.1312344369538834E-2,1.1356268423063429E-2,1.010152146048756E-2,1.0815715121566045E-2,1.0219710641602917E-2,1.0275161820068657E-2,9.6958539671788049E-3,9.734608518571268E-3,9.4643318678225754E-3,8.9100689555426434E-3,null,"v2.1.30"]
[null,"Biomasse",null,null,9.8425570073549427,{"$f":"F66*F47/1000","v":0.81814320659356898},0.79343809937528909,0.82097582997595864,0.84292852889076197,0.76194243884871282,0.84207193058965157,0.81481833641314894,0.84121533228854084,0.81398904004992234,0.84035873398743044,0.83993043483687513,0.81274509550508256,null,"v2.1.30"]
[null,"Geothermie",null,null,6.1846272513476012E-2,{"$f":"F67*F48/1000","v":4.6621209449809742E-3},3.9999973065970827E-3,4.3010371161872826E-3,4.4082717238001405E-3,3.8915676235064508E-3,4.968179547590477E-3,5.2207503800607924E-3,6.0332911999523746E-3,5.8292079996077901E-3,6.187332677397967E-3,6.2795213420677861E-3,6.064994651726891E-3,null,"v2.1.30"]
[null,"Wind Onshore",null,null,8.2690181972670747,{"$f":"F68*F49/1000","v":0.7655954039004137},0.75277090521449852,0.90535868672736275,1.0855482098889901,0.88129616492705942,0.85720109513078413,0.55857469795487324,0.48733936125694616,0.4540047684103658,0.48215222172437172,0.47247487942424504,0.56670180270716253,null,"v2.1.30"]
[null,"Wind Offshore",null,null,6.000197243780601,{"$f":"F69*F50/1000","v":0.6975063766067966},0.56646010305462391,0.74800552479499915,0.61036936503881056,0.46531688064135196,0.63478413964036295,0.41074267859082314,0.39207255683669467,0.46100839100578389,0.20967982893097961,0.40212569931968695,0.40212569931968695,null,"v2.1.30"]
[null,"PV",null,null,13.278397682066215,{"$f":"F70*F51/1000","v":0.99574003084100127},0.42390838219088517,0.25624892404965338,0.31101035880433686,0.49075172109586684,1.0856018043754176,1.495972555004681,1.6474452555727785,1.7729716045087216,1.7868067496770186,1.5862797645065874,1.4256605314392667,null,"v2.1.30"]
[]
[null,"Einnahmen aus Vermarktung [Mrd. Euro]",null,null,"aktuelles Jahr von Oktober bis September"]
[null,"Wasser",null,null,{"$f":"SUM(F83:Q83)","v":0.43311474304191816},{"$f":"F64*F$42*F54/1000","v":2.8802271283582655E-2},2.9660513548140543E-2,3.7781330060897719E-2,4.3280988107373991E-2,4.3097396306859513E-2,5.0294247406051561E-2,4.7055114266227244E-2,4.212275207568715E-2,3.116287780263461E-2,2.515729986452216E-2,2.6865327856037936E-2,2.7834624463903061E-2,null,"v2.1.30"]
[null,"Gas",null,null,{"$f":"SUM(F84:Q84)","v":9.9428272001661294E-2},{"$f":"F65*F$42*F55/1000","v":9.2659245169399978E-3},8.9475499390689987E-3,9.2708323289399999E-3,9.0204896437567073E-3,8.0238214108656787E-3,8.5911183682281303E-3,8.1177012175537595E-3,8.1617470926995499E-3,7.7015923752461381E-3,7.7323758171709686E-3,7.5176901794066801E-3,7.0774291117847096E-3,null,"v2.1.30"]
[null,"Biomasse",null,null,2.8395881211505118,{"$f":"F66*F$42*F56/1000","v":0.24084711712922918},0.23357436365045212,0.24168099214042918,0.24155825433811653,0.21835004881923309,0.24131277873349144,0.23350270894930858,0.24106730312886623,0.23326505726833682,0.24082182752424111,0.24069908972192849,0.23290857974687912,null,"v2.1.30"]
[null,"Geothermie",null,null,1.4117774246799998E-2,{"$f":"F67*F$42*F57/1000","v":1.0735838749999999E-3},9.2111136949999989E-4,9.904342139999999E-4,1.0039401351000002E-3,8.8626590430000002E-4,1.13145358515E-3,1.1889740855999999E-3,1.3740221932500001E-3,1.3275442698E-3,1.4091036109499999E-3,1.4300986644E-3,1.38124233975E-3,null,"v2.1.30"]
[null,"Wind Onshore",null,null,4.7227821729358803,{"$f":"F68*F$42*F58/1000","v":0.45527253609144086},0.44764625984801998,0.53838482216436945,0.60941394182224273,0.49474925654010932,0.48122256898329252,0.31357723718015068,0.27358656063658399,0.25487291398264916,0.27067456177690058,0.26524181612474163,0.31813969778537921,null,"v2.1.30"]
[null,"Wind Offshore",null,null,1.6508369993832552,{"$f":"F69*F$42*F59/1000","v":0.19726287911513402},0.16020147568543652,0.21154462290782522,0.16556604580908005,0.12621976198151041,0.17218868764144321,0.11141620965034561,0.1063518364844208,0.1250510604816816,5.6876806325001611E-2,0.109078806650688,0.109078806650688,null,"v2.1.30"]
[null,"PV",null,null,2.7557397879709202,{"$f":"F70*F$42*F60/1000","v":0.20326131209140608},8.6532801034312504E-2,5.2308324372931203E-2,6.4698659433215566E-2,0.10208977794666026,0.22583486187209931,0.31120319988626555,0.34271366373435302,0.3688265769213086,0.3717046654483081,0.32998956897824711,0.29657637625181266,null,"v2.1.30"]
[]
[null,"Einnahmen aus Umlagezahlungen von verschiedenen Letztverbrauchern [Mrd. Euro]",{"$f":"$I$3-1","v":2020},{"$f":"$I$3","v":2021},"aktuelles Jahr von Oktober bis September"]
[null,"Einnahmen durch Umlagezahlungen nicht privilegierter Letztverbrauch",{"$f":"OFFSET('MOD-Berechnungen'!$I185,0,'MOD-Jahresgang'!$I$3-2013-1)*OFFSET('MOD-Berechnungen'!$I390,0,'MOD-Jahresgang'!$I$3-2013-1)/100","v":23.252845747155028},{"$f":"OFFSET('MOD-Berechnungen'!$I185,0,'MOD-Jahresgang'!$I$3-2013)*OFFSET('MOD-Berechnungen'!$I390,0,'MOD-Jahresgang'!$I$3-2013)/100","v":21.567921937973843},{"$f":"3/12*C92 + 9/12*D92","v":21.989152890269139},{"$f":"$C92/12*F19","v":1.9269107768945306},{"$f":"$C92/12*G19","v":2.0570572005880541},{"$f":"$C92/12*H19","v":1.9699359227385991},{"$f":"$D92/12*I19","v":1.9148936008148125},1.9425589773698329,1.848588422241735,1.7599144550891499,1.7730121990852685,1.6963876467023327,1.6894325019596483,{"$f":"$D92/12*P19","v":1.6616794825490062},1.7589764169172433,null,null,"nicht-priv.Letztverbrauch (TWh) * EEG-Umlage (ct/kWh) /100"]
[null,"Einnahmen durch Umlagezahlungen privilegierter Letztverbrauch",{"$f":"OFFSET('MOD-Berechnungen'!$I12,0,'MOD-Jahresgang'!$I$3-2013-1)*OFFSET('MOD-Berechnungen'!$I17,0,'MOD-Jahresgang'!$I$3-2013-1)*(1-OFFSET('MOD-Berechnungen'!$I18,0,'MOD-Jahresgang'!$I$3-2013-1))*OFFSET('MOD-Berechnungen'!$I390,0,'MOD-Jahresgang'!$I$3-2013-1)/100","v":0.44473750674681178},{"$f":"OFFSET('MOD-Berechnungen'!$I12,0,'MOD-Jahresgang'!$I$3-2013)*OFFSET('MOD-Berechnungen'!$I17,0,'MOD-Jahresgang'!$I$3-2013)*(1-OFFSET('MOD-Berechnungen'!$I18,0,'MOD-Jahresgang'!$I$3-2013))*OFFSET('MOD-Berechnungen'!$I390,0,'MOD-Jahresgang'!$I$3-2013)/100","v":0.41990360429802659},{"$f":"3/12*C93 + 9/12*D93","v":0.42611207991022287},{"$f":"$C93/12","v":3.7061458895567646E-2},{"$f":"$C93/12","v":3.7061458895567646E-2},{"$f":"$C93/12","v":3.7061458895567646E-2},{"$f":"$D93/12","v":3.4991967024835549E-2},{"$f":"$D93/12","v":3.4991967024835549E-2},3.4991967024835549E-2,3.4991967024835549E-2,3.4991967024835549E-2,3.4991967024835549E-2,3.4991967024835549E-2,3.4991967024835549E-2,3.4991967024835549E-2,null,null,"priv. Letztverbrauch (TWh) * Anteil an Umlage des priv. LV * (1-Faktor Zusatzprivilegierung) * EEG-Umlage (ct/kWh) /100"]
[null,"Einnahmen durch Umlagezahlungen Eigenverbrauch Bestand",{"$f":"OFFSET('MOD-Berechnungen'!$I13,0,'MOD-Jahresgang'!$I$3-2013-1)*OFFSET('MOD-Berechnungen'!$I19,0,'MOD-Jahresgang'!$I$3-2013-1)*OFFSET('MOD-Berechnungen'!$I390,0,'MOD-Jahresgang'!$I$3-2013-1)/100","v":0},{"$f":"OFFSET('MOD-Berechnungen'!$I13,0,'MOD-Jahresgang'!$I$3-2013)*OFFSET('MOD-Berechnungen'!$I19,0,'MOD-Jahresgang'!$I$3-2013)*OFFSET('MOD-Berechnungen'!$I390,0,'MOD-Jahresgang'!$I$3-2013)/100","v":0},{"$f":"3/12*C94 + 9/12*D94","v":0},{"$f":"$C94/12","v":0},0,0,{"$f":"$D94/12","v":0},0,0,0,0,0,0,0,0,null,"v2.1.9","Eigenverbrauch Bestand (TWh) *  Anteil an Umlage für Eigenverbrauch Bestand * EEG-Umlage (ct/kWh)/100"]
[null,"Einnahmen durch Umlagezahlungen Eigenverbrauch (Bestand, PV)",{"$f":"OFFSET('MOD-Berechnungen'!$I254,0,'MOD-Jahresgang'!$I$3-2013-1)*OFFSET('MOD-Berechnungen'!$I19,0,'MOD-Jahresgang'!$I$3-2013-1)*OFFSET('MOD-Berechnungen'!$I390,0,'MOD-Jahresgang'!$I$3-2013-1)/100","v":0},{"$f":"OFFSET('MOD-Berechnungen'!$I254,0,'MOD-Jahresgang'!$I$3-2013)*OFFSET('MOD-Berechnungen'!$I19,0,'MOD-Jahresgang'!$I$3-2013)*OFFSET('MOD-Berechnungen'!$I390,0,'MOD-Jahresgang'!$I$3-2013)/100","v":0},{"$f":"3/12*C95 + 9/12*D95","v":0},0,0,0,{"$f":"$D95/12","v":0},0,0,0,0,0,0,0,0,null,"v2.1.9","Eigenverbrauch Bestand PV(TWh) *  Anteil an Umlage für Eigenverbrauch Bestand * EEG-Umlage (ct/kWh)/100"]
[null,"Einnahmen durch Umlagezahlungen Eigenverbrauch (Neu, KWK)",{"$f":"OFFSET('MOD-Berechnungen'!$I14,0,'MOD-Jahresgang'!$I$3-2013-1)*OFFSET('MOD-Berechnungen'!$I20,0,'MOD-Jahresgang'!$I$3-2013-1)*OFFSET('MOD-Berechnungen'!$I390,0,'MOD-Jahresgang'!$I$3-2013-1)/100","v":8.3717362129056547E-2},{"$f":"OFFSET('MOD-Berechnungen'!$I14,0,'MOD-Jahresgang'!$I$3-2013)*OFFSET('MOD-Berechnungen'!$I20,0,'MOD-Jahresgang'!$I$3-2013)*OFFSET('MOD-Berechnungen'!$I390,0,'MOD-Jahresgang'!$I$3-2013)/100","v":0.12737884274038652},0.11646347258755403,{"$f":"$C96/12","v":6.9764468440880458E-3},6.9764468440880458E-3,6.9764468440880458E-3,1.0614903561698877E-2,1.0614903561698877E-2,1.0614903561698877E-2,1.0614903561698877E-2,1.0614903561698877E-2,1.0614903561698877E-2,1.0614903561698877E-2,1.0614903561698877E-2,1.0614903561698877E-2,null,null,"Eigenverbrauch KWK neu (TWh) * Anteil an Umlage für Eigenverbrauch PV und KWK neu * EEG-Umlage (ct/kWh)/100"]
[null,"Einnahmen durch Umlagezahlungen Eigenverbrauch (Neu, PV)",{"$f":"OFFSET('MOD-Berechnungen'!$I264,0,'MOD-Jahresgang'!$I$3-2013-1)*OFFSET('MOD-Berechnungen'!$I20,0,'MOD-Jahresgang'!$I$3-2013-1)*OFFSET('MOD-Berechnungen'!$I390,0,'MOD-Jahresgang'!$I$3-2013-1)/100","v":1.9609995370776935E-2},{"$f":"OFFSET('MOD-Berechnungen'!$I264,0,'MOD-Jahresgang'!$I$3-2013)*OFFSET('MOD-Berechnungen'!$I20,0,'MOD-Jahresgang'!$I$3-2013)*OFFSET('MOD-Berechnungen'!$I390,0,'MOD-Jahresgang'!$I$3-2013)/100","v":2.9712518516326045E-2},2.7186887729938769E-2,1.6341662808980778E-3,1.6341662808980778E-3,1.6341662808980778E-3,2.4760432096938372E-3,2.4760432096938372E-3,2.4760432096938372E-3,2.4760432096938372E-3,2.4760432096938372E-3,2.4760432096938372E-3,2.4760432096938372E-3,2.4760432096938372E-3,2.4760432096938372E-3,null,null,"Eigenverbrauch PV neu (TWh) * Anteil an Umlage für Eigenverbrauch PV und KWK neu * EEG-Umlage (ct/kWh) /100"]
[null,"Einnahmen durch Umlagezahlungen von Grünstrom",{"$f":"OFFSET('MOD-Berechnungen'!$I16,0,'MOD-Jahresgang'!$I$3-2013-1)*(OFFSET('MOD-Berechnungen'!$I390,0,'MOD-Jahresgang'!$I$3-2013-1)-OFFSET('MOD-Berechnungen'!$I22,0,'MOD-Jahresgang'!$I$3-2013-1)/10)/100","v":0},{"$f":"OFFSET('MOD-Berechnungen'!$I16,0,'MOD-Jahresgang'!$I$3-2013)*(OFFSET('MOD-Berechnungen'!$I390,0,'MOD-Jahresgang'!$I$3-2013)-OFFSET('MOD-Berechnungen'!$I22,0,'MOD-Jahresgang'!$I$3-2013)/10)/100","v":0},{"$f":"3/12*C98 + 9/12*D98","v":0},{"$f":"$C98/12","v":0},{"$f":"$C98/12","v":0},{"$f":"$C98/12","v":0},{"$f":"$D98/12","v":0},0,0,0,0,0,0,0,0,null,null,"Grünstrommenge (TWh) * (EEG-Umlage (ct/kWh) - Umlagereduktion für Grünstrom (€/MWh) /10)/100"]
[]
[null,"Sonstiges [Mrd. Euro]",{"$f":"$I$3-1","v":2020},{"$f":"$I$3","v":2021},"aktuelles Jahr von Oktober bis September"]
[null,"vermiedene Netzentgelte [Mrd. Euro]",{"$f":"OFFSET('MOD-Berechnungen'!$I368,0,'MOD-Jahresgang'!$I$3-2013-1)","v":0.35041700299999995},{"$f":"OFFSET('MOD-Berechnungen'!$I368,0,'MOD-Jahresgang'!$I$3-2013)","v":0.34503326899999998},{"$f":"3/12*C101 + 9/12*D101","v":0.34637920249999998},{"$f":"$C101/12","v":2.9201416916666664E-2},{"$f":"$C101/12","v":2.9201416916666664E-2},2.9201416916666664E-2,{"$f":"$D101/12","v":2.8752772416666666E-2},{"$f":"$D101/12","v":2.8752772416666666E-2},2.8752772416666666E-2,2.8752772416666666E-2,2.8752772416666666E-2,2.8752772416666666E-2,2.8752772416666666E-2,2.8752772416666666E-2,2.8752772416666666E-2]
[null,"Sonstige Kosten [Mrd. Euro]",{"$f":"OFFSET('MOD-Berechnungen'!$I369,0,'MOD-Jahresgang'!$I$3-2013-1)","v":6.4167895450000012E-2},{"$f":"OFFSET('MOD-Berechnungen'!$I369,0,'MOD-Jahresgang'!$I$3-2013)","v":5.9920528000000001E-2},{"$f":"3/12*C102 + 9/12*D102","v":6.0982369862500004E-2},5.347324620833334E-3,5.347324620833334E-3,5.347324620833334E-3,4.9933773333333334E-3,4.9933773333333334E-3,4.9933773333333334E-3,4.9933773333333334E-3,4.9933773333333334E-3,4.9933773333333334E-3,4.9933773333333334E-3,4.9933773333333334E-3,4.9933773333333334E-3]
[]
[null,"Übersicht",{"$f":"$I$3-1","v":2020},{"$f":"$I$3","v":2021},"aktuelles Jahr von Oktober bis September"]
[null,"Vergütungszahlungen an Anlagenbetreiber",null,null,{"$f":"-SUM(E74:E80)","v":-38.308764799868833},-3.3411827388848998,-2.6011617258443414,-2.8094669755425352,-2.9390442856756707,-2.6864121263716259,-3.5207636696206555,-3.375374562867905,-3.4558393724186809,-3.5703645904344841,-3.3775971412963912,-3.362129851591245,-3.2694277593203989]
[null,"Einnahmen Vermarktung",null,null,{"$f":"SUM(E83:E89)","v":12.515607870730948},1.1357856241027329,0.96748407507493062,1.0919613581893928,1.1345423192888855,0.99341632890953835,1.1805757165897561,1.0260611452354513,1.0153778853458608,1.0222076231016568,0.97437664036709437,0.98082239817544981,0.9929967563501968]
[null,"Einnahmen durch Umlagezahlungen der Letztverbraucher (Summe)",null,null,{"$f":"SUM(E92:E98)","v":22.558915330496855},1.9725828489150843,2.1027292726086078,2.0156079947591525,1.9629765146110407,1.9906418911660611,1.8966713360379632,1.8079973688853781,1.8210951128814967,1.7444705604985609,1.7375154157558765,1.7097623963452344,1.8070593307134715]
[null,"vermiedene Netzentgelte",null,null,{"$f":"+E101","v":0.34637920249999998},2.9201416916666664E-2,2.9201416916666664E-2,2.9201416916666664E-2,2.8752772416666666E-2,2.8752772416666666E-2,2.8752772416666666E-2,2.8752772416666666E-2,2.8752772416666666E-2,2.8752772416666666E-2,2.8752772416666666E-2,2.8752772416666666E-2,2.8752772416666666E-2]
[null,"Sonstige Kosten",null,null,{"$f":"-E102","v":-6.0982369862500004E-2},-5.347324620833334E-3,-5.347324620833334E-3,-5.347324620833334E-3,-4.9933773333333334E-3,-4.9933773333333334E-3,-4.9933773333333334E-3,-4.9933773333333334E-3,-4.9933773333333334E-3,-4.9933773333333334E-3,-4.9933773333333334E-3,-4.9933773333333334E-3,-4.9933773333333334E-3]
[null,"Saldo ohne staatl. Zuschüsse",null,null,{"$f":"SUM(E105:E109)","v":-2.9488447660035306},-0.20896017357124932,0.49290571413503026,0.32195646970184344,0.18223394330758888,0.3214054887873069,-0.41975722190960274,-0.51755665366374215,-0.59560697910799032,-0.77992701175093315,-0.64194569009008706,-0.64778566198722753,-0.44561227717339713]

{"sheet":"GrD-Grafikdaten","index":11,"n_rows":250,"n_cols":34,"rows_kept":250,"cut":false,"hidden":true,"merged":[]}
[" ",null,null,null,"Dieses Tabellenblatt enthält  Daten für die Abbildungen"]
[null,null,null,null,"Hinweis: Wenn das Referenzszenario modifiziert wird, müssen die Ergebnisse für das Referenz-Szenario per Hand aktualisiert werden! -> Werte der Zellen im grünen Bereich in die Zellen im gelben Bereich kopieren"]
[]
[]
["ID",null,null,null,null,2010,2011,2012,2013,2014,2015,2016,2017,2018,2019,2020,2021,2022,2023,2024,2025,2026,2027,2028,2029,2030,2031,2032,2033,2034,2035,"wann hinzugefügt","zuletzt geändert"]
[null,null,null,null,"Ergebnisse für das Referenz-Szenario"]
[7,null,null,null,"monetäre Daten (nominal) (Umlage ct/kWh, Mrd. Euro)"]
[8,null,null,null,"Umlage",2.0469999999999997,3.5300000000000007,3.5920000000000005,5.2769999999999992,6.2399999999999993,6.1695706877643843,6.3383111725365717,6.8602600831698846,6.7788352248337613,6.406581826229905,6.7581163138201807,6.5036153637169205,4.272216637741538,4.3097166630738721,4.0140943880966908,3.379770582274936,2.9252161552923015,2.384466052710402,1.9873287718738313,1.6205314358430076,1.1351683324450654,0.47782641133551845,-9.7010679131812466E-2,-0.38191694965343059,-0.41347390183558697,-0.12285987283779966]
[9,null,null,null,"Förderung Wasser",0.12188854688,5.7623056991530017E-2,0.14606846574000004,0.19491568635000001,0.28466948240000001,0.33879737999000004,0.38709749236000002,0.42404636424999992,0.33617967500000001,0.30603378476000004,0.26585502989999993,0.33209319147999994,0.19257259112063896,0.25204375101400833,0.24538039316924765,0.23841098115285853,0.23112722826687793,0.22352628186973378,0.2156023242235342,0.20734941932983519,0.18445377056366552,0.17442321460703991,0.15814023475955974,0.14295351875057449,0.1351956770816104,0.12568549857387357]
[10,null,null,null,"Förderung Gase",3.1084019199999993E-2,3.9630446239100024E-3,1.2397567299999995E-2,3.4412212400000003E-2,3.0887643399999998E-2,5.7881579700000012E-2,6.2763596220000023E-2,5.9041663249999987E-2,4.9687954939999994E-2,3.6943855719999988E-2,2.3317509879999997E-2,3.0264385259999999E-2,2.3243644597302493E-4,7.3687860848976605E-3,4.8225306175326901E-3,2.9450121726897413E-3,2.1360625623418443E-3,1.8822473886608293E-3,1.7270994355370606E-3,1.5827512077750197E-3,1.3756896311648351E-3,1.1386707375909133E-3,1.4744835740981427E-3,1.4166019163873861E-3,1.415734156319827E-3,1.4718080499439776E-3]
[11,null,null,null,"Förderung Biomasse",2.5418863742400002,3.0160733982850703,3.4528402965599998,4.3539807116499984,4.9918920658999983,5.7822353740800008,6.2681851475200006,6.5923082929999994,6.629159948239999,6.38129394072,6.1288223976400005,6.4954462491599987,5.033777345492731,5.2948609199974417,5.1674784093091999,4.8767918668557986,4.3652330222837428,3.7815193911524947,3.3259906238480919,3.0969620711552852,2.7821965232270065,2.2934702732000662,1.485786021584913,1.2696172955450968,1.1081278900795493,0.98625194562265772]
[12,null,null,null,"Förderung Geothermie",3.4685827199999993E-3,9.9642191869200002E-3,1.78074919E-2,1.4191574750000002E-2,2.6326473849999997E-2,3.3365317839999999E-2,3.8348230140000002E-2,4.1819045749999992E-2,4.3220429720000009E-2,4.8019032759999997E-2,3.4556578400000003E-2,4.5731817699999996E-2,6.4598051196114684E-2,8.386774013444781E-2,9.1087029895798713E-2,9.4662477603135939E-2,9.9040943196256614E-2,0.10410147357055868,0.1085166265616832,0.11230724281341514,0.11402860889825686,0.1166394651788458,0.11868098636448073,0.1096830659939568,9.9720257948145555E-2,9.751920727095291E-2]
[13,null,null,null,"Förderung Wind Onshore",2.0691241629712005,2.3808718814407634,1.9247531760680991,2.8611378375708987,3.9666377987833004,4.1260719783591906,4.8417365215600006,5.2807615635032494,5.5775143741272988,5.6413579340662405,4.8133747401611213,5.691108289571261,2.1762809982380729,2.6893565421059451,2.6153349708734615,2.0924149605224152,2.0170280584990632,1.9923639066783938,1.7952404343917161,1.6918165792525839,1.5819795318523822,1.4194895582228204,1.1964396956302208,0.870882003459303,0.94345826053993243,1.7739505265358266]
[14,null,null,null,"Förderung Wind Offshore",6.9065164981200008E-2,0.12430523595664419,0.1405379763604,0.34442926899999993,1.1323432339999999,1.672005118,2.3516706750000003,3.1470822620000001,3.553076645,3.9923599769999991,4.3621876259999999,4.5754770980000004,2.8252185456414249,2.9454188821697782,2.6320477957496249,2.1944218133689106,1.628434054079491,0.64855790241643785,0.30962549872466738,0,0,0,0,0,0,0]
[15,null,null,null,"Förderung Solar",3.3485097015039997,6.8394584121654045,7.4319177811085613,8.6799413922943494,9.3130277127160497,9.8694338882490946,9.675200021434593,9.3939693082298774,9.6111611490678754,8.9507207324301969,8.9741895297191867,9.5790299026995775,9.3377856881107011,9.6890749652030141,9.6385197880038724,8.9210562390148205,8.5434709048117092,8.2169635808551149,7.7485842759652188,7.0240964498810463,5.5515617611293999,3.455464306401733,1.9124215606084971,1.0880941678154281,0.9373779049464166,1.4951824399719955]
[16,null,null,null,"Belastung nichtprivilegierter Letztverbrauch",8.200179649999999,13.525185549484002,13.883379644640002,20.224554263969999,23.104251892799997,21.638272271801092,22.555572489081307,23.513685645964031,23.285157656725346,22.055778972951767,23.252845747155028,21.567921937973843,14.55273836600416,15.144140307957475,14.503115640102065,12.546404311684421,11.117891381392747,9.2743466908197263,7.9068381254001316,6.5941512673495035,4.7237011232163928,2.0323804827942897,-0.42156895671210459,-1.6939626913222394,-1.8707509696993554,-0.56668481426938611]
[17,null,null,null,"Belastung privilegierter Letztverbrauch",3.393607614718952E-2,3.735757423773732E-2,4.2365070647105346E-2,3.2711856918474516E-2,0.13849324742799995,0.4754434850701581,0.4919372465274327,0.44685873466231341,0.46668341553727027,0.41825657234659019,0.44473750674681178,0.41990360429802659,0.27319153701502857,0.27270156584896521,0.25103003895234238,0.20890286940480923,0.18080696118093953,0.14738331738312083,0.12283635021633156,0.10016468830272839,7.0164502628940806E-2,2.953434441050248E-2,-5.9962085414400753E-3,-2.3606201875167251E-2,-2.5556730084122042E-2,-7.5939414660656044E-3]
[18,null,null,null,"Belastung Eigenverbrauch",0,0,0,0,0,9.8178863999999998E-4,3.6367778999999993E-3,1.662114917116593E-2,2.1945423981766587E-2,3.8712181810251711E-2,5.1853512467374019E-2,6.298200678060191E-2,6.7107654250889784E-2,6.9197254619618564E-2,7.0969183553727194E-2,7.2700419814562045E-2,7.3638579850357738E-2,7.4561363663985927E-2,7.548847165279024E-2,7.6419903816770635E-2,7.7355660155927125E-2,7.8295740670259739E-2,7.9240145359768449E-2,8.0188874224453255E-2,8.1141927264314156E-2,8.2103127247247248E-2]
[19,null,null,null,"Strompreis (Future)",5.3650479999999998,5.0739089999999996,5.5220000000000002,5.1150000000000002,4.1450000000000005,3.5670000000000002,3.1260000000000003,2.6749999999999998,3.222,4.6280000000000001,4.9340000000000002,4.0739999999999998,7.2511599999999987,6.5264753749999986,6.6387505832812481,6.7529255908515591,6.8690321297677412,6.9871024565934672,7.1071693609947673,7.2292661744753746,7.3534267792541756,7.4796856172870836,7.6080776994356452,7.7386386147847741,7.8714045401120059,8.0064122495107277]
[20,null,null,null,"Summe Strompreis + Umlage",7.4120479999999995,8.6039089999999998,9.1140000000000008,10.391999999999999,10.385,9.7365706877643845,9.4643111725365721,9.5352600831698844,10.000835224833761,11.034581826229905,11.692116313820181,10.577615363716919,11.523376637741537,10.836192038073872,10.652844971377938,10.132696173126496,9.7942482850600427,9.3715685093038701,9.0944981328685977,8.8497976103183831,8.4885951116992402,7.9575120286226024,7.511067020303833,7.3567216651313432,7.4579306382764186,7.8835523766729283]
[21,null,null,null,"Umlage privilegierter Letztverbrauch [ct/kWh]",4.9989800764796158E-2,4.9990085901745564E-2,5.0001590567365077E-2,3.3995000948890464E-2,0.13001254107481827,0.43125299107473047,0.4734718445884819,0.39148135925235333,0.40690848928662227,0.36712782552459544,0.38282786662893387,0.37248612108402962,0.24468565787284241,0.24683342310731823,0.2299020413520857,0.19357196942625021,0.16753795513430275,0.13656719549955601,0.11382167366227906,9.2813832749007022E-2,6.5015291539048198E-2,2.7366886963030464E-2,-5.5561606203114117E-3,-2.1873797141556014E-2,-2.3681180582025615E-2,-7.0366396090303972E-3]
[22,null,null,null,"Umlage Eigenverbrauch [ct/kWh]",0,0,0,0,0,5.854136932987768E-4,1.8852721831826521E-3,1.0804901280122412E-2,1.4583188073286832E-2,3.0211868860009018E-2,4.0587414086677188E-2,4.6711929238572099E-2,5.0527158438710772E-2,5.1729593349890052E-2,5.3361555128523343E-2,5.4958999995941227E-2,5.5817261866955216E-2,5.6647029319389287E-2,5.7455967390535531E-2,5.8166656352203326E-2,5.8756725101409918E-2,5.934340215942175E-2,5.9926009267586747E-2,6.069941935608747E-2,6.1540575153388309E-2,6.2478870660478393E-2]
[23,null,null,null,"Kontostand",0,-1.11629894236,-0.71124112144000007,-2.5889139132900003,-2.1969250054800002,1.38074493721,2.5211899999999998,1.9478101488699999,3.3292301430700002,3.6518353547200002,2.19040541733,-4.0803942770500008,5.348731995891753,1.1581902076936634,1.2381086401569759,1.2043659238099336,1.0870971987796656,0.99629458328968123,0.88278190369772158,0.79598925231931528,0.714008267797964,0.59975578807854912,0.43579711630588669,0.28304970626810277,0.20008615034890997,0.18510726686586754]
[24,null,null,null,null,null,null,null,null,null,null,null,null,null,null,null,null,null,null,null,null,null,null,null,null,null,null,null,null,null,null,"v2.1.15","v2.1.15"]
[25,null,null,null,"monetäre Daten (real) (Umlage ct/kWh, Mrd. Euro)",null,null,null,null,null,null,null,null,null,null,null,null,null,null,null,null,null,null,null,null,null,null,null,null,null,null,"v2.1.15","v2.1.15"]
[26,null,null,null,"Umlage",2.3944079815278903,4.0441687794198993,4.0345093194679436,5.839497097774017,6.8435552249030787,6.7460755099539274,6.8281612378152632,7.2812300000841441,7.0884814022969254,6.6002207619277025,6.8594880585274822,6.5036153637169205,4.2090804312724517,4.1832771123530037,3.8387466778173476,3.1843665446064251,2.7153621001934667,2.180694811830207,1.7906364653037872,1.4385637820670241,0.99280941487497743,0.41172736109922209,-8.2355589492608836E-2,-0.3194305328987867,-0.34071366579044021,-9.9743698995077304E-2,"v2.1.15","v2.1.15"]
[27,null,null,null,"Förderung Wasser",0.14257494357904665,6.60162515750366E-2,0.16406308082082796,0.2156925496970733,0.31220373776425886,0.37045571299148056,0.41701393646318191,0.45006735479000182,0.35153581626202807,0.31528365590437096,0.26984285534849989,0.33209319147999994,0.18972669075925022,0.2446492280948418,0.23466143991860569,0.22462706676940877,0.21454623612111573,0.20442421590651422,0.19426347025353707,0.18406638605277018,0.16132183641024733,0.1502947684785326,0.13425050079720813,0.11956452499866821,0.11140489044895631,0.10203768120734756,"v2.1.15","v2.1.15"]
[28,null,null,null,"Förderung Gase",3.6359464421322027E-2,4.5402893312931174E-3,1.3924861027444599E-2,3.8080351418946952E-2,3.3875207271636718E-2,6.3290223429324069E-2,6.7614218234063828E-2,6.2664669341825546E-2,5.1957619978732404E-2,3.8060483759136982E-2,2.3667272528199994E-2,3.0264385259999999E-2,2.2900142460396546E-4,7.1525987865734787E-3,4.6118679823829115E-3,2.7747440271107182E-3,1.9828221292062455E-3,1.7213946536869141E-3,1.5561628615492048E-3,1.405025853351333E-3,1.2031674763376373E-3,9.8115526230302028E-4,1.251738107894561E-3,1.1848280246993237E-3,1.1666031931956593E-3,1.1948863019413569E-3,"v2.1.15","v2.1.15"]
[29,null,null,null,"Förderung Biomasse",2.9732843295638727,3.4553852333663899,3.8782061122232112,4.8180893934895241,5.474725806048423,6.3225463203186285,6.7526155928089153,6.99683573667311,6.9319692022906843,6.5741685500782605,6.2207547336045996,6.4954462491599987,4.9593865472834793,5.1395189594481234,4.9417474176122287,4.5948363913420884,4.0520726257365522,3.4583590350334514,2.996806657564453,2.7492076805542918,2.4332874899202426,1.9762081813454235,1.2613331311828475,1.061891936614769,0.91312731932415714,0.80068792947041034,"v2.1.15","v2.1.15"]
[30,null,null,null,"Förderung Geothermie",4.0572555688117825E-3,1.1415576245619997E-2,2.000125056428171E-2,1.5704312974316476E-2,2.8872865011128488E-2,3.6483082041453195E-2,4.1311934907098655E-2,4.4385210880969292E-2,4.5194668716411299E-2,4.9470408025170984E-2,3.5074927075999997E-2,4.5731817699999996E-2,6.3643400193216446E-2,8.140720729398708E-2,8.7108074598749113E-2,8.9189493597544925E-2,9.1935778159838666E-2,9.5205189883560054E-2,9.7776387763906333E-2,9.9696388728887128E-2,9.9728536502990031E-2,0.1005044050702122,0.10075223347659158,9.1737536792268148E-2,8.2172186656151114E-2,7.9170897963682804E-2,"v2.1.15","v2.1.15"]
[31,null,null,null,"Förderung Wind Onshore",2.4202869616953877,2.7276622466633,2.1618693280963996,3.166118267732934,4.3503052617245999,4.5116256112793396,5.2159253056993622,5.6048078430438331,5.8322861672765738,5.8118679776233915,4.8855753612635375,5.691108289571261,2.1441192100867714,2.6104555238961837,2.5010892769714803,1.9714403790202386,1.8723271219346467,1.8221008555071314,1.6175597270594457,1.5018443968334536,1.3835870227101856,1.2231276380924045,1.0156974191686952,0.7283947536484241,0.77743509576247227,1.4401804532595124,"v2.1.15","v2.1.15"]
[32,null,null,null,"Förderung Wind Offshore",8.0786605899621833E-2,0.14241114854795586,0.15785127376536726,0.38114339903618077,1.2418675409333895,1.8282427335547191,2.5334172005814701,3.3401984037052754,3.7153754123940508,4.1130290573048232,4.4276204403899992,4.5754770980000004,2.7834665474299758,2.8590054426652225,2.5170720354139733,2.0675496271533853,1.5116107249414539,0.59313356605072121,0.27898086942177042,0,0,0,0,0,0,0,"v2.1.15","v2.1.15"]
[33,null,null,null,"Förderung Solar",3.9168042772372993,7.8356725718470592,8.3474781596330754,9.6051719858160727,10.213817221638637,10.791666004033191,10.422938217473245,9.9704166194451336,10.050183372220426,9.221256266567897,9.1088023726649734,9.5790299026995775,9.1997888552814793,9.4048144484971896,9.2174802677772458,8.4052785059007604,7.9305650821941347,7.5147598890747425,6.9816820223160008,6.2353685532104297,4.8553528372638119,2.9774603632119998,1.6235182187343291,0.91006827579856275,0.7724247184826023,1.2138627835972198,"v2.1.15","v2.1.15"]
[34,null,null,null,"Belastung nichtprivilegierter Letztverbrauch",9.5918786536016523,15.495221851298686,15.59371507851103,22.380372546565461,25.338978166417995,23.660223058957712,24.29875744094176,24.956568885480472,24.348785820103362,22.72241489240923,23.60163843336235,21.567921937973843,14.337673266999174,14.699837713079647,13.869575948820851,11.821024289270428,10.320297471516191,8.4817813567931442,7.1242729803816145,5.8537014320525333,4.1313123473797155,1.7512356644155527,-0.35788389744840265,-1.416809088181995,-1.5415493404484304,-0.46006265702544924,"v2.1.15","v2.1.15"]
[35,null,null,null,"Belastung privilegierter Letztverbrauch",3.96955601312012E-2,4.279896187170492E-2,4.7584151543893179E-2,3.6198748064853299E-2,0.15188881202719295,0.51987047613537751,0.52995612659892732,0.47427957324898756,0.4880007555984624,0.4308983772457658,0.45140856934801388,0.41990360429802659,0.2691542236601267,0.26470097876576987,0.24006429218959652,0.1968249892148583,0.16783592862142385,0.13478826222011672,0.11067884241156362,8.8917308018390637E-2,6.1365329536625011E-2,2.5448776788927249E-2,-5.0903807041690532E-3,-1.9743930327113409E-2,-2.105943604643877E-2,-6.1651358924770397E-3,"v2.1.15","v2.1.15"]
[36,null,null,null,"Belastung Eigenverbrauch",0,0,0,0,0,1.0735301750234055E-3,3.9178426573502068E-3,1.764108189977644E-2,2.2947855287939706E-2,3.9882257505466562E-2,5.2631315154384621E-2,6.298200678060191E-2,6.6115915518118018E-2,6.7167128170660367E-2,6.7869036264355392E-2,6.8497189084504875E-2,6.8355772094302283E-2,6.8189513002384086E-2,6.8017135344991167E-2,6.7838798697948829E-2,6.7654660107768813E-2,6.7464874118980778E-2,6.7269592801394287E-2,6.7068965777284661E-2,6.6863140248496059E-2,6.6655364534810177E-2,"v2.1.15","v2.1.15"]
[37,null,null,null,"Strompreis (Future)",6.2755807291061299,5.8129587443109445,6.2022718435695934,5.6602288525893689,4.5459192960293695,3.9003121224833976,3.3675897961425552,2.839147497921874,3.3691757242499989,4.7678812999999991,5.0080099999999996,4.0739999999999998,7.1439999999999992,6.335,6.3487500000000008,6.3624999999999998,6.3762499999999998,6.39,6.4037499999999996,6.4175000000000004,6.4312500000000004,6.4450000000000012,6.4587500000000002,6.4724999999999993,6.4862499999999992,6.5,"v2.1.15","v2.1.15"]
[38,null,null,null,"Summe Strompreis + Umlage",8.6699887106340192,9.8571275237308438,10.236781163037536,11.499725950363386,11.389474520932449,10.646387632437325,10.195751033957817,10.120377498006018,10.457657126546923,11.368102061927702,11.867498058527483,10.577615363716919,11.353080431272451,10.518277112353005,10.187496677817347,9.5468665446064254,9.0916121001934673,8.570694811830208,8.1943864653037863,7.8560637820670252,7.4240594148749777,6.8567273610992236,6.376394410507392,6.1530694671012123,6.1455363342095586,6.4002563010049229,"v2.1.15","v2.1.15"]
[39,null,null,null,"Umlage privilegierter Letztverbrauch [ct/kWh]",5.8473853417790413E-2,5.7271485746277113E-2,5.6161437397621042E-2,3.7618667686160859E-2,0.1425878212781248,0.47155067814577956,0.51006364446480013,0.41550404545957881,0.42549540785093998,0.37822426405107629,0.38857028462836785,0.37248612108402962,0.24106961366782506,0.239591762097909,0.21985922904075145,0.18238045701895692,0.15551883675076339,0.12489646239818082,0.10255637732724576,8.239187177389791E-2,5.686186947426336E-2,2.3581149730288405E-2,-4.7168093997118727E-3,-1.8294968798288926E-2,-1.9513932585654904E-2,-5.7126907825028172E-3,"v2.1.15","v2.1.15"]
[40,null,null,null,"Umlage Eigenverbrauch [ct/kWh]",0,0,0,0,0,6.4011665955733012E-4,2.0309735659108435E-3,1.1467928386823327E-2,1.5249324406793951E-2,3.1125022596302784E-2,4.119622529797734E-2,4.6711929238572099E-2,4.9780451663754458E-2,5.0211937537809767E-2,5.1030561981855425E-2,5.1781503108503976E-2,5.181294966387167E-2,5.1806098393378464E-2,5.1769365902045061E-2,5.1635187878160259E-2,5.1388175833141175E-2,5.1134265059685255E-2,5.0873180801733454E-2,5.0768230865785524E-2,5.0711096546307725E-2,5.0723426003691868E-2,"v2.1.15","v2.1.15"]
[41,null,null,null,"Kontostand",0,-1.278895561244126,-0.7988610614806545,-2.8648768775902469,-2.4094194871751413,1.5097662508151781,2.7160376577532461,2.0673346955480723,3.4813039660064544,3.7622120783164115,2.2232614985899497,-4.0803942770500008,5.269686695459856,1.1242109322659262,1.184024332679708,1.1347345809084222,1.009109199486772,0.91115343259542481,0.79541014553971967,0.70660851370988709,0.62446609045332724,0.51678990962300064,0.36996265497517672,0.2367392140938277,0.16487639354413744,0.1502792008619924,"v2.1.15","v2.1.15"]
[42,null,null,null,null,null,null,null,null,null,null,null,null,null,null,null,null,null,null,null,null,null,null,null,null,null,null,null,null,null,null,"v2.1.15","v2.1.15"]
[43,null,null,null,"Strommengen",null,null,null,null,null,null,null,null,null,null,null,null,null,null,null,null,null,null,null,null,null,null,null,null,null,null,"v2.1.15","v2.1.15"]
[44,null,null,null,"Nichtprivilegierter Letztverbrauch [TWh/a]",400.59500000000003,383.14973227999997,386.50834199999997,383.25856100000004,370.260447,350.72573712000002,355.8609206000001,342.7521021199999,343.49791497249993,344.26749819460247,344.07288462324232,331.62972795561251,340.63671391199182,351.39526544086158,361.3047984897737,371.22059045911305,380.07076370333368,388.94857321527627,397.86261021848225,406.91288805015972,416.12340550778958,425.33866579576738,434.55932943145484,443.54216089634696,452.44717052135434,461.24483216544326]
[45,null,null,null,"Privilegierter Letztverbrauch [TWh/a]",67.885999999999996,74.729966079999997,84.727446,96.225492000000003,106.52299099999999,110.247,103.9,114.145597,114.690017,113.926688,116.17166499999999,112.73,111.65,110.48,109.19,107.92,107.92,107.92,107.92,107.92,107.92,107.92,107.92,107.92,107.92,107.92]
[46,null,null,null,"Eigenverbrauch [TWh/a]",66.919000000000011,54.256241999999979,62.745360999999974,55.017604000000063,47.117968535482987,59.627262880000004,51.839079399999996,65.006944879999992,66.452068027500005,78.042278805397501,78.273220376757692,74.167102044387548,75.292690532452681,74.756713448027256,75.189754843559669,75.596537318664602,75.79893851888842,75.973703451390222,76.112240892628833,76.114537505395859,75.956594492210371,75.793908648677046,75.625819457433991,75.69556243698635,75.843127256423415,76.098040056778942]
[47]
[48,null,null,null,"EE-Anteil an Bruttostromverbrauch",0.17956606533398342,0.20889978081740276,0.22202076099489373,0.25922769498261294,0.28309799017205339,0.30059636757838554,0.32800036950342748,0.34547588818223213,0.37587892392510169,0.39575235855942015,0.41050394895058645,0.4325342394860715,0.46359232941256695,0.47472620210275479,0.48615866142445308,0.49418321096510404,0.49921996271500674,0.50142960169274786,0.50446341591105159,0.51087044788516212,0.51622816644394032,0.52029301160672237,0.51967640167863272,0.5263045884846338,0.53323785100463728,0.53204603528117611,"v2.1.25"]
[49]
[50,null,null,null,"Ergebnisse für das Prognose-Szenario"]
[51,null,null,null,"monetäre Daten (nominal) (Umlage ct/kWh, Mrd. Euro)"]
[52,null,null,null,"Umlage",{"$f":"'MOD-Berechnungen'!F390","v":2.0469999999999997},{"$f":"'MOD-Berechnungen'!G390","v":3.5300000000000007},{"$f":"'MOD-Berechnungen'!H390","v":3.5920000000000005},{"$f":"'MOD-Berechnungen'!I390","v":5.2769999999999992},{"$f":"'MOD-Berechnungen'!J390","v":6.2399999999999993},{"$f":"'MOD-Berechnungen'!K390","v":6.1695706877643843},{"$f":"'MOD-Berechnungen'!L390","v":6.3383111725365717},{"$f":"'MOD-Berechnungen'!M390","v":6.8602600831698846},{"$f":"'MOD-Berechnungen'!N390","v":6.7788352248337613},{"$f":"'MOD-Berechnungen'!O390","v":6.406581826229905},{"$f":"'MOD-Berechnungen'!P390","v":6.7581163138201807},{"$f":"'MOD-Berechnungen'!Q390","v":6.5036153637169205},{"$f":"'MOD-Berechnungen'!R390","v":4.272216637741538},{"$f":"'MOD-Berechnungen'!S390","v":4.3097166630738721},{"$f":"'MOD-Berechnungen'!T390","v":4.0140943880966908},{"$f":"'MOD-Berechnungen'!U390","v":3.379770582274936},{"$f":"'MOD-Berechnungen'!V390","v":2.9252161552923015},{"$f":"'MOD-Berechnungen'!W390","v":2.384466052710402},{"$f":"'MOD-Berechnungen'!X390","v":1.9873287718738313},{"$f":"'MOD-Berechnungen'!Y390","v":1.6205314358430076},{"$f":"'MOD-Berechnungen'!Z390","v":1.1351683324450654},{"$f":"'MOD-Berechnungen'!AA390","v":0.47782641133551845},{"$f":"'MOD-Berechnungen'!AB390","v":-9.7010679131812466E-2},{"$f":"'MOD-Berechnungen'!AC390","v":-0.38191694965343059},{"$f":"'MOD-Berechnungen'!AD390","v":-0.41347390183558697},{"$f":"'MOD-Berechnungen'!AE390","v":-0.12285987283779966}]
[53,null,null,null,"Förderung Wasser",{"$f":"IF(ControlPanel!$D$59>'GrD-Grafikdaten'!F$5,'MOD-Berechnungen'!F305-'MOD-Berechnungen'!F345,'MOD-Berechnungen'!F295+'MOD-Berechnungen'!F315+'MOD-Berechnungen'!F355-'MOD-Berechnungen'!F345)","v":0.12188854688},{"$f":"IF(ControlPanel!$D$59>'GrD-Grafikdaten'!G$5,'MOD-Berechnungen'!G305-'MOD-Berechnungen'!G345,'MOD-Berechnungen'!G295+'MOD-Berechnungen'!G315+'MOD-Berechnungen'!G355-'MOD-Berechnungen'!G345)","v":5.7623056991530017E-2},{"$f":"IF(ControlPanel!$D$59>'GrD-Grafikdaten'!H$5,'MOD-Berechnungen'!H305-'MOD-Berechnungen'!H345,'MOD-Berechnungen'!H295+'MOD-Berechnungen'!H315+'MOD-Berechnungen'!H355-'MOD-Berechnungen'!H345)","v":0.14606846574000004},{"$f":"IF(ControlPanel!$D$59>'GrD-Grafikdaten'!I$5,'MOD-Berechnungen'!I305-'MOD-Berechnungen'!I345,'MOD-Berechnungen'!I295+'MOD-Berechnungen'!I315+'MOD-Berechnungen'!I355-'MOD-Berechnungen'!I345)","v":0.19491568635000001},{"$f":"IF(ControlPanel!$D$59>'GrD-Grafikdaten'!J$5,'MOD-Berechnungen'!J305-'MOD-Berechnungen'!J345,'MOD-Berechnungen'!J295+'MOD-Berechnungen'!J315+'MOD-Berechnungen'!J355-'MOD-Berechnungen'!J345)","v":0.28466948240000001},{"$f":"IF(ControlPanel!$D$59>'GrD-Grafikdaten'!K$5,'MOD-Berechnungen'!K305-'MOD-Berechnungen'!K345,'MOD-Berechnungen'!K295+'MOD-Berechnungen'!K315+'MOD-Berechnungen'!K355-'MOD-Berechnungen'!K345)","v":0.33879737999000004},{"$f":"IF(ControlPanel!$D$59>'GrD-Grafikdaten'!L$5,'MOD-Berechnungen'!L305-'MOD-Berechnungen'!L345,'MOD-Berechnungen'!L295+'MOD-Berechnungen'!L315+'MOD-Berechnungen'!L355-'MOD-Berechnungen'!L345)","v":0.38709749236000002},{"$f":"IF(ControlPanel!$D$59>'GrD-Grafikdaten'!M$5,'MOD-Berechnungen'!M305-'MOD-Berechnungen'!M345,'MOD-Berechnungen'!M295+'MOD-Berechnungen'!M315+'MOD-Berechnungen'!M355-'MOD-Berechnungen'!M345)","v":0.42404636424999992},{"$f":"IF(ControlPanel!$D$59>'GrD-Grafikdaten'!N$5,'MOD-Berechnungen'!N305-'MOD-Berechnungen'!N345,'MOD-Berechnungen'!N295+'MOD-Berechnungen'!N315+'MOD-Berechnungen'!N355-'MOD-Berechnungen'!N345)","v":0.33617967500000001},{"$f":"IF(ControlPanel!$D$59>'GrD-Grafikdaten'!O$5,'MOD-Berechnungen'!O305-'MOD-Berechnungen'!O345,'MOD-Berechnungen'!O295+'MOD-Berechnungen'!O315+'MOD-Berechnungen'!O355-'MOD-Berechnungen'!O345)","v":0.30603378476000004},{"$f":"IF(ControlPanel!$D$59>'GrD-Grafikdaten'!P$5,'MOD-Berechnungen'!P305-'MOD-Berechnungen'!P345,'MOD-Berechnungen'!P295+'MOD-Berechnungen'!P315+'MOD-Berechnungen'!P355-'MOD-Berechnungen'!P345)","v":0.26585502989999993},{"$f":"IF(ControlPanel!$D$59>'GrD-Grafikdaten'!Q$5,'MOD-Berechnungen'!Q305-'MOD-Berechnungen'!Q345,'MOD-Berechnungen'!Q295+'MOD-Berechnungen'!Q315+'MOD-Berechnungen'!Q355-'MOD-Berechnungen'!Q345)","v":0.33209319147999994},{"$f":"IF(ControlPanel!$D$59>'GrD-Grafikdaten'!R$5,'MOD-Berechnungen'!R305-'MOD-Berechnungen'!R345,'MOD-Berechnungen'!R295+'MOD-Berechnungen'!R315+'MOD-Berechnungen'!R355-'MOD-Berechnungen'!R345)","v":0.19257259112063896},{"$f":"IF(ControlPanel!$D$59>'GrD-Grafikdaten'!S$5,'MOD-Berechnungen'!S305-'MOD-Berechnungen'!S345,'MOD-Berechnungen'!S295+'MOD-Berechnungen'!S315+'MOD-Berechnungen'!S355-'MOD-Berechnungen'!S345)","v":0.25204375101400833},{"$f":"IF(ControlPanel!$D$59>'GrD-Grafikdaten'!T$5,'MOD-Berechnungen'!T305-'MOD-Berechnungen'!T345,'MOD-Berechnungen'!T295+'MOD-Berechnungen'!T315+'MOD-Berechnungen'!T355-'MOD-Berechnungen'!T345)","v":0.24538039316924765},{"$f":"IF(ControlPanel!$D$59>'GrD-Grafikdaten'!U$5,'MOD-Berechnungen'!U305-'MOD-Berechnungen'!U345,'MOD-Berechnungen'!U295+'MOD-Berechnungen'!U315+'MOD-Berechnungen'!U355-'MOD-Berechnungen'!U345)","v":0.23841098115285853},{"$f":"IF(ControlPanel!$D$59>'GrD-Grafikdaten'!V$5,'MOD-Berechnungen'!V305-'MOD-Berechnungen'!V345,'MOD-Berechnungen'!V295+'MOD-Berechnungen'!V315+'MOD-Berechnungen'!V355-'MOD-Berechnungen'!V345)","v":0.23112722826687793},{"$f":"IF(ControlPanel!$D$59>'GrD-Grafikdaten'!W$5,'MOD-Berechnungen'!W305-'MOD-Berechnungen'!W345,'MOD-Berechnungen'!W295+'MOD-Berechnungen'!W315+'MOD-Berechnungen'!W355-'MOD-Berechnungen'!W345)","v":0.22352628186973378},{"$f":"IF(ControlPanel!$D$59>'GrD-Grafikdaten'!X$5,'MOD-Berechnungen'!X305-'MOD-Berechnungen'!X345,'MOD-Berechnungen'!X295+'MOD-Berechnungen'!X315+'MOD-Berechnungen'!X355-'MOD-Berechnungen'!X345)","v":0.2156023242235342},{"$f":"IF(ControlPanel!$D$59>'GrD-Grafikdaten'!Y$5,'MOD-Berechnungen'!Y305-'MOD-Berechnungen'!Y345,'MOD-Berechnungen'!Y295+'MOD-Berechnungen'!Y315+'MOD-Berechnungen'!Y355-'MOD-Berechnungen'!Y345)","v":0.20734941932983519},{"$f":"IF(ControlPanel!$D$59>'GrD-Grafikdaten'!Z$5,'MOD-Berechnungen'!Z305-'MOD-Berechnungen'!Z345,'MOD-Berechnungen'!Z295+'MOD-Berechnungen'!Z315+'MOD-Berechnungen'!Z355-'MOD-Berechnungen'!Z345)","v":0.18445377056366552},{"$f":"IF(ControlPanel!$D$59>'GrD-Grafikdaten'!AA$5,'MOD-Berechnungen'!AA305-'MOD-Berechnungen'!AA345,'MOD-Berechnungen'!AA295+'MOD-Berechnungen'!AA315+'MOD-Berechnungen'!AA355-'MOD-Berechnungen'!AA345)","v":0.17442321460703991},{"$f":"IF(ControlPanel!$D$59>'GrD-Grafikdaten'!AB$5,'MOD-Berechnungen'!AB305-'MOD-Berechnungen'!AB345,'MOD-Berechnungen'!AB295+'MOD-Berechnungen'!AB315+'MOD-Berechnungen'!AB355-'MOD-Berechnungen'!AB345)","v":0.15814023475955974},{"$f":"IF(ControlPanel!$D$59>'GrD-Grafikdaten'!AC$5,'MOD-Berechnungen'!AC305-'MOD-Berechnungen'!AC345,'MOD-Berechnungen'!AC295+'MOD-Berechnungen'!AC315+'MOD-Berechnungen'!AC355-'MOD-Berechnungen'!AC345)","v":0.14295351875057449},{"$f":"IF(ControlPanel!$D$59>'GrD-Grafikdaten'!AD$5,'MOD-Berechnungen'!AD305-'MOD-Berechnungen'!AD345,'MOD-Berechnungen'!AD295+'MOD-Berechnungen'!AD315+'MOD-Berechnungen'!AD355-'MOD-Berechnungen'!AD345)","v":0.1351956770816104},{"$f":"IF(ControlPanel!$D$59>'GrD-Grafikdaten'!AE$5,'MOD-Berechnungen'!AE305-'MOD-Berechnungen'!AE345,'MOD-Berechnungen'!AE295+'MOD-Berechnungen'!AE315+'MOD-Berechnungen'!AE355-'MOD-Berechnungen'!AE345)","v":0.12568549857387357},null,"v3.1.0a","für historische Jahre: Einnahmen Anlagenbetreiber (alle Baujahre, aus ÜNB-Jahresprognosen abgeleitet) - Vermarktungserlöse \nfür Prognosejahre: = Einnahmen Anlagenbetreiber (Baujahr>2014) + Einnahmen Managementprämie + Verbleibende Zahlungen an Bestandsanlagen - Vermarktungserlöse\n"]
[54,null,null,null,"Förderung Gase",{"$f":"IF(ControlPanel!$D$59>'GrD-Grafikdaten'!F$5,'MOD-Berechnungen'!F306-'MOD-Berechnungen'!F346,'MOD-Berechnungen'!F296+'MOD-Berechnungen'!F316+'MOD-Berechnungen'!F356-'MOD-Berechnungen'!F346)","v":3.1084019199999993E-2},{"$f":"IF(ControlPanel!$D$59>'GrD-Grafikdaten'!G$5,'MOD-Berechnungen'!G306-'MOD-Berechnungen'!G346,'MOD-Berechnungen'!G296+'MOD-Berechnungen'!G316+'MOD-Berechnungen'!G356-'MOD-Berechnungen'!G346)","v":3.9630446239100024E-3},{"$f":"IF(ControlPanel!$D$59>'GrD-Grafikdaten'!H$5,'MOD-Berechnungen'!H306-'MOD-Berechnungen'!H346,'MOD-Berechnungen'!H296+'MOD-Berechnungen'!H316+'MOD-Berechnungen'!H356-'MOD-Berechnungen'!H346)","v":1.2397567299999995E-2},{"$f":"IF(ControlPanel!$D$59>'GrD-Grafikdaten'!I$5,'MOD-Berechnungen'!I306-'MOD-Berechnungen'!I346,'MOD-Berechnungen'!I296+'MOD-Berechnungen'!I316+'MOD-Berechnungen'!I356-'MOD-Berechnungen'!I346)","v":3.4412212400000003E-2},{"$f":"IF(ControlPanel!$D$59>'GrD-Grafikdaten'!J$5,'MOD-Berechnungen'!J306-'MOD-Berechnungen'!J346,'MOD-Berechnungen'!J296+'MOD-Berechnungen'!J316+'MOD-Berechnungen'!J356-'MOD-Berechnungen'!J346)","v":3.0887643399999998E-2},{"$f":"IF(ControlPanel!$D$59>'GrD-Grafikdaten'!K$5,'MOD-Berechnungen'!K306-'MOD-Berechnungen'!K346,'MOD-Berechnungen'!K296+'MOD-Berechnungen'!K316+'MOD-Berechnungen'!K356-'MOD-Berechnungen'!K346)","v":5.7881579700000012E-2},{"$f":"IF(ControlPanel!$D$59>'GrD-Grafikdaten'!L$5,'MOD-Berechnungen'!L306-'MOD-Berechnungen'!L346,'MOD-Berechnungen'!L296+'MOD-Berechnungen'!L316+'MOD-Berechnungen'!L356-'MOD-Berechnungen'!L346)","v":6.2763596220000023E-2},{"$f":"IF(ControlPanel!$D$59>'GrD-Grafikdaten'!M$5,'MOD-Berechnungen'!M306-'MOD-Berechnungen'!M346,'MOD-Berechnungen'!M296+'MOD-Berechnungen'!M316+'MOD-Berechnungen'!M356-'MOD-Berechnungen'!M346)","v":5.9041663249999987E-2},{"$f":"IF(ControlPanel!$D$59>'GrD-Grafikdaten'!N$5,'MOD-Berechnungen'!N306-'MOD-Berechnungen'!N346,'MOD-Berechnungen'!N296+'MOD-Berechnungen'!N316+'MOD-Berechnungen'!N356-'MOD-Berechnungen'!N346)","v":4.9687954939999994E-2},{"$f":"IF(ControlPanel!$D$59>'GrD-Grafikdaten'!O$5,'MOD-Berechnungen'!O306-'MOD-Berechnungen'!O346,'MOD-Berechnungen'!O296+'MOD-Berechnungen'!O316+'MOD-Berechnungen'!O356-'MOD-Berechnungen'!O346)","v":3.6943855719999988E-2},{"$f":"IF(ControlPanel!$D$59>'GrD-Grafikdaten'!P$5,'MOD-Berechnungen'!P306-'MOD-Berechnungen'!P346,'MOD-Berechnungen'!P296+'MOD-Berechnungen'!P316+'MOD-Berechnungen'!P356-'MOD-Berechnungen'!P346)","v":2.3317509879999997E-2},{"$f":"IF(ControlPanel!$D$59>'GrD-Grafikdaten'!Q$5,'MOD-Berechnungen'!Q306-'MOD-Berechnungen'!Q346,'MOD-Berechnungen'!Q296+'MOD-Berechnungen'!Q316+'MOD-Berechnungen'!Q356-'MOD-Berechnungen'!Q346)","v":3.0264385259999999E-2},{"$f":"IF(ControlPanel!$D$59>'GrD-Grafikdaten'!R$5,'MOD-Berechnungen'!R306-'MOD-Berechnungen'!R346,'MOD-Berechnungen'!R296+'MOD-Berechnungen'!R316+'MOD-Berechnungen'!R356-'MOD-Berechnungen'!R346)","v":2.3243644597302493E-4},{"$f":"IF(ControlPanel!$D$59>'GrD-Grafikdaten'!S$5,'MOD-Berechnungen'!S306-'MOD-Berechnungen'!S346,'MOD-Berechnungen'!S296+'MOD-Berechnungen'!S316+'MOD-Berechnungen'!S356-'MOD-Berechnungen'!S346)","v":7.3687860848976605E-3},{"$f":"IF(ControlPanel!$D$59>'GrD-Grafikdaten'!T$5,'MOD-Berechnungen'!T306-'MOD-Berechnungen'!T346,'MOD-Berechnungen'!T296+'MOD-Berechnungen'!T316+'MOD-Berechnungen'!T356-'MOD-Berechnungen'!T346)","v":4.8225306175326901E-3},{"$f":"IF(ControlPanel!$D$59>'GrD-Grafikdaten'!U$5,'MOD-Berechnungen'!U306-'MOD-Berechnungen'!U346,'MOD-Berechnungen'!U296+'MOD-Berechnungen'!U316+'MOD-Berechnungen'!U356-'MOD-Berechnungen'!U346)","v":2.9450121726897413E-3},{"$f":"IF(ControlPanel!$D$59>'GrD-Grafikdaten'!V$5,'MOD-Berechnungen'!V306-'MOD-Berechnungen'!V346,'MOD-Berechnungen'!V296+'MOD-Berechnungen'!V316+'MOD-Berechnungen'!V356-'MOD-Berechnungen'!V346)","v":2.1360625623418443E-3},{"$f":"IF(ControlPanel!$D$59>'GrD-Grafikdaten'!W$5,'MOD-Berechnungen'!W306-'MOD-Berechnungen'!W346,'MOD-Berechnungen'!W296+'MOD-Berechnungen'!W316+'MOD-Berechnungen'!W356-'MOD-Berechnungen'!W346)","v":1.8822473886608293E-3},{"$f":"IF(ControlPanel!$D$59>'GrD-Grafikdaten'!X$5,'MOD-Berechnungen'!X306-'MOD-Berechnungen'!X346,'MOD-Berechnungen'!X296+'MOD-Berechnungen'!X316+'MOD-Berechnungen'!X356-'MOD-Berechnungen'!X346)","v":1.7270994355370606E-3},{"$f":"IF(ControlPanel!$D$59>'GrD-Grafikdaten'!Y$5,'MOD-Berechnungen'!Y306-'MOD-Berechnungen'!Y346,'MOD-Berechnungen'!Y296+'MOD-Berechnungen'!Y316+'MOD-Berechnungen'!Y356-'MOD-Berechnungen'!Y346)","v":1.5827512077750197E-3},{"$f":"IF(ControlPanel!$D$59>'GrD-Grafikdaten'!Z$5,'MOD-Berechnungen'!Z306-'MOD-Berechnungen'!Z346,'MOD-Berechnungen'!Z296+'MOD-Berechnungen'!Z316+'MOD-Berechnungen'!Z356-'MOD-Berechnungen'!Z346)","v":1.3756896311648351E-3},{"$f":"IF(ControlPanel!$D$59>'GrD-Grafikdaten'!AA$5,'MOD-Berechnungen'!AA306-'MOD-Berechnungen'!AA346,'MOD-Berechnungen'!AA296+'MOD-Berechnungen'!AA316+'MOD-Berechnungen'!AA356-'MOD-Berechnungen'!AA346)","v":1.1386707375909133E-3},{"$f":"IF(ControlPanel!$D$59>'GrD-Grafikdaten'!AB$5,'MOD-Berechnungen'!AB306-'MOD-Berechnungen'!AB346,'MOD-Berechnungen'!AB296+'MOD-Berechnungen'!AB316+'MOD-Berechnungen'!AB356-'MOD-Berechnungen'!AB346)","v":1.4744835740981427E-3},{"$f":"IF(ControlPanel!$D$59>'GrD-Grafikdaten'!AC$5,'MOD-Berechnungen'!AC306-'MOD-Berechnungen'!AC346,'MOD-Berechnungen'!AC296+'MOD-Berechnungen'!AC316+'MOD-Berechnungen'!AC356-'MOD-Berechnungen'!AC346)","v":1.4166019163873861E-3},{"$f":"IF(ControlPanel!$D$59>'GrD-Grafikdaten'!AD$5,'MOD-Berechnungen'!AD306-'MOD-Berechnungen'!AD346,'MOD-Berechnungen'!AD296+'MOD-Berechnungen'!AD316+'MOD-Berechnungen'!AD356-'MOD-Berechnungen'!AD346)","v":1.415734156319827E-3},{"$f":"IF(ControlPanel!$D$59>'GrD-Grafikdaten'!AE$5,'MOD-Berechnungen'!AE306-'MOD-Berechnungen'!AE346,'MOD-Berechnungen'!AE296+'MOD-Berechnungen'!AE316+'MOD-Berechnungen'!AE356-'MOD-Berechnungen'!AE346)","v":1.4718080499439776E-3},null,"v3.1.0a","für historische Jahre: Einnahmen Anlagenbetreiber (alle Baujahre, aus ÜNB-Jahresprognosen abgeleitet) - Vermarktungserlöse \nfür Prognosejahre: = Einnahmen Anlagenbetreiber (Baujahr>2014) + Einnahmen Managementprämie + Verbleibende Zahlungen an Bestandsanlagen - Vermarktungserlöse\n"]
[55,null,null,null,"Förderung Biomasse",{"$f":"IF(ControlPanel!$D$59>'GrD-Grafikdaten'!F$5,'MOD-Berechnungen'!F307-'MOD-Berechnungen'!F347,'MOD-Berechnungen'!F297+'MOD-Berechnungen'!F317+'MOD-Berechnungen'!F357-'MOD-Berechnungen'!F347)","v":2.5418863742400002},{"$f":"IF(ControlPanel!$D$59>'GrD-Grafikdaten'!G$5,'MOD-Berechnungen'!G307-'MOD-Berechnungen'!G347,'MOD-Berechnungen'!G297+'MOD-Berechnungen'!G317+'MOD-Berechnungen'!G357-'MOD-Berechnungen'!G347)","v":3.0160733982850703},{"$f":"IF(ControlPanel!$D$59>'GrD-Grafikdaten'!H$5,'MOD-Berechnungen'!H307-'MOD-Berechnungen'!H347,'MOD-Berechnungen'!H297+'MOD-Berechnungen'!H317+'MOD-Berechnungen'!H357-'MOD-Berechnungen'!H347)","v":3.4528402965599998},{"$f":"IF(ControlPanel!$D$59>'GrD-Grafikdaten'!I$5,'MOD-Berechnungen'!I307-'MOD-Berechnungen'!I347,'MOD-Berechnungen'!I297+'MOD-Berechnungen'!I317+'MOD-Berechnungen'!I357-'MOD-Berechnungen'!I347)","v":4.3539807116499984},{"$f":"IF(ControlPanel!$D$59>'GrD-Grafikdaten'!J$5,'MOD-Berechnungen'!J307-'MOD-Berechnungen'!J347,'MOD-Berechnungen'!J297+'MOD-Berechnungen'!J317+'MOD-Berechnungen'!J357-'MOD-Berechnungen'!J347)","v":4.9918920658999983},{"$f":"IF(ControlPanel!$D$59>'GrD-Grafikdaten'!K$5,'MOD-Berechnungen'!K307-'MOD-Berechnungen'!K347,'MOD-Berechnungen'!K297+'MOD-Berechnungen'!K317+'MOD-Berechnungen'!K357-'MOD-Berechnungen'!K347)","v":5.7822353740800008},{"$f":"IF(ControlPanel!$D$59>'GrD-Grafikdaten'!L$5,'MOD-Berechnungen'!L307-'MOD-Berechnungen'!L347,'MOD-Berechnungen'!L297+'MOD-Berechnungen'!L317+'MOD-Berechnungen'!L357-'MOD-Berechnungen'!L347)","v":6.2681851475200006},{"$f":"IF(ControlPanel!$D$59>'GrD-Grafikdaten'!M$5,'MOD-Berechnungen'!M307-'MOD-Berechnungen'!M347,'MOD-Berechnungen'!M297+'MOD-Berechnungen'!M317+'MOD-Berechnungen'!M357-'MOD-Berechnungen'!M347)","v":6.5923082929999994},{"$f":"IF(ControlPanel!$D$59>'GrD-Grafikdaten'!N$5,'MOD-Berechnungen'!N307-'MOD-Berechnungen'!N347,'MOD-Berechnungen'!N297+'MOD-Berechnungen'!N317+'MOD-Berechnungen'!N357-'MOD-Berechnungen'!N347)","v":6.629159948239999},{"$f":"IF(ControlPanel!$D$59>'GrD-Grafikdaten'!O$5,'MOD-Berechnungen'!O307-'MOD-Berechnungen'!O347,'MOD-Berechnungen'!O297+'MOD-Berechnungen'!O317+'MOD-Berechnungen'!O357-'MOD-Berechnungen'!O347)","v":6.38129394072},{"$f":"IF(ControlPanel!$D$59>'GrD-Grafikdaten'!P$5,'MOD-Berechnungen'!P307-'MOD-Berechnungen'!P347,'MOD-Berechnungen'!P297+'MOD-Berechnungen'!P317+'MOD-Berechnungen'!P357-'MOD-Berechnungen'!P347)","v":6.1288223976400005},{"$f":"IF(ControlPanel!$D$59>'GrD-Grafikdaten'!Q$5,'MOD-Berechnungen'!Q307-'MOD-Berechnungen'!Q347,'MOD-Berechnungen'!Q297+'MOD-Berechnungen'!Q317+'MOD-Berechnungen'!Q357-'MOD-Berechnungen'!Q347)","v":6.4954462491599987},{"$f":"IF(ControlPanel!$D$59>'GrD-Grafikdaten'!R$5,'MOD-Berechnungen'!R307-'MOD-Berechnungen'!R347,'MOD-Berechnungen'!R297+'MOD-Berechnungen'!R317+'MOD-Berechnungen'!R357-'MOD-Berechnungen'!R347)","v":5.033777345492731},{"$f":"IF(ControlPanel!$D$59>'GrD-Grafikdaten'!S$5,'MOD-Berechnungen'!S307-'MOD-Berechnungen'!S347,'MOD-Berechnungen'!S297+'MOD-Berechnungen'!S317+'MOD-Berechnungen'!S357-'MOD-Berechnungen'!S347)","v":5.2948609199974417},{"$f":"IF(ControlPanel!$D$59>'GrD-Grafikdaten'!T$5,'MOD-Berechnungen'!T307-'MOD-Berechnungen'!T347,'MOD-Berechnungen'!T297+'MOD-Berechnungen'!T317+'MOD-Berechnungen'!T357-'MOD-Berechnungen'!T347)","v":5.1674784093091999},{"$f":"IF(ControlPanel!$D$59>'GrD-Grafikdaten'!U$5,'MOD-Berechnungen'!U307-'MOD-Berechnungen'!U347,'MOD-Berechnungen'!U297+'MOD-Berechnungen'!U317+'MOD-Berechnungen'!U357-'MOD-Berechnungen'!U347)","v":4.8767918668557986},{"$f":"IF(ControlPanel!$D$59>'GrD-Grafikdaten'!V$5,'MOD-Berechnungen'!V307-'MOD-Berechnungen'!V347,'MOD-Berechnungen'!V297+'MOD-Berechnungen'!V317+'MOD-Berechnungen'!V357-'MOD-Berechnungen'!V347)","v":4.3652330222837428},{"$f":"IF(ControlPanel!$D$59>'GrD-Grafikdaten'!W$5,'MOD-Berechnungen'!W307-'MOD-Berechnungen'!W347,'MOD-Berechnungen'!W297+'MOD-Berechnungen'!W317+'MOD-Berechnungen'!W357-'MOD-Berechnungen'!W347)","v":3.7815193911524947},{"$f":"IF(ControlPanel!$D$59>'GrD-Grafikdaten'!X$5,'MOD-Berechnungen'!X307-'MOD-Berechnungen'!X347,'MOD-Berechnungen'!X297+'MOD-Berechnungen'!X317+'MOD-Berechnungen'!X357-'MOD-Berechnungen'!X347)","v":3.3259906238480919},{"$f":"IF(ControlPanel!$D$59>'GrD-Grafikdaten'!Y$5,'MOD-Berechnungen'!Y307-'MOD-Berechnungen'!Y347,'MOD-Berechnungen'!Y297+'MOD-Berechnungen'!Y317+'MOD-Berechnungen'!Y357-'MOD-Berechnungen'!Y347)","v":3.0969620711552852},{"$f":"IF(ControlPanel!$D$59>'GrD-Grafikdaten'!Z$5,'MOD-Berechnungen'!Z307-'MOD-Berechnungen'!Z347,'MOD-Berechnungen'!Z297+'MOD-Berechnungen'!Z317+'MOD-Berechnungen'!Z357-'MOD-Berechnungen'!Z347)","v":2.7821965232270065},{"$f":"IF(ControlPanel!$D$59>'GrD-Grafikdaten'!AA$5,'MOD-Berechnungen'!AA307-'MOD-Berechnungen'!AA347,'MOD-Berechnungen'!AA297+'MOD-Berechnungen'!AA317+'MOD-Berechnungen'!AA357-'MOD-Berechnungen'!AA347)","v":2.2934702732000662},{"$f":"IF(ControlPanel!$D$59>'GrD-Grafikdaten'!AB$5,'MOD-Berechnungen'!AB307-'MOD-Berechnungen'!AB347,'MOD-Berechnungen'!AB297+'MOD-Berechnungen'!AB317+'MOD-Berechnungen'!AB357-'MOD-Berechnungen'!AB347)","v":1.485786021584913},{"$f":"IF(ControlPanel!$D$59>'GrD-Grafikdaten'!AC$5,'MOD-Berechnungen'!AC307-'MOD-Berechnungen'!AC347,'MOD-Berechnungen'!AC297+'MOD-Berechnungen'!AC317+'MOD-Berechnungen'!AC357-'MOD-Berechnungen'!AC347)","v":1.2696172955450968},{"$f":"IF(ControlPanel!$D$59>'GrD-Grafikdaten'!AD$5,'MOD-Berechnungen'!AD307-'MOD-Berechnungen'!AD347,'MOD-Berechnungen'!AD297+'MOD-Berechnungen'!AD317+'MOD-Berechnungen'!AD357-'MOD-Berechnungen'!AD347)","v":1.1081278900795493},{"$f":"IF(ControlPanel!$D$59>'GrD-Grafikdaten'!AE$5,'MOD-Berechnungen'!AE307-'MOD-Berechnungen'!AE347,'MOD-Berechnungen'!AE297+'MOD-Berechnungen'!AE317+'MOD-Berechnungen'!AE357-'MOD-Berechnungen'!AE347)","v":0.98625194562265772},null,"v3.1.0a","für historische Jahre: Einnahmen Anlagenbetreiber (alle Baujahre, aus ÜNB-Jahresprognosen abgeleitet) - Vermarktungserlöse \nfür Prognosejahre: = Einnahmen Anlagenbetreiber (Baujahr>2014) + Einnahmen Managementprämie + Verbleibende Zahlungen an Bestandsanlagen - Vermarktungserlöse\n"]
[56,null,null,null,"Förderung Geothermie",{"$f":"IF(ControlPanel!$D$59>'GrD-Grafikdaten'!F$5,'MOD-Berechnungen'!F308-'MOD-Berechnungen'!F348,'MOD-Berechnungen'!F298+'MOD-Berechnungen'!F318+'MOD-Berechnungen'!F358-'MOD-Berechnungen'!F348)","v":3.4685827199999993E-3},{"$f":"IF(ControlPanel!$D$59>'GrD-Grafikdaten'!G$5,'MOD-Berechnungen'!G308-'MOD-Berechnungen'!G348,'MOD-Berechnungen'!G298+'MOD-Berechnungen'!G318+'MOD-Berechnungen'!G358-'MOD-Berechnungen'!G348)","v":9.9642191869200002E-3},{"$f":"IF(ControlPanel!$D$59>'GrD-Grafikdaten'!H$5,'MOD-Berechnungen'!H308-'MOD-Berechnungen'!H348,'MOD-Berechnungen'!H298+'MOD-Berechnungen'!H318+'MOD-Berechnungen'!H358-'MOD-Berechnungen'!H348)","v":1.78074919E-2},{"$f":"IF(ControlPanel!$D$59>'GrD-Grafikdaten'!I$5,'MOD-Berechnungen'!I308-'MOD-Berechnungen'!I348,'MOD-Berechnungen'!I298+'MOD-Berechnungen'!I318+'MOD-Berechnungen'!I358-'MOD-Berechnungen'!I348)","v":1.4191574750000002E-2},{"$f":"IF(ControlPanel!$D$59>'GrD-Grafikdaten'!J$5,'MOD-Berechnungen'!J308-'MOD-Berechnungen'!J348,'MOD-Berechnungen'!J298+'MOD-Berechnungen'!J318+'MOD-Berechnungen'!J358-'MOD-Berechnungen'!J348)","v":2.6326473849999997E-2},{"$f":"IF(ControlPanel!$D$59>'GrD-Grafikdaten'!K$5,'MOD-Berechnungen'!K308-'MOD-Berechnungen'!K348,'MOD-Berechnungen'!K298+'MOD-Berechnungen'!K318+'MOD-Berechnungen'!K358-'MOD-Berechnungen'!K348)","v":3.3365317839999999E-2},{"$f":"IF(ControlPanel!$D$59>'GrD-Grafikdaten'!L$5,'MOD-Berechnungen'!L308-'MOD-Berechnungen'!L348,'MOD-Berechnungen'!L298+'MOD-Berechnungen'!L318+'MOD-Berechnungen'!L358-'MOD-Berechnungen'!L348)","v":3.8348230140000002E-2},{"$f":"IF(ControlPanel!$D$59>'GrD-Grafikdaten'!M$5,'MOD-Berechnungen'!M308-'MOD-Berechnungen'!M348,'MOD-Berechnungen'!M298+'MOD-Berechnungen'!M318+'MOD-Berechnungen'!M358-'MOD-Berechnungen'!M348)","v":4.1819045749999992E-2},{"$f":"IF(ControlPanel!$D$59>'GrD-Grafikdaten'!N$5,'MOD-Berechnungen'!N308-'MOD-Berechnungen'!N348,'MOD-Berechnungen'!N298+'MOD-Berechnungen'!N318+'MOD-Berechnungen'!N358-'MOD-Berechnungen'!N348)","v":4.3220429720000009E-2},{"$f":"IF(ControlPanel!$D$59>'GrD-Grafikdaten'!O$5,'MOD-Berechnungen'!O308-'MOD-Berechnungen'!O348,'MOD-Berechnungen'!O298+'MOD-Berechnungen'!O318+'MOD-Berechnungen'!O358-'MOD-Berechnungen'!O348)","v":4.8019032759999997E-2},{"$f":"IF(ControlPanel!$D$59>'GrD-Grafikdaten'!P$5,'MOD-Berechnungen'!P308-'MOD-Berechnungen'!P348,'MOD-Berechnungen'!P298+'MOD-Berechnungen'!P318+'MOD-Berechnungen'!P358-'MOD-Berechnungen'!P348)","v":3.4556578400000003E-2},{"$f":"IF(ControlPanel!$D$59>'GrD-Grafikdaten'!Q$5,'MOD-Berechnungen'!Q308-'MOD-Berechnungen'!Q348,'MOD-Berechnungen'!Q298+'MOD-Berechnungen'!Q318+'MOD-Berechnungen'!Q358-'MOD-Berechnungen'!Q348)","v":4.5731817699999996E-2},{"$f":"IF(ControlPanel!$D$59>'GrD-Grafikdaten'!R$5,'MOD-Berechnungen'!R308-'MOD-Berechnungen'!R348,'MOD-Berechnungen'!R298+'MOD-Berechnungen'!R318+'MOD-Berechnungen'!R358-'MOD-Berechnungen'!R348)","v":6.4598051196114684E-2},{"$f":"IF(ControlPanel!$D$59>'GrD-Grafikdaten'!S$5,'MOD-Berechnungen'!S308-'MOD-Berechnungen'!S348,'MOD-Berechnungen'!S298+'MOD-Berechnungen'!S318+'MOD-Berechnungen'!S358-'MOD-Berechnungen'!S348)","v":8.386774013444781E-2},{"$f":"IF(ControlPanel!$D$59>'GrD-Grafikdaten'!T$5,'MOD-Berechnungen'!T308-'MOD-Berechnungen'!T348,'MOD-Berechnungen'!T298+'MOD-Berechnungen'!T318+'MOD-Berechnungen'!T358-'MOD-Berechnungen'!T348)","v":9.1087029895798713E-2},{"$f":"IF(ControlPanel!$D$59>'GrD-Grafikdaten'!U$5,'MOD-Berechnungen'!U308-'MOD-Berechnungen'!U348,'MOD-Berechnungen'!U298+'MOD-Berechnungen'!U318+'MOD-Berechnungen'!U358-'MOD-Berechnungen'!U348)","v":9.4662477603135939E-2},{"$f":"IF(ControlPanel!$D$59>'GrD-Grafikdaten'!V$5,'MOD-Berechnungen'!V308-'MOD-Berechnungen'!V348,'MOD-Berechnungen'!V298+'MOD-Berechnungen'!V318+'MOD-Berechnungen'!V358-'MOD-Berechnungen'!V348)","v":9.9040943196256614E-2},{"$f":"IF(ControlPanel!$D$59>'GrD-Grafikdaten'!W$5,'MOD-Berechnungen'!W308-'MOD-Berechnungen'!W348,'MOD-Berechnungen'!W298+'MOD-Berechnungen'!W318+'MOD-Berechnungen'!W358-'MOD-Berechnungen'!W348)","v":0.10410147357055868},{"$f":"IF(ControlPanel!$D$59>'GrD-Grafikdaten'!X$5,'MOD-Berechnungen'!X308-'MOD-Berechnungen'!X348,'MOD-Berechnungen'!X298+'MOD-Berechnungen'!X318+'MOD-Berechnungen'!X358-'MOD-Berechnungen'!X348)","v":0.1085166265616832},{"$f":"IF(ControlPanel!$D$59>'GrD-Grafikdaten'!Y$5,'MOD-Berechnungen'!Y308-'MOD-Berechnungen'!Y348,'MOD-Berechnungen'!Y298+'MOD-Berechnungen'!Y318+'MOD-Berechnungen'!Y358-'MOD-Berechnungen'!Y348)","v":0.11230724281341514},{"$f":"IF(ControlPanel!$D$59>'GrD-Grafikdaten'!Z$5,'MOD-Berechnungen'!Z308-'MOD-Berechnungen'!Z348,'MOD-Berechnungen'!Z298+'MOD-Berechnungen'!Z318+'MOD-Berechnungen'!Z358-'MOD-Berechnungen'!Z348)","v":0.11402860889825686},{"$f":"IF(ControlPanel!$D$59>'GrD-Grafikdaten'!AA$5,'MOD-Berechnungen'!AA308-'MOD-Berechnungen'!AA348,'MOD-Berechnungen'!AA298+'MOD-Berechnungen'!AA318+'MOD-Berechnungen'!AA358-'MOD-Berechnungen'!AA348)","v":0.1166394651788458},{"$f":"IF(ControlPanel!$D$59>'GrD-Grafikdaten'!AB$5,'MOD-Berechnungen'!AB308-'MOD-Berechnungen'!AB348,'MOD-Berechnungen'!AB298+'MOD-Berechnungen'!AB318+'MOD-Berechnungen'!AB358-'MOD-Berechnungen'!AB348)","v":0.11868098636448073},{"$f":"IF(ControlPanel!$D$59>'GrD-Grafikdaten'!AC$5,'MOD-Berechnungen'!AC308-'MOD-Berechnungen'!AC348,'MOD-Berechnungen'!AC298+'MOD-Berechnungen'!AC318+'MOD-Berechnungen'!AC358-'MOD-Berechnungen'!AC348)","v":0.1096830659939568},{"$f":"IF(ControlPanel!$D$59>'GrD-Grafikdaten'!AD$5,'MOD-Berechnungen'!AD308-'MOD-Berechnungen'!AD348,'MOD-Berechnungen'!AD298+'MOD-Berechnungen'!AD318+'MOD-Berechnungen'!AD358-'MOD-Berechnungen'!AD348)","v":9.9720257948145555E-2},{"$f":"IF(ControlPanel!$D$59>'GrD-Grafikdaten'!AE$5,'MOD-Berechnungen'!AE308-'MOD-Berechnungen'!AE348,'MOD-Berechnungen'!AE298+'MOD-Berechnungen'!AE318+'MOD-Berechnungen'!AE358-'MOD-Berechnungen'!AE348)","v":9.751920727095291E-2},null,"v3.1.0a","für historische Jahre: Einnahmen Anlagenbetreiber (alle Baujahre, aus ÜNB-Jahresprognosen abgeleitet) - Vermarktungserlöse \nfür Prognosejahre: = Einnahmen Anlagenbetreiber (Baujahr>2014) + Einnahmen Managementprämie + Verbleibende Zahlungen an Bestandsanlagen - Vermarktungserlöse\n"]
[57,null,null,null,"Förderung Wind Onshore",{"$f":"IF(ControlPanel!$D$59>'GrD-Grafikdaten'!F$5,'MOD-Berechnungen'!F309-'MOD-Berechnungen'!F349,'MOD-Berechnungen'!F299+'MOD-Berechnungen'!F319+'MOD-Berechnungen'!F359-'MOD-Berechnungen'!F349)","v":2.0691241629712005},{"$f":"IF(ControlPanel!$D$59>'GrD-Grafikdaten'!G$5,'MOD-Berechnungen'!G309-'MOD-Berechnungen'!G349,'MOD-Berechnungen'!G299+'MOD-Berechnungen'!G319+'MOD-Berechnungen'!G359-'MOD-Berechnungen'!G349)","v":2.3808718814407634},{"$f":"IF(ControlPanel!$D$59>'GrD-Grafikdaten'!H$5,'MOD-Berechnungen'!H309-'MOD-Berechnungen'!H349,'MOD-Berechnungen'!H299+'MOD-Berechnungen'!H319+'MOD-Berechnungen'!H359-'MOD-Berechnungen'!H349)","v":1.9247531760680991},{"$f":"IF(ControlPanel!$D$59>'GrD-Grafikdaten'!I$5,'MOD-Berechnungen'!I309-'MOD-Berechnungen'!I349,'MOD-Berechnungen'!I299+'MOD-Berechnungen'!I319+'MOD-Berechnungen'!I359-'MOD-Berechnungen'!I349)","v":2.8611378375708987},{"$f":"IF(ControlPanel!$D$59>'GrD-Grafikdaten'!J$5,'MOD-Berechnungen'!J309-'MOD-Berechnungen'!J349,'MOD-Berechnungen'!J299+'MOD-Berechnungen'!J319+'MOD-Berechnungen'!J359-'MOD-Berechnungen'!J349)","v":3.9666377987833004},{"$f":"IF(ControlPanel!$D$59>'GrD-Grafikdaten'!K$5,'MOD-Berechnungen'!K309-'MOD-Berechnungen'!K349,'MOD-Berechnungen'!K299+'MOD-Berechnungen'!K319+'MOD-Berechnungen'!K359-'MOD-Berechnungen'!K349)","v":4.1260719783591906},{"$f":"IF(ControlPanel!$D$59>'GrD-Grafikdaten'!L$5,'MOD-Berechnungen'!L309-'MOD-Berechnungen'!L349,'MOD-Berechnungen'!L299+'MOD-Berechnungen'!L319+'MOD-Berechnungen'!L359-'MOD-Berechnungen'!L349)","v":4.8417365215600006},{"$f":"IF(ControlPanel!$D$59>'GrD-Grafikdaten'!M$5,'MOD-Berechnungen'!M309-'MOD-Berechnungen'!M349,'MOD-Berechnungen'!M299+'MOD-Berechnungen'!M319+'MOD-Berechnungen'!M359-'MOD-Berechnungen'!M349)","v":5.2807615635032494},{"$f":"IF(ControlPanel!$D$59>'GrD-Grafikdaten'!N$5,'MOD-Berechnungen'!N309-'MOD-Berechnungen'!N349,'MOD-Berechnungen'!N299+'MOD-Berechnungen'!N319+'MOD-Berechnungen'!N359-'MOD-Berechnungen'!N349)","v":5.5775143741272988},{"$f":"IF(ControlPanel!$D$59>'GrD-Grafikdaten'!O$5,'MOD-Berechnungen'!O309-'MOD-Berechnungen'!O349,'MOD-Berechnungen'!O299+'MOD-Berechnungen'!O319+'MOD-Berechnungen'!O359-'MOD-Berechnungen'!O349)","v":5.6413579340662405},{"$f":"IF(ControlPanel!$D$59>'GrD-Grafikdaten'!P$5,'MOD-Berechnungen'!P309-'MOD-Berechnungen'!P349,'MOD-Berechnungen'!P299+'MOD-Berechnungen'!P319+'MOD-Berechnungen'!P359-'MOD-Berechnungen'!P349)","v":4.8133747401611213},{"$f":"IF(ControlPanel!$D$59>'GrD-Grafikdaten'!Q$5,'MOD-Berechnungen'!Q309-'MOD-Berechnungen'!Q349,'MOD-Berechnungen'!Q299+'MOD-Berechnungen'!Q319+'MOD-Berechnungen'!Q359-'MOD-Berechnungen'!Q349)","v":5.691108289571261},{"$f":"IF(ControlPanel!$D$59>'GrD-Grafikdaten'!R$5,'MOD-Berechnungen'!R309-'MOD-Berechnungen'!R349,'MOD-Berechnungen'!R299+'MOD-Berechnungen'!R319+'MOD-Berechnungen'!R359-'MOD-Berechnungen'!R349)","v":2.1762809982380729},{"$f":"IF(ControlPanel!$D$59>'GrD-Grafikdaten'!S$5,'MOD-Berechnungen'!S309-'MOD-Berechnungen'!S349,'MOD-Berechnungen'!S299+'MOD-Berechnungen'!S319+'MOD-Berechnungen'!S359-'MOD-Berechnungen'!S349)","v":2.6893565421059451},{"$f":"IF(ControlPanel!$D$59>'GrD-Grafikdaten'!T$5,'MOD-Berechnungen'!T309-'MOD-Berechnungen'!T349,'MOD-Berechnungen'!T299+'MOD-Berechnungen'!T319+'MOD-Berechnungen'!T359-'MOD-Berechnungen'!T349)","v":2.6153349708734615},{"$f":"IF(ControlPanel!$D$59>'GrD-Grafikdaten'!U$5,'MOD-Berechnungen'!U309-'MOD-Berechnungen'!U349,'MOD-Berechnungen'!U299+'MOD-Berechnungen'!U319+'MOD-Berechnungen'!U359-'MOD-Berechnungen'!U349)","v":2.0924149605224152},{"$f":"IF(ControlPanel!$D$59>'GrD-Grafikdaten'!V$5,'MOD-Berechnungen'!V309-'MOD-Berechnungen'!V349,'MOD-Berechnungen'!V299+'MOD-Berechnungen'!V319+'MOD-Berechnungen'!V359-'MOD-Berechnungen'!V349)","v":2.0170280584990632},{"$f":"IF(ControlPanel!$D$59>'GrD-Grafikdaten'!W$5,'MOD-Berechnungen'!W309-'MOD-Berechnungen'!W349,'MOD-Berechnungen'!W299+'MOD-Berechnungen'!W319+'MOD-Berechnungen'!W359-'MOD-Berechnungen'!W349)","v":1.9923639066783938},{"$f":"IF(ControlPanel!$D$59>'GrD-Grafikdaten'!X$5,'MOD-Berechnungen'!X309-'MOD-Berechnungen'!X349,'MOD-Berechnungen'!X299+'MOD-Berechnungen'!X319+'MOD-Berechnungen'!X359-'MOD-Berechnungen'!X349)","v":1.7952404343917161},{"$f":"IF(ControlPanel!$D$59>'GrD-Grafikdaten'!Y$5,'MOD-Berechnungen'!Y309-'MOD-Berechnungen'!Y349,'MOD-Berechnungen'!Y299+'MOD-Berechnungen'!Y319+'MOD-Berechnungen'!Y359-'MOD-Berechnungen'!Y349)","v":1.6918165792525839},{"$f":"IF(ControlPanel!$D$59>'GrD-Grafikdaten'!Z$5,'MOD-Berechnungen'!Z309-'MOD-Berechnungen'!Z349,'MOD-Berechnungen'!Z299+'MOD-Berechnungen'!Z319+'MOD-Berechnungen'!Z359-'MOD-Berechnungen'!Z349)","v":1.5819795318523822},{"$f":"IF(ControlPanel!$D$59>'GrD-Grafikdaten'!AA$5,'MOD-Berechnungen'!AA309-'MOD-Berechnungen'!AA349,'MOD-Berechnungen'!AA299+'MOD-Berechnungen'!AA319+'MOD-Berechnungen'!AA359-'MOD-Berechnungen'!AA349)","v":1.4194895582228204},{"$f":"IF(ControlPanel!$D$59>'GrD-Grafikdaten'!AB$5,'MOD-Berechnungen'!AB309-'MOD-Berechnungen'!AB349,'MOD-Berechnungen'!AB299+'MOD-Berechnungen'!AB319+'MOD-Berechnungen'!AB359-'MOD-Berechnungen'!AB349)","v":1.1964396956302208},{"$f":"IF(ControlPanel!$D$59>'GrD-Grafikdaten'!AC$5,'MOD-Berechnungen'!AC309-'MOD-Berechnungen'!AC349,'MOD-Berechnungen'!AC299+'MOD-Berechnungen'!AC319+'MOD-Berechnungen'!AC359-'MOD-Berechnungen'!AC349)","v":0.870882003459303},{"$f":"IF(ControlPanel!$D$59>'GrD-Grafikdaten'!AD$5,'MOD-Berechnungen'!AD309-'MOD-Berechnungen'!AD349,'MOD-Berechnungen'!AD299+'MOD-Berechnungen'!AD319+'MOD-Berechnungen'!AD359-'MOD-Berechnungen'!AD349)","v":0.94345826053993243},{"$f":"IF(ControlPanel!$D$59>'GrD-Grafikdaten'!AE$5,'MOD-Berechnungen'!AE309-'MOD-Berechnungen'!AE349,'MOD-Berechnungen'!AE299+'MOD-Berechnungen'!AE319+'MOD-Berechnungen'!AE359-'MOD-Berechnungen'!AE349)","v":1.7739505265358266},null,"v3.1.0a","für historische Jahre: Einnahmen Anlagenbetreiber (alle Baujahre, aus ÜNB-Jahresprognosen abgeleitet) - Vermarktungserlöse \nfür Prognosejahre: = Einnahmen Anlagenbetreiber (Baujahr>2014) + Einnahmen Managementprämie + Verbleibende Zahlungen an Bestandsanlagen - Vermarktungserlöse\n"]
[58,null,null,null,"Förderung Wind Offshore",{"$f":"IF(ControlPanel!$D$59>'GrD-Grafikdaten'!F$5,'MOD-Berechnungen'!F310-'MOD-Berechnungen'!F350,'MOD-Berechnungen'!F300+'MOD-Berechnungen'!F320+'MOD-Berechnungen'!F360-'MOD-Berechnungen'!F350)","v":6.9065164981200008E-2},{"$f":"IF(ControlPanel!$D$59>'GrD-Grafikdaten'!G$5,'MOD-Berechnungen'!G310-'MOD-Berechnungen'!G350,'MOD-Berechnungen'!G300+'MOD-Berechnungen'!G320+'MOD-Berechnungen'!G360-'MOD-Berechnungen'!G350)","v":0.12430523595664419},{"$f":"IF(ControlPanel!$D$59>'GrD-Grafikdaten'!H$5,'MOD-Berechnungen'!H310-'MOD-Berechnungen'!H350,'MOD-Berechnungen'!H300+'MOD-Berechnungen'!H320+'MOD-Berechnungen'!H360-'MOD-Berechnungen'!H350)","v":0.1405379763604},{"$f":"IF(ControlPanel!$D$59>'GrD-Grafikdaten'!I$5,'MOD-Berechnungen'!I310-'MOD-Berechnungen'!I350,'MOD-Berechnungen'!I300+'MOD-Berechnungen'!I320+'MOD-Berechnungen'!I360-'MOD-Berechnungen'!I350)","v":0.34442926899999993},{"$f":"IF(ControlPanel!$D$59>'GrD-Grafikdaten'!J$5,'MOD-Berechnungen'!J310-'MOD-Berechnungen'!J350,'MOD-Berechnungen'!J300+'MOD-Berechnungen'!J320+'MOD-Berechnungen'!J360-'MOD-Berechnungen'!J350)","v":1.1323432339999999},{"$f":"IF(ControlPanel!$D$59>'GrD-Grafikdaten'!K$5,'MOD-Berechnungen'!K310-'MOD-Berechnungen'!K350,'MOD-Berechnungen'!K300+'MOD-Berechnungen'!K320+'MOD-Berechnungen'!K360-'MOD-Berechnungen'!K350)","v":1.672005118},{"$f":"IF(ControlPanel!$D$59>'GrD-Grafikdaten'!L$5,'MOD-Berechnungen'!L310-'MOD-Berechnungen'!L350,'MOD-Berechnungen'!L300+'MOD-Berechnungen'!L320+'MOD-Berechnungen'!L360-'MOD-Berechnungen'!L350)","v":2.3516706750000003},{"$f":"IF(ControlPanel!$D$59>'GrD-Grafikdaten'!M$5,'MOD-Berechnungen'!M310-'MOD-Berechnungen'!M350,'MOD-Berechnungen'!M300+'MOD-Berechnungen'!M320+'MOD-Berechnungen'!M360-'MOD-Berechnungen'!M350)","v":3.1470822620000001},{"$f":"IF(ControlPanel!$D$59>'GrD-Grafikdaten'!N$5,'MOD-Berechnungen'!N310-'MOD-Berechnungen'!N350,'MOD-Berechnungen'!N300+'MOD-Berechnungen'!N320+'MOD-Berechnungen'!N360-'MOD-Berechnungen'!N350)","v":3.553076645},{"$f":"IF(ControlPanel!$D$59>'GrD-Grafikdaten'!O$5,'MOD-Berechnungen'!O310-'MOD-Berechnungen'!O350,'MOD-Berechnungen'!O300+'MOD-Berechnungen'!O320+'MOD-Berechnungen'!O360-'MOD-Berechnungen'!O350)","v":3.9923599769999991},{"$f":"IF(ControlPanel!$D$59>'GrD-Grafikdaten'!P$5,'MOD-Berechnungen'!P310-'MOD-Berechnungen'!P350,'MOD-Berechnungen'!P300+'MOD-Berechnungen'!P320+'MOD-Berechnungen'!P360-'MOD-Berechnungen'!P350)","v":4.3621876259999999},{"$f":"IF(ControlPanel!$D$59>'GrD-Grafikdaten'!Q$5,'MOD-Berechnungen'!Q310-'MOD-Berechnungen'!Q350,'MOD-Berechnungen'!Q300+'MOD-Berechnungen'!Q320+'MOD-Berechnungen'!Q360-'MOD-Berechnungen'!Q350)","v":4.5754770980000004},{"$f":"IF(ControlPanel!$D$59>'GrD-Grafikdaten'!R$5,'MOD-Berechnungen'!R310-'MOD-Berechnungen'!R350,'MOD-Berechnungen'!R300+'MOD-Berechnungen'!R320+'MOD-Berechnungen'!R360-'MOD-Berechnungen'!R350)","v":2.8252185456414249},{"$f":"IF(ControlPanel!$D$59>'GrD-Grafikdaten'!S$5,'MOD-Berechnungen'!S310-'MOD-Berechnungen'!S350,'MOD-Berechnungen'!S300+'MOD-Berechnungen'!S320+'MOD-Berechnungen'!S360-'MOD-Berechnungen'!S350)","v":2.9454188821697782},{"$f":"IF(ControlPanel!$D$59>'GrD-Grafikdaten'!T$5,'MOD-Berechnungen'!T310-'MOD-Berechnungen'!T350,'MOD-Berechnungen'!T300+'MOD-Berechnungen'!T320+'MOD-Berechnungen'!T360-'MOD-Berechnungen'!T350)","v":2.6320477957496249},{"$f":"IF(ControlPanel!$D$59>'GrD-Grafikdaten'!U$5,'MOD-Berechnungen'!U310-'MOD-Berechnungen'!U350,'MOD-Berechnungen'!U300+'MOD-Berechnungen'!U320+'MOD-Berechnungen'!U360-'MOD-Berechnungen'!U350)","v":2.1944218133689106},{"$f":"IF(ControlPanel!$D$59>'GrD-Grafikdaten'!V$5,'MOD-Berechnungen'!V310-'MOD-Berechnungen'!V350,'MOD-Berechnungen'!V300+'MOD-Berechnungen'!V320+'MOD-Berechnungen'!V360-'MOD-Berechnungen'!V350)","v":1.628434054079491},{"$f":"IF(ControlPanel!$D$59>'GrD-Grafikdaten'!W$5,'MOD-Berechnungen'!W310-'MOD-Berechnungen'!W350,'MOD-Berechnungen'!W300+'MOD-Berechnungen'!W320+'MOD-Berechnungen'!W360-'MOD-Berechnungen'!W350)","v":0.64855790241643785},{"$f":"IF(ControlPanel!$D$59>'GrD-Grafikdaten'!X$5,'MOD-Berechnungen'!X310-'MOD-Berechnungen'!X350,'MOD-Berechnungen'!X300+'MOD-Berechnungen'!X320+'MOD-Berechnungen'!X360-'MOD-Berechnungen'!X350)","v":0.30962549872466738},{"$f":"IF(ControlPanel!$D$59>'GrD-Grafikdaten'!Y$5,'MOD-Berechnungen'!Y310-'MOD-Berechnungen'!Y350,'MOD-Berechnungen'!Y300+'MOD-Berechnungen'!Y320+'MOD-Berechnungen'!Y360-'MOD-Berechnungen'!Y350)","v":0},{"$f":"IF(ControlPanel!$D$59>'GrD-Grafikdaten'!Z$5,'MOD-Berechnungen'!Z310-'MOD-Berechnungen'!Z350,'MOD-Berechnungen'!Z300+'MOD-Berechnungen'!Z320+'MOD-Berechnungen'!Z360-'MOD-Berechnungen'!Z350)","v":0},{"$f":"IF(ControlPanel!$D$59>'GrD-Grafikdaten'!AA$5,'MOD-Berechnungen'!AA310-'MOD-Berechnungen'!AA350,'MOD-Berechnungen'!AA300+'MOD-Berechnungen'!AA320+'MOD-Berechnungen'!AA360-'MOD-Berechnungen'!AA350)","v":0},{"$f":"IF(ControlPanel!$D$59>'GrD-Grafikdaten'!AB$5,'MOD-Berechnungen'!AB310-'MOD-Berechnungen'!AB350,'MOD-Berechnungen'!AB300+'MOD-Berechnungen'!AB320+'MOD-Berechnungen'!AB360-'MOD-Berechnungen'!AB350)","v":0},{"$f":"IF(ControlPanel!$D$59>'GrD-Grafikdaten'!AC$5,'MOD-Berechnungen'!AC310-'MOD-Berechnungen'!AC350,'MOD-Berechnungen'!AC300+'MOD-Berechnungen'!AC320+'MOD-Berechnungen'!AC360-'MOD-Berechnungen'!AC350)","v":0},{"$f":"IF(ControlPanel!$D$59>'GrD-Grafikdaten'!AD$5,'MOD-Berechnungen'!AD310-'MOD-Berechnungen'!AD350,'MOD-Berechnungen'!AD300+'MOD-Berechnungen'!AD320+'MOD-Berechnungen'!AD360-'MOD-Berechnungen'!AD350)","v":0},{"$f":"IF(ControlPanel!$D$59>'GrD-Grafikdaten'!AE$5,'MOD-Berechnungen'!AE310-'MOD-Berechnungen'!AE350,'MOD-Berechnungen'!AE300+'MOD-Berechnungen'!AE320+'MOD-Berechnungen'!AE360-'MOD-Berechnungen'!AE350)","v":0},null,"v3.1.0a","für historische Jahre: Einnahmen Anlagenbetreiber (alle Baujahre, aus ÜNB-Jahresprognosen abgeleitet) - Vermarktungserlöse \nfür Prognosejahre: = Einnahmen Anlagenbetreiber (Baujahr>2014) + Einnahmen Managementprämie + Verbleibende Zahlungen an Bestandsanlagen - Vermarktungserlöse\n"]
[59,null,null,null,"Förderung Solar",{"$f":"IF(ControlPanel!$D$59>'GrD-Grafikdaten'!F$5,'MOD-Berechnungen'!F311-'MOD-Berechnungen'!F351,'MOD-Berechnungen'!F301+'MOD-Berechnungen'!F321+'MOD-Berechnungen'!F361-'MOD-Berechnungen'!F351)","v":3.3485097015039997},{"$f":"IF(ControlPanel!$D$59>'GrD-Grafikdaten'!G$5,'MOD-Berechnungen'!G311-'MOD-Berechnungen'!G351,'MOD-Berechnungen'!G301+'MOD-Berechnungen'!G321+'MOD-Berechnungen'!G361-'MOD-Berechnungen'!G351)","v":6.8394584121654045},{"$f":"IF(ControlPanel!$D$59>'GrD-Grafikdaten'!H$5,'MOD-Berechnungen'!H311-'MOD-Berechnungen'!H351,'MOD-Berechnungen'!H301+'MOD-Berechnungen'!H321+'MOD-Berechnungen'!H361-'MOD-Berechnungen'!H351)","v":7.4319177811085613},{"$f":"IF(ControlPanel!$D$59>'GrD-Grafikdaten'!I$5,'MOD-Berechnungen'!I311-'MOD-Berechnungen'!I351,'MOD-Berechnungen'!I301+'MOD-Berechnungen'!I321+'MOD-Berechnungen'!I361-'MOD-Berechnungen'!I351)","v":8.6799413922943494},{"$f":"IF(ControlPanel!$D$59>'GrD-Grafikdaten'!J$5,'MOD-Berechnungen'!J311-'MOD-Berechnungen'!J351,'MOD-Berechnungen'!J301+'MOD-Berechnungen'!J321+'MOD-Berechnungen'!J361-'MOD-Berechnungen'!J351)","v":9.3130277127160497},{"$f":"IF(ControlPanel!$D$59>'GrD-Grafikdaten'!K$5,'MOD-Berechnungen'!K311-'MOD-Berechnungen'!K351,'MOD-Berechnungen'!K301+'MOD-Berechnungen'!K321+'MOD-Berechnungen'!K361-'MOD-Berechnungen'!K351)","v":9.8694338882490946},{"$f":"IF(ControlPanel!$D$59>'GrD-Grafikdaten'!L$5,'MOD-Berechnungen'!L311-'MOD-Berechnungen'!L351,'MOD-Berechnungen'!L301+'MOD-Berechnungen'!L321+'MOD-Berechnungen'!L361-'MOD-Berechnungen'!L351)","v":9.675200021434593},{"$f":"IF(ControlPanel!$D$59>'GrD-Grafikdaten'!M$5,'MOD-Berechnungen'!M311-'MOD-Berechnungen'!M351,'MOD-Berechnungen'!M301+'MOD-Berechnungen'!M321+'MOD-Berechnungen'!M361-'MOD-Berechnungen'!M351)","v":9.3939693082298774},{"$f":"IF(ControlPanel!$D$59>'GrD-Grafikdaten'!N$5,'MOD-Berechnungen'!N311-'MOD-Berechnungen'!N351,'MOD-Berechnungen'!N301+'MOD-Berechnungen'!N321+'MOD-Berechnungen'!N361-'MOD-Berechnungen'!N351)","v":9.6111611490678754},{"$f":"IF(ControlPanel!$D$59>'GrD-Grafikdaten'!O$5,'MOD-Berechnungen'!O311-'MOD-Berechnungen'!O351,'MOD-Berechnungen'!O301+'MOD-Berechnungen'!O321+'MOD-Berechnungen'!O361-'MOD-Berechnungen'!O351)","v":8.9507207324301969},{"$f":"IF(ControlPanel!$D$59>'GrD-Grafikdaten'!P$5,'MOD-Berechnungen'!P311-'MOD-Berechnungen'!P351,'MOD-Berechnungen'!P301+'MOD-Berechnungen'!P321+'MOD-Berechnungen'!P361-'MOD-Berechnungen'!P351)","v":8.9741895297191867},{"$f":"IF(ControlPanel!$D$59>'GrD-Grafikdaten'!Q$5,'MOD-Berechnungen'!Q311-'MOD-Berechnungen'!Q351,'MOD-Berechnungen'!Q301+'MOD-Berechnungen'!Q321+'MOD-Berechnungen'!Q361-'MOD-Berechnungen'!Q351)","v":9.5790299026995775},{"$f":"IF(ControlPanel!$D$59>'GrD-Grafikdaten'!R$5,'MOD-Berechnungen'!R311-'MOD-Berechnungen'!R351,'MOD-Berechnungen'!R301+'MOD-Berechnungen'!R321+'MOD-Berechnungen'!R361-'MOD-Berechnungen'!R351)","v":9.3377856881107011},{"$f":"IF(ControlPanel!$D$59>'GrD-Grafikdaten'!S$5,'MOD-Berechnungen'!S311-'MOD-Berechnungen'!S351,'MOD-Berechnungen'!S301+'MOD-Berechnungen'!S321+'MOD-Berechnungen'!S361-'MOD-Berechnungen'!S351)","v":9.6890749652030141},{"$f":"IF(ControlPanel!$D$59>'GrD-Grafikdaten'!T$5,'MOD-Berechnungen'!T311-'MOD-Berechnungen'!T351,'MOD-Berechnungen'!T301+'MOD-Berechnungen'!T321+'MOD-Berechnungen'!T361-'MOD-Berechnungen'!T351)","v":9.6385197880038724},{"$f":"IF(ControlPanel!$D$59>'GrD-Grafikdaten'!U$5,'MOD-Berechnungen'!U311-'MOD-Berechnungen'!U351,'MOD-Berechnungen'!U301+'MOD-Berechnungen'!U321+'MOD-Berechnungen'!U361-'MOD-Berechnungen'!U351)","v":8.9210562390148205},{"$f":"IF(ControlPanel!$D$59>'GrD-Grafikdaten'!V$5,'MOD-Berechnungen'!V311-'MOD-Berechnungen'!V351,'MOD-Berechnungen'!V301+'MOD-Berechnungen'!V321+'MOD-Berechnungen'!V361-'MOD-Berechnungen'!V351)","v":8.5434709048117092},{"$f":"IF(ControlPanel!$D$59>'GrD-Grafikdaten'!W$5,'MOD-Berechnungen'!W311-'MOD-Berechnungen'!W351,'MOD-Berechnungen'!W301+'MOD-Berechnungen'!W321+'MOD-Berechnungen'!W361-'MOD-Berechnungen'!W351)","v":8.2169635808551149},{"$f":"IF(ControlPanel!$D$59>'GrD-Grafikdaten'!X$5,'MOD-Berechnungen'!X311-'MOD-Berechnungen'!X351,'MOD-Berechnungen'!X301+'MOD-Berechnungen'!X321+'MOD-Berechnungen'!X361-'MOD-Berechnungen'!X351)","v":7.7485842759652188},{"$f":"IF(ControlPanel!$D$59>'GrD-Grafikdaten'!Y$5,'MOD-Berechnungen'!Y311-'MOD-Berechnungen'!Y351,'MOD-Berechnungen'!Y301+'MOD-Berechnungen'!Y321+'MOD-Berechnungen'!Y361-'MOD-Berechnungen'!Y351)","v":7.0240964498810463},{"$f":"IF(ControlPanel!$D$59>'GrD-Grafikdaten'!Z$5,'MOD-Berechnungen'!Z311-'MOD-Berechnungen'!Z351,'MOD-Berechnungen'!Z301+'MOD-Berechnungen'!Z321+'MOD-Berechnungen'!Z361-'MOD-Berechnungen'!Z351)","v":5.5515617611293999},{"$f":"IF(ControlPanel!$D$59>'GrD-Grafikdaten'!AA$5,'MOD-Berechnungen'!AA311-'MOD-Berechnungen'!AA351,'MOD-Berechnungen'!AA301+'MOD-Berechnungen'!AA321+'MOD-Berechnungen'!AA361-'MOD-Berechnungen'!AA351)","v":3.455464306401733},{"$f":"IF(ControlPanel!$D$59>'GrD-Grafikdaten'!AB$5,'MOD-Berechnungen'!AB311-'MOD-Berechnungen'!AB351,'MOD-Berechnungen'!AB301+'MOD-Berechnungen'!AB321+'MOD-Berechnungen'!AB361-'MOD-Berechnungen'!AB351)","v":1.9124215606084971},{"$f":"IF(ControlPanel!$D$59>'GrD-Grafikdaten'!AC$5,'MOD-Berechnungen'!AC311-'MOD-Berechnungen'!AC351,'MOD-Berechnungen'!AC301+'MOD-Berechnungen'!AC321+'MOD-Berechnungen'!AC361-'MOD-Berechnungen'!AC351)","v":1.0880941678154281},{"$f":"IF(ControlPanel!$D$59>'GrD-Grafikdaten'!AD$5,'MOD-Berechnungen'!AD311-'MOD-Berechnungen'!AD351,'MOD-Berechnungen'!AD301+'MOD-Berechnungen'!AD321+'MOD-Berechnungen'!AD361-'MOD-Berechnungen'!AD351)","v":0.9373779049464166},{"$f":"IF(ControlPanel!$D$59>'GrD-Grafikdaten'!AE$5,'MOD-Berechnungen'!AE311-'MOD-Berechnungen'!AE351,'MOD-Berechnungen'!AE301+'MOD-Berechnungen'!AE321+'MOD-Berechnungen'!AE361-'MOD-Berechnungen'!AE351)","v":1.4951824399719955},null,"v3.1.0a","für historische Jahre: Einnahmen Anlagenbetreiber (alle Baujahre, aus ÜNB-Jahresprognosen abgeleitet) - Vermarktungserlöse \nfür Prognosejahre: = Einnahmen Anlagenbetreiber (Baujahr>2014) + Einnahmen Managementprämie + Verbleibende Zahlungen an Bestandsanlagen - Vermarktungserlöse\n"]
[60,null,null,null,"Belastung nichtprivilegierter Letztverbrauch",{"$f":"'MOD-Berechnungen'!F185*'MOD-Berechnungen'!F390/100","v":8.200179649999999},{"$f":"'MOD-Berechnungen'!G185*'MOD-Berechnungen'!G390/100","v":13.525185549484002},{"$f":"'MOD-Berechnungen'!H185*'MOD-Berechnungen'!H390/100","v":13.883379644640002},{"$f":"'MOD-Berechnungen'!I185*'MOD-Berechnungen'!I390/100","v":20.224554263969999},{"$f":"'MOD-Berechnungen'!J185*'MOD-Berechnungen'!J390/100","v":23.104251892799997},{"$f":"'MOD-Berechnungen'!K185*'MOD-Berechnungen'!K390/100","v":21.638272271801092},{"$f":"'MOD-Berechnungen'!L185*'MOD-Berechnungen'!L390/100","v":22.555572489081307},{"$f":"'MOD-Berechnungen'!M185*'MOD-Berechnungen'!M390/100","v":23.513685645964031},{"$f":"'MOD-Berechnungen'!N185*'MOD-Berechnungen'!N390/100","v":23.285157656725346},{"$f":"'MOD-Berechnungen'!O185*'MOD-Berechnungen'!O390/100","v":22.055778972951767},{"$f":"'MOD-Berechnungen'!P185*'MOD-Berechnungen'!P390/100","v":23.252845747155028},{"$f":"'MOD-Berechnungen'!Q185*'MOD-Berechnungen'!Q390/100","v":21.567921937973843},{"$f":"'MOD-Berechnungen'!R185*'MOD-Berechnungen'!R390/100","v":14.55273836600416},{"$f":"'MOD-Berechnungen'!S185*'MOD-Berechnungen'!S390/100","v":15.144140307957475},{"$f":"'MOD-Berechnungen'!T185*'MOD-Berechnungen'!T390/100","v":14.503115640102065},{"$f":"'MOD-Berechnungen'!U185*'MOD-Berechnungen'!U390/100","v":12.546404311684421},{"$f":"'MOD-Berechnungen'!V185*'MOD-Berechnungen'!V390/100","v":11.117891381392747},{"$f":"'MOD-Berechnungen'!W185*'MOD-Berechnungen'!W390/100","v":9.2743466908197263},{"$f":"'MOD-Berechnungen'!X185*'MOD-Berechnungen'!X390/100","v":7.9068381254001316},{"$f":"'MOD-Berechnungen'!Y185*'MOD-Berechnungen'!Y390/100","v":6.5941512673495035},{"$f":"'MOD-Berechnungen'!Z185*'MOD-Berechnungen'!Z390/100","v":4.7237011232163928},{"$f":"'MOD-Berechnungen'!AA185*'MOD-Berechnungen'!AA390/100","v":2.0323804827942897},{"$f":"'MOD-Berechnungen'!AB185*'MOD-Berechnungen'!AB390/100","v":-0.42156895671210459},{"$f":"'MOD-Berechnungen'!AC185*'MOD-Berechnungen'!AC390/100","v":-1.6939626913222394},{"$f":"'MOD-Berechnungen'!AD185*'MOD-Berechnungen'!AD390/100","v":-1.8707509696993554},{"$f":"'MOD-Berechnungen'!AE185*'MOD-Berechnungen'!AE390/100","v":-0.56668481426938611},null,null," = nicht privilegierter Letztverbrauch * Umlage"]
[61,null,null,null,"Belastung privilegierter Letztverbrauch",{"$f":"'MOD-Berechnungen'!F12*'MOD-Berechnungen'!F17*(1-'MOD-Berechnungen'!F18)*'MOD-Berechnungen'!F390/100","v":3.393607614718952E-2},{"$f":"'MOD-Berechnungen'!G12*'MOD-Berechnungen'!G17*(1-'MOD-Berechnungen'!G18)*'MOD-Berechnungen'!G390/100","v":3.735757423773732E-2},{"$f":"'MOD-Berechnungen'!H12*'MOD-Berechnungen'!H17*(1-'MOD-Berechnungen'!H18)*'MOD-Berechnungen'!H390/100","v":4.2365070647105346E-2},{"$f":"'MOD-Berechnungen'!I12*'MOD-Berechnungen'!I17*(1-'MOD-Berechnungen'!I18)*'MOD-Berechnungen'!I390/100","v":3.2711856918474516E-2},{"$f":"'MOD-Berechnungen'!J12*'MOD-Berechnungen'!J17*(1-'MOD-Berechnungen'!J18)*'MOD-Berechnungen'!J390/100","v":0.13849324742799995},{"$f":"'MOD-Berechnungen'!K12*'MOD-Berechnungen'!K17*(1-'MOD-Berechnungen'!K18)*'MOD-Berechnungen'!K390/100","v":0.4754434850701581},{"$f":"'MOD-Berechnungen'!L12*'MOD-Berechnungen'!L17*(1-'MOD-Berechnungen'!L18)*'MOD-Berechnungen'!L390/100","v":0.4919372465274327},{"$f":"'MOD-Berechnungen'!M12*'MOD-Berechnungen'!M17*(1-'MOD-Berechnungen'!M18)*'MOD-Berechnungen'!M390/100","v":0.44685873466231341},{"$f":"'MOD-Berechnungen'!N12*'MOD-Berechnungen'!N17*(1-'MOD-Berechnungen'!N18)*'MOD-Berechnungen'!N390/100","v":0.46668341553727027},{"$f":"'MOD-Berechnungen'!O12*'MOD-Berechnungen'!O17*(1-'MOD-Berechnungen'!O18)*'MOD-Berechnungen'!O390/100","v":0.41825657234659019},{"$f":"'MOD-Berechnungen'!P12*'MOD-Berechnungen'!P17*(1-'MOD-Berechnungen'!P18)*'MOD-Berechnungen'!P390/100","v":0.44473750674681178},{"$f":"'MOD-Berechnungen'!Q12*'MOD-Berechnungen'!Q17*(1-'MOD-Berechnungen'!Q18)*'MOD-Berechnungen'!Q390/100","v":0.41990360429802659},{"$f":"'MOD-Berechnungen'!R12*'MOD-Berechnungen'!R17*(1-'MOD-Berechnungen'!R18)*'MOD-Berechnungen'!R390/100","v":0.27319153701502857},{"$f":"'MOD-Berechnungen'!S12*'MOD-Berechnungen'!S17*(1-'MOD-Berechnungen'!S18)*'MOD-Berechnungen'!S390/100","v":0.27270156584896521},{"$f":"'MOD-Berechnungen'!T12*'MOD-Berechnungen'!T17*(1-'MOD-Berechnungen'!T18)*'MOD-Berechnungen'!T390/100","v":0.25103003895234238},{"$f":"'MOD-Berechnungen'!U12*'MOD-Berechnungen'!U17*(1-'MOD-Berechnungen'!U18)*'MOD-Berechnungen'!U390/100","v":0.20890286940480923},{"$f":"'MOD-Berechnungen'!V12*'MOD-Berechnungen'!V17*(1-'MOD-Berechnungen'!V18)*'MOD-Berechnungen'!V390/100","v":0.18080696118093953},{"$f":"'MOD-Berechnungen'!W12*'MOD-Berechnungen'!W17*(1-'MOD-Berechnungen'!W18)*'MOD-Berechnungen'!W390/100","v":0.14738331738312083},{"$f":"'MOD-Berechnungen'!X12*'MOD-Berechnungen'!X17*(1-'MOD-Berechnungen'!X18)*'MOD-Berechnungen'!X390/100","v":0.12283635021633156},{"$f":"'MOD-Berechnungen'!Y12*'MOD-Berechnungen'!Y17*(1-'MOD-Berechnungen'!Y18)*'MOD-Berechnungen'!Y390/100","v":0.10016468830272839},{"$f":"'MOD-Berechnungen'!Z12*'MOD-Berechnungen'!Z17*(1-'MOD-Berechnungen'!Z18)*'MOD-Berechnungen'!Z390/100","v":7.0164502628940806E-2},{"$f":"'MOD-Berechnungen'!AA12*'MOD-Berechnungen'!AA17*(1-'MOD-Berechnungen'!AA18)*'MOD-Berechnungen'!AA390/100","v":2.953434441050248E-2},{"$f":"'MOD-Berechnungen'!AB12*'MOD-Berechnungen'!AB17*(1-'MOD-Berechnungen'!AB18)*'MOD-Berechnungen'!AB390/100","v":-5.9962085414400753E-3},{"$f":"'MOD-Berechnungen'!AC12*'MOD-Berechnungen'!AC17*(1-'MOD-Berechnungen'!AC18)*'MOD-Berechnungen'!AC390/100","v":-2.3606201875167251E-2},{"$f":"'MOD-Berechnungen'!AD12*'MOD-Berechnungen'!AD17*(1-'MOD-Berechnungen'!AD18)*'MOD-Berechnungen'!AD390/100","v":-2.5556730084122042E-2},{"$f":"'MOD-Berechnungen'!AE12*'MOD-Berechnungen'!AE17*(1-'MOD-Berechnungen'!AE18)*'MOD-Berechnungen'!AE390/100","v":-7.5939414660656044E-3},null,"v2.1.35"," = privilegierter Letztverbrauch * Anteil an Umlage für PL * (1-Faktor für zusätzliche Privilegierung) * Umlage"]
[62,null,null,null,"Belastung Eigenverbrauch",{"$f":"('MOD-Berechnungen'!F13+'MOD-Berechnungen'!F254)*'MOD-Berechnungen'!F19/100+('MOD-Berechnungen'!F14+'MOD-Berechnungen'!F264)*'MOD-Berechnungen'!F20/100+'MOD-Berechnungen'!F15*'MOD-Berechnungen'!F21/100","v":0},{"$f":"('MOD-Berechnungen'!G13+'MOD-Berechnungen'!G254)*'MOD-Berechnungen'!G19/100+('MOD-Berechnungen'!G14+'MOD-Berechnungen'!G264)*'MOD-Berechnungen'!G20/100+'MOD-Berechnungen'!G15*'MOD-Berechnungen'!G21/100","v":0},{"$f":"('MOD-Berechnungen'!H13+'MOD-Berechnungen'!H254)*'MOD-Berechnungen'!H19/100+('MOD-Berechnungen'!H14+'MOD-Berechnungen'!H264)*'MOD-Berechnungen'!H20/100+'MOD-Berechnungen'!H15*'MOD-Berechnungen'!H21/100","v":0},{"$f":"('MOD-Berechnungen'!I13+'MOD-Berechnungen'!I254)*'MOD-Berechnungen'!I19/100+('MOD-Berechnungen'!I14+'MOD-Berechnungen'!I264)*'MOD-Berechnungen'!I20/100+'MOD-Berechnungen'!I15*'MOD-Berechnungen'!I21/100","v":0},{"$f":"('MOD-Berechnungen'!J13+'MOD-Berechnungen'!J254)*'MOD-Berechnungen'!J19/100+('MOD-Berechnungen'!J14+'MOD-Berechnungen'!J264)*'MOD-Berechnungen'!J20/100+'MOD-Berechnungen'!J15*'MOD-Berechnungen'!J21/100","v":0},{"$f":"('MOD-Berechnungen'!K13+'MOD-Berechnungen'!K254)*'MOD-Berechnungen'!K19/100+('MOD-Berechnungen'!K14+'MOD-Berechnungen'!K264)*'MOD-Berechnungen'!K20/100+'MOD-Berechnungen'!K15*'MOD-Berechnungen'!K21/100","v":9.8178863999999998E-4},{"$f":"('MOD-Berechnungen'!L13+'MOD-Berechnungen'!L254)*'MOD-Berechnungen'!L19/100+('MOD-Berechnungen'!L14+'MOD-Berechnungen'!L264)*'MOD-Berechnungen'!L20/100+'MOD-Berechnungen'!L15*'MOD-Berechnungen'!L21/100","v":3.6367778999999993E-3},{"$f":"('MOD-Berechnungen'!M13+'MOD-Berechnungen'!M254)*'MOD-Berechnungen'!M19/100+('MOD-Berechnungen'!M14+'MOD-Berechnungen'!M264)*'MOD-Berechnungen'!M20/100+'MOD-Berechnungen'!M15*'MOD-Berechnungen'!M21/100","v":1.662114917116593E-2},{"$f":"('MOD-Berechnungen'!N13+'MOD-Berechnungen'!N254)*'MOD-Berechnungen'!N19/100+('MOD-Berechnungen'!N14+'MOD-Berechnungen'!N264)*'MOD-Berechnungen'!N20/100+'MOD-Berechnungen'!N15*'MOD-Berechnungen'!N21/100","v":2.1945423981766587E-2},{"$f":"('MOD-Berechnungen'!O13+'MOD-Berechnungen'!O254)*'MOD-Berechnungen'!O19/100+('MOD-Berechnungen'!O14+'MOD-Berechnungen'!O264)*'MOD-Berechnungen'!O20/100+'MOD-Berechnungen'!O15*'MOD-Berechnungen'!O21/100","v":3.8712181810251711E-2},{"$f":"('MOD-Berechnungen'!P13+'MOD-Berechnungen'!P254)*'MOD-Berechnungen'!P19/100+('MOD-Berechnungen'!P14+'MOD-Berechnungen'!P264)*'MOD-Berechnungen'!P20/100+'MOD-Berechnungen'!P15*'MOD-Berechnungen'!P21/100","v":5.1853512467374019E-2},{"$f":"('MOD-Berechnungen'!Q13+'MOD-Berechnungen'!Q254)*'MOD-Berechnungen'!Q19/100+('MOD-Berechnungen'!Q14+'MOD-Berechnungen'!Q264)*'MOD-Berechnungen'!Q20/100+'MOD-Berechnungen'!Q15*'MOD-Berechnungen'!Q21/100","v":6.298200678060191E-2},{"$f":"('MOD-Berechnungen'!R13+'MOD-Berechnungen'!R254)*'MOD-Berechnungen'!R19/100+('MOD-Berechnungen'!R14+'MOD-Berechnungen'!R264)*'MOD-Berechnungen'!R20/100+'MOD-Berechnungen'!R15*'MOD-Berechnungen'!R21/100","v":6.7107654250889784E-2},{"$f":"('MOD-Berechnungen'!S13+'MOD-Berechnungen'!S254)*'MOD-Berechnungen'!S19/100+('MOD-Berechnungen'!S14+'MOD-Berechnungen'!S264)*'MOD-Berechnungen'!S20/100+'MOD-Berechnungen'!S15*'MOD-Berechnungen'!S21/100","v":6.9197254619618564E-2},{"$f":"('MOD-Berechnungen'!T13+'MOD-Berechnungen'!T254)*'MOD-Berechnungen'!T19/100+('MOD-Berechnungen'!T14+'MOD-Berechnungen'!T264)*'MOD-Berechnungen'!T20/100+'MOD-Berechnungen'!T15*'MOD-Berechnungen'!T21/100","v":7.0969183553727194E-2},{"$f":"('MOD-Berechnungen'!U13+'MOD-Berechnungen'!U254)*'MOD-Berechnungen'!U19/100+('MOD-Berechnungen'!U14+'MOD-Berechnungen'!U264)*'MOD-Berechnungen'!U20/100+'MOD-Berechnungen'!U15*'MOD-Berechnungen'!U21/100","v":7.2700419814562045E-2},{"$f":"('MOD-Berechnungen'!V13+'MOD-Berechnungen'!V254)*'MOD-Berechnungen'!V19/100+('MOD-Berechnungen'!V14+'MOD-Berechnungen'!V264)*'MOD-Berechnungen'!V20/100+'MOD-Berechnungen'!V15*'MOD-Berechnungen'!V21/100","v":7.3638579850357738E-2},{"$f":"('MOD-Berechnungen'!W13+'MOD-Berechnungen'!W254)*'MOD-Berechnungen'!W19/100+('MOD-Berechnungen'!W14+'MOD-Berechnungen'!W264)*'MOD-Berechnungen'!W20/100+'MOD-Berechnungen'!W15*'MOD-Berechnungen'!W21/100","v":7.4561363663985927E-2},{"$f":"('MOD-Berechnungen'!X13+'MOD-Berechnungen'!X254)*'MOD-Berechnungen'!X19/100+('MOD-Berechnungen'!X14+'MOD-Berechnungen'!X264)*'MOD-Berechnungen'!X20/100+'MOD-Berechnungen'!X15*'MOD-Berechnungen'!X21/100","v":7.548847165279024E-2},{"$f":"('MOD-Berechnungen'!Y13+'MOD-Berechnungen'!Y254)*'MOD-Berechnungen'!Y19/100+('MOD-Berechnungen'!Y14+'MOD-Berechnungen'!Y264)*'MOD-Berechnungen'!Y20/100+'MOD-Berechnungen'!Y15*'MOD-Berechnungen'!Y21/100","v":7.6419903816770635E-2},{"$f":"('MOD-Berechnungen'!Z13+'MOD-Berechnungen'!Z254)*'MOD-Berechnungen'!Z19/100+('MOD-Berechnungen'!Z14+'MOD-Berechnungen'!Z264)*'MOD-Berechnungen'!Z20/100+'MOD-Berechnungen'!Z15*'MOD-Berechnungen'!Z21/100","v":7.7355660155927125E-2},{"$f":"('MOD-Berechnungen'!AA13+'MOD-Berechnungen'!AA254)*'MOD-Berechnungen'!AA19/100+('MOD-Berechnungen'!AA14+'MOD-Berechnungen'!AA264)*'MOD-Berechnungen'!AA20/100+'MOD-Berechnungen'!AA15*'MOD-Berechnungen'!AA21/100","v":7.8295740670259739E-2},{"$f":"('MOD-Berechnungen'!AB13+'MOD-Berechnungen'!AB254)*'MOD-Berechnungen'!AB19/100+('MOD-Berechnungen'!AB14+'MOD-Berechnungen'!AB264)*'MOD-Berechnungen'!AB20/100+'MOD-Berechnungen'!AB15*'MOD-Berechnungen'!AB21/100","v":7.9240145359768449E-2},{"$f":"('MOD-Berechnungen'!AC13+'MOD-Berechnungen'!AC254)*'MOD-Berechnungen'!AC19/100+('MOD-Berechnungen'!AC14+'MOD-Berechnungen'!AC264)*'MOD-Berechnungen'!AC20/100+'MOD-Berechnungen'!AC15*'MOD-Berechnungen'!AC21/100","v":8.0188874224453255E-2},{"$f":"('MOD-Berechnungen'!AD13+'MOD-Berechnungen'!AD254)*'MOD-Berechnungen'!AD19/100+('MOD-Berechnungen'!AD14+'MOD-Berechnungen'!AD264)*'MOD-Berechnungen'!AD20/100+'MOD-Berechnungen'!AD15*'MOD-Berechnungen'!AD21/100","v":8.1141927264314156E-2},{"$f":"('MOD-Berechnungen'!AE13+'MOD-Berechnungen'!AE254)*'MOD-Berechnungen'!AE19/100+('MOD-Berechnungen'!AE14+'MOD-Berechnungen'!AE264)*'MOD-Berechnungen'!AE20/100+'MOD-Berechnungen'!AE15*'MOD-Berechnungen'!AE21/100","v":8.2103127247247248E-2},null,"v2.1.4"]
[63,null,null,null,"Strompreis (Future)",{"$f":"'MOD-Berechnungen'!F181/10","v":5.3650479999999998},{"$f":"'MOD-Berechnungen'!G181/10","v":5.0739089999999996},{"$f":"'MOD-Berechnungen'!H181/10","v":5.5220000000000002},{"$f":"'MOD-Berechnungen'!I181/10","v":5.1150000000000002},{"$f":"'MOD-Berechnungen'!J181/10","v":4.1450000000000005},{"$f":"'MOD-Berechnungen'!K181/10","v":3.5670000000000002},{"$f":"'MOD-Berechnungen'!L181/10","v":3.1260000000000003},{"$f":"'MOD-Berechnungen'!M181/10","v":2.6749999999999998},{"$f":"'MOD-Berechnungen'!N181/10","v":3.222},{"$f":"'MOD-Berechnungen'!O181/10","v":4.6280000000000001},{"$f":"'MOD-Berechnungen'!P181/10","v":4.9340000000000002},{"$f":"'MOD-Berechnungen'!Q181/10","v":4.0739999999999998},{"$f":"'MOD-Berechnungen'!R181/10","v":7.2511599999999987},{"$f":"'MOD-Berechnungen'!S181/10","v":6.5264753749999986},{"$f":"'MOD-Berechnungen'!T181/10","v":6.6387505832812481},{"$f":"'MOD-Berechnungen'!U181/10","v":6.7529255908515591},{"$f":"'MOD-Berechnungen'!V181/10","v":6.8690321297677412},{"$f":"'MOD-Berechnungen'!W181/10","v":6.9871024565934672},{"$f":"'MOD-Berechnungen'!X181/10","v":7.1071693609947673},{"$f":"'MOD-Berechnungen'!Y181/10","v":7.2292661744753746},{"$f":"'MOD-Berechnungen'!Z181/10","v":7.3534267792541756},{"$f":"'MOD-Berechnungen'!AA181/10","v":7.4796856172870836},{"$f":"'MOD-Berechnungen'!AB181/10","v":7.6080776994356452},{"$f":"'MOD-Berechnungen'!AC181/10","v":7.7386386147847741},{"$f":"'MOD-Berechnungen'!AD181/10","v":7.8714045401120059},{"$f":"'MOD-Berechnungen'!AE181/10","v":8.0064122495107277},null,"v2.1.16"]
[64,null,null,null,"Summe Strompreis + Umlage",{"$f":"F63+F52","v":7.4120479999999995},8.6039089999999998,9.1140000000000008,10.391999999999999,10.385,9.7365706877643845,9.4643111725365721,9.5352600831698844,{"$f":"N63+N52","v":10.000835224833761},{"$f":"O63+O52","v":11.034581826229905},11.692116313820181,10.577615363716919,11.523376637741537,10.836192038073872,10.652844971377938,10.132696173126496,9.7942482850600427,9.3715685093038701,9.0944981328685977,8.8497976103183831,8.4885951116992402,7.9575120286226024,7.511067020303833,7.3567216651313432,7.4579306382764186,7.8835523766729283]
[65,null,null,null,"Umlage privilegierter Letztverbrauch [ct/kWh]",{"$f":"IF(F89>0,F61/F89*100,0)","v":4.9989800764796158E-2},4.9990085901745564E-2,5.0001590567365077E-2,3.3995000948890464E-2,0.13001254107481827,0.43125299107473047,0.4734718445884819,0.39148135925235333,0.40690848928662227,0.36712782552459544,0.38282786662893387,0.37248612108402962,0.24468565787284241,0.24683342310731823,0.2299020413520857,0.19357196942625021,0.16753795513430275,0.13656719549955601,0.11382167366227906,9.2813832749007022E-2,6.5015291539048198E-2,2.7366886963030464E-2,-5.5561606203114117E-3,-2.1873797141556014E-2,-2.3681180582025615E-2,-7.0366396090303972E-3]
[66,null,null,null,"Umlage Eigenverbrauch [ct/kWh]",{"$f":"F62*F90/100","v":0},0,0,0,0,5.854136932987768E-4,1.8852721831826521E-3,1.0804901280122412E-2,1.4583188073286832E-2,3.0211868860009018E-2,4.0587414086677188E-2,4.6711929238572099E-2,5.0527158438710772E-2,5.1729593349890052E-2,5.3361555128523343E-2,5.4958999995941227E-2,5.5817261866955216E-2,5.6647029319389287E-2,5.7455967390535531E-2,5.8166656352203326E-2,5.8756725101409918E-2,5.934340215942175E-2,5.9926009267586747E-2,6.069941935608747E-2,6.1540575153388309E-2,6.2478870660478393E-2]
[67,null,null,null,"Kontostand",{"$f":"'MOD-Berechnungen'!F382","v":0},{"$f":"'MOD-Berechnungen'!G382","v":-1.11629894236},{"$f":"'MOD-Berechnungen'!H382","v":-0.71124112144000007},{"$f":"'MOD-Berechnungen'!I382","v":-2.5889139132900003},{"$f":"'MOD-Berechnungen'!J382","v":-2.1969250054800002},{"$f":"'MOD-Berechnungen'!K382","v":1.38074493721},{"$f":"'MOD-Berechnungen'!L382","v":2.5211899999999998},{"$f":"'MOD-Berechnungen'!M382","v":1.9478101488699999},{"$f":"'MOD-Berechnungen'!N382","v":3.3292301430700002},{"$f":"'MOD-Berechnungen'!O382","v":3.6518353547200002},{"$f":"'MOD-Berechnungen'!P382","v":2.19040541733},{"$f":"'MOD-Berechnungen'!Q382","v":-4.0803942770500008},{"$f":"'MOD-Berechnungen'!R382","v":5.348731995891753},{"$f":"'MOD-Berechnungen'!S382","v":1.1581902076936634},{"$f":"'MOD-Berechnungen'!T382","v":1.2381086401569759},{"$f":"'MOD-Berechnungen'!U382","v":1.2043659238099336},{"$f":"'MOD-Berechnungen'!V382","v":1.0870971987796656},{"$f":"'MOD-Berechnungen'!W382","v":0.99629458328968123},{"$f":"'MOD-Berechnungen'!X382","v":0.88278190369772158},{"$f":"'MOD-Berechnungen'!Y382","v":0.79598925231931528},{"$f":"'MOD-Berechnungen'!Z382","v":0.714008267797964},{"$f":"'MOD-Berechnungen'!AA382","v":0.59975578807854912},{"$f":"'MOD-Berechnungen'!AB382","v":0.43579711630588669},{"$f":"'MOD-Berechnungen'!AC382","v":0.28304970626810277},{"$f":"'MOD-Berechnungen'!AD382","v":0.20008615034890997},{"$f":"'MOD-Berechnungen'!AE382","v":0.18510726686586754}]
[68,null,null,null,null,null,null,null,null,null,null,null,null,null,null,null,null,null,null,null,null,null,null,null,null,null,null,null,null,null,null,"v2.1.15","v2.1.15"]
[69,null,null,null,"monetäre Daten (real) (Umlage ct/kWh, Mrd. Euro)",null,null,null,null,null,null,null,null,null,null,null,null,null,null,null,null,null,null,null,null,null,null,null,null,null,null,"v2.1.15","v2.1.15"," = nominale Daten / Umrechnungsfaktor real zu nominal"]
[70,null,null,null,"Umlage",{"$f":"F52/'MOD-Berechnungen'!F$26","v":2.3944079815278903},{"$f":"G52/'MOD-Berechnungen'!G$26","v":4.0441687794198993},{"$f":"H52/'MOD-Berechnungen'!H$26","v":4.0345093194679436},{"$f":"I52/'MOD-Berechnungen'!I$26","v":5.839497097774017},{"$f":"J52/'MOD-Berechnungen'!J$26","v":6.8435552249030787},{"$f":"K52/'MOD-Berechnungen'!K$26","v":6.7460755099539274},{"$f":"L52/'MOD-Berechnungen'!L$26","v":6.8281612378152632},{"$f":"M52/'MOD-Berechnungen'!M$26","v":7.2812300000841441},{"$f":"N52/'MOD-Berechnungen'!N$26","v":7.0884814022969254},{"$f":"O52/'MOD-Berechnungen'!O$26","v":6.6002207619277025},{"$f":"P52/'MOD-Berechnungen'!P$26","v":6.8594880585274822},{"$f":"Q52/'MOD-Berechnungen'!Q$26","v":6.5036153637169205},{"$f":"R52/'MOD-Berechnungen'!R$26","v":4.2090804312724517},{"$f":"S52/'MOD-Berechnungen'!S$26","v":4.1832771123530037},{"$f":"T52/'MOD-Berechnungen'!T$26","v":3.8387466778173476},{"$f":"U52/'MOD-Berechnungen'!U$26","v":3.1843665446064251},{"$f":"V52/'MOD-Berechnungen'!V$26","v":2.7153621001934667},{"$f":"W52/'MOD-Berechnungen'!W$26","v":2.180694811830207},{"$f":"X52/'MOD-Berechnungen'!X$26","v":1.7906364653037872},{"$f":"Y52/'MOD-Berechnungen'!Y$26","v":1.4385637820670241},{"$f":"Z52/'MOD-Berechnungen'!Z$26","v":0.99280941487497743},{"$f":"AA52/'MOD-Berechnungen'!AA$26","v":0.41172736109922209},{"$f":"AB52/'MOD-Berechnungen'!AB$26","v":-8.2355589492608836E-2},{"$f":"AC52/'MOD-Berechnungen'!AC$26","v":-0.3194305328987867},{"$f":"AD52/'MOD-Berechnungen'!AD$26","v":-0.34071366579044021},{"$f":"AE52/'MOD-Berechnungen'!AE$26","v":-9.9743698995077304E-2},"v2.1.15","v2.1.15"]
[71,null,null,null,"Förderung Wasser",{"$f":"F53/'MOD-Berechnungen'!F$26","v":0.14257494357904665},{"$f":"G53/'MOD-Berechnungen'!G$26","v":6.60162515750366E-2},{"$f":"H53/'MOD-Berechnungen'!H$26","v":0.16406308082082796},{"$f":"I53/'MOD-Berechnungen'!I$26","v":0.2156925496970733},{"$f":"J53/'MOD-Berechnungen'!J$26","v":0.31220373776425886},{"$f":"K53/'MOD-Berechnungen'!K$26","v":0.37045571299148056},{"$f":"L53/'MOD-Berechnungen'!L$26","v":0.41701393646318191},{"$f":"M53/'MOD-Berechnungen'!M$26","v":0.45006735479000182},{"$f":"N53/'MOD-Berechnungen'!N$26","v":0.35153581626202807},{"$f":"O53/'MOD-Berechnungen'!O$26","v":0.31528365590437096},{"$f":"P53/'MOD-Berechnungen'!P$26","v":0.26984285534849989},{"$f":"Q53/'MOD-Berechnungen'!Q$26","v":0.33209319147999994},{"$f":"R53/'MOD-Berechnungen'!R$26","v":0.18972669075925022},{"$f":"S53/'MOD-Berechnungen'!S$26","v":0.2446492280948418},{"$f":"T53/'MOD-Berechnungen'!T$26","v":0.23466143991860569},{"$f":"U53/'MOD-Berechnungen'!U$26","v":0.22462706676940877},{"$f":"V53/'MOD-Berechnungen'!V$26","v":0.21454623612111573},{"$f":"W53/'MOD-Berechnungen'!W$26","v":0.20442421590651422},{"$f":"X53/'MOD-Berechnungen'!X$26","v":0.19426347025353707},{"$f":"Y53/'MOD-Berechnungen'!Y$26","v":0.18406638605277018},{"$f":"Z53/'MOD-Berechnungen'!Z$26","v":0.16132183641024733},{"$f":"AA53/'MOD-Berechnungen'!AA$26","v":0.1502947684785326},{"$f":"AB53/'MOD-Berechnungen'!AB$26","v":0.13425050079720813},{"$f":"AC53/'MOD-Berechnungen'!AC$26","v":0.11956452499866821},{"$f":"AD53/'MOD-Berechnungen'!AD$26","v":0.11140489044895631},{"$f":"AE53/'MOD-Berechnungen'!AE$26","v":0.10203768120734756},"v2.1.15","v2.1.15"]
[72,null,null,null,"Förderung Gase",{"$f":"F54/'MOD-Berechnungen'!F$26","v":3.6359464421322027E-2},{"$f":"G54/'MOD-Berechnungen'!G$26","v":4.5402893312931174E-3},{"$f":"H54/'MOD-Berechnungen'!H$26","v":1.3924861027444599E-2},{"$f":"I54/'MOD-Berechnungen'!I$26","v":3.8080351418946952E-2},{"$f":"J54/'MOD-Berechnungen'!J$26","v":3.3875207271636718E-2},{"$f":"K54/'MOD-Berechnungen'!K$26","v":6.3290223429324069E-2},{"$f":"L54/'MOD-Berechnungen'!L$26","v":6.7614218234063828E-2},{"$f":"M54/'MOD-Berechnungen'!M$26","v":6.2664669341825546E-2},{"$f":"N54/'MOD-Berechnungen'!N$26","v":5.1957619978732404E-2},{"$f":"O54/'MOD-Berechnungen'!O$26","v":3.8060483759136982E-2},{"$f":"P54/'MOD-Berechnungen'!P$26","v":2.3667272528199994E-2},{"$f":"Q54/'MOD-Berechnungen'!Q$26","v":3.0264385259999999E-2},{"$f":"R54/'MOD-Berechnungen'!R$26","v":2.2900142460396546E-4},{"$f":"S54/'MOD-Berechnungen'!S$26","v":7.1525987865734787E-3},{"$f":"T54/'MOD-Berechnungen'!T$26","v":4.6118679823829115E-3},{"$f":"U54/'MOD-Berechnungen'!U$26","v":2.7747440271107182E-3},{"$f":"V54/'MOD-Berechnungen'!V$26","v":1.9828221292062455E-3},{"$f":"W54/'MOD-Berechnungen'!W$26","v":1.7213946536869141E-3},{"$f":"X54/'MOD-Berechnungen'!X$26","v":1.5561628615492048E-3},{"$f":"Y54/'MOD-Berechnungen'!Y$26","v":1.405025853351333E-3},{"$f":"Z54/'MOD-Berechnungen'!Z$26","v":1.2031674763376373E-3},{"$f":"AA54/'MOD-Berechnungen'!AA$26","v":9.8115526230302028E-4},{"$f":"AB54/'MOD-Berechnungen'!AB$26","v":1.251738107894561E-3},{"$f":"AC54/'MOD-Berechnungen'!AC$26","v":1.1848280246993237E-3},{"$f":"AD54/'MOD-Berechnungen'!AD$26","v":1.1666031931956593E-3},{"$f":"AE54/'MOD-Berechnungen'!AE$26","v":1.1948863019413569E-3},"v2.1.15","v2.1.15"]
[73,null,null,null,"Förderung Biomasse",{"$f":"F55/'MOD-Berechnungen'!F$26","v":2.9732843295638727},{"$f":"G55/'MOD-Berechnungen'!G$26","v":3.4553852333663899},{"$f":"H55/'MOD-Berechnungen'!H$26","v":3.8782061122232112},{"$f":"I55/'MOD-Berechnungen'!I$26","v":4.8180893934895241},{"$f":"J55/'MOD-Berechnungen'!J$26","v":5.474725806048423},{"$f":"K55/'MOD-Berechnungen'!K$26","v":6.3225463203186285},{"$f":"L55/'MOD-Berechnungen'!L$26","v":6.7526155928089153},{"$f":"M55/'MOD-Berechnungen'!M$26","v":6.99683573667311},{"$f":"N55/'MOD-Berechnungen'!N$26","v":6.9319692022906843},{"$f":"O55/'MOD-Berechnungen'!O$26","v":6.5741685500782605},{"$f":"P55/'MOD-Berechnungen'!P$26","v":6.2207547336045996},{"$f":"Q55/'MOD-Berechnungen'!Q$26","v":6.4954462491599987},{"$f":"R55/'MOD-Berechnungen'!R$26","v":4.9593865472834793},{"$f":"S55/'MOD-Berechnungen'!S$26","v":5.1395189594481234},{"$f":"T55/'MOD-Berechnungen'!T$26","v":4.9417474176122287},{"$f":"U55/'MOD-Berechnungen'!U$26","v":4.5948363913420884},{"$f":"V55/'MOD-Berechnungen'!V$26","v":4.0520726257365522},{"$f":"W55/'MOD-Berechnungen'!W$26","v":3.4583590350334514},{"$f":"X55/'MOD-Berechnungen'!X$26","v":2.996806657564453},{"$f":"Y55/'MOD-Berechnungen'!Y$26","v":2.7492076805542918},{"$f":"Z55/'MOD-Berechnungen'!Z$26","v":2.4332874899202426},{"$f":"AA55/'MOD-Berechnungen'!AA$26","v":1.9762081813454235},{"$f":"AB55/'MOD-Berechnungen'!AB$26","v":1.2613331311828475},{"$f":"AC55/'MOD-Berechnungen'!AC$26","v":1.061891936614769},{"$f":"AD55/'MOD-Berechnungen'!AD$26","v":0.91312731932415714},{"$f":"AE55/'MOD-Berechnungen'!AE$26","v":0.80068792947041034},"v2.1.15","v2.1.15"]
[74,null,null,null,"Förderung Geothermie",{"$f":"F56/'MOD-Berechnungen'!F$26","v":4.0572555688117825E-3},{"$f":"G56/'MOD-Berechnungen'!G$26","v":1.1415576245619997E-2},{"$f":"H56/'MOD-Berechnungen'!H$26","v":2.000125056428171E-2},{"$f":"I56/'MOD-Berechnungen'!I$26","v":1.5704312974316476E-2},{"$f":"J56/'MOD-Berechnungen'!J$26","v":2.8872865011128488E-2},{"$f":"K56/'MOD-Berechnungen'!K$26","v":3.6483082041453195E-2},{"$f":"L56/'MOD-Berechnungen'!L$26","v":4.1311934907098655E-2},{"$f":"M56/'MOD-Berechnungen'!M$26","v":4.4385210880969292E-2},{"$f":"N56/'MOD-Berechnungen'!N$26","v":4.5194668716411299E-2},{"$f":"O56/'MOD-Berechnungen'!O$26","v":4.9470408025170984E-2},{"$f":"P56/'MOD-Berechnungen'!P$26","v":3.5074927075999997E-2},{"$f":"Q56/'MOD-Berechnungen'!Q$26","v":4.5731817699999996E-2},{"$f":"R56/'MOD-Berechnungen'!R$26","v":6.3643400193216446E-2},{"$f":"S56/'MOD-Berechnungen'!S$26","v":8.140720729398708E-2},{"$f":"T56/'MOD-Berechnungen'!T$26","v":8.7108074598749113E-2},{"$f":"U56/'MOD-Berechnungen'!U$26","v":8.9189493597544925E-2},{"$f":"V56/'MOD-Berechnungen'!V$26","v":9.1935778159838666E-2},{"$f":"W56/'MOD-Berechnungen'!W$26","v":9.5205189883560054E-2},{"$f":"X56/'MOD-Berechnungen'!X$26","v":9.7776387763906333E-2},{"$f":"Y56/'MOD-Berechnungen'!Y$26","v":9.9696388728887128E-2},{"$f":"Z56/'MOD-Berechnungen'!Z$26","v":9.9728536502990031E-2},{"$f":"AA56/'MOD-Berechnungen'!AA$26","v":0.1005044050702122},{"$f":"AB56/'MOD-Berechnungen'!AB$26","v":0.10075223347659158},{"$f":"AC56/'MOD-Berechnungen'!AC$26","v":9.1737536792268148E-2},{"$f":"AD56/'MOD-Berechnungen'!AD$26","v":8.2172186656151114E-2},{"$f":"AE56/'MOD-Berechnungen'!AE$26","v":7.9170897963682804E-2},"v2.1.15","v2.1.15"]
[75,null,null,null,"Förderung Wind Onshore",{"$f":"F57/'MOD-Berechnungen'!F$26","v":2.4202869616953877},{"$f":"G57/'MOD-Berechnungen'!G$26","v":2.7276622466633},{"$f":"H57/'MOD-Berechnungen'!H$26","v":2.1618693280963996},{"$f":"I57/'MOD-Berechnungen'!I$26","v":3.166118267732934},{"$f":"J57/'MOD-Berechnungen'!J$26","v":4.3503052617245999},{"$f":"K57/'MOD-Berechnungen'!K$26","v":4.5116256112793396},{"$f":"L57/'MOD-Berechnungen'!L$26","v":5.2159253056993622},{"$f":"M57/'MOD-Berechnungen'!M$26","v":5.6048078430438331},{"$f":"N57/'MOD-Berechnungen'!N$26","v":5.8322861672765738},{"$f":"O57/'MOD-Berechnungen'!O$26","v":5.8118679776233915},{"$f":"P57/'MOD-Berechnungen'!P$26","v":4.8855753612635375},{"$f":"Q57/'MOD-Berechnungen'!Q$26","v":5.691108289571261},{"$f":"R57/'MOD-Berechnungen'!R$26","v":2.1441192100867714},{"$f":"S57/'MOD-Berechnungen'!S$26","v":2.6104555238961837},{"$f":"T57/'MOD-Berechnungen'!T$26","v":2.5010892769714803},{"$f":"U57/'MOD-Berechnungen'!U$26","v":1.9714403790202386},{"$f":"V57/'MOD-Berechnungen'!V$26","v":1.8723271219346467},{"$f":"W57/'MOD-Berechnungen'!W$26","v":1.8221008555071314},{"$f":"X57/'MOD-Berechnungen'!X$26","v":1.6175597270594457},{"$f":"Y57/'MOD-Berechnungen'!Y$26","v":1.5018443968334536},{"$f":"Z57/'MOD-Berechnungen'!Z$26","v":1.3835870227101856},{"$f":"AA57/'MOD-Berechnungen'!AA$26","v":1.2231276380924045},{"$f":"AB57/'MOD-Berechnungen'!AB$26","v":1.0156974191686952},{"$f":"AC57/'MOD-Berechnungen'!AC$26","v":0.7283947536484241},{"$f":"AD57/'MOD-Berechnungen'!AD$26","v":0.77743509576247227},{"$f":"AE57/'MOD-Berechnungen'!AE$26","v":1.4401804532595124},"v2.1.15","v2.1.15"]
[76,null,null,null,"Förderung Wind Offshore",{"$f":"F58/'MOD-Berechnungen'!F$26","v":8.0786605899621833E-2},{"$f":"G58/'MOD-Berechnungen'!G$26","v":0.14241114854795586},{"$f":"H58/'MOD-Berechnungen'!H$26","v":0.15785127376536726},{"$f":"I58/'MOD-Berechnungen'!I$26","v":0.38114339903618077},{"$f":"J58/'MOD-Berechnungen'!J$26","v":1.2418675409333895},{"$f":"K58/'MOD-Berechnungen'!K$26","v":1.8282427335547191},{"$f":"L58/'MOD-Berechnungen'!L$26","v":2.5334172005814701},{"$f":"M58/'MOD-Berechnungen'!M$26","v":3.3401984037052754},{"$f":"N58/'MOD-Berechnungen'!N$26","v":3.7153754123940508},{"$f":"O58/'MOD-Berechnungen'!O$26","v":4.1130290573048232},{"$f":"P58/'MOD-Berechnungen'!P$26","v":4.4276204403899992},{"$f":"Q58/'MOD-Berechnungen'!Q$26","v":4.5754770980000004},{"$f":"R58/'MOD-Berechnungen'!R$26","v":2.7834665474299758},{"$f":"S58/'MOD-Berechnungen'!S$26","v":2.8590054426652225},{"$f":"T58/'MOD-Berechnungen'!T$26","v":2.5170720354139733},{"$f":"U58/'MOD-Berechnungen'!U$26","v":2.0675496271533853},{"$f":"V58/'MOD-Berechnungen'!V$26","v":1.5116107249414539},{"$f":"W58/'MOD-Berechnungen'!W$26","v":0.59313356605072121},{"$f":"X58/'MOD-Berechnungen'!X$26","v":0.27898086942177042},{"$f":"Y58/'MOD-Berechnungen'!Y$26","v":0},{"$f":"Z58/'MOD-Berechnungen'!Z$26","v":0},{"$f":"AA58/'MOD-Berechnungen'!AA$26","v":0},{"$f":"AB58/'MOD-Berechnungen'!AB$26","v":0},{"$f":"AC58/'MOD-Berechnungen'!AC$26","v":0},{"$f":"AD58/'MOD-Berechnungen'!AD$26","v":0},{"$f":"AE58/'MOD-Berechnungen'!AE$26","v":0},"v2.1.15","v2.1.15"]
[77,null,null,null,"Förderung Solar",{"$f":"F59/'MOD-Berechnungen'!F$26","v":3.9168042772372993},{"$f":"G59/'MOD-Berechnungen'!G$26","v":7.8356725718470592},{"$f":"H59/'MOD-Berechnungen'!H$26","v":8.3474781596330754},{"$f":"I59/'MOD-Berechnungen'!I$26","v":9.6051719858160727},{"$f":"J59/'MOD-Berechnungen'!J$26","v":10.213817221638637},{"$f":"K59/'MOD-Berechnungen'!K$26","v":10.791666004033191},{"$f":"L59/'MOD-Berechnungen'!L$26","v":10.422938217473245},{"$f":"M59/'MOD-Berechnungen'!M$26","v":9.9704166194451336},{"$f":"N59/'MOD-Berechnungen'!N$26","v":10.050183372220426},{"$f":"O59/'MOD-Berechnungen'!O$26","v":9.221256266567897},{"$f":"P59/'MOD-Berechnungen'!P$26","v":9.1088023726649734},{"$f":"Q59/'MOD-Berechnungen'!Q$26","v":9.5790299026995775},{"$f":"R59/'MOD-Berechnungen'!R$26","v":9.1997888552814793},{"$f":"S59/'MOD-Berechnungen'!S$26","v":9.4048144484971896},{"$f":"T59/'MOD-Berechnungen'!T$26","v":9.2174802677772458},{"$f":"U59/'MOD-Berechnungen'!U$26","v":8.4052785059007604},{"$f":"V59/'MOD-Berechnungen'!V$26","v":7.9305650821941347},{"$f":"W59/'MOD-Berechnungen'!W$26","v":7.5147598890747425},{"$f":"X59/'MOD-Berechnungen'!X$26","v":6.9816820223160008},{"$f":"Y59/'MOD-Berechnungen'!Y$26","v":6.2353685532104297},{"$f":"Z59/'MOD-Berechnungen'!Z$26","v":4.8553528372638119},{"$f":"AA59/'MOD-Berechnungen'!AA$26","v":2.9774603632119998},{"$f":"AB59/'MOD-Berechnungen'!AB$26","v":1.6235182187343291},{"$f":"AC59/'MOD-Berechnungen'!AC$26","v":0.91006827579856275},{"$f":"AD59/'MOD-Berechnungen'!AD$26","v":0.7724247184826023},{"$f":"AE59/'MOD-Berechnungen'!AE$26","v":1.2138627835972198},"v2.1.15","v2.1.15"]
[78,null,null,null,"Belastung nichtprivilegierter Letztverbrauch",{"$f":"F60/'MOD-Berechnungen'!F$26","v":9.5918786536016523},{"$f":"G60/'MOD-Berechnungen'!G$26","v":15.495221851298686},{"$f":"H60/'MOD-Berechnungen'!H$26","v":15.59371507851103},{"$f":"I60/'MOD-Berechnungen'!I$26","v":22.380372546565461},{"$f":"J60/'MOD-Berechnungen'!J$26","v":25.338978166417995},{"$f":"K60/'MOD-Berechnungen'!K$26","v":23.660223058957712},{"$f":"L60/'MOD-Berechnungen'!L$26","v":24.29875744094176},{"$f":"M60/'MOD-Berechnungen'!M$26","v":24.956568885480472},{"$f":"N60/'MOD-Berechnungen'!N$26","v":24.348785820103362},{"$f":"O60/'MOD-Berechnungen'!O$26","v":22.72241489240923},{"$f":"P60/'MOD-Berechnungen'!P$26","v":23.60163843336235},{"$f":"Q60/'MOD-Berechnungen'!Q$26","v":21.567921937973843},{"$f":"R60/'MOD-Berechnungen'!R$26","v":14.337673266999174},{"$f":"S60/'MOD-Berechnungen'!S$26","v":14.699837713079647},{"$f":"T60/'MOD-Berechnungen'!T$26","v":13.869575948820851},{"$f":"U60/'MOD-Berechnungen'!U$26","v":11.821024289270428},{"$f":"V60/'MOD-Berechnungen'!V$26","v":10.320297471516191},{"$f":"W60/'MOD-Berechnungen'!W$26","v":8.4817813567931442},{"$f":"X60/'MOD-Berechnungen'!X$26","v":7.1242729803816145},{"$f":"Y60/'MOD-Berechnungen'!Y$26","v":5.8537014320525333},{"$f":"Z60/'MOD-Berechnungen'!Z$26","v":4.1313123473797155},{"$f":"AA60/'MOD-Berechnungen'!AA$26","v":1.7512356644155527},{"$f":"AB60/'MOD-Berechnungen'!AB$26","v":-0.35788389744840265},{"$f":"AC60/'MOD-Berechnungen'!AC$26","v":-1.416809088181995},{"$f":"AD60/'MOD-Berechnungen'!AD$26","v":-1.5415493404484304},{"$f":"AE60/'MOD-Berechnungen'!AE$26","v":-0.46006265702544924},"v2.1.15","v2.1.15"]
[79,null,null,null,"Belastung privilegierter Letztverbrauch",{"$f":"F61/'MOD-Berechnungen'!F$26","v":3.96955601312012E-2},{"$f":"G61/'MOD-Berechnungen'!G$26","v":4.279896187170492E-2},{"$f":"H61/'MOD-Berechnungen'!H$26","v":4.7584151543893179E-2},{"$f":"I61/'MOD-Berechnungen'!I$26","v":3.6198748064853299E-2},{"$f":"J61/'MOD-Berechnungen'!J$26","v":0.15188881202719295},{"$f":"K61/'MOD-Berechnungen'!K$26","v":0.51987047613537751},{"$f":"L61/'MOD-Berechnungen'!L$26","v":0.52995612659892732},{"$f":"M61/'MOD-Berechnungen'!M$26","v":0.47427957324898756},{"$f":"N61/'MOD-Berechnungen'!N$26","v":0.4880007555984624},{"$f":"O61/'MOD-Berechnungen'!O$26","v":0.4308983772457658},{"$f":"P61/'MOD-Berechnungen'!P$26","v":0.45140856934801388},{"$f":"Q61/'MOD-Berechnungen'!Q$26","v":0.41990360429802659},{"$f":"R61/'MOD-Berechnungen'!R$26","v":0.2691542236601267},{"$f":"S61/'MOD-Berechnungen'!S$26","v":0.26470097876576987},{"$f":"T61/'MOD-Berechnungen'!T$26","v":0.24006429218959652},{"$f":"U61/'MOD-Berechnungen'!U$26","v":0.1968249892148583},{"$f":"V61/'MOD-Berechnungen'!V$26","v":0.16783592862142385},{"$f":"W61/'MOD-Berechnungen'!W$26","v":0.13478826222011672},{"$f":"X61/'MOD-Berechnungen'!X$26","v":0.11067884241156362},{"$f":"Y61/'MOD-Berechnungen'!Y$26","v":8.8917308018390637E-2},{"$f":"Z61/'MOD-Berechnungen'!Z$26","v":6.1365329536625011E-2},{"$f":"AA61/'MOD-Berechnungen'!AA$26","v":2.5448776788927249E-2},{"$f":"AB61/'MOD-Berechnungen'!AB$26","v":-5.0903807041690532E-3},{"$f":"AC61/'MOD-Berechnungen'!AC$26","v":-1.9743930327113409E-2},{"$f":"AD61/'MOD-Berechnungen'!AD$26","v":-2.105943604643877E-2},{"$f":"AE61/'MOD-Berechnungen'!AE$26","v":-6.1651358924770397E-3},"v2.1.15","v2.1.15"]
[80,null,null,null,"Belastung Eigenverbrauch",{"$f":"F62/'MOD-Berechnungen'!F$26","v":0},{"$f":"G62/'MOD-Berechnungen'!G$26","v":0},{"$f":"H62/'MOD-Berechnungen'!H$26","v":0},{"$f":"I62/'MOD-Berechnungen'!I$26","v":0},{"$f":"J62/'MOD-Berechnungen'!J$26","v":0},{"$f":"K62/'MOD-Berechnungen'!K$26","v":1.0735301750234055E-3},{"$f":"L62/'MOD-Berechnungen'!L$26","v":3.9178426573502068E-3},{"$f":"M62/'MOD-Berechnungen'!M$26","v":1.764108189977644E-2},{"$f":"N62/'MOD-Berechnungen'!N$26","v":2.2947855287939706E-2},{"$f":"O62/'MOD-Berechnungen'!O$26","v":3.9882257505466562E-2},{"$f":"P62/'MOD-Berechnungen'!P$26","v":5.2631315154384621E-2},{"$f":"Q62/'MOD-Berechnungen'!Q$26","v":6.298200678060191E-2},{"$f":"R62/'MOD-Berechnungen'!R$26","v":6.6115915518118018E-2},{"$f":"S62/'MOD-Berechnungen'!S$26","v":6.7167128170660367E-2},{"$f":"T62/'MOD-Berechnungen'!T$26","v":6.7869036264355392E-2},{"$f":"U62/'MOD-Berechnungen'!U$26","v":6.8497189084504875E-2},{"$f":"V62/'MOD-Berechnungen'!V$26","v":6.8355772094302283E-2},{"$f":"W62/'MOD-Berechnungen'!W$26","v":6.8189513002384086E-2},{"$f":"X62/'MOD-Berechnungen'!X$26","v":6.8017135344991167E-2},{"$f":"Y62/'MOD-Berechnungen'!Y$26","v":6.7838798697948829E-2},{"$f":"Z62/'MOD-Berechnungen'!Z$26","v":6.7654660107768813E-2},{"$f":"AA62/'MOD-Berechnungen'!AA$26","v":6.7464874118980778E-2},{"$f":"AB62/'MOD-Berechnungen'!AB$26","v":6.7269592801394287E-2},{"$f":"AC62/'MOD-Berechnungen'!AC$26","v":6.7068965777284661E-2},{"$f":"AD62/'MOD-Berechnungen'!AD$26","v":6.6863140248496059E-2},{"$f":"AE62/'MOD-Berechnungen'!AE$26","v":6.6655364534810177E-2},"v2.1.15","v2.1.15"]
[81,null,null,null,"Strompreis (Future)",{"$f":"F63/'MOD-Berechnungen'!F$26","v":6.2755807291061299},{"$f":"G63/'MOD-Berechnungen'!G$26","v":5.8129587443109445},{"$f":"H63/'MOD-Berechnungen'!H$26","v":6.2022718435695934},{"$f":"I63/'MOD-Berechnungen'!I$26","v":5.6602288525893689},{"$f":"J63/'MOD-Berechnungen'!J$26","v":4.5459192960293695},{"$f":"K63/'MOD-Berechnungen'!K$26","v":3.9003121224833976},{"$f":"L63/'MOD-Berechnungen'!L$26","v":3.3675897961425552},{"$f":"M63/'MOD-Berechnungen'!M$26","v":2.839147497921874},{"$f":"N63/'MOD-Berechnungen'!N$26","v":3.3691757242499989},{"$f":"O63/'MOD-Berechnungen'!O$26","v":4.7678812999999991},{"$f":"P63/'MOD-Berechnungen'!P$26","v":5.0080099999999996},{"$f":"Q63/'MOD-Berechnungen'!Q$26","v":4.0739999999999998},{"$f":"R63/'MOD-Berechnungen'!R$26","v":7.1439999999999992},{"$f":"S63/'MOD-Berechnungen'!S$26","v":6.335},{"$f":"T63/'MOD-Berechnungen'!T$26","v":6.3487500000000008},{"$f":"U63/'MOD-Berechnungen'!U$26","v":6.3624999999999998},{"$f":"V63/'MOD-Berechnungen'!V$26","v":6.3762499999999998},{"$f":"W63/'MOD-Berechnungen'!W$26","v":6.39},{"$f":"X63/'MOD-Berechnungen'!X$26","v":6.4037499999999996},{"$f":"Y63/'MOD-Berechnungen'!Y$26","v":6.4175000000000004},{"$f":"Z63/'MOD-Berechnungen'!Z$26","v":6.4312500000000004},{"$f":"AA63/'MOD-Berechnungen'!AA$26","v":6.4450000000000012},{"$f":"AB63/'MOD-Berechnungen'!AB$26","v":6.4587500000000002},{"$f":"AC63/'MOD-Berechnungen'!AC$26","v":6.4724999999999993},{"$f":"AD63/'MOD-Berechnungen'!AD$26","v":6.4862499999999992},{"$f":"AE63/'MOD-Berechnungen'!AE$26","v":6.5},"v2.1.15","v2.1.15"]
[82,null,null,null,"Summe Strompreis + Umlage",{"$f":"F64/'MOD-Berechnungen'!F$26","v":8.6699887106340192},{"$f":"G64/'MOD-Berechnungen'!G$26","v":9.8571275237308438},{"$f":"H64/'MOD-Berechnungen'!H$26","v":10.236781163037536},{"$f":"I64/'MOD-Berechnungen'!I$26","v":11.499725950363386},{"$f":"J64/'MOD-Berechnungen'!J$26","v":11.389474520932449},{"$f":"K64/'MOD-Berechnungen'!K$26","v":10.646387632437325},{"$f":"L64/'MOD-Berechnungen'!L$26","v":10.195751033957817},{"$f":"M64/'MOD-Berechnungen'!M$26","v":10.120377498006018},{"$f":"N64/'MOD-Berechnungen'!N$26","v":10.457657126546923},{"$f":"O64/'MOD-Berechnungen'!O$26","v":11.368102061927702},{"$f":"P64/'MOD-Berechnungen'!P$26","v":11.867498058527483},{"$f":"Q64/'MOD-Berechnungen'!Q$26","v":10.577615363716919},{"$f":"R64/'MOD-Berechnungen'!R$26","v":11.353080431272451},{"$f":"S64/'MOD-Berechnungen'!S$26","v":10.518277112353005},{"$f":"T64/'MOD-Berechnungen'!T$26","v":10.187496677817347},{"$f":"U64/'MOD-Berechnungen'!U$26","v":9.5468665446064254},{"$f":"V64/'MOD-Berechnungen'!V$26","v":9.0916121001934673},{"$f":"W64/'MOD-Berechnungen'!W$26","v":8.570694811830208},{"$f":"X64/'MOD-Berechnungen'!X$26","v":8.1943864653037863},{"$f":"Y64/'MOD-Berechnungen'!Y$26","v":7.8560637820670252},{"$f":"Z64/'MOD-Berechnungen'!Z$26","v":7.4240594148749777},{"$f":"AA64/'MOD-Berechnungen'!AA$26","v":6.8567273610992236},{"$f":"AB64/'MOD-Berechnungen'!AB$26","v":6.376394410507392},{"$f":"AC64/'MOD-Berechnungen'!AC$26","v":6.1530694671012123},{"$f":"AD64/'MOD-Berechnungen'!AD$26","v":6.1455363342095586},{"$f":"AE64/'MOD-Berechnungen'!AE$26","v":6.4002563010049229},"v2.1.15","v2.1.15"]
[83,null,null,null,"Umlage privilegierter Letztverbrauch [ct/kWh]",{"$f":"F65/'MOD-Berechnungen'!F$26","v":5.8473853417790413E-2},{"$f":"G65/'MOD-Berechnungen'!G$26","v":5.7271485746277113E-2},{"$f":"H65/'MOD-Berechnungen'!H$26","v":5.6161437397621042E-2},{"$f":"I65/'MOD-Berechnungen'!I$26","v":3.7618667686160859E-2},{"$f":"J65/'MOD-Berechnungen'!J$26","v":0.1425878212781248},{"$f":"K65/'MOD-Berechnungen'!K$26","v":0.47155067814577956},{"$f":"L65/'MOD-Berechnungen'!L$26","v":0.51006364446480013},{"$f":"M65/'MOD-Berechnungen'!M$26","v":0.41550404545957881},{"$f":"N65/'MOD-Berechnungen'!N$26","v":0.42549540785093998},{"$f":"O65/'MOD-Berechnungen'!O$26","v":0.37822426405107629},{"$f":"P65/'MOD-Berechnungen'!P$26","v":0.38857028462836785},{"$f":"Q65/'MOD-Berechnungen'!Q$26","v":0.37248612108402962},{"$f":"R65/'MOD-Berechnungen'!R$26","v":0.24106961366782506},{"$f":"S65/'MOD-Berechnungen'!S$26","v":0.239591762097909},{"$f":"T65/'MOD-Berechnungen'!T$26","v":0.21985922904075145},{"$f":"U65/'MOD-Berechnungen'!U$26","v":0.18238045701895692},{"$f":"V65/'MOD-Berechnungen'!V$26","v":0.15551883675076339},{"$f":"W65/'MOD-Berechnungen'!W$26","v":0.12489646239818082},{"$f":"X65/'MOD-Berechnungen'!X$26","v":0.10255637732724576},{"$f":"Y65/'MOD-Berechnungen'!Y$26","v":8.239187177389791E-2},{"$f":"Z65/'MOD-Berechnungen'!Z$26","v":5.686186947426336E-2},{"$f":"AA65/'MOD-Berechnungen'!AA$26","v":2.3581149730288405E-2},{"$f":"AB65/'MOD-Berechnungen'!AB$26","v":-4.7168093997118727E-3},{"$f":"AC65/'MOD-Berechnungen'!AC$26","v":-1.8294968798288926E-2},{"$f":"AD65/'MOD-Berechnungen'!AD$26","v":-1.9513932585654904E-2},{"$f":"AE65/'MOD-Berechnungen'!AE$26","v":-5.7126907825028172E-3},"v2.1.15","v2.1.15"]
[84,null,null,null,"Umlage Eigenverbrauch [ct/kWh]",{"$f":"F66/'MOD-Berechnungen'!F$26","v":0},{"$f":"G66/'MOD-Berechnungen'!G$26","v":0},{"$f":"H66/'MOD-Berechnungen'!H$26","v":0},{"$f":"I66/'MOD-Berechnungen'!I$26","v":0},{"$f":"J66/'MOD-Berechnungen'!J$26","v":0},{"$f":"K66/'MOD-Berechnungen'!K$26","v":6.4011665955733012E-4},{"$f":"L66/'MOD-Berechnungen'!L$26","v":2.0309735659108435E-3},{"$f":"M66/'MOD-Berechnungen'!M$26","v":1.1467928386823327E-2},{"$f":"N66/'MOD-Berechnungen'!N$26","v":1.5249324406793951E-2},{"$f":"O66/'MOD-Berechnungen'!O$26","v":3.1125022596302784E-2},{"$f":"P66/'MOD-Berechnungen'!P$26","v":4.119622529797734E-2},{"$f":"Q66/'MOD-Berechnungen'!Q$26","v":4.6711929238572099E-2},{"$f":"R66/'MOD-Berechnungen'!R$26","v":4.9780451663754458E-2},{"$f":"S66/'MOD-Berechnungen'!S$26","v":5.0211937537809767E-2},{"$f":"T66/'MOD-Berechnungen'!T$26","v":5.1030561981855425E-2},{"$f":"U66/'MOD-Berechnungen'!U$26","v":5.1781503108503976E-2},{"$f":"V66/'MOD-Berechnungen'!V$26","v":5.181294966387167E-2},{"$f":"W66/'MOD-Berechnungen'!W$26","v":5.1806098393378464E-2},{"$f":"X66/'MOD-Berechnungen'!X$26","v":5.1769365902045061E-2},{"$f":"Y66/'MOD-Berechnungen'!Y$26","v":5.1635187878160259E-2},{"$f":"Z66/'MOD-Berechnungen'!Z$26","v":5.1388175833141175E-2},{"$f":"AA66/'MOD-Berechnungen'!AA$26","v":5.1134265059685255E-2},{"$f":"AB66/'MOD-Berechnungen'!AB$26","v":5.0873180801733454E-2},{"$f":"AC66/'MOD-Berechnungen'!AC$26","v":5.0768230865785524E-2},{"$f":"AD66/'MOD-Berechnungen'!AD$26","v":5.0711096546307725E-2},{"$f":"AE66/'MOD-Berechnungen'!AE$26","v":5.0723426003691868E-2},"v2.1.15","v2.1.15"]
[85,null,null,null,"Kontostand",{"$f":"F67/'MOD-Berechnungen'!F$26","v":0},{"$f":"G67/'MOD-Berechnungen'!G$26","v":-1.278895561244126},{"$f":"H67/'MOD-Berechnungen'!H$26","v":-0.7988610614806545},{"$f":"I67/'MOD-Berechnungen'!I$26","v":-2.8648768775902469},{"$f":"J67/'MOD-Berechnungen'!J$26","v":-2.4094194871751413},{"$f":"K67/'MOD-Berechnungen'!K$26","v":1.5097662508151781},{"$f":"L67/'MOD-Berechnungen'!L$26","v":2.7160376577532461},{"$f":"M67/'MOD-Berechnungen'!M$26","v":2.0673346955480723},{"$f":"N67/'MOD-Berechnungen'!N$26","v":3.4813039660064544},{"$f":"O67/'MOD-Berechnungen'!O$26","v":3.7622120783164115},{"$f":"P67/'MOD-Berechnungen'!P$26","v":2.2232614985899497},{"$f":"Q67/'MOD-Berechnungen'!Q$26","v":-4.0803942770500008},{"$f":"R67/'MOD-Berechnungen'!R$26","v":5.269686695459856},{"$f":"S67/'MOD-Berechnungen'!S$26","v":1.1242109322659262},{"$f":"T67/'MOD-Berechnungen'!T$26","v":1.184024332679708},{"$f":"U67/'MOD-Berechnungen'!U$26","v":1.1347345809084222},{"$f":"V67/'MOD-Berechnungen'!V$26","v":1.009109199486772},{"$f":"W67/'MOD-Berechnungen'!W$26","v":0.91115343259542481},{"$f":"X67/'MOD-Berechnungen'!X$26","v":0.79541014553971967},{"$f":"Y67/'MOD-Berechnungen'!Y$26","v":0.70660851370988709},{"$f":"Z67/'MOD-Berechnungen'!Z$26","v":0.62446609045332724},{"$f":"AA67/'MOD-Berechnungen'!AA$26","v":0.51678990962300064},{"$f":"AB67/'MOD-Berechnungen'!AB$26","v":0.36996265497517672},{"$f":"AC67/'MOD-Berechnungen'!AC$26","v":0.2367392140938277},{"$f":"AD67/'MOD-Berechnungen'!AD$26","v":0.16487639354413744},{"$f":"AE67/'MOD-Berechnungen'!AE$26","v":0.1502792008619924},"v2.1.15","v2.1.15"]
[86,null,null,null,null,null,null,null,null,null,null,null,null,null,null,null,null,null,null,null,null,null,null,null,null,null,null,null,null,null,null,"v2.1.15","v2.1.15"]
[87,null,null,null,"Strommengen",null,null,null,null,null,null,null,null,null,null,null,null,null,null,null,null,null,null,null,null,null,null,null,null,null,null,"v2.1.15","v2.1.15"]
[88,null,null,null,"Nichtprivilegierter Letztverbrauch [TWh/a]",{"$f":"'MOD-Berechnungen'!F185","v":400.59500000000003},{"$f":"'MOD-Berechnungen'!G185","v":383.14973227999997},{"$f":"'MOD-Berechnungen'!H185","v":386.50834199999997},{"$f":"'MOD-Berechnungen'!I185","v":383.25856100000004},{"$f":"'MOD-Berechnungen'!J185","v":370.260447},{"$f":"'MOD-Berechnungen'!K185","v":350.72573712000002},{"$f":"'MOD-Berechnungen'!L185","v":355.8609206000001},{"$f":"'MOD-Berechnungen'!M185","v":342.7521021199999},{"$f":"'MOD-Berechnungen'!N185","v":343.49791497249993},{"$f":"'MOD-Berechnungen'!O185","v":344.26749819460247},{"$f":"'MOD-Berechnungen'!P185","v":344.07288462324232},{"$f":"'MOD-Berechnungen'!Q185","v":331.62972795561251},{"$f":"'MOD-Berechnungen'!R185","v":340.63671391199182},{"$f":"'MOD-Berechnungen'!S185","v":351.39526544086158},{"$f":"'MOD-Berechnungen'!T185","v":361.3047984897737},{"$f":"'MOD-Berechnungen'!U185","v":371.22059045911305},{"$f":"'MOD-Berechnungen'!V185","v":380.07076370333368},{"$f":"'MOD-Berechnungen'!W185","v":388.94857321527627},{"$f":"'MOD-Berechnungen'!X185","v":397.86261021848225},{"$f":"'MOD-Berechnungen'!Y185","v":406.91288805015972},{"$f":"'MOD-Berechnungen'!Z185","v":416.12340550778958},{"$f":"'MOD-Berechnungen'!AA185","v":425.33866579576738},{"$f":"'MOD-Berechnungen'!AB185","v":434.55932943145484},{"$f":"'MOD-Berechnungen'!AC185","v":443.54216089634696},{"$f":"'MOD-Berechnungen'!AD185","v":452.44717052135434},{"$f":"'MOD-Berechnungen'!AE185","v":461.24483216544326}]
[89,null,null,null,"Privilegierter Letztverbrauch [TWh/a]",{"$f":"'MOD-Berechnungen'!F12","v":67.885999999999996},{"$f":"'MOD-Berechnungen'!G12","v":74.729966079999997},{"$f":"'MOD-Berechnungen'!H12","v":84.727446},{"$f":"'MOD-Berechnungen'!I12","v":96.225492000000003},{"$f":"'MOD-Berechnungen'!J12","v":106.52299099999999},{"$f":"'MOD-Berechnungen'!K12","v":110.247},{"$f":"'MOD-Berechnungen'!L12","v":103.9},{"$f":"'MOD-Berechnungen'!M12","v":114.145597},{"$f":"'MOD-Berechnungen'!N12","v":114.690017},{"$f":"'MOD-Berechnungen'!O12","v":113.926688},{"$f":"'MOD-Berechnungen'!P12","v":116.17166499999999},{"$f":"'MOD-Berechnungen'!Q12","v":112.73},{"$f":"'MOD-Berechnungen'!R12","v":111.65},{"$f":"'MOD-Berechnungen'!S12","v":110.48},{"$f":"'MOD-Berechnungen'!T12","v":109.19},{"$f":"'MOD-Berechnungen'!U12","v":107.92},{"$f":"'MOD-Berechnungen'!V12","v":107.92},{"$f":"'MOD-Berechnungen'!W12","v":107.92},{"$f":"'MOD-Berechnungen'!X12","v":107.92},{"$f":"'MOD-Berechnungen'!Y12","v":107.92},{"$f":"'MOD-Berechnungen'!Z12","v":107.92},{"$f":"'MOD-Berechnungen'!AA12","v":107.92},{"$f":"'MOD-Berechnungen'!AB12","v":107.92},{"$f":"'MOD-Berechnungen'!AC12","v":107.92},{"$f":"'MOD-Berechnungen'!AD12","v":107.92},{"$f":"'MOD-Berechnungen'!AE12","v":107.92}]
[90,null,null,null,"Eigenverbrauch [TWh/a]",{"$f":"'MOD-Berechnungen'!F13+'MOD-Berechnungen'!F14+'MOD-Berechnungen'!F15+'MOD-Berechnungen'!F254+'MOD-Berechnungen'!F264","v":66.919000000000011},{"$f":"'MOD-Berechnungen'!G13+'MOD-Berechnungen'!G14+'MOD-Berechnungen'!G15+'MOD-Berechnungen'!G254+'MOD-Berechnungen'!G264","v":54.256241999999979},{"$f":"'MOD-Berechnungen'!H13+'MOD-Berechnungen'!H14+'MOD-Berechnungen'!H15+'MOD-Berechnungen'!H254+'MOD-Berechnungen'!H264","v":62.745360999999974},{"$f":"'MOD-Berechnungen'!I13+'MOD-Berechnungen'!I14+'MOD-Berechnungen'!I15+'MOD-Berechnungen'!I254+'MOD-Berechnungen'!I264","v":55.017604000000063},{"$f":"'MOD-Berechnungen'!J13+'MOD-Berechnungen'!J14+'MOD-Berechnungen'!J15+'MOD-Berechnungen'!J254+'MOD-Berechnungen'!J264","v":47.117968535482987},{"$f":"'MOD-Berechnungen'!K13+'MOD-Berechnungen'!K14+'MOD-Berechnungen'!K15+'MOD-Berechnungen'!K254+'MOD-Berechnungen'!K264","v":59.627262880000004},{"$f":"'MOD-Berechnungen'!L13+'MOD-Berechnungen'!L14+'MOD-Berechnungen'!L15+'MOD-Berechnungen'!L254+'MOD-Berechnungen'!L264","v":51.839079399999996},{"$f":"'MOD-Berechnungen'!M13+'MOD-Berechnungen'!M14+'MOD-Berechnungen'!M15+'MOD-Berechnungen'!M254+'MOD-Berechnungen'!M264","v":65.006944879999992},{"$f":"'MOD-Berechnungen'!N13+'MOD-Berechnungen'!N14+'MOD-Berechnungen'!N15+'MOD-Berechnungen'!N254+'MOD-Berechnungen'!N264","v":66.452068027500005},{"$f":"'MOD-Berechnungen'!O13+'MOD-Berechnungen'!O14+'MOD-Berechnungen'!O15+'MOD-Berechnungen'!O254+'MOD-Berechnungen'!O264","v":78.042278805397501},{"$f":"'MOD-Berechnungen'!P13+'MOD-Berechnungen'!P14+'MOD-Berechnungen'!P15+'MOD-Berechnungen'!P254+'MOD-Berechnungen'!P264","v":78.273220376757692},{"$f":"'MOD-Berechnungen'!Q13+'MOD-Berechnungen'!Q14+'MOD-Berechnungen'!Q15+'MOD-Berechnungen'!Q254+'MOD-Berechnungen'!Q264","v":74.167102044387548},{"$f":"'MOD-Berechnungen'!R13+'MOD-Berechnungen'!R14+'MOD-Berechnungen'!R15+'MOD-Berechnungen'!R254+'MOD-Berechnungen'!R264","v":75.292690532452681},{"$f":"'MOD-Berechnungen'!S13+'MOD-Berechnungen'!S14+'MOD-Berechnungen'!S15+'MOD-Berechnungen'!S254+'MOD-Berechnungen'!S264","v":74.756713448027256},{"$f":"'MOD-Berechnungen'!T13+'MOD-Berechnungen'!T14+'MOD-Berechnungen'!T15+'MOD-Berechnungen'!T254+'MOD-Berechnungen'!T264","v":75.189754843559669},{"$f":"'MOD-Berechnungen'!U13+'MOD-Berechnungen'!U14+'MOD-Berechnungen'!U15+'MOD-Berechnungen'!U254+'MOD-Berechnungen'!U264","v":75.596537318664602},{"$f":"'MOD-Berechnungen'!V13+'MOD-Berechnungen'!V14+'MOD-Berechnungen'!V15+'MOD-Berechnungen'!V254+'MOD-Berechnungen'!V264","v":75.79893851888842},{"$f":"'MOD-Berechnungen'!W13+'MOD-Berechnungen'!W14+'MOD-Berechnungen'!W15+'MOD-Berechnungen'!W254+'MOD-Berechnungen'!W264","v":75.973703451390222},{"$f":"'MOD-Berechnungen'!X13+'MOD-Berechnungen'!X14+'MOD-Berechnungen'!X15+'MOD-Berechnungen'!X254+'MOD-Berechnungen'!X264","v":76.112240892628833},{"$f":"'MOD-Berechnungen'!Y13+'MOD-Berechnungen'!Y14+'MOD-Berechnungen'!Y15+'MOD-Berechnungen'!Y254+'MOD-Berechnungen'!Y264","v":76.114537505395859},{"$f":"'MOD-Berechnungen'!Z13+'MOD-Berechnungen'!Z14+'MOD-Berechnungen'!Z15+'MOD-Berechnungen'!Z254+'MOD-Berechnungen'!Z264","v":75.956594492210371},{"$f":"'MOD-Berechnungen'!AA13+'MOD-Berechnungen'!AA14+'MOD-Berechnungen'!AA15+'MOD-Berechnungen'!AA254+'MOD-Berechnungen'!AA264","v":75.793908648677046},{"$f":"'MOD-Berechnungen'!AB13+'MOD-Berechnungen'!AB14+'MOD-Berechnungen'!AB15+'MOD-Berechnungen'!AB254+'MOD-Berechnungen'!AB264","v":75.625819457433991},{"$f":"'MOD-Berechnungen'!AC13+'MOD-Berechnungen'!AC14+'MOD-Berechnungen'!AC15+'MOD-Berechnungen'!AC254+'MOD-Berechnungen'!AC264","v":75.69556243698635},{"$f":"'MOD-Berechnungen'!AD13+'MOD-Berechnungen'!AD14+'MOD-Berechnungen'!AD15+'MOD-Berechnungen'!AD254+'MOD-Berechnungen'!AD264","v":75.843127256423415},{"$f":"'MOD-Berechnungen'!AE13+'MOD-Berechnungen'!AE14+'MOD-Berechnungen'!AE15+'MOD-Berechnungen'!AE254+'MOD-Berechnungen'!AE264","v":76.098040056778942}]
[91]
[92,null,null,null,"EE-Anteil an Bruttostromverbrauch",{"$f":"F225","v":0.17956606533398342},{"$f":"G225","v":0.20889978081740276},0.22202076099489373,0.25922769498261294,0.28309799017205339,0.30059636757838554,0.32800036950342748,0.34547588818223213,0.37587892392510169,0.39575235855942015,0.41050394895058645,0.4325342394860715,0.46359232941256695,0.47472620210275479,0.48615866142445308,0.49418321096510404,0.49921996271500674,0.50142960169274786,0.50446341591105159,0.51087044788516212,0.51622816644394032,0.52029301160672237,0.51967640167863272,0.5263045884846338,0.53323785100463728,0.53204603528117611,"v2.1.25"]
[93]
[94]
[95,null,null,null,"Umlageanteile (nominal) [ct/kWh] für Übersichtsgrafik"]
[96,null,null,null,"Einnahmen der Anlagenbetreiber gemäß Vergütungssatz*\n*ab 2015 mit vollem Vergütungssatz auch für direktvermarkteten Strom",{"$f":"'MOD-Berechnungen'!F365/'MOD-Berechnungen'!F$186*100","v":0},{"$f":"'MOD-Berechnungen'!G365/'MOD-Berechnungen'!G$186*100","v":0},{"$f":"'MOD-Berechnungen'!H365/'MOD-Berechnungen'!H$186*100","v":0},{"$f":"'MOD-Berechnungen'!I365/'MOD-Berechnungen'!I$186*100","v":0},{"$f":"'MOD-Berechnungen'!J365/'MOD-Berechnungen'!J$186*100","v":0},{"$f":"'MOD-Berechnungen'!K365/'MOD-Berechnungen'!K$186*100","v":0.35048805341235117},{"$f":"'MOD-Berechnungen'!L365/'MOD-Berechnungen'!L$186*100","v":0.91724957587340961},{"$f":"'MOD-Berechnungen'!M365/'MOD-Berechnungen'!M$186*100","v":1.5044773806482119},{"$f":"'MOD-Berechnungen'!N365/'MOD-Berechnungen'!N$186*100","v":2.0083515589894363},{"$f":"'MOD-Berechnungen'!O365/'MOD-Berechnungen'!O$186*100","v":2.4083413817353998},{"$f":"'MOD-Berechnungen'!P365/'MOD-Berechnungen'!P$186*100","v":2.7244193295489945},{"$f":"'MOD-Berechnungen'!Q365/'MOD-Berechnungen'!Q$186*100","v":3.0345019642748334},{"$f":"'MOD-Berechnungen'!R365/'MOD-Berechnungen'!R$186*100","v":3.1368213052769751},{"$f":"'MOD-Berechnungen'!S365/'MOD-Berechnungen'!S$186*100","v":3.2420182384226481},{"$f":"'MOD-Berechnungen'!T365/'MOD-Berechnungen'!T$186*100","v":3.2846018753821844},{"$f":"'MOD-Berechnungen'!U365/'MOD-Berechnungen'!U$186*100","v":3.3537825735624458},{"$f":"'MOD-Berechnungen'!V365/'MOD-Berechnungen'!V$186*100","v":3.3958549443958521},{"$f":"'MOD-Berechnungen'!W365/'MOD-Berechnungen'!W$186*100","v":3.3053847425232687},{"$f":"'MOD-Berechnungen'!X365/'MOD-Berechnungen'!X$186*100","v":3.3612015298042808},{"$f":"'MOD-Berechnungen'!Y365/'MOD-Berechnungen'!Y$186*100","v":3.4181683927890423},{"$f":"'MOD-Berechnungen'!Z365/'MOD-Berechnungen'!Z$186*100","v":3.5401469996983943},{"$f":"'MOD-Berechnungen'!AA365/'MOD-Berechnungen'!AA$186*100","v":3.6539099565869479},{"$f":"'MOD-Berechnungen'!AB365/'MOD-Berechnungen'!AB$186*100","v":3.7587777794849502},{"$f":"'MOD-Berechnungen'!AC365/'MOD-Berechnungen'!AC$186*100","v":3.8589973950581604},{"$f":"'MOD-Berechnungen'!AD365/'MOD-Berechnungen'!AD$186*100","v":3.9497984882019437},{"$f":"'MOD-Berechnungen'!AE365/'MOD-Berechnungen'!AE$186*100","v":3.9441629933724394}]
[97,null,null,null,"Einnahmen aus Vermarktung* \n*ab 2015 inklusive Einnahmen aus Direktvermarktung,\nbis 2014 nur Einnahmen der ÜNBs",{"$f":"-'MOD-Berechnungen'!F366/'MOD-Berechnungen'!F$186*100","v":-1.1143275278744671},{"$f":"-'MOD-Berechnungen'!G366/'MOD-Berechnungen'!G$186*100","v":-1.1481771217342542},{"$f":"-'MOD-Berechnungen'!H366/'MOD-Berechnungen'!H$186*100","v":-1.4749351709875336},{"$f":"-'MOD-Berechnungen'!I366/'MOD-Berechnungen'!I$186*100","v":-1.6337029152159672},{"$f":"-'MOD-Berechnungen'!J366/'MOD-Berechnungen'!J$186*100","v":-1.4657694443600116},{"$f":"-'MOD-Berechnungen'!K366/'MOD-Berechnungen'!K$186*100","v":-1.4327617618396029},{"$f":"-'MOD-Berechnungen'!L366/'MOD-Berechnungen'!L$186*100","v":-1.409457795327492},{"$f":"-'MOD-Berechnungen'!M366/'MOD-Berechnungen'!M$186*100","v":-1.3269671439911248},{"$f":"-'MOD-Berechnungen'!N366/'MOD-Berechnungen'!N$186*100","v":-1.6102913072213689},{"$f":"-'MOD-Berechnungen'!O366/'MOD-Berechnungen'!O$186*100","v":-2.2003317493481238},{"$f":"-'MOD-Berechnungen'!P366/'MOD-Berechnungen'!P$186*100","v":-2.5394781566597135},{"$f":"-'MOD-Berechnungen'!Q366/'MOD-Berechnungen'!Q$186*100","v":-2.0923655388120102},{"$f":"-'MOD-Berechnungen'!R366/'MOD-Berechnungen'!R$186*100","v":-4.4335573872744565},{"$f":"-'MOD-Berechnungen'!S366/'MOD-Berechnungen'!S$186*100","v":-3.9385370770816865},{"$f":"-'MOD-Berechnungen'!T366/'MOD-Berechnungen'!T$186*100","v":-3.9292052861178242},{"$f":"-'MOD-Berechnungen'!U366/'MOD-Berechnungen'!U$186*100","v":-4.1646413351175315},{"$f":"-'MOD-Berechnungen'!V366/'MOD-Berechnungen'!V$186*100","v":-4.1451242139078888},{"$f":"-'MOD-Berechnungen'!W366/'MOD-Berechnungen'!W$186*100","v":-4.1059166570205576},{"$f":"-'MOD-Berechnungen'!X366/'MOD-Berechnungen'!X$186*100","v":-4.0925809023806794},{"$f":"-'MOD-Berechnungen'!Y366/'MOD-Berechnungen'!Y$186*100","v":-4.1148140538649161},{"$f":"-'MOD-Berechnungen'!Z366/'MOD-Berechnungen'!Z$186*100","v":-4.0364783892471499},{"$f":"-'MOD-Berechnungen'!AA366/'MOD-Berechnungen'!AA$186*100","v":-3.9272637213912489},{"$f":"-'MOD-Berechnungen'!AB366/'MOD-Berechnungen'!AB$186*100","v":-3.76396923978613},{"$f":"-'MOD-Berechnungen'!AC366/'MOD-Berechnungen'!AC$186*100","v":-3.6770939184322051},{"$f":"-'MOD-Berechnungen'!AD366/'MOD-Berechnungen'!AD$186*100","v":-3.6178207795369817},{"$f":"-'MOD-Berechnungen'!AE366/'MOD-Berechnungen'!AE$186*100","v":-3.17943425078807}]
[98,null,null,null,"Liquiditätsreserve",{"$f":"'MOD-Berechnungen'!F381/'MOD-Berechnungen'!F$186*100","v":0},{"$f":"'MOD-Berechnungen'!G381/'MOD-Berechnungen'!G$186*100","v":0},{"$f":"'MOD-Berechnungen'!H381/'MOD-Berechnungen'!H$186*100","v":9.9363640268897269E-2},{"$f":"'MOD-Berechnungen'!I381/'MOD-Berechnungen'!I$186*100","v":0.41882948767683209},{"$f":"'MOD-Berechnungen'!J381/'MOD-Berechnungen'!J$186*100","v":0.51450044762037139},{"$f":"'MOD-Berechnungen'!K381/'MOD-Berechnungen'!K$186*100","v":0.59588029975693935},{"$f":"'MOD-Berechnungen'!L381/'MOD-Berechnungen'!L$186*100","v":0.63917932409198042},{"$f":"'MOD-Berechnungen'!M381/'MOD-Berechnungen'!M$186*100","v":0.41973428438049953},{"$f":"'MOD-Berechnungen'!N381/'MOD-Berechnungen'!N$186*100","v":0.43715613650928181},{"$f":"'MOD-Berechnungen'!O381/'MOD-Berechnungen'!O$186*100","v":0.42091884484027542},{"$f":"'MOD-Berechnungen'!P381/'MOD-Berechnungen'!P$186*100","v":0.54619830175326833},{"$f":"'MOD-Berechnungen'!Q381/'MOD-Berechnungen'!Q$186*100","v":0.76861898320156619},{"$f":"'MOD-Berechnungen'!R381/'MOD-Berechnungen'!R$186*100","v":0.32741091513989379},{"$f":"'MOD-Berechnungen'!S381/'MOD-Berechnungen'!S$186*100","v":0.33954032694577918},{"$f":"'MOD-Berechnungen'!T381/'MOD-Berechnungen'!T$186*100","v":0.3214596186661493},{"$f":"'MOD-Berechnungen'!U381/'MOD-Berechnungen'!U$186*100","v":0.28260395876312455},{"$f":"'MOD-Berechnungen'!V381/'MOD-Berechnungen'!V$186*100","v":0.25311359219068863},{"$f":"'MOD-Berechnungen'!W381/'MOD-Berechnungen'!W$186*100","v":0.21927801493332055},{"$f":"'MOD-Berechnungen'!X381/'MOD-Berechnungen'!X$186*100","v":0.19339258554705727},{"$f":"'MOD-Berechnungen'!Y381/'MOD-Berechnungen'!Y$186*100","v":0.1697046394361382},{"$f":"'MOD-Berechnungen'!Z381/'MOD-Berechnungen'!Z$186*100","v":0.13946513318616696},{"$f":"'MOD-Berechnungen'!AA381/'MOD-Berechnungen'!AA$186*100","v":9.91915084368441E-2},{"$f":"'MOD-Berechnungen'!AB381/'MOD-Berechnungen'!AB$186*100","v":6.3087188469241787E-2},{"$f":"'MOD-Berechnungen'!AC381/'MOD-Berechnungen'!AC$186*100","v":4.3711553436581542E-2},{"$f":"'MOD-Berechnungen'!AD381/'MOD-Berechnungen'!AD$186*100","v":3.9659411753826909E-2},{"$f":"'MOD-Berechnungen'!AE381/'MOD-Berechnungen'!AE$186*100","v":5.4751796219674589E-2}]
[99,null,null,null,"Kontostand des Vorjahres",{"$f":"-'MOD-Berechnungen'!F382/'MOD-Berechnungen'!F$186*100","v":0},{"$f":"-'MOD-Berechnungen'!G382/'MOD-Berechnungen'!G$186*100","v":0.27301911687690317},{"$f":"-'MOD-Berechnungen'!H382/'MOD-Berechnungen'!H$186*100","v":0.18051501743452761},{"$f":"-'MOD-Berechnungen'!I382/'MOD-Berechnungen'!I$186*100","v":0.66987563555484619},{"$f":"-'MOD-Berechnungen'!J382/'MOD-Berechnungen'!J$186*100","v":0.580495076175914},{"$f":"-'MOD-Berechnungen'!K382/'MOD-Berechnungen'!K$186*100","v":-0.38511260956194937},{"$f":"-'MOD-Berechnungen'!L382/'MOD-Berechnungen'!L$186*100","v":-0.69266139247521119},{"$f":"-'MOD-Berechnungen'!M382/'MOD-Berechnungen'!M$186*100","v":-0.55504560755227295},{"$f":"-'MOD-Berechnungen'!N382/'MOD-Berechnungen'!N$186*100","v":-0.94425652016355122},{"$f":"-'MOD-Berechnungen'!O382/'MOD-Berechnungen'!O$186*100","v":-1.0296510992816279},{"$f":"-'MOD-Berechnungen'!P382/'MOD-Berechnungen'!P$186*100","v":-0.61556075984894099},{"$f":"-'MOD-Berechnungen'!Q382/'MOD-Berechnungen'!Q$186*100","v":1.184837164735316},{"$f":"-'MOD-Berechnungen'!R382/'MOD-Berechnungen'!R$186*100","v":-1.5120428630632512},{"$f":"-'MOD-Berechnungen'!S382/'MOD-Berechnungen'!S$186*100","v":-0.31762340478929796},{"$f":"-'MOD-Berechnungen'!T382/'MOD-Berechnungen'!T$186*100","v":-0.33046595180397664},{"$f":"-'MOD-Berechnungen'!U382/'MOD-Berechnungen'!U$186*100","v":-0.31308937071143955},{"$f":"-'MOD-Berechnungen'!V382/'MOD-Berechnungen'!V$186*100","v":-0.27618244810184911},{"$f":"-'MOD-Berechnungen'!W382/'MOD-Berechnungen'!W$186*100","v":-0.24747392033920404},{"$f":"-'MOD-Berechnungen'!X382/'MOD-Berechnungen'!X$186*100","v":-0.21447962310145521},{"$f":"-'MOD-Berechnungen'!Y382/'MOD-Berechnungen'!Y$186*100","v":-0.18918978274088205},{"$f":"-'MOD-Berechnungen'!Z382/'MOD-Berechnungen'!Z$186*100","v":-0.16603300900770268},{"$f":"-'MOD-Berechnungen'!AA382/'MOD-Berechnungen'!AA$186*100","v":-0.13651003893170066},{"$f":"-'MOD-Berechnungen'!AB382/'MOD-Berechnungen'!AB$186*100","v":-9.7132108608161363E-2},{"$f":"-'MOD-Berechnungen'!AC382/'MOD-Berechnungen'!AC$186*100","v":-6.1836075806204649E-2},{"$f":"-'MOD-Berechnungen'!AD382/'MOD-Berechnungen'!AD$186*100","v":-4.2868652091738825E-2},{"$f":"-'MOD-Berechnungen'!AE382/'MOD-Berechnungen'!AE$186*100","v":-3.891783193812999E-2}]
[99,null,null,null,"Zuschüsse aus dem Bundeshaushalt",{"$f":"-'MOD-Berechnungen'!F383/'MOD-Berechnungen'!F$186*100","v":0},{"$f":"-'MOD-Berechnungen'!G383/'MOD-Berechnungen'!G$186*100","v":0},{"$f":"-'MOD-Berechnungen'!H383/'MOD-Berechnungen'!H$186*100","v":0},{"$f":"-'MOD-Berechnungen'!I383/'MOD-Berechnungen'!I$186*100","v":0},{"$f":"-'MOD-Berechnungen'!J383/'MOD-Berechnungen'!J$186*100","v":0},{"$f":"-'MOD-Berechnungen'!K383/'MOD-Berechnungen'!K$186*100","v":0},{"$f":"-'MOD-Berechnungen'!L383/'MOD-Berechnungen'!L$186*100","v":0},{"$f":"-'MOD-Berechnungen'!M383/'MOD-Berechnungen'!M$186*100","v":0},{"$f":"-'MOD-Berechnungen'!N383/'MOD-Berechnungen'!N$186*100","v":0},{"$f":"-'MOD-Berechnungen'!O383/'MOD-Berechnungen'!O$186*100","v":0},{"$f":"-'MOD-Berechnungen'!P383/'MOD-Berechnungen'!P$186*100","v":0},{"$f":"-'MOD-Berechnungen'!Q383/'MOD-Berechnungen'!Q$186*100","v":-3.1360306162356211},{"$f":"-'MOD-Berechnungen'!R383/'MOD-Berechnungen'!R$186*100","v":0},{"$f":"-'MOD-Berechnungen'!S383/'MOD-Berechnungen'!S$186*100","v":-1.3712057081789284},{"$f":"-'MOD-Berechnungen'!T383/'MOD-Berechnungen'!T$186*100","v":-1.3345595898679696},{"$f":"-'MOD-Berechnungen'!U383/'MOD-Berechnungen'!U$186*100","v":-1.2998099851621576},{"$f":"-'MOD-Berechnungen'!V383/'MOD-Berechnungen'!V$186*100","v":-1.2702748586413484},{"$f":"-'MOD-Berechnungen'!W383/'MOD-Berechnungen'!W$186*100","v":-1.2419716241057233},{"$f":"-'MOD-Berechnungen'!X383/'MOD-Berechnungen'!X$186*100","v":-1.2147939496893922},{"$f":"-'MOD-Berechnungen'!Y383/'MOD-Berechnungen'!Y$186*100","v":-1.1883940781212179},{"$f":"-'MOD-Berechnungen'!Z383/'MOD-Berechnungen'!Z$186*100","v":-1.1626826781695154},{"$f":"-'MOD-Berechnungen'!AA383/'MOD-Berechnungen'!AA$186*100","v":-1.1380468654503599},{"$f":"-'MOD-Berechnungen'!AB383/'MOD-Berechnungen'!AB$186*100","v":-1.1144189001469229},{"$f":"-'MOD-Berechnungen'!AC383/'MOD-Berechnungen'!AC$186*100","v":-1.0923183178934999},{"$f":"-'MOD-Berechnungen'!AD383/'MOD-Berechnungen'!AD$186*100","v":-1.0712548573947902},{"$f":"-'MOD-Berechnungen'!AE383/'MOD-Berechnungen'!AE$186*100","v":-1.0512237741139205}]
[100,null,null,null,"Sonstige Effekte*\n*vermiedene Netzentgelte, Grünstromprivileg, sonstige Kosten",{"$f":"('MOD-Berechnungen'!F369+'MOD-Berechnungen'!F367-'MOD-Berechnungen'!F368)/'MOD-Berechnungen'!F$186*100","v":1.2621203479080452E-2},{"$f":"('MOD-Berechnungen'!G369+'MOD-Berechnungen'!G367-'MOD-Berechnungen'!G368)/'MOD-Berechnungen'!G$186*100","v":0.21705777646400023},{"$f":"('MOD-Berechnungen'!H369+'MOD-Berechnungen'!H367-'MOD-Berechnungen'!H368)/'MOD-Berechnungen'!H$186*100","v":-2.030389836889188E-2},{"$f":"('MOD-Berechnungen'!I369+'MOD-Berechnungen'!I367-'MOD-Berechnungen'!I368)/'MOD-Berechnungen'!I$186*100","v":-7.6196695631972927E-2},{"$f":"('MOD-Berechnungen'!J369+'MOD-Berechnungen'!J367-'MOD-Berechnungen'!J368)/'MOD-Berechnungen'!J$186*100","v":-7.2646252065796002E-2},{"$f":"('MOD-Berechnungen'!K369+'MOD-Berechnungen'!K367-'MOD-Berechnungen'!K368)/'MOD-Berechnungen'!K$186*100","v":-0.15408249338839253},{"$f":"('MOD-Berechnungen'!L369+'MOD-Berechnungen'!L367-'MOD-Berechnungen'!L368)/'MOD-Berechnungen'!L$186*100","v":-0.19537762018019211},{"$f":"('MOD-Berechnungen'!M369+'MOD-Berechnungen'!M367-'MOD-Berechnungen'!M368)/'MOD-Berechnungen'!M$186*100","v":-0.23261197641055825},{"$f":"('MOD-Berechnungen'!N369+'MOD-Berechnungen'!N367-'MOD-Berechnungen'!N368)/'MOD-Berechnungen'!N$186*100","v":-0.17235341820590774},{"$f":"('MOD-Berechnungen'!O369+'MOD-Berechnungen'!O367-'MOD-Berechnungen'!O368)/'MOD-Berechnungen'!O$186*100","v":-0.13412767068844386},{"$f":"('MOD-Berechnungen'!P369+'MOD-Berechnungen'!P367-'MOD-Berechnungen'!P368)/'MOD-Berechnungen'!P$186*100","v":-8.0443426936161966E-2},{"$f":"('MOD-Berechnungen'!Q369+'MOD-Berechnungen'!Q367-'MOD-Berechnungen'!Q368)/'MOD-Berechnungen'!Q$186*100","v":-8.278910044952377E-2},{"$f":"('MOD-Berechnungen'!R369+'MOD-Berechnungen'!R367-'MOD-Berechnungen'!R368)/'MOD-Berechnungen'!R$186*100","v":-9.2523773416229471E-2},{"$f":"('MOD-Berechnungen'!S369+'MOD-Berechnungen'!S367-'MOD-Berechnungen'!S368)/'MOD-Berechnungen'!S$186*100","v":-8.9635054602636627E-2},{"$f":"('MOD-Berechnungen'!T369+'MOD-Berechnungen'!T367-'MOD-Berechnungen'!T368)/'MOD-Berechnungen'!T$186*100","v":-8.5920419959405553E-2},{"$f":"('MOD-Berechnungen'!U369+'MOD-Berechnungen'!U367-'MOD-Berechnungen'!U368)/'MOD-Berechnungen'!U$186*100","v":-7.861685040213004E-2},{"$f":"('MOD-Berechnungen'!V369+'MOD-Berechnungen'!V367-'MOD-Berechnungen'!V368)/'MOD-Berechnungen'!V$186*100","v":-7.1531858130178649E-2},{"$f":"('MOD-Berechnungen'!W369+'MOD-Berechnungen'!W367-'MOD-Berechnungen'!W368)/'MOD-Berechnungen'!W$186*100","v":-6.3559898837881018E-2},{"$f":"('MOD-Berechnungen'!X369+'MOD-Berechnungen'!X367-'MOD-Berechnungen'!X368)/'MOD-Berechnungen'!X$186*100","v":-5.8018399776514268E-2},{"$f":"('MOD-Berechnungen'!Y369+'MOD-Berechnungen'!Y367-'MOD-Berechnungen'!Y368)/'MOD-Berechnungen'!Y$186*100","v":-5.561130898191663E-2},{"$f":"('MOD-Berechnungen'!Z369+'MOD-Berechnungen'!Z367-'MOD-Berechnungen'!Z368)/'MOD-Berechnungen'!Z$186*100","v":-5.1080390167937494E-2},{"$f":"('MOD-Berechnungen'!AA369+'MOD-Berechnungen'!AA367-'MOD-Berechnungen'!AA368)/'MOD-Berechnungen'!AA$186*100","v":-4.4916482981987506E-2},{"$f":"('MOD-Berechnungen'!AB369+'MOD-Berechnungen'!AB367-'MOD-Berechnungen'!AB368)/'MOD-Berechnungen'!AB$186*100","v":-3.4646810658086134E-2},{"$f":"('MOD-Berechnungen'!AC369+'MOD-Berechnungen'!AC367-'MOD-Berechnungen'!AC368)/'MOD-Berechnungen'!AC$186*100","v":-3.2305856259810736E-2},{"$f":"('MOD-Berechnungen'!AD369+'MOD-Berechnungen'!AD367-'MOD-Berechnungen'!AD368)/'MOD-Berechnungen'!AD$186*100","v":-3.0032546437925411E-2},{"$f":"('MOD-Berechnungen'!AE369+'MOD-Berechnungen'!AE367-'MOD-Berechnungen'!AE368)/'MOD-Berechnungen'!AE$186*100","v":-2.9379479111114937E-2},null,"v2.1.15"," = sonstige Kosten + Effekt Grünstromprivileg - vermiedene Netzentgelte"]
[101,null,null,null,"Zahlungen an Anlagen, die bis Ende 2014 gebaut wurden [Mrd. Euro]",{"$f":"'MOD-Berechnungen'!F370/'MOD-Berechnungen'!F$186*100","v":3.149123966277187},{"$f":"'MOD-Berechnungen'!G370/'MOD-Berechnungen'!G$186*100","v":4.1888003025421927},{"$f":"'MOD-Berechnungen'!H370/'MOD-Berechnungen'!H$186*100","v":4.8064331813660583},{"$f":"'MOD-Berechnungen'!I370/'MOD-Berechnungen'!I$186*100","v":5.8986442334188212},{"$f":"'MOD-Berechnungen'!J370/'MOD-Berechnungen'!J$186*100","v":6.6832122779814043},{"$f":"'MOD-Berechnungen'!K370/'MOD-Berechnungen'!K$186*100","v":7.1849093520599432},{"$f":"'MOD-Berechnungen'!L370/'MOD-Berechnungen'!L$186*100","v":7.0835969719808736},{"$f":"'MOD-Berechnungen'!M370/'MOD-Berechnungen'!M$186*100","v":7.0489926342069946},{"$f":"'MOD-Berechnungen'!N370/'MOD-Berechnungen'!N$186*100","v":7.0566341139188431},{"$f":"'MOD-Berechnungen'!O370/'MOD-Berechnungen'!O$186*100","v":6.9414321189724255},{"$f":"'MOD-Berechnungen'!P370/'MOD-Berechnungen'!P$186*100","v":6.7289444769191071},{"$f":"'MOD-Berechnungen'!Q370/'MOD-Berechnungen'!Q$186*100","v":6.8251002677711199},{"$f":"'MOD-Berechnungen'!R370/'MOD-Berechnungen'!R$186*100","v":6.8461084410786066},{"$f":"'MOD-Berechnungen'!S370/'MOD-Berechnungen'!S$186*100","v":6.4451593423579938},{"$f":"'MOD-Berechnungen'!T370/'MOD-Berechnungen'!T$186*100","v":6.0881841417975338},{"$f":"'MOD-Berechnungen'!U370/'MOD-Berechnungen'!U$186*100","v":5.599541591342625},{"$f":"'MOD-Berechnungen'!V370/'MOD-Berechnungen'!V$186*100","v":5.0393609974870257},{"$f":"'MOD-Berechnungen'!W370/'MOD-Berechnungen'!W$186*100","v":4.5187253955571789},{"$f":"'MOD-Berechnungen'!X370/'MOD-Berechnungen'!X$186*100","v":4.0126075314705343},{"$f":"'MOD-Berechnungen'!Y370/'MOD-Berechnungen'!Y$186*100","v":3.5806676273267599},{"$f":"'MOD-Berechnungen'!Z370/'MOD-Berechnungen'!Z$186*100","v":2.8718306661528095},{"$f":"'MOD-Berechnungen'!AA370/'MOD-Berechnungen'!AA$186*100","v":1.9714620550670234},{"$f":"'MOD-Berechnungen'!AB370/'MOD-Berechnungen'!AB$186*100","v":1.0912914121132962},{"$f":"'MOD-Berechnungen'!AC370/'MOD-Berechnungen'!AC$186*100","v":0.5789282702435482},{"$f":"'MOD-Berechnungen'!AD370/'MOD-Berechnungen'!AD$186*100","v":0.35904503367007884},{"$f":"'MOD-Berechnungen'!AE370/'MOD-Berechnungen'!AE$186*100","v":0.17718067352132166},null,"v2.1.7"]
[102,null,null,null,"Umlage (Referenz)",{"$f":"F8","v":2.0469999999999997},3.5300000000000007,3.5920000000000005,5.2769999999999992,6.2399999999999993,6.1695706877643843,6.3383111725365717,6.8602600831698846,6.7788352248337613,6.406581826229905,6.7581163138201807,6.5036153637169205,4.272216637741538,4.3097166630738721,4.0140943880966908,3.379770582274936,2.9252161552923015,2.384466052710402,1.9873287718738313,1.6205314358430076,1.1351683324450654,0.47782641133551845,-9.7010679131812466E-2,-0.38191694965343059,-0.41347390183558697,-0.12285987283779966]
[103,null,null,null,"Umlage (Prognose)",{"$f":"'MOD-Berechnungen'!F390","v":2.0469999999999997},{"$f":"'MOD-Berechnungen'!G390","v":3.5300000000000007},{"$f":"'MOD-Berechnungen'!H390","v":3.5920000000000005},{"$f":"'MOD-Berechnungen'!I390","v":5.2769999999999992},{"$f":"'MOD-Berechnungen'!J390","v":6.2399999999999993},{"$f":"'MOD-Berechnungen'!K390","v":6.1695706877643843},{"$f":"'MOD-Berechnungen'!L390","v":6.3383111725365717},{"$f":"'MOD-Berechnungen'!M390","v":6.8602600831698846},{"$f":"'MOD-Berechnungen'!N390","v":6.7788352248337613},{"$f":"'MOD-Berechnungen'!O390","v":6.406581826229905},{"$f":"'MOD-Berechnungen'!P390","v":6.7581163138201807},{"$f":"'MOD-Berechnungen'!Q390","v":6.5036153637169205},{"$f":"'MOD-Berechnungen'!R390","v":4.272216637741538},{"$f":"'MOD-Berechnungen'!S390","v":4.3097166630738721},{"$f":"'MOD-Berechnungen'!T390","v":4.0140943880966908},{"$f":"'MOD-Berechnungen'!U390","v":3.379770582274936},{"$f":"'MOD-Berechnungen'!V390","v":2.9252161552923015},{"$f":"'MOD-Berechnungen'!W390","v":2.384466052710402},{"$f":"'MOD-Berechnungen'!X390","v":1.9873287718738313},{"$f":"'MOD-Berechnungen'!Y390","v":1.6205314358430076},{"$f":"'MOD-Berechnungen'!Z390","v":1.1351683324450654},{"$f":"'MOD-Berechnungen'!AA390","v":0.47782641133551845},{"$f":"'MOD-Berechnungen'!AB390","v":-9.7010679131812466E-2},{"$f":"'MOD-Berechnungen'!AC390","v":-0.38191694965343059},{"$f":"'MOD-Berechnungen'!AD390","v":-0.41347390183558697},{"$f":"'MOD-Berechnungen'!AE390","v":-0.12285987283779966}]
[104,null,null,null,null,null,null,null,null,null,null,null,null,null,null,null,null,null,null,null,null,null,null,null,null,null,null,null,null,null,null,"v2.1.15"]
[105,null,null,null,"Umlageanteile (real) [ct/kWh] für Übersichtsgrafik",null,null,null,null,null,null,null,null,null,null,null,null,null,null,null,null,null,null,null,null,null,null,null,null,null,null,"v2.1.15"]
[106,null,null,null,"Einnahmen der Anlagenbetreiber gemäß Vergütungssatz*\n*ab 2015 mit vollem Vergütungssatz auch für direktvermarkteten Strom",{"$f":"F96/'MOD-Berechnungen'!F$26","v":0},{"$f":"G96/'MOD-Berechnungen'!G$26","v":0},{"$f":"H96/'MOD-Berechnungen'!H$26","v":0},{"$f":"I96/'MOD-Berechnungen'!I$26","v":0},{"$f":"J96/'MOD-Berechnungen'!J$26","v":0},{"$f":"K96/'MOD-Berechnungen'!K$26","v":0.38323880109610364},{"$f":"L96/'MOD-Berechnungen'!L$26","v":0.98813829565815114},{"$f":"M96/'MOD-Berechnungen'!M$26","v":1.5967974545597854},{"$f":"N96/'MOD-Berechnungen'!N$26","v":2.1000897946327899},{"$f":"O96/'MOD-Berechnungen'!O$26","v":2.4811334999983519},{"$f":"P96/'MOD-Berechnungen'!P$26","v":2.7652856194922291},{"$f":"Q96/'MOD-Berechnungen'!Q$26","v":3.0345019642748334},{"$f":"R96/'MOD-Berechnungen'!R$26","v":3.0904643401743601},{"$f":"S96/'MOD-Berechnungen'!S$26","v":3.1469030924532495},{"$f":"T96/'MOD-Berechnungen'!T$26","v":3.141120591101624},{"$f":"U96/'MOD-Berechnungen'!U$26","v":3.1598810526209626},{"$f":"V96/'MOD-Berechnungen'!V$26","v":3.1522374157152453},{"$f":"W96/'MOD-Berechnungen'!W$26","v":3.0229138095423522},{"$f":"X96/'MOD-Berechnungen'!X$26","v":3.0285326271543185},{"$f":"Y96/'MOD-Berechnungen'!Y$26","v":3.0343461053037757},{"$f":"Z96/'MOD-Berechnungen'!Z$26","v":3.0961850950965082},{"$f":"AA96/'MOD-Berechnungen'!AA$26","v":3.1484544772544032},{"$f":"AB96/'MOD-Berechnungen'!AB$26","v":3.190951373308037},{"$f":"AC96/'MOD-Berechnungen'!AC$26","v":3.2276168823537454},{"$f":"AD96/'MOD-Berechnungen'!AD$26","v":3.2547406645847863},{"$f":"AE96/'MOD-Berechnungen'!AE$26","v":3.2020658764464116},"v2.1.15","v2.1.15"," = nominale Daten / Umrechnungsfaktor real zu nominal"]
[107,null,null,null,"Einnahmen aus Vermarktung* \n*ab 2015 inklusive Einnahmen aus Direktvermarktung,\nbis 2014 nur Einnahmen der ÜNBs",{"$f":"F97/'MOD-Berechnungen'!F$26","v":-1.3034463736096078},{"$f":"G97/'MOD-Berechnungen'!G$26","v":-1.3154170167030796},{"$f":"H97/'MOD-Berechnungen'!H$26","v":-1.6566368855679976},{"$f":"I97/'MOD-Berechnungen'!I$26","v":-1.8078460170605632},{"$f":"J97/'MOD-Berechnungen'!J$26","v":-1.6075439326046861},{"$f":"K97/'MOD-Berechnungen'!K$26","v":-1.566643697318103},{"$f":"L97/'MOD-Berechnungen'!L$26","v":-1.5183863370564439},{"$f":"M97/'MOD-Berechnungen'!M$26","v":-1.4083945595091354},{"$f":"N97/'MOD-Berechnungen'!N$26","v":-1.6838467974118663},{"$f":"O97/'MOD-Berechnungen'!O$26","v":-2.2668367764721702},{"$f":"P97/'MOD-Berechnungen'!P$26","v":-2.577570329009609},{"$f":"Q97/'MOD-Berechnungen'!Q$26","v":-2.0923655388120102},{"$f":"R97/'MOD-Berechnungen'!R$26","v":-4.3680368347531591},{"$f":"S97/'MOD-Berechnungen'!S$26","v":-3.8229872863517071},{"$f":"T97/'MOD-Berechnungen'!T$26","v":-3.7575657870115422},{"$f":"U97/'MOD-Berechnungen'!U$26","v":-3.923859390747988},{"$f":"V97/'MOD-Berechnungen'!V$26","v":-3.8477543516489345},{"$f":"W97/'MOD-Berechnungen'!W$26","v":-3.7550340218072327},{"$f":"X97/'MOD-Berechnungen'!X$26","v":-3.6875250359802942},{"$f":"Y97/'MOD-Berechnungen'!Y$26","v":-3.6527662079885217},{"$f":"Z97/'MOD-Berechnungen'!Z$26","v":-3.5302726769625492},{"$f":"AA97/'MOD-Berechnungen'!AA$26","v":-3.3839944590541626},{"$f":"AB97/'MOD-Berechnungen'!AB$26","v":-3.1953585764866705},{"$f":"AC97/'MOD-Berechnungen'!AC$26","v":-3.0754751025047531},{"$f":"AD97/'MOD-Berechnungen'!AD$26","v":-2.9811820637207189},{"$f":"AE97/'MOD-Berechnungen'!AE$26","v":-2.5812213993084572},"v2.1.15","v2.1.15"]
[108,null,null,null,"Liquiditätsreserve",{"$f":"F98/'MOD-Berechnungen'!F$26","v":0},{"$f":"G98/'MOD-Berechnungen'!G$26","v":0},{"$f":"H98/'MOD-Berechnungen'!H$26","v":0.11160454696022444},{"$f":"I98/'MOD-Berechnungen'!I$26","v":0.46347424251488339},{"$f":"J98/'MOD-Berechnungen'!J$26","v":0.56426477989220603},{"$f":"K98/'MOD-Berechnungen'!K$26","v":0.6515612998853465},{"$f":"L98/'MOD-Berechnungen'!L$26","v":0.68857766145791699},{"$f":"M98/'MOD-Berechnungen'!M$26","v":0.44549067038913032},{"$f":"N98/'MOD-Berechnungen'!N$26","v":0.45712471844630387},{"$f":"O98/'MOD-Berechnungen'!O$26","v":0.43364111692557267},{"$f":"P98/'MOD-Berechnungen'!P$26","v":0.5543912762795673},{"$f":"Q98/'MOD-Berechnungen'!Q$26","v":0.76861898320156619},{"$f":"R98/'MOD-Berechnungen'!R$26","v":0.32257233018708753},{"$f":"S98/'MOD-Berechnungen'!S$26","v":0.32957880748941182},{"$f":"T98/'MOD-Berechnungen'!T$26","v":0.30741729613194824},{"$f":"U98/'MOD-Berechnungen'!U$26","v":0.26626499336321574},{"$f":"V98/'MOD-Berechnungen'!V$26","v":0.23495530545151908},{"$f":"W98/'MOD-Berechnungen'!W$26","v":0.20053899654808569},{"$f":"X98/'MOD-Berechnungen'!X$26","v":0.17425190069251814},{"$f":"Y98/'MOD-Berechnungen'!Y$26","v":0.15064869618809562},{"$f":"Z98/'MOD-Berechnungen'!Z$26","v":0.12197512326280462},{"$f":"AA98/'MOD-Berechnungen'!AA$26","v":8.5470072485123172E-2},{"$f":"AB98/'MOD-Berechnungen'!AB$26","v":5.355681088219439E-2},{"$f":"AC98/'MOD-Berechnungen'!AC$26","v":3.6559793485865293E-2},{"$f":"AD98/'MOD-Berechnungen'!AD$26","v":3.2680426749429822E-2},{"$f":"AE98/'MOD-Berechnungen'!AE$26","v":4.4450206201864392E-2},"v2.1.15","v2.1.15"]
[109,null,null,null,"Kontostand des Vorjahres",{"$f":"F99/'MOD-Berechnungen'!F$26","v":0},{"$f":"G99/'MOD-Berechnungen'!G$26","v":0.31278622908168952},{"$f":"H99/'MOD-Berechnungen'!H$26","v":0.20275320716690418},{"$f":"I99/'MOD-Berechnungen'!I$26","v":0.74128043011029943},{"$f":"J99/'MOD-Berechnungen'!J$26","v":0.63664264608881205},{"$f":"K99/'MOD-Berechnungen'!K$26","v":-0.42109878878488549},{"$f":"L99/'MOD-Berechnungen'!L$26","v":-0.7461930382218217},{"$f":"M99/'MOD-Berechnungen'!M$26","v":-0.58910517679049057},{"$f":"N99/'MOD-Berechnungen'!N$26","v":-0.98738862358777668},{"$f":"O99/'MOD-Berechnungen'!O$26","v":-1.0607723037574148},{"$f":"P99/'MOD-Berechnungen'!P$26","v":-0.62479417124667502},{"$f":"Q99/'MOD-Berechnungen'!Q$26","v":1.184837164735316},{"$f":"R99/'MOD-Berechnungen'!R$26","v":-1.48969740203276},{"$f":"S99/'MOD-Berechnungen'!S$26","v":-0.3083048895040385},{"$f":"T99/'MOD-Berechnungen'!T$26","v":-0.31603020556294548},{"$f":"U99/'MOD-Berechnungen'!U$26","v":-0.29498786775471258},{"$f":"V99/'MOD-Berechnungen'!V$26","v":-0.25636920914634875},{"$f":"W99/'MOD-Berechnungen'!W$26","v":-0.22632534169800889},{"$f":"X99/'MOD-Berechnungen'!X$26","v":-0.19325188646464209},{"$f":"Y99/'MOD-Berechnungen'!Y$26","v":-0.16794587464857305},{"$f":"Z99/'MOD-Berechnungen'!Z$26","v":-0.14521118129486427},{"$f":"AA99/'MOD-Berechnungen'!AA$26","v":-0.11762622734856616},{"$f":"AB99/'MOD-Berechnungen'!AB$26","v":-8.245867501057437E-2},{"$f":"AC99/'MOD-Berechnungen'!AC$26","v":-5.1718916023679805E-2},{"$f":"AD99/'MOD-Berechnungen'!AD$26","v":-3.5324927490778452E-2},{"$f":"AE99/'MOD-Berechnungen'!AE$26","v":-3.1595413740193513E-2},"v2.1.15","v2.1.15"]
[109,null,null,null,"Zuschüsse aus dem Bundeshaushalt",{"$f":"F100/'MOD-Berechnungen'!F$26","v":0},{"$f":"G100/'MOD-Berechnungen'!G$26","v":0},{"$f":"H100/'MOD-Berechnungen'!H$26","v":0},{"$f":"I100/'MOD-Berechnungen'!I$26","v":0},{"$f":"J100/'MOD-Berechnungen'!J$26","v":0},{"$f":"K100/'MOD-Berechnungen'!K$26","v":0},{"$f":"L100/'MOD-Berechnungen'!L$26","v":0},{"$f":"M100/'MOD-Berechnungen'!M$26","v":0},{"$f":"N100/'MOD-Berechnungen'!N$26","v":0},{"$f":"O100/'MOD-Berechnungen'!O$26","v":0},{"$f":"P100/'MOD-Berechnungen'!P$26","v":0},{"$f":"Q100/'MOD-Berechnungen'!Q$26","v":-3.1360306162356211},{"$f":"R100/'MOD-Berechnungen'!R$26","v":0},{"$f":"S100/'MOD-Berechnungen'!S$26","v":-1.3309769304558992},{"$f":"T100/'MOD-Berechnungen'!T$26","v":-1.2762620149507922},{"$f":"U100/'MOD-Berechnungen'!U$26","v":-1.2246604703890063},{"$f":"V100/'MOD-Berechnungen'!V$26","v":-1.1791457536370213},{"$f":"W100/'MOD-Berechnungen'!W$26","v":-1.1358354521546306},{"$f":"X100/'MOD-Berechnungen'!X$26","v":-1.0945618937993917},{"$f":"Y100/'MOD-Berechnungen'!Y$26","v":-1.0549506426074249},{"$f":"Z100/'MOD-Berechnungen'!Z$26","v":-1.0168732481397069},{"$f":"AA100/'MOD-Berechnungen'!AA$26","v":-0.98061769212272121},{"$f":"AB100/'MOD-Berechnungen'!AB$26","v":-0.94606724006746878},{"$f":"AC100/'MOD-Berechnungen'!AC$26","v":-0.91360130179206045},{"$f":"AD100/'MOD-Berechnungen'!AD$26","v":-0.88274294420625532},{"$f":"AE100/'MOD-Berechnungen'!AE$26","v":-0.85343526148782123},"v2.1.15","v2.1.15"]
[110,null,null,null,"Sonstige Effekte*\n*vermiedene Netzentgelte, Grünstromprivileg, sonstige Kosten",{"$f":"F101/'MOD-Berechnungen'!F$26","v":1.4763219514801083E-2},{"$f":"G101/'MOD-Berechnungen'!G$26","v":0.24867373453428129},{"$f":"H101/'MOD-Berechnungen'!H$26","v":-2.2805196879405413E-2},{"$f":"I101/'MOD-Berechnungen'!I$26","v":-8.4318814288966468E-2},{"$f":"J101/'MOD-Berechnungen'!J$26","v":-7.9672858636939806E-2},{"$f":"K101/'MOD-Berechnungen'!K$26","v":-0.1684804644870242},{"$f":"L101/'MOD-Berechnungen'!L$26","v":-0.21047718493711795},{"$f":"M101/'MOD-Berechnungen'!M$26","v":-0.24688587320100877},{"$f":"N101/'MOD-Berechnungen'!N$26","v":-0.18022624227524897},{"$f":"O101/'MOD-Berechnungen'!O$26","v":-0.13818167953500204},{"$f":"P101/'MOD-Berechnungen'!P$26","v":-8.1650078340204379E-2},{"$f":"Q101/'MOD-Berechnungen'!Q$26","v":-8.278910044952377E-2},{"$f":"R101/'MOD-Berechnungen'!R$26","v":-9.1156427011063523E-2},{"$f":"S101/'MOD-Berechnungen'!S$26","v":-8.7005318840677179E-2},{"$f":"T101/'MOD-Berechnungen'!T$26","v":-8.2167157716545092E-2},{"$f":"U101/'MOD-Berechnungen'!U$26","v":-7.4071556683697456E-2},{"$f":"V101/'MOD-Berechnungen'!V$26","v":-6.6400185904789702E-2},{"$f":"W101/'MOD-Berechnungen'!W$26","v":-5.8128209239409853E-2},{"$f":"X101/'MOD-Berechnungen'!X$26","v":-5.2276132549745599E-2},{"$f":"Y101/'MOD-Berechnungen'!Y$26","v":-4.9366777592381159E-2},{"$f":"Z101/'MOD-Berechnungen'!Z$26","v":-4.4674512867165228E-2},{"$f":"AA101/'MOD-Berechnungen'!AA$26","v":-3.870306154978579E-2},{"$f":"AB101/'MOD-Berechnungen'!AB$26","v":-2.9412828992862822E-2},{"$f":"AC101/'MOD-Berechnungen'!AC$26","v":-2.7020211829266356E-2},{"$f":"AD101/'MOD-Berechnungen'!AD$26","v":-2.4747629643517444E-2},{"$f":"AE101/'MOD-Berechnungen'!AE$26","v":-2.3851708889199037E-2},"v2.1.15","v2.1.15"]
[111,null,null,null,"Zahlungen an Anlagen, die bis Ende 2014 gebaut wurden [Mrd. Euro]",{"$f":"F102/'MOD-Berechnungen'!F$26","v":3.6835796578773157},{"$f":"G102/'MOD-Berechnungen'!G$26","v":4.7989278772707538},{"$f":"H102/'MOD-Berechnungen'!H$26","v":5.3985521892041524},{"$f":"I102/'MOD-Berechnungen'!I$26","v":6.5274049425527103},{"$f":"J102/'MOD-Berechnungen'!J$26","v":7.3296365871980855},{"$f":"K102/'MOD-Berechnungen'!K$26","v":7.8562907330484242},{"$f":"L102/'MOD-Berechnungen'!L$26","v":7.631045707878787},{"$f":"M102/'MOD-Berechnungen'!M$26","v":7.4815438505714056},{"$f":"N102/'MOD-Berechnungen'!N$26","v":7.3789696932122188},{"$f":"O102/'MOD-Berechnungen'!O$26","v":7.1512369047683659},{"$f":"P102/'MOD-Berechnungen'!P$26","v":6.8298786440728927},{"$f":"Q102/'MOD-Berechnungen'!Q$26","v":6.8251002677711199},{"$f":"R102/'MOD-Berechnungen'!R$26","v":6.7449344247079877},{"$f":"S102/'MOD-Berechnungen'!S$26","v":6.2560696375626641},{"$f":"T102/'MOD-Berechnungen'!T$26","v":5.8222339558256007},{"$f":"U102/'MOD-Berechnungen'!U$26","v":5.2757997841976509},{"$f":"V102/'MOD-Berechnungen'!V$26","v":4.6778388793637973},{"$f":"W102/'MOD-Berechnungen'!W$26","v":4.1325650306390509},{"$f":"X102/'MOD-Berechnungen'!X$26","v":3.6154668862510242},{"$f":"Y102/'MOD-Berechnungen'!Y$26","v":3.1785984834120535},{"$f":"Z102/'MOD-Berechnungen'!Z$26","v":2.5116808157799499},{"$f":"AA102/'MOD-Berechnungen'!AA$26","v":1.6987442514349311},{"$f":"AB102/'MOD-Berechnungen'!AB$26","v":0.92643354687473667},{"$f":"AC102/'MOD-Berechnungen'!AC$26","v":0.48420832341136261},{"$f":"AD102/'MOD-Berechnungen'!AD$26","v":0.29586280793661385},{"$f":"AE102/'MOD-Berechnungen'!AE$26","v":0.14384400178231763},"v2.1.15","v2.1.15"]
[112,null,null,null,"Umlage (Referenz)",{"$f":"F103/'MOD-Berechnungen'!F$26","v":2.3944079815278903},{"$f":"G103/'MOD-Berechnungen'!G$26","v":4.0441687794198993},{"$f":"H103/'MOD-Berechnungen'!H$26","v":4.0345093194679436},{"$f":"I103/'MOD-Berechnungen'!I$26","v":5.839497097774017},{"$f":"J103/'MOD-Berechnungen'!J$26","v":6.8435552249030787},{"$f":"K103/'MOD-Berechnungen'!K$26","v":6.7460755099539274},{"$f":"L103/'MOD-Berechnungen'!L$26","v":6.8281612378152632},{"$f":"M103/'MOD-Berechnungen'!M$26","v":7.2812300000841441},{"$f":"N103/'MOD-Berechnungen'!N$26","v":7.0884814022969254},{"$f":"O103/'MOD-Berechnungen'!O$26","v":6.6002207619277025},{"$f":"P103/'MOD-Berechnungen'!P$26","v":6.8594880585274822},{"$f":"Q103/'MOD-Berechnungen'!Q$26","v":6.5036153637169205},{"$f":"R103/'MOD-Berechnungen'!R$26","v":4.2090804312724517},{"$f":"S103/'MOD-Berechnungen'!S$26","v":4.1832771123530037},{"$f":"T103/'MOD-Berechnungen'!T$26","v":3.8387466778173476},{"$f":"U103/'MOD-Berechnungen'!U$26","v":3.1843665446064251},{"$f":"V103/'MOD-Berechnungen'!V$26","v":2.7153621001934667},{"$f":"W103/'MOD-Berechnungen'!W$26","v":2.180694811830207},{"$f":"X103/'MOD-Berechnungen'!X$26","v":1.7906364653037872},{"$f":"Y103/'MOD-Berechnungen'!Y$26","v":1.4385637820670241},{"$f":"Z103/'MOD-Berechnungen'!Z$26","v":0.99280941487497743},{"$f":"AA103/'MOD-Berechnungen'!AA$26","v":0.41172736109922209},{"$f":"AB103/'MOD-Berechnungen'!AB$26","v":-8.2355589492608836E-2},{"$f":"AC103/'MOD-Berechnungen'!AC$26","v":-0.3194305328987867},{"$f":"AD103/'MOD-Berechnungen'!AD$26","v":-0.34071366579044021},{"$f":"AE103/'MOD-Berechnungen'!AE$26","v":-9.9743698995077304E-2},"v2.1.15","v2.1.15"]
[113,null,null,null,"Umlage (Prognose)",{"$f":"F104/'MOD-Berechnungen'!F$26","v":2.3944079815278903},{"$f":"G104/'MOD-Berechnungen'!G$26","v":4.0441687794198993},{"$f":"H104/'MOD-Berechnungen'!H$26","v":4.0345093194679436},{"$f":"I104/'MOD-Berechnungen'!I$26","v":5.839497097774017},{"$f":"J104/'MOD-Berechnungen'!J$26","v":6.8435552249030787},{"$f":"K104/'MOD-Berechnungen'!K$26","v":6.7460755099539274},{"$f":"L104/'MOD-Berechnungen'!L$26","v":6.8281612378152632},{"$f":"M104/'MOD-Berechnungen'!M$26","v":7.2812300000841441},{"$f":"N104/'MOD-Berechnungen'!N$26","v":7.0884814022969254},{"$f":"O104/'MOD-Berechnungen'!O$26","v":6.6002207619277025},{"$f":"P104/'MOD-Berechnungen'!P$26","v":6.8594880585274822},{"$f":"Q104/'MOD-Berechnungen'!Q$26","v":6.5036153637169205},{"$f":"R104/'MOD-Berechnungen'!R$26","v":4.2090804312724517},{"$f":"S104/'MOD-Berechnungen'!S$26","v":4.1832771123530037},{"$f":"T104/'MOD-Berechnungen'!T$26","v":3.8387466778173476},{"$f":"U104/'MOD-Berechnungen'!U$26","v":3.1843665446064251},{"$f":"V104/'MOD-Berechnungen'!V$26","v":2.7153621001934667},{"$f":"W104/'MOD-Berechnungen'!W$26","v":2.180694811830207},{"$f":"X104/'MOD-Berechnungen'!X$26","v":1.7906364653037872},{"$f":"Y104/'MOD-Berechnungen'!Y$26","v":1.4385637820670241},{"$f":"Z104/'MOD-Berechnungen'!Z$26","v":0.99280941487497743},{"$f":"AA104/'MOD-Berechnungen'!AA$26","v":0.41172736109922209},{"$f":"AB104/'MOD-Berechnungen'!AB$26","v":-8.2355589492608836E-2},{"$f":"AC104/'MOD-Berechnungen'!AC$26","v":-0.3194305328987867},{"$f":"AD104/'MOD-Berechnungen'!AD$26","v":-0.34071366579044021},{"$f":"AE104/'MOD-Berechnungen'!AE$26","v":-9.9743698995077304E-2},"v2.1.15","v2.1.15"]
[114,null,null,null,null,null,null,null,null,null,null,null,null,null,null,null,null,null,null,null,null,null,null,null,null,null,null,null,null,null,null,"v2.1.15","v2.1.15"]
[115,null,null,null,"Umlageanteile  [ct/kWh] für Übersichtsgrafik, real oder nominal je nach Schalterstellung",null,null,null,null,null,null,null,null,null,null,null,null,null,null,null,null,null,null,null,null,null,null,null,null,null,null,"v2.1.15","v2.1.15"]
[116,null,null,null,"Einnahmen der Anlagenbetreiber gemäß Vergütungssatz (Baujahr > 2014)",{"$f":"IF(ControlPanel!$T$5=\"nominal\",'GrD-Grafikdaten'!F96,'GrD-Grafikdaten'!F107)","v":0},{"$f":"IF(ControlPanel!$T$5=\"nominal\",'GrD-Grafikdaten'!G96,'GrD-Grafikdaten'!G107)","v":0},{"$f":"IF(ControlPanel!$T$5=\"nominal\",'GrD-Grafikdaten'!H96,'GrD-Grafikdaten'!H107)","v":0},{"$f":"IF(ControlPanel!$T$5=\"nominal\",'GrD-Grafikdaten'!I96,'GrD-Grafikdaten'!I107)","v":0},{"$f":"IF(ControlPanel!$T$5=\"nominal\",'GrD-Grafikdaten'!J96,'GrD-Grafikdaten'!J107)","v":0},{"$f":"IF(ControlPanel!$T$5=\"nominal\",'GrD-Grafikdaten'!K96,'GrD-Grafikdaten'!K107)","v":0.35048805341235117},{"$f":"IF(ControlPanel!$T$5=\"nominal\",'GrD-Grafikdaten'!L96,'GrD-Grafikdaten'!L107)","v":0.91724957587340961},{"$f":"IF(ControlPanel!$T$5=\"nominal\",'GrD-Grafikdaten'!M96,'GrD-Grafikdaten'!M107)","v":1.5044773806482119},{"$f":"IF(ControlPanel!$T$5=\"nominal\",'GrD-Grafikdaten'!N96,'GrD-Grafikdaten'!N107)","v":2.0083515589894363},{"$f":"IF(ControlPanel!$T$5=\"nominal\",'GrD-Grafikdaten'!O96,'GrD-Grafikdaten'!O107)","v":2.4083413817353998},{"$f":"IF(ControlPanel!$T$5=\"nominal\",'GrD-Grafikdaten'!P96,'GrD-Grafikdaten'!P107)","v":2.7244193295489945},{"$f":"IF(ControlPanel!$T$5=\"nominal\",'GrD-Grafikdaten'!Q96,'GrD-Grafikdaten'!Q107)","v":3.0345019642748334},{"$f":"IF(ControlPanel!$T$5=\"nominal\",'GrD-Grafikdaten'!R96,'GrD-Grafikdaten'!R107)","v":3.1368213052769751},{"$f":"IF(ControlPanel!$T$5=\"nominal\",'GrD-Grafikdaten'!S96,'GrD-Grafikdaten'!S107)","v":3.2420182384226481},{"$f":"IF(ControlPanel!$T$5=\"nominal\",'GrD-Grafikdaten'!T96,'GrD-Grafikdaten'!T107)","v":3.2846018753821844},{"$f":"IF(ControlPanel!$T$5=\"nominal\",'GrD-Grafikdaten'!U96,'GrD-Grafikdaten'!U107)","v":3.3537825735624458},{"$f":"IF(ControlPanel!$T$5=\"nominal\",'GrD-Grafikdaten'!V96,'GrD-Grafikdaten'!V107)","v":3.3958549443958521},{"$f":"IF(ControlPanel!$T$5=\"nominal\",'GrD-Grafikdaten'!W96,'GrD-Grafikdaten'!W107)","v":3.3053847425232687},{"$f":"IF(ControlPanel!$T$5=\"nominal\",'GrD-Grafikdaten'!X96,'GrD-Grafikdaten'!X107)","v":3.3612015298042808},{"$f":"IF(ControlPanel!$T$5=\"nominal\",'GrD-Grafikdaten'!Y96,'GrD-Grafikdaten'!Y107)","v":3.4181683927890423},{"$f":"IF(ControlPanel!$T$5=\"nominal\",'GrD-Grafikdaten'!Z96,'GrD-Grafikdaten'!Z107)","v":3.5401469996983943},{"$f":"IF(ControlPanel!$T$5=\"nominal\",'GrD-Grafikdaten'!AA96,'GrD-Grafikdaten'!AA107)","v":3.6539099565869479},{"$f":"IF(ControlPanel!$T$5=\"nominal\",'GrD-Grafikdaten'!AB96,'GrD-Grafikdaten'!AB107)","v":3.7587777794849502},{"$f":"IF(ControlPanel!$T$5=\"nominal\",'GrD-Grafikdaten'!AC96,'GrD-Grafikdaten'!AC107)","v":3.8589973950581604},{"$f":"IF(ControlPanel!$T$5=\"nominal\",'GrD-Grafikdaten'!AD96,'GrD-Grafikdaten'!AD107)","v":3.9497984882019437},{"$f":"IF(ControlPanel!$T$5=\"nominal\",'GrD-Grafikdaten'!AE96,'GrD-Grafikdaten'!AE107)","v":3.9441629933724394},"v2.1.15","v2.1.43"]
[117,null,null,null,"Einnahmen aus Vermarktung",{"$f":"IF(ControlPanel!$T$5=\"nominal\",'GrD-Grafikdaten'!F97,'GrD-Grafikdaten'!F108)","v":-1.1143275278744671},{"$f":"IF(ControlPanel!$T$5=\"nominal\",'GrD-Grafikdaten'!G97,'GrD-Grafikdaten'!G108)","v":-1.1481771217342542},{"$f":"IF(ControlPanel!$T$5=\"nominal\",'GrD-Grafikdaten'!H97,'GrD-Grafikdaten'!H108)","v":-1.4749351709875336},{"$f":"IF(ControlPanel!$T$5=\"nominal\",'GrD-Grafikdaten'!I97,'GrD-Grafikdaten'!I108)","v":-1.6337029152159672},{"$f":"IF(ControlPanel!$T$5=\"nominal\",'GrD-Grafikdaten'!J97,'GrD-Grafikdaten'!J108)","v":-1.4657694443600116},{"$f":"IF(ControlPanel!$T$5=\"nominal\",'GrD-Grafikdaten'!K97,'GrD-Grafikdaten'!K108)","v":-1.4327617618396029},{"$f":"IF(ControlPanel!$T$5=\"nominal\",'GrD-Grafikdaten'!L97,'GrD-Grafikdaten'!L108)","v":-1.409457795327492},{"$f":"IF(ControlPanel!$T$5=\"nominal\",'GrD-Grafikdaten'!M97,'GrD-Grafikdaten'!M108)","v":-1.3269671439911248},{"$f":"IF(ControlPanel!$T$5=\"nominal\",'GrD-Grafikdaten'!N97,'GrD-Grafikdaten'!N108)","v":-1.6102913072213689},{"$f":"IF(ControlPanel!$T$5=\"nominal\",'GrD-Grafikdaten'!O97,'GrD-Grafikdaten'!O108)","v":-2.2003317493481238},{"$f":"IF(ControlPanel!$T$5=\"nominal\",'GrD-Grafikdaten'!P97,'GrD-Grafikdaten'!P108)","v":-2.5394781566597135},{"$f":"IF(ControlPanel!$T$5=\"nominal\",'GrD-Grafikdaten'!Q97,'GrD-Grafikdaten'!Q108)","v":-2.0923655388120102},{"$f":"IF(ControlPanel!$T$5=\"nominal\",'GrD-Grafikdaten'!R97,'GrD-Grafikdaten'!R108)","v":-4.4335573872744565},{"$f":"IF(ControlPanel!$T$5=\"nominal\",'GrD-Grafikdaten'!S97,'GrD-Grafikdaten'!S108)","v":-3.9385370770816865},{"$f":"IF(ControlPanel!$T$5=\"nominal\",'GrD-Grafikdaten'!T97,'GrD-Grafikdaten'!T108)","v":-3.9292052861178242},{"$f":"IF(ControlPanel!$T$5=\"nominal\",'GrD-Grafikdaten'!U97,'GrD-Grafikdaten'!U108)","v":-4.1646413351175315},{"$f":"IF(ControlPanel!$T$5=\"nominal\",'GrD-Grafikdaten'!V97,'GrD-Grafikdaten'!V108)","v":-4.1451242139078888},{"$f":"IF(ControlPanel!$T$5=\"nominal\",'GrD-Grafikdaten'!W97,'GrD-Grafikdaten'!W108)","v":-4.1059166570205576},{"$f":"IF(ControlPanel!$T$5=\"nominal\",'GrD-Grafikdaten'!X97,'GrD-Grafikdaten'!X108)","v":-4.0925809023806794},{"$f":"IF(ControlPanel!$T$5=\"nominal\",'GrD-Grafikdaten'!Y97,'GrD-Grafikdaten'!Y108)","v":-4.1148140538649161},{"$f":"IF(ControlPanel!$T$5=\"nominal\",'GrD-Grafikdaten'!Z97,'GrD-Grafikdaten'!Z108)","v":-4.0364783892471499},{"$f":"IF(ControlPanel!$T$5=\"nominal\",'GrD-Grafikdaten'!AA97,'GrD-Grafikdaten'!AA108)","v":-3.9272637213912489},{"$f":"IF(ControlPanel!$T$5=\"nominal\",'GrD-Grafikdaten'!AB97,'GrD-Grafikdaten'!AB108)","v":-3.76396923978613},{"$f":"IF(ControlPanel!$T$5=\"nominal\",'GrD-Grafikdaten'!AC97,'GrD-Grafikdaten'!AC108)","v":-3.6770939184322051},{"$f":"IF(ControlPanel!$T$5=\"nominal\",'GrD-Grafikdaten'!AD97,'GrD-Grafikdaten'!AD108)","v":-3.6178207795369817},{"$f":"IF(ControlPanel!$T$5=\"nominal\",'GrD-Grafikdaten'!AE97,'GrD-Grafikdaten'!AE108)","v":-3.17943425078807},"v2.1.15","v2.1.43"]
[118,null,null,null,"Liquiditätsreserve",{"$f":"IF(ControlPanel!$T$5=\"nominal\",'GrD-Grafikdaten'!F98,'GrD-Grafikdaten'!F109)","v":0},{"$f":"IF(ControlPanel!$T$5=\"nominal\",'GrD-Grafikdaten'!G98,'GrD-Grafikdaten'!G109)","v":0},{"$f":"IF(ControlPanel!$T$5=\"nominal\",'GrD-Grafikdaten'!H98,'GrD-Grafikdaten'!H109)","v":9.9363640268897269E-2},{"$f":"IF(ControlPanel!$T$5=\"nominal\",'GrD-Grafikdaten'!I98,'GrD-Grafikdaten'!I109)","v":0.41882948767683209},{"$f":"IF(ControlPanel!$T$5=\"nominal\",'GrD-Grafikdaten'!J98,'GrD-Grafikdaten'!J109)","v":0.51450044762037139},{"$f":"IF(ControlPanel!$T$5=\"nominal\",'GrD-Grafikdaten'!K98,'GrD-Grafikdaten'!K109)","v":0.59588029975693935},{"$f":"IF(ControlPanel!$T$5=\"nominal\",'GrD-Grafikdaten'!L98,'GrD-Grafikdaten'!L109)","v":0.63917932409198042},{"$f":"IF(ControlPanel!$T$5=\"nominal\",'GrD-Grafikdaten'!M98,'GrD-Grafikdaten'!M109)","v":0.41973428438049953},{"$f":"IF(ControlPanel!$T$5=\"nominal\",'GrD-Grafikdaten'!N98,'GrD-Grafikdaten'!N109)","v":0.43715613650928181},{"$f":"IF(ControlPanel!$T$5=\"nominal\",'GrD-Grafikdaten'!O98,'GrD-Grafikdaten'!O109)","v":0.42091884484027542},{"$f":"IF(ControlPanel!$T$5=\"nominal\",'GrD-Grafikdaten'!P98,'GrD-Grafikdaten'!P109)","v":0.54619830175326833},{"$f":"IF(ControlPanel!$T$5=\"nominal\",'GrD-Grafikdaten'!Q98,'GrD-Grafikdaten'!Q109)","v":0.76861898320156619},{"$f":"IF(ControlPanel!$T$5=\"nominal\",'GrD-Grafikdaten'!R98,'GrD-Grafikdaten'!R109)","v":0.32741091513989379},{"$f":"IF(ControlPanel!$T$5=\"nominal\",'GrD-Grafikdaten'!S98,'GrD-Grafikdaten'!S109)","v":0.33954032694577918},{"$f":"IF(ControlPanel!$T$5=\"nominal\",'GrD-Grafikdaten'!T98,'GrD-Grafikdaten'!T109)","v":0.3214596186661493},{"$f":"IF(ControlPanel!$T$5=\"nominal\",'GrD-Grafikdaten'!U98,'GrD-Grafikdaten'!U109)","v":0.28260395876312455},{"$f":"IF(ControlPanel!$T$5=\"nominal\",'GrD-Grafikdaten'!V98,'GrD-Grafikdaten'!V109)","v":0.25311359219068863},{"$f":"IF(ControlPanel!$T$5=\"nominal\",'GrD-Grafikdaten'!W98,'GrD-Grafikdaten'!W109)","v":0.21927801493332055},{"$f":"IF(ControlPanel!$T$5=\"nominal\",'GrD-Grafikdaten'!X98,'GrD-Grafikdaten'!X109)","v":0.19339258554705727},{"$f":"IF(ControlPanel!$T$5=\"nominal\",'GrD-Grafikdaten'!Y98,'GrD-Grafikdaten'!Y109)","v":0.1697046394361382},{"$f":"IF(ControlPanel!$T$5=\"nominal\",'GrD-Grafikdaten'!Z98,'GrD-Grafikdaten'!Z109)","v":0.13946513318616696},{"$f":"IF(ControlPanel!$T$5=\"nominal\",'GrD-Grafikdaten'!AA98,'GrD-Grafikdaten'!AA109)","v":9.91915084368441E-2},{"$f":"IF(ControlPanel!$T$5=\"nominal\",'GrD-Grafikdaten'!AB98,'GrD-Grafikdaten'!AB109)","v":6.3087188469241787E-2},{"$f":"IF(ControlPanel!$T$5=\"nominal\",'GrD-Grafikdaten'!AC98,'GrD-Grafikdaten'!AC109)","v":4.3711553436581542E-2},{"$f":"IF(ControlPanel!$T$5=\"nominal\",'GrD-Grafikdaten'!AD98,'GrD-Grafikdaten'!AD109)","v":3.9659411753826909E-2},{"$f":"IF(ControlPanel!$T$5=\"nominal\",'GrD-Grafikdaten'!AE98,'GrD-Grafikdaten'!AE109)","v":5.4751796219674589E-2},"v2.1.15","v2.1.43"]
[119,null,null,null,"Kontostand des Vorjahres",{"$f":"IF(ControlPanel!$T$5=\"nominal\",'GrD-Grafikdaten'!F99,'GrD-Grafikdaten'!F110)","v":0},{"$f":"IF(ControlPanel!$T$5=\"nominal\",'GrD-Grafikdaten'!G99,'GrD-Grafikdaten'!G110)","v":0.27301911687690317},{"$f":"IF(ControlPanel!$T$5=\"nominal\",'GrD-Grafikdaten'!H99,'GrD-Grafikdaten'!H110)","v":0.18051501743452761},{"$f":"IF(ControlPanel!$T$5=\"nominal\",'GrD-Grafikdaten'!I99,'GrD-Grafikdaten'!I110)","v":0.66987563555484619},{"$f":"IF(ControlPanel!$T$5=\"nominal\",'GrD-Grafikdaten'!J99,'GrD-Grafikdaten'!J110)","v":0.580495076175914},{"$f":"IF(ControlPanel!$T$5=\"nominal\",'GrD-Grafikdaten'!K99,'GrD-Grafikdaten'!K110)","v":-0.38511260956194937},{"$f":"IF(ControlPanel!$T$5=\"nominal\",'GrD-Grafikdaten'!L99,'GrD-Grafikdaten'!L110)","v":-0.69266139247521119},{"$f":"IF(ControlPanel!$T$5=\"nominal\",'GrD-Grafikdaten'!M99,'GrD-Grafikdaten'!M110)","v":-0.55504560755227295},{"$f":"IF(ControlPanel!$T$5=\"nominal\",'GrD-Grafikdaten'!N99,'GrD-Grafikdaten'!N110)","v":-0.94425652016355122},{"$f":"IF(ControlPanel!$T$5=\"nominal\",'GrD-Grafikdaten'!O99,'GrD-Grafikdaten'!O110)","v":-1.0296510992816279},{"$f":"IF(ControlPanel!$T$5=\"nominal\",'GrD-Grafikdaten'!P99,'GrD-Grafikdaten'!P110)","v":-0.61556075984894099},{"$f":"IF(ControlPanel!$T$5=\"nominal\",'GrD-Grafikdaten'!Q99,'GrD-Grafikdaten'!Q110)","v":1.184837164735316},{"$f":"IF(ControlPanel!$T$5=\"nominal\",'GrD-Grafikdaten'!R99,'GrD-Grafikdaten'!R110)","v":-1.5120428630632512},{"$f":"IF(ControlPanel!$T$5=\"nominal\",'GrD-Grafikdaten'!S99,'GrD-Grafikdaten'!S110)","v":-0.31762340478929796},{"$f":"IF(ControlPanel!$T$5=\"nominal\",'GrD-Grafikdaten'!T99,'GrD-Grafikdaten'!T110)","v":-0.33046595180397664},{"$f":"IF(ControlPanel!$T$5=\"nominal\",'GrD-Grafikdaten'!U99,'GrD-Grafikdaten'!U110)","v":-0.31308937071143955},{"$f":"IF(ControlPanel!$T$5=\"nominal\",'GrD-Grafikdaten'!V99,'GrD-Grafikdaten'!V110)","v":-0.27618244810184911},{"$f":"IF(ControlPanel!$T$5=\"nominal\",'GrD-Grafikdaten'!W99,'GrD-Grafikdaten'!W110)","v":-0.24747392033920404},{"$f":"IF(ControlPanel!$T$5=\"nominal\",'GrD-Grafikdaten'!X99,'GrD-Grafikdaten'!X110)","v":-0.21447962310145521},{"$f":"IF(ControlPanel!$T$5=\"nominal\",'GrD-Grafikdaten'!Y99,'GrD-Grafikdaten'!Y110)","v":-0.18918978274088205},{"$f":"IF(ControlPanel!$T$5=\"nominal\",'GrD-Grafikdaten'!Z99,'GrD-Grafikdaten'!Z110)","v":-0.16603300900770268},{"$f":"IF(ControlPanel!$T$5=\"nominal\",'GrD-Grafikdaten'!AA99,'GrD-Grafikdaten'!AA110)","v":-0.13651003893170066},{"$f":"IF(ControlPanel!$T$5=\"nominal\",'GrD-Grafikdaten'!AB99,'GrD-Grafikdaten'!AB110)","v":-9.7132108608161363E-2},{"$f":"IF(ControlPanel!$T$5=\"nominal\",'GrD-Grafikdaten'!AC99,'GrD-Grafikdaten'!AC110)","v":-6.1836075806204649E-2},{"$f":"IF(ControlPanel!$T$5=\"nominal\",'GrD-Grafikdaten'!AD99,'GrD-Grafikdaten'!AD110)","v":-4.2868652091738825E-2},{"$f":"IF(ControlPanel!$T$5=\"nominal\",'GrD-Grafikdaten'!AE99,'GrD-Grafikdaten'!AE110)","v":-3.891783193812999E-2},"v2.1.15","v2.1.43"]
[119,null,null,null,"Zuschüsse aus dem Bundeshaushalt",{"$f":"IF(ControlPanel!$T$5=\"nominal\",'GrD-Grafikdaten'!F100,'GrD-Grafikdaten'!F111)","v":0},{"$f":"IF(ControlPanel!$T$5=\"nominal\",'GrD-Grafikdaten'!G100,'GrD-Grafikdaten'!G111)","v":0},{"$f":"IF(ControlPanel!$T$5=\"nominal\",'GrD-Grafikdaten'!H100,'GrD-Grafikdaten'!H111)","v":0},{"$f":"IF(ControlPanel!$T$5=\"nominal\",'GrD-Grafikdaten'!I100,'GrD-Grafikdaten'!I111)","v":0},{"$f":"IF(ControlPanel!$T$5=\"nominal\",'GrD-Grafikdaten'!J100,'GrD-Grafikdaten'!J111)","v":0},{"$f":"IF(ControlPanel!$T$5=\"nominal\",'GrD-Grafikdaten'!K100,'GrD-Grafikdaten'!K111)","v":0},{"$f":"IF(ControlPanel!$T$5=\"nominal\",'GrD-Grafikdaten'!L100,'GrD-Grafikdaten'!L111)","v":0},{"$f":"IF(ControlPanel!$T$5=\"nominal\",'GrD-Grafikdaten'!M100,'GrD-Grafikdaten'!M111)","v":0},{"$f":"IF(ControlPanel!$T$5=\"nominal\",'GrD-Grafikdaten'!N100,'GrD-Grafikdaten'!N111)","v":0},{"$f":"IF(ControlPanel!$T$5=\"nominal\",'GrD-Grafikdaten'!O100,'GrD-Grafikdaten'!O111)","v":0},{"$f":"IF(ControlPanel!$T$5=\"nominal\",'GrD-Grafikdaten'!P100,'GrD-Grafikdaten'!P111)","v":0},{"$f":"IF(ControlPanel!$T$5=\"nominal\",'GrD-Grafikdaten'!Q100,'GrD-Grafikdaten'!Q111)","v":-3.1360306162356211},{"$f":"IF(ControlPanel!$T$5=\"nominal\",'GrD-Grafikdaten'!R100,'GrD-Grafikdaten'!R111)","v":0},{"$f":"IF(ControlPanel!$T$5=\"nominal\",'GrD-Grafikdaten'!S100,'GrD-Grafikdaten'!S111)","v":-1.3712057081789284},{"$f":"IF(ControlPanel!$T$5=\"nominal\",'GrD-Grafikdaten'!T100,'GrD-Grafikdaten'!T111)","v":-1.3345595898679696},{"$f":"IF(ControlPanel!$T$5=\"nominal\",'GrD-Grafikdaten'!U100,'GrD-Grafikdaten'!U111)","v":-1.2998099851621576},{"$f":"IF(ControlPanel!$T$5=\"nominal\",'GrD-Grafikdaten'!V100,'GrD-Grafikdaten'!V111)","v":-1.2702748586413484},{"$f":"IF(ControlPanel!$T$5=\"nominal\",'GrD-Grafikdaten'!W100,'GrD-Grafikdaten'!W111)","v":-1.2419716241057233},{"$f":"IF(ControlPanel!$T$5=\"nominal\",'GrD-Grafikdaten'!X100,'GrD-Grafikdaten'!X111)","v":-1.2147939496893922},{"$f":"IF(ControlPanel!$T$5=\"nominal\",'GrD-Grafikdaten'!Y100,'GrD-Grafikdaten'!Y111)","v":-1.1883940781212179},{"$f":"IF(ControlPanel!$T$5=\"nominal\",'GrD-Grafikdaten'!Z100,'GrD-Grafikdaten'!Z111)","v":-1.1626826781695154},{"$f":"IF(ControlPanel!$T$5=\"nominal\",'GrD-Grafikdaten'!AA100,'GrD-Grafikdaten'!AA111)","v":-1.1380468654503599},{"$f":"IF(ControlPanel!$T$5=\"nominal\",'GrD-Grafikdaten'!AB100,'GrD-Grafikdaten'!AB111)","v":-1.1144189001469229},{"$f":"IF(ControlPanel!$T$5=\"nominal\",'GrD-Grafikdaten'!AC100,'GrD-Grafikdaten'!AC111)","v":-1.0923183178934999},{"$f":"IF(ControlPanel!$T$5=\"nominal\",'GrD-Grafikdaten'!AD100,'GrD-Grafikdaten'!AD111)","v":-1.0712548573947902},{"$f":"IF(ControlPanel!$T$5=\"nominal\",'GrD-Grafikdaten'!AE100,'GrD-Grafikdaten'!AE111)","v":-1.0512237741139205},"v2.1.15","v2.1.43"]
[120,null,null,null,"Sonstige Effekte*\n*vermiedene Netzentgelte, Grünstromprivileg, sonstige Kosten",{"$f":"IF(ControlPanel!$T$5=\"nominal\",'GrD-Grafikdaten'!F101,'GrD-Grafikdaten'!F112)","v":1.2621203479080452E-2},{"$f":"IF(ControlPanel!$T$5=\"nominal\",'GrD-Grafikdaten'!G101,'GrD-Grafikdaten'!G112)","v":0.21705777646400023},{"$f":"IF(ControlPanel!$T$5=\"nominal\",'GrD-Grafikdaten'!H101,'GrD-Grafikdaten'!H112)","v":-2.030389836889188E-2},{"$f":"IF(ControlPanel!$T$5=\"nominal\",'GrD-Grafikdaten'!I101,'GrD-Grafikdaten'!I112)","v":-7.6196695631972927E-2},{"$f":"IF(ControlPanel!$T$5=\"nominal\",'GrD-Grafikdaten'!J101,'GrD-Grafikdaten'!J112)","v":-7.2646252065796002E-2},{"$f":"IF(ControlPanel!$T$5=\"nominal\",'GrD-Grafikdaten'!K101,'GrD-Grafikdaten'!K112)","v":-0.15408249338839253},{"$f":"IF(ControlPanel!$T$5=\"nominal\",'GrD-Grafikdaten'!L101,'GrD-Grafikdaten'!L112)","v":-0.19537762018019211},{"$f":"IF(ControlPanel!$T$5=\"nominal\",'GrD-Grafikdaten'!M101,'GrD-Grafikdaten'!M112)","v":-0.23261197641055825},{"$f":"IF(ControlPanel!$T$5=\"nominal\",'GrD-Grafikdaten'!N101,'GrD-Grafikdaten'!N112)","v":-0.17235341820590774},{"$f":"IF(ControlPanel!$T$5=\"nominal\",'GrD-Grafikdaten'!O101,'GrD-Grafikdaten'!O112)","v":-0.13412767068844386},{"$f":"IF(ControlPanel!$T$5=\"nominal\",'GrD-Grafikdaten'!P101,'GrD-Grafikdaten'!P112)","v":-8.0443426936161966E-2},{"$f":"IF(ControlPanel!$T$5=\"nominal\",'GrD-Grafikdaten'!Q101,'GrD-Grafikdaten'!Q112)","v":-8.278910044952377E-2},{"$f":"IF(ControlPanel!$T$5=\"nominal\",'GrD-Grafikdaten'!R101,'GrD-Grafikdaten'!R112)","v":-9.2523773416229471E-2},{"$f":"IF(ControlPanel!$T$5=\"nominal\",'GrD-Grafikdaten'!S101,'GrD-Grafikdaten'!S112)","v":-8.9635054602636627E-2},{"$f":"IF(ControlPanel!$T$5=\"nominal\",'GrD-Grafikdaten'!T101,'GrD-Grafikdaten'!T112)","v":-8.5920419959405553E-2},{"$f":"IF(ControlPanel!$T$5=\"nominal\",'GrD-Grafikdaten'!U101,'GrD-Grafikdaten'!U112)","v":-7.861685040213004E-2},{"$f":"IF(ControlPanel!$T$5=\"nominal\",'GrD-Grafikdaten'!V101,'GrD-Grafikdaten'!V112)","v":-7.1531858130178649E-2},{"$f":"IF(ControlPanel!$T$5=\"nominal\",'GrD-Grafikdaten'!W101,'GrD-Grafikdaten'!W112)","v":-6.3559898837881018E-2},{"$f":"IF(ControlPanel!$T$5=\"nominal\",'GrD-Grafikdaten'!X101,'GrD-Grafikdaten'!X112)","v":-5.8018399776514268E-2},{"$f":"IF(ControlPanel!$T$5=\"nominal\",'GrD-Grafikdaten'!Y101,'GrD-Grafikdaten'!Y112)","v":-5.561130898191663E-2},{"$f":"IF(ControlPanel!$T$5=\"nominal\",'GrD-Grafikdaten'!Z101,'GrD-Grafikdaten'!Z112)","v":-5.1080390167937494E-2},{"$f":"IF(ControlPanel!$T$5=\"nominal\",'GrD-Grafikdaten'!AA101,'GrD-Grafikdaten'!AA112)","v":-4.4916482981987506E-2},{"$f":"IF(ControlPanel!$T$5=\"nominal\",'GrD-Grafikdaten'!AB101,'GrD-Grafikdaten'!AB112)","v":-3.4646810658086134E-2},{"$f":"IF(ControlPanel!$T$5=\"nominal\",'GrD-Grafikdaten'!AC101,'GrD-Grafikdaten'!AC112)","v":-3.2305856259810736E-2},{"$f":"IF(ControlPanel!$T$5=\"nominal\",'GrD-Grafikdaten'!AD101,'GrD-Grafikdaten'!AD112)","v":-3.0032546437925411E-2},{"$f":"IF(ControlPanel!$T$5=\"nominal\",'GrD-Grafikdaten'!AE101,'GrD-Grafikdaten'!AE112)","v":-2.9379479111114937E-2},"v2.1.15","v2.1.43"]
[121,null,null,null,"Einnahmen der Anlagenbetreiber gemäß Vergütungssatz (Baujahr < 2015)",{"$f":"IF(ControlPanel!$T$5=\"nominal\",'GrD-Grafikdaten'!F102,'GrD-Grafikdaten'!F113)","v":3.149123966277187},{"$f":"IF(ControlPanel!$T$5=\"nominal\",'GrD-Grafikdaten'!G102,'GrD-Grafikdaten'!G113)","v":4.1888003025421927},{"$f":"IF(ControlPanel!$T$5=\"nominal\",'GrD-Grafikdaten'!H102,'GrD-Grafikdaten'!H113)","v":4.8064331813660583},{"$f":"IF(ControlPanel!$T$5=\"nominal\",'GrD-Grafikdaten'!I102,'GrD-Grafikdaten'!I113)","v":5.8986442334188212},{"$f":"IF(ControlPanel!$T$5=\"nominal\",'GrD-Grafikdaten'!J102,'GrD-Grafikdaten'!J113)","v":6.6832122779814043},{"$f":"IF(ControlPanel!$T$5=\"nominal\",'GrD-Grafikdaten'!K102,'GrD-Grafikdaten'!K113)","v":7.1849093520599432},{"$f":"IF(ControlPanel!$T$5=\"nominal\",'GrD-Grafikdaten'!L102,'GrD-Grafikdaten'!L113)","v":7.0835969719808736},{"$f":"IF(ControlPanel!$T$5=\"nominal\",'GrD-Grafikdaten'!M102,'GrD-Grafikdaten'!M113)","v":7.0489926342069946},{"$f":"IF(ControlPanel!$T$5=\"nominal\",'GrD-Grafikdaten'!N102,'GrD-Grafikdaten'!N113)","v":7.0566341139188431},{"$f":"IF(ControlPanel!$T$5=\"nominal\",'GrD-Grafikdaten'!O102,'GrD-Grafikdaten'!O113)","v":6.9414321189724255},{"$f":"IF(ControlPanel!$T$5=\"nominal\",'GrD-Grafikdaten'!P102,'GrD-Grafikdaten'!P113)","v":6.7289444769191071},{"$f":"IF(ControlPanel!$T$5=\"nominal\",'GrD-Grafikdaten'!Q102,'GrD-Grafikdaten'!Q113)","v":6.8251002677711199},{"$f":"IF(ControlPanel!$T$5=\"nominal\",'GrD-Grafikdaten'!R102,'GrD-Grafikdaten'!R113)","v":6.8461084410786066},{"$f":"IF(ControlPanel!$T$5=\"nominal\",'GrD-Grafikdaten'!S102,'GrD-Grafikdaten'!S113)","v":6.4451593423579938},{"$f":"IF(ControlPanel!$T$5=\"nominal\",'GrD-Grafikdaten'!T102,'GrD-Grafikdaten'!T113)","v":6.0881841417975338},{"$f":"IF(ControlPanel!$T$5=\"nominal\",'GrD-Grafikdaten'!U102,'GrD-Grafikdaten'!U113)","v":5.599541591342625},{"$f":"IF(ControlPanel!$T$5=\"nominal\",'GrD-Grafikdaten'!V102,'GrD-Grafikdaten'!V113)","v":5.0393609974870257},{"$f":"IF(ControlPanel!$T$5=\"nominal\",'GrD-Grafikdaten'!W102,'GrD-Grafikdaten'!W113)","v":4.5187253955571789},{"$f":"IF(ControlPanel!$T$5=\"nominal\",'GrD-Grafikdaten'!X102,'GrD-Grafikdaten'!X113)","v":4.0126075314705343},{"$f":"IF(ControlPanel!$T$5=\"nominal\",'GrD-Grafikdaten'!Y102,'GrD-Grafikdaten'!Y113)","v":3.5806676273267599},{"$f":"IF(ControlPanel!$T$5=\"nominal\",'GrD-Grafikdaten'!Z102,'GrD-Grafikdaten'!Z113)","v":2.8718306661528095},{"$f":"IF(ControlPanel!$T$5=\"nominal\",'GrD-Grafikdaten'!AA102,'GrD-Grafikdaten'!AA113)","v":1.9714620550670234},{"$f":"IF(ControlPanel!$T$5=\"nominal\",'GrD-Grafikdaten'!AB102,'GrD-Grafikdaten'!AB113)","v":1.0912914121132962},{"$f":"IF(ControlPanel!$T$5=\"nominal\",'GrD-Grafikdaten'!AC102,'GrD-Grafikdaten'!AC113)","v":0.5789282702435482},{"$f":"IF(ControlPanel!$T$5=\"nominal\",'GrD-Grafikdaten'!AD102,'GrD-Grafikdaten'!AD113)","v":0.35904503367007884},{"$f":"IF(ControlPanel!$T$5=\"nominal\",'GrD-Grafikdaten'!AE102,'GrD-Grafikdaten'!AE113)","v":0.17718067352132166},"v2.1.15","v2.1.43"]
[122,null,null,null,"Umlage (Referenz)",{"$f":"IF(IF(ControlPanel!$T$5=\"nominal\",'GrD-Grafikdaten'!F103,'GrD-Grafikdaten'!F114)<0,0,IF(ControlPanel!$T$5=\"nominal\",'GrD-Grafikdaten'!F103,'GrD-Grafikdaten'!F114))","v":2.0469999999999997},{"$f":"IF(IF(ControlPanel!$T$5=\"nominal\",'GrD-Grafikdaten'!G103,'GrD-Grafikdaten'!G114)<0,0,IF(ControlPanel!$T$5=\"nominal\",'GrD-Grafikdaten'!G103,'GrD-Grafikdaten'!G114))","v":3.5300000000000007},{"$f":"IF(IF(ControlPanel!$T$5=\"nominal\",'GrD-Grafikdaten'!H103,'GrD-Grafikdaten'!H114)<0,0,IF(ControlPanel!$T$5=\"nominal\",'GrD-Grafikdaten'!H103,'GrD-Grafikdaten'!H114))","v":3.5920000000000005},{"$f":"IF(IF(ControlPanel!$T$5=\"nominal\",'GrD-Grafikdaten'!I103,'GrD-Grafikdaten'!I114)<0,0,IF(ControlPanel!$T$5=\"nominal\",'GrD-Grafikdaten'!I103,'GrD-Grafikdaten'!I114))","v":5.2769999999999992},{"$f":"IF(IF(ControlPanel!$T$5=\"nominal\",'GrD-Grafikdaten'!J103,'GrD-Grafikdaten'!J114)<0,0,IF(ControlPanel!$T$5=\"nominal\",'GrD-Grafikdaten'!J103,'GrD-Grafikdaten'!J114))","v":6.2399999999999993},{"$f":"IF(IF(ControlPanel!$T$5=\"nominal\",'GrD-Grafikdaten'!K103,'GrD-Grafikdaten'!K114)<0,0,IF(ControlPanel!$T$5=\"nominal\",'GrD-Grafikdaten'!K103,'GrD-Grafikdaten'!K114))","v":6.1695706877643843},{"$f":"IF(IF(ControlPanel!$T$5=\"nominal\",'GrD-Grafikdaten'!L103,'GrD-Grafikdaten'!L114)<0,0,IF(ControlPanel!$T$5=\"nominal\",'GrD-Grafikdaten'!L103,'GrD-Grafikdaten'!L114))","v":6.3383111725365717},{"$f":"IF(IF(ControlPanel!$T$5=\"nominal\",'GrD-Grafikdaten'!M103,'GrD-Grafikdaten'!M114)<0,0,IF(ControlPanel!$T$5=\"nominal\",'GrD-Grafikdaten'!M103,'GrD-Grafikdaten'!M114))","v":6.8602600831698846},{"$f":"IF(IF(ControlPanel!$T$5=\"nominal\",'GrD-Grafikdaten'!N103,'GrD-Grafikdaten'!N114)<0,0,IF(ControlPanel!$T$5=\"nominal\",'GrD-Grafikdaten'!N103,'GrD-Grafikdaten'!N114))","v":6.7788352248337613},{"$f":"IF(IF(ControlPanel!$T$5=\"nominal\",'GrD-Grafikdaten'!O103,'GrD-Grafikdaten'!O114)<0,0,IF(ControlPanel!$T$5=\"nominal\",'GrD-Grafikdaten'!O103,'GrD-Grafikdaten'!O114))","v":6.406581826229905},{"$f":"IF(IF(ControlPanel!$T$5=\"nominal\",'GrD-Grafikdaten'!P103,'GrD-Grafikdaten'!P114)<0,0,IF(ControlPanel!$T$5=\"nominal\",'GrD-Grafikdaten'!P103,'GrD-Grafikdaten'!P114))","v":6.7581163138201807},{"$f":"IF(IF(ControlPanel!$T$5=\"nominal\",'GrD-Grafikdaten'!Q103,'GrD-Grafikdaten'!Q114)<0,0,IF(ControlPanel!$T$5=\"nominal\",'GrD-Grafikdaten'!Q103,'GrD-Grafikdaten'!Q114))","v":6.5036153637169205},{"$f":"IF(IF(ControlPanel!$T$5=\"nominal\",'GrD-Grafikdaten'!R103,'GrD-Grafikdaten'!R114)<0,0,IF(ControlPanel!$T$5=\"nominal\",'GrD-Grafikdaten'!R103,'GrD-Grafikdaten'!R114))","v":4.272216637741538},{"$f":"IF(IF(ControlPanel!$T$5=\"nominal\",'GrD-Grafikdaten'!S103,'GrD-Grafikdaten'!S114)<0,0,IF(ControlPanel!$T$5=\"nominal\",'GrD-Grafikdaten'!S103,'GrD-Grafikdaten'!S114))","v":4.3097166630738721},{"$f":"IF(IF(ControlPanel!$T$5=\"nominal\",'GrD-Grafikdaten'!T103,'GrD-Grafikdaten'!T114)<0,0,IF(ControlPanel!$T$5=\"nominal\",'GrD-Grafikdaten'!T103,'GrD-Grafikdaten'!T114))","v":4.0140943880966908},{"$f":"IF(IF(ControlPanel!$T$5=\"nominal\",'GrD-Grafikdaten'!U103,'GrD-Grafikdaten'!U114)<0,0,IF(ControlPanel!$T$5=\"nominal\",'GrD-Grafikdaten'!U103,'GrD-Grafikdaten'!U114))","v":3.379770582274936},{"$f":"IF(IF(ControlPanel!$T$5=\"nominal\",'GrD-Grafikdaten'!V103,'GrD-Grafikdaten'!V114)<0,0,IF(ControlPanel!$T$5=\"nominal\",'GrD-Grafikdaten'!V103,'GrD-Grafikdaten'!V114))","v":2.9252161552923015},{"$f":"IF(IF(ControlPanel!$T$5=\"nominal\",'GrD-Grafikdaten'!W103,'GrD-Grafikdaten'!W114)<0,0,IF(ControlPanel!$T$5=\"nominal\",'GrD-Grafikdaten'!W103,'GrD-Grafikdaten'!W114))","v":2.384466052710402},{"$f":"IF(IF(ControlPanel!$T$5=\"nominal\",'GrD-Grafikdaten'!X103,'GrD-Grafikdaten'!X114)<0,0,IF(ControlPanel!$T$5=\"nominal\",'GrD-Grafikdaten'!X103,'GrD-Grafikdaten'!X114))","v":1.9873287718738313},{"$f":"IF(IF(ControlPanel!$T$5=\"nominal\",'GrD-Grafikdaten'!Y103,'GrD-Grafikdaten'!Y114)<0,0,IF(ControlPanel!$T$5=\"nominal\",'GrD-Grafikdaten'!Y103,'GrD-Grafikdaten'!Y114))","v":1.6205314358430076},{"$f":"IF(IF(ControlPanel!$T$5=\"nominal\",'GrD-Grafikdaten'!Z103,'GrD-Grafikdaten'!Z114)<0,0,IF(ControlPanel!$T$5=\"nominal\",'GrD-Grafikdaten'!Z103,'GrD-Grafikdaten'!Z114))","v":1.1351683324450654},{"$f":"IF(IF(ControlPanel!$T$5=\"nominal\",'GrD-Grafikdaten'!AA103,'GrD-Grafikdaten'!AA114)<0,0,IF(ControlPanel!$T$5=\"nominal\",'GrD-Grafikdaten'!AA103,'GrD-Grafikdaten'!AA114))","v":0.47782641133551845},{"$f":"IF(IF(ControlPanel!$T$5=\"nominal\",'GrD-Grafikdaten'!AB103,'GrD-Grafikdaten'!AB114)<0,0,IF(ControlPanel!$T$5=\"nominal\",'GrD-Grafikdaten'!AB103,'GrD-Grafikdaten'!AB114))","v":0},{"$f":"IF(IF(ControlPanel!$T$5=\"nominal\",'GrD-Grafikdaten'!AC103,'GrD-Grafikdaten'!AC114)<0,0,IF(ControlPanel!$T$5=\"nominal\",'GrD-Grafikdaten'!AC103,'GrD-Grafikdaten'!AC114))","v":0},{"$f":"IF(IF(ControlPanel!$T$5=\"nominal\",'GrD-Grafikdaten'!AD103,'GrD-Grafikdaten'!AD114)<0,0,IF(ControlPanel!$T$5=\"nominal\",'GrD-Grafikdaten'!AD103,'GrD-Grafikdaten'!AD114))","v":0},{"$f":"IF(IF(ControlPanel!$T$5=\"nominal\",'GrD-Grafikdaten'!AE103,'GrD-Grafikdaten'!AE114)<0,0,IF(ControlPanel!$T$5=\"nominal\",'GrD-Grafikdaten'!AE103,'GrD-Grafikdaten'!AE114))","v":0},{"$f":"IF(IF(ControlPanel!$T$5=\"nominal\",'GrD-Grafikdaten'!AF103,'GrD-Grafikdaten'!AF114)<0,0,IF(ControlPanel!$T$5=\"nominal\",'GrD-Grafikdaten'!AF103,'GrD-Grafikdaten'!AF114))","v":0},{"$f":"IF(IF(ControlPanel!$T$5=\"nominal\",'GrD-Grafikdaten'!AG103,'GrD-Grafikdaten'!AG114)<0,0,IF(ControlPanel!$T$5=\"nominal\",'GrD-Grafikdaten'!AG103,'GrD-Grafikdaten'!AG114))","v":0}]
[123,null,null,null,"Umlage (Prognose)",{"$f":"IF(IF(ControlPanel!$T$5=\"nominal\",'GrD-Grafikdaten'!F104,'GrD-Grafikdaten'!F115)<0,0,IF(ControlPanel!$T$5=\"nominal\",'GrD-Grafikdaten'!F104,'GrD-Grafikdaten'!F115))","v":2.0469999999999997},{"$f":"IF(IF(ControlPanel!$T$5=\"nominal\",'GrD-Grafikdaten'!G104,'GrD-Grafikdaten'!G115)<0,0,IF(ControlPanel!$T$5=\"nominal\",'GrD-Grafikdaten'!G104,'GrD-Grafikdaten'!G115))","v":3.5300000000000007},{"$f":"IF(IF(ControlPanel!$T$5=\"nominal\",'GrD-Grafikdaten'!H104,'GrD-Grafikdaten'!H115)<0,0,IF(ControlPanel!$T$5=\"nominal\",'GrD-Grafikdaten'!H104,'GrD-Grafikdaten'!H115))","v":3.5920000000000005},{"$f":"IF(IF(ControlPanel!$T$5=\"nominal\",'GrD-Grafikdaten'!I104,'GrD-Grafikdaten'!I115)<0,0,IF(ControlPanel!$T$5=\"nominal\",'GrD-Grafikdaten'!I104,'GrD-Grafikdaten'!I115))","v":5.2769999999999992},{"$f":"IF(IF(ControlPanel!$T$5=\"nominal\",'GrD-Grafikdaten'!J104,'GrD-Grafikdaten'!J115)<0,0,IF(ControlPanel!$T$5=\"nominal\",'GrD-Grafikdaten'!J104,'GrD-Grafikdaten'!J115))","v":6.2399999999999993},{"$f":"IF(IF(ControlPanel!$T$5=\"nominal\",'GrD-Grafikdaten'!K104,'GrD-Grafikdaten'!K115)<0,0,IF(ControlPanel!$T$5=\"nominal\",'GrD-Grafikdaten'!K104,'GrD-Grafikdaten'!K115))","v":6.1695706877643843},{"$f":"IF(IF(ControlPanel!$T$5=\"nominal\",'GrD-Grafikdaten'!L104,'GrD-Grafikdaten'!L115)<0,0,IF(ControlPanel!$T$5=\"nominal\",'GrD-Grafikdaten'!L104,'GrD-Grafikdaten'!L115))","v":6.3383111725365717},{"$f":"IF(IF(ControlPanel!$T$5=\"nominal\",'GrD-Grafikdaten'!M104,'GrD-Grafikdaten'!M115)<0,0,IF(ControlPanel!$T$5=\"nominal\",'GrD-Grafikdaten'!M104,'GrD-Grafikdaten'!M115))","v":6.8602600831698846},{"$f":"IF(IF(ControlPanel!$T$5=\"nominal\",'GrD-Grafikdaten'!N104,'GrD-Grafikdaten'!N115)<0,0,IF(ControlPanel!$T$5=\"nominal\",'GrD-Grafikdaten'!N104,'GrD-Grafikdaten'!N115))","v":6.7788352248337613},{"$f":"IF(IF(ControlPanel!$T$5=\"nominal\",'GrD-Grafikdaten'!O104,'GrD-Grafikdaten'!O115)<0,0,IF(ControlPanel!$T$5=\"nominal\",'GrD-Grafikdaten'!O104,'GrD-Grafikdaten'!O115))","v":6.406581826229905},{"$f":"IF(IF(ControlPanel!$T$5=\"nominal\",'GrD-Grafikdaten'!P104,'GrD-Grafikdaten'!P115)<0,0,IF(ControlPanel!$T$5=\"nominal\",'GrD-Grafikdaten'!P104,'GrD-Grafikdaten'!P115))","v":6.7581163138201807},{"$f":"IF(IF(ControlPanel!$T$5=\"nominal\",'GrD-Grafikdaten'!Q104,'GrD-Grafikdaten'!Q115)<0,0,IF(ControlPanel!$T$5=\"nominal\",'GrD-Grafikdaten'!Q104,'GrD-Grafikdaten'!Q115))","v":6.5036153637169205},{"$f":"IF(IF(ControlPanel!$T$5=\"nominal\",'GrD-Grafikdaten'!R104,'GrD-Grafikdaten'!R115)<0,0,IF(ControlPanel!$T$5=\"nominal\",'GrD-Grafikdaten'!R104,'GrD-Grafikdaten'!R115))","v":4.272216637741538},{"$f":"IF(IF(ControlPanel!$T$5=\"nominal\",'GrD-Grafikdaten'!S104,'GrD-Grafikdaten'!S115)<0,0,IF(ControlPanel!$T$5=\"nominal\",'GrD-Grafikdaten'!S104,'GrD-Grafikdaten'!S115))","v":4.3097166630738721},{"$f":"IF(IF(ControlPanel!$T$5=\"nominal\",'GrD-Grafikdaten'!T104,'GrD-Grafikdaten'!T115)<0,0,IF(ControlPanel!$T$5=\"nominal\",'GrD-Grafikdaten'!T104,'GrD-Grafikdaten'!T115))","v":4.0140943880966908},{"$f":"IF(IF(ControlPanel!$T$5=\"nominal\",'GrD-Grafikdaten'!U104,'GrD-Grafikdaten'!U115)<0,0,IF(ControlPanel!$T$5=\"nominal\",'GrD-Grafikdaten'!U104,'GrD-Grafikdaten'!U115))","v":3.379770582274936},{"$f":"IF(IF(ControlPanel!$T$5=\"nominal\",'GrD-Grafikdaten'!V104,'GrD-Grafikdaten'!V115)<0,0,IF(ControlPanel!$T$5=\"nominal\",'GrD-Grafikdaten'!V104,'GrD-Grafikdaten'!V115))","v":2.9252161552923015},{"$f":"IF(IF(ControlPanel!$T$5=\"nominal\",'GrD-Grafikdaten'!W104,'GrD-Grafikdaten'!W115)<0,0,IF(ControlPanel!$T$5=\"nominal\",'GrD-Grafikdaten'!W104,'GrD-Grafikdaten'!W115))","v":2.384466052710402},{"$f":"IF(IF(ControlPanel!$T$5=\"nominal\",'GrD-Grafikdaten'!X104,'GrD-Grafikdaten'!X115)<0,0,IF(ControlPanel!$T$5=\"nominal\",'GrD-Grafikdaten'!X104,'GrD-Grafikdaten'!X115))","v":1.9873287718738313},{"$f":"IF(IF(ControlPanel!$T$5=\"nominal\",'GrD-Grafikdaten'!Y104,'GrD-Grafikdaten'!Y115)<0,0,IF(ControlPanel!$T$5=\"nominal\",'GrD-Grafikdaten'!Y104,'GrD-Grafikdaten'!Y115))","v":1.6205314358430076},{"$f":"IF(IF(ControlPanel!$T$5=\"nominal\",'GrD-Grafikdaten'!Z104,'GrD-Grafikdaten'!Z115)<0,0,IF(ControlPanel!$T$5=\"nominal\",'GrD-Grafikdaten'!Z104,'GrD-Grafikdaten'!Z115))","v":1.1351683324450654},{"$f":"IF(IF(ControlPanel!$T$5=\"nominal\",'GrD-Grafikdaten'!AA104,'GrD-Grafikdaten'!AA115)<0,0,IF(ControlPanel!$T$5=\"nominal\",'GrD-Grafikdaten'!AA104,'GrD-Grafikdaten'!AA115))","v":0.47782641133551845},{"$f":"IF(IF(ControlPanel!$T$5=\"nominal\",'GrD-Grafikdaten'!AB104,'GrD-Grafikdaten'!AB115)<0,0,IF(ControlPanel!$T$5=\"nominal\",'GrD-Grafikdaten'!AB104,'GrD-Grafikdaten'!AB115))","v":0},{"$f":"IF(IF(ControlPanel!$T$5=\"nominal\",'GrD-Grafikdaten'!AC104,'GrD-Grafikdaten'!AC115)<0,0,IF(ControlPanel!$T$5=\"nominal\",'GrD-Grafikdaten'!AC104,'GrD-Grafikdaten'!AC115))","v":0},{"$f":"IF(IF(ControlPanel!$T$5=\"nominal\",'GrD-Grafikdaten'!AD104,'GrD-Grafikdaten'!AD115)<0,0,IF(ControlPanel!$T$5=\"nominal\",'GrD-Grafikdaten'!AD104,'GrD-Grafikdaten'!AD115))","v":0},{"$f":"IF(IF(ControlPanel!$T$5=\"nominal\",'GrD-Grafikdaten'!AE104,'GrD-Grafikdaten'!AE115)<0,0,IF(ControlPanel!$T$5=\"nominal\",'GrD-Grafikdaten'!AE104,'GrD-Grafikdaten'!AE115))","v":0},{"$f":"IF(IF(ControlPanel!$T$5=\"nominal\",'GrD-Grafikdaten'!AF104,'GrD-Grafikdaten'!AF115)<0,0,IF(ControlPanel!$T$5=\"nominal\",'GrD-Grafikdaten'!AF104,'GrD-Grafikdaten'!AF115))","v":0},{"$f":"IF(IF(ControlPanel!$T$5=\"nominal\",'GrD-Grafikdaten'!AG104,'GrD-Grafikdaten'!AG115)<0,0,IF(ControlPanel!$T$5=\"nominal\",'GrD-Grafikdaten'!AG104,'GrD-Grafikdaten'!AG115))","v":0}]
[124,null,null,null,"test",{"$f":"SUM(F118:F124)-F126","v":4.1764188180071216E-4},{"$f":"SUM(G118:G124)-G126","v":7.0007414884143415E-4},-9.2723028694274845E-4,4.497458025598533E-4,-2.0789464811699077E-4,-1.0249847325095374E-2,4.2178914267969603E-3,-1.6805118881348946E-3,-3.5946610070283214E-3,0,5.9634509563730731E-3,-1.7422392312402835E-3,0,0,0,0,0,0,0,0,0,0,-9.7010679131812161E-2,-0.38191694965343026,-0.41347390183558669,-0.12285987283779981]
[125]
[126]
[127]
[128,null,null,null,"Differenz zu Referenz-Szenario (ct/kWh, Mrd. Euro) für Ergebnistabelle"]
[129,null,null,null,"Umlage",{"$f":"IF(ControlPanel!$T$5=\"nominal\",F52-F8,F70-F26)","v":0},{"$f":"IF(ControlPanel!$T$5=\"nominal\",G52-G8,G70-G26)","v":0},{"$f":"IF(ControlPanel!$T$5=\"nominal\",H52-H8,H70-H26)","v":0},{"$f":"IF(ControlPanel!$T$5=\"nominal\",I52-I8,I70-I26)","v":0},{"$f":"IF(ControlPanel!$T$5=\"nominal\",J52-J8,J70-J26)","v":0},{"$f":"IF(ControlPanel!$T$5=\"nominal\",K52-K8,K70-K26)","v":0},{"$f":"IF(ControlPanel!$T$5=\"nominal\",L52-L8,L70-L26)","v":0},{"$f":"IF(ControlPanel!$T$5=\"nominal\",M52-M8,M70-M26)","v":0},{"$f":"IF(ControlPanel!$T$5=\"nominal\",N52-N8,N70-N26)","v":0},{"$f":"IF(ControlPanel!$T$5=\"nominal\",O52-O8,O70-O26)","v":0},{"$f":"IF(ControlPanel!$T$5=\"nominal\",P52-P8,P70-P26)","v":0},{"$f":"IF(ControlPanel!$T$5=\"nominal\",Q52-Q8,Q70-Q26)","v":0},{"$f":"IF(ControlPanel!$T$5=\"nominal\",R52-R8,R70-R26)","v":0},{"$f":"IF(ControlPanel!$T$5=\"nominal\",S52-S8,S70-S26)","v":0},{"$f":"IF(ControlPanel!$T$5=\"nominal\",T52-T8,T70-T26)","v":0},{"$f":"IF(ControlPanel!$T$5=\"nominal\",U52-U8,U70-U26)","v":0},{"$f":"IF(ControlPanel!$T$5=\"nominal\",V52-V8,V70-V26)","v":0},{"$f":"IF(ControlPanel!$T$5=\"nominal\",W52-W8,W70-W26)","v":0},{"$f":"IF(ControlPanel!$T$5=\"nominal\",X52-X8,X70-X26)","v":0},{"$f":"IF(ControlPanel!$T$5=\"nominal\",Y52-Y8,Y70-Y26)","v":0},{"$f":"IF(ControlPanel!$T$5=\"nominal\",Z52-Z8,Z70-Z26)","v":0},{"$f":"IF(ControlPanel!$T$5=\"nominal\",AA52-AA8,AA70-AA26)","v":0},{"$f":"IF(ControlPanel!$T$5=\"nominal\",AB52-AB8,AB70-AB26)","v":0},{"$f":"IF(ControlPanel!$T$5=\"nominal\",AC52-AC8,AC70-AC26)","v":0},{"$f":"IF(ControlPanel!$T$5=\"nominal\",AD52-AD8,AD70-AD26)","v":0},{"$f":"IF(ControlPanel!$T$5=\"nominal\",AE52-AE8,AE70-AE26)","v":0},null,"v2.1.19","Je nach Schalterstellung werden nominale oder reale Werte verwendet"]
[130,null,null,null,"Förderung Wasser",{"$f":"IF(ControlPanel!$T$5=\"nominal\",F53-F9,F71-F27)","v":0},{"$f":"IF(ControlPanel!$T$5=\"nominal\",G53-G9,G71-G27)","v":0},{"$f":"IF(ControlPanel!$T$5=\"nominal\",H53-H9,H71-H27)","v":0},{"$f":"IF(ControlPanel!$T$5=\"nominal\",I53-I9,I71-I27)","v":0},{"$f":"IF(ControlPanel!$T$5=\"nominal\",J53-J9,J71-J27)","v":0},{"$f":"IF(ControlPanel!$T$5=\"nominal\",K53-K9,K71-K27)","v":0},{"$f":"IF(ControlPanel!$T$5=\"nominal\",L53-L9,L71-L27)","v":0},{"$f":"IF(ControlPanel!$T$5=\"nominal\",M53-M9,M71-M27)","v":0},{"$f":"IF(ControlPanel!$T$5=\"nominal\",N53-N9,N71-N27)","v":0},{"$f":"IF(ControlPanel!$T$5=\"nominal\",O53-O9,O71-O27)","v":0},{"$f":"IF(ControlPanel!$T$5=\"nominal\",P53-P9,P71-P27)","v":0},{"$f":"IF(ControlPanel!$T$5=\"nominal\",Q53-Q9,Q71-Q27)","v":0},{"$f":"IF(ControlPanel!$T$5=\"nominal\",R53-R9,R71-R27)","v":0},{"$f":"IF(ControlPanel!$T$5=\"nominal\",S53-S9,S71-S27)","v":0},{"$f":"IF(ControlPanel!$T$5=\"nominal\",T53-T9,T71-T27)","v":0},{"$f":"IF(ControlPanel!$T$5=\"nominal\",U53-U9,U71-U27)","v":0},{"$f":"IF(ControlPanel!$T$5=\"nominal\",V53-V9,V71-V27)","v":0},{"$f":"IF(ControlPanel!$T$5=\"nominal\",W53-W9,W71-W27)","v":0},{"$f":"IF(ControlPanel!$T$5=\"nominal\",X53-X9,X71-X27)","v":0},{"$f":"IF(ControlPanel!$T$5=\"nominal\",Y53-Y9,Y71-Y27)","v":0},{"$f":"IF(ControlPanel!$T$5=\"nominal\",Z53-Z9,Z71-Z27)","v":0},{"$f":"IF(ControlPanel!$T$5=\"nominal\",AA53-AA9,AA71-AA27)","v":0},{"$f":"IF(ControlPanel!$T$5=\"nominal\",AB53-AB9,AB71-AB27)","v":0},{"$f":"IF(ControlPanel!$T$5=\"nominal\",AC53-AC9,AC71-AC27)","v":0},{"$f":"IF(ControlPanel!$T$5=\"nominal\",AD53-AD9,AD71-AD27)","v":0},{"$f":"IF(ControlPanel!$T$5=\"nominal\",AE53-AE9,AE71-AE27)","v":0},null,"v2.1.19"]
[131,null,null,null,"Förderung Gase",{"$f":"IF(ControlPanel!$T$5=\"nominal\",F54-F10,F72-F28)","v":0},{"$f":"IF(ControlPanel!$T$5=\"nominal\",G54-G10,G72-G28)","v":0},{"$f":"IF(ControlPanel!$T$5=\"nominal\",H54-H10,H72-H28)","v":0},{"$f":"IF(ControlPanel!$T$5=\"nominal\",I54-I10,I72-I28)","v":0},{"$f":"IF(ControlPanel!$T$5=\"nominal\",J54-J10,J72-J28)","v":0},{"$f":"IF(ControlPanel!$T$5=\"nominal\",K54-K10,K72-K28)","v":0},{"$f":"IF(ControlPanel!$T$5=\"nominal\",L54-L10,L72-L28)","v":0},{"$f":"IF(ControlPanel!$T$5=\"nominal\",M54-M10,M72-M28)","v":0},{"$f":"IF(ControlPanel!$T$5=\"nominal\",N54-N10,N72-N28)","v":0},{"$f":"IF(ControlPanel!$T$5=\"nominal\",O54-O10,O72-O28)","v":0},{"$f":"IF(ControlPanel!$T$5=\"nominal\",P54-P10,P72-P28)","v":0},{"$f":"IF(ControlPanel!$T$5=\"nominal\",Q54-Q10,Q72-Q28)","v":0},{"$f":"IF(ControlPanel!$T$5=\"nominal\",R54-R10,R72-R28)","v":0},{"$f":"IF(ControlPanel!$T$5=\"nominal\",S54-S10,S72-S28)","v":0},{"$f":"IF(ControlPanel!$T$5=\"nominal\",T54-T10,T72-T28)","v":0},{"$f":"IF(ControlPanel!$T$5=\"nominal\",U54-U10,U72-U28)","v":0},{"$f":"IF(ControlPanel!$T$5=\"nominal\",V54-V10,V72-V28)","v":0},{"$f":"IF(ControlPanel!$T$5=\"nominal\",W54-W10,W72-W28)","v":0},{"$f":"IF(ControlPanel!$T$5=\"nominal\",X54-X10,X72-X28)","v":0},{"$f":"IF(ControlPanel!$T$5=\"nominal\",Y54-Y10,Y72-Y28)","v":0},{"$f":"IF(ControlPanel!$T$5=\"nominal\",Z54-Z10,Z72-Z28)","v":0},{"$f":"IF(ControlPanel!$T$5=\"nominal\",AA54-AA10,AA72-AA28)","v":0},{"$f":"IF(ControlPanel!$T$5=\"nominal\",AB54-AB10,AB72-AB28)","v":0},{"$f":"IF(ControlPanel!$T$5=\"nominal\",AC54-AC10,AC72-AC28)","v":0},{"$f":"IF(ControlPanel!$T$5=\"nominal\",AD54-AD10,AD72-AD28)","v":0},{"$f":"IF(ControlPanel!$T$5=\"nominal\",AE54-AE10,AE72-AE28)","v":0},null,"v2.1.19"]
[132,null,null,null,"Förderung Biomasse",{"$f":"IF(ControlPanel!$T$5=\"nominal\",F55-F11,F73-F29)","v":0},{"$f":"IF(ControlPanel!$T$5=\"nominal\",G55-G11,G73-G29)","v":0},{"$f":"IF(ControlPanel!$T$5=\"nominal\",H55-H11,H73-H29)","v":0},{"$f":"IF(ControlPanel!$T$5=\"nominal\",I55-I11,I73-I29)","v":0},{"$f":"IF(ControlPanel!$T$5=\"nominal\",J55-J11,J73-J29)","v":0},{"$f":"IF(ControlPanel!$T$5=\"nominal\",K55-K11,K73-K29)","v":0},{"$f":"IF(ControlPanel!$T$5=\"nominal\",L55-L11,L73-L29)","v":0},{"$f":"IF(ControlPanel!$T$5=\"nominal\",M55-M11,M73-M29)","v":0},{"$f":"IF(ControlPanel!$T$5=\"nominal\",N55-N11,N73-N29)","v":0},{"$f":"IF(ControlPanel!$T$5=\"nominal\",O55-O11,O73-O29)","v":0},{"$f":"IF(ControlPanel!$T$5=\"nominal\",P55-P11,P73-P29)","v":0},{"$f":"IF(ControlPanel!$T$5=\"nominal\",Q55-Q11,Q73-Q29)","v":0},{"$f":"IF(ControlPanel!$T$5=\"nominal\",R55-R11,R73-R29)","v":0},{"$f":"IF(ControlPanel!$T$5=\"nominal\",S55-S11,S73-S29)","v":0},{"$f":"IF(ControlPanel!$T$5=\"nominal\",T55-T11,T73-T29)","v":0},{"$f":"IF(ControlPanel!$T$5=\"nominal\",U55-U11,U73-U29)","v":0},{"$f":"IF(ControlPanel!$T$5=\"nominal\",V55-V11,V73-V29)","v":0},{"$f":"IF(ControlPanel!$T$5=\"nominal\",W55-W11,W73-W29)","v":0},{"$f":"IF(ControlPanel!$T$5=\"nominal\",X55-X11,X73-X29)","v":0},{"$f":"IF(ControlPanel!$T$5=\"nominal\",Y55-Y11,Y73-Y29)","v":0},{"$f":"IF(ControlPanel!$T$5=\"nominal\",Z55-Z11,Z73-Z29)","v":0},{"$f":"IF(ControlPanel!$T$5=\"nominal\",AA55-AA11,AA73-AA29)","v":0},{"$f":"IF(ControlPanel!$T$5=\"nominal\",AB55-AB11,AB73-AB29)","v":0},{"$f":"IF(ControlPanel!$T$5=\"nominal\",AC55-AC11,AC73-AC29)","v":0},{"$f":"IF(ControlPanel!$T$5=\"nominal\",AD55-AD11,AD73-AD29)","v":0},{"$f":"IF(ControlPanel!$T$5=\"nominal\",AE55-AE11,AE73-AE29)","v":0},null,"v2.1.19"]
[133,null,null,null,"Förderung Geothermie",{"$f":"IF(ControlPanel!$T$5=\"nominal\",F56-F12,F74-F30)","v":0},{"$f":"IF(ControlPanel!$T$5=\"nominal\",G56-G12,G74-G30)","v":0},{"$f":"IF(ControlPanel!$T$5=\"nominal\",H56-H12,H74-H30)","v":0},{"$f":"IF(ControlPanel!$T$5=\"nominal\",I56-I12,I74-I30)","v":0},{"$f":"IF(ControlPanel!$T$5=\"nominal\",J56-J12,J74-J30)","v":0},{"$f":"IF(ControlPanel!$T$5=\"nominal\",K56-K12,K74-K30)","v":0},{"$f":"IF(ControlPanel!$T$5=\"nominal\",L56-L12,L74-L30)","v":0},{"$f":"IF(ControlPanel!$T$5=\"nominal\",M56-M12,M74-M30)","v":0},{"$f":"IF(ControlPanel!$T$5=\"nominal\",N56-N12,N74-N30)","v":0},{"$f":"IF(ControlPanel!$T$5=\"nominal\",O56-O12,O74-O30)","v":0},{"$f":"IF(ControlPanel!$T$5=\"nominal\",P56-P12,P74-P30)","v":0},{"$f":"IF(ControlPanel!$T$5=\"nominal\",Q56-Q12,Q74-Q30)","v":0},{"$f":"IF(ControlPanel!$T$5=\"nominal\",R56-R12,R74-R30)","v":0},{"$f":"IF(ControlPanel!$T$5=\"nominal\",S56-S12,S74-S30)","v":0},{"$f":"IF(ControlPanel!$T$5=\"nominal\",T56-T12,T74-T30)","v":0},{"$f":"IF(ControlPanel!$T$5=\"nominal\",U56-U12,U74-U30)","v":0},{"$f":"IF(ControlPanel!$T$5=\"nominal\",V56-V12,V74-V30)","v":0},{"$f":"IF(ControlPanel!$T$5=\"nominal\",W56-W12,W74-W30)","v":0},{"$f":"IF(ControlPanel!$T$5=\"nominal\",X56-X12,X74-X30)","v":0},{"$f":"IF(ControlPanel!$T$5=\"nominal\",Y56-Y12,Y74-Y30)","v":0},{"$f":"IF(ControlPanel!$T$5=\"nominal\",Z56-Z12,Z74-Z30)","v":0},{"$f":"IF(ControlPanel!$T$5=\"nominal\",AA56-AA12,AA74-AA30)","v":0},{"$f":"IF(ControlPanel!$T$5=\"nominal\",AB56-AB12,AB74-AB30)","v":0},{"$f":"IF(ControlPanel!$T$5=\"nominal\",AC56-AC12,AC74-AC30)","v":0},{"$f":"IF(ControlPanel!$T$5=\"nominal\",AD56-AD12,AD74-AD30)","v":0},{"$f":"IF(ControlPanel!$T$5=\"nominal\",AE56-AE12,AE74-AE30)","v":0},null,"v2.1.19"]
[134,null,null,null,"Förderung Wind Onshore",{"$f":"IF(ControlPanel!$T$5=\"nominal\",F57-F13,F75-F31)","v":0},{"$f":"IF(ControlPanel!$T$5=\"nominal\",G57-G13,G75-G31)","v":0},{"$f":"IF(ControlPanel!$T$5=\"nominal\",H57-H13,H75-H31)","v":0},{"$f":"IF(ControlPanel!$T$5=\"nominal\",I57-I13,I75-I31)","v":0},{"$f":"IF(ControlPanel!$T$5=\"nominal\",J57-J13,J75-J31)","v":0},{"$f":"IF(ControlPanel!$T$5=\"nominal\",K57-K13,K75-K31)","v":0},{"$f":"IF(ControlPanel!$T$5=\"nominal\",L57-L13,L75-L31)","v":0},{"$f":"IF(ControlPanel!$T$5=\"nominal\",M57-M13,M75-M31)","v":0},{"$f":"IF(ControlPanel!$T$5=\"nominal\",N57-N13,N75-N31)","v":0},{"$f":"IF(ControlPanel!$T$5=\"nominal\",O57-O13,O75-O31)","v":0},{"$f":"IF(ControlPanel!$T$5=\"nominal\",P57-P13,P75-P31)","v":0},{"$f":"IF(ControlPanel!$T$5=\"nominal\",Q57-Q13,Q75-Q31)","v":0},{"$f":"IF(ControlPanel!$T$5=\"nominal\",R57-R13,R75-R31)","v":0},{"$f":"IF(ControlPanel!$T$5=\"nominal\",S57-S13,S75-S31)","v":0},{"$f":"IF(ControlPanel!$T$5=\"nominal\",T57-T13,T75-T31)","v":0},{"$f":"IF(ControlPanel!$T$5=\"nominal\",U57-U13,U75-U31)","v":0},{"$f":"IF(ControlPanel!$T$5=\"nominal\",V57-V13,V75-V31)","v":0},{"$f":"IF(ControlPanel!$T$5=\"nominal\",W57-W13,W75-W31)","v":0},{"$f":"IF(ControlPanel!$T$5=\"nominal\",X57-X13,X75-X31)","v":0},{"$f":"IF(ControlPanel!$T$5=\"nominal\",Y57-Y13,Y75-Y31)","v":0},{"$f":"IF(ControlPanel!$T$5=\"nominal\",Z57-Z13,Z75-Z31)","v":0},{"$f":"IF(ControlPanel!$T$5=\"nominal\",AA57-AA13,AA75-AA31)","v":0},{"$f":"IF(ControlPanel!$T$5=\"nominal\",AB57-AB13,AB75-AB31)","v":0},{"$f":"IF(ControlPanel!$T$5=\"nominal\",AC57-AC13,AC75-AC31)","v":0},{"$f":"IF(ControlPanel!$T$5=\"nominal\",AD57-AD13,AD75-AD31)","v":0},{"$f":"IF(ControlPanel!$T$5=\"nominal\",AE57-AE13,AE75-AE31)","v":0},null,"v2.1.19"]
[135,null,null,null,"Förderung Wind Offshore",{"$f":"IF(ControlPanel!$T$5=\"nominal\",F58-F14,F76-F32)","v":0},{"$f":"IF(ControlPanel!$T$5=\"nominal\",G58-G14,G76-G32)","v":0},{"$f":"IF(ControlPanel!$T$5=\"nominal\",H58-H14,H76-H32)","v":0},{"$f":"IF(ControlPanel!$T$5=\"nominal\",I58-I14,I76-I32)","v":0},{"$f":"IF(ControlPanel!$T$5=\"nominal\",J58-J14,J76-J32)","v":0},{"$f":"IF(ControlPanel!$T$5=\"nominal\",K58-K14,K76-K32)","v":0},{"$f":"IF(ControlPanel!$T$5=\"nominal\",L58-L14,L76-L32)","v":0},{"$f":"IF(ControlPanel!$T$5=\"nominal\",M58-M14,M76-M32)","v":0},{"$f":"IF(ControlPanel!$T$5=\"nominal\",N58-N14,N76-N32)","v":0},{"$f":"IF(ControlPanel!$T$5=\"nominal\",O58-O14,O76-O32)","v":0},{"$f":"IF(ControlPanel!$T$5=\"nominal\",P58-P14,P76-P32)","v":0},{"$f":"IF(ControlPanel!$T$5=\"nominal\",Q58-Q14,Q76-Q32)","v":0},{"$f":"IF(ControlPanel!$T$5=\"nominal\",R58-R14,R76-R32)","v":0},{"$f":"IF(ControlPanel!$T$5=\"nominal\",S58-S14,S76-S32)","v":0},{"$f":"IF(ControlPanel!$T$5=\"nominal\",T58-T14,T76-T32)","v":0},{"$f":"IF(ControlPanel!$T$5=\"nominal\",U58-U14,U76-U32)","v":0},{"$f":"IF(ControlPanel!$T$5=\"nominal\",V58-V14,V76-V32)","v":0},{"$f":"IF(ControlPanel!$T$5=\"nominal\",W58-W14,W76-W32)","v":0},{"$f":"IF(ControlPanel!$T$5=\"nominal\",X58-X14,X76-X32)","v":0},{"$f":"IF(ControlPanel!$T$5=\"nominal\",Y58-Y14,Y76-Y32)","v":0},{"$f":"IF(ControlPanel!$T$5=\"nominal\",Z58-Z14,Z76-Z32)","v":0},{"$f":"IF(ControlPanel!$T$5=\"nominal\",AA58-AA14,AA76-AA32)","v":0},{"$f":"IF(ControlPanel!$T$5=\"nominal\",AB58-AB14,AB76-AB32)","v":0},{"$f":"IF(ControlPanel!$T$5=\"nominal\",AC58-AC14,AC76-AC32)","v":0},{"$f":"IF(ControlPanel!$T$5=\"nominal\",AD58-AD14,AD76-AD32)","v":0},{"$f":"IF(ControlPanel!$T$5=\"nominal\",AE58-AE14,AE76-AE32)","v":0},null,"v2.1.19"]
[136,null,null,null,"Förderung Solar",{"$f":"IF(ControlPanel!$T$5=\"nominal\",F59-F15,F77-F33)","v":0},{"$f":"IF(ControlPanel!$T$5=\"nominal\",G59-G15,G77-G33)","v":0},{"$f":"IF(ControlPanel!$T$5=\"nominal\",H59-H15,H77-H33)","v":0},{"$f":"IF(ControlPanel!$T$5=\"nominal\",I59-I15,I77-I33)","v":0},{"$f":"IF(ControlPanel!$T$5=\"nominal\",J59-J15,J77-J33)","v":0},{"$f":"IF(ControlPanel!$T$5=\"nominal\",K59-K15,K77-K33)","v":0},{"$f":"IF(ControlPanel!$T$5=\"nominal\",L59-L15,L77-L33)","v":0},{"$f":"IF(ControlPanel!$T$5=\"nominal\",M59-M15,M77-M33)","v":0},{"$f":"IF(ControlPanel!$T$5=\"nominal\",N59-N15,N77-N33)","v":0},{"$f":"IF(ControlPanel!$T$5=\"nominal\",O59-O15,O77-O33)","v":0},{"$f":"IF(ControlPanel!$T$5=\"nominal\",P59-P15,P77-P33)","v":0},{"$f":"IF(ControlPanel!$T$5=\"nominal\",Q59-Q15,Q77-Q33)","v":0},{"$f":"IF(ControlPanel!$T$5=\"nominal\",R59-R15,R77-R33)","v":0},{"$f":"IF(ControlPanel!$T$5=\"nominal\",S59-S15,S77-S33)","v":0},{"$f":"IF(ControlPanel!$T$5=\"nominal\",T59-T15,T77-T33)","v":0},{"$f":"IF(ControlPanel!$T$5=\"nominal\",U59-U15,U77-U33)","v":0},{"$f":"IF(ControlPanel!$T$5=\"nominal\",V59-V15,V77-V33)","v":0},{"$f":"IF(ControlPanel!$T$5=\"nominal\",W59-W15,W77-W33)","v":0},{"$f":"IF(ControlPanel!$T$5=\"nominal\",X59-X15,X77-X33)","v":0},{"$f":"IF(ControlPanel!$T$5=\"nominal\",Y59-Y15,Y77-Y33)","v":0},{"$f":"IF(ControlPanel!$T$5=\"nominal\",Z59-Z15,Z77-Z33)","v":0},{"$f":"IF(ControlPanel!$T$5=\"nominal\",AA59-AA15,AA77-AA33)","v":0},{"$f":"IF(ControlPanel!$T$5=\"nominal\",AB59-AB15,AB77-AB33)","v":0},{"$f":"IF(ControlPanel!$T$5=\"nominal\",AC59-AC15,AC77-AC33)","v":0},{"$f":"IF(ControlPanel!$T$5=\"nominal\",AD59-AD15,AD77-AD33)","v":0},{"$f":"IF(ControlPanel!$T$5=\"nominal\",AE59-AE15,AE77-AE33)","v":0},null,"v2.1.19"]
[137,null,null,null,"Belastung nichtprivilegierter Letztverbrauch",{"$f":"IF(ControlPanel!$T$5=\"nominal\",F60-F16,F78-F34)","v":0},{"$f":"IF(ControlPanel!$T$5=\"nominal\",G60-G16,G78-G34)","v":0},{"$f":"IF(ControlPanel!$T$5=\"nominal\",H60-H16,H78-H34)","v":0},{"$f":"IF(ControlPanel!$T$5=\"nominal\",I60-I16,I78-I34)","v":0},{"$f":"IF(ControlPanel!$T$5=\"nominal\",J60-J16,J78-J34)","v":0},{"$f":"IF(ControlPanel!$T$5=\"nominal\",K60-K16,K78-K34)","v":0},{"$f":"IF(ControlPanel!$T$5=\"nominal\",L60-L16,L78-L34)","v":0},{"$f":"IF(ControlPanel!$T$5=\"nominal\",M60-M16,M78-M34)","v":0},{"$f":"IF(ControlPanel!$T$5=\"nominal\",N60-N16,N78-N34)","v":0},{"$f":"IF(ControlPanel!$T$5=\"nominal\",O60-O16,O78-O34)","v":0},{"$f":"IF(ControlPanel!$T$5=\"nominal\",P60-P16,P78-P34)","v":0},{"$f":"IF(ControlPanel!$T$5=\"nominal\",Q60-Q16,Q78-Q34)","v":0},{"$f":"IF(ControlPanel!$T$5=\"nominal\",R60-R16,R78-R34)","v":0},{"$f":"IF(ControlPanel!$T$5=\"nominal\",S60-S16,S78-S34)","v":0},{"$f":"IF(ControlPanel!$T$5=\"nominal\",T60-T16,T78-T34)","v":0},{"$f":"IF(ControlPanel!$T$5=\"nominal\",U60-U16,U78-U34)","v":0},{"$f":"IF(ControlPanel!$T$5=\"nominal\",V60-V16,V78-V34)","v":0},{"$f":"IF(ControlPanel!$T$5=\"nominal\",W60-W16,W78-W34)","v":0},{"$f":"IF(ControlPanel!$T$5=\"nominal\",X60-X16,X78-X34)","v":0},{"$f":"IF(ControlPanel!$T$5=\"nominal\",Y60-Y16,Y78-Y34)","v":0},{"$f":"IF(ControlPanel!$T$5=\"nominal\",Z60-Z16,Z78-Z34)","v":0},{"$f":"IF(ControlPanel!$T$5=\"nominal\",AA60-AA16,AA78-AA34)","v":0},{"$f":"IF(ControlPanel!$T$5=\"nominal\",AB60-AB16,AB78-AB34)","v":0},{"$f":"IF(ControlPanel!$T$5=\"nominal\",AC60-AC16,AC78-AC34)","v":0},{"$f":"IF(ControlPanel!$T$5=\"nominal\",AD60-AD16,AD78-AD34)","v":0},{"$f":"IF(ControlPanel!$T$5=\"nominal\",AE60-AE16,AE78-AE34)","v":0},null,"v2.1.19"]
[138,null,null,null,"Belastung privilegierter Letztverbrauch",{"$f":"IF(ControlPanel!$T$5=\"nominal\",F61-F17,F79-F35)","v":0},{"$f":"IF(ControlPanel!$T$5=\"nominal\",G61-G17,G79-G35)","v":0},{"$f":"IF(ControlPanel!$T$5=\"nominal\",H61-H17,H79-H35)","v":0},{"$f":"IF(ControlPanel!$T$5=\"nominal\",I61-I17,I79-I35)","v":0},{"$f":"IF(ControlPanel!$T$5=\"nominal\",J61-J17,J79-J35)","v":0},{"$f":"IF(ControlPanel!$T$5=\"nominal\",K61-K17,K79-K35)","v":0},{"$f":"IF(ControlPanel!$T$5=\"nominal\",L61-L17,L79-L35)","v":0},{"$f":"IF(ControlPanel!$T$5=\"nominal\",M61-M17,M79-M35)","v":0},{"$f":"IF(ControlPanel!$T$5=\"nominal\",N61-N17,N79-N35)","v":0},{"$f":"IF(ControlPanel!$T$5=\"nominal\",O61-O17,O79-O35)","v":0},{"$f":"IF(ControlPanel!$T$5=\"nominal\",P61-P17,P79-P35)","v":0},{"$f":"IF(ControlPanel!$T$5=\"nominal\",Q61-Q17,Q79-Q35)","v":0},{"$f":"IF(ControlPanel!$T$5=\"nominal\",R61-R17,R79-R35)","v":0},{"$f":"IF(ControlPanel!$T$5=\"nominal\",S61-S17,S79-S35)","v":0},{"$f":"IF(ControlPanel!$T$5=\"nominal\",T61-T17,T79-T35)","v":0},{"$f":"IF(ControlPanel!$T$5=\"nominal\",U61-U17,U79-U35)","v":0},{"$f":"IF(ControlPanel!$T$5=\"nominal\",V61-V17,V79-V35)","v":0},{"$f":"IF(ControlPanel!$T$5=\"nominal\",W61-W17,W79-W35)","v":0},{"$f":"IF(ControlPanel!$T$5=\"nominal\",X61-X17,X79-X35)","v":0},{"$f":"IF(ControlPanel!$T$5=\"nominal\",Y61-Y17,Y79-Y35)","v":0},{"$f":"IF(ControlPanel!$T$5=\"nominal\",Z61-Z17,Z79-Z35)","v":0},{"$f":"IF(ControlPanel!$T$5=\"nominal\",AA61-AA17,AA79-AA35)","v":0},{"$f":"IF(ControlPanel!$T$5=\"nominal\",AB61-AB17,AB79-AB35)","v":0},{"$f":"IF(ControlPanel!$T$5=\"nominal\",AC61-AC17,AC79-AC35)","v":0},{"$f":"IF(ControlPanel!$T$5=\"nominal\",AD61-AD17,AD79-AD35)","v":0},{"$f":"IF(ControlPanel!$T$5=\"nominal\",AE61-AE17,AE79-AE35)","v":0},null,"v2.1.19"]
[139,null,null,null,"Belastung Eigenverbrauch",{"$f":"IF(ControlPanel!$T$5=\"nominal\",F62-F18,F80-F36)","v":0},{"$f":"IF(ControlPanel!$T$5=\"nominal\",G62-G18,G80-G36)","v":0},{"$f":"IF(ControlPanel!$T$5=\"nominal\",H62-H18,H80-H36)","v":0},{"$f":"IF(ControlPanel!$T$5=\"nominal\",I62-I18,I80-I36)","v":0},{"$f":"IF(ControlPanel!$T$5=\"nominal\",J62-J18,J80-J36)","v":0},{"$f":"IF(ControlPanel!$T$5=\"nominal\",K62-K18,K80-K36)","v":0},{"$f":"IF(ControlPanel!$T$5=\"nominal\",L62-L18,L80-L36)","v":0},{"$f":"IF(ControlPanel!$T$5=\"nominal\",M62-M18,M80-M36)","v":0},{"$f":"IF(ControlPanel!$T$5=\"nominal\",N62-N18,N80-N36)","v":0},{"$f":"IF(ControlPanel!$T$5=\"nominal\",O62-O18,O80-O36)","v":0},{"$f":"IF(ControlPanel!$T$5=\"nominal\",P62-P18,P80-P36)","v":0},{"$f":"IF(ControlPanel!$T$5=\"nominal\",Q62-Q18,Q80-Q36)","v":0},{"$f":"IF(ControlPanel!$T$5=\"nominal\",R62-R18,R80-R36)","v":0},{"$f":"IF(ControlPanel!$T$5=\"nominal\",S62-S18,S80-S36)","v":0},{"$f":"IF(ControlPanel!$T$5=\"nominal\",T62-T18,T80-T36)","v":0},{"$f":"IF(ControlPanel!$T$5=\"nominal\",U62-U18,U80-U36)","v":0},{"$f":"IF(ControlPanel!$T$5=\"nominal\",V62-V18,V80-V36)","v":0},{"$f":"IF(ControlPanel!$T$5=\"nominal\",W62-W18,W80-W36)","v":0},{"$f":"IF(ControlPanel!$T$5=\"nominal\",X62-X18,X80-X36)","v":0},{"$f":"IF(ControlPanel!$T$5=\"nominal\",Y62-Y18,Y80-Y36)","v":0},{"$f":"IF(ControlPanel!$T$5=\"nominal\",Z62-Z18,Z80-Z36)","v":0},{"$f":"IF(ControlPanel!$T$5=\"nominal\",AA62-AA18,AA80-AA36)","v":0},{"$f":"IF(ControlPanel!$T$5=\"nominal\",AB62-AB18,AB80-AB36)","v":0},{"$f":"IF(ControlPanel!$T$5=\"nominal\",AC62-AC18,AC80-AC36)","v":0},{"$f":"IF(ControlPanel!$T$5=\"nominal\",AD62-AD18,AD80-AD36)","v":0},{"$f":"IF(ControlPanel!$T$5=\"nominal\",AE62-AE18,AE80-AE36)","v":0},null,"v2.1.19"]
[140,null,null,null,"Strompreis (Future)",{"$f":"IF(ControlPanel!$T$5=\"nominal\",F63-F19,F81-F37)","v":0},{"$f":"IF(ControlPanel!$T$5=\"nominal\",G63-G19,G81-G37)","v":0},{"$f":"IF(ControlPanel!$T$5=\"nominal\",H63-H19,H81-H37)","v":0},{"$f":"IF(ControlPanel!$T$5=\"nominal\",I63-I19,I81-I37)","v":0},{"$f":"IF(ControlPanel!$T$5=\"nominal\",J63-J19,J81-J37)","v":0},{"$f":"IF(ControlPanel!$T$5=\"nominal\",K63-K19,K81-K37)","v":0},{"$f":"IF(ControlPanel!$T$5=\"nominal\",L63-L19,L81-L37)","v":0},{"$f":"IF(ControlPanel!$T$5=\"nominal\",M63-M19,M81-M37)","v":0},{"$f":"IF(ControlPanel!$T$5=\"nominal\",N63-N19,N81-N37)","v":0},{"$f":"IF(ControlPanel!$T$5=\"nominal\",O63-O19,O81-O37)","v":0},{"$f":"IF(ControlPanel!$T$5=\"nominal\",P63-P19,P81-P37)","v":0},{"$f":"IF(ControlPanel!$T$5=\"nominal\",Q63-Q19,Q81-Q37)","v":0},{"$f":"IF(ControlPanel!$T$5=\"nominal\",R63-R19,R81-R37)","v":0},{"$f":"IF(ControlPanel!$T$5=\"nominal\",S63-S19,S81-S37)","v":0},{"$f":"IF(ControlPanel!$T$5=\"nominal\",T63-T19,T81-T37)","v":0},{"$f":"IF(ControlPanel!$T$5=\"nominal\",U63-U19,U81-U37)","v":0},{"$f":"IF(ControlPanel!$T$5=\"nominal\",V63-V19,V81-V37)","v":0},{"$f":"IF(ControlPanel!$T$5=\"nominal\",W63-W19,W81-W37)","v":0},{"$f":"IF(ControlPanel!$T$5=\"nominal\",X63-X19,X81-X37)","v":0},{"$f":"IF(ControlPanel!$T$5=\"nominal\",Y63-Y19,Y81-Y37)","v":0},{"$f":"IF(ControlPanel!$T$5=\"nominal\",Z63-Z19,Z81-Z37)","v":0},{"$f":"IF(ControlPanel!$T$5=\"nominal\",AA63-AA19,AA81-AA37)","v":0},{"$f":"IF(ControlPanel!$T$5=\"nominal\",AB63-AB19,AB81-AB37)","v":0},{"$f":"IF(ControlPanel!$T$5=\"nominal\",AC63-AC19,AC81-AC37)","v":0},{"$f":"IF(ControlPanel!$T$5=\"nominal\",AD63-AD19,AD81-AD37)","v":0},{"$f":"IF(ControlPanel!$T$5=\"nominal\",AE63-AE19,AE81-AE37)","v":0},null,"v2.1.19"]
[141,null,null,null,"Summe Strompreis + Umlage",{"$f":"IF(ControlPanel!$T$5=\"nominal\",F64-F20,F82-F38)","v":0},{"$f":"IF(ControlPanel!$T$5=\"nominal\",G64-G20,G82-G38)","v":0},{"$f":"IF(ControlPanel!$T$5=\"nominal\",H64-H20,H82-H38)","v":0},{"$f":"IF(ControlPanel!$T$5=\"nominal\",I64-I20,I82-I38)","v":0},{"$f":"IF(ControlPanel!$T$5=\"nominal\",J64-J20,J82-J38)","v":0},{"$f":"IF(ControlPanel!$T$5=\"nominal\",K64-K20,K82-K38)","v":0},{"$f":"IF(ControlPanel!$T$5=\"nominal\",L64-L20,L82-L38)","v":0},{"$f":"IF(ControlPanel!$T$5=\"nominal\",M64-M20,M82-M38)","v":0},{"$f":"IF(ControlPanel!$T$5=\"nominal\",N64-N20,N82-N38)","v":0},{"$f":"IF(ControlPanel!$T$5=\"nominal\",O64-O20,O82-O38)","v":0},{"$f":"IF(ControlPanel!$T$5=\"nominal\",P64-P20,P82-P38)","v":0},{"$f":"IF(ControlPanel!$T$5=\"nominal\",Q64-Q20,Q82-Q38)","v":0},{"$f":"IF(ControlPanel!$T$5=\"nominal\",R64-R20,R82-R38)","v":0},{"$f":"IF(ControlPanel!$T$5=\"nominal\",S64-S20,S82-S38)","v":0},{"$f":"IF(ControlPanel!$T$5=\"nominal\",T64-T20,T82-T38)","v":0},{"$f":"IF(ControlPanel!$T$5=\"nominal\",U64-U20,U82-U38)","v":0},{"$f":"IF(ControlPanel!$T$5=\"nominal\",V64-V20,V82-V38)","v":0},{"$f":"IF(ControlPanel!$T$5=\"nominal\",W64-W20,W82-W38)","v":0},{"$f":"IF(ControlPanel!$T$5=\"nominal\",X64-X20,X82-X38)","v":0},{"$f":"IF(ControlPanel!$T$5=\"nominal\",Y64-Y20,Y82-Y38)","v":0},{"$f":"IF(ControlPanel!$T$5=\"nominal\",Z64-Z20,Z82-Z38)","v":0},{"$f":"IF(ControlPanel!$T$5=\"nominal\",AA64-AA20,AA82-AA38)","v":0},{"$f":"IF(ControlPanel!$T$5=\"nominal\",AB64-AB20,AB82-AB38)","v":0},{"$f":"IF(ControlPanel!$T$5=\"nominal\",AC64-AC20,AC82-AC38)","v":0},{"$f":"IF(ControlPanel!$T$5=\"nominal\",AD64-AD20,AD82-AD38)","v":0},{"$f":"IF(ControlPanel!$T$5=\"nominal\",AE64-AE20,AE82-AE38)","v":0},null,"v2.1.19"]
[142]
[143]
[144]
[145,null,null,null,"Daten für Strompreis+Umlage Grafik",null,null,null,null,null,null,null,null,null,null,null,null,null,null,null,null,null,null,null,null,null,null,null,null,null,null,"v2.1.16","v2.1.16"]
[146,null,null,null,"Summe Strompreis + Umlage",{"$f":"IF(ControlPanel!$T$5=\"nominal\",'GrD-Grafikdaten'!F64,'GrD-Grafikdaten'!F82)","v":7.4120479999999995},{"$f":"IF(ControlPanel!$T$5=\"nominal\",'GrD-Grafikdaten'!G64,'GrD-Grafikdaten'!G82)","v":8.6039089999999998},{"$f":"IF(ControlPanel!$T$5=\"nominal\",'GrD-Grafikdaten'!H64,'GrD-Grafikdaten'!H82)","v":9.1140000000000008},{"$f":"IF(ControlPanel!$T$5=\"nominal\",'GrD-Grafikdaten'!I64,'GrD-Grafikdaten'!I82)","v":10.391999999999999},{"$f":"IF(ControlPanel!$T$5=\"nominal\",'GrD-Grafikdaten'!J64,'GrD-Grafikdaten'!J82)","v":10.385},{"$f":"IF(ControlPanel!$T$5=\"nominal\",'GrD-Grafikdaten'!K64,'GrD-Grafikdaten'!K82)","v":9.7365706877643845},{"$f":"IF(ControlPanel!$T$5=\"nominal\",'GrD-Grafikdaten'!L64,'GrD-Grafikdaten'!L82)","v":9.4643111725365721},{"$f":"IF(ControlPanel!$T$5=\"nominal\",'GrD-Grafikdaten'!M64,'GrD-Grafikdaten'!M82)","v":9.5352600831698844},{"$f":"IF(ControlPanel!$T$5=\"nominal\",'GrD-Grafikdaten'!N64,'GrD-Grafikdaten'!N82)","v":10.000835224833761},{"$f":"IF(ControlPanel!$T$5=\"nominal\",'GrD-Grafikdaten'!O64,'GrD-Grafikdaten'!O82)","v":11.034581826229905},{"$f":"IF(ControlPanel!$T$5=\"nominal\",'GrD-Grafikdaten'!P64,'GrD-Grafikdaten'!P82)","v":11.692116313820181},{"$f":"IF(ControlPanel!$T$5=\"nominal\",'GrD-Grafikdaten'!Q64,'GrD-Grafikdaten'!Q82)","v":10.577615363716919},{"$f":"IF(ControlPanel!$T$5=\"nominal\",'GrD-Grafikdaten'!R64,'GrD-Grafikdaten'!R82)","v":11.523376637741537},{"$f":"IF(ControlPanel!$T$5=\"nominal\",'GrD-Grafikdaten'!S64,'GrD-Grafikdaten'!S82)","v":10.836192038073872},{"$f":"IF(ControlPanel!$T$5=\"nominal\",'GrD-Grafikdaten'!T64,'GrD-Grafikdaten'!T82)","v":10.652844971377938},{"$f":"IF(ControlPanel!$T$5=\"nominal\",'GrD-Grafikdaten'!U64,'GrD-Grafikdaten'!U82)","v":10.132696173126496},{"$f":"IF(ControlPanel!$T$5=\"nominal\",'GrD-Grafikdaten'!V64,'GrD-Grafikdaten'!V82)","v":9.7942482850600427},{"$f":"IF(ControlPanel!$T$5=\"nominal\",'GrD-Grafikdaten'!W64,'GrD-Grafikdaten'!W82)","v":9.3715685093038701},{"$f":"IF(ControlPanel!$T$5=\"nominal\",'GrD-Grafikdaten'!X64,'GrD-Grafikdaten'!X82)","v":9.0944981328685977},{"$f":"IF(ControlPanel!$T$5=\"nominal\",'GrD-Grafikdaten'!Y64,'GrD-Grafikdaten'!Y82)","v":8.8497976103183831},{"$f":"IF(ControlPanel!$T$5=\"nominal\",'GrD-Grafikdaten'!Z64,'GrD-Grafikdaten'!Z82)","v":8.4885951116992402},{"$f":"IF(ControlPanel!$T$5=\"nominal\",'GrD-Grafikdaten'!AA64,'GrD-Grafikdaten'!AA82)","v":7.9575120286226024},{"$f":"IF(ControlPanel!$T$5=\"nominal\",'GrD-Grafikdaten'!AB64,'GrD-Grafikdaten'!AB82)","v":7.511067020303833},{"$f":"IF(ControlPanel!$T$5=\"nominal\",'GrD-Grafikdaten'!AC64,'GrD-Grafikdaten'!AC82)","v":7.3567216651313432},{"$f":"IF(ControlPanel!$T$5=\"nominal\",'GrD-Grafikdaten'!AD64,'GrD-Grafikdaten'!AD82)","v":7.4579306382764186},{"$f":"IF(ControlPanel!$T$5=\"nominal\",'GrD-Grafikdaten'!AE64,'GrD-Grafikdaten'!AE82)","v":7.8835523766729283},"v2.1.16","v2.1.16"]
[147,null,null,null,"Strompreis",{"$f":"IF(ControlPanel!$T$5=\"nominal\",'GrD-Grafikdaten'!F63,'GrD-Grafikdaten'!F81)","v":5.3650479999999998},{"$f":"IF(ControlPanel!$T$5=\"nominal\",'GrD-Grafikdaten'!G63,'GrD-Grafikdaten'!G81)","v":5.0739089999999996},{"$f":"IF(ControlPanel!$T$5=\"nominal\",'GrD-Grafikdaten'!H63,'GrD-Grafikdaten'!H81)","v":5.5220000000000002},{"$f":"IF(ControlPanel!$T$5=\"nominal\",'GrD-Grafikdaten'!I63,'GrD-Grafikdaten'!I81)","v":5.1150000000000002},{"$f":"IF(ControlPanel!$T$5=\"nominal\",'GrD-Grafikdaten'!J63,'GrD-Grafikdaten'!J81)","v":4.1450000000000005},{"$f":"IF(ControlPanel!$T$5=\"nominal\",'GrD-Grafikdaten'!K63,'GrD-Grafikdaten'!K81)","v":3.5670000000000002},{"$f":"IF(ControlPanel!$T$5=\"nominal\",'GrD-Grafikdaten'!L63,'GrD-Grafikdaten'!L81)","v":3.1260000000000003},{"$f":"IF(ControlPanel!$T$5=\"nominal\",'GrD-Grafikdaten'!M63,'GrD-Grafikdaten'!M81)","v":2.6749999999999998},{"$f":"IF(ControlPanel!$T$5=\"nominal\",'GrD-Grafikdaten'!N63,'GrD-Grafikdaten'!N81)","v":3.222},{"$f":"IF(ControlPanel!$T$5=\"nominal\",'GrD-Grafikdaten'!O63,'GrD-Grafikdaten'!O81)","v":4.6280000000000001},{"$f":"IF(ControlPanel!$T$5=\"nominal\",'GrD-Grafikdaten'!P63,'GrD-Grafikdaten'!P81)","v":4.9340000000000002},{"$f":"IF(ControlPanel!$T$5=\"nominal\",'GrD-Grafikdaten'!Q63,'GrD-Grafikdaten'!Q81)","v":4.0739999999999998},{"$f":"IF(ControlPanel!$T$5=\"nominal\",'GrD-Grafikdaten'!R63,'GrD-Grafikdaten'!R81)","v":7.2511599999999987},{"$f":"IF(ControlPanel!$T$5=\"nominal\",'GrD-Grafikdaten'!S63,'GrD-Grafikdaten'!S81)","v":6.5264753749999986},{"$f":"IF(ControlPanel!$T$5=\"nominal\",'GrD-Grafikdaten'!T63,'GrD-Grafikdaten'!T81)","v":6.6387505832812481},{"$f":"IF(ControlPanel!$T$5=\"nominal\",'GrD-Grafikdaten'!U63,'GrD-Grafikdaten'!U81)","v":6.7529255908515591},{"$f":"IF(ControlPanel!$T$5=\"nominal\",'GrD-Grafikdaten'!V63,'GrD-Grafikdaten'!V81)","v":6.8690321297677412},{"$f":"IF(ControlPanel!$T$5=\"nominal\",'GrD-Grafikdaten'!W63,'GrD-Grafikdaten'!W81)","v":6.9871024565934672},{"$f":"IF(ControlPanel!$T$5=\"nominal\",'GrD-Grafikdaten'!X63,'GrD-Grafikdaten'!X81)","v":7.1071693609947673},{"$f":"IF(ControlPanel!$T$5=\"nominal\",'GrD-Grafikdaten'!Y63,'GrD-Grafikdaten'!Y81)","v":7.2292661744753746},{"$f":"IF(ControlPanel!$T$5=\"nominal\",'GrD-Grafikdaten'!Z63,'GrD-Grafikdaten'!Z81)","v":7.3534267792541756},{"$f":"IF(ControlPanel!$T$5=\"nominal\",'GrD-Grafikdaten'!AA63,'GrD-Grafikdaten'!AA81)","v":7.4796856172870836},{"$f":"IF(ControlPanel!$T$5=\"nominal\",'GrD-Grafikdaten'!AB63,'GrD-Grafikdaten'!AB81)","v":7.6080776994356452},{"$f":"IF(ControlPanel!$T$5=\"nominal\",'GrD-Grafikdaten'!AC63,'GrD-Grafikdaten'!AC81)","v":7.7386386147847741},{"$f":"IF(ControlPanel!$T$5=\"nominal\",'GrD-Grafikdaten'!AD63,'GrD-Grafikdaten'!AD81)","v":7.8714045401120059},{"$f":"IF(ControlPanel!$T$5=\"nominal\",'GrD-Grafikdaten'!AE63,'GrD-Grafikdaten'!AE81)","v":8.0064122495107277},"v2.1.16","v2.1.16"]
[148,null,null,null,"Umlage",{"$f":"IF(IF(ControlPanel!$T$5=\"nominal\",'GrD-Grafikdaten'!F52,'GrD-Grafikdaten'!F70)<0,0,IF(ControlPanel!$T$5=\"nominal\",'GrD-Grafikdaten'!F52,'GrD-Grafikdaten'!F70))","v":2.0469999999999997},{"$f":"IF(IF(ControlPanel!$T$5=\"nominal\",'GrD-Grafikdaten'!G52,'GrD-Grafikdaten'!G70)<0,0,IF(ControlPanel!$T$5=\"nominal\",'GrD-Grafikdaten'!G52,'GrD-Grafikdaten'!G70))","v":3.5300000000000007},{"$f":"IF(IF(ControlPanel!$T$5=\"nominal\",'GrD-Grafikdaten'!H52,'GrD-Grafikdaten'!H70)<0,0,IF(ControlPanel!$T$5=\"nominal\",'GrD-Grafikdaten'!H52,'GrD-Grafikdaten'!H70))","v":3.5920000000000005},{"$f":"IF(IF(ControlPanel!$T$5=\"nominal\",'GrD-Grafikdaten'!I52,'GrD-Grafikdaten'!I70)<0,0,IF(ControlPanel!$T$5=\"nominal\",'GrD-Grafikdaten'!I52,'GrD-Grafikdaten'!I70))","v":5.2769999999999992},{"$f":"IF(IF(ControlPanel!$T$5=\"nominal\",'GrD-Grafikdaten'!J52,'GrD-Grafikdaten'!J70)<0,0,IF(ControlPanel!$T$5=\"nominal\",'GrD-Grafikdaten'!J52,'GrD-Grafikdaten'!J70))","v":6.2399999999999993},{"$f":"IF(IF(ControlPanel!$T$5=\"nominal\",'GrD-Grafikdaten'!K52,'GrD-Grafikdaten'!K70)<0,0,IF(ControlPanel!$T$5=\"nominal\",'GrD-Grafikdaten'!K52,'GrD-Grafikdaten'!K70))","v":6.1695706877643843},{"$f":"IF(IF(ControlPanel!$T$5=\"nominal\",'GrD-Grafikdaten'!L52,'GrD-Grafikdaten'!L70)<0,0,IF(ControlPanel!$T$5=\"nominal\",'GrD-Grafikdaten'!L52,'GrD-Grafikdaten'!L70))","v":6.3383111725365717},{"$f":"IF(IF(ControlPanel!$T$5=\"nominal\",'GrD-Grafikdaten'!M52,'GrD-Grafikdaten'!M70)<0,0,IF(ControlPanel!$T$5=\"nominal\",'GrD-Grafikdaten'!M52,'GrD-Grafikdaten'!M70))","v":6.8602600831698846},{"$f":"IF(IF(ControlPanel!$T$5=\"nominal\",'GrD-Grafikdaten'!N52,'GrD-Grafikdaten'!N70)<0,0,IF(ControlPanel!$T$5=\"nominal\",'GrD-Grafikdaten'!N52,'GrD-Grafikdaten'!N70))","v":6.7788352248337613},{"$f":"IF(IF(ControlPanel!$T$5=\"nominal\",'GrD-Grafikdaten'!O52,'GrD-Grafikdaten'!O70)<0,0,IF(ControlPanel!$T$5=\"nominal\",'GrD-Grafikdaten'!O52,'GrD-Grafikdaten'!O70))","v":6.406581826229905},{"$f":"IF(IF(ControlPanel!$T$5=\"nominal\",'GrD-Grafikdaten'!P52,'GrD-Grafikdaten'!P70)<0,0,IF(ControlPanel!$T$5=\"nominal\",'GrD-Grafikdaten'!P52,'GrD-Grafikdaten'!P70))","v":6.7581163138201807},{"$f":"IF(IF(ControlPanel!$T$5=\"nominal\",'GrD-Grafikdaten'!Q52,'GrD-Grafikdaten'!Q70)<0,0,IF(ControlPanel!$T$5=\"nominal\",'GrD-Grafikdaten'!Q52,'GrD-Grafikdaten'!Q70))","v":6.5036153637169205},{"$f":"IF(IF(ControlPanel!$T$5=\"nominal\",'GrD-Grafikdaten'!R52,'GrD-Grafikdaten'!R70)<0,0,IF(ControlPanel!$T$5=\"nominal\",'GrD-Grafikdaten'!R52,'GrD-Grafikdaten'!R70))","v":4.272216637741538},{"$f":"IF(IF(ControlPanel!$T$5=\"nominal\",'GrD-Grafikdaten'!S52,'GrD-Grafikdaten'!S70)<0,0,IF(ControlPanel!$T$5=\"nominal\",'GrD-Grafikdaten'!S52,'GrD-Grafikdaten'!S70))","v":4.3097166630738721},{"$f":"IF(IF(ControlPanel!$T$5=\"nominal\",'GrD-Grafikdaten'!T52,'GrD-Grafikdaten'!T70)<0,0,IF(ControlPanel!$T$5=\"nominal\",'GrD-Grafikdaten'!T52,'GrD-Grafikdaten'!T70))","v":4.0140943880966908},{"$f":"IF(IF(ControlPanel!$T$5=\"nominal\",'GrD-Grafikdaten'!U52,'GrD-Grafikdaten'!U70)<0,0,IF(ControlPanel!$T$5=\"nominal\",'GrD-Grafikdaten'!U52,'GrD-Grafikdaten'!U70))","v":3.379770582274936},{"$f":"IF(IF(ControlPanel!$T$5=\"nominal\",'GrD-Grafikdaten'!V52,'GrD-Grafikdaten'!V70)<0,0,IF(ControlPanel!$T$5=\"nominal\",'GrD-Grafikdaten'!V52,'GrD-Grafikdaten'!V70))","v":2.9252161552923015},{"$f":"IF(IF(ControlPanel!$T$5=\"nominal\",'GrD-Grafikdaten'!W52,'GrD-Grafikdaten'!W70)<0,0,IF(ControlPanel!$T$5=\"nominal\",'GrD-Grafikdaten'!W52,'GrD-Grafikdaten'!W70))","v":2.384466052710402},{"$f":"IF(IF(ControlPanel!$T$5=\"nominal\",'GrD-Grafikdaten'!X52,'GrD-Grafikdaten'!X70)<0,0,IF(ControlPanel!$T$5=\"nominal\",'GrD-Grafikdaten'!X52,'GrD-Grafikdaten'!X70))","v":1.9873287718738313},{"$f":"IF(IF(ControlPanel!$T$5=\"nominal\",'GrD-Grafikdaten'!Y52,'GrD-Grafikdaten'!Y70)<0,0,IF(ControlPanel!$T$5=\"nominal\",'GrD-Grafikdaten'!Y52,'GrD-Grafikdaten'!Y70))","v":1.6205314358430076},{"$f":"IF(IF(ControlPanel!$T$5=\"nominal\",'GrD-Grafikdaten'!Z52,'GrD-Grafikdaten'!Z70)<0,0,IF(ControlPanel!$T$5=\"nominal\",'GrD-Grafikdaten'!Z52,'GrD-Grafikdaten'!Z70))","v":1.1351683324450654},{"$f":"IF(IF(ControlPanel!$T$5=\"nominal\",'GrD-Grafikdaten'!AA52,'GrD-Grafikdaten'!AA70)<0,0,IF(ControlPanel!$T$5=\"nominal\",'GrD-Grafikdaten'!AA52,'GrD-Grafikdaten'!AA70))","v":0.47782641133551845},{"$f":"IF(IF(ControlPanel!$T$5=\"nominal\",'GrD-Grafikdaten'!AB52,'GrD-Grafikdaten'!AB70)<0,0,IF(ControlPanel!$T$5=\"nominal\",'GrD-Grafikdaten'!AB52,'GrD-Grafikdaten'!AB70))","v":0},{"$f":"IF(IF(ControlPanel!$T$5=\"nominal\",'GrD-Grafikdaten'!AC52,'GrD-Grafikdaten'!AC70)<0,0,IF(ControlPanel!$T$5=\"nominal\",'GrD-Grafikdaten'!AC52,'GrD-Grafikdaten'!AC70))","v":0},{"$f":"IF(IF(ControlPanel!$T$5=\"nominal\",'GrD-Grafikdaten'!AD52,'GrD-Grafikdaten'!AD70)<0,0,IF(ControlPanel!$T$5=\"nominal\",'GrD-Grafikdaten'!AD52,'GrD-Grafikdaten'!AD70))","v":0},{"$f":"IF(IF(ControlPanel!$T$5=\"nominal\",'GrD-Grafikdaten'!AE52,'GrD-Grafikdaten'!AE70)<0,0,IF(ControlPanel!$T$5=\"nominal\",'GrD-Grafikdaten'!AE52,'GrD-Grafikdaten'!AE70))","v":0},{"$f":"IF(IF(ControlPanel!$T$5=\"nominal\",'GrD-Grafikdaten'!AF52,'GrD-Grafikdaten'!AF70)<0,0,IF(ControlPanel!$T$5=\"nominal\",'GrD-Grafikdaten'!AF52,'GrD-Grafikdaten'!AF70))","v":0},{"$f":"IF(IF(ControlPanel!$T$5=\"nominal\",'GrD-Grafikdaten'!AG52,'GrD-Grafikdaten'!AG70)<0,0,IF(ControlPanel!$T$5=\"nominal\",'GrD-Grafikdaten'!AG52,'GrD-Grafikdaten'!AG70))","v":0}]
[149]
[150]
[151]
[152]
[153,null,null,null,"Stromverbrauch (TWh)"]
[154,null,null,null,"Nicht privilegierter Letztverbrauch",{"$f":"'MOD-Berechnungen'!F185","v":400.59500000000003},{"$f":"'MOD-Berechnungen'!G185","v":383.14973227999997},{"$f":"'MOD-Berechnungen'!H185","v":386.50834199999997},{"$f":"'MOD-Berechnungen'!I185","v":383.25856100000004},{"$f":"'MOD-Berechnungen'!J185","v":370.260447},{"$f":"'MOD-Berechnungen'!K185","v":350.72573712000002},{"$f":"'MOD-Berechnungen'!L185","v":355.8609206000001},{"$f":"'MOD-Berechnungen'!M185","v":342.7521021199999},{"$f":"'MOD-Berechnungen'!N185","v":343.49791497249993},{"$f":"'MOD-Berechnungen'!O185","v":344.26749819460247},{"$f":"'MOD-Berechnungen'!P185","v":344.07288462324232},{"$f":"'MOD-Berechnungen'!Q185","v":331.62972795561251},{"$f":"'MOD-Berechnungen'!R185","v":340.63671391199182},{"$f":"'MOD-Berechnungen'!S185","v":351.39526544086158},{"$f":"'MOD-Berechnungen'!T185","v":361.3047984897737},{"$f":"'MOD-Berechnungen'!U185","v":371.22059045911305},{"$f":"'MOD-Berechnungen'!V185","v":380.07076370333368},{"$f":"'MOD-Berechnungen'!W185","v":388.94857321527627},{"$f":"'MOD-Berechnungen'!X185","v":397.86261021848225},{"$f":"'MOD-Berechnungen'!Y185","v":406.91288805015972},{"$f":"'MOD-Berechnungen'!Z185","v":416.12340550778958},{"$f":"'MOD-Berechnungen'!AA185","v":425.33866579576738},{"$f":"'MOD-Berechnungen'!AB185","v":434.55932943145484},{"$f":"'MOD-Berechnungen'!AC185","v":443.54216089634696},{"$f":"'MOD-Berechnungen'!AD185","v":452.44717052135434},{"$f":"'MOD-Berechnungen'!AE185","v":461.24483216544326}]
[155,null,null,null,"Privilegierter Letztverbrauch",{"$f":"'MOD-Berechnungen'!F12","v":67.885999999999996},{"$f":"'MOD-Berechnungen'!G12","v":74.729966079999997},{"$f":"'MOD-Berechnungen'!H12","v":84.727446},{"$f":"'MOD-Berechnungen'!I12","v":96.225492000000003},{"$f":"'MOD-Berechnungen'!J12","v":106.52299099999999},{"$f":"'MOD-Berechnungen'!K12","v":110.247},{"$f":"'MOD-Berechnungen'!L12","v":103.9},{"$f":"'MOD-Berechnungen'!M12","v":114.145597},{"$f":"'MOD-Berechnungen'!N12","v":114.690017},{"$f":"'MOD-Berechnungen'!O12","v":113.926688},{"$f":"'MOD-Berechnungen'!P12","v":116.17166499999999},{"$f":"'MOD-Berechnungen'!Q12","v":112.73},{"$f":"'MOD-Berechnungen'!R12","v":111.65},{"$f":"'MOD-Berechnungen'!S12","v":110.48},{"$f":"'MOD-Berechnungen'!T12","v":109.19},{"$f":"'MOD-Berechnungen'!U12","v":107.92},{"$f":"'MOD-Berechnungen'!V12","v":107.92},{"$f":"'MOD-Berechnungen'!W12","v":107.92},{"$f":"'MOD-Berechnungen'!X12","v":107.92},{"$f":"'MOD-Berechnungen'!Y12","v":107.92},{"$f":"'MOD-Berechnungen'!Z12","v":107.92},{"$f":"'MOD-Berechnungen'!AA12","v":107.92},{"$f":"'MOD-Berechnungen'!AB12","v":107.92},{"$f":"'MOD-Berechnungen'!AC12","v":107.92},{"$f":"'MOD-Berechnungen'!AD12","v":107.92},{"$f":"'MOD-Berechnungen'!AE12","v":107.92}]
[156,null,null,null,"Eigenverbrauch (Bestand und Bestandsersatz, fossil)",{"$f":"'MOD-Berechnungen'!F13","v":66.919000000000011},{"$f":"'MOD-Berechnungen'!G13","v":54.256241999999979},{"$f":"'MOD-Berechnungen'!H13","v":62.173272999999973},{"$f":"'MOD-Berechnungen'!I13","v":52.680143000000065},{"$f":"'MOD-Berechnungen'!J13","v":44.33},{"$f":"'MOD-Berechnungen'!K13","v":57.291305999999999},{"$f":"'MOD-Berechnungen'!L13","v":48.547290999999994},{"$f":"'MOD-Berechnungen'!M13","v":60.951926519999994},{"$f":"'MOD-Berechnungen'!N13","v":61.173551851607797},{"$f":"'MOD-Berechnungen'!O13","v":69.750429999999994},{"$f":"'MOD-Berechnungen'!P13","v":68.086641999999998},{"$f":"'MOD-Berechnungen'!Q13","v":60.732941999999994},{"$f":"'MOD-Berechnungen'!R13","v":60.732941999999994},{"$f":"'MOD-Berechnungen'!S13","v":60.732941999999994},{"$f":"'MOD-Berechnungen'!T13","v":60.732941999999994},{"$f":"'MOD-Berechnungen'!U13","v":60.732941999999994},{"$f":"'MOD-Berechnungen'!V13","v":60.732941999999994},{"$f":"'MOD-Berechnungen'!W13","v":60.732941999999994},{"$f":"'MOD-Berechnungen'!X13","v":60.732941999999994},{"$f":"'MOD-Berechnungen'!Y13","v":60.732941999999994},{"$f":"'MOD-Berechnungen'!Z13","v":60.732941999999994},{"$f":"'MOD-Berechnungen'!AA13","v":60.732941999999994},{"$f":"'MOD-Berechnungen'!AB13","v":60.732941999999994},{"$f":"'MOD-Berechnungen'!AC13","v":60.732941999999994},{"$f":"'MOD-Berechnungen'!AD13","v":60.732941999999994},{"$f":"'MOD-Berechnungen'!AE13","v":60.732941999999994}]
[157,null,null,null,"Eigenverbrauch (Neuanlagen, EE und KWK)",{"$f":"'MOD-Berechnungen'!F14+'MOD-Berechnungen'!F265","v":0},{"$f":"'MOD-Berechnungen'!G14+'MOD-Berechnungen'!G265","v":0},{"$f":"'MOD-Berechnungen'!H14+'MOD-Berechnungen'!H265","v":0},{"$f":"'MOD-Berechnungen'!I14+'MOD-Berechnungen'!I265","v":0},{"$f":"'MOD-Berechnungen'!J14+'MOD-Berechnungen'!J265","v":0},{"$f":"'MOD-Berechnungen'!K14+'MOD-Berechnungen'!K265","v":0.32726288000000003},{"$f":"'MOD-Berechnungen'!L14+'MOD-Berechnungen'!L265","v":1.0390793999999999},{"$f":"'MOD-Berechnungen'!M14+'MOD-Berechnungen'!M265","v":1.21881288},{"$f":"'MOD-Berechnungen'!N14+'MOD-Berechnungen'!N265","v":1.9339500274999999},{"$f":"'MOD-Berechnungen'!O14+'MOD-Berechnungen'!O265","v":3.7481448053975073},{"$f":"'MOD-Berechnungen'!P14+'MOD-Berechnungen'!P265","v":4.0547823767576929},{"$f":"'MOD-Berechnungen'!Q14+'MOD-Berechnungen'!Q265","v":6.405829044387545},{"$f":"'MOD-Berechnungen'!R14+'MOD-Berechnungen'!R265","v":7.499961762452684},{"$f":"'MOD-Berechnungen'!S14+'MOD-Berechnungen'!S265","v":8.0541293561631591},{"$f":"'MOD-Berechnungen'!T14+'MOD-Berechnungen'!T265","v":8.5240496377327482},{"$f":"'MOD-Berechnungen'!U14+'MOD-Berechnungen'!U265","v":8.9831781137651383},{"$f":"'MOD-Berechnungen'!V14+'MOD-Berechnungen'!V265","v":9.2319806586596478},{"$f":"'MOD-Berechnungen'!W14+'MOD-Berechnungen'!W265","v":9.4767053884051791},{"$f":"'MOD-Berechnungen'!X14+'MOD-Berechnungen'!X265","v":9.7225769009461125},{"$f":"'MOD-Berechnungen'!Y14+'MOD-Berechnungen'!Y265","v":9.9695951962824481},{"$f":"'MOD-Berechnungen'!Z14+'MOD-Berechnungen'!Z265","v":10.217760274414182},{"$f":"'MOD-Berechnungen'!AA14+'MOD-Berechnungen'!AA265","v":10.467072135341319},{"$f":"'MOD-Berechnungen'!AB14+'MOD-Berechnungen'!AB265","v":10.717530779063857},{"$f":"'MOD-Berechnungen'!AC14+'MOD-Berechnungen'!AC265","v":10.969136205581798},{"$f":"'MOD-Berechnungen'!AD14+'MOD-Berechnungen'!AD265","v":11.221888414895137},{"$f":"'MOD-Berechnungen'!AE14+'MOD-Berechnungen'!AE265","v":11.476801215250656},null,"v2.1.27"]
[158,null,null,null,"Eigenverbrauch (Neuanlagen, fossil, nicht KWK)",{"$f":"'MOD-Berechnungen'!F15","v":0},{"$f":"'MOD-Berechnungen'!G15","v":0},{"$f":"'MOD-Berechnungen'!H15","v":0},{"$f":"'MOD-Berechnungen'!I15","v":0},{"$f":"'MOD-Berechnungen'!J15","v":0},{"$f":"'MOD-Berechnungen'!K15","v":0},{"$f":"'MOD-Berechnungen'!L15","v":0},{"$f":"'MOD-Berechnungen'!M15","v":1.1745889999999999},{"$f":"'MOD-Berechnungen'!N15","v":1.5439479999999999},{"$f":"'MOD-Berechnungen'!O15","v":2.5107649999999997},{"$f":"'MOD-Berechnungen'!P15","v":3.6564139999999998},{"$f":"'MOD-Berechnungen'!Q15","v":3.8827539999999998},{"$f":"'MOD-Berechnungen'!R15","v":3.8827539999999998},{"$f":"'MOD-Berechnungen'!S15","v":3.8827539999999998},{"$f":"'MOD-Berechnungen'!T15","v":3.8827539999999998},{"$f":"'MOD-Berechnungen'!U15","v":3.8827539999999998},{"$f":"'MOD-Berechnungen'!V15","v":3.8827539999999998},{"$f":"'MOD-Berechnungen'!W15","v":3.8827539999999998},{"$f":"'MOD-Berechnungen'!X15","v":3.8827539999999998},{"$f":"'MOD-Berechnungen'!Y15","v":3.8827539999999998},{"$f":"'MOD-Berechnungen'!Z15","v":3.8827539999999998},{"$f":"'MOD-Berechnungen'!AA15","v":3.8827539999999998},{"$f":"'MOD-Berechnungen'!AB15","v":3.8827539999999998},{"$f":"'MOD-Berechnungen'!AC15","v":3.8827539999999998},{"$f":"'MOD-Berechnungen'!AD15","v":3.8827539999999998},{"$f":"'MOD-Berechnungen'!AE15","v":3.8827539999999998}]
[159,null,null,null,"Grünstromprivileg",{"$f":"'MOD-Berechnungen'!F16","v":0},{"$f":"'MOD-Berechnungen'!G16","v":24.664059639999998},{"$f":"'MOD-Berechnungen'!H16","v":6.3188509999999996},{"$f":"'MOD-Berechnungen'!I16","v":2.5983429999999998},{"$f":"'MOD-Berechnungen'!J16","v":5.9772400000000001},{"$f":"'MOD-Berechnungen'!K16","v":0},{"$f":"'MOD-Berechnungen'!L16","v":0},{"$f":"'MOD-Berechnungen'!M16","v":0},{"$f":"'MOD-Berechnungen'!N16","v":0},{"$f":"'MOD-Berechnungen'!O16","v":0},{"$f":"'MOD-Berechnungen'!P16","v":0},{"$f":"'MOD-Berechnungen'!Q16","v":0},{"$f":"'MOD-Berechnungen'!R16","v":0},{"$f":"'MOD-Berechnungen'!S16","v":0},{"$f":"'MOD-Berechnungen'!T16","v":0},{"$f":"'MOD-Berechnungen'!U16","v":0},{"$f":"'MOD-Berechnungen'!V16","v":0},{"$f":"'MOD-Berechnungen'!W16","v":0},{"$f":"'MOD-Berechnungen'!X16","v":0},{"$f":"'MOD-Berechnungen'!Y16","v":0},{"$f":"'MOD-Berechnungen'!Z16","v":0},{"$f":"'MOD-Berechnungen'!AA16","v":0},{"$f":"'MOD-Berechnungen'!AB16","v":0},{"$f":"'MOD-Berechnungen'!AC16","v":0},{"$f":"'MOD-Berechnungen'!AD16","v":0},{"$f":"'MOD-Berechnungen'!AE16","v":0}]
["159_01",null,null,null,"Netzverluste und Kraftwerkseigenverbrauch (TWh)",{"$f":"'D-Netzverl. u. KW-Eigenverbr.'!F6","v":79.900000000000006},{"$f":"'D-Netzverl. u. KW-Eigenverbr.'!G6","v":70},{"$f":"'D-Netzverl. u. KW-Eigenverbr.'!H6","v":66.8},{"$f":"'D-Netzverl. u. KW-Eigenverbr.'!I6","v":66.8},{"$f":"'D-Netzverl. u. KW-Eigenverbr.'!J6","v":68.099999999999994},{"$f":"'D-Netzverl. u. KW-Eigenverbr.'!K6","v":79},{"$f":"'D-Netzverl. u. KW-Eigenverbr.'!L6","v":86.5},{"$f":"'D-Netzverl. u. KW-Eigenverbr.'!M6","v":77.2},{"$f":"'D-Netzverl. u. KW-Eigenverbr.'!N6","v":70.3},{"$f":"'D-Netzverl. u. KW-Eigenverbr.'!O6","v":62},{"$f":"'D-Netzverl. u. KW-Eigenverbr.'!P6","v":62},{"$f":"'D-Netzverl. u. KW-Eigenverbr.'!Q6","v":62},{"$f":"'D-Netzverl. u. KW-Eigenverbr.'!R6","v":59.714285714285715},{"$f":"'D-Netzverl. u. KW-Eigenverbr.'!S6","v":57.428571428571431},{"$f":"'D-Netzverl. u. KW-Eigenverbr.'!T6","v":55.142857142857146},{"$f":"'D-Netzverl. u. KW-Eigenverbr.'!U6","v":52.857142857142861},{"$f":"'D-Netzverl. u. KW-Eigenverbr.'!V6","v":50.571428571428577},{"$f":"'D-Netzverl. u. KW-Eigenverbr.'!W6","v":48.285714285714292},{"$f":"'D-Netzverl. u. KW-Eigenverbr.'!X6","v":46.000000000000007},{"$f":"'D-Netzverl. u. KW-Eigenverbr.'!Y6","v":43.714285714285722},{"$f":"'D-Netzverl. u. KW-Eigenverbr.'!Z6","v":41.428571428571438},{"$f":"'D-Netzverl. u. KW-Eigenverbr.'!AA6","v":39.142857142857153},{"$f":"'D-Netzverl. u. KW-Eigenverbr.'!AB6","v":36.857142857142861},{"$f":"'D-Netzverl. u. KW-Eigenverbr.'!AC6","v":34.571428571428577},{"$f":"'D-Netzverl. u. KW-Eigenverbr.'!AD6","v":32.285714285714292},{"$f":"'D-Netzverl. u. KW-Eigenverbr.'!AE6","v":30}]
[160]
[161,null,null,null,"Summe",{"$f":"SUM(F157:F163)","v":615.29999999999995},{"$f":"SUM(G157:G163)","v":606.79999999999995},606.5279119999999,601.56253900000002,595.19067800000005,597.59130600000003,595.84729100000004,597.44302751999987,593.13938185160771,596.20352600000001,598.04238799999996,577.38125300000002,584.11665738873012,591.97366222559617,598.77740127036361,605.59660743002109,612.40986893342188,619.24668888939584,626.12088311942841,633.1324649607277,640.30543321077516,647.48429107396578,654.66969906766155,661.61842167335726,668.49046922196374,675.25732938069393]
[162,null,null,null,"Anteil privilegierter Letztverbrauch",{"$f":"F158/F$165","v":0.11032992036405005},{"$f":"G158/G$165","v":0.12315419591298617},0.13969257526931425,0.15995924905822634,0.17897288203159659,0.18448561565920774,0.17437353759824345,0.19105687361323986,0.19336098817443431,0.19108690745985288,0.1942532290871663,0.19524360968470864,0.19114332486104199,0.18662992469063092,0.1823549114718474,0.17820443291117768,0.17622184989924211,0.17427626491399081,0.1723628821679391,0.17045406131036753,0.16854456389482952,0.16667585837641843,0.16484648694401577,0.16311516799524725,0.16143835248033514,0.15982055329777439]
[163,null,null,null,"Anteil nicht privilegierter Letztverbrauch",{"$f":"F157/F165","v":0.65105639525434755},{"$f":"G157/G165","v":0.63142671766644698},0.6372474116244794,0.63710509905936819,0.62208710701614844,0.58689899534783396,0.59723510700663751,0.57369838851877142,0.57911837501027141,0.57743284496207836,0.57533193554039908,0.57436871431572523,0.58316555366661593,0.59359949244996613,0.60340419949589108,0.61298327286618581,0.62061502105651578,0.62809956063365679,0.63544056897810353,0.64269787219867169,0.64988267149501211,0.65690962956069399,0.66378408844998671,0.67038967835046903,0.6768191789599397,0.6830652731877338]
[164]
[165,null,null,null,"Anteil an Umlage"]
[166,null,null,null,"Nicht privilegierter Letztverbrauch",{"$f":"100%","v":1},{"$f":"100%","v":1},{"$f":"100%","v":1},{"$f":"100%","v":1},{"$f":"100%","v":1},{"$f":"100%","v":1},{"$f":"100%","v":1},{"$f":"100%","v":1},{"$f":"100%","v":1},{"$f":"100%","v":1},{"$f":"100%","v":1},{"$f":"100%","v":1},{"$f":"100%","v":1},{"$f":"100%","v":1},{"$f":"100%","v":1},{"$f":"100%","v":1},{"$f":"100%","v":1},{"$f":"100%","v":1},{"$f":"100%","v":1},{"$f":"100%","v":1},{"$f":"100%","v":1},{"$f":"100%","v":1},{"$f":"100%","v":1},{"$f":"100%","v":1},{"$f":"100%","v":1},{"$f":"100%","v":1}]
[167,null,null,null,"Anteil an Umlage für privilegierte Letztverbraucher * (1-Faktor für Zusatzprivilegierung)",{"$f":"'MOD-Berechnungen'!F17*(1-'MOD-Berechnungen'!F18)","v":2.4421006724375267E-2},{"$f":"'MOD-Berechnungen'!G17*(1-'MOD-Berechnungen'!G18)","v":1.416149742259081E-2},{"$f":"'MOD-Berechnungen'!H17*(1-'MOD-Berechnungen'!H18)","v":1.3920264634567114E-2},{"$f":"'MOD-Berechnungen'!I17*(1-'MOD-Berechnungen'!I18)","v":6.442107437727964E-3},{"$f":"'MOD-Berechnungen'!J17*(1-'MOD-Berechnungen'!J18)","v":2.083534312096447E-2},{"$f":"'MOD-Berechnungen'!K17*(1-'MOD-Berechnungen'!K18)","v":6.989999999999999E-2},{"$f":"'MOD-Berechnungen'!L17*(1-'MOD-Berechnungen'!L18)","v":7.4700000000000003E-2},{"$f":"'MOD-Berechnungen'!M17*(1-'MOD-Berechnungen'!M18)","v":5.7065090026654441E-2},{"$f":"'MOD-Berechnungen'!N17*(1-'MOD-Berechnungen'!N18)","v":6.002631363511287E-2},{"$f":"'MOD-Berechnungen'!O17*(1-'MOD-Berechnungen'!O18)","v":5.730478989927143E-2},{"$f":"'MOD-Berechnungen'!P17*(1-'MOD-Berechnungen'!P18)","v":5.6647126041033113E-2},{"$f":"'MOD-Berechnungen'!Q17*(1-'MOD-Berechnungen'!Q18)","v":5.7273700895980995E-2},{"$f":"'MOD-Berechnungen'!R17*(1-'MOD-Berechnungen'!R18)","v":5.7273700895980995E-2},{"$f":"'MOD-Berechnungen'!S17*(1-'MOD-Berechnungen'!S18)","v":5.7273700895980995E-2},{"$f":"'MOD-Berechnungen'!T17*(1-'MOD-Berechnungen'!T18)","v":5.7273700895980995E-2},{"$f":"'MOD-Berechnungen'!U17*(1-'MOD-Berechnungen'!U18)","v":5.7273700895980995E-2},{"$f":"'MOD-Berechnungen'!V17*(1-'MOD-Berechnungen'!V18)","v":5.7273700895980995E-2},{"$f":"'MOD-Berechnungen'!W17*(1-'MOD-Berechnungen'!W18)","v":5.7273700895980995E-2},{"$f":"'MOD-Berechnungen'!X17*(1-'MOD-Berechnungen'!X18)","v":5.7273700895980995E-2},{"$f":"'MOD-Berechnungen'!Y17*(1-'MOD-Berechnungen'!Y18)","v":5.7273700895980995E-2},{"$f":"'MOD-Berechnungen'!Z17*(1-'MOD-Berechnungen'!Z18)","v":5.7273700895980995E-2},{"$f":"'MOD-Berechnungen'!AA17*(1-'MOD-Berechnungen'!AA18)","v":5.7273700895980995E-2},{"$f":"'MOD-Berechnungen'!AB17*(1-'MOD-Berechnungen'!AB18)","v":5.7273700895980995E-2},{"$f":"'MOD-Berechnungen'!AC17*(1-'MOD-Berechnungen'!AC18)","v":5.7273700895980995E-2},{"$f":"'MOD-Berechnungen'!AD17*(1-'MOD-Berechnungen'!AD18)","v":5.7273700895980995E-2},{"$f":"'MOD-Berechnungen'!AE17*(1-'MOD-Berechnungen'!AE18)","v":5.7273700895980995E-2},null,"v2.1.38"]
[168,null,null,null,"Anteil an Umlage für Eigenverbrauch aus Bestandsanlagen",{"$f":"'MOD-Berechnungen'!F19","v":0},{"$f":"'MOD-Berechnungen'!G19","v":0},{"$f":"'MOD-Berechnungen'!H19","v":0},{"$f":"'MOD-Berechnungen'!I19","v":0},{"$f":"'MOD-Berechnungen'!J19","v":0},{"$f":"'MOD-Berechnungen'!K19","v":0},{"$f":"'MOD-Berechnungen'!L19","v":0},{"$f":"'MOD-Berechnungen'!M19","v":0},{"$f":"'MOD-Berechnungen'!N19","v":0},{"$f":"'MOD-Berechnungen'!O19","v":0},{"$f":"'MOD-Berechnungen'!P19","v":0},{"$f":"'MOD-Berechnungen'!Q19","v":0},{"$f":"'MOD-Berechnungen'!R19","v":0},{"$f":"'MOD-Berechnungen'!S19","v":0},{"$f":"'MOD-Berechnungen'!T19","v":0},{"$f":"'MOD-Berechnungen'!U19","v":0},{"$f":"'MOD-Berechnungen'!V19","v":0},{"$f":"'MOD-Berechnungen'!W19","v":0},{"$f":"'MOD-Berechnungen'!X19","v":0},{"$f":"'MOD-Berechnungen'!Y19","v":0},{"$f":"'MOD-Berechnungen'!Z19","v":0},{"$f":"'MOD-Berechnungen'!AA19","v":0},{"$f":"'MOD-Berechnungen'!AB19","v":0},{"$f":"'MOD-Berechnungen'!AC19","v":0},{"$f":"'MOD-Berechnungen'!AD19","v":0},{"$f":"'MOD-Berechnungen'!AE19","v":0}]
[169,null,null,null,"Anteil an Umlage für Eigenverbrauch aus Solar- und KWK-Neuanlagen",{"$f":"'MOD-Berechnungen'!F20","v":0},{"$f":"'MOD-Berechnungen'!G20","v":0},{"$f":"'MOD-Berechnungen'!H20","v":0},{"$f":"'MOD-Berechnungen'!I20","v":0},{"$f":"'MOD-Berechnungen'!J20","v":0},{"$f":"'MOD-Berechnungen'!K20","v":0.3},{"$f":"'MOD-Berechnungen'!L20","v":0.35},{"$f":"'MOD-Berechnungen'!M20","v":0.40000062775558548},{"$f":"'MOD-Berechnungen'!N20","v":0.33640703685486462},{"$f":"'MOD-Berechnungen'!O20","v":0.36296708149217022},{"$f":"'MOD-Berechnungen'!P20","v":0.37707011244336597},{"$f":"'MOD-Berechnungen'!Q20","v":0.37707011244336597},{"$f":"'MOD-Berechnungen'!R20","v":0.37707011244336597},{"$f":"'MOD-Berechnungen'!S20","v":0.37707011244336597},{"$f":"'MOD-Berechnungen'!T20","v":0.37707011244336597},{"$f":"'MOD-Berechnungen'!U20","v":0.37707011244336597},{"$f":"'MOD-Berechnungen'!V20","v":0.37707011244336597},{"$f":"'MOD-Berechnungen'!W20","v":0.37707011244336597},{"$f":"'MOD-Berechnungen'!X20","v":0.37707011244336597},{"$f":"'MOD-Berechnungen'!Y20","v":0.37707011244336597},{"$f":"'MOD-Berechnungen'!Z20","v":0.37707011244336597},{"$f":"'MOD-Berechnungen'!AA20","v":0.37707011244336597},{"$f":"'MOD-Berechnungen'!AB20","v":0.37707011244336597},{"$f":"'MOD-Berechnungen'!AC20","v":0.37707011244336597},{"$f":"'MOD-Berechnungen'!AD20","v":0.37707011244336597},{"$f":"'MOD-Berechnungen'!AE20","v":0.37707011244336597}]
[170,null,null,null,"Anteil an Umlage für Eigenverbrauch aus fossilen Nicht-KWK-Neuanlagen",{"$f":"'MOD-Berechnungen'!F21","v":0},{"$f":"'MOD-Berechnungen'!G21","v":0},{"$f":"'MOD-Berechnungen'!H21","v":0},{"$f":"'MOD-Berechnungen'!I21","v":0},{"$f":"'MOD-Berechnungen'!J21","v":0},{"$f":"'MOD-Berechnungen'!K21","v":1},{"$f":"'MOD-Berechnungen'!L21","v":1},{"$f":"'MOD-Berechnungen'!M21","v":1},{"$f":"'MOD-Berechnungen'!N21","v":1},{"$f":"'MOD-Berechnungen'!O21","v":1},{"$f":"'MOD-Berechnungen'!P21","v":1},{"$f":"'MOD-Berechnungen'!Q21","v":1},{"$f":"'MOD-Berechnungen'!R21","v":1},{"$f":"'MOD-Berechnungen'!S21","v":1},{"$f":"'MOD-Berechnungen'!T21","v":1},{"$f":"'MOD-Berechnungen'!U21","v":1},{"$f":"'MOD-Berechnungen'!V21","v":1},{"$f":"'MOD-Berechnungen'!W21","v":1},{"$f":"'MOD-Berechnungen'!X21","v":1},{"$f":"'MOD-Berechnungen'!Y21","v":1},{"$f":"'MOD-Berechnungen'!Z21","v":1},{"$f":"'MOD-Berechnungen'!AA21","v":1},{"$f":"'MOD-Berechnungen'!AB21","v":1},{"$f":"'MOD-Berechnungen'!AC21","v":1},{"$f":"'MOD-Berechnungen'!AD21","v":1},{"$f":"'MOD-Berechnungen'!AE21","v":1},null,"v2.1.38"]
[171,null,null,null,"Umlagereduktion Grünstromprivileg (nominal) [Euro/MWh]",{"$f":"'MOD-Berechnungen'!F22","v":20.47},{"$f":"'MOD-Berechnungen'!G22","v":35.31},{"$f":"'MOD-Berechnungen'!H22","v":20},{"$f":"'MOD-Berechnungen'!I22","v":20},{"$f":"'MOD-Berechnungen'!J22","v":20},{"$f":"'MOD-Berechnungen'!K22","v":0},{"$f":"'MOD-Berechnungen'!L22","v":0},{"$f":"'MOD-Berechnungen'!M22","v":0},{"$f":"'MOD-Berechnungen'!N22","v":0},{"$f":"'MOD-Berechnungen'!O22","v":0},{"$f":"'MOD-Berechnungen'!P22","v":0},{"$f":"'MOD-Berechnungen'!Q22","v":0},{"$f":"'MOD-Berechnungen'!R22","v":0},{"$f":"'MOD-Berechnungen'!S22","v":0},{"$f":"'MOD-Berechnungen'!T22","v":0},{"$f":"'MOD-Berechnungen'!U22","v":0},{"$f":"'MOD-Berechnungen'!V22","v":0},{"$f":"'MOD-Berechnungen'!W22","v":0},{"$f":"'MOD-Berechnungen'!X22","v":0},{"$f":"'MOD-Berechnungen'!Y22","v":0},{"$f":"'MOD-Berechnungen'!Z22","v":0},{"$f":"'MOD-Berechnungen'!AA22","v":0},{"$f":"'MOD-Berechnungen'!AB22","v":0},{"$f":"'MOD-Berechnungen'!AC22","v":0},{"$f":"'MOD-Berechnungen'!AD22","v":0},{"$f":"'MOD-Berechnungen'!AE22","v":0},null,"v2.1.29"]
[172]
[173,null,null,null,"Umlagesatz (ct/kWh)",{"$f":"IF(ControlPanel!$T$5=\"nominal\",F52,F70)","v":2.0469999999999997},{"$f":"IF(ControlPanel!$T$5=\"nominal\",G52,G70)","v":3.5300000000000007},{"$f":"IF(ControlPanel!$T$5=\"nominal\",H52,H70)","v":3.5920000000000005},{"$f":"IF(ControlPanel!$T$5=\"nominal\",I52,I70)","v":5.2769999999999992},{"$f":"IF(ControlPanel!$T$5=\"nominal\",J52,J70)","v":6.2399999999999993},{"$f":"IF(ControlPanel!$T$5=\"nominal\",K52,K70)","v":6.1695706877643843},{"$f":"IF(ControlPanel!$T$5=\"nominal\",L52,L70)","v":6.3383111725365717},{"$f":"IF(ControlPanel!$T$5=\"nominal\",M52,M70)","v":6.8602600831698846},{"$f":"IF(ControlPanel!$T$5=\"nominal\",N52,N70)","v":6.7788352248337613},{"$f":"IF(ControlPanel!$T$5=\"nominal\",O52,O70)","v":6.406581826229905},{"$f":"IF(ControlPanel!$T$5=\"nominal\",P52,P70)","v":6.7581163138201807},{"$f":"IF(ControlPanel!$T$5=\"nominal\",Q52,Q70)","v":6.5036153637169205},{"$f":"IF(ControlPanel!$T$5=\"nominal\",R52,R70)","v":4.272216637741538},{"$f":"IF(ControlPanel!$T$5=\"nominal\",S52,S70)","v":4.3097166630738721},{"$f":"IF(ControlPanel!$T$5=\"nominal\",T52,T70)","v":4.0140943880966908},{"$f":"IF(ControlPanel!$T$5=\"nominal\",U52,U70)","v":3.379770582274936},{"$f":"IF(ControlPanel!$T$5=\"nominal\",V52,V70)","v":2.9252161552923015},{"$f":"IF(ControlPanel!$T$5=\"nominal\",W52,W70)","v":2.384466052710402},{"$f":"IF(ControlPanel!$T$5=\"nominal\",X52,X70)","v":1.9873287718738313},{"$f":"IF(ControlPanel!$T$5=\"nominal\",Y52,Y70)","v":1.6205314358430076},{"$f":"IF(ControlPanel!$T$5=\"nominal\",Z52,Z70)","v":1.1351683324450654},{"$f":"IF(ControlPanel!$T$5=\"nominal\",AA52,AA70)","v":0.47782641133551845},{"$f":"IF(ControlPanel!$T$5=\"nominal\",AB52,AB70)","v":-9.7010679131812466E-2},{"$f":"IF(ControlPanel!$T$5=\"nominal\",AC52,AC70)","v":-0.38191694965343059},{"$f":"IF(ControlPanel!$T$5=\"nominal\",AD52,AD70)","v":-0.41347390183558697},{"$f":"IF(ControlPanel!$T$5=\"nominal\",AE52,AE70)","v":-0.12285987283779966},null,"v3.0"]
[174]
[175,null,null,null,"Umlagesatz (ct/kWh)"]
[176,null,null,null,"Nicht privilegierter Letztverbrauch",{"$f":"F$177*F170","v":2.0469999999999997},{"$f":"G$177*G170","v":3.5300000000000007},3.5920000000000005,5.2769999999999992,6.2399999999999993,6.1695706877643843,6.3383111725365717,6.8602600831698846,6.7788352248337613,6.406581826229905,6.7581163138201807,6.5036153637169205,4.272216637741538,4.3097166630738721,4.0140943880966908,3.379770582274936,2.9252161552923015,2.384466052710402,1.9873287718738313,1.6205314358430076,1.1351683324450654,0.47782641133551845,-9.7010679131812466E-2,-0.38191694965343059,-0.41347390183558697,-0.12285987283779966]
[177,null,null,null,"Privilegierter Letztverbrauch",{"$f":"F$177*F171","v":4.9989800764796165E-2},4.9990085901745571E-2,5.0001590567365084E-2,3.3995000948890464E-2,0.13001254107481827,0.43125299107473042,0.4734718445884819,0.39148135925235333,0.40690848928662221,0.36712782552459539,0.38282786662893387,0.37248612108402956,0.24468565787284244,0.24683342310731826,0.22990204135208572,0.19357196942625021,0.16753795513430278,0.13656719549955601,0.11382167366227906,9.2813832749007036E-2,6.5015291539048198E-2,2.7366886963030468E-2,-5.5561606203114126E-3,-2.1873797141556017E-2,-2.3681180582025615E-2,-7.0366396090303972E-3]
[178,null,null,null,"Eigenverbrauch (Bestand und Bestandsersatz, fossil)",0,0,0,0,0,0,0,0,0,0,0,0,0,0,0,0,0,0,0,0,0,0,0,0,0,0]
[179,null,null,null,"Eigenverbrauch (Neuanlagen, EE und KWK)",0,{"$f":"G$177*G173","v":0},0,0,0,1.8508712063293151,2.2184089103878,2.7441083398345389,2.2804478713137057,2.3253783078074468,2.5482836783575213,2.4523189764851416,1.6109252079756207,1.625065346744313,1.5135950222779035,1.2744104734911905,1.1030115845972188,0.89911088261290029,0.74936228347240197,0.61105397073133216,0.42803805075720908,0.18017405865069397,-3.6579827688439821E-2,-0.14400946714984642,-0.15590865065754203,-4.6326786065726759E-2]
[180,null,null,null,"Eigenverbrauch (Neuanlagen, fossil, nicht KWK)",0,0,0,0,0,6.1695706877643843,6.3383111725365717,6.8602600831698846,6.7788352248337613,6.406581826229905,6.7581163138201807,6.5036153637169205,4.272216637741538,4.3097166630738721,4.0140943880966908,3.379770582274936,2.9252161552923015,2.384466052710402,1.9873287718738313,1.6205314358430076,1.1351683324450654,0.47782641133551845,-9.7010679131812466E-2,-0.38191694965343059,-0.41347390183558697,-0.12285987283779966]
[181,null,null,null,"Grünstromprivileg",{"$f":"IF(ControlPanel!$T$5=\"nominal\",F177-F175/10,F177-F175/10/'MOD-Berechnungen'!F26)","v":0},{"$f":"IF(ControlPanel!$T$5=\"nominal\",G177-G175/10,G177-G175/10/'MOD-Berechnungen'!G26)","v":-9.9999999999944578E-4},{"$f":"IF(ControlPanel!$T$5=\"nominal\",H177-H175/10,H177-H175/10/'MOD-Berechnungen'!H26)","v":1.5920000000000005},{"$f":"IF(ControlPanel!$T$5=\"nominal\",I177-I175/10,I177-I175/10/'MOD-Berechnungen'!I26)","v":3.2769999999999992},{"$f":"IF(ControlPanel!$T$5=\"nominal\",J177-J175/10,J177-J175/10/'MOD-Berechnungen'!J26)","v":4.2399999999999993},{"$f":"IF(ControlPanel!$T$5=\"nominal\",K177-K175/10,K177-K175/10/'MOD-Berechnungen'!K26)","v":6.1695706877643843},{"$f":"IF(ControlPanel!$T$5=\"nominal\",L177-L175/10,L177-L175/10/'MOD-Berechnungen'!L26)","v":6.3383111725365717},{"$f":"IF(ControlPanel!$T$5=\"nominal\",M177-M175/10,M177-M175/10/'MOD-Berechnungen'!M26)","v":6.8602600831698846},{"$f":"IF(ControlPanel!$T$5=\"nominal\",N177-N175/10,N177-N175/10/'MOD-Berechnungen'!N26)","v":6.7788352248337613},{"$f":"IF(ControlPanel!$T$5=\"nominal\",O177-O175/10,O177-O175/10/'MOD-Berechnungen'!O26)","v":6.406581826229905},{"$f":"IF(ControlPanel!$T$5=\"nominal\",P177-P175/10,P177-P175/10/'MOD-Berechnungen'!P26)","v":6.7581163138201807},{"$f":"IF(ControlPanel!$T$5=\"nominal\",Q177-Q175/10,Q177-Q175/10/'MOD-Berechnungen'!Q26)","v":6.5036153637169205},{"$f":"IF(ControlPanel!$T$5=\"nominal\",R177-R175/10,R177-R175/10/'MOD-Berechnungen'!R26)","v":4.272216637741538},{"$f":"IF(ControlPanel!$T$5=\"nominal\",S177-S175/10,S177-S175/10/'MOD-Berechnungen'!S26)","v":4.3097166630738721},{"$f":"IF(ControlPanel!$T$5=\"nominal\",T177-T175/10,T177-T175/10/'MOD-Berechnungen'!T26)","v":4.0140943880966908},{"$f":"IF(ControlPanel!$T$5=\"nominal\",U177-U175/10,U177-U175/10/'MOD-Berechnungen'!U26)","v":3.379770582274936},{"$f":"IF(ControlPanel!$T$5=\"nominal\",V177-V175/10,V177-V175/10/'MOD-Berechnungen'!V26)","v":2.9252161552923015},{"$f":"IF(ControlPanel!$T$5=\"nominal\",W177-W175/10,W177-W175/10/'MOD-Berechnungen'!W26)","v":2.384466052710402},{"$f":"IF(ControlPanel!$T$5=\"nominal\",X177-X175/10,X177-X175/10/'MOD-Berechnungen'!X26)","v":1.9873287718738313},{"$f":"IF(ControlPanel!$T$5=\"nominal\",Y177-Y175/10,Y177-Y175/10/'MOD-Berechnungen'!Y26)","v":1.6205314358430076},{"$f":"IF(ControlPanel!$T$5=\"nominal\",Z177-Z175/10,Z177-Z175/10/'MOD-Berechnungen'!Z26)","v":1.1351683324450654},{"$f":"IF(ControlPanel!$T$5=\"nominal\",AA177-AA175/10,AA177-AA175/10/'MOD-Berechnungen'!AA26)","v":0.47782641133551845},{"$f":"IF(ControlPanel!$T$5=\"nominal\",AB177-AB175/10,AB177-AB175/10/'MOD-Berechnungen'!AB26)","v":-9.7010679131812466E-2},{"$f":"IF(ControlPanel!$T$5=\"nominal\",AC177-AC175/10,AC177-AC175/10/'MOD-Berechnungen'!AC26)","v":-0.38191694965343059},{"$f":"IF(ControlPanel!$T$5=\"nominal\",AD177-AD175/10,AD177-AD175/10/'MOD-Berechnungen'!AD26)","v":-0.41347390183558697},{"$f":"IF(ControlPanel!$T$5=\"nominal\",AE177-AE175/10,AE177-AE175/10/'MOD-Berechnungen'!AE26)","v":-0.12285987283779966}]
[182]
[183,null,null,null,"Beitrag zur Deckungslücke (Mrd. €)"]
[184,null,null,null,"Nicht privilegierter Letztverbrauch",{"$f":"F157*F180*10/1000","v":8.200179649999999},{"$f":"G157*G180*10/1000","v":13.525185549484002},13.883379644640002,20.224554263969999,23.104251892800001,21.638272271801092,22.555572489081307,23.513685645964031,23.285157656725346,22.055778972951767,23.252845747155028,21.567921937973843,14.55273836600416,15.144140307957475,14.503115640102063,12.546404311684421,11.117891381392747,9.2743466908197263,7.9068381254001316,6.5941512673495035,4.7237011232163928,2.0323804827942897,-0.42156895671210459,-1.6939626913222396,-1.8707509696993554,-0.56668481426938599]
[185,null,null,null,"Privilegierter Letztverbrauch",{"$f":"F158*F181*10/1000","v":3.3936076147189527E-2},3.7357574237737327E-2,4.2365070647105339E-2,3.2711856918474516E-2,0.13849324742799995,0.47544348507015805,0.4919372465274327,0.44685873466231341,0.46668341553727022,0.41825657234659014,0.44473750674681178,0.41990360429802653,0.27319153701502857,0.27270156584896521,0.25103003895234238,0.20890286940480923,0.18080696118093956,0.14738331738312083,0.12283635021633156,0.1001646883027284,7.0164502628940806E-2,2.953434441050248E-2,-5.9962085414400771E-3,-2.3606201875167258E-2,-2.5556730084122046E-2,-7.5939414660656044E-3]
[186,null,null,null,"Eigenverbrauch (Bestand und Bestandsersatz, fossil)",{"$f":"F159*F182*10/1000","v":0},0,0,0,0,0,0,0,0,0,0,0,0,0,0,0,0,0,0,0,0,0,0,0,0,0]
[187,null,null,null,"Eigenverbrauch (Neuanlagen, EE und KWK)",{"$f":"F160*F183*10/1000","v":0},0,0,0,0,6.0572144149240595E-3,2.3051029995604089E-2,3.3445545887057532E-2,4.410272223439457E-2,8.7158546249925278E-2,0.10332735749983345,0.15709136125671255,0.12081877461988291,0.13088486514896835,0.12901959101322055,0.1144825627341913,0.10182981615279055,8.5206089460314091E-2,7.2857324277290081E-2,6.0919607312724049E-2,4.3735901909646921E-2,1.8858948688140312E-2,-3.9204542914370614E-3,-1.5796594600599227E-2,-1.7495894805958038E-2,-5.3168331461779005E-3]
[188,null,null,null,"Eigenverbrauch (Neuanlagen, fossil, nicht KWK)",{"$f":"F161*F184*10/1000","v":0},0,0,0,0,0,0,8.0579860308304316E-2,0.10466169087711635,0.16085421418934123,0.247104711034805,0.25251938567933324,0.16587966239057508,0.16733569612416729,0.15585741041759976,0.13122817747410334,0.11357894727825806,9.258295104025524E-2,7.7163087383082057E-2,6.2921249146451808E-2,4.4075793834744068E-2,1.8552824099186297E-2,-3.7666860244176138E-3,-1.4828895639346562E-2,-1.6054174462477328E-2,-4.7703466270045802E-3]
[189,null,null,null,"Grünstromprivileg",{"$f":"F162*F185*10/1000","v":0},-2.4664059639986332E-4,0.10059610792000002,8.5147700109999974E-2,0.25343497599999992,0,0,0,0,0,0,0,0,0,0,0,0,0,0,0,0,0,0,0,0,0]
[190]
[191,null,null,null,"Summe",{"$f":"SUM(F188:F193)","v":8.2341157261471878},{"$f":"SUM(G188:G193)","v":13.562296483125339},14.026340823207107,20.342413820998473,23.496180116228,22.119772971286174,23.070560765604341,24.074569786821709,23.900605485374129,22.722048305737623,24.048015322436477,22.397436289207914,15.112628340029646,15.715062435079576,15.039022680485225,13.001017921297525,11.514107106004735,9.5995190487034154,8.1796948872768365,6.8181568121114076,4.8816773215897244,2.0993265999921187,-0.43525230556939931,-1.7481943834373526,-1.9298577690519128,-0.58436593550863414]
[192,null,null,null,"Anteil privilegierter Letztverbrauch [-]",{"$f":"F189/F$195","v":4.1213989790581315E-3},{"$f":"G189/G$195","v":2.7545168537068091E-3},3.0203936422969805E-3,1.6080617180596177E-3,5.8942877839256707E-3,2.149404904323993E-2,2.1323159481275236E-2,1.8561442161550961E-2,1.9526008067990375E-2,1.8407520603720164E-2,1.8493730180381147E-2,1.8747842336774716E-2,1.8077036691983697E-2,1.7352878295935598E-2,1.6691911720971158E-2,1.6068193326816086E-2,1.5703081404084447E-2,1.5353198075379364E-2,1.5017228870895688E-2,1.4690874830687558E-2,1.4373031646035065E-2,1.4068484822996745E-2,1.3776396964964507E-2,1.3503190548382858E-2,1.3242804984886208E-2,1.2995181622720378E-2]
["192.1",null,null,null,null,null,null,null,null,null,null,{"$f":"-'MOD-Berechnungen'!L69","v":-37.164569479999997},{"$f":"-'MOD-Berechnungen'!M69","v":-36.764569479999999},{"$f":"-'MOD-Berechnungen'!N69","v":-36.264569479999999},{"$f":"-'MOD-Berechnungen'!O69","v":-35.664569479999997},{"$f":"-'MOD-Berechnungen'!P69","v":-34.964569480000002},{"$f":"-'MOD-Berechnungen'!Q69","v":-33.158776369999998},{"$f":"-'MOD-Berechnungen'!R69","v":-30.565102570000001},{"$f":"-'MOD-Berechnungen'!S69","v":-27.51489948},{"$f":"-'MOD-Berechnungen'!T69","v":-24.797031480000001},{"$f":"-'MOD-Berechnungen'!U69","v":-22.74326048},{"$f":"-'MOD-Berechnungen'!V69","v":-20.92921698},{"$f":"-'MOD-Berechnungen'!W69","v":-18.699378980000002},{"$f":"-'MOD-Berechnungen'!X69","v":-17.013132779999999}]
["192.2",null,null,null,"Leistung von Anlagen, die nach dem Ende der Förderperiode weiter betrieben werden (goldendes Ende) [GW]",null,null,null,null,null,null,{"$f":"OFFSET('MOD-Berechnungen'!L69,0,-MIN('D-Dauer Goldenes Ende'!M10,L$5-$K$5))","v":37.164569479999997},{"$f":"OFFSET('MOD-Berechnungen'!M69,0,-MIN('D-Dauer Goldenes Ende'!N10,M$5-$K$5))","v":36.764569479999999},{"$f":"OFFSET('MOD-Berechnungen'!N69,0,-MIN('D-Dauer Goldenes Ende'!O10,N$5-$K$5))","v":36.264569479999999},{"$f":"OFFSET('MOD-Berechnungen'!O69,0,-MIN('D-Dauer Goldenes Ende'!P10,O$5-$K$5))","v":35.664569479999997},{"$f":"OFFSET('MOD-Berechnungen'!P69,0,-MIN('D-Dauer Goldenes Ende'!Q10,P$5-$K$5))","v":35.664569479999997},{"$f":"OFFSET('MOD-Berechnungen'!Q69,0,-MIN('D-Dauer Goldenes Ende'!R10,Q$5-$K$5))","v":34.964569480000002},{"$f":"OFFSET('MOD-Berechnungen'!R69,0,-MIN('D-Dauer Goldenes Ende'!S10,R$5-$K$5))","v":36.764569479999999},{"$f":"OFFSET('MOD-Berechnungen'!S69,0,-MIN('D-Dauer Goldenes Ende'!T10,S$5-$K$5))","v":36.264569479999999},{"$f":"OFFSET('MOD-Berechnungen'!T69,0,-MIN('D-Dauer Goldenes Ende'!U10,T$5-$K$5))","v":35.664569479999997},{"$f":"OFFSET('MOD-Berechnungen'!U69,0,-MIN('D-Dauer Goldenes Ende'!V10,U$5-$K$5))","v":34.964569480000002},{"$f":"OFFSET('MOD-Berechnungen'!V69,0,-MIN('D-Dauer Goldenes Ende'!W10,V$5-$K$5))","v":33.158776369999998},{"$f":"OFFSET('MOD-Berechnungen'!W69,0,-MIN('D-Dauer Goldenes Ende'!X10,W$5-$K$5))","v":30.565102570000001},{"$f":"OFFSET('MOD-Berechnungen'!X69,0,-MIN('D-Dauer Goldenes Ende'!Y10,X$5-$K$5))","v":27.51489948},null,null,null,null,null,null,null,null,null,"Strommenge wird berechnet aus verbleibenden Kapazitäten aus Bestandsanlagen (Baujahr <2015) und der Dauer des \"Goldenen Endes\" in Jahren. "]
["192.3",null,null,null,"Wasser",0,0,0,0,0,{"$f":"OFFSET('MOD-Berechnungen'!K65,0,-MIN('D-Dauer Goldenes Ende'!L6,K$5-$K$5))-'MOD-Berechnungen'!K65","v":0},{"$f":"OFFSET('MOD-Berechnungen'!L65,0,-MIN('D-Dauer Goldenes Ende'!M6,L$5-$K$5))-'MOD-Berechnungen'!L65","v":0},{"$f":"OFFSET('MOD-Berechnungen'!M65,0,-MIN('D-Dauer Goldenes Ende'!N6,M$5-$K$5))-'MOD-Berechnungen'!M65","v":0},{"$f":"OFFSET('MOD-Berechnungen'!N65,0,-MIN('D-Dauer Goldenes Ende'!O6,N$5-$K$5))-'MOD-Berechnungen'!N65","v":0},{"$f":"OFFSET('MOD-Berechnungen'!O65,0,-MIN('D-Dauer Goldenes Ende'!P6,O$5-$K$5))-'MOD-Berechnungen'!O65","v":0},{"$f":"OFFSET('MOD-Berechnungen'!P65,0,-MIN('D-Dauer Goldenes Ende'!Q6,P$5-$K$5))-'MOD-Berechnungen'!P65","v":0},{"$f":"OFFSET('MOD-Berechnungen'!Q65,0,-MIN('D-Dauer Goldenes Ende'!R6,Q$5-$K$5))-'MOD-Berechnungen'!Q65","v":0},{"$f":"OFFSET('MOD-Berechnungen'!R65,0,-MIN('D-Dauer Goldenes Ende'!S6,R$5-$K$5))-'MOD-Berechnungen'!R65","v":0},{"$f":"OFFSET('MOD-Berechnungen'!S65,0,-MIN('D-Dauer Goldenes Ende'!T6,S$5-$K$5))-'MOD-Berechnungen'!S65","v":0},{"$f":"OFFSET('MOD-Berechnungen'!T65,0,-MIN('D-Dauer Goldenes Ende'!U6,T$5-$K$5))-'MOD-Berechnungen'!T65","v":0},{"$f":"OFFSET('MOD-Berechnungen'!U65,0,-MIN('D-Dauer Goldenes Ende'!V6,U$5-$K$5))-'MOD-Berechnungen'!U65","v":0},{"$f":"OFFSET('MOD-Berechnungen'!V65,0,-MIN('D-Dauer Goldenes Ende'!W6,V$5-$K$5))-'MOD-Berechnungen'!V65","v":0},{"$f":"OFFSET('MOD-Berechnungen'!W65,0,-MIN('D-Dauer Goldenes Ende'!X6,W$5-$K$5))-'MOD-Berechnungen'!W65","v":0},{"$f":"OFFSET('MOD-Berechnungen'!X65,0,-MIN('D-Dauer Goldenes Ende'!Y6,X$5-$K$5))-'MOD-Berechnungen'!X65","v":0},{"$f":"OFFSET('MOD-Berechnungen'!Y65,0,-MIN('D-Dauer Goldenes Ende'!Z6,Y$5-$K$5))-'MOD-Berechnungen'!Y65","v":0},{"$f":"OFFSET('MOD-Berechnungen'!Z65,0,-MIN('D-Dauer Goldenes Ende'!AA6,Z$5-$K$5))-'MOD-Berechnungen'!Z65","v":0},{"$f":"OFFSET('MOD-Berechnungen'!AA65,0,-MIN('D-Dauer Goldenes Ende'!AB6,AA$5-$K$5))-'MOD-Berechnungen'!AA65","v":0},{"$f":"OFFSET('MOD-Berechnungen'!AB65,0,-MIN('D-Dauer Goldenes Ende'!AC6,AB$5-$K$5))-'MOD-Berechnungen'!AB65","v":0},{"$f":"OFFSET('MOD-Berechnungen'!AC65,0,-MIN('D-Dauer Goldenes Ende'!AD6,AC$5-$K$5))-'MOD-Berechnungen'!AC65","v":0},{"$f":"OFFSET('MOD-Berechnungen'!AD65,0,-MIN('D-Dauer Goldenes Ende'!AE6,AD$5-$K$5))-'MOD-Berechnungen'!AD65","v":0},{"$f":"OFFSET('MOD-Berechnungen'!AE65,0,-MIN('D-Dauer Goldenes Ende'!AF6,AE$5-$K$5))-'MOD-Berechnungen'!AE65","v":0}]
["192.4",null,null,null,"Gas",0,0,0,0,0,{"$f":"OFFSET('MOD-Berechnungen'!K66,0,-MIN('D-Dauer Goldenes Ende'!L7,K$5-$K$5))-'MOD-Berechnungen'!K66","v":0},{"$f":"OFFSET('MOD-Berechnungen'!L66,0,-MIN('D-Dauer Goldenes Ende'!M7,L$5-$K$5))-'MOD-Berechnungen'!L66","v":0},{"$f":"OFFSET('MOD-Berechnungen'!M66,0,-MIN('D-Dauer Goldenes Ende'!N7,M$5-$K$5))-'MOD-Berechnungen'!M66","v":0},{"$f":"OFFSET('MOD-Berechnungen'!N66,0,-MIN('D-Dauer Goldenes Ende'!O7,N$5-$K$5))-'MOD-Berechnungen'!N66","v":0},{"$f":"OFFSET('MOD-Berechnungen'!O66,0,-MIN('D-Dauer Goldenes Ende'!P7,O$5-$K$5))-'MOD-Berechnungen'!O66","v":0},{"$f":"OFFSET('MOD-Berechnungen'!P66,0,-MIN('D-Dauer Goldenes Ende'!Q7,P$5-$K$5))-'MOD-Berechnungen'!P66","v":0},{"$f":"OFFSET('MOD-Berechnungen'!Q66,0,-MIN('D-Dauer Goldenes Ende'!R7,Q$5-$K$5))-'MOD-Berechnungen'!Q66","v":0},{"$f":"OFFSET('MOD-Berechnungen'!R66,0,-MIN('D-Dauer Goldenes Ende'!S7,R$5-$K$5))-'MOD-Berechnungen'!R66","v":0},{"$f":"OFFSET('MOD-Berechnungen'!S66,0,-MIN('D-Dauer Goldenes Ende'!T7,S$5-$K$5))-'MOD-Berechnungen'!S66","v":0},{"$f":"OFFSET('MOD-Berechnungen'!T66,0,-MIN('D-Dauer Goldenes Ende'!U7,T$5-$K$5))-'MOD-Berechnungen'!T66","v":0},{"$f":"OFFSET('MOD-Berechnungen'!U66,0,-MIN('D-Dauer Goldenes Ende'!V7,U$5-$K$5))-'MOD-Berechnungen'!U66","v":0},{"$f":"OFFSET('MOD-Berechnungen'!V66,0,-MIN('D-Dauer Goldenes Ende'!W7,V$5-$K$5))-'MOD-Berechnungen'!V66","v":0},{"$f":"OFFSET('MOD-Berechnungen'!W66,0,-MIN('D-Dauer Goldenes Ende'!X7,W$5-$K$5))-'MOD-Berechnungen'!W66","v":0},{"$f":"OFFSET('MOD-Berechnungen'!X66,0,-MIN('D-Dauer Goldenes Ende'!Y7,X$5-$K$5))-'MOD-Berechnungen'!X66","v":0},{"$f":"OFFSET('MOD-Berechnungen'!Y66,0,-MIN('D-Dauer Goldenes Ende'!Z7,Y$5-$K$5))-'MOD-Berechnungen'!Y66","v":0},{"$f":"OFFSET('MOD-Berechnungen'!Z66,0,-MIN('D-Dauer Goldenes Ende'!AA7,Z$5-$K$5))-'MOD-Berechnungen'!Z66","v":0},{"$f":"OFFSET('MOD-Berechnungen'!AA66,0,-MIN('D-Dauer Goldenes Ende'!AB7,AA$5-$K$5))-'MOD-Berechnungen'!AA66","v":0},{"$f":"OFFSET('MOD-Berechnungen'!AB66,0,-MIN('D-Dauer Goldenes Ende'!AC7,AB$5-$K$5))-'MOD-Berechnungen'!AB66","v":0},{"$f":"OFFSET('MOD-Berechnungen'!AC66,0,-MIN('D-Dauer Goldenes Ende'!AD7,AC$5-$K$5))-'MOD-Berechnungen'!AC66","v":0},{"$f":"OFFSET('MOD-Berechnungen'!AD66,0,-MIN('D-Dauer Goldenes Ende'!AE7,AD$5-$K$5))-'MOD-Berechnungen'!AD66","v":0},{"$f":"OFFSET('MOD-Berechnungen'!AE66,0,-MIN('D-Dauer Goldenes Ende'!AF7,AE$5-$K$5))-'MOD-Berechnungen'!AE66","v":0}]
["192.5",null,null,null,"Biomasse",0,0,0,0,0,{"$f":"OFFSET('MOD-Berechnungen'!K67,0,-MIN('D-Dauer Goldenes Ende'!L8,K$5-$K$5))-'MOD-Berechnungen'!K67","v":0},{"$f":"OFFSET('MOD-Berechnungen'!L67,0,-MIN('D-Dauer Goldenes Ende'!M8,L$5-$K$5))-'MOD-Berechnungen'!L67","v":0},{"$f":"OFFSET('MOD-Berechnungen'!M67,0,-MIN('D-Dauer Goldenes Ende'!N8,M$5-$K$5))-'MOD-Berechnungen'!M67","v":0},{"$f":"OFFSET('MOD-Berechnungen'!N67,0,-MIN('D-Dauer Goldenes Ende'!O8,N$5-$K$5))-'MOD-Berechnungen'!N67","v":0},{"$f":"OFFSET('MOD-Berechnungen'!O67,0,-MIN('D-Dauer Goldenes Ende'!P8,O$5-$K$5))-'MOD-Berechnungen'!O67","v":0},{"$f":"OFFSET('MOD-Berechnungen'!P67,0,-MIN('D-Dauer Goldenes Ende'!Q8,P$5-$K$5))-'MOD-Berechnungen'!P67","v":0},{"$f":"OFFSET('MOD-Berechnungen'!Q67,0,-MIN('D-Dauer Goldenes Ende'!R8,Q$5-$K$5))-'MOD-Berechnungen'!Q67","v":0},{"$f":"OFFSET('MOD-Berechnungen'!R67,0,-MIN('D-Dauer Goldenes Ende'!S8,R$5-$K$5))-'MOD-Berechnungen'!R67","v":0},{"$f":"OFFSET('MOD-Berechnungen'!S67,0,-MIN('D-Dauer Goldenes Ende'!T8,S$5-$K$5))-'MOD-Berechnungen'!S67","v":0},{"$f":"OFFSET('MOD-Berechnungen'!T67,0,-MIN('D-Dauer Goldenes Ende'!U8,T$5-$K$5))-'MOD-Berechnungen'!T67","v":0},{"$f":"OFFSET('MOD-Berechnungen'!U67,0,-MIN('D-Dauer Goldenes Ende'!V8,U$5-$K$5))-'MOD-Berechnungen'!U67","v":0},{"$f":"OFFSET('MOD-Berechnungen'!V67,0,-MIN('D-Dauer Goldenes Ende'!W8,V$5-$K$5))-'MOD-Berechnungen'!V67","v":0},{"$f":"OFFSET('MOD-Berechnungen'!W67,0,-MIN('D-Dauer Goldenes Ende'!X8,W$5-$K$5))-'MOD-Berechnungen'!W67","v":0},{"$f":"OFFSET('MOD-Berechnungen'!X67,0,-MIN('D-Dauer Goldenes Ende'!Y8,X$5-$K$5))-'MOD-Berechnungen'!X67","v":0},{"$f":"OFFSET('MOD-Berechnungen'!Y67,0,-MIN('D-Dauer Goldenes Ende'!Z8,Y$5-$K$5))-'MOD-Berechnungen'!Y67","v":0},{"$f":"OFFSET('MOD-Berechnungen'!Z67,0,-MIN('D-Dauer Goldenes Ende'!AA8,Z$5-$K$5))-'MOD-Berechnungen'!Z67","v":0},{"$f":"OFFSET('MOD-Berechnungen'!AA67,0,-MIN('D-Dauer Goldenes Ende'!AB8,AA$5-$K$5))-'MOD-Berechnungen'!AA67","v":0},{"$f":"OFFSET('MOD-Berechnungen'!AB67,0,-MIN('D-Dauer Goldenes Ende'!AC8,AB$5-$K$5))-'MOD-Berechnungen'!AB67","v":0},{"$f":"OFFSET('MOD-Berechnungen'!AC67,0,-MIN('D-Dauer Goldenes Ende'!AD8,AC$5-$K$5))-'MOD-Berechnungen'!AC67","v":0},{"$f":"OFFSET('MOD-Berechnungen'!AD67,0,-MIN('D-Dauer Goldenes Ende'!AE8,AD$5-$K$5))-'MOD-Berechnungen'!AD67","v":0},{"$f":"OFFSET('MOD-Berechnungen'!AE67,0,-MIN('D-Dauer Goldenes Ende'!AF8,AE$5-$K$5))-'MOD-Berechnungen'!AE67","v":0}]
["192.6",null,null,null,"Geothermie",0,0,0,0,0,{"$f":"OFFSET('MOD-Berechnungen'!K68,0,-MIN('D-Dauer Goldenes Ende'!L9,K$5-$K$5))-'MOD-Berechnungen'!K68","v":0},{"$f":"OFFSET('MOD-Berechnungen'!L68,0,-MIN('D-Dauer Goldenes Ende'!M9,L$5-$K$5))-'MOD-Berechnungen'!L68","v":0},{"$f":"OFFSET('MOD-Berechnungen'!M68,0,-MIN('D-Dauer Goldenes Ende'!N9,M$5-$K$5))-'MOD-Berechnungen'!M68","v":0},{"$f":"OFFSET('MOD-Berechnungen'!N68,0,-MIN('D-Dauer Goldenes Ende'!O9,N$5-$K$5))-'MOD-Berechnungen'!N68","v":0},{"$f":"OFFSET('MOD-Berechnungen'!O68,0,-MIN('D-Dauer Goldenes Ende'!P9,O$5-$K$5))-'MOD-Berechnungen'!O68","v":0},{"$f":"OFFSET('MOD-Berechnungen'!P68,0,-MIN('D-Dauer Goldenes Ende'!Q9,P$5-$K$5))-'MOD-Berechnungen'!P68","v":0},{"$f":"OFFSET('MOD-Berechnungen'!Q68,0,-MIN('D-Dauer Goldenes Ende'!R9,Q$5-$K$5))-'MOD-Berechnungen'!Q68","v":0},{"$f":"OFFSET('MOD-Berechnungen'!R68,0,-MIN('D-Dauer Goldenes Ende'!S9,R$5-$K$5))-'MOD-Berechnungen'!R68","v":0},{"$f":"OFFSET('MOD-Berechnungen'!S68,0,-MIN('D-Dauer Goldenes Ende'!T9,S$5-$K$5))-'MOD-Berechnungen'!S68","v":0},{"$f":"OFFSET('MOD-Berechnungen'!T68,0,-MIN('D-Dauer Goldenes Ende'!U9,T$5-$K$5))-'MOD-Berechnungen'!T68","v":0},{"$f":"OFFSET('MOD-Berechnungen'!U68,0,-MIN('D-Dauer Goldenes Ende'!V9,U$5-$K$5))-'MOD-Berechnungen'!U68","v":0},{"$f":"OFFSET('MOD-Berechnungen'!V68,0,-MIN('D-Dauer Goldenes Ende'!W9,V$5-$K$5))-'MOD-Berechnungen'!V68","v":0},{"$f":"OFFSET('MOD-Berechnungen'!W68,0,-MIN('D-Dauer Goldenes Ende'!X9,W$5-$K$5))-'MOD-Berechnungen'!W68","v":0},{"$f":"OFFSET('MOD-Berechnungen'!X68,0,-MIN('D-Dauer Goldenes Ende'!Y9,X$5-$K$5))-'MOD-Berechnungen'!X68","v":0},{"$f":"OFFSET('MOD-Berechnungen'!Y68,0,-MIN('D-Dauer Goldenes Ende'!Z9,Y$5-$K$5))-'MOD-Berechnungen'!Y68","v":0},{"$f":"OFFSET('MOD-Berechnungen'!Z68,0,-MIN('D-Dauer Goldenes Ende'!AA9,Z$5-$K$5))-'MOD-Berechnungen'!Z68","v":0},{"$f":"OFFSET('MOD-Berechnungen'!AA68,0,-MIN('D-Dauer Goldenes Ende'!AB9,AA$5-$K$5))-'MOD-Berechnungen'!AA68","v":0},{"$f":"OFFSET('MOD-Berechnungen'!AB68,0,-MIN('D-Dauer Goldenes Ende'!AC9,AB$5-$K$5))-'MOD-Berechnungen'!AB68","v":0},{"$f":"OFFSET('MOD-Berechnungen'!AC68,0,-MIN('D-Dauer Goldenes Ende'!AD9,AC$5-$K$5))-'MOD-Berechnungen'!AC68","v":0},{"$f":"OFFSET('MOD-Berechnungen'!AD68,0,-MIN('D-Dauer Goldenes Ende'!AE9,AD$5-$K$5))-'MOD-Berechnungen'!AD68","v":0},{"$f":"OFFSET('MOD-Berechnungen'!AE68,0,-MIN('D-Dauer Goldenes Ende'!AF9,AE$5-$K$5))-'MOD-Berechnungen'!AE68","v":0}]
["192.7",null,null,null,"Wind Onshore",0,0,0,0,0,{"$f":"OFFSET('MOD-Berechnungen'!K69,0,-MIN('D-Dauer Goldenes Ende'!L10,K$5-$K$5))-'MOD-Berechnungen'!K69","v":0},{"$f":"OFFSET('MOD-Berechnungen'!L69,0,-MIN('D-Dauer Goldenes Ende'!M10,L$5-$K$5))-'MOD-Berechnungen'!L69","v":0},{"$f":"OFFSET('MOD-Berechnungen'!M69,0,-MIN('D-Dauer Goldenes Ende'!N10,M$5-$K$5))-'MOD-Berechnungen'!M69","v":0},{"$f":"OFFSET('MOD-Berechnungen'!N69,0,-MIN('D-Dauer Goldenes Ende'!O10,N$5-$K$5))-'MOD-Berechnungen'!N69","v":0},{"$f":"OFFSET('MOD-Berechnungen'!O69,0,-MIN('D-Dauer Goldenes Ende'!P10,O$5-$K$5))-'MOD-Berechnungen'!O69","v":0},{"$f":"OFFSET('MOD-Berechnungen'!P69,0,-MIN('D-Dauer Goldenes Ende'!Q10,P$5-$K$5))-'MOD-Berechnungen'!P69","v":0.69999999999999574},{"$f":"OFFSET('MOD-Berechnungen'!Q69,0,-MIN('D-Dauer Goldenes Ende'!R10,Q$5-$K$5))-'MOD-Berechnungen'!Q69","v":1.8057931100000033},{"$f":"OFFSET('MOD-Berechnungen'!R69,0,-MIN('D-Dauer Goldenes Ende'!S10,R$5-$K$5))-'MOD-Berechnungen'!R69","v":6.1994669099999982},{"$f":"OFFSET('MOD-Berechnungen'!S69,0,-MIN('D-Dauer Goldenes Ende'!T10,S$5-$K$5))-'MOD-Berechnungen'!S69","v":8.7496699999999983},{"$f":"OFFSET('MOD-Berechnungen'!T69,0,-MIN('D-Dauer Goldenes Ende'!U10,T$5-$K$5))-'MOD-Berechnungen'!T69","v":10.867537999999996},{"$f":"OFFSET('MOD-Berechnungen'!U69,0,-MIN('D-Dauer Goldenes Ende'!V10,U$5-$K$5))-'MOD-Berechnungen'!U69","v":12.221309000000002},{"$f":"OFFSET('MOD-Berechnungen'!V69,0,-MIN('D-Dauer Goldenes Ende'!W10,V$5-$K$5))-'MOD-Berechnungen'!V69","v":12.229559389999999},{"$f":"OFFSET('MOD-Berechnungen'!W69,0,-MIN('D-Dauer Goldenes Ende'!X10,W$5-$K$5))-'MOD-Berechnungen'!W69","v":11.865723589999998},{"$f":"OFFSET('MOD-Berechnungen'!X69,0,-MIN('D-Dauer Goldenes Ende'!Y10,X$5-$K$5))-'MOD-Berechnungen'!X69","v":10.501766700000001},{"$f":"OFFSET('MOD-Berechnungen'!Y69,0,-MIN('D-Dauer Goldenes Ende'!Z10,Y$5-$K$5))-'MOD-Berechnungen'!Y69","v":8.5557627000000025},{"$f":"OFFSET('MOD-Berechnungen'!Z69,0,-MIN('D-Dauer Goldenes Ende'!AA10,Z$5-$K$5))-'MOD-Berechnungen'!Z69","v":9.2013316200000013},{"$f":"OFFSET('MOD-Berechnungen'!AA69,0,-MIN('D-Dauer Goldenes Ende'!AB10,AA$5-$K$5))-'MOD-Berechnungen'!AA69","v":8.8139477700000004},{"$f":"OFFSET('MOD-Berechnungen'!AB69,0,-MIN('D-Dauer Goldenes Ende'!AC10,AB$5-$K$5))-'MOD-Berechnungen'!AB69","v":8.4605920300000044},{"$f":"OFFSET('MOD-Berechnungen'!AC69,0,-MIN('D-Dauer Goldenes Ende'!AD10,AC$5-$K$5))-'MOD-Berechnungen'!AC69","v":9.1954703600000016},{"$f":"OFFSET('MOD-Berechnungen'!AD69,0,-MIN('D-Dauer Goldenes Ende'!AE10,AD$5-$K$5))-'MOD-Berechnungen'!AD69","v":11.456038149999999},{"$f":"OFFSET('MOD-Berechnungen'!AE69,0,-MIN('D-Dauer Goldenes Ende'!AF10,AE$5-$K$5))-'MOD-Berechnungen'!AE69","v":13.541928859999999}]
["192.8",null,null,null,"Wind Offshore",0,0,0,0,0,{"$f":"OFFSET('MOD-Berechnungen'!K70,0,-MIN('D-Dauer Goldenes Ende'!L11,K$5-$K$5))-'MOD-Berechnungen'!K70","v":0},{"$f":"OFFSET('MOD-Berechnungen'!L70,0,-MIN('D-Dauer Goldenes Ende'!M11,L$5-$K$5))-'MOD-Berechnungen'!L70","v":0},{"$f":"OFFSET('MOD-Berechnungen'!M70,0,-MIN('D-Dauer Goldenes Ende'!N11,M$5-$K$5))-'MOD-Berechnungen'!M70","v":0},{"$f":"OFFSET('MOD-Berechnungen'!N70,0,-MIN('D-Dauer Goldenes Ende'!O11,N$5-$K$5))-'MOD-Berechnungen'!N70","v":0},{"$f":"OFFSET('MOD-Berechnungen'!O70,0,-MIN('D-Dauer Goldenes Ende'!P11,O$5-$K$5))-'MOD-Berechnungen'!O70","v":0},{"$f":"OFFSET('MOD-Berechnungen'!P70,0,-MIN('D-Dauer Goldenes Ende'!Q11,P$5-$K$5))-'MOD-Berechnungen'!P70","v":0},{"$f":"OFFSET('MOD-Berechnungen'!Q70,0,-MIN('D-Dauer Goldenes Ende'!R11,Q$5-$K$5))-'MOD-Berechnungen'!Q70","v":0},{"$f":"OFFSET('MOD-Berechnungen'!R70,0,-MIN('D-Dauer Goldenes Ende'!S11,R$5-$K$5))-'MOD-Berechnungen'!R70","v":0},{"$f":"OFFSET('MOD-Berechnungen'!S70,0,-MIN('D-Dauer Goldenes Ende'!T11,S$5-$K$5))-'MOD-Berechnungen'!S70","v":0},{"$f":"OFFSET('MOD-Berechnungen'!T70,0,-MIN('D-Dauer Goldenes Ende'!U11,T$5-$K$5))-'MOD-Berechnungen'!T70","v":0},{"$f":"OFFSET('MOD-Berechnungen'!U70,0,-MIN('D-Dauer Goldenes Ende'!V11,U$5-$K$5))-'MOD-Berechnungen'!U70","v":0},{"$f":"OFFSET('MOD-Berechnungen'!V70,0,-MIN('D-Dauer Goldenes Ende'!W11,V$5-$K$5))-'MOD-Berechnungen'!V70","v":0},{"$f":"OFFSET('MOD-Berechnungen'!W70,0,-MIN('D-Dauer Goldenes Ende'!X11,W$5-$K$5))-'MOD-Berechnungen'!W70","v":0},{"$f":"OFFSET('MOD-Berechnungen'!X70,0,-MIN('D-Dauer Goldenes Ende'!Y11,X$5-$K$5))-'MOD-Berechnungen'!X70","v":0},{"$f":"OFFSET('MOD-Berechnungen'!Y70,0,-MIN('D-Dauer Goldenes Ende'!Z11,Y$5-$K$5))-'MOD-Berechnungen'!Y70","v":0},{"$f":"OFFSET('MOD-Berechnungen'!Z70,0,-MIN('D-Dauer Goldenes Ende'!AA11,Z$5-$K$5))-'MOD-Berechnungen'!Z70","v":0},{"$f":"OFFSET('MOD-Berechnungen'!AA70,0,-MIN('D-Dauer Goldenes Ende'!AB11,AA$5-$K$5))-'MOD-Berechnungen'!AA70","v":0},{"$f":"OFFSET('MOD-Berechnungen'!AB70,0,-MIN('D-Dauer Goldenes Ende'!AC11,AB$5-$K$5))-'MOD-Berechnungen'!AB70","v":0},{"$f":"OFFSET('MOD-Berechnungen'!AC70,0,-MIN('D-Dauer Goldenes Ende'!AD11,AC$5-$K$5))-'MOD-Berechnungen'!AC70","v":0},{"$f":"OFFSET('MOD-Berechnungen'!AD70,0,-MIN('D-Dauer Goldenes Ende'!AE11,AD$5-$K$5))-'MOD-Berechnungen'!AD70","v":0},{"$f":"OFFSET('MOD-Berechnungen'!AE70,0,-MIN('D-Dauer Goldenes Ende'!AF11,AE$5-$K$5))-'MOD-Berechnungen'!AE70","v":0}]
["192.9",null,null,null,"Solar",0,0,0,0,0,{"$f":"OFFSET('MOD-Berechnungen'!K71,0,-MIN('D-Dauer Goldenes Ende'!L12,K$5-$K$5))-'MOD-Berechnungen'!K71","v":0},{"$f":"OFFSET('MOD-Berechnungen'!L71,0,-MIN('D-Dauer Goldenes Ende'!M12,L$5-$K$5))-'MOD-Berechnungen'!L71","v":0},{"$f":"OFFSET('MOD-Berechnungen'!M71,0,-MIN('D-Dauer Goldenes Ende'!N12,M$5-$K$5))-'MOD-Berechnungen'!M71","v":0},{"$f":"OFFSET('MOD-Berechnungen'!N71,0,-MIN('D-Dauer Goldenes Ende'!O12,N$5-$K$5))-'MOD-Berechnungen'!N71","v":0},{"$f":"OFFSET('MOD-Berechnungen'!O71,0,-MIN('D-Dauer Goldenes Ende'!P12,O$5-$K$5))-'MOD-Berechnungen'!O71","v":0},{"$f":"OFFSET('MOD-Berechnungen'!P71,0,-MIN('D-Dauer Goldenes Ende'!Q12,P$5-$K$5))-'MOD-Berechnungen'!P71","v":0},{"$f":"OFFSET('MOD-Berechnungen'!Q71,0,-MIN('D-Dauer Goldenes Ende'!R12,Q$5-$K$5))-'MOD-Berechnungen'!Q71","v":0.12397249399993626},{"$f":"OFFSET('MOD-Berechnungen'!R71,0,-MIN('D-Dauer Goldenes Ende'!S12,R$5-$K$5))-'MOD-Berechnungen'!R71","v":0.23261118399993563},{"$f":"OFFSET('MOD-Berechnungen'!S71,0,-MIN('D-Dauer Goldenes Ende'!T12,S$5-$K$5))-'MOD-Berechnungen'!S71","v":0.34283273399993419},{"$f":"OFFSET('MOD-Berechnungen'!T71,0,-MIN('D-Dauer Goldenes Ende'!U12,T$5-$K$5))-'MOD-Berechnungen'!T71","v":0.48527928399993669},{"$f":"OFFSET('MOD-Berechnungen'!U71,0,-MIN('D-Dauer Goldenes Ende'!V12,U$5-$K$5))-'MOD-Berechnungen'!U71","v":1.1413085839999368},{"$f":"OFFSET('MOD-Berechnungen'!V71,0,-MIN('D-Dauer Goldenes Ende'!W12,V$5-$K$5))-'MOD-Berechnungen'!V71","v":1.9419381499999986},{"$f":"OFFSET('MOD-Berechnungen'!W71,0,-MIN('D-Dauer Goldenes Ende'!X12,W$5-$K$5))-'MOD-Berechnungen'!W71","v":2.6778944100000004},{"$f":"OFFSET('MOD-Berechnungen'!X71,0,-MIN('D-Dauer Goldenes Ende'!Y12,X$5-$K$5))-'MOD-Berechnungen'!X71","v":3.8214239860000063},{"$f":"OFFSET('MOD-Berechnungen'!Y71,0,-MIN('D-Dauer Goldenes Ende'!Z12,Y$5-$K$5))-'MOD-Berechnungen'!Y71","v":5.6585205460000019},{"$f":"OFFSET('MOD-Berechnungen'!Z71,0,-MIN('D-Dauer Goldenes Ende'!AA12,Z$5-$K$5))-'MOD-Berechnungen'!Z71","v":9.4409510860000161},{"$f":"OFFSET('MOD-Berechnungen'!AA71,0,-MIN('D-Dauer Goldenes Ende'!AB12,AA$5-$K$5))-'MOD-Berechnungen'!AA71","v":16.110225366000051},{"$f":"OFFSET('MOD-Berechnungen'!AB71,0,-MIN('D-Dauer Goldenes Ende'!AC12,AB$5-$K$5))-'MOD-Berechnungen'!AB71","v":23.266020476000055},{"$f":"OFFSET('MOD-Berechnungen'!AC71,0,-MIN('D-Dauer Goldenes Ende'!AD12,AC$5-$K$5))-'MOD-Berechnungen'!AC71","v":28.854563230000075},{"$f":"OFFSET('MOD-Berechnungen'!AD71,0,-MIN('D-Dauer Goldenes Ende'!AE12,AD$5-$K$5))-'MOD-Berechnungen'!AD71","v":30.010640880000061},{"$f":"OFFSET('MOD-Berechnungen'!AE71,0,-MIN('D-Dauer Goldenes Ende'!AF12,AE$5-$K$5))-'MOD-Berechnungen'!AE71","v":27.317740330000046}]
["192.10"]
["192.11",null,null,null,"EE-Kapazitäten außerhalb EEG",{"$f":"SUM(F199:F205)+SUM('D-EE-Kapazitäten nicht EEG'!G6:G12)","v":4.840091199999998},{"$f":"SUM(G199:G205)+SUM('D-EE-Kapazitäten nicht EEG'!H6:H12)","v":4.840091199999998},{"$f":"SUM(H199:H205)+SUM('D-EE-Kapazitäten nicht EEG'!I6:I12)","v":4.7665611999999973},{"$f":"SUM(I199:I205)+SUM('D-EE-Kapazitäten nicht EEG'!J6:J12)","v":5.2694293699999983},{"$f":"SUM(J199:J205)+SUM('D-EE-Kapazitäten nicht EEG'!K6:K12)","v":5.5089811999999982},{"$f":"SUM(K199:K205)+SUM('D-EE-Kapazitäten nicht EEG'!L6:L12)","v":5.5479792599999973},{"$f":"SUM(L199:L205)+SUM('D-EE-Kapazitäten nicht EEG'!M6:M12)","v":5.5479792599999973},{"$f":"SUM(M199:M205)+SUM('D-EE-Kapazitäten nicht EEG'!N6:N12)","v":5.5479792599999973},{"$f":"SUM(N199:N205)+SUM('D-EE-Kapazitäten nicht EEG'!O6:O12)","v":5.5479792599999973},{"$f":"SUM(O199:O205)+SUM('D-EE-Kapazitäten nicht EEG'!P6:P12)","v":5.5479792599999973},{"$f":"SUM(P199:P205)+SUM('D-EE-Kapazitäten nicht EEG'!Q6:Q12)","v":6.247979259999993},{"$f":"SUM(Q199:Q205)+SUM('D-EE-Kapazitäten nicht EEG'!R6:R12)","v":7.4777448639999369},{"$f":"SUM(R199:R205)+SUM('D-EE-Kapazitäten nicht EEG'!S6:S12)","v":11.980057353999932},{"$f":"SUM(S199:S205)+SUM('D-EE-Kapazitäten nicht EEG'!T6:T12)","v":14.640481993999931},{"$f":"SUM(T199:T205)+SUM('D-EE-Kapazitäten nicht EEG'!U6:U12)","v":16.900796543999931},{"$f":"SUM(U199:U205)+SUM('D-EE-Kapazitäten nicht EEG'!V6:V12)","v":18.910596843999937},{"$f":"SUM(V199:V205)+SUM('D-EE-Kapazitäten nicht EEG'!W6:W12)","v":19.719476799999995},{"$f":"SUM(W199:W205)+SUM('D-EE-Kapazitäten nicht EEG'!X6:X12)","v":20.091597259999997},{"$f":"SUM(X199:X205)+SUM('D-EE-Kapazitäten nicht EEG'!Y6:Y12)","v":19.871169946000006},{"$f":"SUM(Y199:Y205)+SUM('D-EE-Kapazitäten nicht EEG'!Z6:Z12)","v":19.762262506000003},{"$f":"SUM(Z199:Z205)+SUM('D-EE-Kapazitäten nicht EEG'!AA6:AA12)","v":24.190261966000016},{"$f":"SUM(AA199:AA205)+SUM('D-EE-Kapazitäten nicht EEG'!AB6:AB12)","v":30.472152396000048},{"$f":"SUM(AB199:AB205)+SUM('D-EE-Kapazitäten nicht EEG'!AC6:AC12)","v":37.274591766000057},{"$f":"SUM(AC199:AC205)+SUM('D-EE-Kapazitäten nicht EEG'!AD6:AD12)","v":43.598012850000075},{"$f":"SUM(AD199:AD205)+SUM('D-EE-Kapazitäten nicht EEG'!AE6:AE12)","v":47.014658290000057},{"$f":"SUM(AE199:AE205)+SUM('D-EE-Kapazitäten nicht EEG'!AF6:AF12)","v":46.407648450000046},null,null,"Summe aus Leistungen von Anlagen im goldenen Ende + Summe aus Leistungen von Anlagen, die keine EEG-Förderung erhalten"]
[193]
[194,null,null,null,"Strom aus Anlagen, die nach dem Ende der Förderperiode weiter betrieben werden (goldenes Ende) [TWh/a]",null,null,null,null,null,null,null,null,null,null,null,null,null,null,null,null,null,null,null,null,null,null,null,null,null,null,"v2.1.31",null,"Strommenge wird berechnet aus verbleibenden Strommengen aus Bestandsanlagen (Baujahr <2015) und der Dauer des \"Goldenen Endes\" in Jahren. "]
[195,null,null,null,"Wasser",0,0,0,0,0,{"$f":"OFFSET('MOD-Berechnungen'!K74,0,-MIN('D-Dauer Goldenes Ende'!L6,K$5-$K$5))-'MOD-Berechnungen'!K74","v":0},{"$f":"OFFSET('MOD-Berechnungen'!L74,0,-MIN('D-Dauer Goldenes Ende'!M6,L$5-$K$5))-'MOD-Berechnungen'!L74","v":0},{"$f":"OFFSET('MOD-Berechnungen'!M74,0,-MIN('D-Dauer Goldenes Ende'!N6,M$5-$K$5))-'MOD-Berechnungen'!M74","v":0},{"$f":"OFFSET('MOD-Berechnungen'!N74,0,-MIN('D-Dauer Goldenes Ende'!O6,N$5-$K$5))-'MOD-Berechnungen'!N74","v":0},{"$f":"OFFSET('MOD-Berechnungen'!O74,0,-MIN('D-Dauer Goldenes Ende'!P6,O$5-$K$5))-'MOD-Berechnungen'!O74","v":0},{"$f":"OFFSET('MOD-Berechnungen'!P74,0,-MIN('D-Dauer Goldenes Ende'!Q6,P$5-$K$5))-'MOD-Berechnungen'!P74","v":0},{"$f":"OFFSET('MOD-Berechnungen'!Q74,0,-MIN('D-Dauer Goldenes Ende'!R6,Q$5-$K$5))-'MOD-Berechnungen'!Q74","v":0},{"$f":"OFFSET('MOD-Berechnungen'!R74,0,-MIN('D-Dauer Goldenes Ende'!S6,R$5-$K$5))-'MOD-Berechnungen'!R74","v":0},{"$f":"OFFSET('MOD-Berechnungen'!S74,0,-MIN('D-Dauer Goldenes Ende'!T6,S$5-$K$5))-'MOD-Berechnungen'!S74","v":0},{"$f":"OFFSET('MOD-Berechnungen'!T74,0,-MIN('D-Dauer Goldenes Ende'!U6,T$5-$K$5))-'MOD-Berechnungen'!T74","v":0},{"$f":"OFFSET('MOD-Berechnungen'!U74,0,-MIN('D-Dauer Goldenes Ende'!V6,U$5-$K$5))-'MOD-Berechnungen'!U74","v":0},{"$f":"OFFSET('MOD-Berechnungen'!V74,0,-MIN('D-Dauer Goldenes Ende'!W6,V$5-$K$5))-'MOD-Berechnungen'!V74","v":0},{"$f":"OFFSET('MOD-Berechnungen'!W74,0,-MIN('D-Dauer Goldenes Ende'!X6,W$5-$K$5))-'MOD-Berechnungen'!W74","v":0},{"$f":"OFFSET('MOD-Berechnungen'!X74,0,-MIN('D-Dauer Goldenes Ende'!Y6,X$5-$K$5))-'MOD-Berechnungen'!X74","v":0},{"$f":"OFFSET('MOD-Berechnungen'!Y74,0,-MIN('D-Dauer Goldenes Ende'!Z6,Y$5-$K$5))-'MOD-Berechnungen'!Y74","v":0},{"$f":"OFFSET('MOD-Berechnungen'!Z74,0,-MIN('D-Dauer Goldenes Ende'!AA6,Z$5-$K$5))-'MOD-Berechnungen'!Z74","v":0},{"$f":"OFFSET('MOD-Berechnungen'!AA74,0,-MIN('D-Dauer Goldenes Ende'!AB6,AA$5-$K$5))-'MOD-Berechnungen'!AA74","v":0},{"$f":"OFFSET('MOD-Berechnungen'!AB74,0,-MIN('D-Dauer Goldenes Ende'!AC6,AB$5-$K$5))-'MOD-Berechnungen'!AB74","v":0},{"$f":"OFFSET('MOD-Berechnungen'!AC74,0,-MIN('D-Dauer Goldenes Ende'!AD6,AC$5-$K$5))-'MOD-Berechnungen'!AC74","v":0},{"$f":"OFFSET('MOD-Berechnungen'!AD74,0,-MIN('D-Dauer Goldenes Ende'!AE6,AD$5-$K$5))-'MOD-Berechnungen'!AD74","v":0},{"$f":"OFFSET('MOD-Berechnungen'!AE74,0,-MIN('D-Dauer Goldenes Ende'!AF6,AE$5-$K$5))-'MOD-Berechnungen'!AE74","v":0},"v2.1.31","v2.1.35"]
[196,null,null,null,"Gas",0,0,0,0,0,{"$f":"OFFSET('MOD-Berechnungen'!K75,0,-MIN('D-Dauer Goldenes Ende'!L7,K$5-$K$5))-'MOD-Berechnungen'!K75","v":0},{"$f":"OFFSET('MOD-Berechnungen'!L75,0,-MIN('D-Dauer Goldenes Ende'!M7,L$5-$K$5))-'MOD-Berechnungen'!L75","v":0},{"$f":"OFFSET('MOD-Berechnungen'!M75,0,-MIN('D-Dauer Goldenes Ende'!N7,M$5-$K$5))-'MOD-Berechnungen'!M75","v":0},{"$f":"OFFSET('MOD-Berechnungen'!N75,0,-MIN('D-Dauer Goldenes Ende'!O7,N$5-$K$5))-'MOD-Berechnungen'!N75","v":0},{"$f":"OFFSET('MOD-Berechnungen'!O75,0,-MIN('D-Dauer Goldenes Ende'!P7,O$5-$K$5))-'MOD-Berechnungen'!O75","v":0},{"$f":"OFFSET('MOD-Berechnungen'!P75,0,-MIN('D-Dauer Goldenes Ende'!Q7,P$5-$K$5))-'MOD-Berechnungen'!P75","v":0},{"$f":"OFFSET('MOD-Berechnungen'!Q75,0,-MIN('D-Dauer Goldenes Ende'!R7,Q$5-$K$5))-'MOD-Berechnungen'!Q75","v":0},{"$f":"OFFSET('MOD-Berechnungen'!R75,0,-MIN('D-Dauer Goldenes Ende'!S7,R$5-$K$5))-'MOD-Berechnungen'!R75","v":0},{"$f":"OFFSET('MOD-Berechnungen'!S75,0,-MIN('D-Dauer Goldenes Ende'!T7,S$5-$K$5))-'MOD-Berechnungen'!S75","v":0},{"$f":"OFFSET('MOD-Berechnungen'!T75,0,-MIN('D-Dauer Goldenes Ende'!U7,T$5-$K$5))-'MOD-Berechnungen'!T75","v":0},{"$f":"OFFSET('MOD-Berechnungen'!U75,0,-MIN('D-Dauer Goldenes Ende'!V7,U$5-$K$5))-'MOD-Berechnungen'!U75","v":0},{"$f":"OFFSET('MOD-Berechnungen'!V75,0,-MIN('D-Dauer Goldenes Ende'!W7,V$5-$K$5))-'MOD-Berechnungen'!V75","v":0},{"$f":"OFFSET('MOD-Berechnungen'!W75,0,-MIN('D-Dauer Goldenes Ende'!X7,W$5-$K$5))-'MOD-Berechnungen'!W75","v":0},{"$f":"OFFSET('MOD-Berechnungen'!X75,0,-MIN('D-Dauer Goldenes Ende'!Y7,X$5-$K$5))-'MOD-Berechnungen'!X75","v":0},{"$f":"OFFSET('MOD-Berechnungen'!Y75,0,-MIN('D-Dauer Goldenes Ende'!Z7,Y$5-$K$5))-'MOD-Berechnungen'!Y75","v":0},{"$f":"OFFSET('MOD-Berechnungen'!Z75,0,-MIN('D-Dauer Goldenes Ende'!AA7,Z$5-$K$5))-'MOD-Berechnungen'!Z75","v":0},{"$f":"OFFSET('MOD-Berechnungen'!AA75,0,-MIN('D-Dauer Goldenes Ende'!AB7,AA$5-$K$5))-'MOD-Berechnungen'!AA75","v":0},{"$f":"OFFSET('MOD-Berechnungen'!AB75,0,-MIN('D-Dauer Goldenes Ende'!AC7,AB$5-$K$5))-'MOD-Berechnungen'!AB75","v":0},{"$f":"OFFSET('MOD-Berechnungen'!AC75,0,-MIN('D-Dauer Goldenes Ende'!AD7,AC$5-$K$5))-'MOD-Berechnungen'!AC75","v":0},{"$f":"OFFSET('MOD-Berechnungen'!AD75,0,-MIN('D-Dauer Goldenes Ende'!AE7,AD$5-$K$5))-'MOD-Berechnungen'!AD75","v":0},{"$f":"OFFSET('MOD-Berechnungen'!AE75,0,-MIN('D-Dauer Goldenes Ende'!AF7,AE$5-$K$5))-'MOD-Berechnungen'!AE75","v":0},"v2.1.31","v2.1.35"]
[197,null,null,null,"Biomasse",0,0,0,0,0,{"$f":"OFFSET('MOD-Berechnungen'!K76,0,-MIN('D-Dauer Goldenes Ende'!L8,K$5-$K$5))-'MOD-Berechnungen'!K76","v":0},{"$f":"OFFSET('MOD-Berechnungen'!L76,0,-MIN('D-Dauer Goldenes Ende'!M8,L$5-$K$5))-'MOD-Berechnungen'!L76","v":0},{"$f":"OFFSET('MOD-Berechnungen'!M76,0,-MIN('D-Dauer Goldenes Ende'!N8,M$5-$K$5))-'MOD-Berechnungen'!M76","v":0},{"$f":"OFFSET('MOD-Berechnungen'!N76,0,-MIN('D-Dauer Goldenes Ende'!O8,N$5-$K$5))-'MOD-Berechnungen'!N76","v":0},{"$f":"OFFSET('MOD-Berechnungen'!O76,0,-MIN('D-Dauer Goldenes Ende'!P8,O$5-$K$5))-'MOD-Berechnungen'!O76","v":0},{"$f":"OFFSET('MOD-Berechnungen'!P76,0,-MIN('D-Dauer Goldenes Ende'!Q8,P$5-$K$5))-'MOD-Berechnungen'!P76","v":0},{"$f":"OFFSET('MOD-Berechnungen'!Q76,0,-MIN('D-Dauer Goldenes Ende'!R8,Q$5-$K$5))-'MOD-Berechnungen'!Q76","v":0},{"$f":"OFFSET('MOD-Berechnungen'!R76,0,-MIN('D-Dauer Goldenes Ende'!S8,R$5-$K$5))-'MOD-Berechnungen'!R76","v":0},{"$f":"OFFSET('MOD-Berechnungen'!S76,0,-MIN('D-Dauer Goldenes Ende'!T8,S$5-$K$5))-'MOD-Berechnungen'!S76","v":0},{"$f":"OFFSET('MOD-Berechnungen'!T76,0,-MIN('D-Dauer Goldenes Ende'!U8,T$5-$K$5))-'MOD-Berechnungen'!T76","v":0},{"$f":"OFFSET('MOD-Berechnungen'!U76,0,-MIN('D-Dauer Goldenes Ende'!V8,U$5-$K$5))-'MOD-Berechnungen'!U76","v":0},{"$f":"OFFSET('MOD-Berechnungen'!V76,0,-MIN('D-Dauer Goldenes Ende'!W8,V$5-$K$5))-'MOD-Berechnungen'!V76","v":0},{"$f":"OFFSET('MOD-Berechnungen'!W76,0,-MIN('D-Dauer Goldenes Ende'!X8,W$5-$K$5))-'MOD-Berechnungen'!W76","v":0},{"$f":"OFFSET('MOD-Berechnungen'!X76,0,-MIN('D-Dauer Goldenes Ende'!Y8,X$5-$K$5))-'MOD-Berechnungen'!X76","v":0},{"$f":"OFFSET('MOD-Berechnungen'!Y76,0,-MIN('D-Dauer Goldenes Ende'!Z8,Y$5-$K$5))-'MOD-Berechnungen'!Y76","v":0},{"$f":"OFFSET('MOD-Berechnungen'!Z76,0,-MIN('D-Dauer Goldenes Ende'!AA8,Z$5-$K$5))-'MOD-Berechnungen'!Z76","v":0},{"$f":"OFFSET('MOD-Berechnungen'!AA76,0,-MIN('D-Dauer Goldenes Ende'!AB8,AA$5-$K$5))-'MOD-Berechnungen'!AA76","v":0},{"$f":"OFFSET('MOD-Berechnungen'!AB76,0,-MIN('D-Dauer Goldenes Ende'!AC8,AB$5-$K$5))-'MOD-Berechnungen'!AB76","v":0},{"$f":"OFFSET('MOD-Berechnungen'!AC76,0,-MIN('D-Dauer Goldenes Ende'!AD8,AC$5-$K$5))-'MOD-Berechnungen'!AC76","v":0},{"$f":"OFFSET('MOD-Berechnungen'!AD76,0,-MIN('D-Dauer Goldenes Ende'!AE8,AD$5-$K$5))-'MOD-Berechnungen'!AD76","v":0},{"$f":"OFFSET('MOD-Berechnungen'!AE76,0,-MIN('D-Dauer Goldenes Ende'!AF8,AE$5-$K$5))-'MOD-Berechnungen'!AE76","v":0},"v2.1.31","v2.1.35"]
[198,null,null,null,"Geothermie",0,0,0,0,0,{"$f":"OFFSET('MOD-Berechnungen'!K77,0,-MIN('D-Dauer Goldenes Ende'!L9,K$5-$K$5))-'MOD-Berechnungen'!K77","v":0},{"$f":"OFFSET('MOD-Berechnungen'!L77,0,-MIN('D-Dauer Goldenes Ende'!M9,L$5-$K$5))-'MOD-Berechnungen'!L77","v":0},{"$f":"OFFSET('MOD-Berechnungen'!M77,0,-MIN('D-Dauer Goldenes Ende'!N9,M$5-$K$5))-'MOD-Berechnungen'!M77","v":0},{"$f":"OFFSET('MOD-Berechnungen'!N77,0,-MIN('D-Dauer Goldenes Ende'!O9,N$5-$K$5))-'MOD-Berechnungen'!N77","v":0},{"$f":"OFFSET('MOD-Berechnungen'!O77,0,-MIN('D-Dauer Goldenes Ende'!P9,O$5-$K$5))-'MOD-Berechnungen'!O77","v":0},{"$f":"OFFSET('MOD-Berechnungen'!P77,0,-MIN('D-Dauer Goldenes Ende'!Q9,P$5-$K$5))-'MOD-Berechnungen'!P77","v":0},{"$f":"OFFSET('MOD-Berechnungen'!Q77,0,-MIN('D-Dauer Goldenes Ende'!R9,Q$5-$K$5))-'MOD-Berechnungen'!Q77","v":0},{"$f":"OFFSET('MOD-Berechnungen'!R77,0,-MIN('D-Dauer Goldenes Ende'!S9,R$5-$K$5))-'MOD-Berechnungen'!R77","v":0},{"$f":"OFFSET('MOD-Berechnungen'!S77,0,-MIN('D-Dauer Goldenes Ende'!T9,S$5-$K$5))-'MOD-Berechnungen'!S77","v":0},{"$f":"OFFSET('MOD-Berechnungen'!T77,0,-MIN('D-Dauer Goldenes Ende'!U9,T$5-$K$5))-'MOD-Berechnungen'!T77","v":0},{"$f":"OFFSET('MOD-Berechnungen'!U77,0,-MIN('D-Dauer Goldenes Ende'!V9,U$5-$K$5))-'MOD-Berechnungen'!U77","v":0},{"$f":"OFFSET('MOD-Berechnungen'!V77,0,-MIN('D-Dauer Goldenes Ende'!W9,V$5-$K$5))-'MOD-Berechnungen'!V77","v":0},{"$f":"OFFSET('MOD-Berechnungen'!W77,0,-MIN('D-Dauer Goldenes Ende'!X9,W$5-$K$5))-'MOD-Berechnungen'!W77","v":0},{"$f":"OFFSET('MOD-Berechnungen'!X77,0,-MIN('D-Dauer Goldenes Ende'!Y9,X$5-$K$5))-'MOD-Berechnungen'!X77","v":0},{"$f":"OFFSET('MOD-Berechnungen'!Y77,0,-MIN('D-Dauer Goldenes Ende'!Z9,Y$5-$K$5))-'MOD-Berechnungen'!Y77","v":0},{"$f":"OFFSET('MOD-Berechnungen'!Z77,0,-MIN('D-Dauer Goldenes Ende'!AA9,Z$5-$K$5))-'MOD-Berechnungen'!Z77","v":0},{"$f":"OFFSET('MOD-Berechnungen'!AA77,0,-MIN('D-Dauer Goldenes Ende'!AB9,AA$5-$K$5))-'MOD-Berechnungen'!AA77","v":0},{"$f":"OFFSET('MOD-Berechnungen'!AB77,0,-MIN('D-Dauer Goldenes Ende'!AC9,AB$5-$K$5))-'MOD-Berechnungen'!AB77","v":0},{"$f":"OFFSET('MOD-Berechnungen'!AC77,0,-MIN('D-Dauer Goldenes Ende'!AD9,AC$5-$K$5))-'MOD-Berechnungen'!AC77","v":0},{"$f":"OFFSET('MOD-Berechnungen'!AD77,0,-MIN('D-Dauer Goldenes Ende'!AE9,AD$5-$K$5))-'MOD-Berechnungen'!AD77","v":0},{"$f":"OFFSET('MOD-Berechnungen'!AE77,0,-MIN('D-Dauer Goldenes Ende'!AF9,AE$5-$K$5))-'MOD-Berechnungen'!AE77","v":0},"v2.1.31","v2.1.35"]
[199,null,null,null,"Wind Onshore",0,0,0,0,0,{"$f":"OFFSET('MOD-Berechnungen'!K78,0,-MIN('D-Dauer Goldenes Ende'!L10,K$5-$K$5))-'MOD-Berechnungen'!K78","v":0},{"$f":"OFFSET('MOD-Berechnungen'!L78,0,-MIN('D-Dauer Goldenes Ende'!M10,L$5-$K$5))-'MOD-Berechnungen'!L78","v":0},{"$f":"OFFSET('MOD-Berechnungen'!M78,0,-MIN('D-Dauer Goldenes Ende'!N10,M$5-$K$5))-'MOD-Berechnungen'!M78","v":0},{"$f":"OFFSET('MOD-Berechnungen'!N78,0,-MIN('D-Dauer Goldenes Ende'!O10,N$5-$K$5))-'MOD-Berechnungen'!N78","v":0},{"$f":"OFFSET('MOD-Berechnungen'!O78,0,-MIN('D-Dauer Goldenes Ende'!P10,O$5-$K$5))-'MOD-Berechnungen'!O78","v":0},{"$f":"OFFSET('MOD-Berechnungen'!P78,0,-MIN('D-Dauer Goldenes Ende'!Q10,P$5-$K$5))-'MOD-Berechnungen'!P78","v":1.1458999999999904},{"$f":"OFFSET('MOD-Berechnungen'!Q78,0,-MIN('D-Dauer Goldenes Ende'!R10,Q$5-$K$5))-'MOD-Berechnungen'!Q78","v":2.956083321070011},{"$f":"OFFSET('MOD-Berechnungen'!R78,0,-MIN('D-Dauer Goldenes Ende'!S10,R$5-$K$5))-'MOD-Berechnungen'!R78","v":10.148527331669996},{"$f":"OFFSET('MOD-Berechnungen'!S78,0,-MIN('D-Dauer Goldenes Ende'!T10,S$5-$K$5))-'MOD-Berechnungen'!S78","v":14.323209789999993},{"$f":"OFFSET('MOD-Berechnungen'!T78,0,-MIN('D-Dauer Goldenes Ende'!U10,T$5-$K$5))-'MOD-Berechnungen'!T78","v":17.790159705999997},{"$f":"OFFSET('MOD-Berechnungen'!U78,0,-MIN('D-Dauer Goldenes Ende'!V10,U$5-$K$5))-'MOD-Berechnungen'!U78","v":20.006282833000007},{"$f":"OFFSET('MOD-Berechnungen'!V78,0,-MIN('D-Dauer Goldenes Ende'!W10,V$5-$K$5))-'MOD-Berechnungen'!V78","v":20.019788721429997},{"$f":"OFFSET('MOD-Berechnungen'!W78,0,-MIN('D-Dauer Goldenes Ende'!X10,W$5-$K$5))-'MOD-Berechnungen'!W78","v":19.424189516829991},{"$f":"OFFSET('MOD-Berechnungen'!X78,0,-MIN('D-Dauer Goldenes Ende'!Y10,X$5-$K$5))-'MOD-Berechnungen'!X78","v":17.191392087900002},{"$f":"OFFSET('MOD-Berechnungen'!Y78,0,-MIN('D-Dauer Goldenes Ende'!Z10,Y$5-$K$5))-'MOD-Berechnungen'!Y78","v":14.005783539899998},{"$f":"OFFSET('MOD-Berechnungen'!Z78,0,-MIN('D-Dauer Goldenes Ende'!AA10,Z$5-$K$5))-'MOD-Berechnungen'!Z78","v":15.062579861939998},{"$f":"OFFSET('MOD-Berechnungen'!AA78,0,-MIN('D-Dauer Goldenes Ende'!AB10,AA$5-$K$5))-'MOD-Berechnungen'!AA78","v":14.428432499489997},{"$f":"OFFSET('MOD-Berechnungen'!AB78,0,-MIN('D-Dauer Goldenes Ende'!AC10,AB$5-$K$5))-'MOD-Berechnungen'!AB78","v":13.849989153110009},{"$f":"OFFSET('MOD-Berechnungen'!AC78,0,-MIN('D-Dauer Goldenes Ende'!AD10,AC$5-$K$5))-'MOD-Berechnungen'!AC78","v":15.05298497932},{"$f":"OFFSET('MOD-Berechnungen'!AD78,0,-MIN('D-Dauer Goldenes Ende'!AE10,AD$5-$K$5))-'MOD-Berechnungen'!AD78","v":18.753534451550003},{"$f":"OFFSET('MOD-Berechnungen'!AE78,0,-MIN('D-Dauer Goldenes Ende'!AF10,AE$5-$K$5))-'MOD-Berechnungen'!AE78","v":22.168137543819999},"v2.1.31","v2.1.35"]
[200,null,null,null,"Wind Offshore",0,0,0,0,0,{"$f":"OFFSET('MOD-Berechnungen'!K79,0,-MIN('D-Dauer Goldenes Ende'!L11,K$5-$K$5))-'MOD-Berechnungen'!K79","v":0},{"$f":"OFFSET('MOD-Berechnungen'!L79,0,-MIN('D-Dauer Goldenes Ende'!M11,L$5-$K$5))-'MOD-Berechnungen'!L79","v":0},{"$f":"OFFSET('MOD-Berechnungen'!M79,0,-MIN('D-Dauer Goldenes Ende'!N11,M$5-$K$5))-'MOD-Berechnungen'!M79","v":0},{"$f":"OFFSET('MOD-Berechnungen'!N79,0,-MIN('D-Dauer Goldenes Ende'!O11,N$5-$K$5))-'MOD-Berechnungen'!N79","v":0},{"$f":"OFFSET('MOD-Berechnungen'!O79,0,-MIN('D-Dauer Goldenes Ende'!P11,O$5-$K$5))-'MOD-Berechnungen'!O79","v":0},{"$f":"OFFSET('MOD-Berechnungen'!P79,0,-MIN('D-Dauer Goldenes Ende'!Q11,P$5-$K$5))-'MOD-Berechnungen'!P79","v":0},{"$f":"OFFSET('MOD-Berechnungen'!Q79,0,-MIN('D-Dauer Goldenes Ende'!R11,Q$5-$K$5))-'MOD-Berechnungen'!Q79","v":0},{"$f":"OFFSET('MOD-Berechnungen'!R79,0,-MIN('D-Dauer Goldenes Ende'!S11,R$5-$K$5))-'MOD-Berechnungen'!R79","v":0},{"$f":"OFFSET('MOD-Berechnungen'!S79,0,-MIN('D-Dauer Goldenes Ende'!T11,S$5-$K$5))-'MOD-Berechnungen'!S79","v":0},{"$f":"OFFSET('MOD-Berechnungen'!T79,0,-MIN('D-Dauer Goldenes Ende'!U11,T$5-$K$5))-'MOD-Berechnungen'!T79","v":0},{"$f":"OFFSET('MOD-Berechnungen'!U79,0,-MIN('D-Dauer Goldenes Ende'!V11,U$5-$K$5))-'MOD-Berechnungen'!U79","v":0},{"$f":"OFFSET('MOD-Berechnungen'!V79,0,-MIN('D-Dauer Goldenes Ende'!W11,V$5-$K$5))-'MOD-Berechnungen'!V79","v":0},{"$f":"OFFSET('MOD-Berechnungen'!W79,0,-MIN('D-Dauer Goldenes Ende'!X11,W$5-$K$5))-'MOD-Berechnungen'!W79","v":0},{"$f":"OFFSET('MOD-Berechnungen'!X79,0,-MIN('D-Dauer Goldenes Ende'!Y11,X$5-$K$5))-'MOD-Berechnungen'!X79","v":0},{"$f":"OFFSET('MOD-Berechnungen'!Y79,0,-MIN('D-Dauer Goldenes Ende'!Z11,Y$5-$K$5))-'MOD-Berechnungen'!Y79","v":0},{"$f":"OFFSET('MOD-Berechnungen'!Z79,0,-MIN('D-Dauer Goldenes Ende'!AA11,Z$5-$K$5))-'MOD-Berechnungen'!Z79","v":0},{"$f":"OFFSET('MOD-Berechnungen'!AA79,0,-MIN('D-Dauer Goldenes Ende'!AB11,AA$5-$K$5))-'MOD-Berechnungen'!AA79","v":0},{"$f":"OFFSET('MOD-Berechnungen'!AB79,0,-MIN('D-Dauer Goldenes Ende'!AC11,AB$5-$K$5))-'MOD-Berechnungen'!AB79","v":0},{"$f":"OFFSET('MOD-Berechnungen'!AC79,0,-MIN('D-Dauer Goldenes Ende'!AD11,AC$5-$K$5))-'MOD-Berechnungen'!AC79","v":0},{"$f":"OFFSET('MOD-Berechnungen'!AD79,0,-MIN('D-Dauer Goldenes Ende'!AE11,AD$5-$K$5))-'MOD-Berechnungen'!AD79","v":0},{"$f":"OFFSET('MOD-Berechnungen'!AE79,0,-MIN('D-Dauer Goldenes Ende'!AF11,AE$5-$K$5))-'MOD-Berechnungen'!AE79","v":0},"v2.1.31","v2.1.35"]
[201,null,null,null,"Solar",0,0,0,0,0,{"$f":"OFFSET('MOD-Berechnungen'!K80,0,-MIN('D-Dauer Goldenes Ende'!L12,K$5-$K$5))-'MOD-Berechnungen'!K80","v":0},{"$f":"OFFSET('MOD-Berechnungen'!L80,0,-MIN('D-Dauer Goldenes Ende'!M12,L$5-$K$5))-'MOD-Berechnungen'!L80","v":0},{"$f":"OFFSET('MOD-Berechnungen'!M80,0,-MIN('D-Dauer Goldenes Ende'!N12,M$5-$K$5))-'MOD-Berechnungen'!M80","v":0},{"$f":"OFFSET('MOD-Berechnungen'!N80,0,-MIN('D-Dauer Goldenes Ende'!O12,N$5-$K$5))-'MOD-Berechnungen'!N80","v":0},{"$f":"OFFSET('MOD-Berechnungen'!O80,0,-MIN('D-Dauer Goldenes Ende'!P12,O$5-$K$5))-'MOD-Berechnungen'!O80","v":0},{"$f":"OFFSET('MOD-Berechnungen'!P80,0,-MIN('D-Dauer Goldenes Ende'!Q12,P$5-$K$5))-'MOD-Berechnungen'!P80","v":0},{"$f":"OFFSET('MOD-Berechnungen'!Q80,0,-MIN('D-Dauer Goldenes Ende'!R12,Q$5-$K$5))-'MOD-Berechnungen'!Q80","v":0.11901359423994506},{"$f":"OFFSET('MOD-Berechnungen'!R80,0,-MIN('D-Dauer Goldenes Ende'!S12,R$5-$K$5))-'MOD-Berechnungen'!R80","v":0.22330673663994105},{"$f":"OFFSET('MOD-Berechnungen'!S80,0,-MIN('D-Dauer Goldenes Ende'!T12,S$5-$K$5))-'MOD-Berechnungen'!S80","v":0.32911942463994137},{"$f":"OFFSET('MOD-Berechnungen'!T80,0,-MIN('D-Dauer Goldenes Ende'!U12,T$5-$K$5))-'MOD-Berechnungen'!T80","v":0.46586811263993866},{"$f":"OFFSET('MOD-Berechnungen'!U80,0,-MIN('D-Dauer Goldenes Ende'!V12,U$5-$K$5))-'MOD-Berechnungen'!U80","v":1.0956562406399399},{"$f":"OFFSET('MOD-Berechnungen'!V80,0,-MIN('D-Dauer Goldenes Ende'!W12,V$5-$K$5))-'MOD-Berechnungen'!V80","v":1.8642606239999964},{"$f":"OFFSET('MOD-Berechnungen'!W80,0,-MIN('D-Dauer Goldenes Ende'!X12,W$5-$K$5))-'MOD-Berechnungen'!W80","v":2.5707786335999998},{"$f":"OFFSET('MOD-Berechnungen'!X80,0,-MIN('D-Dauer Goldenes Ende'!Y12,X$5-$K$5))-'MOD-Berechnungen'!X80","v":3.6685670265600052},{"$f":"OFFSET('MOD-Berechnungen'!Y80,0,-MIN('D-Dauer Goldenes Ende'!Z12,Y$5-$K$5))-'MOD-Berechnungen'!Y80","v":5.4321797241600045},{"$f":"OFFSET('MOD-Berechnungen'!Z80,0,-MIN('D-Dauer Goldenes Ende'!AA12,Z$5-$K$5))-'MOD-Berechnungen'!Z80","v":9.0633130425600186},{"$f":"OFFSET('MOD-Berechnungen'!AA80,0,-MIN('D-Dauer Goldenes Ende'!AB12,AA$5-$K$5))-'MOD-Berechnungen'!AA80","v":15.465816351360051},{"$f":"OFFSET('MOD-Berechnungen'!AB80,0,-MIN('D-Dauer Goldenes Ende'!AC12,AB$5-$K$5))-'MOD-Berechnungen'!AB80","v":22.33537965696005},{"$f":"OFFSET('MOD-Berechnungen'!AC80,0,-MIN('D-Dauer Goldenes Ende'!AD12,AC$5-$K$5))-'MOD-Berechnungen'!AC80","v":27.700380700800068},{"$f":"OFFSET('MOD-Berechnungen'!AD80,0,-MIN('D-Dauer Goldenes Ende'!AE12,AD$5-$K$5))-'MOD-Berechnungen'!AD80","v":28.810215244800059},{"$f":"OFFSET('MOD-Berechnungen'!AE80,0,-MIN('D-Dauer Goldenes Ende'!AF12,AE$5-$K$5))-'MOD-Berechnungen'!AE80","v":26.225030716800042},"v2.1.31","v2.1.35"]
[202]
[203,null,null,null,"Zielerreichungsgrafik"]
[204,null,null,null,"Nettostromverbrauch (TWh)",{"$f":"'MOD-Berechnungen'!F11","v":535.4},{"$f":"'MOD-Berechnungen'!G11","v":536.79999999999995},{"$f":"'MOD-Berechnungen'!H11","v":540.29999999999995},{"$f":"'MOD-Berechnungen'!I11","v":537.10000000000014},{"$f":"'MOD-Berechnungen'!J11","v":529.87864653548297},{"$f":"'MOD-Berechnungen'!K11","v":520.6},{"$f":"'MOD-Berechnungen'!L11","v":511.6},{"$f":"'MOD-Berechnungen'!M11","v":521.90464399999996},{"$f":"'MOD-Berechnungen'!N11","v":524.64},{"$f":"'MOD-Berechnungen'!O11","v":536.23646499999995},{"$f":"'MOD-Berechnungen'!P11","v":538.51776999999993},{"$f":"'MOD-Berechnungen'!Q11","v":518.52683000000002},{"$f":"'MOD-Berechnungen'!R11","v":527.57940444444444},{"$f":"'MOD-Berechnungen'!S11","v":536.63197888888885},{"$f":"'MOD-Berechnungen'!T11","v":545.68455333333327},{"$f":"'MOD-Berechnungen'!U11","v":554.73712777777769},{"$f":"'MOD-Berechnungen'!V11","v":563.7897022222221},{"$f":"'MOD-Berechnungen'!W11","v":572.84227666666652},{"$f":"'MOD-Berechnungen'!X11","v":581.89485111111105},{"$f":"'MOD-Berechnungen'!Y11","v":590.94742555555558},{"$f":"'MOD-Berechnungen'!Z11","v":600},{"$f":"'MOD-Berechnungen'!AA11","v":609.05257444444442},{"$f":"'MOD-Berechnungen'!AB11","v":618.10514888888883},{"$f":"'MOD-Berechnungen'!AC11","v":627.15772333333325},{"$f":"'MOD-Berechnungen'!AD11","v":636.21029777777767},{"$f":"'MOD-Berechnungen'!AE11","v":645.26287222222209}]
[205,null,null,null,"Netzverluste und Kraftwerkseigenverbrauch (TWh)",{"$f":"'D-Netzverl. u. KW-Eigenverbr.'!F6","v":79.900000000000006},{"$f":"'D-Netzverl. u. KW-Eigenverbr.'!G6","v":70},{"$f":"'D-Netzverl. u. KW-Eigenverbr.'!H6","v":66.8},{"$f":"'D-Netzverl. u. KW-Eigenverbr.'!I6","v":66.8},{"$f":"'D-Netzverl. u. KW-Eigenverbr.'!J6","v":68.099999999999994},{"$f":"'D-Netzverl. u. KW-Eigenverbr.'!K6","v":79},{"$f":"'D-Netzverl. u. KW-Eigenverbr.'!L6","v":86.5},{"$f":"'D-Netzverl. u. KW-Eigenverbr.'!M6","v":77.2},{"$f":"'D-Netzverl. u. KW-Eigenverbr.'!N6","v":70.3},{"$f":"'D-Netzverl. u. KW-Eigenverbr.'!O6","v":62},{"$f":"'D-Netzverl. u. KW-Eigenverbr.'!P6","v":62},{"$f":"'D-Netzverl. u. KW-Eigenverbr.'!Q6","v":62},{"$f":"'D-Netzverl. u. KW-Eigenverbr.'!R6","v":59.714285714285715},{"$f":"'D-Netzverl. u. KW-Eigenverbr.'!S6","v":57.428571428571431},{"$f":"'D-Netzverl. u. KW-Eigenverbr.'!T6","v":55.142857142857146},{"$f":"'D-Netzverl. u. KW-Eigenverbr.'!U6","v":52.857142857142861},{"$f":"'D-Netzverl. u. KW-Eigenverbr.'!V6","v":50.571428571428577},{"$f":"'D-Netzverl. u. KW-Eigenverbr.'!W6","v":48.285714285714292},{"$f":"'D-Netzverl. u. KW-Eigenverbr.'!X6","v":46.000000000000007},{"$f":"'D-Netzverl. u. KW-Eigenverbr.'!Y6","v":43.714285714285722},{"$f":"'D-Netzverl. u. KW-Eigenverbr.'!Z6","v":41.428571428571438},{"$f":"'D-Netzverl. u. KW-Eigenverbr.'!AA6","v":39.142857142857153},{"$f":"'D-Netzverl. u. KW-Eigenverbr.'!AB6","v":36.857142857142861},{"$f":"'D-Netzverl. u. KW-Eigenverbr.'!AC6","v":34.571428571428577},{"$f":"'D-Netzverl. u. KW-Eigenverbr.'!AD6","v":32.285714285714292},{"$f":"'D-Netzverl. u. KW-Eigenverbr.'!AE6","v":30}]
[206,null,null,null,"Bruttostromverbrauch (TWh)",{"$f":"F219+F220","v":615.29999999999995},{"$f":"G219+G220","v":606.79999999999995},607.09999999999991,603.90000000000009,597.97864653548299,{"$f":"K219+K220","v":599.6},598.1,{"$f":"M219+M220","v":599.10464400000001},{"$f":"N219+N220","v":594.93999999999994},598.23646499999995,600.51776999999993,580.52683000000002,587.2936901587301,594.0605503174603,600.82741047619038,607.59427063492058,614.36113079365066,621.12799095238086,627.89485111111105,634.66171126984136,641.42857142857144,648.19543158730153,654.96229174603172,661.72915190476181,668.496012063492,{"$f":"AE219+AE220","v":675.26287222222209}]
[207,null,null,null,"EE-Erzeugung (TWh)",{"$f":"'MOD-Berechnungen'!F245","v":90.230999999999995},{"$f":"'MOD-Berechnungen'!G245","v":110.32713299999998},{"$f":"'MOD-Berechnungen'!H245","v":113.51865999999998},{"$f":"'MOD-Berechnungen'!I245","v":134.44289299999997},{"$f":"'MOD-Berechnungen'!J245","v":149.23655299999999},{"$f":"'MOD-Berechnungen'!K245","v":160.48758199999997},{"$f":"'MOD-Berechnungen'!L245","v":176.427021},{"$f":"'MOD-Berechnungen'!M245","v":187.22620899999998},{"$f":"'MOD-Berechnungen'!N245","v":203.875407},{"$f":"'MOD-Berechnungen'!O245","v":217.00349199999999},{"$f":"'MOD-Berechnungen'!P245","v":225.61901599999999},{"$f":"'MOD-Berechnungen'!Q245","v":228.27263399999998},{"$f":"'MOD-Berechnungen'!R245","v":242.1430158016781},{"$f":"'MOD-Berechnungen'!S245","v":247.61377965664042},{"$f":"'MOD-Berechnungen'!T245","v":254.09142180558518},{"$f":"'MOD-Berechnungen'!U245","v":259.41094855272553},{"$f":"'MOD-Berechnungen'!V245","v":265.06729146292565},{"$f":"'MOD-Berechnungen'!W245","v":269.70699295303905},{"$f":"'MOD-Berechnungen'!X245","v":276.14002231001223},{"$f":"'MOD-Berechnungen'!Y245","v":285.04194942792731},{"$f":"'MOD-Berechnungen'!Z245","v":287.24760242882746},{"$f":"'MOD-Berechnungen'!AA245","v":287.60730435942628},{"$f":"'MOD-Berechnungen'!AB245","v":284.43307819969857},{"$f":"'MOD-Berechnungen'!AC245","v":285.76772330140136},{"$f":"'MOD-Berechnungen'!AD245","v":289.15362718155654},{"$f":"'MOD-Berechnungen'!AE245","v":291.12776567779269}]
[208,null,null,null,"EE-Erzeugung außerhalb EEG (TWh/a)",{"$f":"SUM('D-EE-Strommengen nicht EEG'!G6:G12) + SUM(F210:F216)","v":20.256},{"$f":"SUM('D-EE-Strommengen nicht EEG'!H6:H12) + SUM(G210:G216)","v":16.433254000000002},{"$f":"SUM('D-EE-Strommengen nicht EEG'!I6:I12) + SUM(H210:H216)","v":21.270144000000002},{"$f":"SUM('D-EE-Strommengen nicht EEG'!J6:J12) + SUM(I210:I216)","v":22.104711999999999},{"$f":"SUM('D-EE-Strommengen nicht EEG'!K6:K12) + SUM(J210:J216)","v":20.049999999999997},{"$f":"SUM('D-EE-Strommengen nicht EEG'!L6:L12) + SUM(K210:K216)","v":19.75},{"$f":"SUM('D-EE-Strommengen nicht EEG'!M6:M12) + SUM(L210:L216)","v":19.75},{"$f":"SUM('D-EE-Strommengen nicht EEG'!N6:N12) + SUM(M210:M216)","v":19.75},{"$f":"SUM('D-EE-Strommengen nicht EEG'!O6:O12) + SUM(N210:N216)","v":19.75},{"$f":"SUM('D-EE-Strommengen nicht EEG'!P6:P12) + SUM(O210:O216)","v":19.75},{"$f":"SUM('D-EE-Strommengen nicht EEG'!Q6:Q12) + SUM(P210:P216)","v":20.89589999999999},{"$f":"SUM('D-EE-Strommengen nicht EEG'!R6:R12) + SUM(Q210:Q216)","v":22.825096915309956},{"$f":"SUM('D-EE-Strommengen nicht EEG'!S6:S12) + SUM(R210:R216)","v":30.121834068309937},{"$f":"SUM('D-EE-Strommengen nicht EEG'!T6:T12) + SUM(S210:S216)","v":34.402329214639934},{"$f":"SUM('D-EE-Strommengen nicht EEG'!U6:U12) + SUM(T210:T216)","v":38.006027818639936},{"$f":"SUM('D-EE-Strommengen nicht EEG'!V6:V12) + SUM(U210:U216)","v":40.851939073639947},{"$f":"SUM('D-EE-Strommengen nicht EEG'!W6:W12) + SUM(V210:V216)","v":41.634049345429993},{"$f":"SUM('D-EE-Strommengen nicht EEG'!X6:X12) + SUM(W210:W216)","v":41.74496815042999},{"$f":"SUM('D-EE-Strommengen nicht EEG'!Y6:Y12) + SUM(X210:X216)","v":40.609959114460011},{"$f":"SUM('D-EE-Strommengen nicht EEG'!Z6:Z12) + SUM(Y210:Y216)","v":39.187963264060002},{"$f":"SUM('D-EE-Strommengen nicht EEG'!AA6:AA12) + SUM(Z210:Z216)","v":43.87589290450002},{"$f":"SUM('D-EE-Strommengen nicht EEG'!AB6:AB12) + SUM(AA210:AA216)","v":49.644248850850047},{"$f":"SUM('D-EE-Strommengen nicht EEG'!AC6:AC12) + SUM(AB210:AB216)","v":55.935368810070059},{"$f":"SUM('D-EE-Strommengen nicht EEG'!AD6:AD12) + SUM(AC210:AC216)","v":62.503365680120069},{"$f":"SUM('D-EE-Strommengen nicht EEG'!AE6:AE12) + SUM(AD210:AD216)","v":67.313749696350058},{"$f":"SUM('D-EE-Strommengen nicht EEG'!AF6:AF12) + SUM(AE210:AE216)","v":68.143168260620044},"v2.1.29","v2.1.31"]
[209]
[210,null,null,null,"Anteil Erneuerbarer",{"$f":"(F222+F223)/F221","v":0.17956606533398342},0.20889978081740276,0.22202076099489373,0.25922769498261294,0.28309799017205339,0.30059636757838554,{"$f":"(L222+L223)/L221","v":0.32800036950342748},{"$f":"(M222+M223)/M221","v":0.34547588818223213},0.37587892392510169,0.39575235855942015,0.41050394895058645,0.4325342394860715,0.46359232941256695,0.47472620210275479,0.48615866142445308,0.49418321096510404,0.49921996271500674,0.50142960169274786,0.50446341591105159,0.51087044788516212,{"$f":"(Z222+Z223)/Z221","v":0.51622816644394032},0.52029301160672237,0.51967640167863272,0.5263045884846338,0.53323785100463728,{"$f":"(AE222+AE223)/AE221","v":0.53204603528117611},null,"v2.1.29"]
[211,null,null,null,"Zielmarke gem. EEG:\n40-45% in 2025,\n55-60% in 2035",null,null,null,null,null,null,null,null,null,null,null,null,null,null,null,{"$f":"U228-U227","v":4.9999999999999989E-2},null,null,null,null,null,null,null,null,null,{"$f":"AE228-AE227","v":4.9999999999999933E-2},null,"v2.1.40"]
[212,null,null,null,"untere Grenze der Zielmarken",null,null,null,null,null,null,null,null,null,null,null,null,null,null,null,0.4,null,null,null,null,null,null,null,null,null,0.55000000000000004,null,"v2.1.40"]
[213,null,null,null,"obere Grenze der Zielmarken",null,null,null,null,null,null,null,null,null,null,null,null,null,null,null,0.45,null,null,null,null,null,null,null,null,null,0.6,null,"v2.1.40"]
[214,null,null,null,"Zielmarke Koalitionsvertrag 2018 65%",null,null,null,null,null,null,null,null,null,null,null,null,null,null,null,null,null,null,null,null,0.65]
[null,null,null,null,"Umlageanteile  [ct/kWh] für Übersichtsgrafik (jährliche Änderung), real oder nominal je nach Schalterstellung",2010,2011,2012,2013,2014,2015,2016,2017,2018,2019,2020,2021,2022,2023,2024,2025,2026,2027,2028,2029,2030,2031,2032,2033,2034,2035]
[null,null,null,null,"Einnahmen der Anlagenbetreiber gemäß Vergütungssatz (Baujahr > 2014)",null,{"$f":"G118-F118","v":0},0,0,0,0.35048805341235117,0.56676152246105849,0.5872278047748023,0.50387417834122439,0.39998982274596351,0.31607794781359466,0.31008263472583897,0.10231934100214168,0.10519693314567302,4.2583636959536264E-2,6.9180698180261402E-2,4.2072370833406314E-2,-9.0470201872583367E-2,5.5816787281012026E-2,5.6966862984761502E-2,0.12197860690935203,0.11376295688855365,0.10486782289800223,0.10021961557321024,9.0801093143783262E-2,-5.6354948295043172E-3]
[null,null,null,null,"Einnahmen aus Vermarktung",null,{"$f":"G119-F119","v":-3.3849593859787142E-2},-0.32675804925327934,-0.15876774422843365,0.16793347085595567,3.3007682520408643E-2,2.3303966512110863E-2,8.2490651336367238E-2,-0.28332416323024412,-0.59004044212675488,-0.33914640731158974,0.4471126178477034,-2.3411918484624463,0.49502031019276993,9.3317909638623853E-3,-0.23543604899970738,1.9517121209642774E-2,3.920755688733113E-2,1.3335754639878239E-2,-2.2233151484236657E-2,7.8335664617766199E-2,0.10921466785590095,0.16329448160511895,8.6875321353924839E-2,5.9273138895223454E-2,0.43838652874891171]
[null,null,null,null,"Liquiditätsreserve",null,{"$f":"G120-F120","v":0},9.9363640268897269E-2,0.31946584740793482,9.5670959943539302E-2,8.1379852136567954E-2,4.329902433504107E-2,-0.21944503971148088,1.7421852128782278E-2,-1.6237291669006393E-2,0.12527945691299291,0.22242068144829785,-0.4412080680616724,1.2129411805885393E-2,-1.8080708279629876E-2,-3.8855659903024753E-2,-2.9490366572435922E-2,-3.3835577257368077E-2,-2.5885429386263287E-2,-2.3687946110919067E-2,-3.0239506249971237E-2,-4.0273624749322862E-2,-3.6104319967602314E-2,-1.9375635032660245E-2,-4.0521416827546328E-3,1.509238446584768E-2]
[null,null,null,null,"Kontostand des Vorjahres",null,{"$f":"G121-F121","v":0.27301911687690317},-9.2504099442375559E-2,0.48936061812031861,-8.9380559378932189E-2,-0.96560768573786337,-0.30754878291326182,0.13761578492293824,-0.38921091261127827,-8.5394579118076686E-2,0.41409033943268692,1.800397924584257,-2.6968800277985672,1.1944194582739533,-1.2842547014678685E-2,1.7376581092537091E-2,3.6906922609590442E-2,2.870852776264507E-2,3.2994297237748826E-2,2.5289840360573163E-2,2.315677373317937E-2,2.952297007600202E-2,3.9377930323539298E-2,3.5296032801956714E-2,1.8967423714465824E-2,3.9508201536088347E-3]
[null,null,null,null,"Sonstige Effekte*\n*vermiedene Netzentgelte, Grünstromprivileg, sonstige Kosten",null,{"$f":"G123-F123","v":0.2044365729849198},-0.23736167483289211,-5.5892797263081051E-2,3.5504435661769251E-3,-8.1436241322596525E-2,-4.1295126791799586E-2,-3.7234356230366139E-2,6.0258558204650509E-2,3.8225747517463882E-2,5.3684243752281896E-2,-2.345673513361804E-3,-9.7346729667057014E-3,2.8887188135928443E-3,3.714634643231074E-3,7.3035695572755133E-3,7.0849922719513903E-3,7.9719592922976312E-3,5.5414990613667503E-3,2.4070907945976383E-3,4.5309188139791359E-3,6.1639071859499878E-3,1.0269672323901372E-2,2.340954398275398E-3,2.2733098218853248E-3,6.5306732681047475E-4]
[null,null,null,null,"Einnahmen der Anlagenbetreiber gemäß Vergütungssatz (Baujahr < 2015)",null,{"$f":"G124-F124","v":1.0396763362650057},0.61763287882386564,1.0922110520527628,0.78456804456258311,0.50169707407853892,-0.10131238007906962,-3.4604337773878946E-2,7.6414797118484756E-3,-0.11520199494641759,-0.21248764205331838,9.6155790852012757E-2,2.1008173307486722E-2,-0.4009490987206128,-0.35697520056046006,-0.48864255045490879,-0.56018059385559926,-0.52063560192984681,-0.50611786408664461,-0.43193990414377437,-0.70883696117395045,-0.90036861108578603,-0.88017064295372727,-0.51236314186974796,-0.21988323657346937,-0.18186436014875718]
[null,null,null,null,"Umlage (Referenz)",null,{"$f":"G125-F125","v":1.483000000000001},6.1999999999999833E-2,1.6849999999999987,0.96300000000000008,-7.0429312235614994E-2,0.16874048477218739,0.52194891063331283,-8.1424858336123229E-2,-0.37225339860385631,0.35153448759027572,-0.25450095010326024,-2.2313987259753825,3.7500025332334097E-2,-0.2956222749771813,-0.63432380582175485,-0.45455442698263449,-0.54075010258189948,-0.39713728083657074,-0.36679733603082365,-0.4853631033979422,-0.65734192110954703,-0.47782641133551845,0,0,0]
[null,null,null,null,"Umlage (Prognose)",null,{"$f":"G126-F126","v":1.483000000000001},6.1999999999999833E-2,1.6849999999999987,0.96300000000000008,-7.0429312235614994E-2,0.16874048477218739,0.52194891063331283,-8.1424858336123229E-2,-0.37225339860385631,0.35153448759027572,-0.25450095010326024,-2.2313987259753825,3.7500025332334097E-2,-0.2956222749771813,-0.63432380582175485,-0.45455442698263449,-0.54075010258189948,-0.39713728083657074,-0.36679733603082365,-0.4853631033979422,-0.65734192110954703,-0.47782641133551845,0,0,0]
[]
[]
[null,null,null,null,"Test: EE-Anteil bei einem Bruttostromverbrauch von 600TWh (Annahme EEG 2016)"]
[null,null,null,null,"Bruttostromverbrauch (TWh)",600,600,600,600,600,600,600,600,600,600,600,600,600,600,600,600,600,600,600,600,600,600,600,600,600,600]
[null,null,null,null,"EE-Erzeugung (TWh)",{"$f":"F222","v":90.230999999999995},{"$f":"G222","v":110.32713299999998},113.51865999999998,134.44289299999997,149.23655299999999,160.48758199999997,176.427021,187.22620899999998,203.875407,217.00349199999999,225.61901599999999,228.27263399999998,242.1430158016781,247.61377965664042,254.09142180558518,259.41094855272553,265.06729146292565,269.70699295303905,276.14002231001223,285.04194942792731,287.24760242882746,287.60730435942628,284.43307819969857,285.76772330140136,289.15362718155654,291.12776567779269]
[null,null,null,null,"EE-Anteil (%)",{"$f":"F243/F242","v":0.15038499999999999},{"$f":"G243/G242","v":0.18387855499999997},0.18919776666666663,0.22407148833333329,0.2487275883333333,0.26747930333333331,0.29404503500000001,0.31204368166666663,0.339792345,0.36167248666666668,0.37603169333333331,0.38045438999999998,0.40357169300279683,0.41268963276106735,0.42348570300930866,0.43235158092120923,0.4417788191048761,0.44951165492173173,0.46023337051668706,0.47506991571321217,0.47874600404804579,0.47934550726571046,0.47405513033283098,0.47627953883566893,0.4819227119692609,0.48521294279632116]
[]
[]
[null,null,null,null,null,null,null,null,null,null,null,{"$f":"L220/K220","v":1.0949367088607596},0.89248554913294798,0.91062176165803099,0.88193456614509247,1,1,0.96313364055299544,0.96172248803827753,0.96019900497512445,0.95854922279792754,0.95675675675675675,0.95480225988700562,0.9526627218934911,0.9503105590062112,0.94771241830065367,0.94482758620689655,0.94160583941605824,0.93798449612403101,0.93388429752066116,{"$f":"AE220/AD220","v":0.92920353982300863}]
[null,null,null,null,null,null,null,null,null,null,null,{"$f":"1-L247","v":-9.4936708860759556E-2},{"$f":"1-M247","v":0.10751445086705202},8.9378238341969007E-2,0.11806543385490753,0,0,3.686635944700456E-2,3.8277511961722466E-2,3.9800995024875552E-2,4.1450777202072464E-2,4.3243243243243246E-2,4.5197740112994378E-2,4.7337278106508895E-2,4.9689440993788803E-2,5.228758169934633E-2,5.5172413793103448E-2,5.8394160583941757E-2,6.2015503875968991E-2,6.6115702479338845E-2,7.0796460176991372E-2]
[]
[null,null,null,null,null,{"$f":"1-F219/F219","v":0},{"$f":"1-G219/F219","v":-2.6148673888681806E-3},{"$f":"1-H219/G219","v":-6.5201192250372575E-3},5.922635572829571E-3,1.3445081855366192E-2,1.7510889703047483E-2,1.7287744909719516E-2,-2.0141993745113274E-2,-5.2411030088477251E-3,-2.2103661558401821E-2,{"$f":"1-P219/O219","v":-4.2542891968377905E-3}]

{"sheet":"GrD-Grafikdaten (2)","index":12,"n_rows":180,"n_cols":35,"rows_kept":180,"cut":false,"hidden":true,"merged":[]}
[" ",null,null,null,null,"Dieses Tabellenblatt enthält  Daten für die Abbildungen"]
[]
[]
[]
["ID",null,null,null,null,null,2010,2011,2012,2013,2014,2015,2016,2017,2018,2019,2020,2021,2022,2023,2024,2025,2026,2027,2028,2029,2030,2031,2032,2033,2034,2035,"wann hinzugefügt","zuletzt geändert","Entwicklerkommentar"]
[6]
[7,null,null,null,null,"Kapazitäten [GW]"]
[8,null,null,null,null,null,2010,2011,2012,2013,2014,2015,2016,2017,2018,2019,2020,2021,2022,2023,2024,2025,2026,2027,2028,2029,2030,2031,2032,2033,2034,2035]
[9,null,null,null,"Wasser","(Bestand)",{"$f":"'MOD-Berechnungen'!F209","v":1.3371100000000005},{"$f":"'MOD-Berechnungen'!G209","v":1.4101100000000004},{"$f":"'MOD-Berechnungen'!H209","v":1.4471100000000003},{"$f":"'MOD-Berechnungen'!I209","v":1.5081100000000005},{"$f":"'MOD-Berechnungen'!J209","v":1.4955747000000004},{"$f":"'MOD-Berechnungen'!K65","v":1.5617438099999998},{"$f":"'MOD-Berechnungen'!L65","v":1.5617438099999998},{"$f":"'MOD-Berechnungen'!M65","v":1.5617438099999998},{"$f":"'MOD-Berechnungen'!N65","v":1.5617438099999998},{"$f":"'MOD-Berechnungen'!O65","v":1.5617438099999998},{"$f":"'MOD-Berechnungen'!P65","v":1.5617438099999998},{"$f":"'MOD-Berechnungen'!Q65","v":1.5617438099999998},{"$f":"'MOD-Berechnungen'!R65","v":1.5617438099999998},{"$f":"'MOD-Berechnungen'!S65","v":1.5617438099999998},{"$f":"'MOD-Berechnungen'!T65","v":1.5617438099999998},{"$f":"'MOD-Berechnungen'!U65","v":1.5617438099999998},{"$f":"'MOD-Berechnungen'!V65","v":1.5617438099999998},{"$f":"'MOD-Berechnungen'!W65","v":1.5617438099999998},{"$f":"'MOD-Berechnungen'!X65","v":1.5617438099999998},{"$f":"'MOD-Berechnungen'!Y65","v":1.5617438099999998},{"$f":"'MOD-Berechnungen'!Z65","v":1.45086618},{"$f":"'MOD-Berechnungen'!AA65","v":1.3595179899999998},{"$f":"'MOD-Berechnungen'!AB65","v":1.2860902400000001},{"$f":"'MOD-Berechnungen'!AC65","v":1.2395648899999998},{"$f":"'MOD-Berechnungen'!AD65","v":1.1316575499999999},{"$f":"'MOD-Berechnungen'!AE65","v":1.1188063499999998}]
[10,null,null,null,"Gas","(Bestand)",{"$f":"'MOD-Berechnungen'!F210","v":0.56543599999999994},{"$f":"'MOD-Berechnungen'!G210","v":0.57543599999999984},{"$f":"'MOD-Berechnungen'!H210","v":0.57543599999999995},{"$f":"'MOD-Berechnungen'!I210","v":0.57643599999999995},{"$f":"'MOD-Berechnungen'!J210","v":0.56809900000000002},{"$f":"'MOD-Berechnungen'!K66","v":0.50447248999999994},{"$f":"'MOD-Berechnungen'!L66","v":0.50447248999999994},{"$f":"'MOD-Berechnungen'!M66","v":0.50447248999999994},{"$f":"'MOD-Berechnungen'!N66","v":0.50447248999999994},{"$f":"'MOD-Berechnungen'!O66","v":0.50447248999999994},{"$f":"'MOD-Berechnungen'!P66","v":0.50447248999999994},{"$f":"'MOD-Berechnungen'!Q66","v":0.32682229000000002},{"$f":"'MOD-Berechnungen'!R66","v":0.27378529000000001},{"$f":"'MOD-Berechnungen'!S66","v":0.21108429000000001},{"$f":"'MOD-Berechnungen'!T66","v":0.13316929},{"$f":"'MOD-Berechnungen'!U66","v":6.6771990000000003E-2},{"$f":"'MOD-Berechnungen'!V66","v":5.3154990000000006E-2},{"$f":"'MOD-Berechnungen'!W66","v":4.4618990000000004E-2},{"$f":"'MOD-Berechnungen'!X66","v":3.6103990000000002E-2},{"$f":"'MOD-Berechnungen'!Y66","v":3.0399990000000002E-2},{"$f":"'MOD-Berechnungen'!Z66","v":2.0893000000000005E-2},{"$f":"'MOD-Berechnungen'!AA66","v":1.7971000000000004E-2},{"$f":"'MOD-Berechnungen'!AB66","v":8.7540000000000014E-3},{"$f":"'MOD-Berechnungen'!AC66","v":6.9640000000000006E-3},{"$f":"'MOD-Berechnungen'!AD66","v":5.836E-3},{"$f":"'MOD-Berechnungen'!AE66","v":0}]
[11,null,null,null,"Biomasse","(Bestand)",{"$f":"'MOD-Berechnungen'!F211","v":4.7110000000000003},{"$f":"'MOD-Berechnungen'!G211","v":5.5768681300000003},{"$f":"'MOD-Berechnungen'!H211","v":5.9049599700000011},{"$f":"'MOD-Berechnungen'!I211","v":6.5818149999999997},{"$f":"'MOD-Berechnungen'!J211","v":6.7992250000000007},{"$f":"'MOD-Berechnungen'!K67","v":6.7990000000000004},{"$f":"'MOD-Berechnungen'!L67","v":6.7990000000000004},{"$f":"'MOD-Berechnungen'!M67","v":6.7990000000000004},{"$f":"'MOD-Berechnungen'!N67","v":6.7990000000000004},{"$f":"'MOD-Berechnungen'!O67","v":6.7990000000000004},{"$f":"'MOD-Berechnungen'!P67","v":6.7990000000000004},{"$f":"'MOD-Berechnungen'!Q67","v":6.6231892300000004},{"$f":"'MOD-Berechnungen'!R67","v":6.4349554299999987},{"$f":"'MOD-Berechnungen'!S67","v":6.2947062699999998},{"$f":"'MOD-Berechnungen'!T67","v":6.0627479199999996},{"$f":"'MOD-Berechnungen'!U67","v":5.4902409299999997},{"$f":"'MOD-Berechnungen'!V67","v":4.7945024299999996},{"$f":"'MOD-Berechnungen'!W67","v":3.9465003999999988},{"$f":"'MOD-Berechnungen'!X67","v":3.3060079999999994},{"$f":"'MOD-Berechnungen'!Y67","v":2.9487315999999995},{"$f":"'MOD-Berechnungen'!Z67","v":2.4935236000000001},{"$f":"'MOD-Berechnungen'!AA67","v":1.8564320000000003},{"$f":"'MOD-Berechnungen'!AB67","v":0.80025794000000006},{"$f":"'MOD-Berechnungen'!AC67","v":0.46639323999999999},{"$f":"'MOD-Berechnungen'!AD67","v":0.21003932999999994},{"$f":"'MOD-Berechnungen'!AE67","v":0}]
[12,null,null,null,"Geothermie","(Bestand)",{"$f":"'MOD-Berechnungen'!F212","v":7.1500000000000001E-3},{"$f":"'MOD-Berechnungen'!G212","v":7.1500000000000001E-3},{"$f":"'MOD-Berechnungen'!H212","v":1.8949999999999998E-2},{"$f":"'MOD-Berechnungen'!I212","v":3.0269999999999998E-2},{"$f":"'MOD-Berechnungen'!J212","v":3.4000000000000002E-2},{"$f":"'MOD-Berechnungen'!K68","v":3.3985000000000001E-2},{"$f":"'MOD-Berechnungen'!L68","v":3.3985000000000001E-2},{"$f":"'MOD-Berechnungen'!M68","v":3.3985000000000001E-2},{"$f":"'MOD-Berechnungen'!N68","v":3.3985000000000001E-2},{"$f":"'MOD-Berechnungen'!O68","v":3.3985000000000001E-2},{"$f":"'MOD-Berechnungen'!P68","v":3.3985000000000001E-2},{"$f":"'MOD-Berechnungen'!Q68","v":3.3985000000000001E-2},{"$f":"'MOD-Berechnungen'!R68","v":3.3985000000000001E-2},{"$f":"'MOD-Berechnungen'!S68","v":3.3985000000000001E-2},{"$f":"'MOD-Berechnungen'!T68","v":3.3985000000000001E-2},{"$f":"'MOD-Berechnungen'!U68","v":3.3765000000000003E-2},{"$f":"'MOD-Berechnungen'!V68","v":3.3765000000000003E-2},{"$f":"'MOD-Berechnungen'!W68","v":3.3765000000000003E-2},{"$f":"'MOD-Berechnungen'!X68","v":3.0765000000000001E-2},{"$f":"'MOD-Berechnungen'!Y68","v":3.0765000000000001E-2},{"$f":"'MOD-Berechnungen'!Z68","v":2.6615000000000003E-2},{"$f":"'MOD-Berechnungen'!AA68","v":2.6615000000000003E-2},{"$f":"'MOD-Berechnungen'!AB68","v":2.6615000000000003E-2},{"$f":"'MOD-Berechnungen'!AC68","v":1.4815E-2},{"$f":"'MOD-Berechnungen'!AD68","v":3.5000000000000001E-3},{"$f":"'MOD-Berechnungen'!AE68","v":0}]
[13,null,null,null,"Wind Onshore","(Bestand)",{"$f":"'MOD-Berechnungen'!F213","v":27.043797000000001},{"$f":"'MOD-Berechnungen'!G213","v":28.524095000000003},{"$f":"'MOD-Berechnungen'!H213","v":30.710624000000003},{"$f":"'MOD-Berechnungen'!I213","v":32.969194999999999},{"$f":"'MOD-Berechnungen'!J213","v":37.621491999999996},{"$f":"'MOD-Berechnungen'!K69","v":37.508569479999998},{"$f":"'MOD-Berechnungen'!L69","v":37.164569479999997},{"$f":"'MOD-Berechnungen'!M69","v":36.764569479999999},{"$f":"'MOD-Berechnungen'!N69","v":36.264569479999999},{"$f":"'MOD-Berechnungen'!O69","v":35.664569479999997},{"$f":"'MOD-Berechnungen'!P69","v":34.964569480000002},{"$f":"'MOD-Berechnungen'!Q69","v":33.158776369999998},{"$f":"'MOD-Berechnungen'!R69","v":30.565102570000001},{"$f":"'MOD-Berechnungen'!S69","v":27.51489948},{"$f":"'MOD-Berechnungen'!T69","v":24.797031480000001},{"$f":"'MOD-Berechnungen'!U69","v":22.74326048},{"$f":"'MOD-Berechnungen'!V69","v":20.92921698},{"$f":"'MOD-Berechnungen'!W69","v":18.699378980000002},{"$f":"'MOD-Berechnungen'!X69","v":17.013132779999999},{"$f":"'MOD-Berechnungen'!Y69","v":16.241268779999999},{"$f":"'MOD-Berechnungen'!Z69","v":13.541928859999999},{"$f":"'MOD-Berechnungen'!AA69","v":12.115269209999999},{"$f":"'MOD-Berechnungen'!AB69","v":10.238786949999998},{"$f":"'MOD-Berechnungen'!AC69","v":7.8176624199999987},{"$f":"'MOD-Berechnungen'!AD69","v":4.7852306299999992},{"$f":"'MOD-Berechnungen'!AE69","v":0}]
[14,null,null,null,"Wind Offshore","(Bestand)",{"$f":"'MOD-Berechnungen'!F214","v":0.08},{"$f":"'MOD-Berechnungen'!G214","v":0.188},{"$f":"'MOD-Berechnungen'!H214","v":0.26800000000000002},{"$f":"'MOD-Berechnungen'!I214","v":0.50800000000000001},{"$f":"'MOD-Berechnungen'!J214","v":0.99399999999999999},{"$f":"'MOD-Berechnungen'!K70","v":0.99399999999999999},{"$f":"'MOD-Berechnungen'!L70","v":0.99399999999999999},{"$f":"'MOD-Berechnungen'!M70","v":0.99399999999999999},{"$f":"'MOD-Berechnungen'!N70","v":0.99399999999999999},{"$f":"'MOD-Berechnungen'!O70","v":0.99399999999999999},{"$f":"'MOD-Berechnungen'!P70","v":0.99399999999999999},{"$f":"'MOD-Berechnungen'!Q70","v":0.99399999999999999},{"$f":"'MOD-Berechnungen'!R70","v":0.99399999999999999},{"$f":"'MOD-Berechnungen'!S70","v":0.99399999999999999},{"$f":"'MOD-Berechnungen'!T70","v":0.99399999999999999},{"$f":"'MOD-Berechnungen'!U70","v":0.99399999999999999},{"$f":"'MOD-Berechnungen'!V70","v":0.99399999999999999},{"$f":"'MOD-Berechnungen'!W70","v":0.99399999999999999},{"$f":"'MOD-Berechnungen'!X70","v":0.99399999999999999},{"$f":"'MOD-Berechnungen'!Y70","v":0.99399999999999999},{"$f":"'MOD-Berechnungen'!Z70","v":0.96219999999999994},{"$f":"'MOD-Berechnungen'!AA70","v":0.9171999999999999},{"$f":"'MOD-Berechnungen'!AB70","v":0.80889999999999995},{"$f":"'MOD-Berechnungen'!AC70","v":0.72889999999999999},{"$f":"'MOD-Berechnungen'!AD70","v":0.4889},{"$f":"'MOD-Berechnungen'!AE70","v":0}]
[15,null,null,null,"Solar","(Bestand)",{"$f":"'MOD-Berechnungen'!F215","v":18.006},{"$f":"'MOD-Berechnungen'!G215","v":25.916},{"$f":"'MOD-Berechnungen'!H215","v":34.076999999999998},{"$f":"'MOD-Berechnungen'!I215","v":36.71},{"$f":"'MOD-Berechnungen'!J215","v":37.9},{"$f":"'MOD-Berechnungen'!K71","v":37.9},{"$f":"'MOD-Berechnungen'!L71","v":37.9},{"$f":"'MOD-Berechnungen'!M71","v":37.9},{"$f":"'MOD-Berechnungen'!N71","v":37.9},{"$f":"'MOD-Berechnungen'!O71","v":37.9},{"$f":"'MOD-Berechnungen'!P71","v":37.9},{"$f":"'MOD-Berechnungen'!Q71","v":37.776027506000062},{"$f":"'MOD-Berechnungen'!R71","v":37.667388816000063},{"$f":"'MOD-Berechnungen'!S71","v":37.557167266000064},{"$f":"'MOD-Berechnungen'!T71","v":37.414720716000062},{"$f":"'MOD-Berechnungen'!U71","v":36.758691416000062},{"$f":"'MOD-Berechnungen'!V71","v":35.834089356000064},{"$f":"'MOD-Berechnungen'!W71","v":34.989494406000063},{"$f":"'MOD-Berechnungen'!X71","v":33.735743280000058},{"$f":"'MOD-Berechnungen'!Y71","v":31.75620017000006},{"$f":"'MOD-Berechnungen'!Z71","v":27.317740330000046},{"$f":"'MOD-Berechnungen'!AA71","v":19.723863990000012},{"$f":"'MOD-Berechnungen'!AB71","v":11.723473930000008},{"$f":"'MOD-Berechnungen'!AC71","v":4.8811800499999842},{"$f":"'MOD-Berechnungen'!AD71","v":1.7455592899999977},{"$f":"'MOD-Berechnungen'!AE71","v":0}]
[16,null,null,null,"Wasser",null,null,null,null,null,null,{"$f":"'MOD-Berechnungen'!K209-L9","v":0.22465567500000017},{"$f":"'MOD-Berechnungen'!L209-M9","v":0.24628944999999991},{"$f":"'MOD-Berechnungen'!M209-N9","v":0.25168944999999998},{"$f":"'MOD-Berechnungen'!N209-O9","v":0.26668944999999988},{"$f":"'MOD-Berechnungen'!O209-P9","v":0.28368944999999979},{"$f":"'MOD-Berechnungen'!P209-Q9","v":0.29668944999999969},{"$f":"'MOD-Berechnungen'!Q209-R9","v":0.3106894499999997},{"$f":"'MOD-Berechnungen'!R209-S9","v":0.32468944999999971},{"$f":"'MOD-Berechnungen'!S209-T9","v":0.33868944999999973},{"$f":"'MOD-Berechnungen'!T209-U9","v":0.35268944999999974},{"$f":"'MOD-Berechnungen'!U209-V9","v":0.36668944999999975},{"$f":"'MOD-Berechnungen'!V209-W9","v":0.38068944999999976},{"$f":"'MOD-Berechnungen'!W209-X9","v":0.39468944999999978},{"$f":"'MOD-Berechnungen'!X209-Y9","v":0.40868944999999979},{"$f":"'MOD-Berechnungen'!Y209-Z9","v":0.4226894499999998},{"$f":"'MOD-Berechnungen'!Z209-AA9","v":0.43668944999999981},{"$f":"'MOD-Berechnungen'!AA209-AB9","v":0.45068944999999982},{"$f":"'MOD-Berechnungen'!AB209-AC9","v":0.46468944999999984},{"$f":"'MOD-Berechnungen'!AC209-AD9","v":0.47868944999999985},{"$f":"'MOD-Berechnungen'!AD209-AE9","v":0.49268944999999986},{"$f":"'MOD-Berechnungen'!AE209-AF9","v":0.2287158650000003}]
[17,null,null,null,"Gas",null,null,null,null,null,null,{"$f":"'MOD-Berechnungen'!K210-L10","v":0.10940850999999996},{"$f":"'MOD-Berechnungen'!L210-M10","v":0.11349250999999994},{"$f":"'MOD-Berechnungen'!M210-N10","v":0.11519250999999997},{"$f":"'MOD-Berechnungen'!N210-O10","v":0.12119250999999998},{"$f":"'MOD-Berechnungen'!O210-P10","v":0.12319250999999998},{"$f":"'MOD-Berechnungen'!P210-Q10","v":0.12519250999999998},{"$f":"'MOD-Berechnungen'!Q210-R10","v":0.12719250999999998},{"$f":"'MOD-Berechnungen'!R210-S10","v":0.12919250999999998},{"$f":"'MOD-Berechnungen'!S210-T10","v":0.13119250999999998},{"$f":"'MOD-Berechnungen'!T210-U10","v":0.13319250999999999},{"$f":"'MOD-Berechnungen'!U210-V10","v":0.14319251},{"$f":"'MOD-Berechnungen'!V210-W10","v":0.15319250999999998},{"$f":"'MOD-Berechnungen'!W210-X10","v":0.16319250999999999},{"$f":"'MOD-Berechnungen'!X210-Y10","v":0.17319250999999997},{"$f":"'MOD-Berechnungen'!Y210-Z10","v":0.18319250999999998},{"$f":"'MOD-Berechnungen'!Z210-AA10","v":0.19319250999999998},{"$f":"'MOD-Berechnungen'!AA210-AB10","v":0.20319250999999997},{"$f":"'MOD-Berechnungen'!AB210-AC10","v":0.21319250999999997},{"$f":"'MOD-Berechnungen'!AC210-AD10","v":0.22319250999999998},{"$f":"'MOD-Berechnungen'!AD210-AE10","v":0.23319250999999996},{"$f":"'MOD-Berechnungen'!AE210-AF10","v":0.20324651000000016}]
[18,null,null,null,"Biomasse",null,null,null,null,null,null,{"$f":"'MOD-Berechnungen'!K211-L11","v":0.2348410000000003},{"$f":"'MOD-Berechnungen'!L211-M11","v":0.45981300000000047},{"$f":"'MOD-Berechnungen'!M211-N11","v":0.76660000000000039},{"$f":"'MOD-Berechnungen'!N211-O11","v":1.1941110810000017},{"$f":"'MOD-Berechnungen'!O211-P11","v":1.5266447400000009},{"$f":"'MOD-Berechnungen'!P211-Q11","v":1.7026447400000011},{"$f":"'MOD-Berechnungen'!Q211-R11","v":1.8266447400000017},{"$f":"'MOD-Berechnungen'!R211-S11","v":1.8626447400000021},{"$f":"'MOD-Berechnungen'!S211-T11","v":1.9026447400000022},{"$f":"'MOD-Berechnungen'!T211-U11","v":1.9456447400000023},{"$f":"'MOD-Berechnungen'!U211-V11","v":1.9906447400000022},{"$f":"'MOD-Berechnungen'!V211-W11","v":2.1906447400000024},{"$f":"'MOD-Berechnungen'!W211-X11","v":2.3906447400000026},{"$f":"'MOD-Berechnungen'!X211-Y11","v":2.5906447400000028},{"$f":"'MOD-Berechnungen'!Y211-Z11","v":2.790644740000003},{"$f":"'MOD-Berechnungen'!Z211-AA11","v":2.9906447400000027},{"$f":"'MOD-Berechnungen'!AA211-AB11","v":3.1906447400000029},{"$f":"'MOD-Berechnungen'!AB211-AC11","v":3.3906447400000026},{"$f":"'MOD-Berechnungen'!AC211-AD11","v":3.5906447400000023},{"$f":"'MOD-Berechnungen'!AD211-AE11","v":3.7906447400000021},{"$f":"'MOD-Berechnungen'!AE211-AF11","v":3.9660680700000017}]
[19,null,null,null,"Geothermie",null,null,null,null,null,null,{"$f":"'MOD-Berechnungen'!K212-L12","v":1.5000000000001124E-5},{"$f":"'MOD-Berechnungen'!L212-M12","v":5.0149999999999986E-3},{"$f":"'MOD-Berechnungen'!M212-N12","v":7.0150000000000004E-3},{"$f":"'MOD-Berechnungen'!N212-O12","v":1.2014999999999998E-2},{"$f":"'MOD-Berechnungen'!O212-P12","v":1.6015000000000001E-2},{"$f":"'MOD-Berechnungen'!P212-Q12","v":2.1014999999999999E-2},{"$f":"'MOD-Berechnungen'!Q212-R12","v":3.0015E-2},{"$f":"'MOD-Berechnungen'!R212-S12","v":5.5014999999999994E-2},{"$f":"'MOD-Berechnungen'!S212-T12","v":6.9014999999999993E-2},{"$f":"'MOD-Berechnungen'!T212-U12","v":7.5014999999999998E-2},{"$f":"'MOD-Berechnungen'!U212-V12","v":8.1015000000000004E-2},{"$f":"'MOD-Berechnungen'!V212-W12","v":9.1014999999999999E-2},{"$f":"'MOD-Berechnungen'!W212-X12","v":0.10101500000000001},{"$f":"'MOD-Berechnungen'!X212-Y12","v":0.11101500000000002},{"$f":"'MOD-Berechnungen'!Y212-Z12","v":0.12101500000000003},{"$f":"'MOD-Berechnungen'!Z212-AA12","v":0.13101500000000002},{"$f":"'MOD-Berechnungen'!AA212-AB12","v":0.14101500000000003},{"$f":"'MOD-Berechnungen'!AB212-AC12","v":0.15101500000000004},{"$f":"'MOD-Berechnungen'!AC212-AD12","v":0.16101500000000005},{"$f":"'MOD-Berechnungen'!AD212-AE12","v":0.17101500000000003},{"$f":"'MOD-Berechnungen'!AE212-AF12","v":0.18451500000000004}]
[20,null,null,null,"Wind Onshore",null,null,null,null,null,null,{"$f":"'MOD-Berechnungen'!K213-L13","v":3.7886999999999986},{"$f":"'MOD-Berechnungen'!L213-M13","v":8.2341029999999975},{"$f":"'MOD-Berechnungen'!M213-N13","v":13.735847999999997},{"$f":"'MOD-Berechnungen'!N213-O13","v":16.138997999999994},{"$f":"'MOD-Berechnungen'!O213-P13","v":17.638997999999994},{"$f":"'MOD-Berechnungen'!P213-Q13","v":19.138997999999994},{"$f":"'MOD-Berechnungen'!Q213-R13","v":20.638997999999994},{"$f":"'MOD-Berechnungen'!R213-S13","v":22.638997999999994},{"$f":"'MOD-Berechnungen'!S213-T13","v":25.138997999999997},{"$f":"'MOD-Berechnungen'!T213-U13","v":27.638998000000001},{"$f":"'MOD-Berechnungen'!U213-V13","v":30.138998000000004},{"$f":"'MOD-Berechnungen'!V213-W13","v":32.638998000000008},{"$f":"'MOD-Berechnungen'!W213-X13","v":35.138998000000001},{"$f":"'MOD-Berechnungen'!X213-Y13","v":37.638998000000008},{"$f":"'MOD-Berechnungen'!Y213-Z13","v":40.138998000000008},{"$f":"'MOD-Berechnungen'!Z213-AA13","v":42.638998000000008},{"$f":"'MOD-Berechnungen'!AA213-AB13","v":45.138998000000008},{"$f":"'MOD-Berechnungen'!AB213-AC13","v":47.638998000000008},{"$f":"'MOD-Berechnungen'!AC213-AD13","v":50.138998000000008},{"$f":"'MOD-Berechnungen'!AD213-AE13","v":52.638998000000008},{"$f":"'MOD-Berechnungen'!AE213-AF13","v":56.137020630000009}]
[21,null,null,null,"Wind Offshore",null,null,null,null,null,null,{"$f":"'MOD-Berechnungen'!K214-L14","v":2.2890000000000006},{"$f":"'MOD-Berechnungen'!L214-M14","v":3.1580000000000004},{"$f":"'MOD-Berechnungen'!M214-N14","v":4.4120000000000008},{"$f":"'MOD-Berechnungen'!N214-O14","v":5.3990000000000009},{"$f":"'MOD-Berechnungen'!O214-P14","v":6.5340000000000007},{"$f":"'MOD-Berechnungen'!P214-Q14","v":6.753000000000001},{"$f":"'MOD-Berechnungen'!Q214-R14","v":6.753000000000001},{"$f":"'MOD-Berechnungen'!R214-S14","v":7.0950000000000006},{"$f":"'MOD-Berechnungen'!S214-T14","v":8.07},{"$f":"'MOD-Berechnungen'!T214-U14","v":8.9700000000000006},{"$f":"'MOD-Berechnungen'!U214-V14","v":9.870000000000001},{"$f":"'MOD-Berechnungen'!V214-W14","v":10.770000000000001},{"$f":"'MOD-Berechnungen'!W214-X14","v":11.670000000000002},{"$f":"'MOD-Berechnungen'!X214-Y14","v":12.570000000000002},{"$f":"'MOD-Berechnungen'!Y214-Z14","v":13.470000000000002},{"$f":"'MOD-Berechnungen'!Z214-AA14","v":14.370000000000003},{"$f":"'MOD-Berechnungen'!AA214-AB14","v":15.270000000000001},{"$f":"'MOD-Berechnungen'!AB214-AC14","v":16.169999999999998},{"$f":"'MOD-Berechnungen'!AC214-AD14","v":17.07},{"$f":"'MOD-Berechnungen'!AD214-AE14","v":17.97},{"$f":"'MOD-Berechnungen'!AE214-AF14","v":17.069900000000001}]
[22,null,null,null,"Solar",null,null,null,null,null,null,{"$f":"'MOD-Berechnungen'!K215-L15","v":1.3239999999999981},{"$f":"'MOD-Berechnungen'!L215-M15","v":2.7789999999999964},{"$f":"'MOD-Berechnungen'!M215-N15","v":4.3929999999999936},{"$f":"'MOD-Berechnungen'!N215-O15","v":7.2579999999999956},{"$f":"'MOD-Berechnungen'!O215-P15","v":11.146999999999998},{"$f":"'MOD-Berechnungen'!P215-Q15","v":15.948},{"$f":"'MOD-Berechnungen'!Q215-R15","v":21.362000000000002},{"$f":"'MOD-Berechnungen'!R215-S15","v":26.300000000000004},{"$f":"'MOD-Berechnungen'!S215-T15","v":29.451999999999998},{"$f":"'MOD-Berechnungen'!T215-U15","v":32.474000000000004},{"$f":"'MOD-Berechnungen'!U215-V15","v":35.603000000000009},{"$f":"'MOD-Berechnungen'!V215-W15","v":38.603000000000009},{"$f":"'MOD-Berechnungen'!W215-X15","v":41.603000000000009},{"$f":"'MOD-Berechnungen'!X215-Y15","v":44.603000000000016},{"$f":"'MOD-Berechnungen'!Y215-Z15","v":47.603000000000023},{"$f":"'MOD-Berechnungen'!Z215-AA15","v":50.603000000000009},{"$f":"'MOD-Berechnungen'!AA215-AB15","v":53.603000000000009},{"$f":"'MOD-Berechnungen'!AB215-AC15","v":56.603000000000009},{"$f":"'MOD-Berechnungen'!AC215-AD15","v":59.603000000000009},{"$f":"'MOD-Berechnungen'!AD215-AE15","v":62.603000000000016},{"$f":"'MOD-Berechnungen'!AE215-AF15","v":66.024559290000013}]
[23,null,null,null,null,null,null,null,null,null,null,null,null,null,null,{"$f":"P15+P22","v":49.046999999999997}]
[24,null,null,null,null,"Kapazitäten (kleine aggregiert) [GW]"]
[25,null,null,null,null,null,2010,2011,2012,2013,2014,2015,2016,2017,2018,2019,2020,2021,2022,2023,2024,2025,2026,2027,2028,2029,2030,2031,2032,2033,2034,2035]
[26,null,null,null,"Sonstige","(Bestand)",{"$f":"G9+G10+G12","v":1.9096960000000005},{"$f":"H9+H10+H12","v":1.9926960000000002},2.041496,2.1148160000000003,2.0976737000000001,2.1002012999999997,2.1002012999999997,2.1002012999999997,2.1002012999999997,2.1002012999999997,2.1002012999999997,1.9225510999999997,1.8695140999999997,1.8068130999999998,1.7288980999999999,1.6622807999999998,1.6486637999999998,1.6401277999999999,1.6286127999999997,1.6229087999999998,1.4983741800000001,1.4041039899999999,1.32145924,1.2613438899999998,1.1409935499999999,1.1188063499999998]
[27,null,null,null,"Biomasse","(Bestand)",{"$f":"G11","v":4.7110000000000003},{"$f":"H11","v":5.5768681300000003},5.9049599700000011,6.5818149999999997,6.7992250000000007,6.7990000000000004,6.7990000000000004,6.7990000000000004,6.7990000000000004,6.7990000000000004,6.7990000000000004,6.6231892300000004,6.4349554299999987,6.2947062699999998,6.0627479199999996,5.4902409299999997,4.7945024299999996,3.9465003999999988,3.3060079999999994,2.9487315999999995,2.4935236000000001,1.8564320000000003,0.80025794000000006,0.46639323999999999,0.21003932999999994,0]
[28,null,null,null,"Wind Onshore","(Bestand)",{"$f":"G13","v":27.043797000000001},{"$f":"H13","v":28.524095000000003},30.710624000000003,32.969194999999999,37.621491999999996,{"$f":"L13","v":37.508569479999998},37.164569479999997,{"$f":"N13","v":36.764569479999999},36.264569479999999,35.664569479999997,34.964569480000002,33.158776369999998,30.565102570000001,27.51489948,24.797031480000001,22.74326048,20.92921698,18.699378980000002,17.013132779999999,16.241268779999999,13.541928859999999,12.115269209999999,10.238786949999998,7.8176624199999987,4.7852306299999992,0]
[29,null,null,null,"Wind Offshore","(Bestand)",{"$f":"G14","v":0.08},0.188,0.26800000000000002,0.50800000000000001,0.99399999999999999,0.99399999999999999,0.99399999999999999,0.99399999999999999,0.99399999999999999,0.99399999999999999,0.99399999999999999,0.99399999999999999,0.99399999999999999,0.99399999999999999,0.99399999999999999,0.99399999999999999,0.99399999999999999,0.99399999999999999,0.99399999999999999,0.99399999999999999,0.96219999999999994,0.9171999999999999,0.80889999999999995,0.72889999999999999,0.4889,0]
[30,null,null,null,"Solar","(Bestand)",18.006,25.916,34.076999999999998,36.71,37.9,37.9,37.9,37.9,37.9,37.9,37.9,37.776027506000062,37.667388816000063,37.557167266000064,37.414720716000062,36.758691416000062,35.834089356000064,34.989494406000063,33.735743280000058,31.75620017000006,27.317740330000046,19.723863990000012,11.723473930000008,4.8811800499999842,1.7455592899999977,0]
[31,null,null,null,"Sonstige",null,{"$f":"G16+G17+G19","v":0},{"$f":"H16+H17+H19","v":0},0,0,0,0.33407918500000011,0.36479695999999984,0.37389695999999994,0.39989695999999986,0.42289695999999977,0.44289695999999967,0.4678969599999997,0.50889695999999973,0.53889695999999976,0.56089695999999978,0.5908969599999998,0.62489695999999972,0.65889695999999975,0.69289695999999978,0.72689695999999981,0.76089695999999984,0.79489695999999976,0.82889695999999979,0.86289695999999982,0.89689695999999985,0.61647737500000055]
[32,null,null,null,"Biomasse",null,{"$f":"G18","v":0},{"$f":"H18","v":0},0,0,0,0.2348410000000003,0.45981300000000047,0.76660000000000039,1.1941110810000017,1.5266447400000009,1.7026447400000011,1.8266447400000017,1.8626447400000021,1.9026447400000022,1.9456447400000023,1.9906447400000022,2.1906447400000024,2.3906447400000026,2.5906447400000028,2.790644740000003,2.9906447400000027,3.1906447400000029,3.3906447400000026,3.5906447400000023,3.7906447400000021,3.9660680700000017]
[33,null,null,null,"Wind Onshore",null,{"$f":"G20","v":0},{"$f":"H20","v":0},0,0,0,3.7886999999999986,8.2341029999999975,13.735847999999997,16.138997999999994,17.638997999999994,19.138997999999994,20.638997999999994,22.638997999999994,25.138997999999997,27.638998000000001,30.138998000000004,32.638998000000008,35.138998000000001,37.638998000000008,40.138998000000008,42.638998000000008,45.138998000000008,47.638998000000008,50.138998000000008,52.638998000000008,56.137020630000009]
[34,null,null,null,"Wind Offshore",null,{"$f":"G21","v":0},0,0,0,0,2.2890000000000006,3.1580000000000004,4.4120000000000008,5.3990000000000009,6.5340000000000007,6.753000000000001,6.753000000000001,7.0950000000000006,8.07,8.9700000000000006,9.870000000000001,10.770000000000001,11.670000000000002,12.570000000000002,13.470000000000002,14.370000000000003,15.270000000000001,16.169999999999998,17.07,17.97,17.069900000000001]
[35,null,null,null,"Solar",null,0,0,0,0,0,1.3239999999999981,2.7789999999999964,4.3929999999999936,7.2579999999999956,11.146999999999998,15.948,21.362000000000002,26.300000000000004,29.451999999999998,32.474000000000004,35.603000000000009,38.603000000000009,41.603000000000009,44.603000000000016,47.603000000000023,50.603000000000009,53.603000000000009,56.603000000000009,59.603000000000009,62.603000000000016,66.024559290000013]
[36]
[37,null,null,null,null,"Strommengen [TWh/a]"]
[38,null,null,null,null,null,2010,2011,2012,2013,2014,2015,2016,2017,2018,2019,2020,2021,2022,2023,2024,2025,2026,2027,2028,2029,2030,2031,2032,2033,2034,2035]
[39,null,null,null,"Wasser","(Bestand)",{"$f":"'MOD-Berechnungen'!F238-G46","v":5.444},{"$f":"'MOD-Berechnungen'!G238-H46","v":6.0667459999999993},{"$f":"'MOD-Berechnungen'!H238-I46","v":5.8298559999999995},{"$f":"'MOD-Berechnungen'!I238-J46","v":6.2952879999999993},{"$f":"'MOD-Berechnungen'!J238-K46","v":6.154331},{"$f":"'MOD-Berechnungen'!K238-L46","v":5.5166015752700002},{"$f":"'MOD-Berechnungen'!L238-M46","v":5.0529195435900016},{"$f":"'MOD-Berechnungen'!M238-N46","v":5.0340497366400019},{"$f":"'MOD-Berechnungen'!N238-O46","v":4.6366775366400015},{"$f":"'MOD-Berechnungen'!O238-P46","v":5.1641725366400015},{"$f":"'MOD-Berechnungen'!P238-Q46","v":4.8405825366400022},{"$f":"'MOD-Berechnungen'!Q238-R46","v":4.9153125366400019},{"$f":"'MOD-Berechnungen'!R238-S46","v":6.3653839009576823},{"$f":"'MOD-Berechnungen'!S238-T46","v":6.3653839009576823},{"$f":"'MOD-Berechnungen'!T238-U46","v":6.3653839009576823},{"$f":"'MOD-Berechnungen'!U238-V46","v":6.3653839009576823},{"$f":"'MOD-Berechnungen'!V238-W46","v":6.3653839009576814},{"$f":"'MOD-Berechnungen'!W238-X46","v":6.3653839009576823},{"$f":"'MOD-Berechnungen'!X238-Y46","v":6.3653839009576831},{"$f":"'MOD-Berechnungen'!Y238-Z46","v":6.3653839009576823},{"$f":"'MOD-Berechnungen'!Z238-AA46","v":5.8264018677620077},{"$f":"'MOD-Berechnungen'!AA238-AB46","v":5.3606672290276034},{"$f":"'MOD-Berechnungen'!AB238-AC46","v":5.0397223665748268},{"$f":"'MOD-Berechnungen'!AC238-AD46","v":4.8537221589924613},{"$f":"'MOD-Berechnungen'!AD238-AE46","v":4.2530569317466336},{"$f":"'MOD-Berechnungen'!AE238-AF46","v":4.2024045692321135},null,"v3.0.9","ist jetzt für alle Jahre Strommenge gesamt minus Strommenge Neuanlagen"]
[40,null,null,null,"Gas","(Bestand)",{"$f":"'MOD-Berechnungen'!F239-G47","v":1.835},{"$f":"'MOD-Berechnungen'!G239-H47","v":1.993012},{"$f":"'MOD-Berechnungen'!H239-I47","v":1.667049},{"$f":"'MOD-Berechnungen'!I239-J47","v":1.9069669999999999},{"$f":"'MOD-Berechnungen'!J239-K47","v":1.824149},{"$f":"'MOD-Berechnungen'!K239-L47","v":1.6121632090000002},{"$f":"'MOD-Berechnungen'!L239-M47","v":1.4688885760000006},{"$f":"'MOD-Berechnungen'!M239-N47","v":1.2400593340000006},{"$f":"'MOD-Berechnungen'!N239-O47","v":1.5150779340000005},{"$f":"'MOD-Berechnungen'!O239-P47","v":1.5302029340000005},{"$f":"'MOD-Berechnungen'!P239-Q47","v":1.2550235686604219},{"$f":"'MOD-Berechnungen'!Q239-R47","v":1.0585694904495564},{"$f":"'MOD-Berechnungen'!R239-S47","v":1.0106083811612576},{"$f":"'MOD-Berechnungen'!S239-T47","v":0.74197769522039103},{"$f":"'MOD-Berechnungen'!T239-U47","v":0.43927686747089773},{"$f":"'MOD-Berechnungen'!U239-V47","v":0.15582886179697542},{"$f":"'MOD-Berechnungen'!V239-W47","v":0.12537230832477719},{"$f":"'MOD-Berechnungen'!W239-X47","v":0.1004752485267224},{"$f":"'MOD-Berechnungen'!X239-Y47","v":9.6752700738409136E-2},{"$f":"'MOD-Berechnungen'!Y239-Z47","v":9.3619703214801508E-2},{"$f":"'MOD-Berechnungen'!Z239-AA47","v":5.5079993384563375E-2},{"$f":"'MOD-Berechnungen'!AA239-AB47","v":4.8352437199625009E-2},{"$f":"'MOD-Berechnungen'!AB239-AC47","v":1.5104555416539989E-2},{"$f":"'MOD-Berechnungen'!AC239-AD47","v":1.2367230452041245E-2},{"$f":"'MOD-Berechnungen'!AD239-AE47","v":8.1202989778740298E-3},{"$f":"'MOD-Berechnungen'!AE239-AF47","v":0}]
[41,null,null,null,"Biomasse","(Bestand)",{"$f":"'MOD-Berechnungen'!F240-G48","v":26.262},{"$f":"'MOD-Berechnungen'!G240-H48","v":27.776935999999999},{"$f":"'MOD-Berechnungen'!H240-I48","v":30.355590999999997},{"$f":"'MOD-Berechnungen'!I240-J48","v":33.165135999999997},{"$f":"'MOD-Berechnungen'!J240-K48","v":34.944730999999997},{"$f":"'MOD-Berechnungen'!K240-L48","v":37.700092659999996},{"$f":"'MOD-Berechnungen'!L240-M48","v":38.473878319999997},{"$f":"'MOD-Berechnungen'!M240-N48","v":37.941908319999996},{"$f":"'MOD-Berechnungen'!N240-O48","v":37.257408157999997},{"$f":"'MOD-Berechnungen'!O240-P48","v":35.534449677999994},{"$f":"'MOD-Berechnungen'!P240-Q48","v":34.912452359999996},{"$f":"'MOD-Berechnungen'!Q240-R48","v":32.772456359999993},{"$f":"'MOD-Berechnungen'!R240-S48","v":36.067925185149996},{"$f":"'MOD-Berechnungen'!S240-T48","v":35.281828643349996},{"$f":"'MOD-Berechnungen'!T240-U48","v":33.981702091599999},{"$f":"'MOD-Berechnungen'!U240-V48","v":30.772800412649996},{"$f":"'MOD-Berechnungen'!V240-W48","v":26.873186120150002},{"$f":"'MOD-Berechnungen'!W240-X48","v":22.120134741999991},{"$f":"'MOD-Berechnungen'!X240-Y48","v":18.530174839999997},{"$f":"'MOD-Berechnungen'!Y240-Z48","v":16.527640617999996},{"$f":"'MOD-Berechnungen'!Z240-AA48","v":13.976199778},{"$f":"'MOD-Berechnungen'!AA240-AB48","v":10.405301360000001},{"$f":"'MOD-Berechnungen'!AB240-AC48","v":4.4854457537000005},{"$f":"'MOD-Berechnungen'!AC240-AD48","v":2.6141341101999984},{"$f":"'MOD-Berechnungen'!AD240-AE48","v":1.1772704446499986},{"$f":"'MOD-Berechnungen'!AE240-AF48","v":0}]
[42,null,null,null,"Geothermie","(Bestand)",{"$f":"'MOD-Berechnungen'!F241-G49","v":3.5999999999999997E-2},{"$f":"'MOD-Berechnungen'!G241-H49","v":6.1612E-2},{"$f":"'MOD-Berechnungen'!H241-I49","v":0.10724},{"$f":"'MOD-Berechnungen'!I241-J49","v":7.6874999999999999E-2},{"$f":"'MOD-Berechnungen'!J241-K49","v":0.130407},{"$f":"'MOD-Berechnungen'!K241-L49","v":0.15870499999999998},{"$f":"'MOD-Berechnungen'!L241-M49","v":0.1695035},{"$f":"'MOD-Berechnungen'!M241-N49","v":0.16151500000000002},{"$f":"'MOD-Berechnungen'!N241-O49","v":0.20720700000000003},{"$f":"'MOD-Berechnungen'!O241-P49","v":0.20774100000000001},{"$f":"'MOD-Berechnungen'!P241-Q49","v":0.10962950000000002},{"$f":"'MOD-Berechnungen'!Q241-R49","v":0.12288550000000004},{"$f":"'MOD-Berechnungen'!R241-S49","v":0.14968884020373424},{"$f":"'MOD-Berechnungen'!S241-T49","v":0.14968884020373424},{"$f":"'MOD-Berechnungen'!T241-U49","v":0.14968884020373419},{"$f":"'MOD-Berechnungen'!U241-V49","v":0.14968884020373419},{"$f":"'MOD-Berechnungen'!V241-W49","v":0.14968884020373419},{"$f":"'MOD-Berechnungen'!W241-X49","v":0.14968884020373419},{"$f":"'MOD-Berechnungen'!X241-Y49","v":0.14968884020373419},{"$f":"'MOD-Berechnungen'!Y241-Z49","v":0.14968884020373419},{"$f":"'MOD-Berechnungen'!Z241-AA49","v":0.14027279747116284},{"$f":"'MOD-Berechnungen'!AA241-AB49","v":0.14027279747116284},{"$f":"'MOD-Berechnungen'!AB241-AC49","v":0.14027279747116284},{"$f":"'MOD-Berechnungen'!AC241-AD49","v":8.0174710482014078E-2},{"$f":"'MOD-Berechnungen'!AD241-AE49","v":1.6693808528381537E-2},{"$f":"'MOD-Berechnungen'!AE241-AF49","v":0}]
[43,null,null,null,"Wind Onshore","(Bestand)",{"$f":"'MOD-Berechnungen'!F242-G50","v":47.704000000000001},{"$f":"'MOD-Berechnungen'!G242-H50","v":53.882748999999997},{"$f":"'MOD-Berechnungen'!H242-I50","v":50.125189999999996},{"$f":"'MOD-Berechnungen'!I242-J50","v":55.830889999999997},{"$f":"'MOD-Berechnungen'!J242-K50","v":62.190390000000001},{"$f":"'MOD-Berechnungen'!K242-L50","v":62.596261959692413},{"$f":"'MOD-Berechnungen'!L242-M50","v":62.246703687394799},{"$f":"'MOD-Berechnungen'!M242-N50","v":56.616944412010042},{"$f":"'MOD-Berechnungen'!N242-O50","v":57.881769459921806},{"$f":"'MOD-Berechnungen'!O242-P50","v":59.164171672252408},{"$f":"'MOD-Berechnungen'!P242-Q50","v":58.715586914300651},{"$f":"'MOD-Berechnungen'!Q242-R50","v":54.075516156348904},{"$f":"'MOD-Berechnungen'!R242-S50","v":50.035072907089997},{"$f":"'MOD-Berechnungen'!S242-T50","v":45.04189044876},{"$f":"'MOD-Berechnungen'!T242-U50","v":40.59274053275999},{"$f":"'MOD-Berechnungen'!U242-V50","v":37.230717405759989},{"$f":"'MOD-Berechnungen'!V242-W50","v":34.261128196259989},{"$f":"'MOD-Berechnungen'!W242-X50","v":30.610883390260014},{"$f":"'MOD-Berechnungen'!X242-Y50","v":27.850498360860001},{"$f":"'MOD-Berechnungen'!Y242-Z50","v":26.586956992859996},{"$f":"'MOD-Berechnungen'!Z242-AA50","v":22.168137543819995},{"$f":"'MOD-Berechnungen'!AA242-AB50","v":19.832695696770003},{"$f":"'MOD-Berechnungen'!AB242-AC50","v":16.760894237149998},{"$f":"'MOD-Berechnungen'!AC242-AD50","v":12.79751338154},{"$f":"'MOD-Berechnungen'!AD242-AE50","v":7.83342254131},{"$f":"'MOD-Berechnungen'!AE242-AF50","v":0}]
[44,null,null,null,"Wind Offshore","(Bestand)",{"$f":"'MOD-Berechnungen'!F243-G51","v":0.65400000000000003},{"$f":"'MOD-Berechnungen'!G243-H51","v":1.1467909999999999},{"$f":"'MOD-Berechnungen'!H243-I51","v":1.361415},{"$f":"'MOD-Berechnungen'!I243-J51","v":2.4940419999999999},{"$f":"'MOD-Berechnungen'!J243-K51","v":7.397958},{"$f":"'MOD-Berechnungen'!K243-L51","v":7.2689449999999995},{"$f":"'MOD-Berechnungen'!L243-M51","v":5.9073369999999983},{"$f":"'MOD-Berechnungen'!M243-N51","v":6.7173849999999984},{"$f":"'MOD-Berechnungen'!N243-O51","v":5.0958149999999982},{"$f":"'MOD-Berechnungen'!O243-P51","v":4.9493379999999974},{"$f":"'MOD-Berechnungen'!P243-Q51","v":5.7977289999999968},{"$f":"'MOD-Berechnungen'!Q243-R51","v":5.0627539999999982},{"$f":"'MOD-Berechnungen'!R243-S51","v":3.4412279999999988},{"$f":"'MOD-Berechnungen'!S243-T51","v":3.4412279999999988},{"$f":"'MOD-Berechnungen'!T243-U51","v":3.4412280000000024},{"$f":"'MOD-Berechnungen'!U243-V51","v":3.4412280000000024},{"$f":"'MOD-Berechnungen'!V243-W51","v":3.4412280000000024},{"$f":"'MOD-Berechnungen'!W243-X51","v":3.4412280000000024},{"$f":"'MOD-Berechnungen'!X243-Y51","v":3.4412280000000024},{"$f":"'MOD-Berechnungen'!Y243-Z51","v":3.4412280000000024},{"$f":"'MOD-Berechnungen'!Z243-AA51","v":3.3311363999999983},{"$f":"'MOD-Berechnungen'!AA243-AB51","v":3.1753463999999951},{"$f":"'MOD-Berechnungen'!AB243-AC51","v":2.8004118000000062},{"$f":"'MOD-Berechnungen'!AC243-AD51","v":2.5234518000000037},{"$f":"'MOD-Berechnungen'!AD243-AE51","v":1.6925717999999961},{"$f":"'MOD-Berechnungen'!AE243-AF51","v":0}]
[45,null,null,null,"Solar","(Bestand)",{"$f":"'MOD-Berechnungen'!F244-G52","v":8.2959999999999994},{"$f":"'MOD-Berechnungen'!G244-H52","v":19.399286999999998},{"$f":"'MOD-Berechnungen'!H244-I52","v":24.072319},{"$f":"'MOD-Berechnungen'!I244-J52","v":34.673694999999995},{"$f":"'MOD-Berechnungen'!J244-K52","v":36.594586999999997},{"$f":"'MOD-Berechnungen'!K244-L52","v":35.461438000000001},{"$f":"'MOD-Berechnungen'!L244-M52","v":34.856110000000001},{"$f":"'MOD-Berechnungen'!M244-N52","v":33.119583999999996},{"$f":"'MOD-Berechnungen'!N244-O52","v":33.573972499999996},{"$f":"'MOD-Berechnungen'!O244-P52","v":33.019251499999996},{"$f":"'MOD-Berechnungen'!P244-Q52","v":30.887873499999998},{"$f":"'MOD-Berechnungen'!Q244-R52","v":31.364225000000001},{"$f":"'MOD-Berechnungen'!R244-S52","v":36.160693263360059},{"$f":"'MOD-Berechnungen'!S244-T52","v":36.054880575360059},{"$f":"'MOD-Berechnungen'!T244-U52","v":35.918131887360062},{"$f":"'MOD-Berechnungen'!U244-V52","v":35.28834375936006},{"$f":"'MOD-Berechnungen'!V244-W52","v":34.400725781760059},{"$f":"'MOD-Berechnungen'!W244-X52","v":33.589914629760052},{"$f":"'MOD-Berechnungen'!X244-Y52","v":32.386313548800054},{"$f":"'MOD-Berechnungen'!Y244-Z52","v":30.485952163200061},{"$f":"'MOD-Berechnungen'!Z244-AA52","v":26.225030716800042},{"$f":"'MOD-Berechnungen'!AA244-AB52","v":18.934909430400005},{"$f":"'MOD-Berechnungen'!AB244-AC52","v":11.254534972800009},{"$f":"'MOD-Berechnungen'!AC244-AD52","v":4.685932847999986},{"$f":"'MOD-Berechnungen'!AD244-AE52","v":1.6757369183999984},{"$f":"'MOD-Berechnungen'!AE244-AF52","v":0}]
[46,null,null,null,"Wasser",null,null,null,null,null,null,{"$f":"'MOD-Berechnungen'!K228","v":0.57525142472999935},{"$f":"'MOD-Berechnungen'!L228","v":1.1932944564099985},{"$f":"'MOD-Berechnungen'!M228","v":1.246767263359998},{"$f":"'MOD-Berechnungen'!N228","v":1.2871184633599981},{"$f":"'MOD-Berechnungen'!O228","v":1.3504144633599979},{"$f":"'MOD-Berechnungen'!P228","v":1.4097544633599979},{"$f":"'MOD-Berechnungen'!Q228","v":1.4631184633599978},{"$f":"'MOD-Berechnungen'!R228","v":1.5184184633599977},{"$f":"'MOD-Berechnungen'!S228","v":1.5737184633599977},{"$f":"'MOD-Berechnungen'!T228","v":1.6290884633599976},{"$f":"'MOD-Berechnungen'!U228","v":1.6844584633599977},{"$f":"'MOD-Berechnungen'!V228","v":1.7397584633599976},{"$f":"'MOD-Berechnungen'!W228","v":1.7950584633599975},{"$f":"'MOD-Berechnungen'!X228","v":1.8503584633599977},{"$f":"'MOD-Berechnungen'!Y228","v":1.9056584633599976},{"$f":"'MOD-Berechnungen'!Z228","v":1.9609584633599975},{"$f":"'MOD-Berechnungen'!AA228","v":2.0162584633599976},{"$f":"'MOD-Berechnungen'!AB228","v":2.0715584633599975},{"$f":"'MOD-Berechnungen'!AC228","v":2.1268584633599974},{"$f":"'MOD-Berechnungen'!AD228","v":2.1821584633599977},{"$f":"'MOD-Berechnungen'!AE228","v":2.2374584633599981},null,"v3.0.9","ist jetzt nicht mehr Differenz zwischen Gesamt und Bestand, sondern direkt die in MOD-Berechnungen bestimmte Erzeugung durch Neuanlagen"]
[47,null,null,null,"Gas",null,null,null,null,null,null,{"$f":"'MOD-Berechnungen'!K229","v":6.6406790999999743E-2},{"$f":"'MOD-Berechnungen'!L229","v":0.13873742399999947},{"$f":"'MOD-Berechnungen'!M229","v":0.14801366599999941},{"$f":"'MOD-Berechnungen'!N229","v":0.16266706599999942},{"$f":"'MOD-Berechnungen'!O229","v":0.17765306599999942},{"$f":"'MOD-Berechnungen'!P229","v":0.1847104313395779},{"$f":"'MOD-Berechnungen'!Q229","v":0.19221150955044344},{"$f":"'MOD-Berechnungen'!R229","v":0.20064708162750677},{"$f":"'MOD-Berechnungen'!S229","v":0.21003465832207222},{"$f":"'MOD-Berechnungen'!T229","v":0.22089177332638937},{"$f":"'MOD-Berechnungen'!U229","v":0.25277928195302846},{"$f":"'MOD-Berechnungen'!V229","v":0.30500150417525063},{"$f":"'MOD-Berechnungen'!W229","v":0.35722372639747291},{"$f":"'MOD-Berechnungen'!X229","v":0.40944594861969508},{"$f":"'MOD-Berechnungen'!Y229","v":0.46166817084191736},{"$f":"'MOD-Berechnungen'!Z229","v":0.51389039306413953},{"$f":"'MOD-Berechnungen'!AA229","v":0.5661126152863617},{"$f":"'MOD-Berechnungen'!AB229","v":0.61833483750858387},{"$f":"'MOD-Berechnungen'!AC229","v":0.67055705973080604},{"$f":"'MOD-Berechnungen'!AD229","v":0.72277928195302821},{"$f":"'MOD-Berechnungen'!AE229","v":0.77500150417525038}]
[48,null,null,null,"Biomasse",null,null,null,null,null,null,{"$f":"'MOD-Berechnungen'!K230","v":0.65751134},{"$f":"'MOD-Berechnungen'!L230","v":1.7649666799999999},{"$f":"'MOD-Berechnungen'!M230","v":2.8284846799999999},{"$f":"'MOD-Berechnungen'!N230","v":4.2970808420000024},{"$f":"'MOD-Berechnungen'!O230","v":5.8171703220000044},{"$f":"'MOD-Berechnungen'!P230","v":6.834237640000004},{"$f":"'MOD-Berechnungen'!Q230","v":7.4342376400000036},{"$f":"'MOD-Berechnungen'!R230","v":7.7542376400000039},{"$f":"'MOD-Berechnungen'!S230","v":7.9062376400000041},{"$f":"'MOD-Berechnungen'!T230","v":8.0722376400000044},{"$f":"'MOD-Berechnungen'!U230","v":8.2482376400000028},{"$f":"'MOD-Berechnungen'!V230","v":8.738237640000003},{"$f":"'MOD-Berechnungen'!W230","v":9.5382376400000037},{"$f":"'MOD-Berechnungen'!X230","v":10.338237640000003},{"$f":"'MOD-Berechnungen'!Y230","v":11.138237640000003},{"$f":"'MOD-Berechnungen'!Z230","v":11.938237640000002},{"$f":"'MOD-Berechnungen'!AA230","v":12.738237640000003},{"$f":"'MOD-Berechnungen'!AB230","v":13.538237640000004},{"$f":"'MOD-Berechnungen'!AC230","v":14.338237640000003},{"$f":"'MOD-Berechnungen'!AD230","v":15.138237640000003},{"$f":"'MOD-Berechnungen'!AE230","v":15.938237640000002}]
[49,null,null,null,"Geothermie",null,null,null,null,null,null,{"$f":"'MOD-Berechnungen'!K231","v":0},{"$f":"'MOD-Berechnungen'!L231","v":1.0852499999999996E-2},{"$f":"'MOD-Berechnungen'!M231","v":2.8008999999999992E-2},{"$f":"'MOD-Berechnungen'!N231","v":5.0072999999999986E-2},{"$f":"'MOD-Berechnungen'!O231","v":7.8644999999999979E-2},{"$f":"'MOD-Berechnungen'!P231","v":0.10509949999999998},{"$f":"'MOD-Berechnungen'!Q231","v":0.14482849999999997},{"$f":"'MOD-Berechnungen'!R231","v":0.24337749999999997},{"$f":"'MOD-Berechnungen'!S231","v":0.35641899999999999},{"$f":"'MOD-Berechnungen'!T231","v":0.41444300000000001},{"$f":"'MOD-Berechnungen'!U231","v":0.44927899999999998},{"$f":"'MOD-Berechnungen'!V231","v":0.49565499999999996},{"$f":"'MOD-Berechnungen'!W231","v":0.55362500000000003},{"$f":"'MOD-Berechnungen'!X231","v":0.611595},{"$f":"'MOD-Berechnungen'!Y231","v":0.66956500000000008},{"$f":"'MOD-Berechnungen'!Z231","v":0.72753500000000004},{"$f":"'MOD-Berechnungen'!AA231","v":0.78550500000000012},{"$f":"'MOD-Berechnungen'!AB231","v":0.84347500000000009},{"$f":"'MOD-Berechnungen'!AC231","v":0.90144500000000016},{"$f":"'MOD-Berechnungen'!AD231","v":0.95941500000000024},{"$f":"'MOD-Berechnungen'!AE231","v":1.0173850000000002}]
[50,null,null,null,"Wind Onshore",null,null,null,null,null,null,{"$f":"'MOD-Berechnungen'!K232","v":4.2764260403075847},{"$f":"'MOD-Berechnungen'!L232","v":13.702182312605201},{"$f":"'MOD-Berechnungen'!M232","v":25.384958587989953},{"$f":"'MOD-Berechnungen'!N232","v":34.842306540078191},{"$f":"'MOD-Berechnungen'!O232","v":39.635011327747591},{"$f":"'MOD-Berechnungen'!P232","v":43.372617085699339},{"$f":"'MOD-Berechnungen'!Q232","v":47.110222843651094},{"$f":"'MOD-Berechnungen'!R232","v":51.112025722626967},{"$f":"'MOD-Berechnungen'!S232","v":55.977525722626964},{"$f":"'MOD-Berechnungen'!T232","v":61.517525722626971},{"$f":"'MOD-Berechnungen'!U232","v":67.280025722626974},{"$f":"'MOD-Berechnungen'!V232","v":73.263775722626974},{"$f":"'MOD-Berechnungen'!W232","v":79.36552572262697},{"$f":"'MOD-Berechnungen'!X232","v":85.541025722626969},{"$f":"'MOD-Berechnungen'!Y232","v":91.767097151198413},{"$f":"'MOD-Berechnungen'!Z232","v":98.030043579769824},{"$f":"'MOD-Berechnungen'!AA232","v":104.3210852464365},{"$f":"'MOD-Berechnungen'!AB232","v":110.63425191310316},{"$f":"'MOD-Berechnungen'!AC232","v":116.96529736764862},{"$f":"'MOD-Berechnungen'!AD232","v":123.31109282219407},{"$f":"'MOD-Berechnungen'!AE232","v":129.73734282219408}]
[51,null,null,null,"Wind Offshore",null,null,null,null,null,null,{"$f":"'MOD-Berechnungen'!K233","v":3.9622590000000004},{"$f":"'MOD-Berechnungen'!L233","v":9.4722070000000009},{"$f":"'MOD-Berechnungen'!M233","v":13.315970000000002},{"$f":"'MOD-Berechnungen'!N233","v":17.468591},{"$f":"'MOD-Berechnungen'!O233","v":21.516823000000002},{"$f":"'MOD-Berechnungen'!P233","v":24.142347000000001},{"$f":"'MOD-Berechnungen'!Q233","v":24.576186},{"$f":"'MOD-Berechnungen'!R233","v":25.306356000000001},{"$f":"'MOD-Berechnungen'!S233","v":28.133751},{"$f":"'MOD-Berechnungen'!T233","v":32.192976000000002},{"$f":"'MOD-Berechnungen'!U233","v":36.167976000000003},{"$f":"'MOD-Berechnungen'!V233","v":40.219476},{"$f":"'MOD-Berechnungen'!W233","v":44.311776000000002},{"$f":"'MOD-Berechnungen'!X233","v":48.429576000000004},{"$f":"'MOD-Berechnungen'!Y233","v":52.564861714285719},{"$f":"'MOD-Berechnungen'!Z233","v":56.712897428571431},{"$f":"'MOD-Berechnungen'!AA233","v":60.870647428571431},{"$f":"'MOD-Berechnungen'!AB233","v":65.036047428571436},{"$f":"'MOD-Berechnungen'!AC233","v":69.207629246753243},{"$f":"'MOD-Berechnungen'!AD233","v":73.384311064935062},{"$f":"'MOD-Berechnungen'!AE233","v":77.588811064935058}]
[52,null,null,null,"Solar",null,null,null,null,null,null,{"$f":"'MOD-Berechnungen'!K234","v":0.63551999999999997},{"$f":"'MOD-Berechnungen'!L234","v":1.9694400000000001},{"$f":"'MOD-Berechnungen'!M234","v":3.4425600000000003},{"$f":"'MOD-Berechnungen'!N234","v":5.5996425000000007},{"$f":"'MOD-Berechnungen'!O234","v":8.8584475000000005},{"$f":"'MOD-Berechnungen'!P234","v":13.051372500000001},{"$f":"'MOD-Berechnungen'!Q234","v":17.98011},{"$f":"'MOD-Berechnungen'!R234","v":22.777352916140931},{"$f":"'MOD-Berechnungen'!S234","v":26.379215068479549},{"$f":"'MOD-Berechnungen'!T234","v":29.156107085919427},{"$f":"'MOD-Berechnungen'!U234","v":31.924201264057086},{"$f":"'MOD-Berechnungen'!V234","v":34.688673985107187},{"$f":"'MOD-Berechnungen'!W234","v":37.407837648946433},{"$f":"'MOD-Berechnungen'!X234","v":40.139743343845701},{"$f":"'MOD-Berechnungen'!Y234","v":42.88439106980497},{"$f":"'MOD-Berechnungen'!Z234","v":45.641780826824252},{"$f":"'MOD-Berechnungen'!AA234","v":48.411912614903549},{"$f":"'MOD-Berechnungen'!AB234","v":51.194786434042854},{"$f":"'MOD-Berechnungen'!AC234","v":53.99040228424218},{"$f":"'MOD-Berechnungen'!AD234","v":56.798760165501513},{"$f":"'MOD-Berechnungen'!AE234","v":59.631124613896169}]
[53]
[54,null,null,null,null,"Strommengen (kleine aggregiert) [TWh/a]"]
[55,null,null,null,null,null,2010,2011,2012,2013,2014,2015,2016,2017,2018,2019,2020,2021,2022,2023,2024,2025,2026,2027,2028,2029,2030,2031,2032,2033,2034,2035]
[56,null,null,null,"Sonstige","(Bestand)",{"$f":"G39+G40+G42","v":7.3149999999999995},{"$f":"H39+H40+H42","v":8.1213699999999989},7.6041449999999999,8.2791299999999985,8.1088870000000011,7.2874697842700007,6.6913116195900022,6.4356240706400021,6.3589624706400025,6.9021164706400029,6.2052356053004241,6.0967675270895585,7.5256811223226743,7.2570504363818076,6.954349608632314,6.6709016029583923,6.6404450494861926,6.6155479896881388,6.6118254418998266,6.6086924443762181,6.0217546586177342,5.5492924636983911,5.1950997194625295,4.9462640999265162,4.2778710392528891,4.2024045692321135]
[57,null,null,null,"Biomasse","(Bestand)",{"$f":"G41","v":26.262},{"$f":"H41","v":27.776935999999999},{"$f":"I41","v":30.355590999999997},33.165135999999997,34.944730999999997,37.700092659999996,38.473878319999997,37.941908319999996,37.257408157999997,35.534449677999994,34.912452359999996,32.772456359999993,36.067925185149996,35.281828643349996,33.981702091599999,30.772800412649996,26.873186120150002,22.120134741999991,18.530174839999997,16.527640617999996,13.976199778,10.405301360000001,4.4854457537000005,2.6141341101999984,1.1772704446499986,0]
[58,null,null,null,"Wind Onshore","(Bestand)",{"$f":"G43","v":47.704000000000001},{"$f":"H43","v":53.882748999999997},{"$f":"I43","v":50.125189999999996},55.830889999999997,62.190390000000001,62.596261959692413,62.246703687394799,56.616944412010042,57.881769459921806,59.164171672252408,58.715586914300651,54.075516156348904,50.035072907089997,45.04189044876,40.59274053275999,37.230717405759989,34.261128196259989,30.610883390260014,27.850498360860001,26.586956992859996,22.168137543819995,19.832695696770003,16.760894237149998,12.79751338154,7.83342254131,0]
[59,null,null,null,"Wind Offshore","(Bestand)",{"$f":"G44","v":0.65400000000000003},1.1467909999999999,1.361415,2.4940419999999999,7.397958,7.2689449999999995,5.9073369999999983,6.7173849999999984,5.0958149999999982,4.9493379999999974,{"$f":"Q44","v":5.7977289999999968},5.0627539999999982,3.4412279999999988,3.4412279999999988,3.4412280000000024,3.4412280000000024,3.4412280000000024,3.4412280000000024,3.4412280000000024,3.4412280000000024,3.3311363999999983,3.1753463999999951,2.8004118000000062,2.5234518000000037,1.6925717999999961,0]
[60,null,null,null,"Solar","(Bestand)",{"$f":"G45","v":8.2959999999999994},19.399286999999998,24.072319,34.673694999999995,36.594586999999997,35.461438000000001,34.856110000000001,33.119583999999996,33.573972499999996,33.019251499999996,30.887873499999998,31.364225000000001,36.160693263360059,36.054880575360059,35.918131887360062,35.28834375936006,34.400725781760059,33.589914629760052,32.386313548800054,30.485952163200061,26.225030716800042,18.934909430400005,11.254534972800009,4.685932847999986,1.6757369183999984,0]
[61,null,null,null,"Sonstige",null,{"$f":"G46+G47+G49","v":0},{"$f":"H46+H47+H49","v":0},0,0,0,0.64165821572999904,1.3428843804099979,1.4227899293599973,1.4998585293599975,1.6067125293599973,1.6995643946995758,1.8001584729104414,1.9624430449875045,2.1401721216820699,2.2644232366863868,2.3865167453130258,2.5404149675352485,2.7059071897574709,2.8713994119796928,3.0368916342019148,3.2023838564241371,3.3678760786463595,3.5333683008685814,3.6988605230908038,3.8643527453130262,4.029844967535249]
[62,null,null,null,"Biomasse",null,{"$f":"G48","v":0},{"$f":"H48","v":0},0,0,0,0.65751134,1.7649666799999999,2.8284846799999999,4.2970808420000024,5.8171703220000044,6.834237640000004,7.4342376400000036,7.7542376400000039,7.9062376400000041,8.0722376400000044,8.2482376400000028,8.738237640000003,9.5382376400000037,10.338237640000003,11.138237640000003,11.938237640000002,12.738237640000003,13.538237640000004,14.338237640000003,15.138237640000003,15.938237640000002]
[63,null,null,null,"Wind Onshore",null,{"$f":"G50","v":0},{"$f":"H50","v":0},0,0,0,4.2764260403075847,13.702182312605201,25.384958587989953,34.842306540078191,39.635011327747591,43.372617085699339,47.110222843651094,51.112025722626967,55.977525722626964,61.517525722626971,67.280025722626974,73.263775722626974,79.36552572262697,85.541025722626969,91.767097151198413,98.030043579769824,104.3210852464365,110.63425191310316,116.96529736764862,123.31109282219407,129.73734282219408]
[64,null,null,null,"Wind Offshore",null,{"$f":"G51","v":0},0,0,0,0,3.9622590000000004,9.4722070000000009,13.315970000000002,17.468591,21.516823000000002,24.142347000000001,24.576186,25.306356000000001,{"$f":"T51","v":28.133751},32.192976000000002,36.167976000000003,40.219476,44.311776000000002,48.429576000000004,52.564861714285719,56.712897428571431,60.870647428571431,65.036047428571436,69.207629246753243,73.384311064935062,77.588811064935058]
[65,null,null,null,"Solar",null,{"$f":"G52","v":0},0,0,0,0,0.63551999999999997,1.9694400000000001,3.4425600000000003,5.5996425000000007,8.8584475000000005,13.051372500000001,17.98011,22.777352916140931,26.379215068479549,29.156107085919427,31.924201264057086,34.688673985107187,37.407837648946433,40.139743343845701,42.88439106980497,45.641780826824252,48.411912614903549,51.194786434042854,53.99040228424218,56.798760165501513,59.631124613896169]
[66]
[67,null,null,null,null,"Vergütungsansprüche (real) [Mrd EUR 2016 / a]"]
[68,null,null,null,null,null,2010,2011,2012,2013,2014,2015,2016,2017,2018,2019,2020,2021,2022,2023,2024,2025,2026,2027,2028,2029,2030,2031,2032,2033,2034,2035]
[69,null,null,null,"Wasser","(Bestand)",{"$f":"('MOD-Berechnungen'!F305)/'MOD-Berechnungen'!F$26","v":0.48421755847158438},{"$f":"('MOD-Berechnungen'!G305)/'MOD-Berechnungen'!G$26","v":0.18632607050305369},{"$f":"('MOD-Berechnungen'!H305)/'MOD-Berechnungen'!H$26","v":0.46283747078440068},{"$f":"('MOD-Berechnungen'!I305)/'MOD-Berechnungen'!I$26","v":0.53882291926535375},{"$f":"('MOD-Berechnungen'!J305)/'MOD-Berechnungen'!J$26","v":0.56021273724697351},{"$f":"'MOD-Berechnungen'!K355/'MOD-Berechnungen'!K$26","v":0.65158102753276892},{"$f":"'MOD-Berechnungen'!L355/'MOD-Berechnungen'!L$26","v":0.64195175126381177},{"$f":"'MOD-Berechnungen'!M355/'MOD-Berechnungen'!M$26","v":0.63246477957025793},{"$f":"'MOD-Berechnungen'!N355/'MOD-Berechnungen'!N$26","v":0.62311800942882567},{"$f":"'MOD-Berechnungen'!O355/'MOD-Berechnungen'!O$26","v":0.61390936889539471},{"$f":"'MOD-Berechnungen'!P355/'MOD-Berechnungen'!P$26","v":0.60483681664570921},{"$f":"'MOD-Berechnungen'!Q355/'MOD-Berechnungen'!Q$26","v":0.59589834152286625},{"$f":"'MOD-Berechnungen'!R355/'MOD-Berechnungen'!R$26","v":0.58709196209149395},{"$f":"'MOD-Berechnungen'!S355/'MOD-Berechnungen'!S$26","v":0.57841572619851622},{"$f":"'MOD-Berechnungen'!T355/'MOD-Berechnungen'!T$26","v":0.56986771054041019},{"$f":"'MOD-Berechnungen'!U355/'MOD-Berechnungen'!U$26","v":0.56144602023685741},{"$f":"'MOD-Berechnungen'!V355/'MOD-Berechnungen'!V$26","v":0.55314878841069703},{"$f":"'MOD-Berechnungen'!W355/'MOD-Berechnungen'!W$26","v":0.5449741757740858},{"$f":"'MOD-Berechnungen'!X355/'MOD-Berechnungen'!X$26","v":0.53692037022077432},{"$f":"'MOD-Berechnungen'!Y355/'MOD-Berechnungen'!Y$26","v":0.52898558642440818},{"$f":"'MOD-Berechnungen'!Z355/'MOD-Berechnungen'!Z$26","v":0.47399134488730421},{"$f":"'MOD-Berechnungen'!AA355/'MOD-Berechnungen'!AA$26","v":0.43543447798494095},{"$f":"'MOD-Berechnungen'!AB355/'MOD-Berechnungen'!AB$26","v":0.40122738811491393},{"$f":"'MOD-Berechnungen'!AC355/'MOD-Berechnungen'!AC$26","v":0.37716428774061539},{"$f":"'MOD-Berechnungen'!AD355/'MOD-Berechnungen'!AD$26","v":0.33281614656594743},{"$f":"'MOD-Berechnungen'!AE355/'MOD-Berechnungen'!AE$26","v":0.32297846554061682},null,"v2.1.33"]
[70,null,null,null,"Gas","(Bestand)",{"$f":"('MOD-Berechnungen'!F306)/'MOD-Berechnungen'!F$26","v":0.15151637080041952},{"$f":"('MOD-Berechnungen'!G306)/'MOD-Berechnungen'!G$26","v":1.6125574238292271E-2},{"$f":"('MOD-Berechnungen'!H306)/'MOD-Berechnungen'!H$26","v":5.8855854898378933E-2},{"$f":"('MOD-Berechnungen'!I306)/'MOD-Berechnungen'!I$26","v":0.11948123459380518},{"$f":"('MOD-Berechnungen'!J306)/'MOD-Berechnungen'!J$26","v":7.0065338612442421E-2},{"$f":"'MOD-Berechnungen'!K356/'MOD-Berechnungen'!K$26","v":0.11061404992496066},{"$f":"'MOD-Berechnungen'!L356/'MOD-Berechnungen'!L$26","v":0.10897935953198096},{"$f":"'MOD-Berechnungen'!M356/'MOD-Berechnungen'!M$26","v":0.1073688271251044},{"$f":"'MOD-Berechnungen'!N356/'MOD-Berechnungen'!N$26","v":0.10578209568975804},{"$f":"'MOD-Berechnungen'!O356/'MOD-Berechnungen'!O$26","v":0.10421881348744634},{"$f":"'MOD-Berechnungen'!P356/'MOD-Berechnungen'!P$26","v":0.10267863397777965},{"$f":"'MOD-Berechnungen'!Q356/'MOD-Berechnungen'!Q$26","v":7.9133545585612253E-2},{"$f":"'MOD-Berechnungen'!R356/'MOD-Berechnungen'!R$26","v":7.0667143725347797E-2},{"$f":"'MOD-Berechnungen'!S356/'MOD-Berechnungen'!S$26","v":5.1313146215934941E-2},{"$f":"'MOD-Berechnungen'!T356/'MOD-Berechnungen'!T$26","v":2.9988120905285583E-2},{"$f":"'MOD-Berechnungen'!U356/'MOD-Berechnungen'!U$26","v":1.0667678693575433E-2},{"$f":"'MOD-Berechnungen'!V356/'MOD-Berechnungen'!V$26","v":8.4147505210378521E-3},{"$f":"'MOD-Berechnungen'!W356/'MOD-Berechnungen'!W$26","v":6.62546958629093E-3},{"$f":"'MOD-Berechnungen'!X356/'MOD-Berechnungen'!X$26","v":6.2801558851410923E-3},{"$f":"'MOD-Berechnungen'!Y356/'MOD-Berechnungen'!Y$26","v":5.9844425317296451E-3},{"$f":"'MOD-Berechnungen'!Z356/'MOD-Berechnungen'!Z$26","v":3.3587852162160893E-3},{"$f":"'MOD-Berechnungen'!AA356/'MOD-Berechnungen'!AA$26","v":2.7514392788576302E-3},{"$f":"'MOD-Berechnungen'!AB356/'MOD-Berechnungen'!AB$26","v":9.2076320282522266E-4},{"$f":"'MOD-Berechnungen'!AC356/'MOD-Berechnungen'!AC$26","v":7.1708824768602659E-4},{"$f":"'MOD-Berechnungen'!AD356/'MOD-Berechnungen'!AD$26","v":4.6230434523047585E-4},{"$f":"'MOD-Berechnungen'!AE356/'MOD-Berechnungen'!AE$26","v":0},null,"v2.1.33"]
[71,null,null,null,"Biomasse","(Bestand)",{"$f":"('MOD-Berechnungen'!F307)/'MOD-Berechnungen'!F$26","v":4.6213773406417245},{"$f":"('MOD-Berechnungen'!G307)/'MOD-Berechnungen'!G$26","v":4.8687815632301072},{"$f":"('MOD-Berechnungen'!H307)/'MOD-Berechnungen'!H$26","v":5.716565688929081},{"$f":"('MOD-Berechnungen'!I307)/'MOD-Berechnungen'!I$26","v":6.6953119903620273},{"$f":"('MOD-Berechnungen'!J307)/'MOD-Berechnungen'!J$26","v":7.0622509698015197},{"$f":"'MOD-Berechnungen'!K357/'MOD-Berechnungen'!K$26","v":7.9626832105608587},{"$f":"'MOD-Berechnungen'!L357/'MOD-Berechnungen'!L$26","v":7.8450080892225218},{"$f":"'MOD-Berechnungen'!M357/'MOD-Berechnungen'!M$26","v":7.7290720090862282},{"$f":"'MOD-Berechnungen'!N357/'MOD-Berechnungen'!N$26","v":7.6148492700356938},{"$f":"'MOD-Berechnungen'!O357/'MOD-Berechnungen'!O$26","v":7.5023145517593042},{"$f":"'MOD-Berechnungen'!P357/'MOD-Berechnungen'!P$26","v":7.3914429081372468},{"$f":"'MOD-Berechnungen'!Q357/'MOD-Berechnungen'!Q$26","v":7.1835599193497597},{"$f":"'MOD-Berechnungen'!R357/'MOD-Berechnungen'!R$26","v":6.9028395545915009},{"$f":"'MOD-Berechnungen'!S357/'MOD-Berechnungen'!S$26","v":6.6863726579361789},{"$f":"'MOD-Berechnungen'!T357/'MOD-Berechnungen'!T$26","v":6.4195318599257352},{"$f":"'MOD-Berechnungen'!U357/'MOD-Berechnungen'!U$26","v":5.8814136899447531},{"$f":"'MOD-Berechnungen'!V357/'MOD-Berechnungen'!V$26","v":5.083288619192019},{"$f":"'MOD-Berechnungen'!W357/'MOD-Berechnungen'!W$26","v":4.1622312429061097},{"$f":"'MOD-Berechnungen'!X357/'MOD-Berechnungen'!X$26","v":3.4503228095278868},{"$f":"'MOD-Berechnungen'!Y357/'MOD-Berechnungen'!Y$26","v":3.0569590095954067},{"$f":"'MOD-Berechnungen'!Z357/'MOD-Berechnungen'!Z$26","v":2.5630213383032445},{"$f":"'MOD-Berechnungen'!AA357/'MOD-Berechnungen'!AA$26","v":1.8650149337668713},{"$f":"'MOD-Berechnungen'!AB357/'MOD-Berechnungen'!AB$26","v":0.75991248951747714},{"$f":"'MOD-Berechnungen'!AC357/'MOD-Berechnungen'!AC$26","v":0.43395429475412428},{"$f":"'MOD-Berechnungen'!AD357/'MOD-Berechnungen'!AD$26","v":0.18953765783446624},{"$f":"'MOD-Berechnungen'!AE357/'MOD-Berechnungen'!AE$26","v":0},null,"v2.1.33"]
[72,null,null,null,"Geothermie","(Bestand)",{"$f":"('MOD-Berechnungen'!F308)/'MOD-Berechnungen'!F$26","v":6.3164646312899898E-3},{"$f":"('MOD-Berechnungen'!G308)/'MOD-Berechnungen'!G$26","v":1.4997056387164856E-2},{"$f":"('MOD-Berechnungen'!H308)/'MOD-Berechnungen'!H$26","v":2.6652566889325741E-2},{"$f":"('MOD-Berechnungen'!I308)/'MOD-Berechnungen'!I$26","v":2.0055613904744553E-2},{"$f":"('MOD-Berechnungen'!J308)/'MOD-Berechnungen'!J$26","v":3.4801825701943241E-2},{"$f":"'MOD-Berechnungen'!K358/'MOD-Berechnungen'!K$26","v":4.0908326924782704E-2},{"$f":"'MOD-Berechnungen'!L358/'MOD-Berechnungen'!L$26","v":4.0303770369244041E-2},{"$f":"'MOD-Berechnungen'!M358/'MOD-Berechnungen'!M$26","v":3.970814814703847E-2},{"$f":"'MOD-Berechnungen'!N358/'MOD-Berechnungen'!N$26","v":3.9121328223683222E-2},{"$f":"'MOD-Berechnungen'!O358/'MOD-Berechnungen'!O$26","v":3.8543180515944062E-2},{"$f":"'MOD-Berechnungen'!P358/'MOD-Berechnungen'!P$26","v":3.7973576862999084E-2},{"$f":"'MOD-Berechnungen'!Q358/'MOD-Berechnungen'!Q$26","v":3.7412390998028656E-2},{"$f":"'MOD-Berechnungen'!R358/'MOD-Berechnungen'!R$26","v":3.6859498520225284E-2},{"$f":"'MOD-Berechnungen'!S358/'MOD-Berechnungen'!S$26","v":3.6314776867217034E-2},{"$f":"'MOD-Berechnungen'!T358/'MOD-Berechnungen'!T$26","v":3.5778105287898557E-2},{"$f":"'MOD-Berechnungen'!U358/'MOD-Berechnungen'!U$26","v":3.5249364815663611E-2},{"$f":"'MOD-Berechnungen'!V358/'MOD-Berechnungen'!V$26","v":3.4728438242033116E-2},{"$f":"'MOD-Berechnungen'!W358/'MOD-Berechnungen'!W$26","v":3.4215210090673027E-2},{"$f":"'MOD-Berechnungen'!X358/'MOD-Berechnungen'!X$26","v":3.3709566591796095E-2},{"$f":"'MOD-Berechnungen'!Y358/'MOD-Berechnungen'!Y$26","v":3.3211395656941964E-2},{"$f":"'MOD-Berechnungen'!Z358/'MOD-Berechnungen'!Z$26","v":3.0834380600351076E-2},{"$f":"'MOD-Berechnungen'!AA358/'MOD-Berechnungen'!AA$26","v":3.0378700098868058E-2},{"$f":"'MOD-Berechnungen'!AB358/'MOD-Berechnungen'!AB$26","v":2.9929753791988239E-2},{"$f":"'MOD-Berechnungen'!AC358/'MOD-Berechnungen'!AC$26","v":1.6827148856595815E-2},{"$f":"'MOD-Berechnungen'!AD358/'MOD-Berechnungen'!AD$26","v":3.4029482365080348E-3},{"$f":"'MOD-Berechnungen'!AE358/'MOD-Berechnungen'!AE$26","v":0},null,"v2.1.33"]
[73,null,null,null,"Wind Onshore","(Bestand)",{"$f":"('MOD-Berechnungen'!F309)/'MOD-Berechnungen'!F$26","v":4.89757621985847},{"$f":"('MOD-Berechnungen'!G309)/'MOD-Berechnungen'!G$26","v":5.1492919516335478},{"$f":"('MOD-Berechnungen'!H309)/'MOD-Berechnungen'!H$26","v":4.8896892135127219},{"$f":"('MOD-Berechnungen'!I309)/'MOD-Berechnungen'!I$26","v":5.930644499960624},{"$f":"('MOD-Berechnungen'!J309)/'MOD-Berechnungen'!J$26","v":6.6940795046280881},{"$f":"'MOD-Berechnungen'!K359/'MOD-Berechnungen'!K$26","v":6.4600826478368827},{"$f":"'MOD-Berechnungen'!L359/'MOD-Berechnungen'!L$26","v":6.308551835933307},{"$f":"'MOD-Berechnungen'!M359/'MOD-Berechnungen'!M$26","v":6.1514728934115537},{"$f":"'MOD-Berechnungen'!N359/'MOD-Berechnungen'!N$26","v":5.9819119627226023},{"$f":"'MOD-Berechnungen'!O359/'MOD-Berechnungen'!O$26","v":5.7066205726241801},{"$f":"'MOD-Berechnungen'!P359/'MOD-Berechnungen'!P$26","v":5.4252463240195068},{"$f":"'MOD-Berechnungen'!Q359/'MOD-Berechnungen'!Q$26","v":5.0040482709215501},{"$f":"'MOD-Berechnungen'!R359/'MOD-Berechnungen'!R$26","v":4.5254945282232137},{"$f":"'MOD-Berechnungen'!S359/'MOD-Berechnungen'!S$26","v":4.0182614699323951},{"$f":"'MOD-Berechnungen'!T359/'MOD-Berechnungen'!T$26","v":3.5835903426905142},{"$f":"'MOD-Berechnungen'!U359/'MOD-Berechnungen'!U$26","v":3.2366361069880587},{"$f":"'MOD-Berechnungen'!V359/'MOD-Berechnungen'!V$26","v":2.9447402883270906},{"$f":"'MOD-Berechnungen'!W359/'MOD-Berechnungen'!W$26","v":2.6691853500333989},{"$f":"'MOD-Berechnungen'!X359/'MOD-Berechnungen'!X$26","v":2.29240878588912},{"$f":"'MOD-Berechnungen'!Y359/'MOD-Berechnungen'!Y$26","v":2.0851004813137455},{"$f":"'MOD-Berechnungen'!Z359/'MOD-Berechnungen'!Z$26","v":1.7156540778477996},{"$f":"'MOD-Berechnungen'!AA359/'MOD-Berechnungen'!AA$26","v":1.4129320536259709},{"$f":"'MOD-Berechnungen'!AB359/'MOD-Berechnungen'!AB$26","v":1.0290954632655558},{"$f":"'MOD-Berechnungen'!AC359/'MOD-Berechnungen'!AC$26","v":0.52649291527595776},{"$f":"'MOD-Berechnungen'!AD359/'MOD-Berechnungen'!AD$26","v":0.31952011443862655},{"$f":"'MOD-Berechnungen'!AE359/'MOD-Berechnungen'!AE$26","v":0},null,"v2.1.33"]
[74,null,null,null,"Wind Offshore","(Bestand)",{"$f":"('MOD-Berechnungen'!F310)/'MOD-Berechnungen'!F$26","v":0.11474910746843484},{"$f":"('MOD-Berechnungen'!G310)/'MOD-Berechnungen'!G$26","v":0.19707438847300202},{"$f":"('MOD-Berechnungen'!H310)/'MOD-Berechnungen'!H$26","v":0.24397870616888287},{"$f":"('MOD-Berechnungen'!I310)/'MOD-Berechnungen'!I$26","v":0.52188837846123859},{"$f":"('MOD-Berechnungen'!J310)/'MOD-Berechnungen'!J$26","v":1.5505957147483378},{"$f":"'MOD-Berechnungen'!K360/'MOD-Berechnungen'!K$26","v":0.65996252596622784},{"$f":"'MOD-Berechnungen'!L360/'MOD-Berechnungen'!L$26","v":0.65020938518840188},{"$f":"'MOD-Berechnungen'!M360/'MOD-Berechnungen'!M$26","v":0.64060037949596249},{"$f":"'MOD-Berechnungen'!N360/'MOD-Berechnungen'!N$26","v":0.6311333788137562},{"$f":"'MOD-Berechnungen'!O360/'MOD-Berechnungen'!O$26","v":0.62180628454557263},{"$f":"'MOD-Berechnungen'!P360/'MOD-Berechnungen'!P$26","v":0.61261702910893856},{"$f":"'MOD-Berechnungen'!Q360/'MOD-Berechnungen'!Q$26","v":0.59254805064153393},{"$f":"'MOD-Berechnungen'!R360/'MOD-Berechnungen'!R$26","v":0.55274195300144713},{"$f":"'MOD-Berechnungen'!S360/'MOD-Berechnungen'!S$26","v":0.47832245919280425},{"$f":"'MOD-Berechnungen'!T360/'MOD-Berechnungen'!T$26","v":0.43991401193223445},{"$f":"'MOD-Berechnungen'!U360/'MOD-Berechnungen'!U$26","v":0.33095967212741462},{"$f":"'MOD-Berechnungen'!V360/'MOD-Berechnungen'!V$26","v":0.14425530907772735},{"$f":"'MOD-Berechnungen'!W360/'MOD-Berechnungen'!W$26","v":9.9597443343707376E-2},{"$f":"'MOD-Berechnungen'!X360/'MOD-Berechnungen'!X$26","v":9.8033312830576175E-2},{"$f":"'MOD-Berechnungen'!Y360/'MOD-Berechnungen'!Y$26","v":9.6452673967470565E-2},{"$f":"'MOD-Berechnungen'!Z360/'MOD-Berechnungen'!Z$26","v":9.1436974897620316E-2},{"$f":"'MOD-Berechnungen'!AA360/'MOD-Berechnungen'!AA$26","v":8.5177444456960016E-2},{"$f":"'MOD-Berechnungen'!AB360/'MOD-Berechnungen'!AB$26","v":7.2467276437205075E-2},{"$f":"'MOD-Berechnungen'!AC360/'MOD-Berechnungen'!AC$26","v":6.3000481936793695E-2},{"$f":"'MOD-Berechnungen'!AD360/'MOD-Berechnungen'!AD$26","v":3.8005432848238645E-2},{"$f":"'MOD-Berechnungen'!AE360/'MOD-Berechnungen'!AE$26","v":0},null,"v2.1.33"]
[75,null,null,null,"Solar","(Bestand)",{"$f":"('MOD-Berechnungen'!F311)/'MOD-Berechnungen'!F$26","v":4.5415508899812727},{"$f":"('MOD-Berechnungen'!G311)/'MOD-Berechnungen'!G$26","v":9.1888796318476302},{"$f":"('MOD-Berechnungen'!H311)/'MOD-Berechnungen'!H$26","v":9.8720735878022801},{"$f":"('MOD-Berechnungen'!I311)/'MOD-Berechnungen'!I$26","v":11.400701040437418},{"$f":"('MOD-Berechnungen'!J311)/'MOD-Berechnungen'!J$26","v":11.767526181566813},{"$f":"'MOD-Berechnungen'!K361/'MOD-Berechnungen'!K$26","v":11.927307720203823},{"$f":"'MOD-Berechnungen'!L361/'MOD-Berechnungen'!L$26","v":11.751042088870763},{"$f":"'MOD-Berechnungen'!M361/'MOD-Berechnungen'!M$26","v":11.577381368345579},{"$f":"'MOD-Berechnungen'!N361/'MOD-Berechnungen'!N$26","v":11.406287062409438},{"$f":"'MOD-Berechnungen'!O361/'MOD-Berechnungen'!O$26","v":11.237721243753143},{"$f":"'MOD-Berechnungen'!P361/'MOD-Berechnungen'!P$26","v":11.0716465455696},{"$f":"'MOD-Berechnungen'!Q361/'MOD-Berechnungen'!Q$26","v":10.86119713155138},{"$f":"'MOD-Berechnungen'!R361/'MOD-Berechnungen'!R$26","v":10.652041075186215},{"$f":"'MOD-Berechnungen'!S361/'MOD-Berechnungen'!S$26","v":10.446964004289798},{"$f":"'MOD-Berechnungen'!T361/'MOD-Berechnungen'!T$26","v":10.233463784874099},{"$f":"'MOD-Berechnungen'!U361/'MOD-Berechnungen'!U$26","v":9.7516533920638349},{"$f":"'MOD-Berechnungen'!V361/'MOD-Berechnungen'!V$26","v":9.1719217118080731},{"$f":"'MOD-Berechnungen'!W361/'MOD-Berechnungen'!W$26","v":8.6619344886574581},{"$f":"'MOD-Berechnungen'!X361/'MOD-Berechnungen'!X$26","v":8.018408489588932},{"$f":"'MOD-Berechnungen'!Y361/'MOD-Berechnungen'!Y$26","v":7.134957972220624},{"$f":"'MOD-Berechnungen'!Z361/'MOD-Berechnungen'!Z$26","v":5.5037518039865656},{"$f":"'MOD-Berechnungen'!AA361/'MOD-Berechnungen'!AA$26","v":3.2248464007406987},{"$f":"'MOD-Berechnungen'!AB361/'MOD-Berechnungen'!AB$26","v":1.4680767954013876},{"$f":"'MOD-Berechnungen'!AC361/'MOD-Berechnungen'!AC$26","v":0.41490896367332558},{"$f":"'MOD-Berechnungen'!AD361/'MOD-Berechnungen'!AD$26","v":0.12505968850549012},{"$f":"'MOD-Berechnungen'!AE361/'MOD-Berechnungen'!AE$26","v":0},null,"v2.1.33"]
[76,null,null,null,"Wasser",null,{"$f":"G106/'MOD-Berechnungen'!F$26","v":0},{"$f":"H106/'MOD-Berechnungen'!G$26","v":0},{"$f":"I106/'MOD-Berechnungen'!H$26","v":0},{"$f":"J106/'MOD-Berechnungen'!I$26","v":0},{"$f":"K106/'MOD-Berechnungen'!J$26","v":0},{"$f":"L106/'MOD-Berechnungen'!K$26","v":6.6539972159463376E-2},{"$f":"M106/'MOD-Berechnungen'!L$26","v":0.13618710789040273},{"$f":"N106/'MOD-Berechnungen'!M$26","v":0.14044516822811082},{"$f":"O106/'MOD-Berechnungen'!N$26","v":0.14308579009308434},{"$f":"P106/'MOD-Berechnungen'!O$26","v":0.14823078406557114},{"$f":"Q106/'MOD-Berechnungen'!P$26","v":0.15271519085519603},{"$f":"R106/'MOD-Berechnungen'!Q$26","v":0.15634044845891198},{"$f":"S106/'MOD-Berechnungen'!R$26","v":0.16000605277002986},{"$f":"T106/'MOD-Berechnungen'!S$26","v":0.16349967578907187},{"$f":"U106/'MOD-Berechnungen'!T$26","v":0.16683335548820091},{"$f":"V106/'MOD-Berechnungen'!U$26","v":0.17000446612301681},{"$f":"W106/'MOD-Berechnungen'!V$26","v":0.17301068200118452},{"$f":"X106/'MOD-Berechnungen'!W$26","v":0.17586369359487539},{"$f":"Y106/'MOD-Berechnungen'!X$26","v":0.17856791218308227},{"$f":"Z106/'MOD-Berechnungen'!Y$26","v":0.18112764106557713},{"$f":"AA106/'MOD-Berechnungen'!Z$26","v":0.1835470780732715},{"$f":"AB106/'MOD-Berechnungen'!AA$26","v":0.18583031801122465},{"$f":"AC106/'MOD-Berechnungen'!AB$26","v":0.18798135503824148},{"$f":"AD106/'MOD-Berechnungen'!AC$26","v":0.19000408498638741},{"$f":"AE106/'MOD-Berechnungen'!AD$26","v":0.19190230762326541},{"$f":"AF106/'MOD-Berechnungen'!AE$26","v":0.19367972885952481},null,"v3.0.1"]
[77,null,null,null,"Gas",null,{"$f":"G107/'MOD-Berechnungen'!F$26","v":0},{"$f":"H107/'MOD-Berechnungen'!G$26","v":0},{"$f":"I107/'MOD-Berechnungen'!H$26","v":0},{"$f":"J107/'MOD-Berechnungen'!I$26","v":0},{"$f":"K107/'MOD-Berechnungen'!J$26","v":0},{"$f":"L107/'MOD-Berechnungen'!K$26","v":5.3771678664792525E-3},{"$f":"M107/'MOD-Berechnungen'!L$26","v":1.1082162420963066E-2},{"$f":"N107/'MOD-Berechnungen'!M$26","v":1.1632233195228067E-2},{"$f":"O107/'MOD-Berechnungen'!N$26","v":1.2452274508615002E-2},{"$f":"P107/'MOD-Berechnungen'!O$26","v":1.3254902511981456E-2},{"$f":"Q107/'MOD-Berechnungen'!P$26","v":1.3504390379544802E-2},{"$f":"R107/'MOD-Berechnungen'!Q$26","v":1.3769099604272547E-2},{"$f":"S107/'MOD-Berechnungen'!R$26","v":1.4334227511469084E-2},{"$f":"T107/'MOD-Berechnungen'!S$26","v":1.4441341838992941E-2},{"$f":"U107/'MOD-Berechnungen'!T$26","v":1.4878222802561908E-2},{"$f":"V107/'MOD-Berechnungen'!U$26","v":1.6495419881601487E-2},{"$f":"W107/'MOD-Berechnungen'!V$26","v":1.9447658409974415E-2},{"$f":"X107/'MOD-Berechnungen'!W$26","v":2.282659611679852E-2},{"$f":"Y107/'MOD-Berechnungen'!X$26","v":2.6219894934733718E-2},{"$f":"Z107/'MOD-Berechnungen'!Y$26","v":2.9627554863780051E-2},{"$f":"AA107/'MOD-Berechnungen'!Z$26","v":3.3049575903937478E-2},{"$f":"AB107/'MOD-Berechnungen'!AA$26","v":3.6485958055206012E-2},{"$f":"AC107/'MOD-Berechnungen'!AB$26","v":3.9936701317585657E-2},{"$f":"AD107/'MOD-Berechnungen'!AC$26","v":4.340180569107642E-2},{"$f":"AE107/'MOD-Berechnungen'!AD$26","v":4.6881271175678293E-2},{"$f":"AF107/'MOD-Berechnungen'!AE$26","v":5.0375097771391278E-2},null,"v3.0.1"]
[78,null,null,null,"Biomasse",null,{"$f":"G108/'MOD-Berechnungen'!F$26","v":0},{"$f":"H108/'MOD-Berechnungen'!G$26","v":0},{"$f":"I108/'MOD-Berechnungen'!H$26","v":0},{"$f":"J108/'MOD-Berechnungen'!I$26","v":0},{"$f":"K108/'MOD-Berechnungen'!J$26","v":0},{"$f":"L108/'MOD-Berechnungen'!K$26","v":0.11490793418095242},{"$f":"M108/'MOD-Berechnungen'!L$26","v":0.30735928675015944},{"$f":"N108/'MOD-Berechnungen'!M$26","v":0.47478241629994161},{"$f":"O108/'MOD-Berechnungen'!N$26","v":0.68688548712973807},{"$f":"P108/'MOD-Berechnungen'!O$26","v":0.89929223333714525},{"$f":"Q108/'MOD-Berechnungen'!P$26","v":1.0301980630986001},{"$f":"R108/'MOD-Berechnungen'!Q$26","v":1.0982099564517307},{"$f":"S108/'MOD-Berechnungen'!R$26","v":1.1266237866358548},{"$f":"T108/'MOD-Berechnungen'!S$26","v":1.1303090500733508},{"$f":"U108/'MOD-Berechnungen'!T$26","v":1.1350389317743361},{"$f":"V108/'MOD-Berechnungen'!U$26","v":1.1407346365654905},{"$f":"W108/'MOD-Berechnungen'!V$26","v":1.1856811895062636},{"$f":"X108/'MOD-Berechnungen'!W$26","v":1.2668992631848111},{"$f":"Y108/'MOD-Berechnungen'!X$26","v":1.3444777014940648},{"$f":"Z108/'MOD-Berechnungen'!Y$26","v":1.4185257818654693},{"$f":"AA108/'MOD-Berechnungen'!Z$26","v":1.4891506553376546},{"$f":"AB108/'MOD-Berechnungen'!AA$26","v":1.5564571255925341},{"$f":"AC108/'MOD-Berechnungen'!AB$26","v":1.6205475350496477},{"$f":"AD108/'MOD-Berechnungen'!AC$26","v":1.6815217143498276},{"$f":"AE108/'MOD-Berechnungen'!AD$26","v":1.7394769705115292},{"$f":"AF108/'MOD-Berechnungen'!AE$26","v":1.7955393188316788},null,"v3.0.1"]
[79,null,null,null,"Geothermie",null,{"$f":"G109/'MOD-Berechnungen'!F$26","v":0},{"$f":"H109/'MOD-Berechnungen'!G$26","v":0},{"$f":"I109/'MOD-Berechnungen'!H$26","v":0},{"$f":"J109/'MOD-Berechnungen'!I$26","v":0},{"$f":"K109/'MOD-Berechnungen'!J$26","v":0},{"$f":"L109/'MOD-Berechnungen'!K$26","v":0},{"$f":"M109/'MOD-Berechnungen'!L$26","v":2.7064561387499988E-3},{"$f":"N109/'MOD-Berechnungen'!M$26","v":6.9112207499999979E-3},{"$f":"O109/'MOD-Berechnungen'!N$26","v":1.2268339382940106E-2},{"$f":"P109/'MOD-Berechnungen'!O$26","v":1.9065338882282994E-2},{"$f":"Q109/'MOD-Berechnungen'!P$26","v":2.51569903578596E-2},{"$f":"R109/'MOD-Berechnungen'!Q$26","v":3.3914718246423559E-2},{"$f":"S109/'MOD-Berechnungen'!R$26","v":5.4528420853589436E-2},{"$f":"T109/'MOD-Berechnungen'!S$26","v":7.6828083704728309E-2},{"$f":"U109/'MOD-Berechnungen'!T$26","v":8.6828583554516184E-2},{"$f":"V109/'MOD-Berechnungen'!U$26","v":9.1742043252671629E-2},{"$f":"W109/'MOD-Berechnungen'!V$26","v":9.805768116645075E-2},{"$f":"X109/'MOD-Berechnungen'!W$26","v":0.10564209321770326},{"$f":"Y109/'MOD-Berechnungen'!X$26","v":0.11253639168436436},{"$f":"Z109/'MOD-Berechnungen'!Y$26","v":0.11878771311810331},{"$f":"AA109/'MOD-Berechnungen'!Z$26","v":0.12444015599505852},{"$f":"AB109/'MOD-Berechnungen'!AA$26","v":0.12953496651252974},{"$f":"AC109/'MOD-Berechnungen'!AB$26","v":0.13411071642595446},{"$f":"AD109/'MOD-Berechnungen'!AC$26","v":0.13820347163729618},{"$f":"AE109/'MOD-Berechnungen'!AD$26","v":0.14184695120529792},{"$f":"AF109/'MOD-Berechnungen'!AE$26","v":0.14507267689363276},null,"v3.0.1"]
[80,null,null,null,"Wind Onshore",null,{"$f":"G110/'MOD-Berechnungen'!F$26","v":0},{"$f":"H110/'MOD-Berechnungen'!G$26","v":0},{"$f":"I110/'MOD-Berechnungen'!H$26","v":0},{"$f":"J110/'MOD-Berechnungen'!I$26","v":0},{"$f":"K110/'MOD-Berechnungen'!J$26","v":0},{"$f":"L110/'MOD-Berechnungen'!K$26","v":0.37497725870677356},{"$f":"M110/'MOD-Berechnungen'!L$26","v":1.1932849443178839},{"$f":"N110/'MOD-Berechnungen'!M$26","v":2.1513129439063681},{"$f":"O110/'MOD-Berechnungen'!N$26","v":2.8580636419704177},{"$f":"P110/'MOD-Berechnungen'!O$26","v":3.1494065919925895},{"$f":"Q110/'MOD-Berechnungen'!P$26","v":3.3332709622190793},{"$f":"R110/'MOD-Berechnungen'!Q$26","v":3.5068028979962311},{"$f":"S110/'MOD-Berechnungen'!R$26","v":3.6801297553661985},{"$f":"T110/'MOD-Berechnungen'!S$26","v":3.8867345056112246},{"$f":"U110/'MOD-Berechnungen'!T$26","v":4.1197925813532317},{"$f":"V110/'MOD-Berechnungen'!U$26","v":4.354583470026296},{"$f":"W110/'MOD-Berechnungen'!V$26","v":4.5899258443992217},{"$f":"X110/'MOD-Berechnungen'!W$26","v":4.8186716515540908},{"$f":"Y110/'MOD-Berechnungen'!X$26","v":5.038047707572634},{"$f":"Z110/'MOD-Berechnungen'!Y$26","v":5.2468372657135749},{"$f":"AA110/'MOD-Berechnungen'!Z$26","v":5.4445141973131186},{"$f":"AB110/'MOD-Berechnungen'!AA$26","v":5.630901797946267},{"$f":"AC110/'MOD-Berechnungen'!AB$26","v":5.8060159453087561},{"$f":"AD110/'MOD-Berechnungen'!AC$26","v":5.9699849276745534},{"$f":"AE110/'MOD-Berechnungen'!AD$26","v":6.1230051355237958},{"$f":"AF110/'MOD-Berechnungen'!AE$26","v":6.2686043780154126},null,"v3.0.1"]
[81,null,null,null,"Wind Offshore",null,{"$f":"G111/'MOD-Berechnungen'!F$26","v":0},{"$f":"H111/'MOD-Berechnungen'!G$26","v":0},{"$f":"I111/'MOD-Berechnungen'!H$26","v":0},{"$f":"J111/'MOD-Berechnungen'!I$26","v":0},{"$f":"K111/'MOD-Berechnungen'!J$26","v":0},{"$f":"L111/'MOD-Berechnungen'!K$26","v":0.75731846896551724},{"$f":"M111/'MOD-Berechnungen'!L$26","v":1.7888718907918904},{"$f":"N111/'MOD-Berechnungen'!M$26","v":2.4994619662066118},{"$f":"O111/'MOD-Berechnungen'!N$26","v":3.1773063956500205},{"$f":"P111/'MOD-Berechnungen'!O$26","v":3.7235150614257142},{"$f":"Q111/'MOD-Berechnungen'!P$26","v":4.0453285934926511},{"$f":"R111/'MOD-Berechnungen'!Q$26","v":4.0343671646257491},{"$f":"S111/'MOD-Berechnungen'!R$26","v":3.9996845436971165},{"$f":"T111/'MOD-Berechnungen'!S$26","v":4.0878900033672378},{"$f":"U111/'MOD-Berechnungen'!T$26","v":3.9809363101895099},{"$f":"V111/'MOD-Berechnungen'!U$26","v":3.9800322873177465},{"$f":"W111/'MOD-Berechnungen'!V$26","v":3.8126675387532827},{"$f":"X111/'MOD-Berechnungen'!W$26","v":3.1356846684696253},{"$f":"Y111/'MOD-Berechnungen'!X$26","v":3.0138834925538962},{"$f":"Z111/'MOD-Berechnungen'!Y$26","v":2.9206608505780536},{"$f":"AA111/'MOD-Berechnungen'!Z$26","v":3.0969168008796553},{"$f":"AB111/'MOD-Berechnungen'!AA$26","v":3.2649627427911159},{"$f":"AC111/'MOD-Berechnungen'!AB$26","v":3.4208457271221708},{"$f":"AD111/'MOD-Berechnungen'!AC$26","v":3.571667375223905},{"$f":"AE111/'MOD-Berechnungen'!AD$26","v":3.7027996582357448},{"$f":"AF111/'MOD-Berechnungen'!AE$26","v":3.4708021725461915},null,"v3.0.1"]
[82,null,null,null,"Solar",null,{"$f":"G112/'MOD-Berechnungen'!F$26","v":0},{"$f":"H112/'MOD-Berechnungen'!G$26","v":0},{"$f":"I112/'MOD-Berechnungen'!H$26","v":0},{"$f":"J112/'MOD-Berechnungen'!I$26","v":0},{"$f":"K112/'MOD-Berechnungen'!J$26","v":0},{"$f":"L112/'MOD-Berechnungen'!K$26","v":5.4905966441302544E-2},{"$f":"M112/'MOD-Berechnungen'!L$26","v":0.15719250091839515},{"$f":"N112/'MOD-Berechnungen'!M$26","v":0.31906255738397366},{"$f":"O112/'MOD-Berechnungen'!N$26","v":0.51436906871719745},{"$f":"P112/'MOD-Berechnungen'!O$26","v":0.84700332131126088},{"$f":"Q112/'MOD-Berechnungen'!P$26","v":1.2397912467814307},{"$f":"R112/'MOD-Berechnungen'!Q$26","v":1.6069468829057498},{"$f":"S112/'MOD-Berechnungen'!R$26","v":1.8969663002955568},{"$f":"T112/'MOD-Berechnungen'!S$26","v":2.1152462611473419},{"$f":"U112/'MOD-Berechnungen'!T$26","v":2.2640709427968675},{"$f":"V112/'MOD-Berechnungen'!U$26","v":2.401573003658823},{"$f":"W112/'MOD-Berechnungen'!V$26","v":2.5289076069497538},{"$f":"X112/'MOD-Berechnungen'!W$26","v":2.6442303729847358},{"$f":"Y112/'MOD-Berechnungen'!X$26","v":2.7514780900374518},{"$f":"Z112/'MOD-Berechnungen'!Y$26","v":2.8510152600037402},{"$f":"AA112/'MOD-Berechnungen'!Z$26","v":2.9432143504299391},{"$f":"AB112/'MOD-Berechnungen'!AA$26","v":3.0285372053993909},{"$f":"AC112/'MOD-Berechnungen'!AB$26","v":3.1072223567408477},{"$f":"AD112/'MOD-Berechnungen'!AC$26","v":3.1793755330975912},{"$f":"AE112/'MOD-Berechnungen'!AD$26","v":3.2453404786645739},{"$f":"AF112/'MOD-Berechnungen'!AE$26","v":3.3061086078190565},null,"v3.0.1"]
[83]
[84,null,null,null,null,"Vergütungsansprüche real (kleine aggregiert)  [Mrd EUR 2016 / a]"]
[85,null,null,null,null,null,2010,2011,2012,2013,2014,2015,2016,2017,2018,2019,2020,2021,2022,2023,2024,2025,2026,2027,2028,2029,2030,2031,2032,2033,2034,2035]
[86,null,null,null,"Sonstige","(Bestand)",{"$f":"G69+G70+G72","v":0.64205039390329388},{"$f":"H69+H70+H72","v":0.21744870112851084},0.54834589257210531,0.6783597677639035,0.66507990156135921,0.80310340438251226,0.79123488116503682,0.77954175484240085,0.76802143334226691,0.75667136289878512,0.74548902748648793,0.71244427810650712,0.69461860433706701,0.66604364928166826,0.63563393673359436,0.6073630637460965,0.59629197717376803,0.58581485545104983,0.57691009269771154,0.56818142461307986,0.50818451070387138,0.46856461736266664,0.43207790510972743,0.39470852484489721,0.33668139914768597,0.32297846554061682]
[87,null,null,null,"Biomasse","(Bestand)",{"$f":"G71","v":4.6213773406417245},{"$f":"H71","v":4.8687815632301072},5.716565688929081,6.6953119903620273,7.0622509698015197,7.9626832105608587,7.8450080892225218,7.7290720090862282,7.6148492700356938,7.5023145517593042,7.3914429081372468,7.1835599193497597,6.9028395545915009,6.6863726579361789,6.4195318599257352,5.8814136899447531,5.083288619192019,4.1622312429061097,3.4503228095278868,3.0569590095954067,2.5630213383032445,1.8650149337668713,0.75991248951747714,0.43395429475412428,0.18953765783446624,0]
[88,null,null,null,"Wind Onshore","(Bestand)",{"$f":"G73","v":4.89757621985847},{"$f":"H73","v":5.1492919516335478},4.8896892135127219,5.930644499960624,6.6940795046280881,6.4600826478368827,6.308551835933307,6.1514728934115537,5.9819119627226023,5.7066205726241801,5.4252463240195068,5.0040482709215501,4.5254945282232137,4.0182614699323951,3.5835903426905142,3.2366361069880587,2.9447402883270906,2.6691853500333989,2.29240878588912,2.0851004813137455,1.7156540778477996,1.4129320536259709,1.0290954632655558,0.52649291527595776,0.31952011443862655,0]
[89,null,null,null,"Wind Offshore","(Bestand)",{"$f":"G74","v":0.11474910746843484},0.19707438847300202,0.24397870616888287,0.52188837846123859,1.5505957147483378,0.65996252596622784,0.65020938518840188,0.64060037949596249,0.6311333788137562,0.62180628454557263,0.61261702910893856,0.59254805064153393,0.55274195300144713,0.47832245919280425,0.43991401193223445,0.33095967212741462,0.14425530907772735,9.9597443343707376E-2,9.8033312830576175E-2,9.6452673967470565E-2,9.1436974897620316E-2,8.5177444456960016E-2,7.2467276437205075E-2,6.3000481936793695E-2,3.8005432848238645E-2,0]
[90,null,null,null,"Solar","(Bestand)",{"$f":"G75","v":4.5415508899812727},9.1888796318476302,9.8720735878022801,11.400701040437418,11.767526181566813,11.927307720203823,11.751042088870763,11.577381368345579,11.406287062409438,11.237721243753143,11.0716465455696,10.86119713155138,10.652041075186215,10.446964004289798,10.233463784874099,9.7516533920638349,9.1719217118080731,8.6619344886574581,8.018408489588932,7.134957972220624,5.5037518039865656,3.2248464007406987,1.4680767954013876,0.41490896367332558,0.12505968850549012,0]
[91,null,null,null,"Sonstige",null,{"$f":"G76+G77+G79","v":0},{"$f":"H76+H77+H79","v":0},0,0,0,7.1917140025942627E-2,0.14997572645011581,0.15898862217333889,0.16780640398463945,0.18055102545983556,0.19137657159260041,0.2040242663096081,0.22886870113508839,0.25476910133279312,0.26854016184527901,0.27824192925728997,0.2905160215776097,0.30433238292937714,0.31732419880218032,0.32954290904746047,0.34103680997226749,0.35185124257896039,0.36202877278178158,0.37160936231475999,0.38063053000424163,0.38912750352454883]
[92,null,null,null,"Biomasse",null,{"$f":"G78","v":0},{"$f":"H78","v":0},0,0,0,0.11490793418095242,0.30735928675015944,0.47478241629994161,0.68688548712973807,0.89929223333714525,1.0301980630986001,1.0982099564517307,1.1266237866358548,1.1303090500733508,1.1350389317743361,1.1407346365654905,1.1856811895062636,1.2668992631848111,1.3444777014940648,1.4185257818654693,1.4891506553376546,1.5564571255925341,1.6205475350496477,1.6815217143498276,1.7394769705115292,1.7955393188316788]
[93,null,null,null,"Wind Onshore",null,{"$f":"G80","v":0},{"$f":"H80","v":0},0,0,0,0.37497725870677356,1.1932849443178839,2.1513129439063681,2.8580636419704177,3.1494065919925895,3.3332709622190793,3.5068028979962311,3.6801297553661985,3.8867345056112246,4.1197925813532317,4.354583470026296,4.5899258443992217,4.8186716515540908,5.038047707572634,5.2468372657135749,5.4445141973131186,5.630901797946267,5.8060159453087561,5.9699849276745534,6.1230051355237958,6.2686043780154126]
[94,null,null,null,"Wind Offshore",null,{"$f":"G81","v":0},0,0,0,0,0.75731846896551724,1.7888718907918904,2.4994619662066118,3.1773063956500205,3.7235150614257142,4.0453285934926511,4.0343671646257491,3.9996845436971165,4.0878900033672378,3.9809363101895099,3.9800322873177465,3.8126675387532827,3.1356846684696253,3.0138834925538962,2.9206608505780536,3.0969168008796553,3.2649627427911159,3.4208457271221708,3.571667375223905,3.7027996582357448,3.4708021725461915]
[95,null,null,null,"Solar",null,{"$f":"G82","v":0},0,0,0,0,5.4905966441302544E-2,0.15719250091839515,0.31906255738397366,0.51436906871719745,0.84700332131126088,1.2397912467814307,1.6069468829057498,1.8969663002955568,2.1152462611473419,2.2640709427968675,2.401573003658823,2.5289076069497538,2.6442303729847358,2.7514780900374518,2.8510152600037402,2.9432143504299391,3.0285372053993909,3.1072223567408477,3.1793755330975912,3.2453404786645739,3.3061086078190565]
[96]
[97,null,null,null,null,"Vergütungsansprüche (nominal)  [Mrd EUR  / a]"]
[98,null,null,null,null,null,2010,2011,2012,2013,2014,2015,2016,2017,2018,2019,2020,2021,2022,2023,2024,2025,2026,2027,2028,2029,2030,2031,2032,2033,2034,2035]
[99,null,null,null,"Wasser","(Bestand)",{"$f":"G69*'MOD-Berechnungen'!F$26","v":0.41396176000000001},{"$f":"H69*'MOD-Berechnungen'!G$26","v":0.16263688900000001},{"$f":"I69*'MOD-Berechnungen'!H$26","v":0.41207295941425998},{"$f":"J69*'MOD-Berechnungen'!I$26","v":0.48692010585074991},{"$f":"K69*'MOD-Berechnungen'!J$26","v":0.51080576769520003},{"$f":"L69*'MOD-Berechnungen'!K$26","v":0.59589834152286625},{"$f":"M69*'MOD-Berechnungen'!L$26","v":0.59589834152286625},{"$f":"N69*'MOD-Berechnungen'!M$26","v":0.59589834152286625},{"$f":"O69*'MOD-Berechnungen'!N$26","v":0.59589834152286625},{"$f":"P69*'MOD-Berechnungen'!O$26","v":0.59589834152286625},{"$f":"Q69*'MOD-Berechnungen'!P$26","v":0.59589834152286625},{"$f":"R69*'MOD-Berechnungen'!Q$26","v":0.59589834152286625},{"$f":"S69*'MOD-Berechnungen'!R$26","v":0.59589834152286625},{"$f":"T69*'MOD-Berechnungen'!S$26","v":0.59589834152286625},{"$f":"U69*'MOD-Berechnungen'!T$26","v":0.59589834152286625},{"$f":"V69*'MOD-Berechnungen'!U$26","v":0.59589834152286625},{"$f":"W69*'MOD-Berechnungen'!V$26","v":0.59589834152286625},{"$f":"X69*'MOD-Berechnungen'!W$26","v":0.59589834152286625},{"$f":"Y69*'MOD-Berechnungen'!X$26","v":0.59589834152286625},{"$f":"Z69*'MOD-Berechnungen'!Y$26","v":0.59589834152286625},{"$f":"AA69*'MOD-Berechnungen'!Z$26","v":0.54195695216777517},{"$f":"AB69*'MOD-Berechnungen'!AA$26","v":0.50533948832503828},{"$f":"AC69*'MOD-Berechnungen'!AB$26","v":0.47262537548595118},{"$f":"AD69*'MOD-Berechnungen'!AC$26","v":0.45094447604902627},{"$f":"AE69*'MOD-Berechnungen'!AD$26","v":0.40388984807890255},{"$f":"AF69*'MOD-Berechnungen'!AE$26","v":0.39783057582039588}]
[100,null,null,null,"Gas","(Bestand)",{"$f":"G70*'MOD-Berechnungen'!F$26","v":0.12953265},{"$f":"H70*'MOD-Berechnungen'!G$26","v":1.4075396E-2},{"$f":"I70*'MOD-Berechnungen'!H$26","v":5.2400481459999995E-2},{"$f":"J70*'MOD-Berechnungen'!I$26","v":0.10797205039999999},{"$f":"K70*'MOD-Berechnungen'!J$26","v":6.3886050243399994E-2},{"$f":"L70*'MOD-Berechnungen'!K$26","v":0.10116121574165485},{"$f":"M70*'MOD-Berechnungen'!L$26","v":0.10116121574165485},{"$f":"N70*'MOD-Berechnungen'!M$26","v":0.10116121574165485},{"$f":"O70*'MOD-Berechnungen'!N$26","v":0.10116121574165485},{"$f":"P70*'MOD-Berechnungen'!O$26","v":0.10116121574165485},{"$f":"Q70*'MOD-Berechnungen'!P$26","v":0.10116121574165485},{"$f":"R70*'MOD-Berechnungen'!Q$26","v":7.9133545585612253E-2},{"$f":"S70*'MOD-Berechnungen'!R$26","v":7.1727150881228011E-2},{"$f":"T70*'MOD-Berechnungen'!S$26","v":5.2864086060311559E-2},{"$f":"U70*'MOD-Berechnungen'!T$26","v":3.1357929537542545E-2},{"$f":"V70*'MOD-Berechnungen'!U$26","v":1.1322285335139877E-2},{"$f":"W70*'MOD-Berechnungen'!V$26","v":9.0650761329917826E-3},{"$f":"X70*'MOD-Berechnungen'!W$26","v":7.244575089586645E-3},{"$f":"Y70*'MOD-Berechnungen'!X$26","v":6.9699990613540114E-3},{"$f":"Z70*'MOD-Berechnungen'!Y$26","v":6.741430146899088E-3},{"$f":"AA70*'MOD-Berechnungen'!Z$26","v":3.8404013457238352E-3},{"$f":"AB70*'MOD-Berechnungen'!AA$26","v":3.1931576106920337E-3},{"$f":"AC70*'MOD-Berechnungen'!AB$26","v":1.0846120363654757E-3},{"$f":"AD70*'MOD-Berechnungen'!AC$26","v":8.5736373947492236E-4},{"$f":"AE70*'MOD-Berechnungen'!AD$26","v":5.6103056804173075E-4},{"$f":"AF70*'MOD-Berechnungen'!AE$26","v":0}]
[101,null,null,null,"Biomasse","(Bestand)",{"$f":"G71*'MOD-Berechnungen'!F$26","v":3.9508552799999999},{"$f":"H71*'MOD-Berechnungen'!G$26","v":4.2497729089999998},{"$f":"I71*'MOD-Berechnungen'!H$26","v":5.0895666185599993},{"$f":"J71*'MOD-Berechnungen'!I$26","v":6.0503774180499983},{"$f":"K71*'MOD-Berechnungen'!J$26","v":6.4394082612499988},{"$f":"L71*'MOD-Berechnungen'!K$26","v":7.2822097617115737},{"$f":"M71*'MOD-Berechnungen'!L$26","v":7.2822097617115737},{"$f":"N71*'MOD-Berechnungen'!M$26","v":7.2822097617115737},{"$f":"O71*'MOD-Berechnungen'!N$26","v":7.2822097617115737},{"$f":"P71*'MOD-Berechnungen'!O$26","v":7.2822097617115737},{"$f":"Q71*'MOD-Berechnungen'!P$26","v":7.2822097617115737},{"$f":"R71*'MOD-Berechnungen'!Q$26","v":7.1835599193497597},{"$f":"S71*'MOD-Berechnungen'!R$26","v":7.0063821479103732},{"$f":"T71*'MOD-Berechnungen'!S$26","v":6.8884682715222985},{"$f":"U71*'MOD-Berechnungen'!T$26","v":6.7127656435478675},{"$f":"V71*'MOD-Berechnungen'!U$26","v":6.2423181166542427},{"$f":"W71*'MOD-Berechnungen'!V$26","v":5.4761455165830508},{"$f":"X71*'MOD-Berechnungen'!W$26","v":4.5511637155272862},{"$f":"Y71*'MOD-Berechnungen'!X$26","v":3.8293232180234993},{"$f":"Z71*'MOD-Berechnungen'!Y$26","v":3.4436416618349535},{"$f":"AA71*'MOD-Berechnungen'!Z$26","v":2.9305329049374462},{"$f":"AB71*'MOD-Berechnungen'!AA$26","v":2.1644259699180277},{"$f":"AC71*'MOD-Berechnungen'!AB$26","v":0.89513810954450024},{"$f":"AD71*'MOD-Berechnungen'!AC$26","v":0.51884364039180542},{"$f":"AE71*'MOD-Berechnungen'!AD$26","v":0.23001388790139352},{"$f":"AF71*'MOD-Berechnungen'!AE$26","v":0}]
[102,null,null,null,"Geothermie","(Bestand)",{"$f":"G72*'MOD-Berechnungen'!F$26","v":5.3999999999999994E-3},{"$f":"H72*'MOD-Berechnungen'!G$26","v":1.3090355999999999E-2},{"$f":"I72*'MOD-Berechnungen'!H$26","v":2.3729284699999999E-2},{"$f":"J72*'MOD-Berechnungen'!I$26","v":1.8123731000000001E-2},{"$f":"K72*'MOD-Berechnungen'!J$26","v":3.1732540359999999E-2},{"$f":"L72*'MOD-Berechnungen'!K$26","v":3.7412390998028656E-2},{"$f":"M72*'MOD-Berechnungen'!L$26","v":3.7412390998028656E-2},{"$f":"N72*'MOD-Berechnungen'!M$26","v":3.7412390998028656E-2},{"$f":"O72*'MOD-Berechnungen'!N$26","v":3.7412390998028656E-2},{"$f":"P72*'MOD-Berechnungen'!O$26","v":3.7412390998028656E-2},{"$f":"Q72*'MOD-Berechnungen'!P$26","v":3.7412390998028656E-2},{"$f":"R72*'MOD-Berechnungen'!Q$26","v":3.7412390998028656E-2},{"$f":"S72*'MOD-Berechnungen'!R$26","v":3.7412390998028656E-2},{"$f":"T72*'MOD-Berechnungen'!S$26","v":3.7412390998028656E-2},{"$f":"U72*'MOD-Berechnungen'!T$26","v":3.7412390998028656E-2},{"$f":"V72*'MOD-Berechnungen'!U$26","v":3.7412390998028656E-2},{"$f":"W72*'MOD-Berechnungen'!V$26","v":3.7412390998028656E-2},{"$f":"X72*'MOD-Berechnungen'!W$26","v":3.7412390998028656E-2},{"$f":"Y72*'MOD-Berechnungen'!X$26","v":3.7412390998028656E-2},{"$f":"Z72*'MOD-Berechnungen'!Y$26","v":3.7412390998028656E-2},{"$f":"AA72*'MOD-Berechnungen'!Z$26","v":3.5255721675931898E-2},{"$f":"AB72*'MOD-Berechnungen'!AA$26","v":3.5255721675931898E-2},{"$f":"AC72*'MOD-Berechnungen'!AB$26","v":3.5255721675931898E-2},{"$f":"AD72*'MOD-Berechnungen'!AC$26","v":2.0118844946834122E-2},{"$f":"AE72*'MOD-Berechnungen'!AD$26","v":4.1296561493336659E-3},{"$f":"AF72*'MOD-Berechnungen'!AE$26","v":0}]
[103,null,null,null,"Wind Onshore","(Bestand)",{"$f":"G73*'MOD-Berechnungen'!F$26","v":4.1869800800000005},{"$f":"H73*'MOD-Berechnungen'!G$26","v":4.4946196810000005},{"$f":"I73*'MOD-Berechnungen'!H$26","v":4.3533828439027991},{"$f":"J73*'MOD-Berechnungen'!I$26","v":5.3593675109834491},{"$f":"K73*'MOD-Berechnungen'!J$26","v":6.1037070259736002},{"$f":"L73*'MOD-Berechnungen'!K$26","v":5.9080181485994006},{"$f":"M73*'MOD-Berechnungen'!L$26","v":5.8559783800617975},{"$f":"N73*'MOD-Berechnungen'!M$26","v":5.7958207532086137},{"$f":"O73*'MOD-Berechnungen'!N$26","v":5.7206040650143537},{"$f":"P73*'MOD-Berechnungen'!O$26","v":5.5391983038891324},{"$f":"Q73*'MOD-Berechnungen'!P$26","v":5.3450702699699582},{"$f":"R73*'MOD-Berechnungen'!Q$26","v":5.0040482709215501},{"$f":"S73*'MOD-Berechnungen'!R$26","v":4.5933769461465612},{"$f":"T73*'MOD-Berechnungen'!S$26","v":4.1397134228611003},{"$f":"U73*'MOD-Berechnungen'!T$26","v":3.7472829262103087},{"$f":"V73*'MOD-Berechnungen'!U$26","v":3.4352475905939217},{"$f":"W73*'MOD-Berechnungen'!V$26","v":3.1723216082086347},{"$f":"X73*'MOD-Berechnungen'!W$26","v":2.9186027412083968},{"$f":"Y73*'MOD-Berechnungen'!X$26","v":2.5442182293103834},{"$f":"Z73*'MOD-Berechnungen'!Y$26","v":2.3488502345062381},{"$f":"AA73*'MOD-Berechnungen'!Z$26","v":1.9616616738554147},{"$f":"AB73*'MOD-Berechnungen'!AA$26","v":1.6397653312195617},{"$f":"AC73*'MOD-Berechnungen'!AB$26","v":1.212221907437363},{"$f":"AD73*'MOD-Berechnungen'!AC$26","v":0.62948449664969264},{"$f":"AE73*'MOD-Berechnungen'!AD$26","v":0.38775441579484493},{"$f":"AF73*'MOD-Berechnungen'!AE$26","v":0}]
[104,null,null,null,"Wind Offshore","(Bestand)",{"$f":"G74*'MOD-Berechnungen'!F$26","v":9.8100000000000007E-2},{"$f":"H74*'MOD-Berechnungen'!G$26","v":0.17201868399999998},{"$f":"I74*'MOD-Berechnungen'!H$26","v":0.21721885938639998},{"$f":"J74*'MOD-Berechnungen'!I$26","v":0.47161680655509985},{"$f":"K74*'MOD-Berechnungen'!J$26","v":1.4138436736538},{"$f":"L74*'MOD-Berechnungen'!K$26","v":0.60356357547678685},{"$f":"M74*'MOD-Berechnungen'!L$26","v":0.60356357547678685},{"$f":"N74*'MOD-Berechnungen'!M$26","v":0.60356357547678685},{"$f":"O74*'MOD-Berechnungen'!N$26","v":0.60356357547678685},{"$f":"P74*'MOD-Berechnungen'!O$26","v":0.60356357547678685},{"$f":"Q74*'MOD-Berechnungen'!P$26","v":0.60356357547678685},{"$f":"R74*'MOD-Berechnungen'!Q$26","v":0.59254805064153393},{"$f":"S74*'MOD-Berechnungen'!R$26","v":0.56103308229646875},{"$f":"T74*'MOD-Berechnungen'!S$26","v":0.49277975552190662},{"$f":"U74*'MOD-Berechnungen'!T$26","v":0.46000856913702937},{"$f":"V74*'MOD-Berechnungen'!U$26","v":0.35126853272283842},{"$f":"W74*'MOD-Berechnungen'!V$26","v":0.15540393694483204},{"$f":"X74*'MOD-Berechnungen'!W$26","v":0.10890415353008552},{"$f":"Y74*'MOD-Berechnungen'!X$26","v":0.10880177353992368},{"$f":"Z74*'MOD-Berechnungen'!Y$26","v":0.10865322218164962},{"$f":"AA74*'MOD-Berechnungen'!Z$26","v":0.10454812047831338},{"$f":"AB74*'MOD-Berechnungen'!AA$26","v":9.8851901663614142E-2},{"$f":"AC74*'MOD-Berechnungen'!AB$26","v":8.5362751275515861E-2},{"$f":"AD74*'MOD-Berechnungen'!AC$26","v":7.5324521014464643E-2},{"$f":"AE74*'MOD-Berechnungen'!AD$26","v":4.6121585919529411E-2},{"$f":"AF74*'MOD-Berechnungen'!AE$26","v":0}]
[105,null,null,null,"Solar","(Bestand)",{"$f":"G75*'MOD-Berechnungen'!F$26","v":3.8826109599999996},{"$f":"H75*'MOD-Berechnungen'!G$26","v":8.0206210149999997},{"$f":"I75*'MOD-Berechnungen'!H$26","v":8.7892939436962809},{"$f":"J75*'MOD-Berechnungen'!I$26","v":10.302513792381449},{"$f":"K75*'MOD-Berechnungen'!J$26","v":10.72971006440835},{"$f":"L75*'MOD-Berechnungen'!K$26","v":10.908026153270542},{"$f":"M75*'MOD-Berechnungen'!L$26","v":10.908026153270542},{"$f":"N75*'MOD-Berechnungen'!M$26","v":10.908026153270542},{"$f":"O75*'MOD-Berechnungen'!N$26","v":10.908026153270542},{"$f":"P75*'MOD-Berechnungen'!O$26","v":10.908026153270542},{"$f":"Q75*'MOD-Berechnungen'!P$26","v":10.908026153270542},{"$f":"R75*'MOD-Berechnungen'!Q$26","v":10.86119713155138},{"$f":"S75*'MOD-Berechnungen'!R$26","v":10.811821691314007},{"$f":"T75*'MOD-Berechnungen'!S$26","v":10.762723491319454},{"$f":"U75*'MOD-Berechnungen'!T$26","v":10.700911781188493},{"$f":"V75*'MOD-Berechnungen'!U$26","v":10.350049468665192},{"$f":"W75*'MOD-Berechnungen'!V$26","v":9.8807645450106243},{"$f":"X75*'MOD-Berechnungen'!W$26","v":9.4713339193349313},{"$f":"Y75*'MOD-Berechnungen'!X$26","v":8.8991898717387148},{"$f":"Z75*'MOD-Berechnungen'!Y$26","v":8.0374772613756083},{"$f":"AA75*'MOD-Berechnungen'!Z$26","v":6.2929346397361767},{"$f":"AB75*'MOD-Berechnungen'!AA$26","v":3.7425659024949911},{"$f":"AC75*'MOD-Berechnungen'!AB$26","v":1.7293195011654334},{"$f":"AD75*'MOD-Berechnungen'!AC$26","v":0.49607269647010133},{"$f":"AE75*'MOD-Berechnungen'!AD$26","v":0.15176649063590031},{"$f":"AF75*'MOD-Berechnungen'!AE$26","v":0}]
[106,null,null,null,"Wasser",null,{"$f":"'MOD-Berechnungen'!F295","v":0},{"$f":"'MOD-Berechnungen'!G295","v":0},{"$f":"'MOD-Berechnungen'!H295","v":0},{"$f":"'MOD-Berechnungen'!I295","v":0},{"$f":"'MOD-Berechnungen'!J295","v":0},{"$f":"'MOD-Berechnungen'!K295","v":6.0853612028793781E-2},{"$f":"'MOD-Berechnungen'!L295","v":0.1264170890863982},{"$f":"'MOD-Berechnungen'!M295","v":0.1323252227244921},{"$f":"'MOD-Berechnungen'!N295","v":0.13683537262887777},{"$f":"'MOD-Berechnungen'!O295","v":0.14388195206442395},{"$f":"'MOD-Berechnungen'!P295","v":0.15045831611349364},{"$f":"'MOD-Berechnungen'!Q295","v":0.15634044845891198},{"$f":"'MOD-Berechnungen'!R295","v":0.16240614356158029},{"$f":"'MOD-Berechnungen'!S295","v":0.16844145348979653},{"$f":"'MOD-Berechnungen'!T295","v":0.17445403206269919},{"$f":"'MOD-Berechnungen'!U295","v":0.18043654378643256},{"$f":"'MOD-Berechnungen'!V295","v":0.18638164022100231},{"$f":"'MOD-Berechnungen'!W295","v":0.19229697113338884},{"$f":"'MOD-Berechnungen'!X295","v":0.19818268894388547},{"$f":"'MOD-Berechnungen'!Y295","v":0.20403894488786808},{"$f":"'MOD-Berechnungen'!Z295","v":0.20986588908188167},{"$f":"'MOD-Berechnungen'!AA295","v":0.21566367057943239},{"$f":"'MOD-Berechnungen'!AB295","v":0.22143243741840749},{"$f":"'MOD-Berechnungen'!AC295","v":0.22717233666164632},{"$f":"'MOD-Berechnungen'!AD295","v":0.23288351443187394},{"$f":"'MOD-Berechnungen'!AE295","v":0.23856611594197166}]
[107,null,null,null,"Gas",null,{"$f":"'MOD-Berechnungen'!F296","v":0},{"$f":"'MOD-Berechnungen'!G296","v":0},{"$f":"'MOD-Berechnungen'!H296","v":0},{"$f":"'MOD-Berechnungen'!I296","v":0},{"$f":"'MOD-Berechnungen'!J296","v":0},{"$f":"'MOD-Berechnungen'!K296","v":4.9176468901465818E-3},{"$f":"'MOD-Berechnungen'!L296","v":1.0287131695081327E-2},{"$f":"'MOD-Berechnungen'!M296","v":1.0959706679561639E-2},{"$f":"'MOD-Berechnungen'!N296","v":1.1908321723316699E-2},{"$f":"'MOD-Berechnungen'!O296","v":1.2866026850427294E-2},{"$f":"'MOD-Berechnungen'!P296","v":1.3304818107925914E-2},{"$f":"'MOD-Berechnungen'!Q296","v":1.3769099604272547E-2},{"$f":"'MOD-Berechnungen'!R296","v":1.4549240924141119E-2},{"$f":"'MOD-Berechnungen'!S296","v":1.4877831396076499E-2},{"$f":"'MOD-Berechnungen'!T296","v":1.5557835843070876E-2},{"$f":"'MOD-Berechnungen'!U296","v":1.750763741458676E-2},{"$f":"'MOD-Berechnungen'!V296","v":2.0950651318072864E-2},{"$f":"'MOD-Berechnungen'!W296","v":2.4959587762652558E-2},{"$f":"'MOD-Berechnungen'!X296","v":2.9100017010133344E-2},{"$f":"'MOD-Berechnungen'!Y296","v":3.3375220912993921E-2},{"$f":"'MOD-Berechnungen'!Z296","v":3.7788553779592983E-2},{"$f":"'MOD-Berechnungen'!AA296","v":4.2343443863221752E-2},{"$f":"'MOD-Berechnungen'!AB296","v":4.7043394880332198E-2},{"$f":"'MOD-Berechnungen'!AC296","v":5.1891987558493564E-2},{"$f":"'MOD-Berechnungen'!AD296","v":5.6892881214639625E-2},{"$f":"'MOD-Berechnungen'!AE296","v":6.2049815364179646E-2}]
[108,null,null,null,"Biomasse",null,{"$f":"'MOD-Berechnungen'!F297","v":0},{"$f":"'MOD-Berechnungen'!G297","v":0},{"$f":"'MOD-Berechnungen'!H297","v":0},{"$f":"'MOD-Berechnungen'!I297","v":0},{"$f":"'MOD-Berechnungen'!J297","v":0},{"$f":"'MOD-Berechnungen'!K297","v":0.10508815406354752},{"$f":"'MOD-Berechnungen'!L297","v":0.28530943153514832},{"$f":"'MOD-Berechnungen'!M297","v":0.44733250545523157},{"$f":"'MOD-Berechnungen'!N297","v":0.65688026409625067},{"$f":"'MOD-Berechnungen'!O297","v":0.87290857175582559},{"$f":"'MOD-Berechnungen'!P297","v":1.0149734611808869},{"$f":"'MOD-Berechnungen'!Q297","v":1.0982099564517307},{"$f":"'MOD-Berechnungen'!R297","v":1.1435231434353925},{"$f":"'MOD-Berechnungen'!S297","v":1.1644726411118176},{"$f":"'MOD-Berechnungen'!T297","v":1.1868856657395233},{"$f":"'MOD-Berechnungen'!U297","v":1.2107341641860672},{"$f":"'MOD-Berechnungen'!V297","v":1.2773153791616951},{"$f":"'MOD-Berechnungen'!W297","v":1.3852824654233251},{"$f":"'MOD-Berechnungen'!X297","v":1.4921617375130645},{"$f":"'MOD-Berechnungen'!Y297","v":1.5979587771657608},{"$f":"'MOD-Berechnungen'!Z297","v":1.70267993116483},{"$f":"'MOD-Berechnungen'!AA297","v":1.8063320366514308},{"$f":"'MOD-Berechnungen'!AB297","v":1.9089222469187734},{"$f":"'MOD-Berechnungen'!AC297","v":2.0104579173838037},{"$f":"'MOD-Berechnungen'!AD297","v":2.1109465289041789},{"$f":"'MOD-Berechnungen'!AE297","v":2.2116658456572464}]
[109,null,null,null,"Geothermie",null,{"$f":"'MOD-Berechnungen'!F298","v":0},{"$f":"'MOD-Berechnungen'!G298","v":0},{"$f":"'MOD-Berechnungen'!H298","v":0},{"$f":"'MOD-Berechnungen'!I298","v":0},{"$f":"'MOD-Berechnungen'!J298","v":0},{"$f":"'MOD-Berechnungen'!K298","v":0},{"$f":"'MOD-Berechnungen'!L298","v":2.5122958560521652E-3},{"$f":"'MOD-Berechnungen'!M298","v":6.5116432026803856E-3},{"$f":"'MOD-Berechnungen'!N298","v":1.1732421436887906E-2},{"$f":"'MOD-Berechnungen'!O298","v":1.8505995178027129E-2},{"$f":"'MOD-Berechnungen'!P298","v":2.4785212175231136E-2},{"$f":"'MOD-Berechnungen'!Q298","v":3.3914718246423559E-2},{"$f":"'MOD-Berechnungen'!R298","v":5.5346347166393271E-2},{"$f":"'MOD-Berechnungen'!S298","v":7.9150212534703696E-2},{"$f":"'MOD-Berechnungen'!T298","v":9.0794772154838166E-2},{"$f":"'MOD-Berechnungen'!U298","v":9.7371660768247839E-2},{"$f":"'MOD-Berechnungen'!V298","v":0.10563597137861147},{"$f":"'MOD-Berechnungen'!W298","v":0.11551363521769806},{"$f":"'MOD-Berechnungen'!X298","v":0.12489794182721385},{"$f":"'MOD-Berechnungen'!Y298","v":0.13381347820615333},{"$f":"'MOD-Berechnungen'!Z298","v":0.14228362690124474},{"$f":"'MOD-Berechnungen'!AA298","v":0.15033061690605626},{"$f":"'MOD-Berechnungen'!AB298","v":0.15797557590797628},{"$f":"'MOD-Berechnungen'!AC298","v":0.16523858204861996},{"$f":"'MOD-Berechnungen'!AD298","v":0.17213871431388372},{"$f":"'MOD-Berechnungen'!AE298","v":0.17869410113084513}]
[110,null,null,null,"Wind Onshore",null,{"$f":"'MOD-Berechnungen'!F299","v":0},{"$f":"'MOD-Berechnungen'!G299","v":0},{"$f":"'MOD-Berechnungen'!H299","v":0},{"$f":"'MOD-Berechnungen'!I299","v":0},{"$f":"'MOD-Berechnungen'!J299","v":0},{"$f":"'MOD-Berechnungen'!K299","v":0.34293252432203392},{"$f":"'MOD-Berechnungen'!L299","v":1.1076790707141697},{"$f":"'MOD-Berechnungen'!M299","v":2.0269331301602884},{"$f":"'MOD-Berechnungen'!N299","v":2.7332148300096755},{"$f":"'MOD-Berechnungen'!O299","v":3.057008509784358},{"$f":"'MOD-Berechnungen'!P299","v":3.2840108002158419},{"$f":"'MOD-Berechnungen'!Q299","v":3.5068028979962311},{"$f":"'MOD-Berechnungen'!R299","v":3.7353317016966909},{"$f":"'MOD-Berechnungen'!S299","v":4.0042110560433226},{"$f":"'MOD-Berechnungen'!T299","v":4.307978011806501},{"$f":"'MOD-Berechnungen'!U299","v":4.6217961732400399},{"$f":"'MOD-Berechnungen'!V299","v":4.9446536911867609},{"$f":"'MOD-Berechnungen'!W299","v":5.268944058543175},{"$f":"'MOD-Berechnungen'!X299","v":5.5914516192059578},{"$f":"'MOD-Berechnungen'!Y299","v":5.9105232828983265},{"$f":"'MOD-Berechnungen'!Z299","v":6.2252029540994105},{"$f":"'MOD-Berechnungen'!AA299","v":6.5348914182241531},{"$f":"'MOD-Berechnungen'!AB299","v":6.8391903133069576},{"$f":"'MOD-Berechnungen'!AC299","v":7.1378224628791651},{"$f":"'MOD-Berechnungen'!AD299","v":7.4305878470443076},{"$f":"'MOD-Berechnungen'!AE299","v":7.7213893660737192}]
[111,null,null,null,"Wind Offshore",null,{"$f":"'MOD-Berechnungen'!F300","v":0},{"$f":"'MOD-Berechnungen'!G300","v":0},{"$f":"'MOD-Berechnungen'!H300","v":0},{"$f":"'MOD-Berechnungen'!I300","v":0},{"$f":"'MOD-Berechnungen'!J300","v":0},{"$f":"'MOD-Berechnungen'!K300","v":0.69259969304200197},{"$f":"'MOD-Berechnungen'!L300","v":1.6605388034554822},{"$f":"'MOD-Berechnungen'!M300","v":2.354953648761319},{"$f":"'MOD-Berechnungen'!N300","v":3.0385121004821598},{"$f":"'MOD-Berechnungen'!O300","v":3.6142736406374483},{"$f":"'MOD-Berechnungen'!P300","v":3.9855454123080314},{"$f":"'MOD-Berechnungen'!Q300","v":4.0343671646257491},{"$f":"'MOD-Berechnungen'!R300","v":4.0596798118525728},{"$f":"'MOD-Berechnungen'!S300","v":4.2114464787190116},{"$f":"'MOD-Berechnungen'!T300","v":4.1627790118174612},{"$f":"'MOD-Berechnungen'!U300","v":4.2242612000697015},{"$f":"'MOD-Berechnungen'!V300","v":4.1073257516281192},{"$f":"'MOD-Berechnungen'!W300","v":3.4286932785863211},{"$f":"'MOD-Berechnungen'!X300","v":3.3449432622895889},{"$f":"'MOD-Berechnungen'!Y300","v":3.2901027961353173},{"$f":"'MOD-Berechnungen'!Z300","v":3.5409836247557824},{"$f":"'MOD-Berechnungen'!AA300","v":3.7891225551951737},{"$f":"'MOD-Berechnungen'!AB300","v":4.0295815892746898},{"$f":"'MOD-Berechnungen'!AC300","v":4.2703504162340202},{"$f":"'MOD-Berechnungen'!AD300","v":4.4935415750182353},{"$f":"'MOD-Berechnungen'!AE300","v":4.2751804661388118}]
[112,null,null,null,"Solar",null,{"$f":"'MOD-Berechnungen'!F301","v":0},{"$f":"'MOD-Berechnungen'!G301","v":0},{"$f":"'MOD-Berechnungen'!H301","v":0},{"$f":"'MOD-Berechnungen'!I301","v":0},{"$f":"'MOD-Berechnungen'!J301","v":0},{"$f":"'MOD-Berechnungen'!K301","v":5.0213822931541516E-2},{"$f":"'MOD-Berechnungen'!L301","v":0.1459155620538358},{"$f":"'MOD-Berechnungen'!M301","v":0.300615710042133},{"$f":"'MOD-Berechnungen'!N301","v":0.49189988146900099},{"$f":"'MOD-Berechnungen'!O301","v":0.82215372497392425},{"$f":"'MOD-Berechnungen'!P301","v":1.2214692086516561},{"$f":"'MOD-Berechnungen'!Q301","v":1.6069468829057498},{"$f":"'MOD-Berechnungen'!R301","v":1.92542079479999},{"$f":"'MOD-Berechnungen'!S301","v":2.17917957939052},{"$f":"'MOD-Berechnungen'!T301","v":2.3674900243485455},{"$f":"'MOD-Berechnungen'!U301","v":2.5489420502484732},{"$f":"'MOD-Berechnungen'!V301","v":2.7243517122684824},{"$f":"'MOD-Berechnungen'!W301","v":2.8913158896526929},{"$f":"'MOD-Berechnungen'!X301","v":3.0537139611887691},{"$f":"'MOD-Berechnungen'!Y301","v":3.2116475546643013},{"$f":"'MOD-Berechnungen'!Z301","v":3.3652417837180479},{"$f":"'MOD-Berechnungen'!AA301","v":3.5147410669735666},{"$f":"'MOD-Berechnungen'!AB301","v":3.6601492733900387},{"$f":"'MOD-Berechnungen'!AC301","v":3.8013191612716803},{"$f":"'MOD-Berechnungen'!AD301","v":3.9383908696041008},{"$f":"'MOD-Berechnungen'!AE301","v":4.0723182239777467}]
[113]
[114,null,null,null,null,"Zahlungen nominal (kleine aggregiert) [Mrd EUR  / a]"]
[115,null,null,null,null,null,2010,2011,2012,2013,2014,2015,2016,2017,2018,2019,2020,2021,2022,2023,2024,2025,2026,2027,2028,2029,2030,2031,2032,2033,2034,2035]
[116,null,null,null,"Sonstige","(Bestand)",{"$f":"G99+G100+G102","v":0.54889440999999994},{"$f":"H99+H100+H102","v":0.18980264099999999},0.48820272557425998,0.61301588725074985,0.60642435829859997,0.73447194826254969,0.73447194826254969,0.73447194826254969,0.73447194826254969,0.73447194826254969,0.73447194826254969,0.71244427810650712,0.70503788340212292,0.68617481858120644,0.66466866205843744,0.64463301785603477,0.64237580865388666,0.64055530761048152,0.64028073158224885,0.64005216266779397,0.58105307518943095,0.54378836761166227,0.50896570919824857,0.47192068473533533,0.40858053479627798,0.39783057582039588]
[117,null,null,null,"Biomasse","(Bestand)",{"$f":"G101","v":3.9508552799999999},{"$f":"H101","v":4.2497729089999998},5.0895666185599993,6.0503774180499983,6.4394082612499988,7.2822097617115737,7.2822097617115737,7.2822097617115737,7.2822097617115737,7.2822097617115737,7.2822097617115737,7.1835599193497597,7.0063821479103732,6.8884682715222985,6.7127656435478675,6.2423181166542427,5.4761455165830508,4.5511637155272862,3.8293232180234993,3.4436416618349535,2.9305329049374462,2.1644259699180277,0.89513810954450024,0.51884364039180542,0.23001388790139352,0]
[118,null,null,null,"Wind Onshore","(Bestand)",{"$f":"G103","v":4.1869800800000005},{"$f":"H103","v":4.4946196810000005},4.3533828439027991,5.3593675109834491,6.1037070259736002,5.9080181485994006,5.8559783800617975,5.7958207532086137,5.7206040650143537,5.5391983038891324,5.3450702699699582,5.0040482709215501,4.5933769461465612,4.1397134228611003,3.7472829262103087,3.4352475905939217,3.1723216082086347,2.9186027412083968,2.5442182293103834,2.3488502345062381,1.9616616738554147,1.6397653312195617,1.212221907437363,0.62948449664969264,0.38775441579484493,0]
[119,null,null,null,"Wind Offshore","(Bestand)",{"$f":"G104","v":9.8100000000000007E-2},0.17201868399999998,0.21721885938639998,0.47161680655509985,1.4138436736538,0.60356357547678685,0.60356357547678685,0.60356357547678685,0.60356357547678685,0.60356357547678685,0.60356357547678685,0.59254805064153393,0.56103308229646875,0.49277975552190662,0.46000856913702937,0.35126853272283842,0.15540393694483204,0.10890415353008552,0.10880177353992368,0.10865322218164962,0.10454812047831338,9.8851901663614142E-2,8.5362751275515861E-2,7.5324521014464643E-2,4.6121585919529411E-2,0]
[120,null,null,null,"Solar","(Bestand)",{"$f":"G105","v":3.8826109599999996},8.0206210149999997,8.7892939436962809,10.302513792381449,10.72971006440835,10.908026153270542,10.908026153270542,10.908026153270542,10.908026153270542,10.908026153270542,10.908026153270542,10.86119713155138,10.811821691314007,10.762723491319454,10.700911781188493,10.350049468665192,9.8807645450106243,9.4713339193349313,8.8991898717387148,8.0374772613756083,6.2929346397361767,3.7425659024949911,1.7293195011654334,0.49607269647010133,0.15176649063590031,0]
[121,null,null,null,"Sonstige",null,{"$f":"G106+G107+G109","v":0},{"$f":"H106+H107+H109","v":0},0,0,0,6.5771258918940367E-2,0.13921651663753171,0.14979657260673412,0.16047611578908239,0.17525397409287835,0.18854834639665069,0.2040242663096081,0.23230173165211468,0.26246949742057668,0.28080664006060824,0.29531584196926713,0.31296826291768665,0.33277019411373943,0.35218064778123265,0.37122764400701536,0.38993806976271939,0.40833773134871038,0.42645140820671595,0.44430290626875985,0.46191510996039731,0.47931003243699644]
[122,null,null,null,"Biomasse",null,{"$f":"G108","v":0},{"$f":"H108","v":0},0,0,0,0.10508815406354752,0.28530943153514832,0.44733250545523157,0.65688026409625067,0.87290857175582559,1.0149734611808869,1.0982099564517307,1.1435231434353925,1.1644726411118176,1.1868856657395233,1.2107341641860672,1.2773153791616951,1.3852824654233251,1.4921617375130645,1.5979587771657608,1.70267993116483,1.8063320366514308,1.9089222469187734,2.0104579173838037,2.1109465289041789,2.2116658456572464]
[123,null,null,null,"Wind Onshore",null,{"$f":"G110","v":0},{"$f":"H110","v":0},0,0,0,0.34293252432203392,1.1076790707141697,2.0269331301602884,2.7332148300096755,3.057008509784358,3.2840108002158419,3.5068028979962311,3.7353317016966909,4.0042110560433226,4.307978011806501,4.6217961732400399,4.9446536911867609,5.268944058543175,5.5914516192059578,5.9105232828983265,6.2252029540994105,6.5348914182241531,6.8391903133069576,7.1378224628791651,7.4305878470443076,7.7213893660737192]
[124,null,null,null,"Wind Offshore",null,{"$f":"G111","v":0},0,0,0,0,0.69259969304200197,1.6605388034554822,2.354953648761319,3.0385121004821598,3.6142736406374483,3.9855454123080314,4.0343671646257491,4.0596798118525728,4.2114464787190116,4.1627790118174612,4.2242612000697015,4.1073257516281192,3.4286932785863211,3.3449432622895889,3.2901027961353173,3.5409836247557824,3.7891225551951737,4.0295815892746898,4.2703504162340202,4.4935415750182353,4.2751804661388118]
[125,null,null,null,"Solar",null,{"$f":"G112","v":0},0,0,0,0,5.0213822931541516E-2,0.1459155620538358,0.300615710042133,0.49189988146900099,0.82215372497392425,1.2214692086516561,1.6069468829057498,1.92542079479999,2.17917957939052,2.3674900243485455,2.5489420502484732,2.7243517122684824,2.8913158896526929,3.0537139611887691,3.2116475546643013,3.3652417837180479,3.5147410669735666,3.6601492733900387,3.8013191612716803,3.9383908696041008,4.0723182239777467]
[126]
[127]
[128]
[129]
[130,null,null,null,null,"Zahlungen für Abbildung (nominal oder real, je nach Schalterstellung) [Mrd EUR  / a]"]
[131,null,null,null,null,null,2010,2011,2012,2013,2014,2015,2016,2017,2018,2019,2020,2021,2022,2023,2024,2025,2026,2027,2028,2029,2030,2031,2032,2033,2034,2035,null,"v2.1.43"]
[132,null,null,null,"Sonstige","(Bestand)",{"$f":"IF(ControlPanel!$T$5=\"nominal\",G116,G86)","v":0.54889440999999994},{"$f":"IF(ControlPanel!$T$5=\"nominal\",H116,H86)","v":0.18980264099999999},{"$f":"IF(ControlPanel!$T$5=\"nominal\",I116,I86)","v":0.48820272557425998},{"$f":"IF(ControlPanel!$T$5=\"nominal\",J116,J86)","v":0.61301588725074985},{"$f":"IF(ControlPanel!$T$5=\"nominal\",K116,K86)","v":0.60642435829859997},{"$f":"IF(ControlPanel!$T$5=\"nominal\",L116,L86)","v":0.73447194826254969},{"$f":"IF(ControlPanel!$T$5=\"nominal\",M116,M86)","v":0.73447194826254969},{"$f":"IF(ControlPanel!$T$5=\"nominal\",N116,N86)","v":0.73447194826254969},{"$f":"IF(ControlPanel!$T$5=\"nominal\",O116,O86)","v":0.73447194826254969},{"$f":"IF(ControlPanel!$T$5=\"nominal\",P116,P86)","v":0.73447194826254969},{"$f":"IF(ControlPanel!$T$5=\"nominal\",Q116,Q86)","v":0.73447194826254969},{"$f":"IF(ControlPanel!$T$5=\"nominal\",R116,R86)","v":0.71244427810650712},{"$f":"IF(ControlPanel!$T$5=\"nominal\",S116,S86)","v":0.70503788340212292},{"$f":"IF(ControlPanel!$T$5=\"nominal\",T116,T86)","v":0.68617481858120644},{"$f":"IF(ControlPanel!$T$5=\"nominal\",U116,U86)","v":0.66466866205843744},{"$f":"IF(ControlPanel!$T$5=\"nominal\",V116,V86)","v":0.64463301785603477},{"$f":"IF(ControlPanel!$T$5=\"nominal\",W116,W86)","v":0.64237580865388666},{"$f":"IF(ControlPanel!$T$5=\"nominal\",X116,X86)","v":0.64055530761048152},{"$f":"IF(ControlPanel!$T$5=\"nominal\",Y116,Y86)","v":0.64028073158224885},{"$f":"IF(ControlPanel!$T$5=\"nominal\",Z116,Z86)","v":0.64005216266779397},{"$f":"IF(ControlPanel!$T$5=\"nominal\",AA116,AA86)","v":0.58105307518943095},{"$f":"IF(ControlPanel!$T$5=\"nominal\",AB116,AB86)","v":0.54378836761166227},{"$f":"IF(ControlPanel!$T$5=\"nominal\",AC116,AC86)","v":0.50896570919824857},{"$f":"IF(ControlPanel!$T$5=\"nominal\",AD116,AD86)","v":0.47192068473533533},{"$f":"IF(ControlPanel!$T$5=\"nominal\",AE116,AE86)","v":0.40858053479627798},{"$f":"IF(ControlPanel!$T$5=\"nominal\",AF116,AF86)","v":0.39783057582039588},null,"v2.1.43"]
[133,null,null,null,"Biomasse","(Bestand)",{"$f":"IF(ControlPanel!$T$5=\"nominal\",G117,G87)","v":3.9508552799999999},{"$f":"IF(ControlPanel!$T$5=\"nominal\",H117,H87)","v":4.2497729089999998},{"$f":"IF(ControlPanel!$T$5=\"nominal\",I117,I87)","v":5.0895666185599993},{"$f":"IF(ControlPanel!$T$5=\"nominal\",J117,J87)","v":6.0503774180499983},{"$f":"IF(ControlPanel!$T$5=\"nominal\",K117,K87)","v":6.4394082612499988},{"$f":"IF(ControlPanel!$T$5=\"nominal\",L117,L87)","v":7.2822097617115737},{"$f":"IF(ControlPanel!$T$5=\"nominal\",M117,M87)","v":7.2822097617115737},{"$f":"IF(ControlPanel!$T$5=\"nominal\",N117,N87)","v":7.2822097617115737},{"$f":"IF(ControlPanel!$T$5=\"nominal\",O117,O87)","v":7.2822097617115737},{"$f":"IF(ControlPanel!$T$5=\"nominal\",P117,P87)","v":7.2822097617115737},{"$f":"IF(ControlPanel!$T$5=\"nominal\",Q117,Q87)","v":7.2822097617115737},{"$f":"IF(ControlPanel!$T$5=\"nominal\",R117,R87)","v":7.1835599193497597},{"$f":"IF(ControlPanel!$T$5=\"nominal\",S117,S87)","v":7.0063821479103732},{"$f":"IF(ControlPanel!$T$5=\"nominal\",T117,T87)","v":6.8884682715222985},{"$f":"IF(ControlPanel!$T$5=\"nominal\",U117,U87)","v":6.7127656435478675},{"$f":"IF(ControlPanel!$T$5=\"nominal\",V117,V87)","v":6.2423181166542427},{"$f":"IF(ControlPanel!$T$5=\"nominal\",W117,W87)","v":5.4761455165830508},{"$f":"IF(ControlPanel!$T$5=\"nominal\",X117,X87)","v":4.5511637155272862},{"$f":"IF(ControlPanel!$T$5=\"nominal\",Y117,Y87)","v":3.8293232180234993},{"$f":"IF(ControlPanel!$T$5=\"nominal\",Z117,Z87)","v":3.4436416618349535},{"$f":"IF(ControlPanel!$T$5=\"nominal\",AA117,AA87)","v":2.9305329049374462},{"$f":"IF(ControlPanel!$T$5=\"nominal\",AB117,AB87)","v":2.1644259699180277},{"$f":"IF(ControlPanel!$T$5=\"nominal\",AC117,AC87)","v":0.89513810954450024},{"$f":"IF(ControlPanel!$T$5=\"nominal\",AD117,AD87)","v":0.51884364039180542},{"$f":"IF(ControlPanel!$T$5=\"nominal\",AE117,AE87)","v":0.23001388790139352},{"$f":"IF(ControlPanel!$T$5=\"nominal\",AF117,AF87)","v":0},null,"v2.1.43"]
[134,null,null,null,"Wind Onshore","(Bestand)",{"$f":"IF(ControlPanel!$T$5=\"nominal\",G118,G88)","v":4.1869800800000005},{"$f":"IF(ControlPanel!$T$5=\"nominal\",H118,H88)","v":4.4946196810000005},{"$f":"IF(ControlPanel!$T$5=\"nominal\",I118,I88)","v":4.3533828439027991},{"$f":"IF(ControlPanel!$T$5=\"nominal\",J118,J88)","v":5.3593675109834491},{"$f":"IF(ControlPanel!$T$5=\"nominal\",K118,K88)","v":6.1037070259736002},{"$f":"IF(ControlPanel!$T$5=\"nominal\",L118,L88)","v":5.9080181485994006},{"$f":"IF(ControlPanel!$T$5=\"nominal\",M118,M88)","v":5.8559783800617975},{"$f":"IF(ControlPanel!$T$5=\"nominal\",N118,N88)","v":5.7958207532086137},{"$f":"IF(ControlPanel!$T$5=\"nominal\",O118,O88)","v":5.7206040650143537},{"$f":"IF(ControlPanel!$T$5=\"nominal\",P118,P88)","v":5.5391983038891324},{"$f":"IF(ControlPanel!$T$5=\"nominal\",Q118,Q88)","v":5.3450702699699582},{"$f":"IF(ControlPanel!$T$5=\"nominal\",R118,R88)","v":5.0040482709215501},{"$f":"IF(ControlPanel!$T$5=\"nominal\",S118,S88)","v":4.5933769461465612},{"$f":"IF(ControlPanel!$T$5=\"nominal\",T118,T88)","v":4.1397134228611003},{"$f":"IF(ControlPanel!$T$5=\"nominal\",U118,U88)","v":3.7472829262103087},{"$f":"IF(ControlPanel!$T$5=\"nominal\",V118,V88)","v":3.4352475905939217},{"$f":"IF(ControlPanel!$T$5=\"nominal\",W118,W88)","v":3.1723216082086347},{"$f":"IF(ControlPanel!$T$5=\"nominal\",X118,X88)","v":2.9186027412083968},{"$f":"IF(ControlPanel!$T$5=\"nominal\",Y118,Y88)","v":2.5442182293103834},{"$f":"IF(ControlPanel!$T$5=\"nominal\",Z118,Z88)","v":2.3488502345062381},{"$f":"IF(ControlPanel!$T$5=\"nominal\",AA118,AA88)","v":1.9616616738554147},{"$f":"IF(ControlPanel!$T$5=\"nominal\",AB118,AB88)","v":1.6397653312195617},{"$f":"IF(ControlPanel!$T$5=\"nominal\",AC118,AC88)","v":1.212221907437363},{"$f":"IF(ControlPanel!$T$5=\"nominal\",AD118,AD88)","v":0.62948449664969264},{"$f":"IF(ControlPanel!$T$5=\"nominal\",AE118,AE88)","v":0.38775441579484493},{"$f":"IF(ControlPanel!$T$5=\"nominal\",AF118,AF88)","v":0},null,"v2.1.43"]
[135,null,null,null,"Wind Offshore","(Bestand)",{"$f":"IF(ControlPanel!$T$5=\"nominal\",G119,G89)","v":9.8100000000000007E-2},{"$f":"IF(ControlPanel!$T$5=\"nominal\",H119,H89)","v":0.17201868399999998},{"$f":"IF(ControlPanel!$T$5=\"nominal\",I119,I89)","v":0.21721885938639998},{"$f":"IF(ControlPanel!$T$5=\"nominal\",J119,J89)","v":0.47161680655509985},{"$f":"IF(ControlPanel!$T$5=\"nominal\",K119,K89)","v":1.4138436736538},{"$f":"IF(ControlPanel!$T$5=\"nominal\",L119,L89)","v":0.60356357547678685},{"$f":"IF(ControlPanel!$T$5=\"nominal\",M119,M89)","v":0.60356357547678685},{"$f":"IF(ControlPanel!$T$5=\"nominal\",N119,N89)","v":0.60356357547678685},{"$f":"IF(ControlPanel!$T$5=\"nominal\",O119,O89)","v":0.60356357547678685},{"$f":"IF(ControlPanel!$T$5=\"nominal\",P119,P89)","v":0.60356357547678685},{"$f":"IF(ControlPanel!$T$5=\"nominal\",Q119,Q89)","v":0.60356357547678685},{"$f":"IF(ControlPanel!$T$5=\"nominal\",R119,R89)","v":0.59254805064153393},{"$f":"IF(ControlPanel!$T$5=\"nominal\",S119,S89)","v":0.56103308229646875},{"$f":"IF(ControlPanel!$T$5=\"nominal\",T119,T89)","v":0.49277975552190662},{"$f":"IF(ControlPanel!$T$5=\"nominal\",U119,U89)","v":0.46000856913702937},{"$f":"IF(ControlPanel!$T$5=\"nominal\",V119,V89)","v":0.35126853272283842},{"$f":"IF(ControlPanel!$T$5=\"nominal\",W119,W89)","v":0.15540393694483204},{"$f":"IF(ControlPanel!$T$5=\"nominal\",X119,X89)","v":0.10890415353008552},{"$f":"IF(ControlPanel!$T$5=\"nominal\",Y119,Y89)","v":0.10880177353992368},{"$f":"IF(ControlPanel!$T$5=\"nominal\",Z119,Z89)","v":0.10865322218164962},{"$f":"IF(ControlPanel!$T$5=\"nominal\",AA119,AA89)","v":0.10454812047831338},{"$f":"IF(ControlPanel!$T$5=\"nominal\",AB119,AB89)","v":9.8851901663614142E-2},{"$f":"IF(ControlPanel!$T$5=\"nominal\",AC119,AC89)","v":8.5362751275515861E-2},{"$f":"IF(ControlPanel!$T$5=\"nominal\",AD119,AD89)","v":7.5324521014464643E-2},{"$f":"IF(ControlPanel!$T$5=\"nominal\",AE119,AE89)","v":4.6121585919529411E-2},{"$f":"IF(ControlPanel!$T$5=\"nominal\",AF119,AF89)","v":0},null,"v2.1.43"]
[136,null,null,null,"Solar","(Bestand)",{"$f":"IF(ControlPanel!$T$5=\"nominal\",G120,G90)","v":3.8826109599999996},{"$f":"IF(ControlPanel!$T$5=\"nominal\",H120,H90)","v":8.0206210149999997},{"$f":"IF(ControlPanel!$T$5=\"nominal\",I120,I90)","v":8.7892939436962809},{"$f":"IF(ControlPanel!$T$5=\"nominal\",J120,J90)","v":10.302513792381449},{"$f":"IF(ControlPanel!$T$5=\"nominal\",K120,K90)","v":10.72971006440835},{"$f":"IF(ControlPanel!$T$5=\"nominal\",L120,L90)","v":10.908026153270542},{"$f":"IF(ControlPanel!$T$5=\"nominal\",M120,M90)","v":10.908026153270542},{"$f":"IF(ControlPanel!$T$5=\"nominal\",N120,N90)","v":10.908026153270542},{"$f":"IF(ControlPanel!$T$5=\"nominal\",O120,O90)","v":10.908026153270542},{"$f":"IF(ControlPanel!$T$5=\"nominal\",P120,P90)","v":10.908026153270542},{"$f":"IF(ControlPanel!$T$5=\"nominal\",Q120,Q90)","v":10.908026153270542},{"$f":"IF(ControlPanel!$T$5=\"nominal\",R120,R90)","v":10.86119713155138},{"$f":"IF(ControlPanel!$T$5=\"nominal\",S120,S90)","v":10.811821691314007},{"$f":"IF(ControlPanel!$T$5=\"nominal\",T120,T90)","v":10.762723491319454},{"$f":"IF(ControlPanel!$T$5=\"nominal\",U120,U90)","v":10.700911781188493},{"$f":"IF(ControlPanel!$T$5=\"nominal\",V120,V90)","v":10.350049468665192},{"$f":"IF(ControlPanel!$T$5=\"nominal\",W120,W90)","v":9.8807645450106243},{"$f":"IF(ControlPanel!$T$5=\"nominal\",X120,X90)","v":9.4713339193349313},{"$f":"IF(ControlPanel!$T$5=\"nominal\",Y120,Y90)","v":8.8991898717387148},{"$f":"IF(ControlPanel!$T$5=\"nominal\",Z120,Z90)","v":8.0374772613756083},{"$f":"IF(ControlPanel!$T$5=\"nominal\",AA120,AA90)","v":6.2929346397361767},{"$f":"IF(ControlPanel!$T$5=\"nominal\",AB120,AB90)","v":3.7425659024949911},{"$f":"IF(ControlPanel!$T$5=\"nominal\",AC120,AC90)","v":1.7293195011654334},{"$f":"IF(ControlPanel!$T$5=\"nominal\",AD120,AD90)","v":0.49607269647010133},{"$f":"IF(ControlPanel!$T$5=\"nominal\",AE120,AE90)","v":0.15176649063590031},{"$f":"IF(ControlPanel!$T$5=\"nominal\",AF120,AF90)","v":0},null,"v2.1.43"]
[137,null,null,null,"Sonstige",null,{"$f":"IF(ControlPanel!$T$5=\"nominal\",G121,G91)","v":0},{"$f":"IF(ControlPanel!$T$5=\"nominal\",H121,H91)","v":0},{"$f":"IF(ControlPanel!$T$5=\"nominal\",I121,I91)","v":0},{"$f":"IF(ControlPanel!$T$5=\"nominal\",J121,J91)","v":0},{"$f":"IF(ControlPanel!$T$5=\"nominal\",K121,K91)","v":0},{"$f":"IF(ControlPanel!$T$5=\"nominal\",L121,L91)","v":6.5771258918940367E-2},{"$f":"IF(ControlPanel!$T$5=\"nominal\",M121,M91)","v":0.13921651663753171},{"$f":"IF(ControlPanel!$T$5=\"nominal\",N121,N91)","v":0.14979657260673412},{"$f":"IF(ControlPanel!$T$5=\"nominal\",O121,O91)","v":0.16047611578908239},{"$f":"IF(ControlPanel!$T$5=\"nominal\",P121,P91)","v":0.17525397409287835},{"$f":"IF(ControlPanel!$T$5=\"nominal\",Q121,Q91)","v":0.18854834639665069},{"$f":"IF(ControlPanel!$T$5=\"nominal\",R121,R91)","v":0.2040242663096081},{"$f":"IF(ControlPanel!$T$5=\"nominal\",S121,S91)","v":0.23230173165211468},{"$f":"IF(ControlPanel!$T$5=\"nominal\",T121,T91)","v":0.26246949742057668},{"$f":"IF(ControlPanel!$T$5=\"nominal\",U121,U91)","v":0.28080664006060824},{"$f":"IF(ControlPanel!$T$5=\"nominal\",V121,V91)","v":0.29531584196926713},{"$f":"IF(ControlPanel!$T$5=\"nominal\",W121,W91)","v":0.31296826291768665},{"$f":"IF(ControlPanel!$T$5=\"nominal\",X121,X91)","v":0.33277019411373943},{"$f":"IF(ControlPanel!$T$5=\"nominal\",Y121,Y91)","v":0.35218064778123265},{"$f":"IF(ControlPanel!$T$5=\"nominal\",Z121,Z91)","v":0.37122764400701536},{"$f":"IF(ControlPanel!$T$5=\"nominal\",AA121,AA91)","v":0.38993806976271939},{"$f":"IF(ControlPanel!$T$5=\"nominal\",AB121,AB91)","v":0.40833773134871038},{"$f":"IF(ControlPanel!$T$5=\"nominal\",AC121,AC91)","v":0.42645140820671595},{"$f":"IF(ControlPanel!$T$5=\"nominal\",AD121,AD91)","v":0.44430290626875985},{"$f":"IF(ControlPanel!$T$5=\"nominal\",AE121,AE91)","v":0.46191510996039731},{"$f":"IF(ControlPanel!$T$5=\"nominal\",AF121,AF91)","v":0.47931003243699644},null,"v2.1.43"]
[138,null,null,null,"Biomasse",null,{"$f":"IF(ControlPanel!$T$5=\"nominal\",G122,G92)","v":0},{"$f":"IF(ControlPanel!$T$5=\"nominal\",H122,H92)","v":0},{"$f":"IF(ControlPanel!$T$5=\"nominal\",I122,I92)","v":0},{"$f":"IF(ControlPanel!$T$5=\"nominal\",J122,J92)","v":0},{"$f":"IF(ControlPanel!$T$5=\"nominal\",K122,K92)","v":0},{"$f":"IF(ControlPanel!$T$5=\"nominal\",L122,L92)","v":0.10508815406354752},{"$f":"IF(ControlPanel!$T$5=\"nominal\",M122,M92)","v":0.28530943153514832},{"$f":"IF(ControlPanel!$T$5=\"nominal\",N122,N92)","v":0.44733250545523157},{"$f":"IF(ControlPanel!$T$5=\"nominal\",O122,O92)","v":0.65688026409625067},{"$f":"IF(ControlPanel!$T$5=\"nominal\",P122,P92)","v":0.87290857175582559},{"$f":"IF(ControlPanel!$T$5=\"nominal\",Q122,Q92)","v":1.0149734611808869},{"$f":"IF(ControlPanel!$T$5=\"nominal\",R122,R92)","v":1.0982099564517307},{"$f":"IF(ControlPanel!$T$5=\"nominal\",S122,S92)","v":1.1435231434353925},{"$f":"IF(ControlPanel!$T$5=\"nominal\",T122,T92)","v":1.1644726411118176},{"$f":"IF(ControlPanel!$T$5=\"nominal\",U122,U92)","v":1.1868856657395233},{"$f":"IF(ControlPanel!$T$5=\"nominal\",V122,V92)","v":1.2107341641860672},{"$f":"IF(ControlPanel!$T$5=\"nominal\",W122,W92)","v":1.2773153791616951},{"$f":"IF(ControlPanel!$T$5=\"nominal\",X122,X92)","v":1.3852824654233251},{"$f":"IF(ControlPanel!$T$5=\"nominal\",Y122,Y92)","v":1.4921617375130645},{"$f":"IF(ControlPanel!$T$5=\"nominal\",Z122,Z92)","v":1.5979587771657608},{"$f":"IF(ControlPanel!$T$5=\"nominal\",AA122,AA92)","v":1.70267993116483},{"$f":"IF(ControlPanel!$T$5=\"nominal\",AB122,AB92)","v":1.8063320366514308},{"$f":"IF(ControlPanel!$T$5=\"nominal\",AC122,AC92)","v":1.9089222469187734},{"$f":"IF(ControlPanel!$T$5=\"nominal\",AD122,AD92)","v":2.0104579173838037},{"$f":"IF(ControlPanel!$T$5=\"nominal\",AE122,AE92)","v":2.1109465289041789},{"$f":"IF(ControlPanel!$T$5=\"nominal\",AF122,AF92)","v":2.2116658456572464},null,"v2.1.43"]
[139,null,null,null,"Wind Onshore",null,{"$f":"IF(ControlPanel!$T$5=\"nominal\",G123,G93)","v":0},{"$f":"IF(ControlPanel!$T$5=\"nominal\",H123,H93)","v":0},{"$f":"IF(ControlPanel!$T$5=\"nominal\",I123,I93)","v":0},{"$f":"IF(ControlPanel!$T$5=\"nominal\",J123,J93)","v":0},{"$f":"IF(ControlPanel!$T$5=\"nominal\",K123,K93)","v":0},{"$f":"IF(ControlPanel!$T$5=\"nominal\",L123,L93)","v":0.34293252432203392},{"$f":"IF(ControlPanel!$T$5=\"nominal\",M123,M93)","v":1.1076790707141697},{"$f":"IF(ControlPanel!$T$5=\"nominal\",N123,N93)","v":2.0269331301602884},{"$f":"IF(ControlPanel!$T$5=\"nominal\",O123,O93)","v":2.7332148300096755},{"$f":"IF(ControlPanel!$T$5=\"nominal\",P123,P93)","v":3.057008509784358},{"$f":"IF(ControlPanel!$T$5=\"nominal\",Q123,Q93)","v":3.2840108002158419},{"$f":"IF(ControlPanel!$T$5=\"nominal\",R123,R93)","v":3.5068028979962311},{"$f":"IF(ControlPanel!$T$5=\"nominal\",S123,S93)","v":3.7353317016966909},{"$f":"IF(ControlPanel!$T$5=\"nominal\",T123,T93)","v":4.0042110560433226},{"$f":"IF(ControlPanel!$T$5=\"nominal\",U123,U93)","v":4.307978011806501},{"$f":"IF(ControlPanel!$T$5=\"nominal\",V123,V93)","v":4.6217961732400399},{"$f":"IF(ControlPanel!$T$5=\"nominal\",W123,W93)","v":4.9446536911867609},{"$f":"IF(ControlPanel!$T$5=\"nominal\",X123,X93)","v":5.268944058543175},{"$f":"IF(ControlPanel!$T$5=\"nominal\",Y123,Y93)","v":5.5914516192059578},{"$f":"IF(ControlPanel!$T$5=\"nominal\",Z123,Z93)","v":5.9105232828983265},{"$f":"IF(ControlPanel!$T$5=\"nominal\",AA123,AA93)","v":6.2252029540994105},{"$f":"IF(ControlPanel!$T$5=\"nominal\",AB123,AB93)","v":6.5348914182241531},{"$f":"IF(ControlPanel!$T$5=\"nominal\",AC123,AC93)","v":6.8391903133069576},{"$f":"IF(ControlPanel!$T$5=\"nominal\",AD123,AD93)","v":7.1378224628791651},{"$f":"IF(ControlPanel!$T$5=\"nominal\",AE123,AE93)","v":7.4305878470443076},{"$f":"IF(ControlPanel!$T$5=\"nominal\",AF123,AF93)","v":7.7213893660737192},null,"v2.1.43"]
[140,null,null,null,"Wind Offshore",null,{"$f":"IF(ControlPanel!$T$5=\"nominal\",G124,G94)","v":0},{"$f":"IF(ControlPanel!$T$5=\"nominal\",H124,H94)","v":0},{"$f":"IF(ControlPanel!$T$5=\"nominal\",I124,I94)","v":0},{"$f":"IF(ControlPanel!$T$5=\"nominal\",J124,J94)","v":0},{"$f":"IF(ControlPanel!$T$5=\"nominal\",K124,K94)","v":0},{"$f":"IF(ControlPanel!$T$5=\"nominal\",L124,L94)","v":0.69259969304200197},{"$f":"IF(ControlPanel!$T$5=\"nominal\",M124,M94)","v":1.6605388034554822},{"$f":"IF(ControlPanel!$T$5=\"nominal\",N124,N94)","v":2.354953648761319},{"$f":"IF(ControlPanel!$T$5=\"nominal\",O124,O94)","v":3.0385121004821598},{"$f":"IF(ControlPanel!$T$5=\"nominal\",P124,P94)","v":3.6142736406374483},{"$f":"IF(ControlPanel!$T$5=\"nominal\",Q124,Q94)","v":3.9855454123080314},{"$f":"IF(ControlPanel!$T$5=\"nominal\",R124,R94)","v":4.0343671646257491},{"$f":"IF(ControlPanel!$T$5=\"nominal\",S124,S94)","v":4.0596798118525728},{"$f":"IF(ControlPanel!$T$5=\"nominal\",T124,T94)","v":4.2114464787190116},{"$f":"IF(ControlPanel!$T$5=\"nominal\",U124,U94)","v":4.1627790118174612},{"$f":"IF(ControlPanel!$T$5=\"nominal\",V124,V94)","v":4.2242612000697015},{"$f":"IF(ControlPanel!$T$5=\"nominal\",W124,W94)","v":4.1073257516281192},{"$f":"IF(ControlPanel!$T$5=\"nominal\",X124,X94)","v":3.4286932785863211},{"$f":"IF(ControlPanel!$T$5=\"nominal\",Y124,Y94)","v":3.3449432622895889},{"$f":"IF(ControlPanel!$T$5=\"nominal\",Z124,Z94)","v":3.2901027961353173},{"$f":"IF(ControlPanel!$T$5=\"nominal\",AA124,AA94)","v":3.5409836247557824},{"$f":"IF(ControlPanel!$T$5=\"nominal\",AB124,AB94)","v":3.7891225551951737},{"$f":"IF(ControlPanel!$T$5=\"nominal\",AC124,AC94)","v":4.0295815892746898},{"$f":"IF(ControlPanel!$T$5=\"nominal\",AD124,AD94)","v":4.2703504162340202},{"$f":"IF(ControlPanel!$T$5=\"nominal\",AE124,AE94)","v":4.4935415750182353},{"$f":"IF(ControlPanel!$T$5=\"nominal\",AF124,AF94)","v":4.2751804661388118},null,"v2.1.43"]
[141,null,null,null,"Solar",null,{"$f":"IF(ControlPanel!$T$5=\"nominal\",G125,G95)","v":0},{"$f":"IF(ControlPanel!$T$5=\"nominal\",H125,H95)","v":0},{"$f":"IF(ControlPanel!$T$5=\"nominal\",I125,I95)","v":0},{"$f":"IF(ControlPanel!$T$5=\"nominal\",J125,J95)","v":0},{"$f":"IF(ControlPanel!$T$5=\"nominal\",K125,K95)","v":0},{"$f":"IF(ControlPanel!$T$5=\"nominal\",L125,L95)","v":5.0213822931541516E-2},{"$f":"IF(ControlPanel!$T$5=\"nominal\",M125,M95)","v":0.1459155620538358},{"$f":"IF(ControlPanel!$T$5=\"nominal\",N125,N95)","v":0.300615710042133},{"$f":"IF(ControlPanel!$T$5=\"nominal\",O125,O95)","v":0.49189988146900099},{"$f":"IF(ControlPanel!$T$5=\"nominal\",P125,P95)","v":0.82215372497392425},{"$f":"IF(ControlPanel!$T$5=\"nominal\",Q125,Q95)","v":1.2214692086516561},{"$f":"IF(ControlPanel!$T$5=\"nominal\",R125,R95)","v":1.6069468829057498},{"$f":"IF(ControlPanel!$T$5=\"nominal\",S125,S95)","v":1.92542079479999},{"$f":"IF(ControlPanel!$T$5=\"nominal\",T125,T95)","v":2.17917957939052},{"$f":"IF(ControlPanel!$T$5=\"nominal\",U125,U95)","v":2.3674900243485455},{"$f":"IF(ControlPanel!$T$5=\"nominal\",V125,V95)","v":2.5489420502484732},{"$f":"IF(ControlPanel!$T$5=\"nominal\",W125,W95)","v":2.7243517122684824},{"$f":"IF(ControlPanel!$T$5=\"nominal\",X125,X95)","v":2.8913158896526929},{"$f":"IF(ControlPanel!$T$5=\"nominal\",Y125,Y95)","v":3.0537139611887691},{"$f":"IF(ControlPanel!$T$5=\"nominal\",Z125,Z95)","v":3.2116475546643013},{"$f":"IF(ControlPanel!$T$5=\"nominal\",AA125,AA95)","v":3.3652417837180479},{"$f":"IF(ControlPanel!$T$5=\"nominal\",AB125,AB95)","v":3.5147410669735666},{"$f":"IF(ControlPanel!$T$5=\"nominal\",AC125,AC95)","v":3.6601492733900387},{"$f":"IF(ControlPanel!$T$5=\"nominal\",AD125,AD95)","v":3.8013191612716803},{"$f":"IF(ControlPanel!$T$5=\"nominal\",AE125,AE95)","v":3.9383908696041008},{"$f":"IF(ControlPanel!$T$5=\"nominal\",AF125,AF95)","v":4.0723182239777467},null,"v2.1.43"]
[142]
[143]
[144]
[145,null,null,null,null,"Brutto-Zubau (kleine aggregiert) [GW/a]"]
[146,null,null,null,null,null,2010,2011,2012,2013,2014,2015,2016,2017,2018,2019,2020,2021,2022,2023,2024,2025,2026,2027,2028,2029,2030,2031,2032,2033,2034,2035]
[147,null,null,null,null,"Sonstige",{"$f":"'MOD-Berechnungen'!F56+'MOD-Berechnungen'!F57+'MOD-Berechnungen'!F59","v":0.12954600000000022},{"$f":"'MOD-Berechnungen'!G56+'MOD-Berechnungen'!G57+'MOD-Berechnungen'!G59","v":0.10471489999999974},{"$f":"'MOD-Berechnungen'!H56+'MOD-Berechnungen'!H57+'MOD-Berechnungen'!H59","v":7.042649999999992E-2},{"$f":"'MOD-Berechnungen'!I56+'MOD-Berechnungen'!I57+'MOD-Berechnungen'!I59","v":9.3620800000000282E-2},{"$f":"'MOD-Berechnungen'!J56+'MOD-Berechnungen'!J57+'MOD-Berechnungen'!J59","v":3.7300000000000041E-3},{"$f":"'MOD-Berechnungen'!K56+'MOD-Berechnungen'!K57+'MOD-Berechnungen'!K59","v":0.33660678499999952},{"$f":"'MOD-Berechnungen'!L56+'MOD-Berechnungen'!L57+'MOD-Berechnungen'!L59","v":3.0717774999999795E-2},{"$f":"'MOD-Berechnungen'!M56+'MOD-Berechnungen'!M57+'MOD-Berechnungen'!M59","v":9.1000000000000004E-3},{"$f":"'MOD-Berechnungen'!N56+'MOD-Berechnungen'!N57+'MOD-Berechnungen'!N59","v":2.5999999999999999E-2},{"$f":"'MOD-Berechnungen'!O56+'MOD-Berechnungen'!O57+'MOD-Berechnungen'!O59","v":2.3000000000000003E-2},{"$f":"'MOD-Berechnungen'!P56+'MOD-Berechnungen'!P57+'MOD-Berechnungen'!P59","v":0.02},{"$f":"'MOD-Berechnungen'!Q56+'MOD-Berechnungen'!Q57+'MOD-Berechnungen'!Q59","v":2.5000000000000001E-2},{"$f":"'MOD-Berechnungen'!R56+'MOD-Berechnungen'!R57+'MOD-Berechnungen'!R59","v":4.1000000000000002E-2},{"$f":"'MOD-Berechnungen'!S56+'MOD-Berechnungen'!S57+'MOD-Berechnungen'!S59","v":0.03},{"$f":"'MOD-Berechnungen'!T56+'MOD-Berechnungen'!T57+'MOD-Berechnungen'!T59","v":2.1999999999999999E-2},{"$f":"'MOD-Berechnungen'!U56+'MOD-Berechnungen'!U57+'MOD-Berechnungen'!U59","v":0.03},{"$f":"'MOD-Berechnungen'!V56+'MOD-Berechnungen'!V57+'MOD-Berechnungen'!V59","v":3.4000000000000002E-2},{"$f":"'MOD-Berechnungen'!W56+'MOD-Berechnungen'!W57+'MOD-Berechnungen'!W59","v":3.4000000000000002E-2},{"$f":"'MOD-Berechnungen'!X56+'MOD-Berechnungen'!X57+'MOD-Berechnungen'!X59","v":3.4000000000000002E-2},{"$f":"'MOD-Berechnungen'!Y56+'MOD-Berechnungen'!Y57+'MOD-Berechnungen'!Y59","v":3.4000000000000002E-2},{"$f":"'MOD-Berechnungen'!Z56+'MOD-Berechnungen'!Z57+'MOD-Berechnungen'!Z59","v":3.4000000000000002E-2},{"$f":"'MOD-Berechnungen'!AA56+'MOD-Berechnungen'!AA57+'MOD-Berechnungen'!AA59","v":3.4000000000000002E-2},{"$f":"'MOD-Berechnungen'!AB56+'MOD-Berechnungen'!AB57+'MOD-Berechnungen'!AB59","v":3.4000000000000002E-2},{"$f":"'MOD-Berechnungen'!AC56+'MOD-Berechnungen'!AC57+'MOD-Berechnungen'!AC59","v":3.4000000000000002E-2},{"$f":"'MOD-Berechnungen'!AD56+'MOD-Berechnungen'!AD57+'MOD-Berechnungen'!AD59","v":3.4000000000000002E-2},{"$f":"'MOD-Berechnungen'!AE56+'MOD-Berechnungen'!AE57+'MOD-Berechnungen'!AE59","v":3.4000000000000002E-2}]
[148,null,null,null,null,"Biomasse",{"$f":"'MOD-Berechnungen'!F58","v":0.41799999999999998},{"$f":"'MOD-Berechnungen'!G58","v":0.86586812999999996},{"$f":"'MOD-Berechnungen'!H58","v":0.32809184000000102},{"$f":"'MOD-Berechnungen'!I58","v":0.67685502999999902},{"$f":"'MOD-Berechnungen'!J58","v":0.21741000000000099},{"$f":"'MOD-Berechnungen'!K58","v":0.23461600000000002},{"$f":"'MOD-Berechnungen'!L58","v":0.22497200000000001},{"$f":"'MOD-Berechnungen'!M58","v":0.30678699999999998},{"$f":"'MOD-Berechnungen'!N58","v":0.42751108100000101},{"$f":"'MOD-Berechnungen'!O58","v":0.33253365899999998},{"$f":"'MOD-Berechnungen'!P58","v":0.17599999999999999},{"$f":"'MOD-Berechnungen'!Q58","v":0.124},{"$f":"'MOD-Berechnungen'!R58","v":3.5999999999999997E-2},{"$f":"'MOD-Berechnungen'!S58","v":0.04},{"$f":"'MOD-Berechnungen'!T58","v":4.2999999999999997E-2},{"$f":"'MOD-Berechnungen'!U58","v":4.4999999999999998E-2},{"$f":"'MOD-Berechnungen'!V58","v":0.2},{"$f":"'MOD-Berechnungen'!W58","v":0.2},{"$f":"'MOD-Berechnungen'!X58","v":0.2},{"$f":"'MOD-Berechnungen'!Y58","v":0.2},{"$f":"'MOD-Berechnungen'!Z58","v":0.2},{"$f":"'MOD-Berechnungen'!AA58","v":0.2},{"$f":"'MOD-Berechnungen'!AB58","v":0.2},{"$f":"'MOD-Berechnungen'!AC58","v":0.2},{"$f":"'MOD-Berechnungen'!AD58","v":0.2},{"$f":"'MOD-Berechnungen'!AE58","v":0.2}]
[149,null,null,null,null,"Wind Onshore",{"$f":"'MOD-Berechnungen'!F60","v":1.411797},{"$f":"'MOD-Berechnungen'!G60","v":1.8712979999999999},{"$f":"'MOD-Berechnungen'!H60","v":2.4085290000000001},{"$f":"'MOD-Berechnungen'!I60","v":2.9965709999999999},{"$f":"'MOD-Berechnungen'!J60","v":4.6522969999999999},{"$f":"'MOD-Berechnungen'!K60","v":3.7872080000000001},{"$f":"'MOD-Berechnungen'!L60","v":4.4454030000000007},{"$f":"'MOD-Berechnungen'!M60","v":5.5017449999999997},{"$f":"'MOD-Berechnungen'!N60","v":2.4031500000000001},{"$f":"'MOD-Berechnungen'!O60","v":1.5},{"$f":"'MOD-Berechnungen'!P60","v":1.5},{"$f":"'MOD-Berechnungen'!Q60","v":1.5},{"$f":"'MOD-Berechnungen'!R60","v":2},{"$f":"'MOD-Berechnungen'!S60","v":2.5},{"$f":"'MOD-Berechnungen'!T60","v":2.5},{"$f":"'MOD-Berechnungen'!U60","v":2.5},{"$f":"'MOD-Berechnungen'!V60","v":2.5},{"$f":"'MOD-Berechnungen'!W60","v":2.5},{"$f":"'MOD-Berechnungen'!X60","v":2.5},{"$f":"'MOD-Berechnungen'!Y60","v":2.5},{"$f":"'MOD-Berechnungen'!Z60","v":2.5},{"$f":"'MOD-Berechnungen'!AA60","v":2.5},{"$f":"'MOD-Berechnungen'!AB60","v":2.5},{"$f":"'MOD-Berechnungen'!AC60","v":2.5},{"$f":"'MOD-Berechnungen'!AD60","v":2.5},{"$f":"'MOD-Berechnungen'!AE60","v":2.5}]
[150,null,null,null,null,"Wind Offshore",{"$f":"'MOD-Berechnungen'!F61","v":4.4999999999999998E-2},{"$f":"'MOD-Berechnungen'!G61","v":0.108},{"$f":"'MOD-Berechnungen'!H61","v":0.08},{"$f":"'MOD-Berechnungen'!I61","v":0.24},{"$f":"'MOD-Berechnungen'!J61","v":0.48599999999999999},{"$f":"'MOD-Berechnungen'!K61","v":2.2890000000000001},{"$f":"'MOD-Berechnungen'!L61","v":0.86899999999999999},{"$f":"'MOD-Berechnungen'!M61","v":1.254},{"$f":"'MOD-Berechnungen'!N61","v":0.98699999999999999},{"$f":"'MOD-Berechnungen'!O61","v":1.135},{"$f":"'MOD-Berechnungen'!P61","v":0.219},{"$f":"'MOD-Berechnungen'!Q61","v":0},{"$f":"'MOD-Berechnungen'!R61","v":0.34200000000000003},{"$f":"'MOD-Berechnungen'!S61","v":0.97499999999999998},{"$f":"'MOD-Berechnungen'!T61","v":0.9},{"$f":"'MOD-Berechnungen'!U61","v":0.9},{"$f":"'MOD-Berechnungen'!V61","v":0.9},{"$f":"'MOD-Berechnungen'!W61","v":0.9},{"$f":"'MOD-Berechnungen'!X61","v":0.9},{"$f":"'MOD-Berechnungen'!Y61","v":0.9},{"$f":"'MOD-Berechnungen'!Z61","v":0.9},{"$f":"'MOD-Berechnungen'!AA61","v":0.9},{"$f":"'MOD-Berechnungen'!AB61","v":0.9},{"$f":"'MOD-Berechnungen'!AC61","v":0.9},{"$f":"'MOD-Berechnungen'!AD61","v":0.9},{"$f":"'MOD-Berechnungen'!AE61","v":0.9}]
[151,null,null,null,null,"Solar",{"$f":"'MOD-Berechnungen'!F62","v":7.44},{"$f":"'MOD-Berechnungen'!G62","v":7.91},{"$f":"'MOD-Berechnungen'!H62","v":8.1609999999999996},{"$f":"'MOD-Berechnungen'!I62","v":2.633},{"$f":"'MOD-Berechnungen'!J62","v":1.19},{"$f":"'MOD-Berechnungen'!K62","v":1.3240000000000001},{"$f":"'MOD-Berechnungen'!L62","v":1.4550000000000001},{"$f":"'MOD-Berechnungen'!M62","v":1.6140000000000001},{"$f":"'MOD-Berechnungen'!N62","v":2.8650000000000002},{"$f":"'MOD-Berechnungen'!O62","v":3.8889999999999998},{"$f":"'MOD-Berechnungen'!P62","v":4.8010000000000002},{"$f":"'MOD-Berechnungen'!Q62","v":5.4139999999999997},{"$f":"'MOD-Berechnungen'!R62","v":4.9379999999999997},{"$f":"'MOD-Berechnungen'!S62","v":3.1520000000000001},{"$f":"'MOD-Berechnungen'!T62","v":3.0219999999999998},{"$f":"'MOD-Berechnungen'!U62","v":3.129},{"$f":"'MOD-Berechnungen'!V62","v":3},{"$f":"'MOD-Berechnungen'!W62","v":3},{"$f":"'MOD-Berechnungen'!X62","v":3},{"$f":"'MOD-Berechnungen'!Y62","v":3},{"$f":"'MOD-Berechnungen'!Z62","v":3},{"$f":"'MOD-Berechnungen'!AA62","v":3},{"$f":"'MOD-Berechnungen'!AB62","v":3},{"$f":"'MOD-Berechnungen'!AC62","v":3},{"$f":"'MOD-Berechnungen'!AD62","v":3},{"$f":"'MOD-Berechnungen'!AE62","v":3}]
[152]
[153,null,null,null,null,"Netto-Zubau (kleine aggregiert) [GW/a]"]
[154,null,null,null,null,null,2010,2011,2012,2013,2014,2015,2016,2017,2018,2019,2020,2021,2022,2023,2024,2025,2026,2027,2028,2029,2030,2031,2032,2033,2034,2035]
[155,null,null,null,null,"Sonstige",{"$f":"'MOD-Berechnungen'!F199+'MOD-Berechnungen'!F200+'MOD-Berechnungen'!F202","v":0.10599999999999994},{"$f":"'MOD-Berechnungen'!G199+'MOD-Berechnungen'!G200+'MOD-Berechnungen'!G202","v":8.2999999999999866E-2},{"$f":"'MOD-Berechnungen'!H199+'MOD-Berechnungen'!H200+'MOD-Berechnungen'!H202","v":4.8800000000000045E-2},{"$f":"'MOD-Berechnungen'!I199+'MOD-Berechnungen'!I200+'MOD-Berechnungen'!I202","v":7.3320000000000163E-2},{"$f":"'MOD-Berechnungen'!J199+'MOD-Berechnungen'!J200+'MOD-Berechnungen'!J202","v":-1.7142300000000062E-2},{"$f":"'MOD-Berechnungen'!K199+'MOD-Berechnungen'!K200+'MOD-Berechnungen'!K202","v":0.33660678499999952},{"$f":"'MOD-Berechnungen'!L199+'MOD-Berechnungen'!L200+'MOD-Berechnungen'!L202","v":3.0717774999999795E-2},{"$f":"'MOD-Berechnungen'!M199+'MOD-Berechnungen'!M200+'MOD-Berechnungen'!M202","v":9.1000000000000004E-3},{"$f":"'MOD-Berechnungen'!N199+'MOD-Berechnungen'!N200+'MOD-Berechnungen'!N202","v":2.5999999999999999E-2},{"$f":"'MOD-Berechnungen'!O199+'MOD-Berechnungen'!O200+'MOD-Berechnungen'!O202","v":2.3000000000000003E-2},{"$f":"'MOD-Berechnungen'!P199+'MOD-Berechnungen'!P200+'MOD-Berechnungen'!P202","v":0.02},{"$f":"'MOD-Berechnungen'!Q199+'MOD-Berechnungen'!Q200+'MOD-Berechnungen'!Q202","v":-0.1526501999999999},{"$f":"'MOD-Berechnungen'!R199+'MOD-Berechnungen'!R200+'MOD-Berechnungen'!R202","v":-1.2036999999999999E-2},{"$f":"'MOD-Berechnungen'!S199+'MOD-Berechnungen'!S200+'MOD-Berechnungen'!S202","v":-3.2701000000000008E-2},{"$f":"'MOD-Berechnungen'!T199+'MOD-Berechnungen'!T200+'MOD-Berechnungen'!T202","v":-5.5915000000000013E-2},{"$f":"'MOD-Berechnungen'!U199+'MOD-Berechnungen'!U200+'MOD-Berechnungen'!U202","v":-3.6617299999999992E-2},{"$f":"'MOD-Berechnungen'!V199+'MOD-Berechnungen'!V200+'MOD-Berechnungen'!V202","v":2.0383000000000005E-2},{"$f":"'MOD-Berechnungen'!W199+'MOD-Berechnungen'!W200+'MOD-Berechnungen'!W202","v":2.5464000000000001E-2},{"$f":"'MOD-Berechnungen'!X199+'MOD-Berechnungen'!X200+'MOD-Berechnungen'!X202","v":2.2484999999999998E-2},{"$f":"'MOD-Berechnungen'!Y199+'MOD-Berechnungen'!Y200+'MOD-Berechnungen'!Y202","v":2.8296000000000002E-2},{"$f":"'MOD-Berechnungen'!Z199+'MOD-Berechnungen'!Z200+'MOD-Berechnungen'!Z202","v":-9.053461999999983E-2},{"$f":"'MOD-Berechnungen'!AA199+'MOD-Berechnungen'!AA200+'MOD-Berechnungen'!AA202","v":-6.0270190000000161E-2},{"$f":"'MOD-Berechnungen'!AB199+'MOD-Berechnungen'!AB200+'MOD-Berechnungen'!AB202","v":-4.8644749999999792E-2},{"$f":"'MOD-Berechnungen'!AC199+'MOD-Berechnungen'!AC200+'MOD-Berechnungen'!AC202","v":-2.6115350000000249E-2},{"$f":"'MOD-Berechnungen'!AD199+'MOD-Berechnungen'!AD200+'MOD-Berechnungen'!AD202","v":-8.6350339999999901E-2},{"$f":"'MOD-Berechnungen'!AE199+'MOD-Berechnungen'!AE200+'MOD-Berechnungen'!AE202","v":-0.30260678499999949}]
[156,null,null,null,null,"Biomasse",{"$f":"'MOD-Berechnungen'!F201","v":0.41799999999999998},{"$f":"'MOD-Berechnungen'!G201","v":0.86586812999999996},{"$f":"'MOD-Berechnungen'!H201","v":0.32809184000000102},{"$f":"'MOD-Berechnungen'!I201","v":0.67685502999999902},{"$f":"'MOD-Berechnungen'!J201","v":0.21741000000000099},{"$f":"'MOD-Berechnungen'!K201","v":0.23461600000000002},{"$f":"'MOD-Berechnungen'!L201","v":0.22497200000000001},{"$f":"'MOD-Berechnungen'!M201","v":0.30678699999999998},{"$f":"'MOD-Berechnungen'!N201","v":0.42751108100000101},{"$f":"'MOD-Berechnungen'!O201","v":0.33253365899999998},{"$f":"'MOD-Berechnungen'!P201","v":0.17599999999999999},{"$f":"'MOD-Berechnungen'!Q201","v":-5.1810770000000006E-2},{"$f":"'MOD-Berechnungen'!R201","v":-0.15223380000000167},{"$f":"'MOD-Berechnungen'!S201","v":-0.10024915999999887},{"$f":"'MOD-Berechnungen'!T201","v":-0.18895835000000022},{"$f":"'MOD-Berechnungen'!U201","v":-0.5275069899999999},{"$f":"'MOD-Berechnungen'!V201","v":-0.49573850000000003},{"$f":"'MOD-Berechnungen'!W201","v":-0.64800203000000089},{"$f":"'MOD-Berechnungen'!X201","v":-0.4404923999999994},{"$f":"'MOD-Berechnungen'!Y201","v":-0.15727639999999993},{"$f":"'MOD-Berechnungen'!Z201","v":-0.25520799999999938},{"$f":"'MOD-Berechnungen'!AA201","v":-0.43709159999999975},{"$f":"'MOD-Berechnungen'!AB201","v":-0.85617406000000029},{"$f":"'MOD-Berechnungen'!AC201","v":-0.13386470000000006},{"$f":"'MOD-Berechnungen'!AD201","v":-5.6353910000000063E-2},{"$f":"'MOD-Berechnungen'!AE201","v":-3.4616000000000008E-2}]
[157,null,null,null,null,"Wind Onshore",{"$f":"'MOD-Berechnungen'!F203","v":1.1357969999999999},{"$f":"'MOD-Berechnungen'!G203","v":1.4802979999999999},{"$f":"'MOD-Berechnungen'!H203","v":2.1865290000000002},{"$f":"'MOD-Berechnungen'!I203","v":2.2585709999999999},{"$f":"'MOD-Berechnungen'!J203","v":4.6522969999999999},{"$f":"'MOD-Berechnungen'!K203","v":3.6757774800000012},{"$f":"'MOD-Berechnungen'!L203","v":4.1014029999999995},{"$f":"'MOD-Berechnungen'!M203","v":5.1017450000000011},{"$f":"'MOD-Berechnungen'!N203","v":1.9031500000000001},{"$f":"'MOD-Berechnungen'!O203","v":0.89999999999999858},{"$f":"'MOD-Berechnungen'!P203","v":0.80000000000000426},{"$f":"'MOD-Berechnungen'!Q203","v":-0.30579311000000331},{"$f":"'MOD-Berechnungen'!R203","v":-0.5936737999999977},{"$f":"'MOD-Berechnungen'!S203","v":-0.55020309000000012},{"$f":"'MOD-Berechnungen'!T203","v":-0.21786799999999928},{"$f":"'MOD-Berechnungen'!U203","v":0.44622899999999888},{"$f":"'MOD-Berechnungen'!V203","v":0.68595649999999964},{"$f":"'MOD-Berechnungen'!W203","v":0.27016200000000268},{"$f":"'MOD-Berechnungen'!X203","v":0.81375379999999709},{"$f":"'MOD-Berechnungen'!Y203","v":1.7281359999999992},{"$f":"'MOD-Berechnungen'!Z203","v":-0.19933991999999989},{"$f":"'MOD-Berechnungen'!AA203","v":1.0733403500000005},{"$f":"'MOD-Berechnungen'!AB203","v":0.62351773999999871},{"$f":"'MOD-Berechnungen'!AC203","v":7.8875470000000725E-2},{"$f":"'MOD-Berechnungen'!AD203","v":-0.53243178999999952},{"$f":"'MOD-Berechnungen'!AE203","v":-1.2872080000000001}]
[158,null,null,null,null,"Wind Offshore",{"$f":"'MOD-Berechnungen'!F204","v":4.4999999999999998E-2},{"$f":"'MOD-Berechnungen'!G204","v":0.108},{"$f":"'MOD-Berechnungen'!H204","v":0.08},{"$f":"'MOD-Berechnungen'!I204","v":0.24},{"$f":"'MOD-Berechnungen'!J204","v":0.48599999999999999},{"$f":"'MOD-Berechnungen'!K204","v":2.2890000000000001},{"$f":"'MOD-Berechnungen'!L204","v":0.86899999999999999},{"$f":"'MOD-Berechnungen'!M204","v":1.254},{"$f":"'MOD-Berechnungen'!N204","v":0.98699999999999999},{"$f":"'MOD-Berechnungen'!O204","v":1.135},{"$f":"'MOD-Berechnungen'!P204","v":0.219},{"$f":"'MOD-Berechnungen'!Q204","v":0},{"$f":"'MOD-Berechnungen'!R204","v":0.34200000000000003},{"$f":"'MOD-Berechnungen'!S204","v":0.97499999999999998},{"$f":"'MOD-Berechnungen'!T204","v":0.9},{"$f":"'MOD-Berechnungen'!U204","v":0.9},{"$f":"'MOD-Berechnungen'!V204","v":0.9},{"$f":"'MOD-Berechnungen'!W204","v":0.9},{"$f":"'MOD-Berechnungen'!X204","v":0.9},{"$f":"'MOD-Berechnungen'!Y204","v":0.9},{"$f":"'MOD-Berechnungen'!Z204","v":0.86819999999999997},{"$f":"'MOD-Berechnungen'!AA204","v":0.85499999999999998},{"$f":"'MOD-Berechnungen'!AB204","v":0.79170000000000007},{"$f":"'MOD-Berechnungen'!AC204","v":0.82000000000000006},{"$f":"'MOD-Berechnungen'!AD204","v":0.66},{"$f":"'MOD-Berechnungen'!AE204","v":-1.3890000000000002}]
[159,null,null,null,null,"Solar",{"$f":"'MOD-Berechnungen'!F205","v":7.44},{"$f":"'MOD-Berechnungen'!G205","v":7.91},{"$f":"'MOD-Berechnungen'!H205","v":8.1609999999999996},{"$f":"'MOD-Berechnungen'!I205","v":2.633},{"$f":"'MOD-Berechnungen'!J205","v":1.19},{"$f":"'MOD-Berechnungen'!K205","v":1.3240000000000001},{"$f":"'MOD-Berechnungen'!L205","v":1.4550000000000001},{"$f":"'MOD-Berechnungen'!M205","v":1.6140000000000001},{"$f":"'MOD-Berechnungen'!N205","v":2.8650000000000002},{"$f":"'MOD-Berechnungen'!O205","v":3.8889999999999998},{"$f":"'MOD-Berechnungen'!P205","v":4.8010000000000002},{"$f":"'MOD-Berechnungen'!Q205","v":5.2900275060000634},{"$f":"'MOD-Berechnungen'!R205","v":4.8293613100000004},{"$f":"'MOD-Berechnungen'!S205","v":3.0417784500000016},{"$f":"'MOD-Berechnungen'!T205","v":2.8795534499999973},{"$f":"'MOD-Berechnungen'!U205","v":2.4729706999999999},{"$f":"'MOD-Berechnungen'!V205","v":2.075397940000002},{"$f":"'MOD-Berechnungen'!W205","v":2.1554050499999988},{"$f":"'MOD-Berechnungen'!X205","v":1.7462488739999955},{"$f":"'MOD-Berechnungen'!Y205","v":1.0204568900000019},{"$f":"'MOD-Berechnungen'!Z205","v":-1.4384598400000144},{"$f":"'MOD-Berechnungen'!AA205","v":-4.5938763400000333},{"$f":"'MOD-Berechnungen'!AB205","v":-5.0003900600000044},{"$f":"'MOD-Berechnungen'!AC205","v":-3.8422938800000237},{"$f":"'MOD-Berechnungen'!AD205","v":-0.1356207599999868},{"$f":"'MOD-Berechnungen'!AE205","v":1.6759999999999999}]
[160]
[161]
[162]
[163,null,null,null,null,"Daten für Zubaudiagramm (einzelne Technologie [GW/a]"]
[164,null,null,null,null,null,2010,2011,2012,2013,2014,2015,2016,2017,2018,2019,2020,2021,2022,2023,2024,2025,2026,2027,2028,2029,2030,2031,2032,2033,2034,2035]
[165,null,null,null,null,"Ausgleich Rückbau",{"$f":"G167-G166","v":0},{"$f":"H167-H166","v":0},0,0,0,0,0,0,0,0,0,0.12397249399993626,0.10863868999999937,0.11022154999999856,0.1424465500000025,0.65602930000000015,0.924602059999998,0.84459495000000118,1.2537511260000045,1.9795431099999981,4.4384598400000144,7.5938763400000333,8.0003900600000044,6.8422938800000237,3.1356207599999868,1.3240000000000001]
[166,null,null,null,null,"Netto-Zubau",{"$f":"VLOOKUP(Ergebnisse!$P$58,$F$155:$AF$159,G$154-$G$154+2,FALSE)","v":7.44},{"$f":"VLOOKUP(Ergebnisse!$P$58,$F$155:$AF$159,H$154-$G$154+2,FALSE)","v":7.91},{"$f":"VLOOKUP(Ergebnisse!$P$58,$F$155:$AF$159,I$154-$G$154+2,FALSE)","v":8.1609999999999996},{"$f":"VLOOKUP(Ergebnisse!$P$58,$F$155:$AF$159,J$154-$G$154+2,FALSE)","v":2.633},{"$f":"VLOOKUP(Ergebnisse!$P$58,$F$155:$AF$159,K$154-$G$154+2,FALSE)","v":1.19},{"$f":"VLOOKUP(Ergebnisse!$P$58,$F$155:$AF$159,L$154-$G$154+2,FALSE)","v":1.3240000000000001},{"$f":"VLOOKUP(Ergebnisse!$P$58,$F$155:$AF$159,M$154-$G$154+2,FALSE)","v":1.4550000000000001},{"$f":"VLOOKUP(Ergebnisse!$P$58,$F$155:$AF$159,N$154-$G$154+2,FALSE)","v":1.6140000000000001},{"$f":"VLOOKUP(Ergebnisse!$P$58,$F$155:$AF$159,O$154-$G$154+2,FALSE)","v":2.8650000000000002},{"$f":"VLOOKUP(Ergebnisse!$P$58,$F$155:$AF$159,P$154-$G$154+2,FALSE)","v":3.8889999999999998},{"$f":"VLOOKUP(Ergebnisse!$P$58,$F$155:$AF$159,Q$154-$G$154+2,FALSE)","v":4.8010000000000002},{"$f":"VLOOKUP(Ergebnisse!$P$58,$F$155:$AF$159,R$154-$G$154+2,FALSE)","v":5.2900275060000634},{"$f":"VLOOKUP(Ergebnisse!$P$58,$F$155:$AF$159,S$154-$G$154+2,FALSE)","v":4.8293613100000004},{"$f":"VLOOKUP(Ergebnisse!$P$58,$F$155:$AF$159,T$154-$G$154+2,FALSE)","v":3.0417784500000016},{"$f":"VLOOKUP(Ergebnisse!$P$58,$F$155:$AF$159,U$154-$G$154+2,FALSE)","v":2.8795534499999973},{"$f":"VLOOKUP(Ergebnisse!$P$58,$F$155:$AF$159,V$154-$G$154+2,FALSE)","v":2.4729706999999999},{"$f":"VLOOKUP(Ergebnisse!$P$58,$F$155:$AF$159,W$154-$G$154+2,FALSE)","v":2.075397940000002},{"$f":"VLOOKUP(Ergebnisse!$P$58,$F$155:$AF$159,X$154-$G$154+2,FALSE)","v":2.1554050499999988},{"$f":"VLOOKUP(Ergebnisse!$P$58,$F$155:$AF$159,Y$154-$G$154+2,FALSE)","v":1.7462488739999955},{"$f":"VLOOKUP(Ergebnisse!$P$58,$F$155:$AF$159,Z$154-$G$154+2,FALSE)","v":1.0204568900000019},{"$f":"VLOOKUP(Ergebnisse!$P$58,$F$155:$AF$159,AA$154-$G$154+2,FALSE)","v":-1.4384598400000144},{"$f":"VLOOKUP(Ergebnisse!$P$58,$F$155:$AF$159,AB$154-$G$154+2,FALSE)","v":-4.5938763400000333},{"$f":"VLOOKUP(Ergebnisse!$P$58,$F$155:$AF$159,AC$154-$G$154+2,FALSE)","v":-5.0003900600000044},{"$f":"VLOOKUP(Ergebnisse!$P$58,$F$155:$AF$159,AD$154-$G$154+2,FALSE)","v":-3.8422938800000237},{"$f":"VLOOKUP(Ergebnisse!$P$58,$F$155:$AF$159,AE$154-$G$154+2,FALSE)","v":-0.1356207599999868},{"$f":"VLOOKUP(Ergebnisse!$P$58,$F$155:$AF$159,AF$154-$G$154+2,FALSE)","v":1.6759999999999999}]
[167,null,null,null,null,"Brutto-Zubau",{"$f":"VLOOKUP(Ergebnisse!$P$58,$F$147:$AF$151,G$146-$G$146+2,FALSE)","v":7.44},{"$f":"VLOOKUP(Ergebnisse!$P$58,$F$147:$AF$151,H$146-$G$146+2,FALSE)","v":7.91},{"$f":"VLOOKUP(Ergebnisse!$P$58,$F$147:$AF$151,I$146-$G$146+2,FALSE)","v":8.1609999999999996},{"$f":"VLOOKUP(Ergebnisse!$P$58,$F$147:$AF$151,J$146-$G$146+2,FALSE)","v":2.633},{"$f":"VLOOKUP(Ergebnisse!$P$58,$F$147:$AF$151,K$146-$G$146+2,FALSE)","v":1.19},{"$f":"VLOOKUP(Ergebnisse!$P$58,$F$147:$AF$151,L$146-$G$146+2,FALSE)","v":1.3240000000000001},{"$f":"VLOOKUP(Ergebnisse!$P$58,$F$147:$AF$151,M$146-$G$146+2,FALSE)","v":1.4550000000000001},{"$f":"VLOOKUP(Ergebnisse!$P$58,$F$147:$AF$151,N$146-$G$146+2,FALSE)","v":1.6140000000000001},{"$f":"VLOOKUP(Ergebnisse!$P$58,$F$147:$AF$151,O$146-$G$146+2,FALSE)","v":2.8650000000000002},{"$f":"VLOOKUP(Ergebnisse!$P$58,$F$147:$AF$151,P$146-$G$146+2,FALSE)","v":3.8889999999999998},{"$f":"VLOOKUP(Ergebnisse!$P$58,$F$147:$AF$151,Q$146-$G$146+2,FALSE)","v":4.8010000000000002},{"$f":"VLOOKUP(Ergebnisse!$P$58,$F$147:$AF$151,R$146-$G$146+2,FALSE)","v":5.4139999999999997},{"$f":"VLOOKUP(Ergebnisse!$P$58,$F$147:$AF$151,S$146-$G$146+2,FALSE)","v":4.9379999999999997},{"$f":"VLOOKUP(Ergebnisse!$P$58,$F$147:$AF$151,T$146-$G$146+2,FALSE)","v":3.1520000000000001},{"$f":"VLOOKUP(Ergebnisse!$P$58,$F$147:$AF$151,U$146-$G$146+2,FALSE)","v":3.0219999999999998},{"$f":"VLOOKUP(Ergebnisse!$P$58,$F$147:$AF$151,V$146-$G$146+2,FALSE)","v":3.129},{"$f":"VLOOKUP(Ergebnisse!$P$58,$F$147:$AF$151,W$146-$G$146+2,FALSE)","v":3},{"$f":"VLOOKUP(Ergebnisse!$P$58,$F$147:$AF$151,X$146-$G$146+2,FALSE)","v":3},{"$f":"VLOOKUP(Ergebnisse!$P$58,$F$147:$AF$151,Y$146-$G$146+2,FALSE)","v":3},{"$f":"VLOOKUP(Ergebnisse!$P$58,$F$147:$AF$151,Z$146-$G$146+2,FALSE)","v":3},{"$f":"VLOOKUP(Ergebnisse!$P$58,$F$147:$AF$151,AA$146-$G$146+2,FALSE)","v":3},{"$f":"VLOOKUP(Ergebnisse!$P$58,$F$147:$AF$151,AB$146-$G$146+2,FALSE)","v":3},{"$f":"VLOOKUP(Ergebnisse!$P$58,$F$147:$AF$151,AC$146-$G$146+2,FALSE)","v":3},{"$f":"VLOOKUP(Ergebnisse!$P$58,$F$147:$AF$151,AD$146-$G$146+2,FALSE)","v":3},{"$f":"VLOOKUP(Ergebnisse!$P$58,$F$147:$AF$151,AE$146-$G$146+2,FALSE)","v":3},{"$f":"VLOOKUP(Ergebnisse!$P$58,$F$147:$AF$151,AF$146-$G$146+2,FALSE)","v":3}]
[168,null,null,null,null,"Ausscheiden\n aus EEG",{"$f":"-G165","v":0},{"$f":"-H165","v":0},0,0,0,0,0,0,0,0,0,-0.12397249399993626,-0.10863868999999937,-0.11022154999999856,-0.1424465500000025,-0.65602930000000015,-0.924602059999998,-0.84459495000000118,-1.2537511260000045,-1.9795431099999981,-4.4384598400000144,-7.5938763400000333,-8.0003900600000044,-6.8422938800000237,-3.1356207599999868,-1.3240000000000001]
[169]
[]
[]
[null,null,null,null,null,"check: Strommenge aus Bruttozubau, Standardauslastung auch für Vergangenheit, wo normalerweise mit ÜNB-Zahlen überschrieben wird. "]
[null,null,null,null,null,"Wasser",{"$f":"'MOD-Berechnungen'!F74*'MOD-Berechnungen'!F47+'MOD-Berechnungen'!F228","v":0},{"$f":"'MOD-Berechnungen'!G74*'MOD-Berechnungen'!G47+'MOD-Berechnungen'!G228","v":0},{"$f":"'MOD-Berechnungen'!H74*'MOD-Berechnungen'!H47+'MOD-Berechnungen'!H228","v":0},{"$f":"'MOD-Berechnungen'!I74*'MOD-Berechnungen'!I47+'MOD-Berechnungen'!I228","v":0},{"$f":"'MOD-Berechnungen'!J74*'MOD-Berechnungen'!J47+'MOD-Berechnungen'!J228","v":6.3400577197004209},{"$f":"'MOD-Berechnungen'!K74*'MOD-Berechnungen'!K47+(0.5*'MOD-Berechnungen'!K56*'MOD-Berechnungen'!K92)*'MOD-Berechnungen'!K47/1000","v":6.9406353256876816},{"$f":"'MOD-Berechnungen'!L74*'MOD-Berechnungen'!L47+(SUMPRODUCT('MOD-Berechnungen'!$K56:K56,'MOD-Berechnungen'!$K92:K92) + 0.5*'MOD-Berechnungen'!L56*'MOD-Berechnungen'!L92)*'MOD-Berechnungen'!L47/1000","v":7.5586783573676808},{"$f":"'MOD-Berechnungen'!M74*'MOD-Berechnungen'!M47+(SUMPRODUCT('MOD-Berechnungen'!$K56:L56,'MOD-Berechnungen'!$K92:L92) + 0.5*'MOD-Berechnungen'!M56*'MOD-Berechnungen'!M92)*'MOD-Berechnungen'!M47/1000","v":7.6121511643176802},{"$f":"'MOD-Berechnungen'!N74*'MOD-Berechnungen'!N47+(SUMPRODUCT('MOD-Berechnungen'!$K56:M56,'MOD-Berechnungen'!$K92:M92) + 0.5*'MOD-Berechnungen'!N56*'MOD-Berechnungen'!N92)*'MOD-Berechnungen'!N47/1000","v":7.6525023643176802},{"$f":"'MOD-Berechnungen'!O74*'MOD-Berechnungen'!O47+(SUMPRODUCT('MOD-Berechnungen'!$K56:N56,'MOD-Berechnungen'!$K92:N92) + 0.5*'MOD-Berechnungen'!O56*'MOD-Berechnungen'!O92)*'MOD-Berechnungen'!O47/1000","v":7.7157983643176804},{"$f":"'MOD-Berechnungen'!P74*'MOD-Berechnungen'!P47+(SUMPRODUCT('MOD-Berechnungen'!$K56:O56,'MOD-Berechnungen'!$K92:O92) + 0.5*'MOD-Berechnungen'!P56*'MOD-Berechnungen'!P92)*'MOD-Berechnungen'!P47/1000","v":7.7751383643176801},{"$f":"'MOD-Berechnungen'!Q74*'MOD-Berechnungen'!Q47+(SUMPRODUCT('MOD-Berechnungen'!$K56:P56,'MOD-Berechnungen'!$K92:P92) + 0.5*'MOD-Berechnungen'!Q56*'MOD-Berechnungen'!Q92)*'MOD-Berechnungen'!Q47/1000","v":7.8285023643176803},{"$f":"'MOD-Berechnungen'!R74*'MOD-Berechnungen'!R47+(SUMPRODUCT('MOD-Berechnungen'!$K56:Q56,'MOD-Berechnungen'!$K92:Q92) + 0.5*'MOD-Berechnungen'!R56*'MOD-Berechnungen'!R92)*'MOD-Berechnungen'!R47/1000","v":7.8838023643176802},{"$f":"'MOD-Berechnungen'!S74*'MOD-Berechnungen'!S47+(SUMPRODUCT('MOD-Berechnungen'!$K56:R56,'MOD-Berechnungen'!$K92:R92) + 0.5*'MOD-Berechnungen'!S56*'MOD-Berechnungen'!S92)*'MOD-Berechnungen'!S47/1000","v":7.9391023643176801},{"$f":"'MOD-Berechnungen'!T74*'MOD-Berechnungen'!T47+(SUMPRODUCT('MOD-Berechnungen'!$K56:S56,'MOD-Berechnungen'!$K92:S92) + 0.5*'MOD-Berechnungen'!T56*'MOD-Berechnungen'!T92)*'MOD-Berechnungen'!T47/1000","v":7.99447236431768},{"$f":"'MOD-Berechnungen'!U74*'MOD-Berechnungen'!U47+(SUMPRODUCT('MOD-Berechnungen'!$K56:T56,'MOD-Berechnungen'!$K92:T92) + 0.5*'MOD-Berechnungen'!U56*'MOD-Berechnungen'!U92)*'MOD-Berechnungen'!U47/1000","v":8.04984236431768},{"$f":"'MOD-Berechnungen'!V74*'MOD-Berechnungen'!V47+(SUMPRODUCT('MOD-Berechnungen'!$K56:U56,'MOD-Berechnungen'!$K92:U92) + 0.5*'MOD-Berechnungen'!V56*'MOD-Berechnungen'!V92)*'MOD-Berechnungen'!V47/1000","v":8.105142364317679},{"$f":"'MOD-Berechnungen'!W74*'MOD-Berechnungen'!W47+(SUMPRODUCT('MOD-Berechnungen'!$K56:V56,'MOD-Berechnungen'!$K92:V92) + 0.5*'MOD-Berechnungen'!W56*'MOD-Berechnungen'!W92)*'MOD-Berechnungen'!W47/1000","v":8.1604423643176798},{"$f":"'MOD-Berechnungen'!X74*'MOD-Berechnungen'!X47+(SUMPRODUCT('MOD-Berechnungen'!$K56:W56,'MOD-Berechnungen'!$K92:W92) + 0.5*'MOD-Berechnungen'!X56*'MOD-Berechnungen'!X92)*'MOD-Berechnungen'!X47/1000","v":8.2157423643176806},{"$f":"'MOD-Berechnungen'!Y74*'MOD-Berechnungen'!Y47+(SUMPRODUCT('MOD-Berechnungen'!$K56:X56,'MOD-Berechnungen'!$K92:X92) + 0.5*'MOD-Berechnungen'!Y56*'MOD-Berechnungen'!Y92)*'MOD-Berechnungen'!Y47/1000","v":8.2710423643176796},{"$f":"'MOD-Berechnungen'!Z74*'MOD-Berechnungen'!Z47+(SUMPRODUCT('MOD-Berechnungen'!$K56:Y56,'MOD-Berechnungen'!$K92:Y92) + 0.5*'MOD-Berechnungen'!Z56*'MOD-Berechnungen'!Z92)*'MOD-Berechnungen'!Z47/1000","v":7.787360331122005},{"$f":"'MOD-Berechnungen'!AA74*'MOD-Berechnungen'!AA47+(SUMPRODUCT('MOD-Berechnungen'!$K56:Z56,'MOD-Berechnungen'!$K92:Z92) + 0.5*'MOD-Berechnungen'!AA56*'MOD-Berechnungen'!AA92)*'MOD-Berechnungen'!AA47/1000","v":7.3769256923876014},{"$f":"'MOD-Berechnungen'!AB74*'MOD-Berechnungen'!AB47+(SUMPRODUCT('MOD-Berechnungen'!$K56:AA56,'MOD-Berechnungen'!$K92:AA92) + 0.5*'MOD-Berechnungen'!AB56*'MOD-Berechnungen'!AB92)*'MOD-Berechnungen'!AB47/1000","v":7.1112808299348238},{"$f":"'MOD-Berechnungen'!AC74*'MOD-Berechnungen'!AC47+(SUMPRODUCT('MOD-Berechnungen'!$K56:AB56,'MOD-Berechnungen'!$K92:AB92) + 0.5*'MOD-Berechnungen'!AC56*'MOD-Berechnungen'!AC92)*'MOD-Berechnungen'!AC47/1000","v":6.9805806223524591},{"$f":"'MOD-Berechnungen'!AD74*'MOD-Berechnungen'!AD47+(SUMPRODUCT('MOD-Berechnungen'!$K56:AC56,'MOD-Berechnungen'!$K92:AC92) + 0.5*'MOD-Berechnungen'!AD56*'MOD-Berechnungen'!AD92)*'MOD-Berechnungen'!AD47/1000","v":6.4352153951066313},{"$f":"'MOD-Berechnungen'!AE74*'MOD-Berechnungen'!AE47+(SUMPRODUCT('MOD-Berechnungen'!$K56:AD56,'MOD-Berechnungen'!$K92:AD92) + 0.5*'MOD-Berechnungen'!AE56*'MOD-Berechnungen'!AE92)*'MOD-Berechnungen'!AE47/1000","v":6.4398630325921111}]
[null,null,null,null,null,"Gas",{"$f":"'MOD-Berechnungen'!F75*'MOD-Berechnungen'!F48+'MOD-Berechnungen'!F229","v":0},{"$f":"'MOD-Berechnungen'!G75*'MOD-Berechnungen'!G48+'MOD-Berechnungen'!G229","v":0},{"$f":"'MOD-Berechnungen'!H75*'MOD-Berechnungen'!H48+'MOD-Berechnungen'!H229","v":0},{"$f":"'MOD-Berechnungen'!I75*'MOD-Berechnungen'!I48+'MOD-Berechnungen'!I229","v":0},{"$f":"'MOD-Berechnungen'!J75*'MOD-Berechnungen'!J48+'MOD-Berechnungen'!J229","v":1.4340048917520307},{"$f":"'MOD-Berechnungen'!K75*'MOD-Berechnungen'!K48+(0.5*'MOD-Berechnungen'!K57*'MOD-Berechnungen'!K93)*'MOD-Berechnungen'!K48/1000","v":1.5044718322409674},{"$f":"'MOD-Berechnungen'!L75*'MOD-Berechnungen'!L48+(SUMPRODUCT('MOD-Berechnungen'!$K57:K57,'MOD-Berechnungen'!$K93:K93) + 0.5*'MOD-Berechnungen'!L57*'MOD-Berechnungen'!L93)*'MOD-Berechnungen'!L48/1000","v":1.5768024652409671},{"$f":"'MOD-Berechnungen'!M75*'MOD-Berechnungen'!M48+(SUMPRODUCT('MOD-Berechnungen'!$K57:L57,'MOD-Berechnungen'!$K93:L93) + 0.5*'MOD-Berechnungen'!M57*'MOD-Berechnungen'!M93)*'MOD-Berechnungen'!M48/1000","v":1.586078707240967},{"$f":"'MOD-Berechnungen'!N75*'MOD-Berechnungen'!N48+(SUMPRODUCT('MOD-Berechnungen'!$K57:M57,'MOD-Berechnungen'!$K93:M93) + 0.5*'MOD-Berechnungen'!N57*'MOD-Berechnungen'!N93)*'MOD-Berechnungen'!N48/1000","v":1.600732107240967},{"$f":"'MOD-Berechnungen'!O75*'MOD-Berechnungen'!O48+(SUMPRODUCT('MOD-Berechnungen'!$K57:N57,'MOD-Berechnungen'!$K93:N93) + 0.5*'MOD-Berechnungen'!O57*'MOD-Berechnungen'!O93)*'MOD-Berechnungen'!O48/1000","v":1.615718107240967},{"$f":"'MOD-Berechnungen'!P75*'MOD-Berechnungen'!P48+(SUMPRODUCT('MOD-Berechnungen'!$K57:O57,'MOD-Berechnungen'!$K93:O93) + 0.5*'MOD-Berechnungen'!P57*'MOD-Berechnungen'!P93)*'MOD-Berechnungen'!P48/1000","v":1.6227754725805457},{"$f":"'MOD-Berechnungen'!Q75*'MOD-Berechnungen'!Q48+(SUMPRODUCT('MOD-Berechnungen'!$K57:P57,'MOD-Berechnungen'!$K93:P93) + 0.5*'MOD-Berechnungen'!Q57*'MOD-Berechnungen'!Q93)*'MOD-Berechnungen'!Q48/1000","v":1.303853790507838},{"$f":"'MOD-Berechnungen'!R75*'MOD-Berechnungen'!R48+(SUMPRODUCT('MOD-Berechnungen'!$K57:Q57,'MOD-Berechnungen'!$K93:Q93) + 0.5*'MOD-Berechnungen'!R57*'MOD-Berechnungen'!R93)*'MOD-Berechnungen'!R48/1000","v":1.2112554627887644},{"$f":"'MOD-Berechnungen'!S75*'MOD-Berechnungen'!S48+(SUMPRODUCT('MOD-Berechnungen'!$K57:R57,'MOD-Berechnungen'!$K93:R93) + 0.5*'MOD-Berechnungen'!S57*'MOD-Berechnungen'!S93)*'MOD-Berechnungen'!S48/1000","v":0.95201235354246327},{"$f":"'MOD-Berechnungen'!T75*'MOD-Berechnungen'!T48+(SUMPRODUCT('MOD-Berechnungen'!$K57:S57,'MOD-Berechnungen'!$K93:S93) + 0.5*'MOD-Berechnungen'!T57*'MOD-Berechnungen'!T93)*'MOD-Berechnungen'!T48/1000","v":0.6601686407972871},{"$f":"'MOD-Berechnungen'!U75*'MOD-Berechnungen'!U48+(SUMPRODUCT('MOD-Berechnungen'!$K57:T57,'MOD-Berechnungen'!$K93:T93) + 0.5*'MOD-Berechnungen'!U57*'MOD-Berechnungen'!U93)*'MOD-Berechnungen'!U48/1000","v":0.40860814375000387},{"$f":"'MOD-Berechnungen'!V75*'MOD-Berechnungen'!V48+(SUMPRODUCT('MOD-Berechnungen'!$K57:U57,'MOD-Berechnungen'!$K93:U93) + 0.5*'MOD-Berechnungen'!V57*'MOD-Berechnungen'!V93)*'MOD-Berechnungen'!V48/1000","v":0.43037381250002782},{"$f":"'MOD-Berechnungen'!W75*'MOD-Berechnungen'!W48+(SUMPRODUCT('MOD-Berechnungen'!$K57:V57,'MOD-Berechnungen'!$K93:V93) + 0.5*'MOD-Berechnungen'!W57*'MOD-Berechnungen'!W93)*'MOD-Berechnungen'!W48/1000","v":0.45769897492419531},{"$f":"'MOD-Berechnungen'!X75*'MOD-Berechnungen'!X48+(SUMPRODUCT('MOD-Berechnungen'!$K57:W57,'MOD-Berechnungen'!$K93:W93) + 0.5*'MOD-Berechnungen'!X57*'MOD-Berechnungen'!X93)*'MOD-Berechnungen'!X48/1000","v":0.50619864935810421},{"$f":"'MOD-Berechnungen'!Y75*'MOD-Berechnungen'!Y48+(SUMPRODUCT('MOD-Berechnungen'!$K57:X57,'MOD-Berechnungen'!$K93:X93) + 0.5*'MOD-Berechnungen'!Y57*'MOD-Berechnungen'!Y93)*'MOD-Berechnungen'!Y48/1000","v":0.55528787405671887},{"$f":"'MOD-Berechnungen'!Z75*'MOD-Berechnungen'!Z48+(SUMPRODUCT('MOD-Berechnungen'!$K57:Y57,'MOD-Berechnungen'!$K93:Y93) + 0.5*'MOD-Berechnungen'!Z57*'MOD-Berechnungen'!Z93)*'MOD-Berechnungen'!Z48/1000","v":0.5689703864487029},{"$f":"'MOD-Berechnungen'!AA75*'MOD-Berechnungen'!AA48+(SUMPRODUCT('MOD-Berechnungen'!$K57:Z57,'MOD-Berechnungen'!$K93:Z93) + 0.5*'MOD-Berechnungen'!AA57*'MOD-Berechnungen'!AA93)*'MOD-Berechnungen'!AA48/1000","v":0.61446505248598671},{"$f":"'MOD-Berechnungen'!AB75*'MOD-Berechnungen'!AB48+(SUMPRODUCT('MOD-Berechnungen'!$K57:AA57,'MOD-Berechnungen'!$K93:AA93) + 0.5*'MOD-Berechnungen'!AB57*'MOD-Berechnungen'!AB93)*'MOD-Berechnungen'!AB48/1000","v":0.63343939292512386},{"$f":"'MOD-Berechnungen'!AC75*'MOD-Berechnungen'!AC48+(SUMPRODUCT('MOD-Berechnungen'!$K57:AB57,'MOD-Berechnungen'!$K93:AB93) + 0.5*'MOD-Berechnungen'!AC57*'MOD-Berechnungen'!AC93)*'MOD-Berechnungen'!AC48/1000","v":0.68292429018284728},{"$f":"'MOD-Berechnungen'!AD75*'MOD-Berechnungen'!AD48+(SUMPRODUCT('MOD-Berechnungen'!$K57:AC57,'MOD-Berechnungen'!$K93:AC93) + 0.5*'MOD-Berechnungen'!AD57*'MOD-Berechnungen'!AD93)*'MOD-Berechnungen'!AD48/1000","v":0.73089958093090224},{"$f":"'MOD-Berechnungen'!AE75*'MOD-Berechnungen'!AE48+(SUMPRODUCT('MOD-Berechnungen'!$K57:AD57,'MOD-Berechnungen'!$K93:AD93) + 0.5*'MOD-Berechnungen'!AE57*'MOD-Berechnungen'!AE93)*'MOD-Berechnungen'!AE48/1000","v":0.77500150417525038}]
[null,null,null,null,null,"Biomasse",{"$f":"'MOD-Berechnungen'!F76*'MOD-Berechnungen'!F49+'MOD-Berechnungen'!F230","v":0},{"$f":"'MOD-Berechnungen'!G76*'MOD-Berechnungen'!G49+'MOD-Berechnungen'!G230","v":0},{"$f":"'MOD-Berechnungen'!H76*'MOD-Berechnungen'!H49+'MOD-Berechnungen'!H230","v":0},{"$f":"'MOD-Berechnungen'!I76*'MOD-Berechnungen'!I49+'MOD-Berechnungen'!I230","v":0},{"$f":"'MOD-Berechnungen'!J76*'MOD-Berechnungen'!J49+'MOD-Berechnungen'!J230","v":38.108395000000002},{"$f":"'MOD-Berechnungen'!K76*'MOD-Berechnungen'!K49+(0.5*'MOD-Berechnungen'!K58*'MOD-Berechnungen'!K94)*'MOD-Berechnungen'!K49/1000","v":38.765906340000001},{"$f":"'MOD-Berechnungen'!L76*'MOD-Berechnungen'!L49+(SUMPRODUCT('MOD-Berechnungen'!$K58:K58,'MOD-Berechnungen'!$K94:K94) + 0.5*'MOD-Berechnungen'!L58*'MOD-Berechnungen'!L94)*'MOD-Berechnungen'!L49/1000","v":39.873361680000002},{"$f":"'MOD-Berechnungen'!M76*'MOD-Berechnungen'!M49+(SUMPRODUCT('MOD-Berechnungen'!$K58:L58,'MOD-Berechnungen'!$K94:L94) + 0.5*'MOD-Berechnungen'!M58*'MOD-Berechnungen'!M94)*'MOD-Berechnungen'!M49/1000","v":40.936879680000004},{"$f":"'MOD-Berechnungen'!N76*'MOD-Berechnungen'!N49+(SUMPRODUCT('MOD-Berechnungen'!$K58:M58,'MOD-Berechnungen'!$K94:M94) + 0.5*'MOD-Berechnungen'!N58*'MOD-Berechnungen'!N94)*'MOD-Berechnungen'!N49/1000","v":42.405475842000001},{"$f":"'MOD-Berechnungen'!O76*'MOD-Berechnungen'!O49+(SUMPRODUCT('MOD-Berechnungen'!$K58:N58,'MOD-Berechnungen'!$K94:N94) + 0.5*'MOD-Berechnungen'!O58*'MOD-Berechnungen'!O94)*'MOD-Berechnungen'!O49/1000","v":43.925565322000004},{"$f":"'MOD-Berechnungen'!P76*'MOD-Berechnungen'!P49+(SUMPRODUCT('MOD-Berechnungen'!$K58:O58,'MOD-Berechnungen'!$K94:O94) + 0.5*'MOD-Berechnungen'!P58*'MOD-Berechnungen'!P94)*'MOD-Berechnungen'!P49/1000","v":44.942632640000006},{"$f":"'MOD-Berechnungen'!Q76*'MOD-Berechnungen'!Q49+(SUMPRODUCT('MOD-Berechnungen'!$K58:P58,'MOD-Berechnungen'!$K94:P94) + 0.5*'MOD-Berechnungen'!Q58*'MOD-Berechnungen'!Q94)*'MOD-Berechnungen'!Q49/1000","v":44.557213274150008},{"$f":"'MOD-Berechnungen'!R76*'MOD-Berechnungen'!R49+(SUMPRODUCT('MOD-Berechnungen'!$K58:Q58,'MOD-Berechnungen'!$K94:Q94) + 0.5*'MOD-Berechnungen'!R58*'MOD-Berechnungen'!R94)*'MOD-Berechnungen'!R49/1000","v":43.822162825150002},{"$f":"'MOD-Berechnungen'!S76*'MOD-Berechnungen'!S49+(SUMPRODUCT('MOD-Berechnungen'!$K58:R58,'MOD-Berechnungen'!$K94:R94) + 0.5*'MOD-Berechnungen'!S58*'MOD-Berechnungen'!S94)*'MOD-Berechnungen'!S49/1000","v":43.188066283349997},{"$f":"'MOD-Berechnungen'!T76*'MOD-Berechnungen'!T49+(SUMPRODUCT('MOD-Berechnungen'!$K58:S58,'MOD-Berechnungen'!$K94:S94) + 0.5*'MOD-Berechnungen'!T58*'MOD-Berechnungen'!T94)*'MOD-Berechnungen'!T49/1000","v":42.053939731600003},{"$f":"'MOD-Berechnungen'!U76*'MOD-Berechnungen'!U49+(SUMPRODUCT('MOD-Berechnungen'!$K58:T58,'MOD-Berechnungen'!$K94:T94) + 0.5*'MOD-Berechnungen'!U58*'MOD-Berechnungen'!U94)*'MOD-Berechnungen'!U49/1000","v":39.021038052649999},{"$f":"'MOD-Berechnungen'!V76*'MOD-Berechnungen'!V49+(SUMPRODUCT('MOD-Berechnungen'!$K58:U58,'MOD-Berechnungen'!$K94:U94) + 0.5*'MOD-Berechnungen'!V58*'MOD-Berechnungen'!V94)*'MOD-Berechnungen'!V49/1000","v":35.611423760150004},{"$f":"'MOD-Berechnungen'!W76*'MOD-Berechnungen'!W49+(SUMPRODUCT('MOD-Berechnungen'!$K58:V58,'MOD-Berechnungen'!$K94:V94) + 0.5*'MOD-Berechnungen'!W58*'MOD-Berechnungen'!W94)*'MOD-Berechnungen'!W49/1000","v":31.658372381999996},{"$f":"'MOD-Berechnungen'!X76*'MOD-Berechnungen'!X49+(SUMPRODUCT('MOD-Berechnungen'!$K58:W58,'MOD-Berechnungen'!$K94:W94) + 0.5*'MOD-Berechnungen'!X58*'MOD-Berechnungen'!X94)*'MOD-Berechnungen'!X49/1000","v":28.86841248},{"$f":"'MOD-Berechnungen'!Y76*'MOD-Berechnungen'!Y49+(SUMPRODUCT('MOD-Berechnungen'!$K58:X58,'MOD-Berechnungen'!$K94:X94) + 0.5*'MOD-Berechnungen'!Y58*'MOD-Berechnungen'!Y94)*'MOD-Berechnungen'!Y49/1000","v":27.665878257999999},{"$f":"'MOD-Berechnungen'!Z76*'MOD-Berechnungen'!Z49+(SUMPRODUCT('MOD-Berechnungen'!$K58:Y58,'MOD-Berechnungen'!$K94:Y94) + 0.5*'MOD-Berechnungen'!Z58*'MOD-Berechnungen'!Z94)*'MOD-Berechnungen'!Z49/1000","v":25.914437418000002},{"$f":"'MOD-Berechnungen'!AA76*'MOD-Berechnungen'!AA49+(SUMPRODUCT('MOD-Berechnungen'!$K58:Z58,'MOD-Berechnungen'!$K94:Z94) + 0.5*'MOD-Berechnungen'!AA58*'MOD-Berechnungen'!AA94)*'MOD-Berechnungen'!AA49/1000","v":23.143539000000004},{"$f":"'MOD-Berechnungen'!AB76*'MOD-Berechnungen'!AB49+(SUMPRODUCT('MOD-Berechnungen'!$K58:AA58,'MOD-Berechnungen'!$K94:AA94) + 0.5*'MOD-Berechnungen'!AB58*'MOD-Berechnungen'!AB94)*'MOD-Berechnungen'!AB49/1000","v":18.023683393700004},{"$f":"'MOD-Berechnungen'!AC76*'MOD-Berechnungen'!AC49+(SUMPRODUCT('MOD-Berechnungen'!$K58:AB58,'MOD-Berechnungen'!$K94:AB94) + 0.5*'MOD-Berechnungen'!AC58*'MOD-Berechnungen'!AC94)*'MOD-Berechnungen'!AC49/1000","v":16.952371750200001},{"$f":"'MOD-Berechnungen'!AD76*'MOD-Berechnungen'!AD49+(SUMPRODUCT('MOD-Berechnungen'!$K58:AC58,'MOD-Berechnungen'!$K94:AC94) + 0.5*'MOD-Berechnungen'!AD58*'MOD-Berechnungen'!AD94)*'MOD-Berechnungen'!AD49/1000","v":16.315508084650002},{"$f":"'MOD-Berechnungen'!AE76*'MOD-Berechnungen'!AE49+(SUMPRODUCT('MOD-Berechnungen'!$K58:AD58,'MOD-Berechnungen'!$K94:AD94) + 0.5*'MOD-Berechnungen'!AE58*'MOD-Berechnungen'!AE94)*'MOD-Berechnungen'!AE49/1000","v":15.938237640000002}]
[null,null,null,null,null,"Geothermie",{"$f":"'MOD-Berechnungen'!F77*'MOD-Berechnungen'!F50+'MOD-Berechnungen'!F231","v":0},{"$f":"'MOD-Berechnungen'!G77*'MOD-Berechnungen'!G50+'MOD-Berechnungen'!G231","v":0},{"$f":"'MOD-Berechnungen'!H77*'MOD-Berechnungen'!H50+'MOD-Berechnungen'!H231","v":0},{"$f":"'MOD-Berechnungen'!I77*'MOD-Berechnungen'!I50+'MOD-Berechnungen'!I231","v":0},{"$f":"'MOD-Berechnungen'!J77*'MOD-Berechnungen'!J50+'MOD-Berechnungen'!J231","v":0.14134193593954347},{"$f":"'MOD-Berechnungen'!K77*'MOD-Berechnungen'!K50+(0.5*'MOD-Berechnungen'!K59*'MOD-Berechnungen'!K95)*'MOD-Berechnungen'!K50/1000","v":0.14968884020373421},{"$f":"'MOD-Berechnungen'!L77*'MOD-Berechnungen'!L50+(SUMPRODUCT('MOD-Berechnungen'!$K59:K59,'MOD-Berechnungen'!$K95:K95) + 0.5*'MOD-Berechnungen'!L59*'MOD-Berechnungen'!L95)*'MOD-Berechnungen'!L50/1000","v":0.1605413402037342},{"$f":"'MOD-Berechnungen'!M77*'MOD-Berechnungen'!M50+(SUMPRODUCT('MOD-Berechnungen'!$K59:L59,'MOD-Berechnungen'!$K95:L95) + 0.5*'MOD-Berechnungen'!M59*'MOD-Berechnungen'!M95)*'MOD-Berechnungen'!M50/1000","v":0.17769784020373419},{"$f":"'MOD-Berechnungen'!N77*'MOD-Berechnungen'!N50+(SUMPRODUCT('MOD-Berechnungen'!$K59:M59,'MOD-Berechnungen'!$K95:M95) + 0.5*'MOD-Berechnungen'!N59*'MOD-Berechnungen'!N95)*'MOD-Berechnungen'!N50/1000","v":0.19976184020373419},{"$f":"'MOD-Berechnungen'!O77*'MOD-Berechnungen'!O50+(SUMPRODUCT('MOD-Berechnungen'!$K59:N59,'MOD-Berechnungen'!$K95:N95) + 0.5*'MOD-Berechnungen'!O59*'MOD-Berechnungen'!O95)*'MOD-Berechnungen'!O50/1000","v":0.22833384020373421},{"$f":"'MOD-Berechnungen'!P77*'MOD-Berechnungen'!P50+(SUMPRODUCT('MOD-Berechnungen'!$K59:O59,'MOD-Berechnungen'!$K95:O95) + 0.5*'MOD-Berechnungen'!P59*'MOD-Berechnungen'!P95)*'MOD-Berechnungen'!P50/1000","v":0.2547883402037342},{"$f":"'MOD-Berechnungen'!Q77*'MOD-Berechnungen'!Q50+(SUMPRODUCT('MOD-Berechnungen'!$K59:P59,'MOD-Berechnungen'!$K95:P95) + 0.5*'MOD-Berechnungen'!Q59*'MOD-Berechnungen'!Q95)*'MOD-Berechnungen'!Q50/1000","v":0.29451734020373421},{"$f":"'MOD-Berechnungen'!R77*'MOD-Berechnungen'!R50+(SUMPRODUCT('MOD-Berechnungen'!$K59:Q59,'MOD-Berechnungen'!$K95:Q95) + 0.5*'MOD-Berechnungen'!R59*'MOD-Berechnungen'!R95)*'MOD-Berechnungen'!R50/1000","v":0.39306634020373421},{"$f":"'MOD-Berechnungen'!S77*'MOD-Berechnungen'!S50+(SUMPRODUCT('MOD-Berechnungen'!$K59:R59,'MOD-Berechnungen'!$K95:R95) + 0.5*'MOD-Berechnungen'!S59*'MOD-Berechnungen'!S95)*'MOD-Berechnungen'!S50/1000","v":0.50610784020373423},{"$f":"'MOD-Berechnungen'!T77*'MOD-Berechnungen'!T50+(SUMPRODUCT('MOD-Berechnungen'!$K59:S59,'MOD-Berechnungen'!$K95:S95) + 0.5*'MOD-Berechnungen'!T59*'MOD-Berechnungen'!T95)*'MOD-Berechnungen'!T50/1000","v":0.56413184020373419},{"$f":"'MOD-Berechnungen'!U77*'MOD-Berechnungen'!U50+(SUMPRODUCT('MOD-Berechnungen'!$K59:T59,'MOD-Berechnungen'!$K95:T95) + 0.5*'MOD-Berechnungen'!U59*'MOD-Berechnungen'!U95)*'MOD-Berechnungen'!U50/1000","v":0.59896784020373417},{"$f":"'MOD-Berechnungen'!V77*'MOD-Berechnungen'!V50+(SUMPRODUCT('MOD-Berechnungen'!$K59:U59,'MOD-Berechnungen'!$K95:U95) + 0.5*'MOD-Berechnungen'!V59*'MOD-Berechnungen'!V95)*'MOD-Berechnungen'!V50/1000","v":0.64534384020373414},{"$f":"'MOD-Berechnungen'!W77*'MOD-Berechnungen'!W50+(SUMPRODUCT('MOD-Berechnungen'!$K59:V59,'MOD-Berechnungen'!$K95:V95) + 0.5*'MOD-Berechnungen'!W59*'MOD-Berechnungen'!W95)*'MOD-Berechnungen'!W50/1000","v":0.70331384020373422},{"$f":"'MOD-Berechnungen'!X77*'MOD-Berechnungen'!X50+(SUMPRODUCT('MOD-Berechnungen'!$K59:W59,'MOD-Berechnungen'!$K95:W95) + 0.5*'MOD-Berechnungen'!X59*'MOD-Berechnungen'!X95)*'MOD-Berechnungen'!X50/1000","v":0.76128384020373419},{"$f":"'MOD-Berechnungen'!Y77*'MOD-Berechnungen'!Y50+(SUMPRODUCT('MOD-Berechnungen'!$K59:X59,'MOD-Berechnungen'!$K95:X95) + 0.5*'MOD-Berechnungen'!Y59*'MOD-Berechnungen'!Y95)*'MOD-Berechnungen'!Y50/1000","v":0.81925384020373426},{"$f":"'MOD-Berechnungen'!Z77*'MOD-Berechnungen'!Z50+(SUMPRODUCT('MOD-Berechnungen'!$K59:Y59,'MOD-Berechnungen'!$K95:Y95) + 0.5*'MOD-Berechnungen'!Z59*'MOD-Berechnungen'!Z95)*'MOD-Berechnungen'!Z50/1000","v":0.86780779747116288},{"$f":"'MOD-Berechnungen'!AA77*'MOD-Berechnungen'!AA50+(SUMPRODUCT('MOD-Berechnungen'!$K59:Z59,'MOD-Berechnungen'!$K95:Z95) + 0.5*'MOD-Berechnungen'!AA59*'MOD-Berechnungen'!AA95)*'MOD-Berechnungen'!AA50/1000","v":0.92577779747116296},{"$f":"'MOD-Berechnungen'!AB77*'MOD-Berechnungen'!AB50+(SUMPRODUCT('MOD-Berechnungen'!$K59:AA59,'MOD-Berechnungen'!$K95:AA95) + 0.5*'MOD-Berechnungen'!AB59*'MOD-Berechnungen'!AB95)*'MOD-Berechnungen'!AB50/1000","v":0.98374779747116292},{"$f":"'MOD-Berechnungen'!AC77*'MOD-Berechnungen'!AC50+(SUMPRODUCT('MOD-Berechnungen'!$K59:AB59,'MOD-Berechnungen'!$K95:AB95) + 0.5*'MOD-Berechnungen'!AC59*'MOD-Berechnungen'!AC95)*'MOD-Berechnungen'!AC50/1000","v":0.98161971048201424},{"$f":"'MOD-Berechnungen'!AD77*'MOD-Berechnungen'!AD50+(SUMPRODUCT('MOD-Berechnungen'!$K59:AC59,'MOD-Berechnungen'!$K95:AC95) + 0.5*'MOD-Berechnungen'!AD59*'MOD-Berechnungen'!AD95)*'MOD-Berechnungen'!AD50/1000","v":0.97610880852838178},{"$f":"'MOD-Berechnungen'!AE77*'MOD-Berechnungen'!AE50+(SUMPRODUCT('MOD-Berechnungen'!$K59:AD59,'MOD-Berechnungen'!$K95:AD95) + 0.5*'MOD-Berechnungen'!AE59*'MOD-Berechnungen'!AE95)*'MOD-Berechnungen'!AE50/1000","v":1.0173850000000002}]
[null,null,null,null,null,"Wind Onshore",{"$f":"'MOD-Berechnungen'!F78*'MOD-Berechnungen'!F51+'MOD-Berechnungen'!F232","v":0},{"$f":"'MOD-Berechnungen'!G78*'MOD-Berechnungen'!G51+'MOD-Berechnungen'!G232","v":0},{"$f":"'MOD-Berechnungen'!H78*'MOD-Berechnungen'!H51+'MOD-Berechnungen'!H232","v":0},{"$f":"'MOD-Berechnungen'!I78*'MOD-Berechnungen'!I51+'MOD-Berechnungen'!I232","v":0},{"$f":"'MOD-Berechnungen'!J78*'MOD-Berechnungen'!J51+'MOD-Berechnungen'!J232","v":61.583939999999998},{"$f":"'MOD-Berechnungen'!K78*'MOD-Berechnungen'!K51+(0.5*'MOD-Berechnungen'!K60*'MOD-Berechnungen'!K96)*'MOD-Berechnungen'!K51/1000","v":65.677954279067578},{"$f":"'MOD-Berechnungen'!L78*'MOD-Berechnungen'!L51+(SUMPRODUCT('MOD-Berechnungen'!$K60:K60,'MOD-Berechnungen'!$K96:K96) + 0.5*'MOD-Berechnungen'!L60*'MOD-Berechnungen'!L96)*'MOD-Berechnungen'!L51/1000","v":74.540582551365191},{"$f":"'MOD-Berechnungen'!M78*'MOD-Berechnungen'!M51+(SUMPRODUCT('MOD-Berechnungen'!$K60:L60,'MOD-Berechnungen'!$K96:L96) + 0.5*'MOD-Berechnungen'!M60*'MOD-Berechnungen'!M96)*'MOD-Berechnungen'!M51/1000","v":85.56855882674995},{"$f":"'MOD-Berechnungen'!N78*'MOD-Berechnungen'!N51+(SUMPRODUCT('MOD-Berechnungen'!$K60:M60,'MOD-Berechnungen'!$K96:M96) + 0.5*'MOD-Berechnungen'!N60*'MOD-Berechnungen'!N96)*'MOD-Berechnungen'!N51/1000","v":94.207406778838191},{"$f":"'MOD-Berechnungen'!O78*'MOD-Berechnungen'!O51+(SUMPRODUCT('MOD-Berechnungen'!$K60:N60,'MOD-Berechnungen'!$K96:N96) + 0.5*'MOD-Berechnungen'!O60*'MOD-Berechnungen'!O96)*'MOD-Berechnungen'!O51/1000","v":98.017911566507593},{"$f":"'MOD-Berechnungen'!P78*'MOD-Berechnungen'!P51+(SUMPRODUCT('MOD-Berechnungen'!$K60:O60,'MOD-Berechnungen'!$K96:O96) + 0.5*'MOD-Berechnungen'!P60*'MOD-Berechnungen'!P96)*'MOD-Berechnungen'!P51/1000","v":100.60961732445935},{"$f":"'MOD-Berechnungen'!Q78*'MOD-Berechnungen'!Q51+(SUMPRODUCT('MOD-Berechnungen'!$K60:P60,'MOD-Berechnungen'!$K96:P96) + 0.5*'MOD-Berechnungen'!Q60*'MOD-Berechnungen'!Q96)*'MOD-Berechnungen'!Q51/1000","v":101.39113976134109},{"$f":"'MOD-Berechnungen'!R78*'MOD-Berechnungen'!R51+(SUMPRODUCT('MOD-Berechnungen'!$K60:Q60,'MOD-Berechnungen'!$K96:Q96) + 0.5*'MOD-Berechnungen'!R60*'MOD-Berechnungen'!R96)*'MOD-Berechnungen'!R51/1000","v":101.14709862971696},{"$f":"'MOD-Berechnungen'!S78*'MOD-Berechnungen'!S51+(SUMPRODUCT('MOD-Berechnungen'!$K60:R60,'MOD-Berechnungen'!$K96:R96) + 0.5*'MOD-Berechnungen'!S60*'MOD-Berechnungen'!S96)*'MOD-Berechnungen'!S51/1000","v":101.01941617138696},{"$f":"'MOD-Berechnungen'!T78*'MOD-Berechnungen'!T51+(SUMPRODUCT('MOD-Berechnungen'!$K60:S60,'MOD-Berechnungen'!$K96:S96) + 0.5*'MOD-Berechnungen'!T60*'MOD-Berechnungen'!T96)*'MOD-Berechnungen'!T51/1000","v":102.11026625538696},{"$f":"'MOD-Berechnungen'!U78*'MOD-Berechnungen'!U51+(SUMPRODUCT('MOD-Berechnungen'!$K60:T60,'MOD-Berechnungen'!$K96:T96) + 0.5*'MOD-Berechnungen'!U60*'MOD-Berechnungen'!U96)*'MOD-Berechnungen'!U51/1000","v":104.51074312838696},{"$f":"'MOD-Berechnungen'!V78*'MOD-Berechnungen'!V51+(SUMPRODUCT('MOD-Berechnungen'!$K60:U60,'MOD-Berechnungen'!$K96:U96) + 0.5*'MOD-Berechnungen'!V60*'MOD-Berechnungen'!V96)*'MOD-Berechnungen'!V51/1000","v":107.52490391888696},{"$f":"'MOD-Berechnungen'!W78*'MOD-Berechnungen'!W51+(SUMPRODUCT('MOD-Berechnungen'!$K60:V60,'MOD-Berechnungen'!$K96:V96) + 0.5*'MOD-Berechnungen'!W60*'MOD-Berechnungen'!W96)*'MOD-Berechnungen'!W51/1000","v":109.97640911288698},{"$f":"'MOD-Berechnungen'!X78*'MOD-Berechnungen'!X51+(SUMPRODUCT('MOD-Berechnungen'!$K60:W60,'MOD-Berechnungen'!$K96:W96) + 0.5*'MOD-Berechnungen'!X60*'MOD-Berechnungen'!X96)*'MOD-Berechnungen'!X51/1000","v":113.39152408348697},{"$f":"'MOD-Berechnungen'!Y78*'MOD-Berechnungen'!Y51+(SUMPRODUCT('MOD-Berechnungen'!$K60:X60,'MOD-Berechnungen'!$K96:X96) + 0.5*'MOD-Berechnungen'!Y60*'MOD-Berechnungen'!Y96)*'MOD-Berechnungen'!Y51/1000","v":118.35405414405841},{"$f":"'MOD-Berechnungen'!Z78*'MOD-Berechnungen'!Z51+(SUMPRODUCT('MOD-Berechnungen'!$K60:Y60,'MOD-Berechnungen'!$K96:Y96) + 0.5*'MOD-Berechnungen'!Z60*'MOD-Berechnungen'!Z96)*'MOD-Berechnungen'!Z51/1000","v":120.19818112358982},{"$f":"'MOD-Berechnungen'!AA78*'MOD-Berechnungen'!AA51+(SUMPRODUCT('MOD-Berechnungen'!$K60:Z60,'MOD-Berechnungen'!$K96:Z96) + 0.5*'MOD-Berechnungen'!AA60*'MOD-Berechnungen'!AA96)*'MOD-Berechnungen'!AA51/1000","v":124.1537809432065},{"$f":"'MOD-Berechnungen'!AB78*'MOD-Berechnungen'!AB51+(SUMPRODUCT('MOD-Berechnungen'!$K60:AA60,'MOD-Berechnungen'!$K96:AA96) + 0.5*'MOD-Berechnungen'!AB60*'MOD-Berechnungen'!AB96)*'MOD-Berechnungen'!AB51/1000","v":127.39514615025315},{"$f":"'MOD-Berechnungen'!AC78*'MOD-Berechnungen'!AC51+(SUMPRODUCT('MOD-Berechnungen'!$K60:AB60,'MOD-Berechnungen'!$K96:AB96) + 0.5*'MOD-Berechnungen'!AC60*'MOD-Berechnungen'!AC96)*'MOD-Berechnungen'!AC51/1000","v":129.76281074918862},{"$f":"'MOD-Berechnungen'!AD78*'MOD-Berechnungen'!AD51+(SUMPRODUCT('MOD-Berechnungen'!$K60:AC60,'MOD-Berechnungen'!$K96:AC96) + 0.5*'MOD-Berechnungen'!AD60*'MOD-Berechnungen'!AD96)*'MOD-Berechnungen'!AD51/1000","v":131.14451536350407},{"$f":"'MOD-Berechnungen'!AE78*'MOD-Berechnungen'!AE51+(SUMPRODUCT('MOD-Berechnungen'!$K60:AD60,'MOD-Berechnungen'!$K96:AD96) + 0.5*'MOD-Berechnungen'!AE60*'MOD-Berechnungen'!AE96)*'MOD-Berechnungen'!AE51/1000","v":129.73734282219408}]
[null,null,null,null,null,"Wind Offshore",{"$f":"'MOD-Berechnungen'!F79*'MOD-Berechnungen'!F52+'MOD-Berechnungen'!F233","v":0},{"$f":"'MOD-Berechnungen'!G79*'MOD-Berechnungen'!G52+'MOD-Berechnungen'!G233","v":0},{"$f":"'MOD-Berechnungen'!H79*'MOD-Berechnungen'!H52+'MOD-Berechnungen'!H233","v":0},{"$f":"'MOD-Berechnungen'!I79*'MOD-Berechnungen'!I52+'MOD-Berechnungen'!I233","v":0},{"$f":"'MOD-Berechnungen'!J79*'MOD-Berechnungen'!J52+'MOD-Berechnungen'!J233","v":3.4412280000000002},{"$f":"'MOD-Berechnungen'!K79*'MOD-Berechnungen'!K52+(0.5*'MOD-Berechnungen'!K61*'MOD-Berechnungen'!K97)*'MOD-Berechnungen'!K52/1000","v":7.4034870000000002},{"$f":"'MOD-Berechnungen'!L79*'MOD-Berechnungen'!L52+(SUMPRODUCT('MOD-Berechnungen'!$K61:K61,'MOD-Berechnungen'!$K97:K97) + 0.5*'MOD-Berechnungen'!L61*'MOD-Berechnungen'!L97)*'MOD-Berechnungen'!L52/1000","v":12.913435000000002},{"$f":"'MOD-Berechnungen'!M79*'MOD-Berechnungen'!M52+(SUMPRODUCT('MOD-Berechnungen'!$K61:L61,'MOD-Berechnungen'!$K97:L97) + 0.5*'MOD-Berechnungen'!M61*'MOD-Berechnungen'!M97)*'MOD-Berechnungen'!M52/1000","v":16.757198000000002},{"$f":"'MOD-Berechnungen'!N79*'MOD-Berechnungen'!N52+(SUMPRODUCT('MOD-Berechnungen'!$K61:M61,'MOD-Berechnungen'!$K97:M97) + 0.5*'MOD-Berechnungen'!N61*'MOD-Berechnungen'!N97)*'MOD-Berechnungen'!N52/1000","v":20.909818999999999},{"$f":"'MOD-Berechnungen'!O79*'MOD-Berechnungen'!O52+(SUMPRODUCT('MOD-Berechnungen'!$K61:N61,'MOD-Berechnungen'!$K97:N97) + 0.5*'MOD-Berechnungen'!O61*'MOD-Berechnungen'!O97)*'MOD-Berechnungen'!O52/1000","v":24.958051000000001},{"$f":"'MOD-Berechnungen'!P79*'MOD-Berechnungen'!P52+(SUMPRODUCT('MOD-Berechnungen'!$K61:O61,'MOD-Berechnungen'!$K97:O97) + 0.5*'MOD-Berechnungen'!P61*'MOD-Berechnungen'!P97)*'MOD-Berechnungen'!P52/1000","v":27.583575},{"$f":"'MOD-Berechnungen'!Q79*'MOD-Berechnungen'!Q52+(SUMPRODUCT('MOD-Berechnungen'!$K61:P61,'MOD-Berechnungen'!$K97:P97) + 0.5*'MOD-Berechnungen'!Q61*'MOD-Berechnungen'!Q97)*'MOD-Berechnungen'!Q52/1000","v":28.017413999999999},{"$f":"'MOD-Berechnungen'!R79*'MOD-Berechnungen'!R52+(SUMPRODUCT('MOD-Berechnungen'!$K61:Q61,'MOD-Berechnungen'!$K97:Q97) + 0.5*'MOD-Berechnungen'!R61*'MOD-Berechnungen'!R97)*'MOD-Berechnungen'!R52/1000","v":28.747584},{"$f":"'MOD-Berechnungen'!S79*'MOD-Berechnungen'!S52+(SUMPRODUCT('MOD-Berechnungen'!$K61:R61,'MOD-Berechnungen'!$K97:R97) + 0.5*'MOD-Berechnungen'!S61*'MOD-Berechnungen'!S97)*'MOD-Berechnungen'!S52/1000","v":31.574978999999999},{"$f":"'MOD-Berechnungen'!T79*'MOD-Berechnungen'!T52+(SUMPRODUCT('MOD-Berechnungen'!$K61:S61,'MOD-Berechnungen'!$K97:S97) + 0.5*'MOD-Berechnungen'!T61*'MOD-Berechnungen'!T97)*'MOD-Berechnungen'!T52/1000","v":35.634204000000004},{"$f":"'MOD-Berechnungen'!U79*'MOD-Berechnungen'!U52+(SUMPRODUCT('MOD-Berechnungen'!$K61:T61,'MOD-Berechnungen'!$K97:T97) + 0.5*'MOD-Berechnungen'!U61*'MOD-Berechnungen'!U97)*'MOD-Berechnungen'!U52/1000","v":39.609204000000005},{"$f":"'MOD-Berechnungen'!V79*'MOD-Berechnungen'!V52+(SUMPRODUCT('MOD-Berechnungen'!$K61:U61,'MOD-Berechnungen'!$K97:U97) + 0.5*'MOD-Berechnungen'!V61*'MOD-Berechnungen'!V97)*'MOD-Berechnungen'!V52/1000","v":43.660704000000003},{"$f":"'MOD-Berechnungen'!W79*'MOD-Berechnungen'!W52+(SUMPRODUCT('MOD-Berechnungen'!$K61:V61,'MOD-Berechnungen'!$K97:V97) + 0.5*'MOD-Berechnungen'!W61*'MOD-Berechnungen'!W97)*'MOD-Berechnungen'!W52/1000","v":47.753004000000004},{"$f":"'MOD-Berechnungen'!X79*'MOD-Berechnungen'!X52+(SUMPRODUCT('MOD-Berechnungen'!$K61:W61,'MOD-Berechnungen'!$K97:W97) + 0.5*'MOD-Berechnungen'!X61*'MOD-Berechnungen'!X97)*'MOD-Berechnungen'!X52/1000","v":51.870804000000007},{"$f":"'MOD-Berechnungen'!Y79*'MOD-Berechnungen'!Y52+(SUMPRODUCT('MOD-Berechnungen'!$K61:X61,'MOD-Berechnungen'!$K97:X97) + 0.5*'MOD-Berechnungen'!Y61*'MOD-Berechnungen'!Y97)*'MOD-Berechnungen'!Y52/1000","v":56.006089714285721},{"$f":"'MOD-Berechnungen'!Z79*'MOD-Berechnungen'!Z52+(SUMPRODUCT('MOD-Berechnungen'!$K61:Y61,'MOD-Berechnungen'!$K97:Y97) + 0.5*'MOD-Berechnungen'!Z61*'MOD-Berechnungen'!Z97)*'MOD-Berechnungen'!Z52/1000","v":60.044033828571429},{"$f":"'MOD-Berechnungen'!AA79*'MOD-Berechnungen'!AA52+(SUMPRODUCT('MOD-Berechnungen'!$K61:Z61,'MOD-Berechnungen'!$K97:Z97) + 0.5*'MOD-Berechnungen'!AA61*'MOD-Berechnungen'!AA97)*'MOD-Berechnungen'!AA52/1000","v":64.045993828571426},{"$f":"'MOD-Berechnungen'!AB79*'MOD-Berechnungen'!AB52+(SUMPRODUCT('MOD-Berechnungen'!$K61:AA61,'MOD-Berechnungen'!$K97:AA97) + 0.5*'MOD-Berechnungen'!AB61*'MOD-Berechnungen'!AB97)*'MOD-Berechnungen'!AB52/1000","v":67.836459228571442},{"$f":"'MOD-Berechnungen'!AC79*'MOD-Berechnungen'!AC52+(SUMPRODUCT('MOD-Berechnungen'!$K61:AB61,'MOD-Berechnungen'!$K97:AB97) + 0.5*'MOD-Berechnungen'!AC61*'MOD-Berechnungen'!AC97)*'MOD-Berechnungen'!AC52/1000","v":71.731081046753246},{"$f":"'MOD-Berechnungen'!AD79*'MOD-Berechnungen'!AD52+(SUMPRODUCT('MOD-Berechnungen'!$K61:AC61,'MOD-Berechnungen'!$K97:AC97) + 0.5*'MOD-Berechnungen'!AD61*'MOD-Berechnungen'!AD97)*'MOD-Berechnungen'!AD52/1000","v":75.076882864935058},{"$f":"'MOD-Berechnungen'!AE79*'MOD-Berechnungen'!AE52+(SUMPRODUCT('MOD-Berechnungen'!$K61:AD61,'MOD-Berechnungen'!$K97:AD97) + 0.5*'MOD-Berechnungen'!AE61*'MOD-Berechnungen'!AE97)*'MOD-Berechnungen'!AE52/1000","v":77.588811064935058}]
[null,null,null,null,null,"Solar",{"$f":"'MOD-Berechnungen'!F80*'MOD-Berechnungen'!F53+'MOD-Berechnungen'!F234","v":0},{"$f":"'MOD-Berechnungen'!G80*'MOD-Berechnungen'!G53+'MOD-Berechnungen'!G234","v":0},{"$f":"'MOD-Berechnungen'!H80*'MOD-Berechnungen'!H53+'MOD-Berechnungen'!H234","v":0},{"$f":"'MOD-Berechnungen'!I80*'MOD-Berechnungen'!I53+'MOD-Berechnungen'!I234","v":0},{"$f":"'MOD-Berechnungen'!J80*'MOD-Berechnungen'!J53+'MOD-Berechnungen'!J234","v":36.384},{"$f":"'MOD-Berechnungen'!K80*'MOD-Berechnungen'!K53+(0.5*'MOD-Berechnungen'!K62*'MOD-Berechnungen'!K98)*'MOD-Berechnungen'!K53/1000","v":37.01952},{"$f":"'MOD-Berechnungen'!L80*'MOD-Berechnungen'!L53+(SUMPRODUCT('MOD-Berechnungen'!$K62:K62,'MOD-Berechnungen'!$K98:K98) + 0.5*'MOD-Berechnungen'!L62*'MOD-Berechnungen'!L98)*'MOD-Berechnungen'!L53/1000","v":38.353439999999999},{"$f":"'MOD-Berechnungen'!M80*'MOD-Berechnungen'!M53+(SUMPRODUCT('MOD-Berechnungen'!$K62:L62,'MOD-Berechnungen'!$K98:L98) + 0.5*'MOD-Berechnungen'!M62*'MOD-Berechnungen'!M98)*'MOD-Berechnungen'!M53/1000","v":39.826560000000001},{"$f":"'MOD-Berechnungen'!N80*'MOD-Berechnungen'!N53+(SUMPRODUCT('MOD-Berechnungen'!$K62:M62,'MOD-Berechnungen'!$K98:M98) + 0.5*'MOD-Berechnungen'!N62*'MOD-Berechnungen'!N98)*'MOD-Berechnungen'!N53/1000","v":41.983642500000002},{"$f":"'MOD-Berechnungen'!O80*'MOD-Berechnungen'!O53+(SUMPRODUCT('MOD-Berechnungen'!$K62:N62,'MOD-Berechnungen'!$K98:N98) + 0.5*'MOD-Berechnungen'!O62*'MOD-Berechnungen'!O98)*'MOD-Berechnungen'!O53/1000","v":45.242447499999997},{"$f":"'MOD-Berechnungen'!P80*'MOD-Berechnungen'!P53+(SUMPRODUCT('MOD-Berechnungen'!$K62:O62,'MOD-Berechnungen'!$K98:O98) + 0.5*'MOD-Berechnungen'!P62*'MOD-Berechnungen'!P98)*'MOD-Berechnungen'!P53/1000","v":49.4353725},{"$f":"'MOD-Berechnungen'!Q80*'MOD-Berechnungen'!Q53+(SUMPRODUCT('MOD-Berechnungen'!$K62:P62,'MOD-Berechnungen'!$K98:P98) + 0.5*'MOD-Berechnungen'!Q62*'MOD-Berechnungen'!Q98)*'MOD-Berechnungen'!Q53/1000","v":54.245096405760052},{"$f":"'MOD-Berechnungen'!R80*'MOD-Berechnungen'!R53+(SUMPRODUCT('MOD-Berechnungen'!$K62:Q62,'MOD-Berechnungen'!$K98:Q98) + 0.5*'MOD-Berechnungen'!R62*'MOD-Berechnungen'!R98)*'MOD-Berechnungen'!R53/1000","v":58.938046179500986},{"$f":"'MOD-Berechnungen'!S80*'MOD-Berechnungen'!S53+(SUMPRODUCT('MOD-Berechnungen'!$K62:R62,'MOD-Berechnungen'!$K98:R98) + 0.5*'MOD-Berechnungen'!S62*'MOD-Berechnungen'!S98)*'MOD-Berechnungen'!S53/1000","v":62.434095643839612},{"$f":"'MOD-Berechnungen'!T80*'MOD-Berechnungen'!T53+(SUMPRODUCT('MOD-Berechnungen'!$K62:S62,'MOD-Berechnungen'!$K98:S98) + 0.5*'MOD-Berechnungen'!T62*'MOD-Berechnungen'!T98)*'MOD-Berechnungen'!T53/1000","v":65.074238973279492},{"$f":"'MOD-Berechnungen'!U80*'MOD-Berechnungen'!U53+(SUMPRODUCT('MOD-Berechnungen'!$K62:T62,'MOD-Berechnungen'!$K98:T98) + 0.5*'MOD-Berechnungen'!U62*'MOD-Berechnungen'!U98)*'MOD-Berechnungen'!U53/1000","v":67.21254502341715},{"$f":"'MOD-Berechnungen'!V80*'MOD-Berechnungen'!V53+(SUMPRODUCT('MOD-Berechnungen'!$K62:U62,'MOD-Berechnungen'!$K98:U98) + 0.5*'MOD-Berechnungen'!V62*'MOD-Berechnungen'!V98)*'MOD-Berechnungen'!V53/1000","v":69.089399766867245},{"$f":"'MOD-Berechnungen'!W80*'MOD-Berechnungen'!W53+(SUMPRODUCT('MOD-Berechnungen'!$K62:V62,'MOD-Berechnungen'!$K98:V98) + 0.5*'MOD-Berechnungen'!W62*'MOD-Berechnungen'!W98)*'MOD-Berechnungen'!W53/1000","v":70.997752278706486},{"$f":"'MOD-Berechnungen'!X80*'MOD-Berechnungen'!X53+(SUMPRODUCT('MOD-Berechnungen'!$K62:W62,'MOD-Berechnungen'!$K98:W98) + 0.5*'MOD-Berechnungen'!X62*'MOD-Berechnungen'!X98)*'MOD-Berechnungen'!X53/1000","v":72.526056892645755},{"$f":"'MOD-Berechnungen'!Y80*'MOD-Berechnungen'!Y53+(SUMPRODUCT('MOD-Berechnungen'!$K62:X62,'MOD-Berechnungen'!$K98:X98) + 0.5*'MOD-Berechnungen'!Y62*'MOD-Berechnungen'!Y98)*'MOD-Berechnungen'!Y53/1000","v":73.37034323300503},{"$f":"'MOD-Berechnungen'!Z80*'MOD-Berechnungen'!Z53+(SUMPRODUCT('MOD-Berechnungen'!$K62:Y62,'MOD-Berechnungen'!$K98:Y98) + 0.5*'MOD-Berechnungen'!Z62*'MOD-Berechnungen'!Z98)*'MOD-Berechnungen'!Z53/1000","v":71.866811543624294},{"$f":"'MOD-Berechnungen'!AA80*'MOD-Berechnungen'!AA53+(SUMPRODUCT('MOD-Berechnungen'!$K62:Z62,'MOD-Berechnungen'!$K98:Z98) + 0.5*'MOD-Berechnungen'!AA62*'MOD-Berechnungen'!AA98)*'MOD-Berechnungen'!AA53/1000","v":67.346822045303554},{"$f":"'MOD-Berechnungen'!AB80*'MOD-Berechnungen'!AB53+(SUMPRODUCT('MOD-Berechnungen'!$K62:AA62,'MOD-Berechnungen'!$K98:AA98) + 0.5*'MOD-Berechnungen'!AB62*'MOD-Berechnungen'!AB98)*'MOD-Berechnungen'!AB53/1000","v":62.449321406842863},{"$f":"'MOD-Berechnungen'!AC80*'MOD-Berechnungen'!AC53+(SUMPRODUCT('MOD-Berechnungen'!$K62:AB62,'MOD-Berechnungen'!$K98:AB98) + 0.5*'MOD-Berechnungen'!AC62*'MOD-Berechnungen'!AC98)*'MOD-Berechnungen'!AC53/1000","v":58.676335132242166},{"$f":"'MOD-Berechnungen'!AD80*'MOD-Berechnungen'!AD53+(SUMPRODUCT('MOD-Berechnungen'!$K62:AC62,'MOD-Berechnungen'!$K98:AC98) + 0.5*'MOD-Berechnungen'!AD62*'MOD-Berechnungen'!AD98)*'MOD-Berechnungen'!AD53/1000","v":58.474497083901511},{"$f":"'MOD-Berechnungen'!AE80*'MOD-Berechnungen'!AE53+(SUMPRODUCT('MOD-Berechnungen'!$K62:AD62,'MOD-Berechnungen'!$K98:AD98) + 0.5*'MOD-Berechnungen'!AE62*'MOD-Berechnungen'!AE98)*'MOD-Berechnungen'!AE53/1000","v":59.631124613896169}]
[null,null,null,null,null,"Gesamt"]

{"sheet":"MOD_Absenkung_Wind_offshore","index":13,"n_rows":22,"n_cols":31,"rows_kept":22,"cut":false,"hidden":true,"merged":[]}
[null,"In diesem Datenblatt wird der Effekt berechnet, der durch die Absenkung der Vergütungssätze für Offshore-Windkraftanlagen nach 8 bzw. 12 Jahren entsteht. "]
[]
[null,null,null,null,null,null,null,null,null,null,2015,2016,2017,2018,2019,2020,2021,2022,2023,2024,2025,2026,2027,2028,2029,2030,2031,2032,2033,2034,2035]
[null,null,null,null,null,null,null,null,null,"Dargebotsfaktor",{"$f":"'MOD-Berechnungen'!K52","v":1},{"$f":"'MOD-Berechnungen'!L52","v":1},{"$f":"'MOD-Berechnungen'!M52","v":1},{"$f":"'MOD-Berechnungen'!N52","v":1},{"$f":"'MOD-Berechnungen'!O52","v":1},{"$f":"'MOD-Berechnungen'!P52","v":1},{"$f":"'MOD-Berechnungen'!Q52","v":1},{"$f":"'MOD-Berechnungen'!R52","v":1},{"$f":"'MOD-Berechnungen'!S52","v":1},{"$f":"'MOD-Berechnungen'!T52","v":1},{"$f":"'MOD-Berechnungen'!U52","v":1},{"$f":"'MOD-Berechnungen'!V52","v":1},{"$f":"'MOD-Berechnungen'!W52","v":1},{"$f":"'MOD-Berechnungen'!X52","v":1},{"$f":"'MOD-Berechnungen'!Y52","v":1},{"$f":"'MOD-Berechnungen'!Z52","v":1},{"$f":"'MOD-Berechnungen'!AA52","v":1},{"$f":"'MOD-Berechnungen'!AB52","v":1},{"$f":"'MOD-Berechnungen'!AC52","v":1},{"$f":"'MOD-Berechnungen'!AD52","v":1},{"$f":"'MOD-Berechnungen'!AE52","v":1}]
[null,null,null,null,null,null,null,null,null,"aus MOD-Berechnungen"]
[]
[]
[]
[null,null,null,null,null,null,null,null,null,null,2015,2016,2017,2018,2019,2020,2021,2022,2023,2024,2025,2026,2027,2028,2029,2030,2031,2032,2033,2034,2035]
[null,null,null,"aus MOD-Berechnungen","aus MOD-Berechnungen","fix","fix","fix","fix","fix","Wegfallende Vergütungszahlungen (nominal) (Mrd. €)"]
[null,null,"Baujahr","Bruttozubau pro Jahr \n(GW/a)","Volllaststunden\n(h)","erhöhte Anfangsvergütung \n(€_nominal/MWh)","Anfangsvergütung \n(€_nominal/MWh)","Endvergütung \n(€_nominal/MWh)","Dauer zusätzliche Zahlung von Anfangsvergütung (Jahre)","Nutzung erhöhte Anfangsvergütung (1=ja/0=nein)",{"$f":"SUM(K12:K22)","v":0},{"$f":"SUM(L12:L22)","v":0},0,0,0,0,1.1078400000000002E-2,4.4313600000000002E-2,0.11161488,0.46044600000000008,0.67981231999999991,1.0749052700000001,2.0292228799999998,2.3851913499999995,2.9132883699999996,2.9132883699999996,2.89537252,2.8523744799999999,2.8094456799999996,3.0890996199999998,3.3104778599999998]
[null,null,2010,{"$f":"'MOD-Berechnungen'!F61","v":4.4999999999999998E-2},{"$f":"'MOD-Berechnungen'!$K$97","v":3462},null,150,35,3,0,{"$f":"IF(K$9-$C12>20,0,\n   IF($J12=1,\n      IF(K$9-$C12>8+$I12,   $D12*($F12-$H12)*$E12/10^6,\n      IF(K$9-$C12>8,              $D12*($F12-$G12)*$E12/10^6,\n      0)),\n\n      IF(K$9-$C12>12+$I12, $D12*($G12-$H12)*$E12/10^6,\n      0)\n)) * K$4","v":0},0,0,0,0,0,0,0,0,0,0,1.7915849999999997E-2,1.7915849999999997E-2,1.7915849999999997E-2,1.7915849999999997E-2,1.7915849999999997E-2,0,0,0,0,{"$f":"IF(AE$9-$C12>20,0,\n   IF($J12=1,\n      IF(AE$9-$C12>8+$I12,   $D12*($F12-$H12)*$E12/10^6,\n      IF(AE$9-$C12>8,              $D12*($F12-$G12)*$E12/10^6,\n      0)),\n\n      IF(AE$9-$C12>12+$I12, $D12*($G12-$H12)*$E12/10^6,\n      0)\n)) * AE$4","v":0}]
[null,null,2011,{"$f":"'MOD-Berechnungen'!G61","v":0.108},{"$f":"'MOD-Berechnungen'!$K$97","v":3462},null,150,35,3,0,{"$f":"IF(K$9-$C13>20,0,\n   IF($J13=1,\n      IF(K$9-$C13>8+$I13,   $D13*($F13-$H13)*$E13/10^6,\n      IF(K$9-$C13>8,              $D13*($F13-$G13)*$E13/10^6,\n      0)),\n\n      IF(K$9-$C13>12+$I13, $D13*($G13-$H13)*$E13/10^6,\n      0)\n)) * K$4","v":0},0,0,0,0,0,0,0,0,0,0,0,4.2998040000000001E-2,4.2998040000000001E-2,4.2998040000000001E-2,4.2998040000000001E-2,4.2998040000000001E-2,0,0,0,{"$f":"IF(AE$9-$C13>20,0,\n   IF($J13=1,\n      IF(AE$9-$C13>8+$I13,   $D13*($F13-$H13)*$E13/10^6,\n      IF(AE$9-$C13>8,              $D13*($F13-$G13)*$E13/10^6,\n      0)),\n\n      IF(AE$9-$C13>12+$I13, $D13*($G13-$H13)*$E13/10^6,\n      0)\n)) * AE$4","v":0}]
[null,null,2012,{"$f":"'MOD-Berechnungen'!H61","v":0.08},{"$f":"'MOD-Berechnungen'!$K$97","v":3462},190,150,35,3,1,0,0,0,0,0,0,1.1078400000000002E-2,1.1078400000000002E-2,1.1078400000000002E-2,4.2928800000000003E-2,4.2928800000000003E-2,4.2928800000000003E-2,4.2928800000000003E-2,4.2928800000000003E-2,4.2928800000000003E-2,4.2928800000000003E-2,4.2928800000000003E-2,4.2928800000000003E-2,0,0,0]
[null,null,2013,{"$f":"'MOD-Berechnungen'!I61","v":0.24},{"$f":"'MOD-Berechnungen'!$K$97","v":3462},190,150,35,3,1,0,0,0,0,0,0,0,3.3235199999999999E-2,3.3235199999999999E-2,3.3235199999999999E-2,0.12878639999999997,0.12878639999999997,0.12878639999999997,0.12878639999999997,0.12878639999999997,0.12878639999999997,0.12878639999999997,0.12878639999999997,0.12878639999999997,0,0]
[null,null,2014,{"$f":"'MOD-Berechnungen'!J61","v":0.48599999999999999},{"$f":"'MOD-Berechnungen'!$K$97","v":3462},194,154,39,3,1,0,0,0,0,0,0,0,0,6.7301280000000005E-2,6.7301280000000005E-2,6.7301280000000005E-2,0.26079246,0.26079246,0.26079246,0.26079246,0.26079246,0.26079246,0.26079246,0.26079246,0.26079246,0]
[null,null,2015,{"$f":"'MOD-Berechnungen'!K61","v":2.2890000000000001},{"$f":"'MOD-Berechnungen'!K97","v":3462},194,154,39,3,1,0,0,0,0,0,0,0,0,0,0.31698072000000005,0.31698072000000005,0.31698072000000005,1.22830029,1.22830029,1.22830029,1.22830029,1.22830029,1.22830029,1.22830029,1.22830029,1.22830029]
[null,null,2016,{"$f":"'MOD-Berechnungen'!L61","v":0.86899999999999999},{"$f":"'MOD-Berechnungen'!L97","v":3562},194,154,39,3,1,0,0,0,0,0,0,0,0,0,0,0.12381512,0.12381512,0.12381512,0.47978358999999998,0.47978358999999998,0.47978358999999998,0.47978358999999998,0.47978358999999998,0.47978358999999998,0.47978358999999998,0.47978358999999998]
[null,null,2017,{"$f":"'MOD-Berechnungen'!M61","v":1.254},{"$f":"'MOD-Berechnungen'!M97","v":3662},194,154,39,3,1,0,0,0,0,0,0,0,0,0,0,0,0.18368591999999997,0.18368591999999997,0.18368591999999997,0.71178294000000009,0.71178294000000009,0.71178294000000009,0.71178294000000009,0.71178294000000009,0.71178294000000009,0.71178294000000009]
[null,null,2018,{"$f":"'MOD-Berechnungen'!N61","v":0.98699999999999999},{"$f":"'MOD-Berechnungen'!N97","v":3762},184,149,39,3,0,0,0,0,0,0,0,0,0,0,0,0,0,0,0,0,0,0,0,0,0.40844033999999996,0.40844033999999996]
[null,null,2019,{"$f":"'MOD-Berechnungen'!O61","v":1.135},{"$f":"'MOD-Berechnungen'!O97","v":3862},184,149,39,3,0,0,0,0,0,0,0,0,0,0,0,0,0,0,0,0,0,0,0,0,0,0.48217069999999995]
[null,null,2020,{"$f":"'MOD-Berechnungen'!P61","v":0.219},{"$f":"'MOD-Berechnungen'!P97","v":3962},null,144,39,3,0,0,0,0,0,0,0,0,0,0,0,0,0,0,0,0,0,0,0,0,0,0]

{"sheet":"D-Vergütungssatz Neuanlagen","index":14,"n_rows":174,"n_cols":33,"rows_kept":174,"cut":false,"hidden":true,"merged":[]}
[" ","Vergütungssatz für Neuanlagen"]
[]
[null,null,"Szenario","Bearbeiter","Beschreibung","Kommentar"]
[null,null,null,null,null,null,2010,2011,2012,2013,2014,2015,2016,2017,2018,2019,2020,2021,2022,2023,2024,2025,2026,2027,2028,2029,2030,2031,2032,2033,2034,2035]
[null,null,null,null,null,null,"Euro/MWh","Euro/MWh","Euro/MWh","Euro/MWh","Euro/MWh","Euro/MWh","Euro/MWh","Euro/MWh","Euro/MWh","Euro/MWh","Euro/MWh","Euro/MWh","Euro/MWh","Euro/MWh","Euro/MWh","Euro/MWh","Euro/MWh","Euro/MWh","Euro/MWh","Euro/MWh","Euro/MWh","Euro/MWh","Euro/MWh","Euro/MWh","Euro/MWh","Euro/MWh"]
[null,"Wasser",{"$f":"ControlPanel!L13","v":"Referenz"},{"$f":"VLOOKUP($C$6,$C$13:$AF$37,2,FALSE)","v":"dr"},{"$f":"VLOOKUP($C$6,$C$13:$AF$37,3,FALSE)","v":"EEG 2017"},{"$f":"VLOOKUP($C$6,$C$13:$AF$37,4,FALSE)","v":"gem. EEG 2017 (0,5%/a Degression)"},{"$f":"IF(G$4<ControlPanel!$D$59,VLOOKUP(\"Referenz\",$C$13:$AF$37,G$4-$G$4+5,FALSE),VLOOKUP($C$6,$C$13:$AF$37,G$4-$G$4+5,FALSE))","v":0},{"$f":"IF(H$4<ControlPanel!$D$59,VLOOKUP(\"Referenz\",$C$13:$AF$37,H$4-$G$4+5,FALSE),VLOOKUP($C$6,$C$13:$AF$37,H$4-$G$4+5,FALSE))","v":0},{"$f":"IF(I$4<ControlPanel!$D$59,VLOOKUP(\"Referenz\",$C$13:$AF$37,I$4-$G$4+5,FALSE),VLOOKUP($C$6,$C$13:$AF$37,I$4-$G$4+5,FALSE))","v":0},{"$f":"IF(J$4<ControlPanel!$D$59,VLOOKUP(\"Referenz\",$C$13:$AF$37,J$4-$G$4+5,FALSE),VLOOKUP($C$6,$C$13:$AF$37,J$4-$G$4+5,FALSE))","v":0},{"$f":"IF(K$4<ControlPanel!$D$59,VLOOKUP(\"Referenz\",$C$13:$AF$37,K$4-$G$4+5,FALSE),VLOOKUP($C$6,$C$13:$AF$37,K$4-$G$4+5,FALSE))","v":0},{"$f":"IF(L$4<ControlPanel!$D$59,VLOOKUP(\"Referenz\",$C$13:$AF$37,L$4-$G$4+5,FALSE),VLOOKUP($C$6,$C$13:$AF$37,L$4-$G$4+5,FALSE))","v":115.67111231527093},{"$f":"IF(M$4<ControlPanel!$D$59,VLOOKUP(\"Referenz\",$C$13:$AF$37,M$4-$G$4+5,FALSE),VLOOKUP($C$6,$C$13:$AF$37,M$4-$G$4+5,FALSE))","v":118.57143532657497},{"$f":"IF(N$4<ControlPanel!$D$59,VLOOKUP(\"Referenz\",$C$13:$AF$37,N$4-$G$4+5,FALSE),VLOOKUP($C$6,$C$13:$AF$37,N$4-$G$4+5,FALSE))","v":119.06888980183719},{"$f":"IF(O$4<ControlPanel!$D$59,VLOOKUP(\"Referenz\",$C$13:$AF$37,O$4-$G$4+5,FALSE),VLOOKUP($C$6,$C$13:$AF$37,O$4-$G$4+5,FALSE))","v":116.72270478111133},{"$f":"IF(P$4<ControlPanel!$D$59,VLOOKUP(\"Referenz\",$C$13:$AF$37,P$4-$G$4+5,FALSE),VLOOKUP($C$6,$C$13:$AF$37,P$4-$G$4+5,FALSE))","v":114.42275000709931},{"$f":"IF(Q$4<ControlPanel!$D$59,VLOOKUP(\"Referenz\",$C$13:$AF$37,Q$4-$G$4+5,FALSE),VLOOKUP($C$6,$C$13:$AF$37,Q$4-$G$4+5,FALSE))","v":112.16811453897915},{"$f":"IF(R$4<ControlPanel!$D$59,VLOOKUP(\"Referenz\",$C$13:$AF$37,R$4-$G$4+5,FALSE),VLOOKUP($C$6,$C$13:$AF$37,R$4-$G$4+5,FALSE))","v":109.95790538550175},{"$f":"IF(S$4<ControlPanel!$D$59,VLOOKUP(\"Referenz\",$C$13:$AF$37,S$4-$G$4+5,FALSE),VLOOKUP($C$6,$C$13:$AF$37,S$4-$G$4+5,FALSE))","v":107.79124715130467},{"$f":"IF(T$4<ControlPanel!$D$59,VLOOKUP(\"Referenz\",$C$13:$AF$37,T$4-$G$4+5,FALSE),VLOOKUP($C$6,$C$13:$AF$37,T$4-$G$4+5,FALSE))","v":105.66728169019525},{"$f":"IF(U$4<ControlPanel!$D$59,VLOOKUP(\"Referenz\",$C$13:$AF$37,U$4-$G$4+5,FALSE),VLOOKUP($C$6,$C$13:$AF$37,U$4-$G$4+5,FALSE))","v":103.58516776526531},{"$f":"IF(V$4<ControlPanel!$D$59,VLOOKUP(\"Referenz\",$C$13:$AF$37,V$4-$G$4+5,FALSE),VLOOKUP($C$6,$C$13:$AF$37,V$4-$G$4+5,FALSE))","v":101.54408071570344},{"$f":"IF(W$4<ControlPanel!$D$59,VLOOKUP(\"Referenz\",$C$13:$AF$37,W$4-$G$4+5,FALSE),VLOOKUP($C$6,$C$13:$AF$37,W$4-$G$4+5,FALSE))","v":99.54321213017235},{"$f":"IF(X$4<ControlPanel!$D$59,VLOOKUP(\"Referenz\",$C$13:$AF$37,X$4-$G$4+5,FALSE),VLOOKUP($C$6,$C$13:$AF$37,X$4-$G$4+5,FALSE))","v":97.581769526622168},{"$f":"IF(Y$4<ControlPanel!$D$59,VLOOKUP(\"Referenz\",$C$13:$AF$37,Y$4-$G$4+5,FALSE),VLOOKUP($C$6,$C$13:$AF$37,Y$4-$G$4+5,FALSE))","v":95.658976038412874},{"$f":"IF(Z$4<ControlPanel!$D$59,VLOOKUP(\"Referenz\",$C$13:$AF$37,Z$4-$G$4+5,FALSE),VLOOKUP($C$6,$C$13:$AF$37,Z$4-$G$4+5,FALSE))","v":93.774070106621494},{"$f":"IF(AA$4<ControlPanel!$D$59,VLOOKUP(\"Referenz\",$C$13:$AF$37,AA$4-$G$4+5,FALSE),VLOOKUP($C$6,$C$13:$AF$37,AA$4-$G$4+5,FALSE))","v":91.926305178412207},{"$f":"IF(AB$4<ControlPanel!$D$59,VLOOKUP(\"Referenz\",$C$13:$AF$37,AB$4-$G$4+5,FALSE),VLOOKUP($C$6,$C$13:$AF$37,AB$4-$G$4+5,FALSE))","v":90.114949411349897},{"$f":"IF(AC$4<ControlPanel!$D$59,VLOOKUP(\"Referenz\",$C$13:$AF$37,AC$4-$G$4+5,FALSE),VLOOKUP($C$6,$C$13:$AF$37,AC$4-$G$4+5,FALSE))","v":88.339285383540059},{"$f":"IF(AD$4<ControlPanel!$D$59,VLOOKUP(\"Referenz\",$C$13:$AF$37,AD$4-$G$4+5,FALSE),VLOOKUP($C$6,$C$13:$AF$37,AD$4-$G$4+5,FALSE))","v":86.598609809480166},{"$f":"IF(AE$4<ControlPanel!$D$59,VLOOKUP(\"Referenz\",$C$13:$AF$37,AE$4-$G$4+5,FALSE),VLOOKUP($C$6,$C$13:$AF$37,AE$4-$G$4+5,FALSE))","v":84.892233261510128},{"$f":"IF(AF$4<ControlPanel!$D$59,VLOOKUP(\"Referenz\",$C$13:$AF$37,AF$4-$G$4+5,FALSE),VLOOKUP($C$6,$C$13:$AF$37,AF$4-$G$4+5,FALSE))","v":83.219479896751309}]
[null,"Gase",{"$f":"ControlPanel!L14","v":"Referenz"},{"$f":"VLOOKUP($C$7,$C$39:$AF$63,2,FALSE)","v":"dr"},{"$f":"VLOOKUP($C$7,$C$39:$AF$63,3,FALSE)","v":"EEG 2017"},{"$f":"VLOOKUP($C$7,$C$39:$AF$63,4,FALSE)","v":"gem. EEG 2017 (1,5%/a Degression)"},{"$f":"IF(G$4<ControlPanel!$D$59,VLOOKUP(\"Referenz\",$C$39:$AF$63,G$4-$G$4+5,FALSE),VLOOKUP($C$7,$C$39:$AF$63,G$4-$G$4+5,FALSE))","v":0},{"$f":"IF(H$4<ControlPanel!$D$59,VLOOKUP(\"Referenz\",$C$39:$AF$63,H$4-$G$4+5,FALSE),VLOOKUP($C$7,$C$39:$AF$63,H$4-$G$4+5,FALSE))","v":0},{"$f":"IF(I$4<ControlPanel!$D$59,VLOOKUP(\"Referenz\",$C$39:$AF$63,I$4-$G$4+5,FALSE),VLOOKUP($C$7,$C$39:$AF$63,I$4-$G$4+5,FALSE))","v":0},{"$f":"IF(J$4<ControlPanel!$D$59,VLOOKUP(\"Referenz\",$C$39:$AF$63,J$4-$G$4+5,FALSE),VLOOKUP($C$7,$C$39:$AF$63,J$4-$G$4+5,FALSE))","v":0},{"$f":"IF(K$4<ControlPanel!$D$59,VLOOKUP(\"Referenz\",$C$39:$AF$63,K$4-$G$4+5,FALSE),VLOOKUP($C$7,$C$39:$AF$63,K$4-$G$4+5,FALSE))","v":0},{"$f":"IF(L$4<ControlPanel!$D$59,VLOOKUP(\"Referenz\",$C$39:$AF$63,L$4-$G$4+5,FALSE),VLOOKUP($C$7,$C$39:$AF$63,L$4-$G$4+5,FALSE))","v":80.973162315270926},{"$f":"IF(M$4<ControlPanel!$D$59,VLOOKUP(\"Referenz\",$C$39:$AF$63,M$4-$G$4+5,FALSE),VLOOKUP($C$7,$C$39:$AF$63,M$4-$G$4+5,FALSE))","v":82.169267504056208},{"$f":"IF(N$4<ControlPanel!$D$59,VLOOKUP(\"Referenz\",$C$39:$AF$63,N$4-$G$4+5,FALSE),VLOOKUP($C$7,$C$39:$AF$63,N$4-$G$4+5,FALSE))","v":66.755592908240772},{"$f":"IF(O$4<ControlPanel!$D$59,VLOOKUP(\"Referenz\",$C$39:$AF$63,O$4-$G$4+5,FALSE),VLOOKUP($C$7,$C$39:$AF$63,O$4-$G$4+5,FALSE))","v":64.782521196667162},{"$f":"IF(P$4<ControlPanel!$D$59,VLOOKUP(\"Referenz\",$C$39:$AF$63,P$4-$G$4+5,FALSE),VLOOKUP($C$7,$C$39:$AF$63,P$4-$G$4+5,FALSE))","v":62.867766875583413},{"$f":"IF(Q$4<ControlPanel!$D$59,VLOOKUP(\"Referenz\",$C$39:$AF$63,Q$4-$G$4+5,FALSE),VLOOKUP($C$7,$C$39:$AF$63,Q$4-$G$4+5,FALSE))","v":61.009606278275527},{"$f":"IF(R$4<ControlPanel!$D$59,VLOOKUP(\"Referenz\",$C$39:$AF$63,R$4-$G$4+5,FALSE),VLOOKUP($C$7,$C$39:$AF$63,R$4-$G$4+5,FALSE))","v":59.206366683843747},{"$f":"IF(S$4<ControlPanel!$D$59,VLOOKUP(\"Referenz\",$C$39:$AF$63,S$4-$G$4+5,FALSE),VLOOKUP($C$7,$C$39:$AF$63,S$4-$G$4+5,FALSE))","v":57.456424811414877},{"$f":"IF(T$4<ControlPanel!$D$59,VLOOKUP(\"Referenz\",$C$39:$AF$63,T$4-$G$4+5,FALSE),VLOOKUP($C$7,$C$39:$AF$63,T$4-$G$4+5,FALSE))","v":55.758205358860749},{"$f":"IF(U$4<ControlPanel!$D$59,VLOOKUP(\"Referenz\",$C$39:$AF$63,U$4-$G$4+5,FALSE),VLOOKUP($C$7,$C$39:$AF$63,U$4-$G$4+5,FALSE))","v":54.110179584707232},{"$f":"IF(V$4<ControlPanel!$D$59,VLOOKUP(\"Referenz\",$C$39:$AF$63,V$4-$G$4+5,FALSE),VLOOKUP($C$7,$C$39:$AF$63,V$4-$G$4+5,FALSE))","v":52.510863931957267},{"$f":"IF(W$4<ControlPanel!$D$59,VLOOKUP(\"Referenz\",$C$39:$AF$63,W$4-$G$4+5,FALSE),VLOOKUP($C$7,$C$39:$AF$63,W$4-$G$4+5,FALSE))","v":50.958818692589077},{"$f":"IF(X$4<ControlPanel!$D$59,VLOOKUP(\"Referenz\",$C$39:$AF$63,X$4-$G$4+5,FALSE),VLOOKUP($C$7,$C$39:$AF$63,X$4-$G$4+5,FALSE))","v":49.452646711527336},{"$f":"IF(Y$4<ControlPanel!$D$59,VLOOKUP(\"Referenz\",$C$39:$AF$63,Y$4-$G$4+5,FALSE),VLOOKUP($C$7,$C$39:$AF$63,Y$4-$G$4+5,FALSE))","v":47.990992128920624},{"$f":"IF(Z$4<ControlPanel!$D$59,VLOOKUP(\"Referenz\",$C$39:$AF$63,Z$4-$G$4+5,FALSE),VLOOKUP($C$7,$C$39:$AF$63,Z$4-$G$4+5,FALSE))","v":46.572539159592914},{"$f":"IF(AA$4<ControlPanel!$D$59,VLOOKUP(\"Referenz\",$C$39:$AF$63,AA$4-$G$4+5,FALSE),VLOOKUP($C$7,$C$39:$AF$63,AA$4-$G$4+5,FALSE))","v":45.196010908570464},{"$f":"IF(AB$4<ControlPanel!$D$59,VLOOKUP(\"Referenz\",$C$39:$AF$63,AB$4-$G$4+5,FALSE),VLOOKUP($C$7,$C$39:$AF$63,AB$4-$G$4+5,FALSE))","v":43.860168221617648},{"$f":"IF(AC$4<ControlPanel!$D$59,VLOOKUP(\"Referenz\",$C$39:$AF$63,AC$4-$G$4+5,FALSE),VLOOKUP($C$7,$C$39:$AF$63,AC$4-$G$4+5,FALSE))","v":42.563808569747181},{"$f":"IF(AD$4<ControlPanel!$D$59,VLOOKUP(\"Referenz\",$C$39:$AF$63,AD$4-$G$4+5,FALSE),VLOOKUP($C$7,$C$39:$AF$63,AD$4-$G$4+5,FALSE))","v":41.305764966700472},{"$f":"IF(AE$4<ControlPanel!$D$59,VLOOKUP(\"Referenz\",$C$39:$AF$63,AE$4-$G$4+5,FALSE),VLOOKUP($C$7,$C$39:$AF$63,AE$4-$G$4+5,FALSE))","v":40.084904918423611},{"$f":"IF(AF$4<ControlPanel!$D$59,VLOOKUP(\"Referenz\",$C$39:$AF$63,AF$4-$G$4+5,FALSE),VLOOKUP($C$7,$C$39:$AF$63,AF$4-$G$4+5,FALSE))","v":38.900129403593361}]
[null,"Biomasse",{"$f":"ControlPanel!L11","v":"Referenz"},{"$f":"VLOOKUP($C$8,$C$65:$AF$89,2,FALSE)","v":"dr"},{"$f":"VLOOKUP($C$8,$C$65:$AF$89,3,FALSE)","v":"EEG 2017"},{"$f":"VLOOKUP($C$8,$C$65:$AF$89,4,FALSE)","v":"Gewichtung der Größenklassen und Technologien"},{"$f":"IF(G$4<ControlPanel!$D$59,VLOOKUP(\"Referenz\",$C$65:$AF$89,G$4-$G$4+5,FALSE),VLOOKUP($C$8,$C$65:$AF$89,G$4-$G$4+5,FALSE))","v":0},{"$f":"IF(H$4<ControlPanel!$D$59,VLOOKUP(\"Referenz\",$C$65:$AF$89,H$4-$G$4+5,FALSE),VLOOKUP($C$8,$C$65:$AF$89,H$4-$G$4+5,FALSE))","v":0},{"$f":"IF(I$4<ControlPanel!$D$59,VLOOKUP(\"Referenz\",$C$65:$AF$89,I$4-$G$4+5,FALSE),VLOOKUP($C$8,$C$65:$AF$89,I$4-$G$4+5,FALSE))","v":0},{"$f":"IF(J$4<ControlPanel!$D$59,VLOOKUP(\"Referenz\",$C$65:$AF$89,J$4-$G$4+5,FALSE),VLOOKUP($C$8,$C$65:$AF$89,J$4-$G$4+5,FALSE))","v":0},{"$f":"IF(K$4<ControlPanel!$D$59,VLOOKUP(\"Referenz\",$C$65:$AF$89,K$4-$G$4+5,FALSE),VLOOKUP($C$8,$C$65:$AF$89,K$4-$G$4+5,FALSE))","v":0},{"$f":"IF(L$4<ControlPanel!$D$59,VLOOKUP(\"Referenz\",$C$65:$AF$89,L$4-$G$4+5,FALSE),VLOOKUP($C$8,$C$65:$AF$89,L$4-$G$4+5,FALSE))","v":174.76190476190482},{"$f":"IF(M$4<ControlPanel!$D$59,VLOOKUP(\"Referenz\",$C$65:$AF$89,M$4-$G$4+5,FALSE),VLOOKUP($C$8,$C$65:$AF$89,M$4-$G$4+5,FALSE))","v":178.24364250000005},{"$f":"IF(N$4<ControlPanel!$D$59,VLOOKUP(\"Referenz\",$C$65:$AF$89,N$4-$G$4+5,FALSE),VLOOKUP($C$8,$C$65:$AF$89,N$4-$G$4+5,FALSE))","v":153.77000000000001},{"$f":"IF(O$4<ControlPanel!$D$59,VLOOKUP(\"Referenz\",$C$65:$AF$89,O$4-$G$4+5,FALSE),VLOOKUP($C$8,$C$65:$AF$89,O$4-$G$4+5,FALSE))","v":149.9914941707718},{"$f":"IF(P$4<ControlPanel!$D$59,VLOOKUP(\"Referenz\",$C$65:$AF$89,P$4-$G$4+5,FALSE),VLOOKUP($C$8,$C$65:$AF$89,P$4-$G$4+5,FALSE))","v":146.29623580770996},{"$f":"IF(Q$4<ControlPanel!$D$59,VLOOKUP(\"Referenz\",$C$65:$AF$89,Q$4-$G$4+5,FALSE),VLOOKUP($C$8,$C$65:$AF$89,Q$4-$G$4+5,FALSE))","v":138.99746124695602},{"$f":"IF(R$4<ControlPanel!$D$59,VLOOKUP(\"Referenz\",$C$65:$AF$89,R$4-$G$4+5,FALSE),VLOOKUP($C$8,$C$65:$AF$89,R$4-$G$4+5,FALSE))","v":142.45904886967196},{"$f":"IF(S$4<ControlPanel!$D$59,VLOOKUP(\"Referenz\",$C$65:$AF$89,S$4-$G$4+5,FALSE),VLOOKUP($C$8,$C$65:$AF$89,S$4-$G$4+5,FALSE))","v":137.90967883577406},{"$f":"IF(T$4<ControlPanel!$D$59,VLOOKUP(\"Referenz\",$C$65:$AF$89,T$4-$G$4+5,FALSE),VLOOKUP($C$8,$C$65:$AF$89,T$4-$G$4+5,FALSE))","v":132.74871581588312},{"$f":"IF(U$4<ControlPanel!$D$59,VLOOKUP(\"Referenz\",$C$65:$AF$89,U$4-$G$4+5,FALSE),VLOOKUP($C$8,$C$65:$AF$89,U$4-$G$4+5,FALSE))","v":128.6261172129752},{"$f":"IF(V$4<ControlPanel!$D$59,VLOOKUP(\"Referenz\",$C$65:$AF$89,V$4-$G$4+5,FALSE),VLOOKUP($C$8,$C$65:$AF$89,V$4-$G$4+5,FALSE))","v":129.53996861454175},{"$f":"IF(W$4<ControlPanel!$D$59,VLOOKUP(\"Referenz\",$C$65:$AF$89,W$4-$G$4+5,FALSE),VLOOKUP($C$8,$C$65:$AF$89,W$4-$G$4+5,FALSE))","v":126.33045913970172},{"$f":"IF(X$4<ControlPanel!$D$59,VLOOKUP(\"Referenz\",$C$65:$AF$89,X$4-$G$4+5,FALSE),VLOOKUP($C$8,$C$65:$AF$89,X$4-$G$4+5,FALSE))","v":123.19758113514828},{"$f":"IF(Y$4<ControlPanel!$D$59,VLOOKUP(\"Referenz\",$C$65:$AF$89,Y$4-$G$4+5,FALSE),VLOOKUP($C$8,$C$65:$AF$89,Y$4-$G$4+5,FALSE))","v":120.13952287204474},{"$f":"IF(Z$4<ControlPanel!$D$59,VLOOKUP(\"Referenz\",$C$65:$AF$89,Z$4-$G$4+5,FALSE),VLOOKUP($C$8,$C$65:$AF$89,Z$4-$G$4+5,FALSE))","v":117.15451553321103},{"$f":"IF(AA$4<ControlPanel!$D$59,VLOOKUP(\"Referenz\",$C$65:$AF$89,AA$4-$G$4+5,FALSE),VLOOKUP($C$8,$C$65:$AF$89,AA$4-$G$4+5,FALSE))","v":114.24083219030085},{"$f":"IF(AB$4<ControlPanel!$D$59,VLOOKUP(\"Referenz\",$C$65:$AF$89,AB$4-$G$4+5,FALSE),VLOOKUP($C$8,$C$65:$AF$89,AB$4-$G$4+5,FALSE))","v":111.39678680553604},{"$f":"IF(AC$4<ControlPanel!$D$59,VLOOKUP(\"Referenz\",$C$65:$AF$89,AC$4-$G$4+5,FALSE),VLOOKUP($C$8,$C$65:$AF$89,AC$4-$G$4+5,FALSE))","v":108.62073325740459},{"$f":"IF(AD$4<ControlPanel!$D$59,VLOOKUP(\"Referenz\",$C$65:$AF$89,AD$4-$G$4+5,FALSE),VLOOKUP($C$8,$C$65:$AF$89,AD$4-$G$4+5,FALSE))","v":105.91106438974299},{"$f":"IF(AE$4<ControlPanel!$D$59,VLOOKUP(\"Referenz\",$C$65:$AF$89,AE$4-$G$4+5,FALSE),VLOOKUP($C$8,$C$65:$AF$89,AE$4-$G$4+5,FALSE))","v":103.26621108363823},{"$f":"IF(AF$4<ControlPanel!$D$59,VLOOKUP(\"Referenz\",$C$65:$AF$89,AF$4-$G$4+5,FALSE),VLOOKUP($C$8,$C$65:$AF$89,AF$4-$G$4+5,FALSE))","v":103.20178107568667}]
[null,"Geothermie",{"$f":"ControlPanel!L12","v":"Referenz"},{"$f":"VLOOKUP($C$9,$C$91:$AF$115,2,FALSE)","v":"dr"},{"$f":"VLOOKUP($C$9,$C$91:$AF$115,3,FALSE)","v":"EEG 2017"},{"$f":"VLOOKUP($C$9,$C$91:$AF$115,4,FALSE)","v":"gem. EEG 2017 (ab 2021 5%/a Degression)"},{"$f":"IF(G$4<ControlPanel!$D$59,VLOOKUP(\"Referenz\",$C$91:$AF$115,G$4-$G$4+5,FALSE),VLOOKUP($C$9,$C$91:$AF$115,G$4-$G$4+5,FALSE))","v":0},{"$f":"IF(H$4<ControlPanel!$D$59,VLOOKUP(\"Referenz\",$C$91:$AF$115,H$4-$G$4+5,FALSE),VLOOKUP($C$9,$C$91:$AF$115,H$4-$G$4+5,FALSE))","v":0},{"$f":"IF(I$4<ControlPanel!$D$59,VLOOKUP(\"Referenz\",$C$91:$AF$115,I$4-$G$4+5,FALSE),VLOOKUP($C$9,$C$91:$AF$115,I$4-$G$4+5,FALSE))","v":0},{"$f":"IF(J$4<ControlPanel!$D$59,VLOOKUP(\"Referenz\",$C$91:$AF$115,J$4-$G$4+5,FALSE),VLOOKUP($C$9,$C$91:$AF$115,J$4-$G$4+5,FALSE))","v":0},{"$f":"IF(K$4<ControlPanel!$D$59,VLOOKUP(\"Referenz\",$C$91:$AF$115,K$4-$G$4+5,FALSE),VLOOKUP($C$9,$C$91:$AF$115,K$4-$G$4+5,FALSE))","v":0},{"$f":"IF(L$4<ControlPanel!$D$59,VLOOKUP(\"Referenz\",$C$91:$AF$115,L$4-$G$4+5,FALSE),VLOOKUP($C$9,$C$91:$AF$115,L$4-$G$4+5,FALSE))","v":248.27586206896555},{"$f":"IF(M$4<ControlPanel!$D$59,VLOOKUP(\"Referenz\",$C$91:$AF$115,M$4-$G$4+5,FALSE),VLOOKUP($C$9,$C$91:$AF$115,M$4-$G$4+5,FALSE))","v":249.38549999999995},{"$f":"IF(N$4<ControlPanel!$D$59,VLOOKUP(\"Referenz\",$C$91:$AF$115,N$4-$G$4+5,FALSE),VLOOKUP($C$9,$C$91:$AF$115,N$4-$G$4+5,FALSE))","v":252},{"$f":"IF(O$4<ControlPanel!$D$59,VLOOKUP(\"Referenz\",$C$91:$AF$115,O$4-$G$4+5,FALSE),VLOOKUP($C$9,$C$91:$AF$115,O$4-$G$4+5,FALSE))","v":248.27586206896555},{"$f":"IF(P$4<ControlPanel!$D$59,VLOOKUP(\"Referenz\",$C$91:$AF$115,P$4-$G$4+5,FALSE),VLOOKUP($C$9,$C$91:$AF$115,P$4-$G$4+5,FALSE))","v":244.60676065907938},{"$f":"IF(Q$4<ControlPanel!$D$59,VLOOKUP(\"Referenz\",$C$91:$AF$115,Q$4-$G$4+5,FALSE),VLOOKUP($C$9,$C$91:$AF$115,Q$4-$G$4+5,FALSE))","v":240.99188242273834},{"$f":"IF(R$4<ControlPanel!$D$59,VLOOKUP(\"Referenz\",$C$91:$AF$115,R$4-$G$4+5,FALSE),VLOOKUP($C$9,$C$91:$AF$115,R$4-$G$4+5,FALSE))","v":225.55890473064181},{"$f":"IF(S$4<ControlPanel!$D$59,VLOOKUP(\"Referenz\",$C$91:$AF$115,S$4-$G$4+5,FALSE),VLOOKUP($C$9,$C$91:$AF$115,S$4-$G$4+5,FALSE))","v":211.11424580700469},{"$f":"IF(T$4<ControlPanel!$D$59,VLOOKUP(\"Referenz\",$C$91:$AF$115,T$4-$G$4+5,FALSE),VLOOKUP($C$9,$C$91:$AF$115,T$4-$G$4+5,FALSE))","v":197.59461430212264},{"$f":"IF(U$4<ControlPanel!$D$59,VLOOKUP(\"Referenz\",$C$91:$AF$115,U$4-$G$4+5,FALSE),VLOOKUP($C$9,$C$91:$AF$115,U$4-$G$4+5,FALSE))","v":184.94077200691282},{"$f":"IF(V$4<ControlPanel!$D$59,VLOOKUP(\"Referenz\",$C$91:$AF$115,V$4-$G$4+5,FALSE),VLOOKUP($C$9,$C$91:$AF$115,V$4-$G$4+5,FALSE))","v":173.09727429218444},{"$f":"IF(W$4<ControlPanel!$D$59,VLOOKUP(\"Referenz\",$C$91:$AF$115,W$4-$G$4+5,FALSE),VLOOKUP($C$9,$C$91:$AF$115,W$4-$G$4+5,FALSE))","v":162.01222717002486},{"$f":"IF(X$4<ControlPanel!$D$59,VLOOKUP(\"Referenz\",$C$91:$AF$115,X$4-$G$4+5,FALSE),VLOOKUP($C$9,$C$91:$AF$115,X$4-$G$4+5,FALSE))","v":151.63705991283115},{"$f":"IF(Y$4<ControlPanel!$D$59,VLOOKUP(\"Referenz\",$C$91:$AF$115,Y$4-$G$4+5,FALSE),VLOOKUP($C$9,$C$91:$AF$115,Y$4-$G$4+5,FALSE))","v":141.92631223368434},{"$f":"IF(Z$4<ControlPanel!$D$59,VLOOKUP(\"Referenz\",$C$91:$AF$115,Z$4-$G$4+5,FALSE),VLOOKUP($C$9,$C$91:$AF$115,Z$4-$G$4+5,FALSE))","v":132.83743509556663},{"$f":"IF(AA$4<ControlPanel!$D$59,VLOOKUP(\"Referenz\",$C$91:$AF$115,AA$4-$G$4+5,FALSE),VLOOKUP($C$9,$C$91:$AF$115,AA$4-$G$4+5,FALSE))","v":124.33060427663872},{"$f":"IF(AB$4<ControlPanel!$D$59,VLOOKUP(\"Referenz\",$C$91:$AF$115,AB$4-$G$4+5,FALSE),VLOOKUP($C$9,$C$91:$AF$115,AB$4-$G$4+5,FALSE))","v":116.3685458746865},{"$f":"IF(AC$4<ControlPanel!$D$59,VLOOKUP(\"Referenz\",$C$91:$AF$115,AC$4-$G$4+5,FALSE),VLOOKUP($C$9,$C$91:$AF$115,AC$4-$G$4+5,FALSE))","v":108.91637298615977},{"$f":"IF(AD$4<ControlPanel!$D$59,VLOOKUP(\"Referenz\",$C$91:$AF$115,AD$4-$G$4+5,FALSE),VLOOKUP($C$9,$C$91:$AF$115,AD$4-$G$4+5,FALSE))","v":101.94143284418897},{"$f":"IF(AE$4<ControlPanel!$D$59,VLOOKUP(\"Referenz\",$C$91:$AF$115,AE$4-$G$4+5,FALSE),VLOOKUP($C$9,$C$91:$AF$115,AE$4-$G$4+5,FALSE))","v":95.41316374579263},{"$f":"IF(AF$4<ControlPanel!$D$59,VLOOKUP(\"Referenz\",$C$91:$AF$115,AF$4-$G$4+5,FALSE),VLOOKUP($C$9,$C$91:$AF$115,AF$4-$G$4+5,FALSE))","v":89.302961141382269}]
[null,"Wind Onshore",{"$f":"ControlPanel!L8","v":"Referenz"},{"$f":"VLOOKUP($C$10,$C$117:$AF$141,2,FALSE)","v":"dr"},{"$f":"VLOOKUP($C$10,$C$117:$AF$141,3,FALSE)","v":"sinkt auf 3,5 ct/kWh in 2035"},{"$f":"VLOOKUP($C$10,$C$117:$AF$141,4,FALSE)","v":"Bis 2018  EEG Degression; danach Ausschreibungsergebnisse,  Absenkung auf 4 ct/kWh in 2035 (nominal), Gütefaktor 80%"},{"$f":"IF(G$4<ControlPanel!$D$59,VLOOKUP(\"Referenz\",$C$117:$AF$141,G$4-$G$4+5,FALSE),VLOOKUP($C$10,$C$117:$AF$141,G$4-$G$4+5,FALSE))","v":0},{"$f":"IF(H$4<ControlPanel!$D$59,VLOOKUP(\"Referenz\",$C$117:$AF$141,H$4-$G$4+5,FALSE),VLOOKUP($C$10,$C$117:$AF$141,H$4-$G$4+5,FALSE))","v":0},{"$f":"IF(I$4<ControlPanel!$D$59,VLOOKUP(\"Referenz\",$C$117:$AF$141,I$4-$G$4+5,FALSE),VLOOKUP($C$10,$C$117:$AF$141,I$4-$G$4+5,FALSE))","v":0},{"$f":"IF(J$4<ControlPanel!$D$59,VLOOKUP(\"Referenz\",$C$117:$AF$141,J$4-$G$4+5,FALSE),VLOOKUP($C$10,$C$117:$AF$141,J$4-$G$4+5,FALSE))","v":0},{"$f":"IF(K$4<ControlPanel!$D$59,VLOOKUP(\"Referenz\",$C$117:$AF$141,K$4-$G$4+5,FALSE),VLOOKUP($C$10,$C$117:$AF$141,K$4-$G$4+5,FALSE))","v":0},{"$f":"IF(L$4<ControlPanel!$D$59,VLOOKUP(\"Referenz\",$C$117:$AF$141,L$4-$G$4+5,FALSE),VLOOKUP($C$10,$C$117:$AF$141,L$4-$G$4+5,FALSE))","v":87.684729064039445},{"$f":"IF(M$4<ControlPanel!$D$59,VLOOKUP(\"Referenz\",$C$117:$AF$141,M$4-$G$4+5,FALSE),VLOOKUP($C$10,$C$117:$AF$141,M$4-$G$4+5,FALSE))","v":88.277074028919984},{"$f":"IF(N$4<ControlPanel!$D$59,VLOOKUP(\"Referenz\",$C$117:$AF$141,N$4-$G$4+5,FALSE),VLOOKUP($C$10,$C$117:$AF$141,N$4-$G$4+5,FALSE))","v":80.650000000000006},{"$f":"IF(O$4<ControlPanel!$D$59,VLOOKUP(\"Referenz\",$C$117:$AF$141,O$4-$G$4+5,FALSE),VLOOKUP($C$10,$C$117:$AF$141,O$4-$G$4+5,FALSE))","v":74.50738916256158},{"$f":"IF(P$4<ControlPanel!$D$59,VLOOKUP(\"Referenz\",$C$117:$AF$141,P$4-$G$4+5,FALSE),VLOOKUP($C$10,$C$117:$AF$141,P$4-$G$4+5,FALSE))","v":62.153413089373693},{"$f":"IF(Q$4<ControlPanel!$D$59,VLOOKUP(\"Referenz\",$C$117:$AF$141,Q$4-$G$4+5,FALSE),VLOOKUP($C$10,$C$117:$AF$141,Q$4-$G$4+5,FALSE))","v":60.181028416122707},{"$f":"IF(R$4<ControlPanel!$D$59,VLOOKUP(\"Referenz\",$C$117:$AF$141,R$4-$G$4+5,FALSE),VLOOKUP($C$10,$C$117:$AF$141,R$4-$G$4+5,FALSE))","v":58.253366590167602},{"$f":"IF(S$4<ControlPanel!$D$59,VLOOKUP(\"Referenz\",$C$117:$AF$141,S$4-$G$4+5,FALSE),VLOOKUP($C$10,$C$117:$AF$141,S$4-$G$4+5,FALSE))","v":56.369536520582891},{"$f":"IF(T$4<ControlPanel!$D$59,VLOOKUP(\"Referenz\",$C$117:$AF$141,T$4-$G$4+5,FALSE),VLOOKUP($C$10,$C$117:$AF$141,T$4-$G$4+5,FALSE))","v":54.528663686685597},{"$f":"IF(U$4<ControlPanel!$D$59,VLOOKUP(\"Referenz\",$C$117:$AF$141,U$4-$G$4+5,FALSE),VLOOKUP($C$10,$C$117:$AF$141,U$4-$G$4+5,FALSE))","v":52.729889842887602},{"$f":"IF(V$4<ControlPanel!$D$59,VLOOKUP(\"Referenz\",$C$117:$AF$141,V$4-$G$4+5,FALSE),VLOOKUP($C$10,$C$117:$AF$141,V$4-$G$4+5,FALSE))","v":50.972372728652694},{"$f":"IF(W$4<ControlPanel!$D$59,VLOOKUP(\"Referenz\",$C$117:$AF$141,W$4-$G$4+5,FALSE),VLOOKUP($C$10,$C$117:$AF$141,W$4-$G$4+5,FALSE))","v":49.255285783471933},{"$f":"IF(X$4<ControlPanel!$D$59,VLOOKUP(\"Referenz\",$C$117:$AF$141,X$4-$G$4+5,FALSE),VLOOKUP($C$10,$C$117:$AF$141,X$4-$G$4+5,FALSE))","v":47.577817866772151},{"$f":"IF(Y$4<ControlPanel!$D$59,VLOOKUP(\"Referenz\",$C$117:$AF$141,Y$4-$G$4+5,FALSE),VLOOKUP($C$10,$C$117:$AF$141,Y$4-$G$4+5,FALSE))","v":45.939172982674187},{"$f":"IF(Z$4<ControlPanel!$D$59,VLOOKUP(\"Referenz\",$C$117:$AF$141,Z$4-$G$4+5,FALSE),VLOOKUP($C$10,$C$117:$AF$141,Z$4-$G$4+5,FALSE))","v":44.338570009518754},{"$f":"IF(AA$4<ControlPanel!$D$59,VLOOKUP(\"Referenz\",$C$117:$AF$141,AA$4-$G$4+5,FALSE),VLOOKUP($C$10,$C$117:$AF$141,AA$4-$G$4+5,FALSE))","v":42.775242434078841},{"$f":"IF(AB$4<ControlPanel!$D$59,VLOOKUP(\"Referenz\",$C$117:$AF$141,AB$4-$G$4+5,FALSE),VLOOKUP($C$10,$C$117:$AF$141,AB$4-$G$4+5,FALSE))","v":41.24843809037958},{"$f":"IF(AC$4<ControlPanel!$D$59,VLOOKUP(\"Referenz\",$C$117:$AF$141,AC$4-$G$4+5,FALSE),VLOOKUP($C$10,$C$117:$AF$141,AC$4-$G$4+5,FALSE))","v":39.75741890304711},{"$f":"IF(AD$4<ControlPanel!$D$59,VLOOKUP(\"Referenz\",$C$117:$AF$141,AD$4-$G$4+5,FALSE),VLOOKUP($C$10,$C$117:$AF$141,AD$4-$G$4+5,FALSE))","v":38.301460635109848},{"$f":"IF(AE$4<ControlPanel!$D$59,VLOOKUP(\"Referenz\",$C$117:$AF$141,AE$4-$G$4+5,FALSE),VLOOKUP($C$10,$C$117:$AF$141,AE$4-$G$4+5,FALSE))","v":36.879852640176559},{"$f":"IF(AF$4<ControlPanel!$D$59,VLOOKUP(\"Referenz\",$C$117:$AF$141,AF$4-$G$4+5,FALSE),VLOOKUP($C$10,$C$117:$AF$141,AF$4-$G$4+5,FALSE))","v":35.491897618916795}]
[null,"Wind Offshore",{"$f":"ControlPanel!L9","v":"Referenz"},{"$f":"VLOOKUP($C$11,$C$143:$AF$167,2,FALSE)","v":"dr"},{"$f":"VLOOKUP($C$11,$C$143:$AF$167,3,FALSE)","v":"sinkt auf 4,5 ct/kWh in 2035"},{"$f":"VLOOKUP($C$11,$C$143:$AF$167,4,FALSE)","v":"2018-2020: Anfangsvergütung gem. EEG2017  (12+3 Jahre), danach Auktionsergebnisse, lineare Absenkung auf 5 ct/kWh (2030)"},{"$f":"IF(G$4<ControlPanel!$D$59,VLOOKUP(\"Referenz\",$C$143:$AF$167,G$4-$G$4+5,FALSE),VLOOKUP($C$11,$C$143:$AF$167,G$4-$G$4+5,FALSE))","v":0},{"$f":"IF(H$4<ControlPanel!$D$59,VLOOKUP(\"Referenz\",$C$143:$AF$167,H$4-$G$4+5,FALSE),VLOOKUP($C$11,$C$143:$AF$167,H$4-$G$4+5,FALSE))","v":0},{"$f":"IF(I$4<ControlPanel!$D$59,VLOOKUP(\"Referenz\",$C$143:$AF$167,I$4-$G$4+5,FALSE),VLOOKUP($C$11,$C$143:$AF$167,I$4-$G$4+5,FALSE))","v":0},{"$f":"IF(J$4<ControlPanel!$D$59,VLOOKUP(\"Referenz\",$C$143:$AF$167,J$4-$G$4+5,FALSE),VLOOKUP($C$11,$C$143:$AF$167,J$4-$G$4+5,FALSE))","v":0},{"$f":"IF(K$4<ControlPanel!$D$59,VLOOKUP(\"Referenz\",$C$143:$AF$167,K$4-$G$4+5,FALSE),VLOOKUP($C$11,$C$143:$AF$167,K$4-$G$4+5,FALSE))","v":0},{"$f":"IF(L$4<ControlPanel!$D$59,VLOOKUP(\"Referenz\",$C$143:$AF$167,L$4-$G$4+5,FALSE),VLOOKUP($C$11,$C$143:$AF$167,L$4-$G$4+5,FALSE))","v":191.13300492610838},{"$f":"IF(M$4<ControlPanel!$D$59,VLOOKUP(\"Referenz\",$C$143:$AF$167,M$4-$G$4+5,FALSE),VLOOKUP($C$11,$C$143:$AF$167,M$4-$G$4+5,FALSE))","v":191.73349999999999},{"$f":"IF(N$4<ControlPanel!$D$59,VLOOKUP(\"Referenz\",$C$143:$AF$167,N$4-$G$4+5,FALSE),VLOOKUP($C$11,$C$143:$AF$167,N$4-$G$4+5,FALSE))","v":194},{"$f":"IF(O$4<ControlPanel!$D$59,VLOOKUP(\"Referenz\",$C$143:$AF$167,O$4-$G$4+5,FALSE),VLOOKUP($C$11,$C$143:$AF$167,O$4-$G$4+5,FALSE))","v":146.79802955665025},{"$f":"IF(P$4<ControlPanel!$D$59,VLOOKUP(\"Referenz\",$C$143:$AF$167,P$4-$G$4+5,FALSE),VLOOKUP($C$11,$C$143:$AF$167,P$4-$G$4+5,FALSE))","v":144.62860054842392},{"$f":"IF(Q$4<ControlPanel!$D$59,VLOOKUP(\"Referenz\",$C$143:$AF$167,Q$4-$G$4+5,FALSE),VLOOKUP($C$11,$C$143:$AF$167,Q$4-$G$4+5,FALSE))","v":137.70964709870762},{"$f":"IF(R$4<ControlPanel!$D$59,VLOOKUP(\"Referenz\",$C$143:$AF$167,R$4-$G$4+5,FALSE),VLOOKUP($C$11,$C$143:$AF$167,R$4-$G$4+5,FALSE))","v":70},{"$f":"IF(S$4<ControlPanel!$D$59,VLOOKUP(\"Referenz\",$C$143:$AF$167,S$4-$G$4+5,FALSE),VLOOKUP($C$11,$C$143:$AF$167,S$4-$G$4+5,FALSE))","v":65},{"$f":"IF(T$4<ControlPanel!$D$59,VLOOKUP(\"Referenz\",$C$143:$AF$167,T$4-$G$4+5,FALSE),VLOOKUP($C$11,$C$143:$AF$167,T$4-$G$4+5,FALSE))","v":61.666666666666664},{"$f":"IF(U$4<ControlPanel!$D$59,VLOOKUP(\"Referenz\",$C$143:$AF$167,U$4-$G$4+5,FALSE),VLOOKUP($C$11,$C$143:$AF$167,U$4-$G$4+5,FALSE))","v":58.333333333333329},{"$f":"IF(V$4<ControlPanel!$D$59,VLOOKUP(\"Referenz\",$C$143:$AF$167,V$4-$G$4+5,FALSE),VLOOKUP($C$11,$C$143:$AF$167,V$4-$G$4+5,FALSE))","v":55},{"$f":"IF(W$4<ControlPanel!$D$59,VLOOKUP(\"Referenz\",$C$143:$AF$167,W$4-$G$4+5,FALSE),VLOOKUP($C$11,$C$143:$AF$167,W$4-$G$4+5,FALSE))","v":54},{"$f":"IF(X$4<ControlPanel!$D$59,VLOOKUP(\"Referenz\",$C$143:$AF$167,X$4-$G$4+5,FALSE),VLOOKUP($C$11,$C$143:$AF$167,X$4-$G$4+5,FALSE))","v":53},{"$f":"IF(Y$4<ControlPanel!$D$59,VLOOKUP(\"Referenz\",$C$143:$AF$167,Y$4-$G$4+5,FALSE),VLOOKUP($C$11,$C$143:$AF$167,Y$4-$G$4+5,FALSE))","v":52},{"$f":"IF(Z$4<ControlPanel!$D$59,VLOOKUP(\"Referenz\",$C$143:$AF$167,Z$4-$G$4+5,FALSE),VLOOKUP($C$11,$C$143:$AF$167,Z$4-$G$4+5,FALSE))","v":51},{"$f":"IF(AA$4<ControlPanel!$D$59,VLOOKUP(\"Referenz\",$C$143:$AF$167,AA$4-$G$4+5,FALSE),VLOOKUP($C$11,$C$143:$AF$167,AA$4-$G$4+5,FALSE))","v":50},{"$f":"IF(AB$4<ControlPanel!$D$59,VLOOKUP(\"Referenz\",$C$143:$AF$167,AB$4-$G$4+5,FALSE),VLOOKUP($C$11,$C$143:$AF$167,AB$4-$G$4+5,FALSE))","v":49},{"$f":"IF(AC$4<ControlPanel!$D$59,VLOOKUP(\"Referenz\",$C$143:$AF$167,AC$4-$G$4+5,FALSE),VLOOKUP($C$11,$C$143:$AF$167,AC$4-$G$4+5,FALSE))","v":48},{"$f":"IF(AD$4<ControlPanel!$D$59,VLOOKUP(\"Referenz\",$C$143:$AF$167,AD$4-$G$4+5,FALSE),VLOOKUP($C$11,$C$143:$AF$167,AD$4-$G$4+5,FALSE))","v":47},{"$f":"IF(AE$4<ControlPanel!$D$59,VLOOKUP(\"Referenz\",$C$143:$AF$167,AE$4-$G$4+5,FALSE),VLOOKUP($C$11,$C$143:$AF$167,AE$4-$G$4+5,FALSE))","v":46},{"$f":"IF(AF$4<ControlPanel!$D$59,VLOOKUP(\"Referenz\",$C$143:$AF$167,AF$4-$G$4+5,FALSE),VLOOKUP($C$11,$C$143:$AF$167,AF$4-$G$4+5,FALSE))","v":45}]
[null,"PV",{"$f":"ControlPanel!L10","v":"Referenz"},{"$f":"VLOOKUP($C$12,$C$169:$AF$193,2,FALSE)","v":"dr"},{"$f":"VLOOKUP($C$12,$C$169:$AF$193,3,FALSE)","v":"EEG 2017; Anteil Ausschreibungen ab 2020 50%"},{"$f":"VLOOKUP($C$12,$C$169:$AF$193,4,FALSE)","v":"Degression gemäß atmendem Deckel; Ausschreibungsergebnisse, Absenkung auf 3,5 ct/kWh in 2035 (nominal); Anteil Ausschreibungen bis 2019 wie EEG, danach 50%"},{"$f":"IF(G$4<ControlPanel!$D$59,VLOOKUP(\"Referenz\",$C$169:$AF$193,G$4-$G$4+5,FALSE),VLOOKUP($C$12,$C$169:$AF$193,G$4-$G$4+5,FALSE))","v":0},{"$f":"IF(H$4<ControlPanel!$D$59,VLOOKUP(\"Referenz\",$C$169:$AF$193,H$4-$G$4+5,FALSE),VLOOKUP($C$12,$C$169:$AF$193,H$4-$G$4+5,FALSE))","v":0},{"$f":"IF(I$4<ControlPanel!$D$59,VLOOKUP(\"Referenz\",$C$169:$AF$193,I$4-$G$4+5,FALSE),VLOOKUP($C$12,$C$169:$AF$193,I$4-$G$4+5,FALSE))","v":0},{"$f":"IF(J$4<ControlPanel!$D$59,VLOOKUP(\"Referenz\",$C$169:$AF$193,J$4-$G$4+5,FALSE),VLOOKUP($C$12,$C$169:$AF$193,J$4-$G$4+5,FALSE))","v":0},{"$f":"IF(K$4<ControlPanel!$D$59,VLOOKUP(\"Referenz\",$C$169:$AF$193,K$4-$G$4+5,FALSE),VLOOKUP($C$12,$C$169:$AF$193,K$4-$G$4+5,FALSE))","v":0},{"$f":"IF(L$4<ControlPanel!$D$59,VLOOKUP(\"Referenz\",$C$169:$AF$193,L$4-$G$4+5,FALSE),VLOOKUP($C$12,$C$169:$AF$193,L$4-$G$4+5,FALSE))","v":108.02793365944886},{"$f":"IF(M$4<ControlPanel!$D$59,VLOOKUP(\"Referenz\",$C$169:$AF$193,M$4-$G$4+5,FALSE),VLOOKUP($C$12,$C$169:$AF$193,M$4-$G$4+5,FALSE))","v":110.45769389560584},{"$f":"IF(N$4<ControlPanel!$D$59,VLOOKUP(\"Referenz\",$C$169:$AF$193,N$4-$G$4+5,FALSE),VLOOKUP($C$12,$C$169:$AF$193,N$4-$G$4+5,FALSE))","v":101.35881575680968},{"$f":"IF(O$4<ControlPanel!$D$59,VLOOKUP(\"Referenz\",$C$169:$AF$193,O$4-$G$4+5,FALSE),VLOOKUP($C$12,$C$169:$AF$193,O$4-$G$4+5,FALSE))","v":109.04631799757858},{"$f":"IF(P$4<ControlPanel!$D$59,VLOOKUP(\"Referenz\",$C$169:$AF$193,P$4-$G$4+5,FALSE),VLOOKUP($C$12,$C$169:$AF$193,P$4-$G$4+5,FALSE))","v":106.93752173913046},{"$f":"IF(Q$4<ControlPanel!$D$59,VLOOKUP(\"Referenz\",$C$169:$AF$193,Q$4-$G$4+5,FALSE),VLOOKUP($C$12,$C$169:$AF$193,Q$4-$G$4+5,FALSE))","v":89.118500000000012},{"$f":"IF(R$4<ControlPanel!$D$59,VLOOKUP(\"Referenz\",$C$169:$AF$193,R$4-$G$4+5,FALSE),VLOOKUP($C$12,$C$169:$AF$193,R$4-$G$4+5,FALSE))","v":84.825000000000003},{"$f":"IF(S$4<ControlPanel!$D$59,VLOOKUP(\"Referenz\",$C$169:$AF$193,S$4-$G$4+5,FALSE),VLOOKUP($C$12,$C$169:$AF$193,S$4-$G$4+5,FALSE))","v":78.358541666666667},{"$f":"IF(T$4<ControlPanel!$D$59,VLOOKUP(\"Referenz\",$C$169:$AF$193,T$4-$G$4+5,FALSE),VLOOKUP($C$12,$C$169:$AF$193,T$4-$G$4+5,FALSE))","v":74.209166666666661},{"$f":"IF(U$4<ControlPanel!$D$59,VLOOKUP(\"Referenz\",$C$169:$AF$193,U$4-$G$4+5,FALSE),VLOOKUP($C$12,$C$169:$AF$193,U$4-$G$4+5,FALSE))","v":70.758208333333343},{"$f":"IF(V$4<ControlPanel!$D$59,VLOOKUP(\"Referenz\",$C$169:$AF$193,V$4-$G$4+5,FALSE),VLOOKUP($C$12,$C$169:$AF$193,V$4-$G$4+5,FALSE))","v":67.374750000000006},{"$f":"IF(W$4<ControlPanel!$D$59,VLOOKUP(\"Referenz\",$C$169:$AF$193,W$4-$G$4+5,FALSE),VLOOKUP($C$12,$C$169:$AF$193,W$4-$G$4+5,FALSE))","v":64.198750000000004},{"$f":"IF(X$4<ControlPanel!$D$59,VLOOKUP(\"Referenz\",$C$169:$AF$193,X$4-$G$4+5,FALSE),VLOOKUP($C$12,$C$169:$AF$193,X$4-$G$4+5,FALSE))","v":61.143458333333328},{"$f":"IF(Y$4<ControlPanel!$D$59,VLOOKUP(\"Referenz\",$C$169:$AF$193,Y$4-$G$4+5,FALSE),VLOOKUP($C$12,$C$169:$AF$193,Y$4-$G$4+5,FALSE))","v":58.260166666666649},{"$f":"IF(Z$4<ControlPanel!$D$59,VLOOKUP(\"Referenz\",$C$169:$AF$193,Z$4-$G$4+5,FALSE),VLOOKUP($C$12,$C$169:$AF$193,Z$4-$G$4+5,FALSE))","v":55.461749999999988},{"$f":"IF(AA$4<ControlPanel!$D$59,VLOOKUP(\"Referenz\",$C$169:$AF$193,AA$4-$G$4+5,FALSE),VLOOKUP($C$12,$C$169:$AF$193,AA$4-$G$4+5,FALSE))","v":52.840583333333328},{"$f":"IF(AB$4<ControlPanel!$D$59,VLOOKUP(\"Referenz\",$C$169:$AF$193,AB$4-$G$4+5,FALSE),VLOOKUP($C$12,$C$169:$AF$193,AB$4-$G$4+5,FALSE))","v":50.376916666666652},{"$f":"IF(AC$4<ControlPanel!$D$59,VLOOKUP(\"Referenz\",$C$169:$AF$193,AC$4-$G$4+5,FALSE),VLOOKUP($C$12,$C$169:$AF$193,AC$4-$G$4+5,FALSE))","v":47.916249999999991},{"$f":"IF(AD$4<ControlPanel!$D$59,VLOOKUP(\"Referenz\",$C$169:$AF$193,AD$4-$G$4+5,FALSE),VLOOKUP($C$12,$C$169:$AF$193,AD$4-$G$4+5,FALSE))","v":45.505749999999985},{"$f":"IF(AE$4<ControlPanel!$D$59,VLOOKUP(\"Referenz\",$C$169:$AF$193,AE$4-$G$4+5,FALSE),VLOOKUP($C$12,$C$169:$AF$193,AE$4-$G$4+5,FALSE))","v":43.285166666666655},{"$f":"IF(AF$4<ControlPanel!$D$59,VLOOKUP(\"Referenz\",$C$169:$AF$193,AF$4-$G$4+5,FALSE),VLOOKUP($C$12,$C$169:$AF$193,AF$4-$G$4+5,FALSE))","v":41.136499999999998}]
[null,"Wasser","Referenz","dr","EEG 2017","gem. EEG 2017 (0,5%/a Degression)",null,null,null,null,null,115.67111231527093,118.57143532657497,119.06888980183719,116.72270478111133,114.42275000709931,112.16811453897915,109.95790538550175,107.79124715130467,105.66728169019525,103.58516776526531,101.54408071570344,99.54321213017235,97.581769526622168,95.658976038412874,93.774070106621494,91.926305178412207,90.114949411349897,88.339285383540059,86.598609809480166,84.892233261510128,83.219479896751309]
[null,null,"Referenz-20%",null,null,null,null,null,null,null,null,null,null,null,null,null,{"$f":"Q13*(1+$AG14)","v":89.734491631183332},87.966324308401397,86.232997721043745,84.533825352156214,82.868134212212254,81.235264572562755,79.634569704137888,78.065415621297745,76.527180830730302,75.019256085297201,73.541044142729774,72.091959529079915,70.671428306832055,{"$f":"AD13*(1+$AG14)","v":69.27888784758413},{"$f":"AE13*(1+$AG14)","v":67.913786609208103},{"$f":"AF13*(1+$AG14)","v":66.575583917401048},-0.2]
[null,null,"Referenz+20%",null,null,null,null,null,null,null,null,null,null,null,null,null,{"$f":"Q13*(1+$AG15)","v":134.60173744677499},{"$f":"R13*(1+$AG15)","v":131.9494864626021},129.3494965815656,126.80073802823429,124.30220131831837,121.85289685884413,119.45185455620681,117.09812343194659,114.79077124609545,112.52888412794579,110.31156621409464,108.13793929361988,106.00714246024806,{"$f":"AD13*(1+$AG15)","v":103.9183317713762},101.87067991381215,{"$f":"AF13*(1+$AG15)","v":99.863375876101571},0.2]
[null,null,"Keine Kostenreduktion","dr","Kontrafaktisches Szenario ohne Reduktion der Stromgestehungskosten",null,null,null,null,null,null,null,null,null,null,null,{"$f":"P13","v":114.42275000709931},{"$f":"$Q16+($AF16-$Q16)/($AF$4-$Q$4)*(R$4-$Q$4)","v":114.42275000709931},{"$f":"$Q16+($AF16-$Q16)/($AF$4-$Q$4)*(S$4-$Q$4)","v":114.42275000709931},114.42275000709931,114.42275000709931,114.42275000709931,114.42275000709931,114.42275000709931,114.42275000709931,114.42275000709931,114.42275000709931,114.42275000709931,114.42275000709931,114.42275000709931,114.42275000709931,{"$f":"$Q$16","v":114.42275000709931}]
[]
[]
[]
[]
[]
[]
[]
[]
[]
[]
[]
[]
[]
[]
[]
[]
[]
[]
[]
[]
[]
[]
[null,"Gase","Referenz","dr","EEG 2017","gem. EEG 2017 (1,5%/a Degression)",null,null,null,null,null,80.973162315270926,82.169267504056208,66.755592908240772,64.782521196667162,62.867766875583413,61.009606278275527,59.206366683843747,57.456424811414877,55.758205358860749,54.110179584707232,52.510863931957267,50.958818692589077,49.452646711527336,47.990992128920624,46.572539159592914,45.196010908570464,43.860168221617648,42.563808569747181,41.305764966700472,40.084904918423611,38.900129403593361]
[null,null,"Referenz-20%","dr",null,null,null,null,null,null,null,null,null,null,null,null,{"$f":"Q39*(1+$AG40)","v":48.807685022620426},{"$f":"R39*(1+$AG40)","v":47.365093347075003},45.965139849131901,44.606564287088602,43.288143667765787,42.00869114556582,40.767054954071263,39.562117369221873,38.392793703136505,37.258031327674331,36.156808726856376,35.08813457729412,34.051046855797743,33.044611973360382,32.067923934738893,{"$f":"AF39*(1+$AG40)","v":31.12010352287469},-0.2]
[null,null,"Referenz+20%","dr",null,null,null,null,null,null,null,null,null,null,null,null,{"$f":"Q39*(1+$AG41)","v":73.211527533930635},{"$f":"R39*(1+$AG41)","v":71.047640020612491},68.947709773697852,66.909846430632896,64.93221550164867,63.013036718348715,61.150582431106891,59.343176053832799,57.589190554704743,55.887046991511497,54.235213090284553,52.632201865941177,51.076570283696618,49.566917960040563,48.101885902108329,{"$f":"AF39*(1+$AG41)","v":46.680155284312029},0.2]
[null,null,"Keine Kostenreduktion","dr","Kontrafaktisches Szenario ohne Reduktion der Stromgestehungskosten",null,null,null,null,null,null,null,null,null,null,null,{"$f":"P39","v":62.867766875583413},62.87,62.87,62.87,62.87,62.87,62.87,62.87,62.87,62.87,62.87,62.87,62.87,62.87,62.87,{"$f":"Q42","v":62.867766875583413}]
[]
[]
[]
[]
[]
[]
[]
[]
[]
[]
[]
[]
[]
[]
[]
[]
[]
[]
[]
[]
[]
[]
[null,"Biomasse","Referenz","dr","EEG 2017","Gewichtung der Größenklassen und Technologien",null,null,null,null,null,174.76190476190482,178.24364250000005,153.77000000000001,149.9914941707718,146.29623580770996,138.99746124695602,142.45904886967196,137.90967883577406,132.74871581588312,128.6261172129752,129.53996861454175,126.33045913970172,123.19758113514828,120.13952287204474,117.15451553321103,114.24083219030085,111.39678680553604,108.62073325740459,105.91106438974299,103.26621108363823,103.20178107568667]
[null,null,"sehr niedrig (-30%)","dr","In 2035 30% niedriger als Referenz",null,null,null,null,null,null,null,null,null,null,null,{"$f":"Q65*(1+$AG66)","v":97.298222872869204},{"$f":"R65*(1+$AG66)","v":99.721334208770372},96.536775185041833,92.924101071118173,90.038282049082639,90.677978030179219,88.431321397791194,86.238306794603787,84.097666010431311,82.008160873247718,79.968582533210594,77.977750763875221,76.034513280183205,74.137745072820081,72.286347758546754,{"$f":"AF65*(1+$AG66)","v":72.241246752980658},{"$f":"-0.3","v":-0.3}]
[null,null,"niedrig (-15%)","dr","In 2035 15% niedriger als Referenz",null,null,null,null,null,null,null,null,null,null,null,{"$f":"Q65*(1+$AG67)","v":118.14784205991262},{"$f":"R65*(1+$AG67)","v":121.09019153922117},117.22322701040795,112.83640844350064,109.33219963102891,110.10897332236048,107.38089026874646,104.71794396487604,102.11859444123802,99.581338203229365,97.104707361755715,94.687268784705637,92.3276232687939,90.024404731281535,87.776279421092482,{"$f":"AF65*(1+$AG67)","v":87.72151391433367},{"$f":"-0.15","v":-0.15}]
[null,null,"hoch (+15%)","dr","In 2035 15% höher als Referenz",null,null,null,null,null,null,null,null,null,null,null,{"$f":"Q65*(1+$AG68)","v":159.84708043399942},{"$f":"R65*(1+$AG68)","v":163.82790620012275},158.59613066114017,152.66102318826557,147.92003479492146,148.970963906723,145.28002801065696,141.67721830542052,138.16045130285144,134.72769286319266,131.37695701884596,128.10630482636643,124.91384324601528,121.79772404820443,118.75614274618395,{"$f":"AF65*(1+$AG68)","v":118.68204823703967},0.15]
[null,null,"sehr hoch (+30%)","dr","In 2035 30% höher als Referenz",null,null,null,null,null,null,null,null,null,null,null,{"$f":"Q65*(1+$AG69)","v":180.69669962104282},{"$f":"R65*(1+$AG69)","v":185.19676353057355},179.28258248650627,172.57333056064806,167.21395237686778,168.40195919890428,164.22959688161222,160.15685547569277,156.18137973365816,152.30087019317435,148.51308184739111,144.81582284719684,141.20695323462598,137.6843837066659,134.2460744087297,{"$f":"AF65*(1+$AG69)","v":134.16231539839268},0.3]
[null,null,"Keine Kostenreduktion","dr","Kontrafaktisches Szenario ohne Reduktion der Stromgestehungskosten",null,null,null,null,null,null,null,null,null,null,null,{"$f":"P65","v":146.29623580770996},{"$f":"$Q70+($AF70-$Q70)/($AF$4-$Q$4)*(R$4-$Q$4)","v":146.29623580770996},{"$f":"$Q70+($AF70-$Q70)/($AF$4-$Q$4)*(S$4-$Q$4)","v":146.29623580770996},146.29623580770996,146.29623580770996,146.29623580770996,146.29623580770996,146.29623580770996,146.29623580770996,146.29623580770996,146.29623580770996,146.29623580770996,146.29623580770996,146.29623580770996,146.29623580770996,{"$f":"$Q$70","v":146.29623580770996}]
[null,null,"EEG 2021","dr","EEG 2021 inkl. Biomethan","2021: 90% des Höchstwertes für Gebote durch neue Biomasseanlagen (EEG2021§39b) (77%) und Biomethan (EEG2021§39l) (33%), danach jährliche Reduktion um 1% entsp. EEG2021 §39b,l",null,null,null,null,null,null,null,null,null,null,null,{"$f":"600/750*164*0.9+150/750*190*0.9","v":152.28000000000003},{"$f":"R71*0.99","v":150.75720000000004},{"$f":"S71*0.99","v":149.24962800000003},147.75713172000002,146.27956040280003,144.81676479877203,143.3685971507843,141.93491117927644,140.51556206748367,139.11040644680884,137.71930238234074,136.34210935851735,134.97868826493217,133.62890138228286,132.29261236846003]
[]
[]
[]
[]
[]
[]
[]
[]
[]
[]
[]
[]
[]
[]
[]
[]
[]
[]
[]
[null,"Geothermie","Referenz","dr","EEG 2017","gem. EEG 2017 (ab 2021 5%/a Degression)",null,null,null,null,null,248.27586206896555,249.38549999999995,252,248.27586206896555,244.60676065907938,240.99188242273834,225.55890473064181,211.11424580700469,197.59461430212264,184.94077200691282,173.09727429218444,162.01222717002486,151.63705991283115,141.92631223368434,132.83743509556663,124.33060427663872,116.3685458746865,108.91637298615977,101.94143284418897,95.41316374579263,89.302961141382269]
[null,null,"Referenz-20%","dr",null,null,null,null,null,null,null,null,null,null,null,null,{"$f":"Q91*(1+$AG92)","v":192.79350593819069},180.44712378451345,168.89139664560378,158.07569144169813,147.95261760553026,138.47781943374756,129.6097817360199,121.30964793026493,113.54104978694748,106.26994807645332,99.464483421310987,93.094836699749209,87.13309838892782,81.553146275351182,76.33053099663411,{"$f":"AF91*(1+$AG92)","v":71.442368913105824},-0.2]
[null,null,"Referenz+20%","dr",null,null,null,null,null,null,null,null,null,null,null,null,{"$f":"Q91*(1+$AG93)","v":289.19025890728602},270.67068567677018,253.33709496840561,237.11353716254715,221.92892640829538,207.71672915062132,194.41467260402982,181.96447189539737,170.31157468042122,159.40492211467995,149.19672513196647,139.6422550496238,130.69964758339171,122.32971941302675,114.49579649495115,{"$f":"AF91*(1+$AG93)","v":107.16355336965871},0.2]
[null,null,"Keine Kostenreduktion","dr","Kontrafaktisches Szenario ohne Reduktion der Stromgestehungskosten",null,null,null,null,null,null,null,null,null,null,null,{"$f":"P91","v":244.60676065907938},{"$f":"$Q94+($AF94-$Q94)/($AF$4-$Q$4)*(R$4-$Q$4)","v":244.60676065907938},{"$f":"$Q94+($AF94-$Q94)/($AF$4-$Q$4)*(S$4-$Q$4)","v":244.60676065907938},244.60676065907938,244.60676065907938,244.60676065907938,244.60676065907938,244.60676065907938,244.60676065907938,244.60676065907938,244.60676065907938,244.60676065907938,244.60676065907938,244.60676065907938,244.60676065907938,{"$f":"Q94","v":244.60676065907938}]
[]
[]
[]
[]
[]
[]
[]
[]
[]
[]
[]
[]
[]
[]
[]
[]
[]
[]
[]
[]
[]
[]
[null,"Wind Onshore","Referenz","dr",{"$f":"CONCATENATE(\"sinkt auf \",TEXT(AF117/10,\"##,0\"),\" ct/kWh in 2035\")","v":"sinkt auf 3,5 ct/kWh in 2035"},"Bis 2018  EEG Degression; danach Ausschreibungsergebnisse,  Absenkung auf 4 ct/kWh in 2035 (nominal), Gütefaktor 80%",null,null,null,null,null,87.684729064039445,88.277074028919984,80.650000000000006,74.50738916256158,62.153413089373693,60.181028416122707,58.253366590167602,56.369536520582891,54.528663686685597,52.729889842887602,50.972372728652694,49.255285783471933,47.577817866772151,45.939172982674187,44.338570009518754,42.775242434078841,41.24843809037958,39.75741890304711,38.301460635109848,36.879852640176559,35.491897618916795]
[null,null,"sehr niedrig (-30%)","dr","In 2035 30% niedriger als Referenz",null,null,null,null,null,null,null,null,null,null,null,{"$f":"Q117*(1+$AG118)","v":42.126719891285894},{"$f":"R117*(1+$AG118)","v":40.77735661311732},39.458675564408018,38.170064580679913,36.910922890021318,35.680660910056886,34.478700048430348,33.304472506740503,32.157421087871931,31.036999006663127,29.942669703855188,28.873906663265704,27.830193232132977,26.811022444576892,25.81589684812359,{"$f":"AF117*(1+$AG118)","v":24.844328333241755},{"$f":"-0.3","v":-0.3}]
[null,null,"niedrig (-15%)","dr","In 2035 15% niedriger als Referenz",null,null,null,null,null,null,null,null,null,null,null,{"$f":"Q117*(1+$AG119)","v":51.153874153704301},{"$f":"R117*(1+$AG119)","v":49.515361601642461},47.914106042495455,46.349364133682755,44.820406366454463,43.326516819354786,41.866992915951144,40.44114518675633,39.048297035273059,37.687784508090942,36.358956068967011,35.06117237682264,33.79380606759004,32.55624153984337,31.347874744150072,{"$f":"AF117*(1+$AG119)","v":30.168112976079275},{"$f":"-0.15","v":-0.15}]
[null,null,"hoch (+15%)","dr","In 2035 15% höher als Referenz",null,null,null,null,null,null,null,null,null,null,null,{"$f":"Q117*(1+$AG120)","v":69.208182678541107},{"$f":"R117*(1+$AG120)","v":66.991371578692736},64.82496699867032,62.707963239688432,60.63937331932074,58.618228637950594,56.643578650992715,54.714490546787971,52.830048930075307,50.989355510946567,49.191528799190664,47.435703803936512,45.721031738504173,44.046679730376319,42.411830536203041,{"$f":"AF117*(1+$AG120)","v":40.815682261754311},0.15]
[null,null,"sehr hoch (+30%)","dr","In 2035 30% höher als Referenz",null,null,null,null,null,null,null,null,null,null,null,{"$f":"Q117*(1+$AG121)","v":78.235336940959527},{"$f":"R117*(1+$AG121)","v":75.729376567217884},73.280397476757756,70.887262792691274,68.548856795753878,66.264084547248501,64.031871518513512,61.851163226803799,59.720924877476442,57.640141012374386,55.607815164302494,53.622969517493452,51.684644573961243,49.791898825642804,47.943808432229531,{"$f":"AF117*(1+$AG121)","v":46.139466904591835},0.3]
[null,null,"Keine Kostenreduktion","dr","Kontrafaktisches Szenario ohne Reduktion der Stromgestehungskosten",null,null,null,null,null,null,null,null,null,null,null,{"$f":"P117","v":62.153413089373693},{"$f":"$Q122+($AF122-$Q122)/($AF$4-$Q$4)*(R$4-$Q$4)","v":62.153413089373693},{"$f":"$Q122+($AF122-$Q122)/($AF$4-$Q$4)*(S$4-$Q$4)","v":62.153413089373693},62.153413089373693,62.153413089373693,62.153413089373693,62.153413089373693,62.153413089373693,62.153413089373693,62.153413089373693,62.153413089373693,62.153413089373693,62.153413089373693,62.153413089373693,62.153413089373693,{"$f":"Q122","v":62.153413089373693}]
[]
[]
[]
[]
[]
[]
[]
[]
[]
[]
[]
[]
[]
[]
[]
[]
[]
[]
[]
[]
[null,"Wind Offshore","Referenz","dr",{"$f":"CONCATENATE(\"sinkt auf \",TEXT(AF143/10,\"##,0\"),\" ct/kWh in 2035\")","v":"sinkt auf 4,5 ct/kWh in 2035"},"2018-2020: Anfangsvergütung gem. EEG2017  (12+3 Jahre), danach Auktionsergebnisse, lineare Absenkung auf 5 ct/kWh (2030)",null,null,null,null,null,191.13300492610838,191.73349999999999,194,146.79802955665025,144.62860054842392,137.70964709870762,70,65,61.666666666666664,58.333333333333329,55,54,53,52,51,50,49,48,47,46,45]
[null,null,"sehr niedrig (-30%)","dr","In 2035 30% niedriger als Referenz",null,null,null,null,null,null,null,null,null,null,null,{"$f":"Q143*(1+$AG144)","v":96.396752969095331},{"$f":"R143*(1+$AG144)","v":49},45.5,43.166666666666664,40.833333333333329,38.5,37.799999999999997,37.099999999999994,36.4,35.699999999999996,35,34.299999999999997,33.599999999999994,32.9,32.199999999999996,{"$f":"AF143*(1+$AG144)","v":31.499999999999996},{"$f":"-0.3","v":-0.3}]
[null,null,"niedrig (-15%)","dr","In 2035 15% niedriger als Referenz",null,null,null,null,null,null,null,null,null,null,null,{"$f":"Q143*(1+$AG145)","v":117.05320003390148},{"$f":"R143*(1+$AG145)","v":59.5},55.25,52.416666666666664,49.583333333333329,46.75,45.9,45.05,44.199999999999996,43.35,42.5,41.65,40.799999999999997,39.949999999999996,39.1,{"$f":"AF143*(1+$AG145)","v":38.25},{"$f":"-0.15","v":-0.15}]
[null,null,"hoch (+15%)","dr","In 2035 15% höher als Referenz",null,null,null,null,null,null,null,null,null,null,null,{"$f":"Q143*(1+$AG146)","v":158.36609416351376},{"$f":"R143*(1+$AG146)","v":80.5},74.75,70.916666666666657,67.083333333333329,63.249999999999993,62.099999999999994,60.949999999999996,59.8,58.65,57.499999999999993,56.349999999999994,55.199999999999996,54.05,52.9,{"$f":"AF143*(1+$AG146)","v":51.749999999999993},0.15]
[null,null,"sehr hoch (+30%)","dr","In 2035 30% höher als Referenz",null,null,null,null,null,null,null,null,null,null,null,{"$f":"Q143*(1+$AG147)","v":179.02254122831991},{"$f":"R143*(1+$AG147)","v":91},84.5,80.166666666666671,75.833333333333329,71.5,70.2,68.900000000000006,67.600000000000009,66.3,65,63.7,62.400000000000006,61.1,59.800000000000004,{"$f":"AF143*(1+$AG147)","v":58.5},0.3]
[null,null,"Keine Kostenreduktion","dr","Kontrafaktisches Szenario ohne Reduktion der Stromgestehungskosten",null,null,null,null,null,null,null,null,null,null,null,{"$f":"P143","v":144.62860054842392},{"$f":"$P$143","v":144.62860054842392},{"$f":"$P$143","v":144.62860054842392},{"$f":"$P$143","v":144.62860054842392},144.62860054842392,144.62860054842392,144.62860054842392,144.62860054842392,144.62860054842392,144.62860054842392,144.62860054842392,144.62860054842392,144.62860054842392,144.62860054842392,144.62860054842392,{"$f":"Q148","v":144.62860054842392}]
[]
[]
[]
[]
[]
[]
[]
[]
[]
[]
[]
[]
[]
[]
[]
[]
[]
[]
[]
[]
[null,"PV","Referenz","dr","EEG 2017; Anteil Ausschreibungen ab 2020 50%","Degression gemäß atmendem Deckel; Ausschreibungsergebnisse, Absenkung auf 3,5 ct/kWh in 2035 (nominal); Anteil Ausschreibungen bis 2019 wie EEG, danach 50%",null,null,null,null,null,108.02793365944886,110.45769389560584,101.35881575680968,109.04631799757858,106.93752173913046,89.118500000000012,84.825000000000003,78.358541666666667,74.209166666666661,70.758208333333343,67.374750000000006,64.198750000000004,61.143458333333328,58.260166666666649,55.461749999999988,52.840583333333328,50.376916666666652,47.916249999999991,45.505749999999985,43.285166666666655,41.136499999999998]
[null,null,"sehr niedrig (-30%)","dr","In 2035 30% niedriger als Referenz",null,null,null,null,null,null,null,null,null,null,null,{"$f":"Q169*(1+$AG170)","v":62.382950000000001},59.377499999999998,54.850979166666662,51.946416666666657,49.530745833333334,47.162325000000003,44.939124999999997,42.800420833333327,40.782116666666653,38.823224999999987,36.988408333333325,35.263841666666657,33.541374999999995,31.854024999999986,30.299616666666655,{"$f":"AF169*(1+$AG170)","v":28.795549999999995},{"$f":"-0.3","v":-0.3}]
[null,null,"niedrig (-15%)","dr","In 2035 15% niedriger als Referenz",null,null,null,null,null,null,null,null,null,null,null,{"$f":"Q169*(1+$AG171)","v":75.750725000000003},72.101250000000007,66.604760416666664,63.077791666666663,60.144477083333342,57.268537500000001,54.568937500000004,51.971939583333331,49.521141666666651,47.142487499999987,44.914495833333326,42.820379166666655,40.728812499999989,38.679887499999985,36.792391666666653,{"$f":"AF169*(1+$AG171)","v":34.966024999999995},{"$f":"-0.15","v":-0.15}]
[null,null,"hoch (+15%)","dr","In 2035 15% höher als Referenz",null,null,null,null,null,null,null,null,null,null,null,{"$f":"Q169*(1+$AG172)","v":102.48627500000001},97.548749999999998,90.112322916666656,85.340541666666653,81.371939583333344,77.480962500000004,73.828562500000004,70.314977083333318,66.999191666666647,63.781012499999981,60.766670833333322,57.933454166666642,55.103687499999985,52.331612499999977,49.777941666666649,{"$f":"AF169*(1+$AG172)","v":47.306974999999994},0.15]
[null,null,"sehr hoch (+30%)","dr","In 2035 30% höher als Referenz",null,null,null,null,null,null,null,null,null,null,null,{"$f":"Q169*(1+$AG173)","v":115.85405000000002},110.27250000000001,101.86610416666667,96.471916666666658,91.985670833333344,87.587175000000016,83.458375000000004,79.486495833333322,75.738216666666645,72.100274999999982,68.69275833333333,65.489991666666654,62.291124999999987,59.157474999999984,56.270716666666651,{"$f":"AF169*(1+$AG173)","v":53.477449999999997},0.3]
[null,null,"Keine Kostenreduktion","dr","Kontrafaktisches Szenario ohne Reduktion der Stromgestehungskosten",null,null,null,null,null,null,null,null,null,null,null,{"$f":"P169","v":106.93752173913046},{"$f":"$Q174+($AF174-$Q174)/($AF$4-$Q$4)*(R$4-$Q$4)","v":106.93752173913046},{"$f":"$Q174+($AF174-$Q174)/($AF$4-$Q$4)*(S$4-$Q$4)","v":106.93752173913046},106.93752173913046,106.93752173913046,106.93752173913046,106.93752173913046,106.93752173913046,106.93752173913046,106.93752173913046,106.93752173913046,106.93752173913046,106.93752173913046,106.93752173913046,106.93752173913046,{"$f":"$Q$174","v":106.93752173913046}]

{"sheet":"D-Bruttozubau","index":15,"n_rows":193,"n_cols":32,"rows_kept":193,"cut":false,"hidden":true,"merged":[]}
[" ","Jährlicher Kapazitätszubau Erneuerbare (Brutto)"]
[]
[null,null,"Szenario","Bearbeiter","Beschreibung","Kommentar"]
[null,null,null,null,null,null,2010,2011,2012,2013,2014,2015,2016,2017,2018,2019,2020,2021,2022,2023,2024,2025,2026,2027,2028,2029,2030,2031,2032,2033,2034,2035]
[null,null,null,null,null,null,"GW","GW","GW","GW","GW","GW","GW","GW","GW","GW","GW","GW","GW","GW","GW","GW","GW","GW","GW","GW","GW","GW","GW","GW","GW","GW"]
[null,"Wasser",{"$f":"ControlPanel!E13","v":"Referenz"},{"$f":"VLOOKUP($C$6,$C$13:$AF$37,2,FALSE)","v":"fh"},{"$f":"VLOOKUP($C$6,$C$13:$AF$37,3,FALSE)","v":"0,01 GW/a"},{"$f":"VLOOKUP($C$6,$C$13:$AF$37,4,FALSE)","v":"bis 2025: Mittelfristprognose (Trendszenario). Danach konstant"},{"$f":"IF(G$4<(ControlPanel!$D$59-1),VLOOKUP(\"Referenz\",$C$13:$AF$37,G$4-$G$4+5,FALSE),VLOOKUP($C$6,$C$13:$AF$37,G$4-$G$4+5,FALSE))","v":0.11411000000000038},{"$f":"IF(H$4<(ControlPanel!$D$59-1),VLOOKUP(\"Referenz\",$C$13:$AF$37,H$4-$G$4+5,FALSE),VLOOKUP($C$6,$C$13:$AF$37,H$4-$G$4+5,FALSE))","v":9.2075899999999766E-2},{"$f":"IF(I$4<(ControlPanel!$D$59-1),VLOOKUP(\"Referenz\",$C$13:$AF$37,I$4-$G$4+5,FALSE),VLOOKUP($C$6,$C$13:$AF$37,I$4-$G$4+5,FALSE))","v":5.082349999999991E-2},{"$f":"IF(J$4<(ControlPanel!$D$59-1),VLOOKUP(\"Referenz\",$C$13:$AF$37,J$4-$G$4+5,FALSE),VLOOKUP($C$6,$C$13:$AF$37,J$4-$G$4+5,FALSE))","v":7.4043600000000209E-2},{"$f":"IF(K$4<(ControlPanel!$D$59-1),VLOOKUP(\"Referenz\",$C$13:$AF$37,K$4-$G$4+5,FALSE),VLOOKUP($C$6,$C$13:$AF$37,K$4-$G$4+5,FALSE))","v":0},{"$f":"IF(L$4<(ControlPanel!$D$59-1),VLOOKUP(\"Referenz\",$C$13:$AF$37,L$4-$G$4+5,FALSE),VLOOKUP($C$6,$C$13:$AF$37,L$4-$G$4+5,FALSE))","v":0.2908247849999997},{"$f":"IF(M$4<(ControlPanel!$D$59-1),VLOOKUP(\"Referenz\",$C$13:$AF$37,M$4-$G$4+5,FALSE),VLOOKUP($C$6,$C$13:$AF$37,M$4-$G$4+5,FALSE))","v":2.1633774999999821E-2},{"$f":"IF(N$4<(ControlPanel!$D$59-1),VLOOKUP(\"Referenz\",$C$13:$AF$37,N$4-$G$4+5,FALSE),VLOOKUP($C$6,$C$13:$AF$37,N$4-$G$4+5,FALSE))","v":5.4000000000000003E-3},{"$f":"IF(O$4<(ControlPanel!$D$59-1),VLOOKUP(\"Referenz\",$C$13:$AF$37,O$4-$G$4+5,FALSE),VLOOKUP($C$6,$C$13:$AF$37,O$4-$G$4+5,FALSE))","v":1.4999999999999999E-2},{"$f":"IF(P$4<(ControlPanel!$D$59-1),VLOOKUP(\"Referenz\",$C$13:$AF$37,P$4-$G$4+5,FALSE),VLOOKUP($C$6,$C$13:$AF$37,P$4-$G$4+5,FALSE))","v":1.7000000000000001E-2},{"$f":"IF(Q$4<(ControlPanel!$D$59-1),VLOOKUP(\"Referenz\",$C$13:$AF$37,Q$4-$G$4+5,FALSE),VLOOKUP($C$6,$C$13:$AF$37,Q$4-$G$4+5,FALSE))","v":1.2999999999999999E-2},{"$f":"IF(R$4<(ControlPanel!$D$59-1),VLOOKUP(\"Referenz\",$C$13:$AF$37,R$4-$G$4+5,FALSE),VLOOKUP($C$6,$C$13:$AF$37,R$4-$G$4+5,FALSE))","v":1.4E-2},{"$f":"IF(S$4<(ControlPanel!$D$59-1),VLOOKUP(\"Referenz\",$C$13:$AF$37,S$4-$G$4+5,FALSE),VLOOKUP($C$6,$C$13:$AF$37,S$4-$G$4+5,FALSE))","v":1.4E-2},{"$f":"IF(T$4<(ControlPanel!$D$59-1),VLOOKUP(\"Referenz\",$C$13:$AF$37,T$4-$G$4+5,FALSE),VLOOKUP($C$6,$C$13:$AF$37,T$4-$G$4+5,FALSE))","v":1.4E-2},{"$f":"IF(U$4<(ControlPanel!$D$59-1),VLOOKUP(\"Referenz\",$C$13:$AF$37,U$4-$G$4+5,FALSE),VLOOKUP($C$6,$C$13:$AF$37,U$4-$G$4+5,FALSE))","v":1.4E-2},{"$f":"IF(V$4<(ControlPanel!$D$59-1),VLOOKUP(\"Referenz\",$C$13:$AF$37,V$4-$G$4+5,FALSE),VLOOKUP($C$6,$C$13:$AF$37,V$4-$G$4+5,FALSE))","v":1.4E-2},{"$f":"IF(W$4<(ControlPanel!$D$59-1),VLOOKUP(\"Referenz\",$C$13:$AF$37,W$4-$G$4+5,FALSE),VLOOKUP($C$6,$C$13:$AF$37,W$4-$G$4+5,FALSE))","v":1.4E-2},{"$f":"IF(X$4<(ControlPanel!$D$59-1),VLOOKUP(\"Referenz\",$C$13:$AF$37,X$4-$G$4+5,FALSE),VLOOKUP($C$6,$C$13:$AF$37,X$4-$G$4+5,FALSE))","v":1.4E-2},{"$f":"IF(Y$4<(ControlPanel!$D$59-1),VLOOKUP(\"Referenz\",$C$13:$AF$37,Y$4-$G$4+5,FALSE),VLOOKUP($C$6,$C$13:$AF$37,Y$4-$G$4+5,FALSE))","v":1.4E-2},{"$f":"IF(Z$4<(ControlPanel!$D$59-1),VLOOKUP(\"Referenz\",$C$13:$AF$37,Z$4-$G$4+5,FALSE),VLOOKUP($C$6,$C$13:$AF$37,Z$4-$G$4+5,FALSE))","v":1.4E-2},{"$f":"IF(AA$4<(ControlPanel!$D$59-1),VLOOKUP(\"Referenz\",$C$13:$AF$37,AA$4-$G$4+5,FALSE),VLOOKUP($C$6,$C$13:$AF$37,AA$4-$G$4+5,FALSE))","v":1.4E-2},{"$f":"IF(AB$4<(ControlPanel!$D$59-1),VLOOKUP(\"Referenz\",$C$13:$AF$37,AB$4-$G$4+5,FALSE),VLOOKUP($C$6,$C$13:$AF$37,AB$4-$G$4+5,FALSE))","v":1.4E-2},{"$f":"IF(AC$4<(ControlPanel!$D$59-1),VLOOKUP(\"Referenz\",$C$13:$AF$37,AC$4-$G$4+5,FALSE),VLOOKUP($C$6,$C$13:$AF$37,AC$4-$G$4+5,FALSE))","v":1.4E-2},{"$f":"IF(AD$4<(ControlPanel!$D$59-1),VLOOKUP(\"Referenz\",$C$13:$AF$37,AD$4-$G$4+5,FALSE),VLOOKUP($C$6,$C$13:$AF$37,AD$4-$G$4+5,FALSE))","v":1.4E-2},{"$f":"IF(AE$4<(ControlPanel!$D$59-1),VLOOKUP(\"Referenz\",$C$13:$AF$37,AE$4-$G$4+5,FALSE),VLOOKUP($C$6,$C$13:$AF$37,AE$4-$G$4+5,FALSE))","v":1.4E-2},{"$f":"IF(AF$4<(ControlPanel!$D$59-1),VLOOKUP(\"Referenz\",$C$13:$AF$37,AF$4-$G$4+5,FALSE),VLOOKUP($C$6,$C$13:$AF$37,AF$4-$G$4+5,FALSE))","v":1.4E-2}]
[null,"Gase",{"$f":"ControlPanel!E14","v":"Referenz"},{"$f":"VLOOKUP($C$7,$C$39:$AF$63,2,FALSE)","v":"fh"},{"$f":"VLOOKUP($C$7,$C$39:$AF$63,3,FALSE)","v":"0,01GW/a"},{"$f":"VLOOKUP($C$7,$C$39:$AF$63,4,FALSE)","v":"bis 2025: Mittelfristprognose (Trendszenario). Danach 0,01GW/a"},{"$f":"IF(G$4<(ControlPanel!$D$59-1),VLOOKUP(\"Referenz\",$C$39:$AF$63,G$4-$G$4+5,FALSE),VLOOKUP($C$7,$C$39:$AF$63,G$4-$G$4+5,FALSE))","v":1.5435999999999849E-2},{"$f":"IF(H$4<(ControlPanel!$D$59-1),VLOOKUP(\"Referenz\",$C$39:$AF$63,H$4-$G$4+5,FALSE),VLOOKUP($C$7,$C$39:$AF$63,H$4-$G$4+5,FALSE))","v":1.2638999999999964E-2},{"$f":"IF(I$4<(ControlPanel!$D$59-1),VLOOKUP(\"Referenz\",$C$39:$AF$63,I$4-$G$4+5,FALSE),VLOOKUP($C$7,$C$39:$AF$63,I$4-$G$4+5,FALSE))","v":7.8030000000000209E-3},{"$f":"IF(J$4<(ControlPanel!$D$59-1),VLOOKUP(\"Referenz\",$C$39:$AF$63,J$4-$G$4+5,FALSE),VLOOKUP($C$7,$C$39:$AF$63,J$4-$G$4+5,FALSE))","v":8.2572000000000756E-3},{"$f":"IF(K$4<(ControlPanel!$D$59-1),VLOOKUP(\"Referenz\",$C$39:$AF$63,K$4-$G$4+5,FALSE),VLOOKUP($C$7,$C$39:$AF$63,K$4-$G$4+5,FALSE))","v":0},{"$f":"IF(L$4<(ControlPanel!$D$59-1),VLOOKUP(\"Referenz\",$C$39:$AF$63,L$4-$G$4+5,FALSE),VLOOKUP($C$7,$C$39:$AF$63,L$4-$G$4+5,FALSE))","v":4.5781999999999823E-2},{"$f":"IF(M$4<(ControlPanel!$D$59-1),VLOOKUP(\"Referenz\",$C$39:$AF$63,M$4-$G$4+5,FALSE),VLOOKUP($C$7,$C$39:$AF$63,M$4-$G$4+5,FALSE))","v":4.0839999999999765E-3},{"$f":"IF(N$4<(ControlPanel!$D$59-1),VLOOKUP(\"Referenz\",$C$39:$AF$63,N$4-$G$4+5,FALSE),VLOOKUP($C$7,$C$39:$AF$63,N$4-$G$4+5,FALSE))","v":1.6999999999999999E-3},{"$f":"IF(O$4<(ControlPanel!$D$59-1),VLOOKUP(\"Referenz\",$C$39:$AF$63,O$4-$G$4+5,FALSE),VLOOKUP($C$7,$C$39:$AF$63,O$4-$G$4+5,FALSE))","v":6.0000000000000001E-3},{"$f":"IF(P$4<(ControlPanel!$D$59-1),VLOOKUP(\"Referenz\",$C$39:$AF$63,P$4-$G$4+5,FALSE),VLOOKUP($C$7,$C$39:$AF$63,P$4-$G$4+5,FALSE))","v":2E-3},{"$f":"IF(Q$4<(ControlPanel!$D$59-1),VLOOKUP(\"Referenz\",$C$39:$AF$63,Q$4-$G$4+5,FALSE),VLOOKUP($C$7,$C$39:$AF$63,Q$4-$G$4+5,FALSE))","v":2E-3},{"$f":"IF(R$4<(ControlPanel!$D$59-1),VLOOKUP(\"Referenz\",$C$39:$AF$63,R$4-$G$4+5,FALSE),VLOOKUP($C$7,$C$39:$AF$63,R$4-$G$4+5,FALSE))","v":2E-3},{"$f":"IF(S$4<(ControlPanel!$D$59-1),VLOOKUP(\"Referenz\",$C$39:$AF$63,S$4-$G$4+5,FALSE),VLOOKUP($C$7,$C$39:$AF$63,S$4-$G$4+5,FALSE))","v":2E-3},{"$f":"IF(T$4<(ControlPanel!$D$59-1),VLOOKUP(\"Referenz\",$C$39:$AF$63,T$4-$G$4+5,FALSE),VLOOKUP($C$7,$C$39:$AF$63,T$4-$G$4+5,FALSE))","v":2E-3},{"$f":"IF(U$4<(ControlPanel!$D$59-1),VLOOKUP(\"Referenz\",$C$39:$AF$63,U$4-$G$4+5,FALSE),VLOOKUP($C$7,$C$39:$AF$63,U$4-$G$4+5,FALSE))","v":2E-3},{"$f":"IF(V$4<(ControlPanel!$D$59-1),VLOOKUP(\"Referenz\",$C$39:$AF$63,V$4-$G$4+5,FALSE),VLOOKUP($C$7,$C$39:$AF$63,V$4-$G$4+5,FALSE))","v":0.01},{"$f":"IF(W$4<(ControlPanel!$D$59-1),VLOOKUP(\"Referenz\",$C$39:$AF$63,W$4-$G$4+5,FALSE),VLOOKUP($C$7,$C$39:$AF$63,W$4-$G$4+5,FALSE))","v":0.01},{"$f":"IF(X$4<(ControlPanel!$D$59-1),VLOOKUP(\"Referenz\",$C$39:$AF$63,X$4-$G$4+5,FALSE),VLOOKUP($C$7,$C$39:$AF$63,X$4-$G$4+5,FALSE))","v":0.01},{"$f":"IF(Y$4<(ControlPanel!$D$59-1),VLOOKUP(\"Referenz\",$C$39:$AF$63,Y$4-$G$4+5,FALSE),VLOOKUP($C$7,$C$39:$AF$63,Y$4-$G$4+5,FALSE))","v":0.01},{"$f":"IF(Z$4<(ControlPanel!$D$59-1),VLOOKUP(\"Referenz\",$C$39:$AF$63,Z$4-$G$4+5,FALSE),VLOOKUP($C$7,$C$39:$AF$63,Z$4-$G$4+5,FALSE))","v":0.01},{"$f":"IF(AA$4<(ControlPanel!$D$59-1),VLOOKUP(\"Referenz\",$C$39:$AF$63,AA$4-$G$4+5,FALSE),VLOOKUP($C$7,$C$39:$AF$63,AA$4-$G$4+5,FALSE))","v":0.01},{"$f":"IF(AB$4<(ControlPanel!$D$59-1),VLOOKUP(\"Referenz\",$C$39:$AF$63,AB$4-$G$4+5,FALSE),VLOOKUP($C$7,$C$39:$AF$63,AB$4-$G$4+5,FALSE))","v":0.01},{"$f":"IF(AC$4<(ControlPanel!$D$59-1),VLOOKUP(\"Referenz\",$C$39:$AF$63,AC$4-$G$4+5,FALSE),VLOOKUP($C$7,$C$39:$AF$63,AC$4-$G$4+5,FALSE))","v":0.01},{"$f":"IF(AD$4<(ControlPanel!$D$59-1),VLOOKUP(\"Referenz\",$C$39:$AF$63,AD$4-$G$4+5,FALSE),VLOOKUP($C$7,$C$39:$AF$63,AD$4-$G$4+5,FALSE))","v":0.01},{"$f":"IF(AE$4<(ControlPanel!$D$59-1),VLOOKUP(\"Referenz\",$C$39:$AF$63,AE$4-$G$4+5,FALSE),VLOOKUP($C$7,$C$39:$AF$63,AE$4-$G$4+5,FALSE))","v":0.01},{"$f":"IF(AF$4<(ControlPanel!$D$59-1),VLOOKUP(\"Referenz\",$C$39:$AF$63,AF$4-$G$4+5,FALSE),VLOOKUP($C$7,$C$39:$AF$63,AF$4-$G$4+5,FALSE))","v":0.01}]
[null,"Biomasse",{"$f":"ControlPanel!E11","v":"Referenz"},{"$f":"VLOOKUP($C$8,$C$65:$AF$89,2,FALSE)","v":"fh"},{"$f":"VLOOKUP($C$8,$C$65:$AF$89,3,FALSE)","v":"0,2 GW/a"},{"$f":"VLOOKUP($C$8,$C$65:$AF$89,4,FALSE)","v":"MFP Trend bis 2025, danach 0,2 GW/a"},{"$f":"IF(G$4<(ControlPanel!$D$59-1),VLOOKUP(\"Referenz\",$C$65:$AF$89,G$4-$G$4+5,FALSE),VLOOKUP($C$8,$C$65:$AF$89,G$4-$G$4+5,FALSE))","v":0.41799999999999998},{"$f":"IF(H$4<(ControlPanel!$D$59-1),VLOOKUP(\"Referenz\",$C$65:$AF$89,H$4-$G$4+5,FALSE),VLOOKUP($C$8,$C$65:$AF$89,H$4-$G$4+5,FALSE))","v":0.86586812999999996},{"$f":"IF(I$4<(ControlPanel!$D$59-1),VLOOKUP(\"Referenz\",$C$65:$AF$89,I$4-$G$4+5,FALSE),VLOOKUP($C$8,$C$65:$AF$89,I$4-$G$4+5,FALSE))","v":0.32809184000000102},{"$f":"IF(J$4<(ControlPanel!$D$59-1),VLOOKUP(\"Referenz\",$C$65:$AF$89,J$4-$G$4+5,FALSE),VLOOKUP($C$8,$C$65:$AF$89,J$4-$G$4+5,FALSE))","v":0.67685502999999902},{"$f":"IF(K$4<(ControlPanel!$D$59-1),VLOOKUP(\"Referenz\",$C$65:$AF$89,K$4-$G$4+5,FALSE),VLOOKUP($C$8,$C$65:$AF$89,K$4-$G$4+5,FALSE))","v":0.21741000000000099},{"$f":"IF(L$4<(ControlPanel!$D$59-1),VLOOKUP(\"Referenz\",$C$65:$AF$89,L$4-$G$4+5,FALSE),VLOOKUP($C$8,$C$65:$AF$89,L$4-$G$4+5,FALSE))","v":0.23461600000000002},{"$f":"IF(M$4<(ControlPanel!$D$59-1),VLOOKUP(\"Referenz\",$C$65:$AF$89,M$4-$G$4+5,FALSE),VLOOKUP($C$8,$C$65:$AF$89,M$4-$G$4+5,FALSE))","v":0.22497200000000001},{"$f":"IF(N$4<(ControlPanel!$D$59-1),VLOOKUP(\"Referenz\",$C$65:$AF$89,N$4-$G$4+5,FALSE),VLOOKUP($C$8,$C$65:$AF$89,N$4-$G$4+5,FALSE))","v":0.30678699999999998},{"$f":"IF(O$4<(ControlPanel!$D$59-1),VLOOKUP(\"Referenz\",$C$65:$AF$89,O$4-$G$4+5,FALSE),VLOOKUP($C$8,$C$65:$AF$89,O$4-$G$4+5,FALSE))","v":0.42751108100000101},{"$f":"IF(P$4<(ControlPanel!$D$59-1),VLOOKUP(\"Referenz\",$C$65:$AF$89,P$4-$G$4+5,FALSE),VLOOKUP($C$8,$C$65:$AF$89,P$4-$G$4+5,FALSE))","v":0.33253365899999998},{"$f":"IF(Q$4<(ControlPanel!$D$59-1),VLOOKUP(\"Referenz\",$C$65:$AF$89,Q$4-$G$4+5,FALSE),VLOOKUP($C$8,$C$65:$AF$89,Q$4-$G$4+5,FALSE))","v":0.17599999999999999},{"$f":"IF(R$4<(ControlPanel!$D$59-1),VLOOKUP(\"Referenz\",$C$65:$AF$89,R$4-$G$4+5,FALSE),VLOOKUP($C$8,$C$65:$AF$89,R$4-$G$4+5,FALSE))","v":0.124},{"$f":"IF(S$4<(ControlPanel!$D$59-1),VLOOKUP(\"Referenz\",$C$65:$AF$89,S$4-$G$4+5,FALSE),VLOOKUP($C$8,$C$65:$AF$89,S$4-$G$4+5,FALSE))","v":3.5999999999999997E-2},{"$f":"IF(T$4<(ControlPanel!$D$59-1),VLOOKUP(\"Referenz\",$C$65:$AF$89,T$4-$G$4+5,FALSE),VLOOKUP($C$8,$C$65:$AF$89,T$4-$G$4+5,FALSE))","v":0.04},{"$f":"IF(U$4<(ControlPanel!$D$59-1),VLOOKUP(\"Referenz\",$C$65:$AF$89,U$4-$G$4+5,FALSE),VLOOKUP($C$8,$C$65:$AF$89,U$4-$G$4+5,FALSE))","v":4.2999999999999997E-2},{"$f":"IF(V$4<(ControlPanel!$D$59-1),VLOOKUP(\"Referenz\",$C$65:$AF$89,V$4-$G$4+5,FALSE),VLOOKUP($C$8,$C$65:$AF$89,V$4-$G$4+5,FALSE))","v":4.4999999999999998E-2},{"$f":"IF(W$4<(ControlPanel!$D$59-1),VLOOKUP(\"Referenz\",$C$65:$AF$89,W$4-$G$4+5,FALSE),VLOOKUP($C$8,$C$65:$AF$89,W$4-$G$4+5,FALSE))","v":0.2},{"$f":"IF(X$4<(ControlPanel!$D$59-1),VLOOKUP(\"Referenz\",$C$65:$AF$89,X$4-$G$4+5,FALSE),VLOOKUP($C$8,$C$65:$AF$89,X$4-$G$4+5,FALSE))","v":0.2},{"$f":"IF(Y$4<(ControlPanel!$D$59-1),VLOOKUP(\"Referenz\",$C$65:$AF$89,Y$4-$G$4+5,FALSE),VLOOKUP($C$8,$C$65:$AF$89,Y$4-$G$4+5,FALSE))","v":0.2},{"$f":"IF(Z$4<(ControlPanel!$D$59-1),VLOOKUP(\"Referenz\",$C$65:$AF$89,Z$4-$G$4+5,FALSE),VLOOKUP($C$8,$C$65:$AF$89,Z$4-$G$4+5,FALSE))","v":0.2},{"$f":"IF(AA$4<(ControlPanel!$D$59-1),VLOOKUP(\"Referenz\",$C$65:$AF$89,AA$4-$G$4+5,FALSE),VLOOKUP($C$8,$C$65:$AF$89,AA$4-$G$4+5,FALSE))","v":0.2},{"$f":"IF(AB$4<(ControlPanel!$D$59-1),VLOOKUP(\"Referenz\",$C$65:$AF$89,AB$4-$G$4+5,FALSE),VLOOKUP($C$8,$C$65:$AF$89,AB$4-$G$4+5,FALSE))","v":0.2},{"$f":"IF(AC$4<(ControlPanel!$D$59-1),VLOOKUP(\"Referenz\",$C$65:$AF$89,AC$4-$G$4+5,FALSE),VLOOKUP($C$8,$C$65:$AF$89,AC$4-$G$4+5,FALSE))","v":0.2},{"$f":"IF(AD$4<(ControlPanel!$D$59-1),VLOOKUP(\"Referenz\",$C$65:$AF$89,AD$4-$G$4+5,FALSE),VLOOKUP($C$8,$C$65:$AF$89,AD$4-$G$4+5,FALSE))","v":0.2},{"$f":"IF(AE$4<(ControlPanel!$D$59-1),VLOOKUP(\"Referenz\",$C$65:$AF$89,AE$4-$G$4+5,FALSE),VLOOKUP($C$8,$C$65:$AF$89,AE$4-$G$4+5,FALSE))","v":0.2},{"$f":"IF(AF$4<(ControlPanel!$D$59-1),VLOOKUP(\"Referenz\",$C$65:$AF$89,AF$4-$G$4+5,FALSE),VLOOKUP($C$8,$C$65:$AF$89,AF$4-$G$4+5,FALSE))","v":0.2}]
[null,"Geothermie",{"$f":"ControlPanel!E12","v":"Referenz"},{"$f":"VLOOKUP($C$9,$C$91:$AF$115,2,FALSE)","v":"fh"},{"$f":"VLOOKUP($C$9,$C$91:$AF$115,3,FALSE)","v":"0,01GW/a"},{"$f":"VLOOKUP($C$9,$C$91:$AF$115,4,FALSE)","v":"bis 2025: Mittelfristprognose (Trendszenario). Danach 0,01GW/a"},{"$f":"IF(G$4<(ControlPanel!$D$59-1),VLOOKUP(\"Referenz\",$C$91:$AF$115,G$4-$G$4+5,FALSE),VLOOKUP($C$9,$C$91:$AF$115,G$4-$G$4+5,FALSE))","v":0},{"$f":"IF(H$4<(ControlPanel!$D$59-1),VLOOKUP(\"Referenz\",$C$91:$AF$115,H$4-$G$4+5,FALSE),VLOOKUP($C$9,$C$91:$AF$115,H$4-$G$4+5,FALSE))","v":0},{"$f":"IF(I$4<(ControlPanel!$D$59-1),VLOOKUP(\"Referenz\",$C$91:$AF$115,I$4-$G$4+5,FALSE),VLOOKUP($C$9,$C$91:$AF$115,I$4-$G$4+5,FALSE))","v":1.1799999999999998E-2},{"$f":"IF(J$4<(ControlPanel!$D$59-1),VLOOKUP(\"Referenz\",$C$91:$AF$115,J$4-$G$4+5,FALSE),VLOOKUP($C$9,$C$91:$AF$115,J$4-$G$4+5,FALSE))","v":1.132E-2},{"$f":"IF(K$4<(ControlPanel!$D$59-1),VLOOKUP(\"Referenz\",$C$91:$AF$115,K$4-$G$4+5,FALSE),VLOOKUP($C$9,$C$91:$AF$115,K$4-$G$4+5,FALSE))","v":3.7300000000000041E-3},{"$f":"IF(L$4<(ControlPanel!$D$59-1),VLOOKUP(\"Referenz\",$C$91:$AF$115,L$4-$G$4+5,FALSE),VLOOKUP($C$9,$C$91:$AF$115,L$4-$G$4+5,FALSE))","v":0},{"$f":"IF(M$4<(ControlPanel!$D$59-1),VLOOKUP(\"Referenz\",$C$91:$AF$115,M$4-$G$4+5,FALSE),VLOOKUP($C$9,$C$91:$AF$115,M$4-$G$4+5,FALSE))","v":4.9999999999999984E-3},{"$f":"IF(N$4<(ControlPanel!$D$59-1),VLOOKUP(\"Referenz\",$C$91:$AF$115,N$4-$G$4+5,FALSE),VLOOKUP($C$9,$C$91:$AF$115,N$4-$G$4+5,FALSE))","v":2E-3},{"$f":"IF(O$4<(ControlPanel!$D$59-1),VLOOKUP(\"Referenz\",$C$91:$AF$115,O$4-$G$4+5,FALSE),VLOOKUP($C$9,$C$91:$AF$115,O$4-$G$4+5,FALSE))","v":5.0000000000000001E-3},{"$f":"IF(P$4<(ControlPanel!$D$59-1),VLOOKUP(\"Referenz\",$C$91:$AF$115,P$4-$G$4+5,FALSE),VLOOKUP($C$9,$C$91:$AF$115,P$4-$G$4+5,FALSE))","v":4.0000000000000001E-3},{"$f":"IF(Q$4<(ControlPanel!$D$59-1),VLOOKUP(\"Referenz\",$C$91:$AF$115,Q$4-$G$4+5,FALSE),VLOOKUP($C$9,$C$91:$AF$115,Q$4-$G$4+5,FALSE))","v":5.0000000000000001E-3},{"$f":"IF(R$4<(ControlPanel!$D$59-1),VLOOKUP(\"Referenz\",$C$91:$AF$115,R$4-$G$4+5,FALSE),VLOOKUP($C$9,$C$91:$AF$115,R$4-$G$4+5,FALSE))","v":8.9999999999999993E-3},{"$f":"IF(S$4<(ControlPanel!$D$59-1),VLOOKUP(\"Referenz\",$C$91:$AF$115,S$4-$G$4+5,FALSE),VLOOKUP($C$9,$C$91:$AF$115,S$4-$G$4+5,FALSE))","v":2.5000000000000001E-2},{"$f":"IF(T$4<(ControlPanel!$D$59-1),VLOOKUP(\"Referenz\",$C$91:$AF$115,T$4-$G$4+5,FALSE),VLOOKUP($C$9,$C$91:$AF$115,T$4-$G$4+5,FALSE))","v":1.4E-2},{"$f":"IF(U$4<(ControlPanel!$D$59-1),VLOOKUP(\"Referenz\",$C$91:$AF$115,U$4-$G$4+5,FALSE),VLOOKUP($C$9,$C$91:$AF$115,U$4-$G$4+5,FALSE))","v":6.0000000000000001E-3},{"$f":"IF(V$4<(ControlPanel!$D$59-1),VLOOKUP(\"Referenz\",$C$91:$AF$115,V$4-$G$4+5,FALSE),VLOOKUP($C$9,$C$91:$AF$115,V$4-$G$4+5,FALSE))","v":6.0000000000000001E-3},{"$f":"IF(W$4<(ControlPanel!$D$59-1),VLOOKUP(\"Referenz\",$C$91:$AF$115,W$4-$G$4+5,FALSE),VLOOKUP($C$9,$C$91:$AF$115,W$4-$G$4+5,FALSE))","v":0.01},{"$f":"IF(X$4<(ControlPanel!$D$59-1),VLOOKUP(\"Referenz\",$C$91:$AF$115,X$4-$G$4+5,FALSE),VLOOKUP($C$9,$C$91:$AF$115,X$4-$G$4+5,FALSE))","v":0.01},{"$f":"IF(Y$4<(ControlPanel!$D$59-1),VLOOKUP(\"Referenz\",$C$91:$AF$115,Y$4-$G$4+5,FALSE),VLOOKUP($C$9,$C$91:$AF$115,Y$4-$G$4+5,FALSE))","v":0.01},{"$f":"IF(Z$4<(ControlPanel!$D$59-1),VLOOKUP(\"Referenz\",$C$91:$AF$115,Z$4-$G$4+5,FALSE),VLOOKUP($C$9,$C$91:$AF$115,Z$4-$G$4+5,FALSE))","v":0.01},{"$f":"IF(AA$4<(ControlPanel!$D$59-1),VLOOKUP(\"Referenz\",$C$91:$AF$115,AA$4-$G$4+5,FALSE),VLOOKUP($C$9,$C$91:$AF$115,AA$4-$G$4+5,FALSE))","v":0.01},{"$f":"IF(AB$4<(ControlPanel!$D$59-1),VLOOKUP(\"Referenz\",$C$91:$AF$115,AB$4-$G$4+5,FALSE),VLOOKUP($C$9,$C$91:$AF$115,AB$4-$G$4+5,FALSE))","v":0.01},{"$f":"IF(AC$4<(ControlPanel!$D$59-1),VLOOKUP(\"Referenz\",$C$91:$AF$115,AC$4-$G$4+5,FALSE),VLOOKUP($C$9,$C$91:$AF$115,AC$4-$G$4+5,FALSE))","v":0.01},{"$f":"IF(AD$4<(ControlPanel!$D$59-1),VLOOKUP(\"Referenz\",$C$91:$AF$115,AD$4-$G$4+5,FALSE),VLOOKUP($C$9,$C$91:$AF$115,AD$4-$G$4+5,FALSE))","v":0.01},{"$f":"IF(AE$4<(ControlPanel!$D$59-1),VLOOKUP(\"Referenz\",$C$91:$AF$115,AE$4-$G$4+5,FALSE),VLOOKUP($C$9,$C$91:$AF$115,AE$4-$G$4+5,FALSE))","v":0.01},{"$f":"IF(AF$4<(ControlPanel!$D$59-1),VLOOKUP(\"Referenz\",$C$91:$AF$115,AF$4-$G$4+5,FALSE),VLOOKUP($C$9,$C$91:$AF$115,AF$4-$G$4+5,FALSE))","v":0.01}]
[null,"Wind Onshore",{"$f":"ControlPanel!E8","v":"Referenz"},{"$f":"VLOOKUP($C$10,$C$117:$AF$144,2,FALSE)","v":"fh"},{"$f":"VLOOKUP($C$10,$C$117:$AF$144,3,FALSE)","v":"1,5 GW bis 2021, ab 2023 2,5 GW/a"},{"$f":"VLOOKUP($C$10,$C$117:$AF$144,4,FALSE)","v":"Fortführung der aktuell geringen Ausbauzahlen bis 2021, danach Anstieg auf 2,5 GW in 2023; ab 2023 konstant 2,5 GW; 2010-2019: historische Werte aus Auswertung Baujahre der Bestandsanlagen 2019"},{"$f":"IF(G$4<(ControlPanel!$D$59-1),VLOOKUP(\"Referenz\",$C$117:$AF$144,G$4-$G$4+5,FALSE),VLOOKUP($C$10,$C$117:$AF$144,G$4-$G$4+5,FALSE))","v":1.411797},{"$f":"IF(H$4<(ControlPanel!$D$59-1),VLOOKUP(\"Referenz\",$C$117:$AF$144,H$4-$G$4+5,FALSE),VLOOKUP($C$10,$C$117:$AF$144,H$4-$G$4+5,FALSE))","v":1.8712979999999999},{"$f":"IF(I$4<(ControlPanel!$D$59-1),VLOOKUP(\"Referenz\",$C$117:$AF$144,I$4-$G$4+5,FALSE),VLOOKUP($C$10,$C$117:$AF$144,I$4-$G$4+5,FALSE))","v":2.4085290000000001},{"$f":"IF(J$4<(ControlPanel!$D$59-1),VLOOKUP(\"Referenz\",$C$117:$AF$144,J$4-$G$4+5,FALSE),VLOOKUP($C$10,$C$117:$AF$144,J$4-$G$4+5,FALSE))","v":2.9965709999999999},{"$f":"IF(K$4<(ControlPanel!$D$59-1),VLOOKUP(\"Referenz\",$C$117:$AF$144,K$4-$G$4+5,FALSE),VLOOKUP($C$10,$C$117:$AF$144,K$4-$G$4+5,FALSE))","v":4.6522969999999999},{"$f":"IF(L$4<(ControlPanel!$D$59-1),VLOOKUP(\"Referenz\",$C$117:$AF$144,L$4-$G$4+5,FALSE),VLOOKUP($C$10,$C$117:$AF$144,L$4-$G$4+5,FALSE))","v":3.7872080000000001},{"$f":"IF(M$4<(ControlPanel!$D$59-1),VLOOKUP(\"Referenz\",$C$117:$AF$144,M$4-$G$4+5,FALSE),VLOOKUP($C$10,$C$117:$AF$144,M$4-$G$4+5,FALSE))","v":4.4454030000000007},{"$f":"IF(N$4<(ControlPanel!$D$59-1),VLOOKUP(\"Referenz\",$C$117:$AF$144,N$4-$G$4+5,FALSE),VLOOKUP($C$10,$C$117:$AF$144,N$4-$G$4+5,FALSE))","v":5.5017449999999997},{"$f":"IF(O$4<(ControlPanel!$D$59-1),VLOOKUP(\"Referenz\",$C$117:$AF$144,O$4-$G$4+5,FALSE),VLOOKUP($C$10,$C$117:$AF$144,O$4-$G$4+5,FALSE))","v":2.4031500000000001},1.5,{"$f":"IF(Q$4<(ControlPanel!$D$59-1),VLOOKUP(\"Referenz\",$C$117:$AF$144,Q$4-$G$4+5,FALSE),VLOOKUP($C$10,$C$117:$AF$144,Q$4-$G$4+5,FALSE))","v":1.5},{"$f":"IF(R$4<(ControlPanel!$D$59-1),VLOOKUP(\"Referenz\",$C$117:$AF$144,R$4-$G$4+5,FALSE),VLOOKUP($C$10,$C$117:$AF$144,R$4-$G$4+5,FALSE))","v":1.5},{"$f":"IF(S$4<(ControlPanel!$D$59-1),VLOOKUP(\"Referenz\",$C$117:$AF$144,S$4-$G$4+5,FALSE),VLOOKUP($C$10,$C$117:$AF$144,S$4-$G$4+5,FALSE))","v":2},{"$f":"IF(T$4<(ControlPanel!$D$59-1),VLOOKUP(\"Referenz\",$C$117:$AF$144,T$4-$G$4+5,FALSE),VLOOKUP($C$10,$C$117:$AF$144,T$4-$G$4+5,FALSE))","v":2.5},{"$f":"IF(U$4<(ControlPanel!$D$59-1),VLOOKUP(\"Referenz\",$C$117:$AF$144,U$4-$G$4+5,FALSE),VLOOKUP($C$10,$C$117:$AF$144,U$4-$G$4+5,FALSE))","v":2.5},{"$f":"IF(V$4<(ControlPanel!$D$59-1),VLOOKUP(\"Referenz\",$C$117:$AF$144,V$4-$G$4+5,FALSE),VLOOKUP($C$10,$C$117:$AF$144,V$4-$G$4+5,FALSE))","v":2.5},{"$f":"IF(W$4<(ControlPanel!$D$59-1),VLOOKUP(\"Referenz\",$C$117:$AF$144,W$4-$G$4+5,FALSE),VLOOKUP($C$10,$C$117:$AF$144,W$4-$G$4+5,FALSE))","v":2.5},{"$f":"IF(X$4<(ControlPanel!$D$59-1),VLOOKUP(\"Referenz\",$C$117:$AF$144,X$4-$G$4+5,FALSE),VLOOKUP($C$10,$C$117:$AF$144,X$4-$G$4+5,FALSE))","v":2.5},{"$f":"IF(Y$4<(ControlPanel!$D$59-1),VLOOKUP(\"Referenz\",$C$117:$AF$144,Y$4-$G$4+5,FALSE),VLOOKUP($C$10,$C$117:$AF$144,Y$4-$G$4+5,FALSE))","v":2.5},{"$f":"IF(Z$4<(ControlPanel!$D$59-1),VLOOKUP(\"Referenz\",$C$117:$AF$144,Z$4-$G$4+5,FALSE),VLOOKUP($C$10,$C$117:$AF$144,Z$4-$G$4+5,FALSE))","v":2.5},{"$f":"IF(AA$4<(ControlPanel!$D$59-1),VLOOKUP(\"Referenz\",$C$117:$AF$144,AA$4-$G$4+5,FALSE),VLOOKUP($C$10,$C$117:$AF$144,AA$4-$G$4+5,FALSE))","v":2.5},{"$f":"IF(AB$4<(ControlPanel!$D$59-1),VLOOKUP(\"Referenz\",$C$117:$AF$144,AB$4-$G$4+5,FALSE),VLOOKUP($C$10,$C$117:$AF$144,AB$4-$G$4+5,FALSE))","v":2.5},{"$f":"IF(AC$4<(ControlPanel!$D$59-1),VLOOKUP(\"Referenz\",$C$117:$AF$144,AC$4-$G$4+5,FALSE),VLOOKUP($C$10,$C$117:$AF$144,AC$4-$G$4+5,FALSE))","v":2.5},{"$f":"IF(AD$4<(ControlPanel!$D$59-1),VLOOKUP(\"Referenz\",$C$117:$AF$144,AD$4-$G$4+5,FALSE),VLOOKUP($C$10,$C$117:$AF$144,AD$4-$G$4+5,FALSE))","v":2.5},{"$f":"IF(AE$4<(ControlPanel!$D$59-1),VLOOKUP(\"Referenz\",$C$117:$AF$144,AE$4-$G$4+5,FALSE),VLOOKUP($C$10,$C$117:$AF$144,AE$4-$G$4+5,FALSE))","v":2.5},{"$f":"IF(AF$4<(ControlPanel!$D$59-1),VLOOKUP(\"Referenz\",$C$117:$AF$144,AF$4-$G$4+5,FALSE),VLOOKUP($C$10,$C$117:$AF$144,AF$4-$G$4+5,FALSE))","v":2.5}]
[null,"Wind Offshore",{"$f":"ControlPanel!E9","v":"Referenz"},{"$f":"VLOOKUP($C$11,$C$146:$AF$173,2,FALSE)","v":"fh"},{"$f":"VLOOKUP($C$11,$C$146:$AF$173,3,FALSE)","v":"MFP Trend, danach konstant 1,6 GW"},{"$f":"VLOOKUP($C$11,$C$146:$AF$173,4,FALSE)","v":"bis 2025  MFP Trend Szenario, ab 2026 Fortschreibung"},{"$f":"IF(G$4<(ControlPanel!$D$59-1),VLOOKUP(\"Referenz\",$C$146:$AF$173,G$4-$G$4+5,FALSE),VLOOKUP($C$11,$C$146:$AF$173,G$4-$G$4+5,FALSE))","v":4.4999999999999998E-2},{"$f":"IF(H$4<(ControlPanel!$D$59-1),VLOOKUP(\"Referenz\",$C$146:$AF$173,H$4-$G$4+5,FALSE),VLOOKUP($C$11,$C$146:$AF$173,H$4-$G$4+5,FALSE))","v":0.108},{"$f":"IF(I$4<(ControlPanel!$D$59-1),VLOOKUP(\"Referenz\",$C$146:$AF$173,I$4-$G$4+5,FALSE),VLOOKUP($C$11,$C$146:$AF$173,I$4-$G$4+5,FALSE))","v":0.08},{"$f":"IF(J$4<(ControlPanel!$D$59-1),VLOOKUP(\"Referenz\",$C$146:$AF$173,J$4-$G$4+5,FALSE),VLOOKUP($C$11,$C$146:$AF$173,J$4-$G$4+5,FALSE))","v":0.24},{"$f":"IF(K$4<(ControlPanel!$D$59-1),VLOOKUP(\"Referenz\",$C$146:$AF$173,K$4-$G$4+5,FALSE),VLOOKUP($C$11,$C$146:$AF$173,K$4-$G$4+5,FALSE))","v":0.48599999999999999},{"$f":"IF(L$4<(ControlPanel!$D$59-1),VLOOKUP(\"Referenz\",$C$146:$AF$173,L$4-$G$4+5,FALSE),VLOOKUP($C$11,$C$146:$AF$173,L$4-$G$4+5,FALSE))","v":2.2890000000000001},{"$f":"IF(M$4<(ControlPanel!$D$59-1),VLOOKUP(\"Referenz\",$C$146:$AF$173,M$4-$G$4+5,FALSE),VLOOKUP($C$11,$C$146:$AF$173,M$4-$G$4+5,FALSE))","v":0.86899999999999999},{"$f":"IF(N$4<(ControlPanel!$D$59-1),VLOOKUP(\"Referenz\",$C$146:$AF$173,N$4-$G$4+5,FALSE),VLOOKUP($C$11,$C$146:$AF$173,N$4-$G$4+5,FALSE))","v":1.254},{"$f":"IF(O$4<(ControlPanel!$D$59-1),VLOOKUP(\"Referenz\",$C$146:$AF$173,O$4-$G$4+5,FALSE),VLOOKUP($C$11,$C$146:$AF$173,O$4-$G$4+5,FALSE))","v":0.98699999999999999},{"$f":"IF(P$4<(ControlPanel!$D$59-1),VLOOKUP(\"Referenz\",$C$146:$AF$173,P$4-$G$4+5,FALSE),VLOOKUP($C$11,$C$146:$AF$173,P$4-$G$4+5,FALSE))","v":1.135},{"$f":"IF(Q$4<(ControlPanel!$D$59-1),VLOOKUP(\"Referenz\",$C$146:$AF$173,Q$4-$G$4+5,FALSE),VLOOKUP($C$11,$C$146:$AF$173,Q$4-$G$4+5,FALSE))","v":0.219},{"$f":"IF(R$4<(ControlPanel!$D$59-1),VLOOKUP(\"Referenz\",$C$146:$AF$173,R$4-$G$4+5,FALSE),VLOOKUP($C$11,$C$146:$AF$173,R$4-$G$4+5,FALSE))","v":0},{"$f":"IF(S$4<(ControlPanel!$D$59-1),VLOOKUP(\"Referenz\",$C$146:$AF$173,S$4-$G$4+5,FALSE),VLOOKUP($C$11,$C$146:$AF$173,S$4-$G$4+5,FALSE))","v":0.34200000000000003},{"$f":"IF(T$4<(ControlPanel!$D$59-1),VLOOKUP(\"Referenz\",$C$146:$AF$173,T$4-$G$4+5,FALSE),VLOOKUP($C$11,$C$146:$AF$173,T$4-$G$4+5,FALSE))","v":0.97499999999999998},{"$f":"IF(U$4<(ControlPanel!$D$59-1),VLOOKUP(\"Referenz\",$C$146:$AF$173,U$4-$G$4+5,FALSE),VLOOKUP($C$11,$C$146:$AF$173,U$4-$G$4+5,FALSE))","v":0.9},{"$f":"IF(V$4<(ControlPanel!$D$59-1),VLOOKUP(\"Referenz\",$C$146:$AF$173,V$4-$G$4+5,FALSE),VLOOKUP($C$11,$C$146:$AF$173,V$4-$G$4+5,FALSE))","v":0.9},{"$f":"IF(W$4<(ControlPanel!$D$59-1),VLOOKUP(\"Referenz\",$C$146:$AF$173,W$4-$G$4+5,FALSE),VLOOKUP($C$11,$C$146:$AF$173,W$4-$G$4+5,FALSE))","v":0.9},{"$f":"IF(X$4<(ControlPanel!$D$59-1),VLOOKUP(\"Referenz\",$C$146:$AF$173,X$4-$G$4+5,FALSE),VLOOKUP($C$11,$C$146:$AF$173,X$4-$G$4+5,FALSE))","v":0.9},{"$f":"IF(Y$4<(ControlPanel!$D$59-1),VLOOKUP(\"Referenz\",$C$146:$AF$173,Y$4-$G$4+5,FALSE),VLOOKUP($C$11,$C$146:$AF$173,Y$4-$G$4+5,FALSE))","v":0.9},{"$f":"IF(Z$4<(ControlPanel!$D$59-1),VLOOKUP(\"Referenz\",$C$146:$AF$173,Z$4-$G$4+5,FALSE),VLOOKUP($C$11,$C$146:$AF$173,Z$4-$G$4+5,FALSE))","v":0.9},{"$f":"IF(AA$4<(ControlPanel!$D$59-1),VLOOKUP(\"Referenz\",$C$146:$AF$173,AA$4-$G$4+5,FALSE),VLOOKUP($C$11,$C$146:$AF$173,AA$4-$G$4+5,FALSE))","v":0.9},{"$f":"IF(AB$4<(ControlPanel!$D$59-1),VLOOKUP(\"Referenz\",$C$146:$AF$173,AB$4-$G$4+5,FALSE),VLOOKUP($C$11,$C$146:$AF$173,AB$4-$G$4+5,FALSE))","v":0.9},{"$f":"IF(AC$4<(ControlPanel!$D$59-1),VLOOKUP(\"Referenz\",$C$146:$AF$173,AC$4-$G$4+5,FALSE),VLOOKUP($C$11,$C$146:$AF$173,AC$4-$G$4+5,FALSE))","v":0.9},{"$f":"IF(AD$4<(ControlPanel!$D$59-1),VLOOKUP(\"Referenz\",$C$146:$AF$173,AD$4-$G$4+5,FALSE),VLOOKUP($C$11,$C$146:$AF$173,AD$4-$G$4+5,FALSE))","v":0.9},{"$f":"IF(AE$4<(ControlPanel!$D$59-1),VLOOKUP(\"Referenz\",$C$146:$AF$173,AE$4-$G$4+5,FALSE),VLOOKUP($C$11,$C$146:$AF$173,AE$4-$G$4+5,FALSE))","v":0.9},{"$f":"IF(AF$4<(ControlPanel!$D$59-1),VLOOKUP(\"Referenz\",$C$146:$AF$173,AF$4-$G$4+5,FALSE),VLOOKUP($C$11,$C$146:$AF$173,AF$4-$G$4+5,FALSE))","v":0.9}]
[null,"PV",{"$f":"ControlPanel!E10","v":"Referenz"},{"$f":"VLOOKUP($C$12,$C$175:$AF$202,2,FALSE)","v":"fh"},{"$f":"VLOOKUP($C$12,$C$175:$AF$202,3,FALSE)","v":"MFP Trend"},{"$f":"VLOOKUP($C$12,$C$175:$AF$202,4,FALSE)","v":"bis 2025 wie MFP Trend-Szenario, danach wie Sonderausschreibungen; EEG-Korridor; 2010-2019: Differenz der Leistung zum Vorjahr aus EE in Zahlen"},{"$f":"IF(G$4<(ControlPanel!$D$59-1),VLOOKUP(\"Referenz\",$C$175:$AF$202,G$4-$G$4+5,FALSE),VLOOKUP($C$12,$C$175:$AF$202,G$4-$G$4+5,FALSE))","v":7.44},{"$f":"IF(H$4<(ControlPanel!$D$59-1),VLOOKUP(\"Referenz\",$C$175:$AF$202,H$4-$G$4+5,FALSE),VLOOKUP($C$12,$C$175:$AF$202,H$4-$G$4+5,FALSE))","v":7.91},{"$f":"IF(I$4<(ControlPanel!$D$59-1),VLOOKUP(\"Referenz\",$C$175:$AF$202,I$4-$G$4+5,FALSE),VLOOKUP($C$12,$C$175:$AF$202,I$4-$G$4+5,FALSE))","v":8.1609999999999996},{"$f":"IF(J$4<(ControlPanel!$D$59-1),VLOOKUP(\"Referenz\",$C$175:$AF$202,J$4-$G$4+5,FALSE),VLOOKUP($C$12,$C$175:$AF$202,J$4-$G$4+5,FALSE))","v":2.633},{"$f":"IF(K$4<(ControlPanel!$D$59-1),VLOOKUP(\"Referenz\",$C$175:$AF$202,K$4-$G$4+5,FALSE),VLOOKUP($C$12,$C$175:$AF$202,K$4-$G$4+5,FALSE))","v":1.19},{"$f":"IF(L$4<(ControlPanel!$D$59-1),VLOOKUP(\"Referenz\",$C$175:$AF$202,L$4-$G$4+5,FALSE),VLOOKUP($C$12,$C$175:$AF$202,L$4-$G$4+5,FALSE))","v":1.3240000000000001},{"$f":"IF(M$4<(ControlPanel!$D$59-1),VLOOKUP(\"Referenz\",$C$175:$AF$202,M$4-$G$4+5,FALSE),VLOOKUP($C$12,$C$175:$AF$202,M$4-$G$4+5,FALSE))","v":1.4550000000000001},{"$f":"IF(N$4<(ControlPanel!$D$59-1),VLOOKUP(\"Referenz\",$C$175:$AF$202,N$4-$G$4+5,FALSE),VLOOKUP($C$12,$C$175:$AF$202,N$4-$G$4+5,FALSE))","v":1.6140000000000001},{"$f":"IF(O$4<(ControlPanel!$D$59-1),VLOOKUP(\"Referenz\",$C$175:$AF$202,O$4-$G$4+5,FALSE),VLOOKUP($C$12,$C$175:$AF$202,O$4-$G$4+5,FALSE))","v":2.8650000000000002},{"$f":"IF(P$4<(ControlPanel!$D$59-1),VLOOKUP(\"Referenz\",$C$175:$AF$202,P$4-$G$4+5,FALSE),VLOOKUP($C$12,$C$175:$AF$202,P$4-$G$4+5,FALSE))","v":3.8889999999999998},{"$f":"IF(Q$4<(ControlPanel!$D$59-1),VLOOKUP(\"Referenz\",$C$175:$AF$202,Q$4-$G$4+5,FALSE),VLOOKUP($C$12,$C$175:$AF$202,Q$4-$G$4+5,FALSE))","v":4.8010000000000002},{"$f":"IF(R$4<(ControlPanel!$D$59-1),VLOOKUP(\"Referenz\",$C$175:$AF$202,R$4-$G$4+5,FALSE),VLOOKUP($C$12,$C$175:$AF$202,R$4-$G$4+5,FALSE))","v":5.4139999999999997},{"$f":"IF(S$4<(ControlPanel!$D$59-1),VLOOKUP(\"Referenz\",$C$175:$AF$202,S$4-$G$4+5,FALSE),VLOOKUP($C$12,$C$175:$AF$202,S$4-$G$4+5,FALSE))","v":4.9379999999999997},{"$f":"IF(T$4<(ControlPanel!$D$59-1),VLOOKUP(\"Referenz\",$C$175:$AF$202,T$4-$G$4+5,FALSE),VLOOKUP($C$12,$C$175:$AF$202,T$4-$G$4+5,FALSE))","v":3.1520000000000001},{"$f":"IF(U$4<(ControlPanel!$D$59-1),VLOOKUP(\"Referenz\",$C$175:$AF$202,U$4-$G$4+5,FALSE),VLOOKUP($C$12,$C$175:$AF$202,U$4-$G$4+5,FALSE))","v":3.0219999999999998},{"$f":"IF(V$4<(ControlPanel!$D$59-1),VLOOKUP(\"Referenz\",$C$175:$AF$202,V$4-$G$4+5,FALSE),VLOOKUP($C$12,$C$175:$AF$202,V$4-$G$4+5,FALSE))","v":3.129},{"$f":"IF(W$4<(ControlPanel!$D$59-1),VLOOKUP(\"Referenz\",$C$175:$AF$202,W$4-$G$4+5,FALSE),VLOOKUP($C$12,$C$175:$AF$202,W$4-$G$4+5,FALSE))","v":3},{"$f":"IF(X$4<(ControlPanel!$D$59-1),VLOOKUP(\"Referenz\",$C$175:$AF$202,X$4-$G$4+5,FALSE),VLOOKUP($C$12,$C$175:$AF$202,X$4-$G$4+5,FALSE))","v":3},{"$f":"IF(Y$4<(ControlPanel!$D$59-1),VLOOKUP(\"Referenz\",$C$175:$AF$202,Y$4-$G$4+5,FALSE),VLOOKUP($C$12,$C$175:$AF$202,Y$4-$G$4+5,FALSE))","v":3},{"$f":"IF(Z$4<(ControlPanel!$D$59-1),VLOOKUP(\"Referenz\",$C$175:$AF$202,Z$4-$G$4+5,FALSE),VLOOKUP($C$12,$C$175:$AF$202,Z$4-$G$4+5,FALSE))","v":3},{"$f":"IF(AA$4<(ControlPanel!$D$59-1),VLOOKUP(\"Referenz\",$C$175:$AF$202,AA$4-$G$4+5,FALSE),VLOOKUP($C$12,$C$175:$AF$202,AA$4-$G$4+5,FALSE))","v":3},{"$f":"IF(AB$4<(ControlPanel!$D$59-1),VLOOKUP(\"Referenz\",$C$175:$AF$202,AB$4-$G$4+5,FALSE),VLOOKUP($C$12,$C$175:$AF$202,AB$4-$G$4+5,FALSE))","v":3},{"$f":"IF(AC$4<(ControlPanel!$D$59-1),VLOOKUP(\"Referenz\",$C$175:$AF$202,AC$4-$G$4+5,FALSE),VLOOKUP($C$12,$C$175:$AF$202,AC$4-$G$4+5,FALSE))","v":3},{"$f":"IF(AD$4<(ControlPanel!$D$59-1),VLOOKUP(\"Referenz\",$C$175:$AF$202,AD$4-$G$4+5,FALSE),VLOOKUP($C$12,$C$175:$AF$202,AD$4-$G$4+5,FALSE))","v":3},{"$f":"IF(AE$4<(ControlPanel!$D$59-1),VLOOKUP(\"Referenz\",$C$175:$AF$202,AE$4-$G$4+5,FALSE),VLOOKUP($C$12,$C$175:$AF$202,AE$4-$G$4+5,FALSE))","v":3},{"$f":"IF(AF$4<(ControlPanel!$D$59-1),VLOOKUP(\"Referenz\",$C$175:$AF$202,AF$4-$G$4+5,FALSE),VLOOKUP($C$12,$C$175:$AF$202,AF$4-$G$4+5,FALSE))","v":3}]
[null,"Wasser","Referenz","fh","0,01 GW/a","bis 2025: Mittelfristprognose (Trendszenario). Danach konstant",0.11411000000000038,9.2075899999999766E-2,5.082349999999991E-2,7.4043600000000209E-2,0,0.2908247849999997,2.1633774999999821E-2,5.4000000000000003E-3,1.4999999999999999E-2,1.7000000000000001E-2,1.2999999999999999E-2,1.4E-2,1.4E-2,1.4E-2,1.4E-2,1.4E-2,{"$f":"V13","v":1.4E-2},{"$f":"W13","v":1.4E-2},1.4E-2,1.4E-2,1.4E-2,1.4E-2,1.4E-2,1.4E-2,1.4E-2,1.4E-2]
[]
[null,null,"kein Zubau","mh","0 GW/a",null,null,null,null,null,null,null,null,null,null,null,0,0,0,0,0,0,0,0,0,0,0,0,0,0,0,0]
[]
[]
[]
[null,null,"MFP hoch","fh","MFP hoch","bis 2025 wie MFP oberes Szenario, danach wie Referenz",null,null,null,null,null,null,null,null,null,null,1.9E-2,2.1999999999999999E-2,2.1999999999999999E-2,2.1999999999999999E-2,2.1999999999999999E-2,2.1999999999999999E-2,{"$f":"V19","v":2.1999999999999999E-2},{"$f":"W19","v":2.1999999999999999E-2},2.1999999999999999E-2,2.1999999999999999E-2,2.1999999999999999E-2,2.1999999999999999E-2,2.1999999999999999E-2,2.1999999999999999E-2,2.1999999999999999E-2,2.1999999999999999E-2]
[null,null,"MFP niedrig","fh","MFP niedrig","bis 2025 wie MFP unteres Szenario, danach wie Referenz",null,null,null,null,null,null,null,null,null,null,1.2E-2,6.0000000000000001E-3,6.0000000000000001E-3,6.0000000000000001E-3,6.0000000000000001E-3,6.0000000000000001E-3,{"$f":"V20","v":6.0000000000000001E-3},{"$f":"W20","v":6.0000000000000001E-3},6.0000000000000001E-3,6.0000000000000001E-3,6.0000000000000001E-3,6.0000000000000001E-3,6.0000000000000001E-3,6.0000000000000001E-3,6.0000000000000001E-3,6.0000000000000001E-3]
[]
[]
[]
[]
[]
[]
[]
[]
[]
[]
[]
[]
[]
[]
[]
[]
[]
[]
[null,"Gase","Referenz","fh","0,01GW/a","bis 2025: Mittelfristprognose (Trendszenario). Danach 0,01GW/a",1.5435999999999849E-2,1.2638999999999964E-2,7.8030000000000209E-3,8.2572000000000756E-3,0,4.5781999999999823E-2,4.0839999999999765E-3,1.6999999999999999E-3,6.0000000000000001E-3,2E-3,2E-3,2E-3,2E-3,2E-3,2E-3,0.01,0.01,0.01,0.01,0.01,0.01,0.01,0.01,0.01,0.01,0.01]
[]
[null,null,"kein Zubau","mh","0 GW/a",null,null,null,null,null,null,null,null,null,null,null,0,0,0,0,0,0,0,0,0,0,0,0,0,0,0,0]
[]
[]
[]
[null,null,"MFP hoch","fh","MFP hoch","bis 2025 wie MFP oberes Szenario, danach wie Referenz",null,null,null,null,null,null,null,null,null,null,4.0000000000000001E-3,4.0000000000000001E-3,4.0000000000000001E-3,4.0000000000000001E-3,4.0000000000000001E-3,4.0000000000000001E-3,{"$f":"W$39","v":0.01},0.01,0.01,0.01,0.01,0.01,0.01,0.01,0.01,0.01]
[null,null,"MFP niedrig","fh","MFP niedrig","bis 2025 wie MFP unteres Szenario, danach wie Referenz",null,null,null,null,null,null,null,null,null,null,0.1,0.1,0.1,0.1,0.1,0.1,0.01,0.01,0.01,0.01,0.01,0.01,0.01,0.01,0.01,0.01]
[]
[]
[]
[]
[]
[]
[]
[]
[]
[]
[]
[]
[]
[]
[]
[]
[]
[]
[null,"Biomasse","Referenz","fh","0,2 GW/a","MFP Trend bis 2025, danach 0,2 GW/a",{"$f":"418/(1000)","v":0.41799999999999998},{"$f":"865.86813/(1000)","v":0.86586812999999996},{"$f":"328.091840000001/(1000)","v":0.32809184000000102},{"$f":"676.855029999999/(1000)","v":0.67685502999999902},{"$f":"217.410000000001/(1000)","v":0.21741000000000099},{"$f":"234.616/(1000)","v":0.23461600000000002},{"$f":"224.972/(1000)","v":0.22497200000000001},{"$f":"306.787/(1000)","v":0.30678699999999998},{"$f":"427.511081000001/(1000)","v":0.42751108100000101},{"$f":"332.533659/(1000)","v":0.33253365899999998},0.17599999999999999,0.124,3.5999999999999997E-2,0.04,4.2999999999999997E-2,4.4999999999999998E-2,0.2,0.2,0.2,0.2,0.2,0.2,0.2,0.2,0.2,0.2]
[null,null,"kein Zubau","mh","0 GW/a",null,{"$f":"773.189/(1000)","v":0.77318900000000002},{"$f":"1265.73/(1000)","v":1.26573},{"$f":"295.369/(1000)","v":0.29536900000000005},{"$f":"264.841/(1000)","v":0.26484099999999999},{"$f":"221.362/(1000)","v":0.221362},{"$f":"14.086/(1000)","v":1.4086E-2},{"$f":"25.385/(1000)","v":2.5385000000000001E-2},{"$f":"14.106/(1000)","v":1.4106E-2},{"$f":"21.899/(1000)","v":2.1899000000000002E-2},{"$f":"13.775/(1000)","v":1.3775000000000001E-2},0,0,0,0,0,0,0,0,0,0,0,0,0,0,0,0]
[null,null,"niedrig","mh","0,1 GW/a",null,null,null,null,null,null,null,null,null,null,null,0.1,0.1,0.1,0.1,0.1,0.1,0.1,0.1,0.1,0.1,0.1,0.1,0.1,0.1,0.1,0.1]
[null,null,"mittel","mh","0,2 GW/a",null,null,null,null,null,null,null,null,null,null,null,0.2,0.2,0.2,0.2,0.2,0.2,0.2,0.2,0.2,0.2,0.2,0.2,0.2,0.2,0.2,0.2]
[null,null,"hoch","mh","0,3 GW/a",null,null,null,null,null,null,null,null,null,null,null,0.3,0.3,0.3,0.3,0.3,0.3,0.3,0.3,0.3,0.3,0.3,0.3,0.3,0.3,0.3,0.3]
[null,null,"sehr hoch","mh","0,4 GW/a",null,null,null,null,null,null,null,null,null,null,null,0.4,0.4,0.4,0.4,0.4,0.4,0.4,0.4,0.4,0.4,0.4,0.4,0.4,0.4,0.4,0.4]
[]
[null,null,"MFP hoch","fh","MFP hoch","bis 2025 wie MFP oberes Szenario, danach wie Referenz",null,null,null,null,null,null,null,null,null,null,0.17399999999999999,0.129,4.4999999999999998E-2,4.7E-2,4.7E-2,4.8000000000000001E-2,{"$f":"W$65","v":0.2},0.2,0.2,0.2,0.2,0.2,0.2,0.2,0.2,0.2]
[null,null,"MFP niedrig","fh","MFP niedrig","bis 2025 wie MFP unteres Szenario, danach wie Referenz",null,null,null,null,null,null,null,null,null,null,0.17399999999999999,0.11899999999999999,2.5999999999999999E-2,0.03,3.4000000000000002E-2,3.6999999999999998E-2,0.2,0.2,0.2,0.2,0.2,0.2,0.2,0.2,0.2,0.2]
[]
[null,null,"EEG Korridor","fh","Wie EEG Korridor","Entsprechend den Zahlen im EEG (2021) Ausbaukorridor (Regierungsentwurf)",null,null,null,null,null,null,null,null,null,null,0.2,0.2,0.2,0.5,0.5,0.5,0.5,0.5,0.5,0.5,0.3,0.3,0.3,0.3,0.3,0.3]
[]
[null,null,"EEG 2021","dr","Bruttozubau entsprechend EEG 2021","ab 2030 konstant fortgeschrieben",null,null,null,null,null,null,null,null,null,null,null,{"$f":"200/(1000)","v":0.2},{"$f":"200/(1000)","v":0.2},0.75,0.75,0.75,0.75,0.75,0.75,0.75,0.3,{"$f":"$AA$77","v":0.3},{"$f":"$AA$77","v":0.3},0.3,0.3,0.3]
[null,null,"KNDE 2045","fh","Zubau entsprechend KNDE 2045","5-Jares-Kapazitätsmengen aus KNDE 2045 werden erreicht.",null,null,null,null,null,null,null,null,null,null,0.2,0.2,0.2,0.5,0.5,0.5,0.5,0.5,0.5,0.5,0.3,0,0,-1,-1,0]
[]
[]
[]
[]
[]
[]
[]
[]
[]
[]
[]
[]
[null,"Geothermie","Referenz","fh","0,01GW/a","bis 2025: Mittelfristprognose (Trendszenario). Danach 0,01GW/a",0,0,1.1799999999999998E-2,1.132E-2,3.7300000000000041E-3,0,4.9999999999999984E-3,2E-3,5.0000000000000001E-3,4.0000000000000001E-3,5.0000000000000001E-3,8.9999999999999993E-3,2.5000000000000001E-2,1.4E-2,6.0000000000000001E-3,6.0000000000000001E-3,0.01,0.01,0.01,0.01,0.01,0.01,0.01,0.01,0.01,0.01]
[]
[null,null,"kein Zubau","mh","0 GW/a",null,null,null,null,null,null,null,null,null,null,null,0,0,0,0,0,0,0,0,0,0,0,0,0,0,0,0]
[]
[]
[]
[null,null,"MFP hoch","fh","MFP hoch","bis 2025 wie MFP oberes Szenario, danach wie Referenz",null,null,null,null,null,null,null,null,null,null,4.0000000000000001E-3,0.01,3.3000000000000002E-2,1.7999999999999999E-2,8.0000000000000002E-3,8.0000000000000002E-3,{"$f":"W$91","v":0.01},0.01,0.01,0.01,0.01,0.01,0.01,0.01,0.01,0.01]
[null,null,"MFP niedrig","fh","MFP niedrig","bis 2025 wie MFP unteres Szenario, danach wie Referenz",null,null,null,null,null,null,null,null,null,null,4.0000000000000001E-3,8.0000000000000002E-3,1.7000000000000001E-2,0.01,4.0000000000000001E-3,4.0000000000000001E-3,0.01,0.01,0.01,0.01,0.01,0.01,0.01,0.01,0.01,0.01]
[]
[]
[]
[]
[]
[]
[]
[]
[]
[]
[]
[]
[]
[]
[]
[]
[]
[]
[null,"Wind Onshore","Referenz","fh","1,5 GW bis 2021, ab 2023 2,5 GW/a","Fortführung der aktuell geringen Ausbauzahlen bis 2021, danach Anstieg auf 2,5 GW in 2023; ab 2023 konstant 2,5 GW; 2010-2019: historische Werte aus Auswertung Baujahre der Bestandsanlagen 2019",{"$f":"1411.797/(1000)","v":1.411797},{"$f":"1871.298/(1000)","v":1.8712979999999999},{"$f":"2408.529/(1000)","v":2.4085290000000001},{"$f":"2996.571/(1000)","v":2.9965709999999999},{"$f":"4652.297/(1000)","v":4.6522969999999999},{"$f":"3787.208/(1000)","v":3.7872080000000001},{"$f":"4445.403/(1000)","v":4.4454030000000007},{"$f":"5501.745/(1000)","v":5.5017449999999997},{"$f":"2403.15/(1000)","v":2.4031500000000001},{"$f":"986/(1000)","v":0.98599999999999999},1.5,1.5,2,2.5,2.5,2.5,2.5,2.5,2.5,2.5,2.5,2.5,2.5,2.5,2.5,2.5]
[]
[null,null,"65% Szenario","as/pl/fh","Sonderausschreibungen; 90% Realisierung","bis 2024 wie MFP Trend-Szenario plus Sonderausschreibungen in 2020 (1,4 GW), 2021 (1,6 GW) mit 1 Jahr Verzug und 90% Realisierung; ab 2025 3,5 GW/a",null,null,null,null,null,null,null,null,null,null,3.286,4.7619999999999996,5.1160000000000005,3.9870000000000001,3.4289999999999998,3.5,{"$f":"V119","v":3.5},{"$f":"W119","v":3.5},3.5,3.5,3.5,3.5,3.5,3.5,3.5,3.5]
[]
[null,null,"kein Zubau","mh","0 GW/a",null,null,null,null,null,null,null,null,null,null,null,0,0,0,0,0,0,0,0,0,0,0,0,0,0,0,0]
[null,null,"niedrig","mh","1,5 GW/a",null,null,null,null,null,null,null,null,null,null,null,1.5,1.5,1.5,1.5,1.5,1.5,1.5,1.5,1.5,1.5,1.5,1.5,1.5,1.5,1.5,1.5]
[null,null,"mittel","mh","3,0 GW/a",null,null,null,null,null,null,null,null,null,null,null,3,3,3,3,3,3,3,3,3,3,3,3,3,3,3,3]
[null,null,"hoch","mh","4,5 GW/a",null,null,null,null,null,null,null,null,null,null,null,4.5,4.5,4.5,4.5,4.5,4.5,4.5,4.5,4.5,4.5,4.5,4.5,4.5,4.5,4.5,4.5]
[null,null,"sehr hoch","mh","6,0 GW/a",null,null,null,null,null,null,null,null,null,null,null,6,6,6,6,6,6,6,6,6,6,6,6,6,6,6,6]
[]
[]
[null,null,"MFP Trend","fh","MFP Trend","bis 2025 wie MFP Trend-Szenario, danach wie Sonderausschreibungen; EEG 2017 Realisierung 90%",null,null,null,null,null,null,null,null,null,null,2.2410000000000001,2.3410000000000002,3.0859999999999999,2.9470000000000001,3.3450000000000002,3.3929999999999998,2.61,2.61,2.61,2.61,2.61,2.61,2.61,2.61,2.61,2.61]
[null,null,"MFP hoch","fh","MFP hoch","bis 2025 wie MFP oberes Szenario, danach wie Sonderausschreibungen; EEG 2017 Realisierung 90%",null,null,null,null,null,null,null,null,null,null,2.4470000000000001,2.5950000000000002,3.2480000000000002,3.1019999999999999,3.5209999999999999,3.5720000000000001,2.61,2.61,2.61,2.61,2.61,2.61,2.61,2.61,2.61,2.61]
[null,null,"MFP niedrig","fh","MFP niedrig","bis 2025 wie MFP unteres Szenario, danach wie Sonderausschreibungen; EEG 2017 Realisierung 90%",null,null,null,null,null,null,null,null,null,null,2.036,2.0880000000000001,2.923,2.7290000000000001,3.169,3.2149999999999999,2.61,2.61,2.61,2.61,2.61,2.61,2.61,2.61,2.61,2.61]
[null,null,"100%","dr","EEG 2017; 100% Realisierung","bis 2030 wie MFP Trend; danach Ausschreibungsmengen nach EEG; 2 Jahre Verzug, 100% Realisierung",null,null,null,null,null,null,null,null,null,null,3.0430000000000001,3.3149999999999999,2.827,2.7280000000000002,2.9,2.9,2.9,2.9,2.9,2.9,2.9,2.9,2.9,2.9,2.9,2.9]
[]
[null,null,"EEG 2021","dr","Bruttozubau entsprechend EEG 2021","ab 2030 konstant fortgeschrieben",null,null,null,null,null,null,null,null,null,null,null,{"$f":"1500/(1000)","v":1.5},{"$f":"1800/(1000)","v":1.8},{"$f":"4300/(1000)","v":4.3},{"$f":"2900/(1000)","v":2.9},{"$f":"3700/(1000)","v":3.7},{"$f":"3900/(1000)","v":3.9},{"$f":"4500/(1000)","v":4.5},{"$f":"4500/(1000)","v":4.5},{"$f":"5400/(1000)","v":5.4},{"$f":"$Z$133","v":5.4},{"$f":"$Z$133","v":5.4},5.4,5.4,5.4,5.4]
[null,null,"KNDE 2045","fh","Zubau entsprechend KNDE 2045","5-Jares-Kapazitätsmengen aus KNDE 2045 werden erreicht.",null,null,null,null,null,null,null,null,null,null,null,2,2.1,2.1,2.1,2.2000000000000002,5,5.5,5.6,6,6,6.1,5,4.8,4.8,3.3]
[]
[]
[]
[]
[]
[]
[]
[]
[]
[]
[]
[null,"Wind Offshore","Referenz","fh","MFP Trend, danach konstant 1,6 GW","bis 2025  MFP Trend Szenario, ab 2026 Fortschreibung",{"$f":"45/(1000)","v":4.4999999999999998E-2},{"$f":"108/(1000)","v":0.108},{"$f":"80/(1000)","v":0.08},{"$f":"240/(1000)","v":0.24},{"$f":"486/(1000)","v":0.48599999999999999},{"$f":"2289/(1000)","v":2.2890000000000001},{"$f":"869/(1000)","v":0.86899999999999999},{"$f":"1254/(1000)","v":1.254},{"$f":"987/(1000)","v":0.98699999999999999},{"$f":"1135/(1000)","v":1.135},{"$f":"219/(1000)","v":0.219},{"$f":"R148","v":0},0.34200000000000003,0.97499999999999998,0.9,0.9,{"$f":"V146","v":0.9},{"$f":"W146","v":0.9},{"$f":"X146","v":0.9},0.9,0.9,0.9,0.9,0.9,0.9,0.9]
[]
[]
[]
[null,null,"kein Zubau","mh","0 GW/a",null,null,null,null,null,null,null,null,null,null,null,0,0,0,0,0,0,0,0,0,0,0,0,0,0,0,0]
[null,null,"niedrig","cl","0,5 GW/a",null,null,null,null,null,null,null,null,null,null,null,0.5,0.5,0.5,0.5,0.5,0.5,0.5,0.5,0.5,0.5,0.5,0.5,0.5,0.5,0.5,0.5]
[null,null,"mittel","cl","1,0 GW/a",null,null,null,null,null,null,null,null,null,null,null,1,1,1,1,1,1,1,1,1,1,1,1,1,1,1,1]
[null,null,"hoch","cl","1,5 GW/a",null,null,null,null,null,null,null,null,null,null,null,1.5,1.5,1.5,1.5,1.5,1.5,1.5,1.5,1.5,1.5,1.5,1.5,1.5,1.5,1.5,1.5]
[null,null,"sehr hoch","cl","2 GW/a",null,null,null,null,null,null,null,null,null,null,null,2,2,2,2,2,2,2,2,2,2,2,2,2,2,2,2]
[]
[null,null,"EEG-Zubau Korridor","mh","EEG-Korridor","Erwartete Anlagen und EEG-Zubau Korridor",null,null,null,null,null,null,null,null,null,null,0.98899999999999999,0.5,0.5,0.7,0.7,0.7,0.95,0.95,0.95,2.9,3.5,1,1,1,1,1]
[null,null,"MFP Trend","fh","MFP Trend","bis 2025 wie MFP Trend-Szenario, danach wie Erwartete Anlagen und EEG-Zubau Korridor",null,null,null,null,null,null,null,null,null,null,0.24399999999999999,0,0.34200000000000003,0.97499999999999998,0.9,0.9,{"$f":"W$156","v":0.95},0.95,0.95,2.9,3.5,1,1,1,1,1]
[null,null,"MFP hoch","fh","MFP hoch","bis 2025 wie MFP oberes Szenario, danach wie Erwartete Anlagen und EEG-Zubau Korridor",null,null,null,null,null,null,null,null,null,null,0.24399999999999999,0,0.46600000000000003,1.032,1.395,0.22500000000000001,{"$f":"W156","v":0.95},0.95,0.95,2.9,3.5,1,1,1,1,1]
[null,null,"MFP niedrig","fh","MFP niedrig","bis 2025 wie MFP unteres Szenario, danach wie Erwartete Anlagen und EEG-Zubau Korridor",null,null,null,null,null,null,null,null,null,null,0.24399999999999999,0,0.34200000000000003,0.54600000000000004,1.165,1.0649999999999999,{"$f":"W156","v":0.95},0.95,0.95,2.9,3.5,1,1,1,1,1]
[]
[null,null,"EEG 2021","dr","Bruttozubau entsprechend EEG 2021","ab 2030 konstant fortgeschrieben",null,null,null,null,null,null,null,null,null,null,null,{"$f":"500/(1000)","v":0.5},{"$f":"500/(1000)","v":0.5},{"$f":"700/(1000)","v":0.7},{"$f":"700/(1000)","v":0.7},{"$f":"700/(1000)","v":0.7},{"$f":"950/(1000)","v":0.95},{"$f":"950/(1000)","v":0.95},{"$f":"950/(1000)","v":0.95},{"$f":"2900/(1000)","v":2.9},3.5,{"$f":"$AA$161","v":3.5},{"$f":"$AA$161","v":3.5},3.5,3.5,3.5]
[null,null,"KNDE 2045","fh","Zubau entsprechend KNDE 2045","5-Jares-Kapazitätsmengen aus KNDE 2045 werden erreicht.",null,null,null,null,null,null,null,null,null,null,0.23799999999999999,0.3,0.4,0.6,0.8,0.8,1.5,2.5,3,3.5,4,3.6,3.4,3.7,3.6,1.5]
[]
[]
[]
[]
[]
[]
[]
[]
[]
[]
[]
[]
[null,"PV","Referenz","fh","MFP Trend","bis 2025 wie MFP Trend-Szenario, danach wie Sonderausschreibungen; EEG-Korridor; 2010-2019: Differenz der Leistung zum Vorjahr aus EE in Zahlen",{"$f":"7440/(1000)","v":7.44},{"$f":"7910/(1000)","v":7.91},{"$f":"8161/(1000)","v":8.1609999999999996},{"$f":"2633/(1000)","v":2.633},{"$f":"1190/(1000)","v":1.19},{"$f":"1324/(1000)","v":1.3240000000000001},{"$f":"1455/(1000)","v":1.4550000000000001},{"$f":"1614/(1000)","v":1.6140000000000001},{"$f":"2865/(1000)","v":2.8650000000000002},{"$f":"3889/(1000)","v":3.8889999999999998},{"$f":"4801/(1000)","v":4.8010000000000002},5.4139999999999997,4.9379999999999997,3.1520000000000001,3.0219999999999998,3.129,3,3,3,3,3,3,3,3,3,3]
[]
[null,null,"65% Szenario","fh/pl","Sonderausschreibungen, 90% Realisierung","bis 2025 wie MFP Trend-Szenario plus Sonderausschreibungen in 2021 (1,6 GW) mit 1 Jahr Verzug und 90% Realisierung; Zusätzliche 2 GW in 2023 und 2024; ab 2025 6 GW/a",null,null,null,null,null,null,null,null,null,null,{"$f":"Q175","v":4.8010000000000002},{"$f":"R175","v":5.4139999999999997},{"$f":"S175+0.9*1.6","v":6.3780000000000001},{"$f":"T175+2","v":5.1520000000000001},{"$f":"U175+2","v":5.0220000000000002},6,{"$f":"V177","v":6},{"$f":"W177","v":6},6,6,6,6,6,6,6,6]
[]
[null,null,"kein Zubau","mh","0 GW/a",null,null,null,null,null,null,null,null,null,null,null,0,0,0,0,0,0,0,0,0,0,0,0,0,0,0,0]
[null,null,"niedrig","mh","1,5 GW/a",null,null,null,null,null,null,null,null,null,null,null,1.5,1.5,1.5,1.5,1.5,1.5,1.5,1.5,1.5,1.5,1.5,1.5,1.5,1.5,1.5,1.5]
[null,null,"mittel","mh","3,0 GW/a",null,null,null,null,null,null,null,null,null,null,null,3,3,3,3,3,3,3,3,3,3,3,3,3,3,3,3]
[null,null,"hoch","mh","4,5 GW/a",null,null,null,null,null,null,null,null,null,null,null,4.5,4.5,4.5,4.5,4.5,4.5,4.5,4.5,4.5,4.5,4.5,4.5,4.5,4.5,4.5,4.5]
[null,null,"sehr hoch","mh","6,0 GW/a",null,null,null,null,null,null,null,null,null,null,null,6,6,6,6,6,6,6,6,6,6,6,6,6,6,6,6]
[]
[]
[null,null,"MFP Trend","fh","MFP Trend","bis 2025 wie MFP Trend-Szenario, danach wie Sonderausschreibungen; EEG-Korridor",null,null,null,null,null,null,null,null,null,null,4.2270000000000003,5.4139999999999997,4.9379999999999997,3.1520000000000001,3.0219999999999998,3.129,2.5,2.5,2.5,2.5,2.5,2.5,2.5,2.5,2.5,2.5]
[null,null,"MFP hoch","fh","MFP hoch","bis 2025 wie MFP oberes Szenario, danach wie Sonderausschreibungen; EEG-Korridor",null,null,null,null,null,null,null,null,null,null,4.5579999999999998,6.0309999999999997,5.4889999999999999,3.6960000000000002,3.6579999999999999,3.8220000000000001,2.5,2.5,2.5,2.5,2.5,2.5,2.5,2.5,2.5,2.5]
[null,null,"MFP niedrig","fh","MFP niedrig","bis 2025 wie MFP unteres Szenario, danach wie Sonderausschreibungen; EEG-Korridor",null,null,null,null,null,null,null,null,null,null,3.8929999999999998,4.6459999999999999,4.3579999999999997,2.657,2.4180000000000001,2.4260000000000002,2.5,2.5,2.5,2.5,2.5,2.5,2.5,2.5,2.5,2.5]
[]
[null,null,"EEG Korridor","fh","Wie EEG Ausbaukorridor","Entsprechend den Zielen im EEG Ausbaukorridor",null,null,null,null,null,null,null,null,null,null,null,4.5999999999999996,4.8,4.8,4.8,4.8,5.3,5.4,5.5,5.6,5.6,5.6,5.6,5.6,5.6,5.6]
[]
[null,null,"EEG 2021","dr","Bruttozubau entsprechend EEG 2021","ab 2030 konstant fortgeschrieben",null,null,null,null,null,null,null,null,null,null,null,{"$f":"4600/(1000)","v":4.5999999999999996},{"$f":"4800/(1000)","v":4.8},{"$f":"4750/(1000)","v":4.75},{"$f":"4750/(1000)","v":4.75},{"$f":"4750/(1000)","v":4.75},{"$f":"5250/(1000)","v":5.25},{"$f":"5350/(1000)","v":5.35},{"$f":"5450/(1000)","v":5.45},{"$f":"5550/(1000)","v":5.55},{"$f":"$Z$192","v":5.55},{"$f":"$Z$192","v":5.55},5.55,5.55,5.55,5.55]
[null,null,"KNDE 2045","fh","Zubau entsprechend KNDE 2045","5-Jares-Kapazitätsmengen aus KNDE 2045 werden erreicht.",null,null,null,null,null,null,null,null,null,null,null,4.0999999999999996,6.5,8.5,9,9,10,11,12,13,14,17.600000000000001,17.600000000000001,17.3,16.5,14.7]

{"sheet":"D-Standardauslastung","index":16,"n_rows":175,"n_cols":32,"rows_kept":175,"cut":false,"hidden":true,"merged":[]}
[" ","Standardauslastung für Neuanlagen (Volllaststunden pro Jahr)"]
[]
[null,null,"Szenario","Bearbeiter","Beschreibung","Kommentar"]
[null,null,null,null,null,null,2010,2011,2012,2013,2014,2015,2016,2017,2018,2019,2020,2021,2022,2023,2024,2025,2026,2027,2028,2029,2030,2031,2032,2033,2034,2035]
[null,null,null,null,null,null,"h","h","h","h","h","h","h","h","h","h","h","h","h","h","h","h","h","h","h","h","h","h","h","h","h","h"]
[null,"Wasser",{"$f":"ControlPanel!E39","v":"Referenz"},{"$f":"VLOOKUP($C$6,$C$13:$AF$37,2,FALSE)","v":"fh"},{"$f":"VLOOKUP($C$6,$C$13:$AF$37,3,FALSE)","v":"MFP Trend"},{"$f":"VLOOKUP($C$6,$C$13:$AF$37,4,FALSE)","v":"bis 2025 wie MFP Referenzszenario, danach konstant"},{"$f":"IF(G$4<ControlPanel!$D$59,VLOOKUP(\"Referenz\",$C$13:$AF$37,G$4-$G$4+5,FALSE),VLOOKUP($C$6,$C$13:$AF$37,G$4-$G$4+5,FALSE))","v":0},{"$f":"IF(H$4<ControlPanel!$D$59,VLOOKUP(\"Referenz\",$C$13:$AF$37,H$4-$G$4+5,FALSE),VLOOKUP($C$6,$C$13:$AF$37,H$4-$G$4+5,FALSE))","v":0},{"$f":"IF(I$4<ControlPanel!$D$59,VLOOKUP(\"Referenz\",$C$13:$AF$37,I$4-$G$4+5,FALSE),VLOOKUP($C$6,$C$13:$AF$37,I$4-$G$4+5,FALSE))","v":0},{"$f":"IF(J$4<ControlPanel!$D$59,VLOOKUP(\"Referenz\",$C$13:$AF$37,J$4-$G$4+5,FALSE),VLOOKUP($C$6,$C$13:$AF$37,J$4-$G$4+5,FALSE))","v":0},{"$f":"IF(K$4<ControlPanel!$D$59,VLOOKUP(\"Referenz\",$C$13:$AF$37,K$4-$G$4+5,FALSE),VLOOKUP($C$6,$C$13:$AF$37,K$4-$G$4+5,FALSE))","v":0},{"$f":"IF(L$4<ControlPanel!$D$59,VLOOKUP(\"Referenz\",$C$13:$AF$37,L$4-$G$4+5,FALSE),VLOOKUP($C$6,$C$13:$AF$37,L$4-$G$4+5,FALSE))","v":3956},{"$f":"IF(M$4<ControlPanel!$D$59,VLOOKUP(\"Referenz\",$C$13:$AF$37,M$4-$G$4+5,FALSE),VLOOKUP($C$6,$C$13:$AF$37,M$4-$G$4+5,FALSE))","v":3956},{"$f":"IF(N$4<ControlPanel!$D$59,VLOOKUP(\"Referenz\",$C$13:$AF$37,N$4-$G$4+5,FALSE),VLOOKUP($C$6,$C$13:$AF$37,N$4-$G$4+5,FALSE))","v":3956},{"$f":"IF(O$4<ControlPanel!$D$59,VLOOKUP(\"Referenz\",$C$13:$AF$37,O$4-$G$4+5,FALSE),VLOOKUP($C$6,$C$13:$AF$37,O$4-$G$4+5,FALSE))","v":3956},{"$f":"IF(P$4<ControlPanel!$D$59,VLOOKUP(\"Referenz\",$C$13:$AF$37,P$4-$G$4+5,FALSE),VLOOKUP($C$6,$C$13:$AF$37,P$4-$G$4+5,FALSE))","v":3956},{"$f":"IF(Q$4<ControlPanel!$D$59,VLOOKUP(\"Referenz\",$C$13:$AF$37,Q$4-$G$4+5,FALSE),VLOOKUP($C$6,$C$13:$AF$37,Q$4-$G$4+5,FALSE))","v":3956},{"$f":"IF(R$4<ControlPanel!$D$59,VLOOKUP(\"Referenz\",$C$13:$AF$37,R$4-$G$4+5,FALSE),VLOOKUP($C$6,$C$13:$AF$37,R$4-$G$4+5,FALSE))","v":3950},{"$f":"IF(S$4<ControlPanel!$D$59,VLOOKUP(\"Referenz\",$C$13:$AF$37,S$4-$G$4+5,FALSE),VLOOKUP($C$6,$C$13:$AF$37,S$4-$G$4+5,FALSE))","v":3950},{"$f":"IF(T$4<ControlPanel!$D$59,VLOOKUP(\"Referenz\",$C$13:$AF$37,T$4-$G$4+5,FALSE),VLOOKUP($C$6,$C$13:$AF$37,T$4-$G$4+5,FALSE))","v":3950},{"$f":"IF(U$4<ControlPanel!$D$59,VLOOKUP(\"Referenz\",$C$13:$AF$37,U$4-$G$4+5,FALSE),VLOOKUP($C$6,$C$13:$AF$37,U$4-$G$4+5,FALSE))","v":3960},{"$f":"IF(V$4<ControlPanel!$D$59,VLOOKUP(\"Referenz\",$C$13:$AF$37,V$4-$G$4+5,FALSE),VLOOKUP($C$6,$C$13:$AF$37,V$4-$G$4+5,FALSE))","v":3950},{"$f":"IF(W$4<ControlPanel!$D$59,VLOOKUP(\"Referenz\",$C$13:$AF$37,W$4-$G$4+5,FALSE),VLOOKUP($C$6,$C$13:$AF$37,W$4-$G$4+5,FALSE))","v":3950},{"$f":"IF(X$4<ControlPanel!$D$59,VLOOKUP(\"Referenz\",$C$13:$AF$37,X$4-$G$4+5,FALSE),VLOOKUP($C$6,$C$13:$AF$37,X$4-$G$4+5,FALSE))","v":3950},{"$f":"IF(Y$4<ControlPanel!$D$59,VLOOKUP(\"Referenz\",$C$13:$AF$37,Y$4-$G$4+5,FALSE),VLOOKUP($C$6,$C$13:$AF$37,Y$4-$G$4+5,FALSE))","v":3950},{"$f":"IF(Z$4<ControlPanel!$D$59,VLOOKUP(\"Referenz\",$C$13:$AF$37,Z$4-$G$4+5,FALSE),VLOOKUP($C$6,$C$13:$AF$37,Z$4-$G$4+5,FALSE))","v":3950},{"$f":"IF(AA$4<ControlPanel!$D$59,VLOOKUP(\"Referenz\",$C$13:$AF$37,AA$4-$G$4+5,FALSE),VLOOKUP($C$6,$C$13:$AF$37,AA$4-$G$4+5,FALSE))","v":3950},{"$f":"IF(AB$4<ControlPanel!$D$59,VLOOKUP(\"Referenz\",$C$13:$AF$37,AB$4-$G$4+5,FALSE),VLOOKUP($C$6,$C$13:$AF$37,AB$4-$G$4+5,FALSE))","v":3950},{"$f":"IF(AC$4<ControlPanel!$D$59,VLOOKUP(\"Referenz\",$C$13:$AF$37,AC$4-$G$4+5,FALSE),VLOOKUP($C$6,$C$13:$AF$37,AC$4-$G$4+5,FALSE))","v":3950},{"$f":"IF(AD$4<ControlPanel!$D$59,VLOOKUP(\"Referenz\",$C$13:$AF$37,AD$4-$G$4+5,FALSE),VLOOKUP($C$6,$C$13:$AF$37,AD$4-$G$4+5,FALSE))","v":3950},{"$f":"IF(AE$4<ControlPanel!$D$59,VLOOKUP(\"Referenz\",$C$13:$AF$37,AE$4-$G$4+5,FALSE),VLOOKUP($C$6,$C$13:$AF$37,AE$4-$G$4+5,FALSE))","v":3950},{"$f":"IF(AF$4<ControlPanel!$D$59,VLOOKUP(\"Referenz\",$C$13:$AF$37,AF$4-$G$4+5,FALSE),VLOOKUP($C$6,$C$13:$AF$37,AF$4-$G$4+5,FALSE))","v":3950}]
[null,"Gase",{"$f":"ControlPanel!E40","v":"Referenz"},{"$f":"VLOOKUP($C$7,$C$39:$AF$63,2,FALSE)","v":"fh"},{"$f":"VLOOKUP($C$7,$C$39:$AF$63,3,FALSE)","v":"MFP Trend"},{"$f":"VLOOKUP($C$7,$C$39:$AF$63,4,FALSE)","v":"bis 2025 wie MFP Referenzszenario, danach konstant"},{"$f":"IF(G$4<ControlPanel!$D$59,VLOOKUP(\"Referenz\",$C$39:$AF$63,G$4-$G$4+5,FALSE),VLOOKUP($C$7,$C$39:$AF$63,G$4-$G$4+5,FALSE))","v":0},{"$f":"IF(H$4<ControlPanel!$D$59,VLOOKUP(\"Referenz\",$C$39:$AF$63,H$4-$G$4+5,FALSE),VLOOKUP($C$7,$C$39:$AF$63,H$4-$G$4+5,FALSE))","v":0},{"$f":"IF(I$4<ControlPanel!$D$59,VLOOKUP(\"Referenz\",$C$39:$AF$63,I$4-$G$4+5,FALSE),VLOOKUP($C$7,$C$39:$AF$63,I$4-$G$4+5,FALSE))","v":0},{"$f":"IF(J$4<ControlPanel!$D$59,VLOOKUP(\"Referenz\",$C$39:$AF$63,J$4-$G$4+5,FALSE),VLOOKUP($C$7,$C$39:$AF$63,J$4-$G$4+5,FALSE))","v":0},{"$f":"IF(K$4<ControlPanel!$D$59,VLOOKUP(\"Referenz\",$C$39:$AF$63,K$4-$G$4+5,FALSE),VLOOKUP($C$7,$C$39:$AF$63,K$4-$G$4+5,FALSE))","v":0},{"$f":"IF(L$4<ControlPanel!$D$59,VLOOKUP(\"Referenz\",$C$39:$AF$63,L$4-$G$4+5,FALSE),VLOOKUP($C$7,$C$39:$AF$63,L$4-$G$4+5,FALSE))","v":2901},{"$f":"IF(M$4<ControlPanel!$D$59,VLOOKUP(\"Referenz\",$C$39:$AF$63,M$4-$G$4+5,FALSE),VLOOKUP($C$7,$C$39:$AF$63,M$4-$G$4+5,FALSE))","v":2901},{"$f":"IF(N$4<ControlPanel!$D$59,VLOOKUP(\"Referenz\",$C$39:$AF$63,N$4-$G$4+5,FALSE),VLOOKUP($C$7,$C$39:$AF$63,N$4-$G$4+5,FALSE))","v":3944},{"$f":"IF(O$4<ControlPanel!$D$59,VLOOKUP(\"Referenz\",$C$39:$AF$63,O$4-$G$4+5,FALSE),VLOOKUP($C$7,$C$39:$AF$63,O$4-$G$4+5,FALSE))","v":3767},{"$f":"IF(P$4<ControlPanel!$D$59,VLOOKUP(\"Referenz\",$C$39:$AF$63,P$4-$G$4+5,FALSE),VLOOKUP($C$7,$C$39:$AF$63,P$4-$G$4+5,FALSE))","v":3685},{"$f":"IF(Q$4<ControlPanel!$D$59,VLOOKUP(\"Referenz\",$C$39:$AF$63,Q$4-$G$4+5,FALSE),VLOOKUP($C$7,$C$39:$AF$63,Q$4-$G$4+5,FALSE))","v":3372.3653395784545},{"$f":"IF(R$4<ControlPanel!$D$59,VLOOKUP(\"Referenz\",$C$39:$AF$63,R$4-$G$4+5,FALSE),VLOOKUP($C$7,$C$39:$AF$63,R$4-$G$4+5,FALSE))","v":4128.712871287129},{"$f":"IF(S$4<ControlPanel!$D$59,VLOOKUP(\"Referenz\",$C$39:$AF$63,S$4-$G$4+5,FALSE),VLOOKUP($C$7,$C$39:$AF$63,S$4-$G$4+5,FALSE))","v":4306.8592057761734},{"$f":"IF(T$4<ControlPanel!$D$59,VLOOKUP(\"Referenz\",$C$39:$AF$63,T$4-$G$4+5,FALSE),VLOOKUP($C$7,$C$39:$AF$63,T$4-$G$4+5,FALSE))","v":5080.7174887892379},{"$f":"IF(U$4<ControlPanel!$D$59,VLOOKUP(\"Referenz\",$C$39:$AF$63,U$4-$G$4+5,FALSE),VLOOKUP($C$7,$C$39:$AF$63,U$4-$G$4+5,FALSE))","v":5776.3975155279504},{"$f":"IF(V$4<ControlPanel!$D$59,VLOOKUP(\"Referenz\",$C$39:$AF$63,V$4-$G$4+5,FALSE),VLOOKUP($C$7,$C$39:$AF$63,V$4-$G$4+5,FALSE))","v":5222.2222222222226},{"$f":"IF(W$4<ControlPanel!$D$59,VLOOKUP(\"Referenz\",$C$39:$AF$63,W$4-$G$4+5,FALSE),VLOOKUP($C$7,$C$39:$AF$63,W$4-$G$4+5,FALSE))","v":5222.2222222222226},{"$f":"IF(X$4<ControlPanel!$D$59,VLOOKUP(\"Referenz\",$C$39:$AF$63,X$4-$G$4+5,FALSE),VLOOKUP($C$7,$C$39:$AF$63,X$4-$G$4+5,FALSE))","v":5222.2222222222226},{"$f":"IF(Y$4<ControlPanel!$D$59,VLOOKUP(\"Referenz\",$C$39:$AF$63,Y$4-$G$4+5,FALSE),VLOOKUP($C$7,$C$39:$AF$63,Y$4-$G$4+5,FALSE))","v":5222.2222222222226},{"$f":"IF(Z$4<ControlPanel!$D$59,VLOOKUP(\"Referenz\",$C$39:$AF$63,Z$4-$G$4+5,FALSE),VLOOKUP($C$7,$C$39:$AF$63,Z$4-$G$4+5,FALSE))","v":5222.2222222222226},{"$f":"IF(AA$4<ControlPanel!$D$59,VLOOKUP(\"Referenz\",$C$39:$AF$63,AA$4-$G$4+5,FALSE),VLOOKUP($C$7,$C$39:$AF$63,AA$4-$G$4+5,FALSE))","v":5222.2222222222226},{"$f":"IF(AB$4<ControlPanel!$D$59,VLOOKUP(\"Referenz\",$C$39:$AF$63,AB$4-$G$4+5,FALSE),VLOOKUP($C$7,$C$39:$AF$63,AB$4-$G$4+5,FALSE))","v":5222.2222222222226},{"$f":"IF(AC$4<ControlPanel!$D$59,VLOOKUP(\"Referenz\",$C$39:$AF$63,AC$4-$G$4+5,FALSE),VLOOKUP($C$7,$C$39:$AF$63,AC$4-$G$4+5,FALSE))","v":5222.2222222222226},{"$f":"IF(AD$4<ControlPanel!$D$59,VLOOKUP(\"Referenz\",$C$39:$AF$63,AD$4-$G$4+5,FALSE),VLOOKUP($C$7,$C$39:$AF$63,AD$4-$G$4+5,FALSE))","v":5222.2222222222226},{"$f":"IF(AE$4<ControlPanel!$D$59,VLOOKUP(\"Referenz\",$C$39:$AF$63,AE$4-$G$4+5,FALSE),VLOOKUP($C$7,$C$39:$AF$63,AE$4-$G$4+5,FALSE))","v":5222.2222222222226},{"$f":"IF(AF$4<ControlPanel!$D$59,VLOOKUP(\"Referenz\",$C$39:$AF$63,AF$4-$G$4+5,FALSE),VLOOKUP($C$7,$C$39:$AF$63,AF$4-$G$4+5,FALSE))","v":5222.2222222222226}]
[null,"Biomasse",{"$f":"ControlPanel!E37","v":"Referenz"},{"$f":"VLOOKUP($C$8,$C$65:$AF$89,2,FALSE)","v":"fh"},{"$f":"VLOOKUP($C$8,$C$65:$AF$89,3,FALSE)","v":"MFP Trend"},{"$f":"VLOOKUP($C$8,$C$65:$AF$89,4,FALSE)","v":"konstant 4000 Volllaststunden"},{"$f":"IF(G$4<ControlPanel!$D$59,VLOOKUP(\"Referenz\",$C$65:$AF$89,G$4-$G$4+5,FALSE),VLOOKUP($C$8,$C$65:$AF$89,G$4-$G$4+5,FALSE))","v":0},{"$f":"IF(H$4<ControlPanel!$D$59,VLOOKUP(\"Referenz\",$C$65:$AF$89,H$4-$G$4+5,FALSE),VLOOKUP($C$8,$C$65:$AF$89,H$4-$G$4+5,FALSE))","v":0},{"$f":"IF(I$4<ControlPanel!$D$59,VLOOKUP(\"Referenz\",$C$65:$AF$89,I$4-$G$4+5,FALSE),VLOOKUP($C$8,$C$65:$AF$89,I$4-$G$4+5,FALSE))","v":0},{"$f":"IF(J$4<ControlPanel!$D$59,VLOOKUP(\"Referenz\",$C$65:$AF$89,J$4-$G$4+5,FALSE),VLOOKUP($C$8,$C$65:$AF$89,J$4-$G$4+5,FALSE))","v":0},{"$f":"IF(K$4<ControlPanel!$D$59,VLOOKUP(\"Referenz\",$C$65:$AF$89,K$4-$G$4+5,FALSE),VLOOKUP($C$8,$C$65:$AF$89,K$4-$G$4+5,FALSE))","v":0},{"$f":"IF(L$4<ControlPanel!$D$59,VLOOKUP(\"Referenz\",$C$65:$AF$89,L$4-$G$4+5,FALSE),VLOOKUP($C$8,$C$65:$AF$89,L$4-$G$4+5,FALSE))","v":5605},{"$f":"IF(M$4<ControlPanel!$D$59,VLOOKUP(\"Referenz\",$C$65:$AF$89,M$4-$G$4+5,FALSE),VLOOKUP($C$8,$C$65:$AF$89,M$4-$G$4+5,FALSE))","v":4000},{"$f":"IF(N$4<ControlPanel!$D$59,VLOOKUP(\"Referenz\",$C$65:$AF$89,N$4-$G$4+5,FALSE),VLOOKUP($C$8,$C$65:$AF$89,N$4-$G$4+5,FALSE))","v":4000},{"$f":"IF(O$4<ControlPanel!$D$59,VLOOKUP(\"Referenz\",$C$65:$AF$89,O$4-$G$4+5,FALSE),VLOOKUP($C$8,$C$65:$AF$89,O$4-$G$4+5,FALSE))","v":4000},{"$f":"IF(P$4<ControlPanel!$D$59,VLOOKUP(\"Referenz\",$C$65:$AF$89,P$4-$G$4+5,FALSE),VLOOKUP($C$8,$C$65:$AF$89,P$4-$G$4+5,FALSE))","v":4000},{"$f":"IF(Q$4<ControlPanel!$D$59,VLOOKUP(\"Referenz\",$C$65:$AF$89,Q$4-$G$4+5,FALSE),VLOOKUP($C$8,$C$65:$AF$89,Q$4-$G$4+5,FALSE))","v":4000},{"$f":"IF(R$4<ControlPanel!$D$59,VLOOKUP(\"Referenz\",$C$65:$AF$89,R$4-$G$4+5,FALSE),VLOOKUP($C$8,$C$65:$AF$89,R$4-$G$4+5,FALSE))","v":4000},{"$f":"IF(S$4<ControlPanel!$D$59,VLOOKUP(\"Referenz\",$C$65:$AF$89,S$4-$G$4+5,FALSE),VLOOKUP($C$8,$C$65:$AF$89,S$4-$G$4+5,FALSE))","v":4000},{"$f":"IF(T$4<ControlPanel!$D$59,VLOOKUP(\"Referenz\",$C$65:$AF$89,T$4-$G$4+5,FALSE),VLOOKUP($C$8,$C$65:$AF$89,T$4-$G$4+5,FALSE))","v":4000},{"$f":"IF(U$4<ControlPanel!$D$59,VLOOKUP(\"Referenz\",$C$65:$AF$89,U$4-$G$4+5,FALSE),VLOOKUP($C$8,$C$65:$AF$89,U$4-$G$4+5,FALSE))","v":4000},{"$f":"IF(V$4<ControlPanel!$D$59,VLOOKUP(\"Referenz\",$C$65:$AF$89,V$4-$G$4+5,FALSE),VLOOKUP($C$8,$C$65:$AF$89,V$4-$G$4+5,FALSE))","v":4000},{"$f":"IF(W$4<ControlPanel!$D$59,VLOOKUP(\"Referenz\",$C$65:$AF$89,W$4-$G$4+5,FALSE),VLOOKUP($C$8,$C$65:$AF$89,W$4-$G$4+5,FALSE))","v":4000},{"$f":"IF(X$4<ControlPanel!$D$59,VLOOKUP(\"Referenz\",$C$65:$AF$89,X$4-$G$4+5,FALSE),VLOOKUP($C$8,$C$65:$AF$89,X$4-$G$4+5,FALSE))","v":4000},{"$f":"IF(Y$4<ControlPanel!$D$59,VLOOKUP(\"Referenz\",$C$65:$AF$89,Y$4-$G$4+5,FALSE),VLOOKUP($C$8,$C$65:$AF$89,Y$4-$G$4+5,FALSE))","v":4000},{"$f":"IF(Z$4<ControlPanel!$D$59,VLOOKUP(\"Referenz\",$C$65:$AF$89,Z$4-$G$4+5,FALSE),VLOOKUP($C$8,$C$65:$AF$89,Z$4-$G$4+5,FALSE))","v":4000},{"$f":"IF(AA$4<ControlPanel!$D$59,VLOOKUP(\"Referenz\",$C$65:$AF$89,AA$4-$G$4+5,FALSE),VLOOKUP($C$8,$C$65:$AF$89,AA$4-$G$4+5,FALSE))","v":4000},{"$f":"IF(AB$4<ControlPanel!$D$59,VLOOKUP(\"Referenz\",$C$65:$AF$89,AB$4-$G$4+5,FALSE),VLOOKUP($C$8,$C$65:$AF$89,AB$4-$G$4+5,FALSE))","v":4000},{"$f":"IF(AC$4<ControlPanel!$D$59,VLOOKUP(\"Referenz\",$C$65:$AF$89,AC$4-$G$4+5,FALSE),VLOOKUP($C$8,$C$65:$AF$89,AC$4-$G$4+5,FALSE))","v":4000},{"$f":"IF(AD$4<ControlPanel!$D$59,VLOOKUP(\"Referenz\",$C$65:$AF$89,AD$4-$G$4+5,FALSE),VLOOKUP($C$8,$C$65:$AF$89,AD$4-$G$4+5,FALSE))","v":4000},{"$f":"IF(AE$4<ControlPanel!$D$59,VLOOKUP(\"Referenz\",$C$65:$AF$89,AE$4-$G$4+5,FALSE),VLOOKUP($C$8,$C$65:$AF$89,AE$4-$G$4+5,FALSE))","v":4000},{"$f":"IF(AF$4<ControlPanel!$D$59,VLOOKUP(\"Referenz\",$C$65:$AF$89,AF$4-$G$4+5,FALSE),VLOOKUP($C$8,$C$65:$AF$89,AF$4-$G$4+5,FALSE))","v":4000}]
[null,"Geothermie",{"$f":"ControlPanel!E38","v":"Referenz"},{"$f":"VLOOKUP($C$9,$C$91:$AF$115,2,FALSE)","v":"fh"},{"$f":"VLOOKUP($C$9,$C$91:$AF$115,3,FALSE)","v":"MFP Trend"},{"$f":"VLOOKUP($C$9,$C$91:$AF$115,4,FALSE)","v":"bis 2025 wie MFP Referenzszenario, danach konstant"},{"$f":"IF(G$4<ControlPanel!$D$59,VLOOKUP(\"Referenz\",$C$91:$AF$115,G$4-$G$4+5,FALSE),VLOOKUP($C$9,$C$91:$AF$115,G$4-$G$4+5,FALSE))","v":0},{"$f":"IF(H$4<ControlPanel!$D$59,VLOOKUP(\"Referenz\",$C$91:$AF$115,H$4-$G$4+5,FALSE),VLOOKUP($C$9,$C$91:$AF$115,H$4-$G$4+5,FALSE))","v":0},{"$f":"IF(I$4<ControlPanel!$D$59,VLOOKUP(\"Referenz\",$C$91:$AF$115,I$4-$G$4+5,FALSE),VLOOKUP($C$9,$C$91:$AF$115,I$4-$G$4+5,FALSE))","v":0},{"$f":"IF(J$4<ControlPanel!$D$59,VLOOKUP(\"Referenz\",$C$91:$AF$115,J$4-$G$4+5,FALSE),VLOOKUP($C$9,$C$91:$AF$115,J$4-$G$4+5,FALSE))","v":0},{"$f":"IF(K$4<ControlPanel!$D$59,VLOOKUP(\"Referenz\",$C$91:$AF$115,K$4-$G$4+5,FALSE),VLOOKUP($C$9,$C$91:$AF$115,K$4-$G$4+5,FALSE))","v":0},{"$f":"IF(L$4<ControlPanel!$D$59,VLOOKUP(\"Referenz\",$C$91:$AF$115,L$4-$G$4+5,FALSE),VLOOKUP($C$9,$C$91:$AF$115,L$4-$G$4+5,FALSE))","v":4341},{"$f":"IF(M$4<ControlPanel!$D$59,VLOOKUP(\"Referenz\",$C$91:$AF$115,M$4-$G$4+5,FALSE),VLOOKUP($C$9,$C$91:$AF$115,M$4-$G$4+5,FALSE))","v":4341},{"$f":"IF(N$4<ControlPanel!$D$59,VLOOKUP(\"Referenz\",$C$91:$AF$115,N$4-$G$4+5,FALSE),VLOOKUP($C$9,$C$91:$AF$115,N$4-$G$4+5,FALSE))","v":6304},{"$f":"IF(O$4<ControlPanel!$D$59,VLOOKUP(\"Referenz\",$C$91:$AF$115,O$4-$G$4+5,FALSE),VLOOKUP($C$9,$C$91:$AF$115,O$4-$G$4+5,FALSE))","v":6304},{"$f":"IF(P$4<ControlPanel!$D$59,VLOOKUP(\"Referenz\",$C$91:$AF$115,P$4-$G$4+5,FALSE),VLOOKUP($C$9,$C$91:$AF$115,P$4-$G$4+5,FALSE))","v":6406},{"$f":"IF(Q$4<ControlPanel!$D$59,VLOOKUP(\"Referenz\",$C$91:$AF$115,Q$4-$G$4+5,FALSE),VLOOKUP($C$9,$C$91:$AF$115,Q$4-$G$4+5,FALSE))","v":5457},{"$f":"IF(R$4<ControlPanel!$D$59,VLOOKUP(\"Referenz\",$C$91:$AF$115,R$4-$G$4+5,FALSE),VLOOKUP($C$9,$C$91:$AF$115,R$4-$G$4+5,FALSE))","v":5797},{"$f":"IF(S$4<ControlPanel!$D$59,VLOOKUP(\"Referenz\",$C$91:$AF$115,S$4-$G$4+5,FALSE),VLOOKUP($C$9,$C$91:$AF$115,S$4-$G$4+5,FALSE))","v":5797},{"$f":"IF(T$4<ControlPanel!$D$59,VLOOKUP(\"Referenz\",$C$91:$AF$115,T$4-$G$4+5,FALSE),VLOOKUP($C$9,$C$91:$AF$115,T$4-$G$4+5,FALSE))","v":5797},{"$f":"IF(U$4<ControlPanel!$D$59,VLOOKUP(\"Referenz\",$C$91:$AF$115,U$4-$G$4+5,FALSE),VLOOKUP($C$9,$C$91:$AF$115,U$4-$G$4+5,FALSE))","v":5815},{"$f":"IF(V$4<ControlPanel!$D$59,VLOOKUP(\"Referenz\",$C$91:$AF$115,V$4-$G$4+5,FALSE),VLOOKUP($C$9,$C$91:$AF$115,V$4-$G$4+5,FALSE))","v":5797},{"$f":"IF(W$4<ControlPanel!$D$59,VLOOKUP(\"Referenz\",$C$91:$AF$115,W$4-$G$4+5,FALSE),VLOOKUP($C$9,$C$91:$AF$115,W$4-$G$4+5,FALSE))","v":5797},{"$f":"IF(X$4<ControlPanel!$D$59,VLOOKUP(\"Referenz\",$C$91:$AF$115,X$4-$G$4+5,FALSE),VLOOKUP($C$9,$C$91:$AF$115,X$4-$G$4+5,FALSE))","v":5797},{"$f":"IF(Y$4<ControlPanel!$D$59,VLOOKUP(\"Referenz\",$C$91:$AF$115,Y$4-$G$4+5,FALSE),VLOOKUP($C$9,$C$91:$AF$115,Y$4-$G$4+5,FALSE))","v":5797},{"$f":"IF(Z$4<ControlPanel!$D$59,VLOOKUP(\"Referenz\",$C$91:$AF$115,Z$4-$G$4+5,FALSE),VLOOKUP($C$9,$C$91:$AF$115,Z$4-$G$4+5,FALSE))","v":5797},{"$f":"IF(AA$4<ControlPanel!$D$59,VLOOKUP(\"Referenz\",$C$91:$AF$115,AA$4-$G$4+5,FALSE),VLOOKUP($C$9,$C$91:$AF$115,AA$4-$G$4+5,FALSE))","v":5797},{"$f":"IF(AB$4<ControlPanel!$D$59,VLOOKUP(\"Referenz\",$C$91:$AF$115,AB$4-$G$4+5,FALSE),VLOOKUP($C$9,$C$91:$AF$115,AB$4-$G$4+5,FALSE))","v":5797},{"$f":"IF(AC$4<ControlPanel!$D$59,VLOOKUP(\"Referenz\",$C$91:$AF$115,AC$4-$G$4+5,FALSE),VLOOKUP($C$9,$C$91:$AF$115,AC$4-$G$4+5,FALSE))","v":5797},{"$f":"IF(AD$4<ControlPanel!$D$59,VLOOKUP(\"Referenz\",$C$91:$AF$115,AD$4-$G$4+5,FALSE),VLOOKUP($C$9,$C$91:$AF$115,AD$4-$G$4+5,FALSE))","v":5797},{"$f":"IF(AE$4<ControlPanel!$D$59,VLOOKUP(\"Referenz\",$C$91:$AF$115,AE$4-$G$4+5,FALSE),VLOOKUP($C$9,$C$91:$AF$115,AE$4-$G$4+5,FALSE))","v":5797},{"$f":"IF(AF$4<ControlPanel!$D$59,VLOOKUP(\"Referenz\",$C$91:$AF$115,AF$4-$G$4+5,FALSE),VLOOKUP($C$9,$C$91:$AF$115,AF$4-$G$4+5,FALSE))","v":5797}]
[null,"Wind Onshore",{"$f":"ControlPanel!E34","v":"Referenz"},{"$f":"VLOOKUP($C$10,$C$117:$AF$141,2,FALSE)","v":"fh"},{"$f":"VLOOKUP($C$10,$C$117:$AF$141,3,FALSE)","v":"Anstieg auf 2600h in 2035"},{"$f":"VLOOKUP($C$10,$C$117:$AF$141,4,FALSE)","v":"bis 2025 wie MFP hoch, danach degressiver Anstieg auf 2600h in 2035"},{"$f":"IF(G$4<ControlPanel!$D$59,VLOOKUP(\"Referenz\",$C$117:$AF$141,G$4-$G$4+5,FALSE),VLOOKUP($C$10,$C$117:$AF$141,G$4-$G$4+5,FALSE))","v":0},{"$f":"IF(H$4<ControlPanel!$D$59,VLOOKUP(\"Referenz\",$C$117:$AF$141,H$4-$G$4+5,FALSE),VLOOKUP($C$10,$C$117:$AF$141,H$4-$G$4+5,FALSE))","v":0},{"$f":"IF(I$4<ControlPanel!$D$59,VLOOKUP(\"Referenz\",$C$117:$AF$141,I$4-$G$4+5,FALSE),VLOOKUP($C$10,$C$117:$AF$141,I$4-$G$4+5,FALSE))","v":0},{"$f":"IF(J$4<ControlPanel!$D$59,VLOOKUP(\"Referenz\",$C$117:$AF$141,J$4-$G$4+5,FALSE),VLOOKUP($C$10,$C$117:$AF$141,J$4-$G$4+5,FALSE))","v":0},{"$f":"IF(K$4<ControlPanel!$D$59,VLOOKUP(\"Referenz\",$C$117:$AF$141,K$4-$G$4+5,FALSE),VLOOKUP($C$10,$C$117:$AF$141,K$4-$G$4+5,FALSE))","v":0},{"$f":"IF(L$4<ControlPanel!$D$59,VLOOKUP(\"Referenz\",$C$117:$AF$141,L$4-$G$4+5,FALSE),VLOOKUP($C$10,$C$117:$AF$141,L$4-$G$4+5,FALSE))","v":2258.3528764765942},{"$f":"IF(M$4<ControlPanel!$D$59,VLOOKUP(\"Referenz\",$C$117:$AF$141,M$4-$G$4+5,FALSE),VLOOKUP($C$10,$C$117:$AF$141,M$4-$G$4+5,FALSE))","v":2316.6989503493969},{"$f":"IF(N$4<ControlPanel!$D$59,VLOOKUP(\"Referenz\",$C$117:$AF$141,N$4-$G$4+5,FALSE),VLOOKUP($C$10,$C$117:$AF$141,N$4-$G$4+5,FALSE))","v":2375.0450242222141},{"$f":"IF(O$4<ControlPanel!$D$59,VLOOKUP(\"Referenz\",$C$117:$AF$141,O$4-$G$4+5,FALSE),VLOOKUP($C$10,$C$117:$AF$141,O$4-$G$4+5,FALSE))","v":2433.3910980950168},{"$f":"IF(P$4<ControlPanel!$D$59,VLOOKUP(\"Referenz\",$C$117:$AF$141,P$4-$G$4+5,FALSE),VLOOKUP($C$10,$C$117:$AF$141,P$4-$G$4+5,FALSE))","v":2491.737171967834},{"$f":"IF(Q$4<ControlPanel!$D$59,VLOOKUP(\"Referenz\",$C$117:$AF$141,Q$4-$G$4+5,FALSE),VLOOKUP($C$10,$C$117:$AF$141,Q$4-$G$4+5,FALSE))","v":2491.737171967834},{"$f":"IF(R$4<ControlPanel!$D$59,VLOOKUP(\"Referenz\",$C$117:$AF$141,R$4-$G$4+5,FALSE),VLOOKUP($C$10,$C$117:$AF$141,R$4-$G$4+5,FALSE))","v":2491.737171967834},{"$f":"IF(S$4<ControlPanel!$D$59,VLOOKUP(\"Referenz\",$C$117:$AF$141,S$4-$G$4+5,FALSE),VLOOKUP($C$10,$C$117:$AF$141,S$4-$G$4+5,FALSE))","v":2133},{"$f":"IF(T$4<ControlPanel!$D$59,VLOOKUP(\"Referenz\",$C$117:$AF$141,T$4-$G$4+5,FALSE),VLOOKUP($C$10,$C$117:$AF$141,T$4-$G$4+5,FALSE))","v":2186},{"$f":"IF(U$4<ControlPanel!$D$59,VLOOKUP(\"Referenz\",$C$117:$AF$141,U$4-$G$4+5,FALSE),VLOOKUP($C$10,$C$117:$AF$141,U$4-$G$4+5,FALSE))","v":2246},{"$f":"IF(V$4<ControlPanel!$D$59,VLOOKUP(\"Referenz\",$C$117:$AF$141,V$4-$G$4+5,FALSE),VLOOKUP($C$10,$C$117:$AF$141,V$4-$G$4+5,FALSE))","v":2364},{"$f":"IF(W$4<ControlPanel!$D$59,VLOOKUP(\"Referenz\",$C$117:$AF$141,W$4-$G$4+5,FALSE),VLOOKUP($C$10,$C$117:$AF$141,W$4-$G$4+5,FALSE))","v":2423},{"$f":"IF(X$4<ControlPanel!$D$59,VLOOKUP(\"Referenz\",$C$117:$AF$141,X$4-$G$4+5,FALSE),VLOOKUP($C$10,$C$117:$AF$141,X$4-$G$4+5,FALSE))","v":2458.4},{"$f":"IF(Y$4<ControlPanel!$D$59,VLOOKUP(\"Referenz\",$C$117:$AF$141,Y$4-$G$4+5,FALSE),VLOOKUP($C$10,$C$117:$AF$141,Y$4-$G$4+5,FALSE))","v":2482},{"$f":"IF(Z$4<ControlPanel!$D$59,VLOOKUP(\"Referenz\",$C$117:$AF$141,Z$4-$G$4+5,FALSE),VLOOKUP($C$10,$C$117:$AF$141,Z$4-$G$4+5,FALSE))","v":2498.8571428571427},{"$f":"IF(AA$4<ControlPanel!$D$59,VLOOKUP(\"Referenz\",$C$117:$AF$141,AA$4-$G$4+5,FALSE),VLOOKUP($C$10,$C$117:$AF$141,AA$4-$G$4+5,FALSE))","v":2511.5},{"$f":"IF(AB$4<ControlPanel!$D$59,VLOOKUP(\"Referenz\",$C$117:$AF$141,AB$4-$G$4+5,FALSE),VLOOKUP($C$10,$C$117:$AF$141,AB$4-$G$4+5,FALSE))","v":2521.3333333333335},{"$f":"IF(AC$4<ControlPanel!$D$59,VLOOKUP(\"Referenz\",$C$117:$AF$141,AC$4-$G$4+5,FALSE),VLOOKUP($C$10,$C$117:$AF$141,AC$4-$G$4+5,FALSE))","v":2529.2000000000003},{"$f":"IF(AD$4<ControlPanel!$D$59,VLOOKUP(\"Referenz\",$C$117:$AF$141,AD$4-$G$4+5,FALSE),VLOOKUP($C$10,$C$117:$AF$141,AD$4-$G$4+5,FALSE))","v":2535.636363636364},{"$f":"IF(AE$4<ControlPanel!$D$59,VLOOKUP(\"Referenz\",$C$117:$AF$141,AE$4-$G$4+5,FALSE),VLOOKUP($C$10,$C$117:$AF$141,AE$4-$G$4+5,FALSE))","v":2541.0000000000005},{"$f":"IF(AF$4<ControlPanel!$D$59,VLOOKUP(\"Referenz\",$C$117:$AF$141,AF$4-$G$4+5,FALSE),VLOOKUP($C$10,$C$117:$AF$141,AF$4-$G$4+5,FALSE))","v":2600}]
[null,"Wind Offshore",{"$f":"ControlPanel!E35","v":"Referenz"},{"$f":"VLOOKUP($C$11,$C$143:$AF$167,2,FALSE)","v":"as/pl/fh"},{"$f":"VLOOKUP($C$11,$C$143:$AF$167,3,FALSE)","v":"Anstieg auf 4700 h in 2035"},{"$f":"VLOOKUP($C$11,$C$143:$AF$167,4,FALSE)","v":"bis 2025 wie MFP hoch, danach degressiver Anstieg auf 4700h in 2035"},{"$f":"IF(G$4<ControlPanel!$D$59,VLOOKUP(\"Referenz\",$C$143:$AF$167,G$4-$G$4+5,FALSE),VLOOKUP($C$11,$C$143:$AF$167,G$4-$G$4+5,FALSE))","v":0},{"$f":"IF(H$4<ControlPanel!$D$59,VLOOKUP(\"Referenz\",$C$143:$AF$167,H$4-$G$4+5,FALSE),VLOOKUP($C$11,$C$143:$AF$167,H$4-$G$4+5,FALSE))","v":0},{"$f":"IF(I$4<ControlPanel!$D$59,VLOOKUP(\"Referenz\",$C$143:$AF$167,I$4-$G$4+5,FALSE),VLOOKUP($C$11,$C$143:$AF$167,I$4-$G$4+5,FALSE))","v":0},{"$f":"IF(J$4<ControlPanel!$D$59,VLOOKUP(\"Referenz\",$C$143:$AF$167,J$4-$G$4+5,FALSE),VLOOKUP($C$11,$C$143:$AF$167,J$4-$G$4+5,FALSE))","v":0},{"$f":"IF(K$4<ControlPanel!$D$59,VLOOKUP(\"Referenz\",$C$143:$AF$167,K$4-$G$4+5,FALSE),VLOOKUP($C$11,$C$143:$AF$167,K$4-$G$4+5,FALSE))","v":0},{"$f":"IF(L$4<ControlPanel!$D$59,VLOOKUP(\"Referenz\",$C$143:$AF$167,L$4-$G$4+5,FALSE),VLOOKUP($C$11,$C$143:$AF$167,L$4-$G$4+5,FALSE))","v":3462},{"$f":"IF(M$4<ControlPanel!$D$59,VLOOKUP(\"Referenz\",$C$143:$AF$167,M$4-$G$4+5,FALSE),VLOOKUP($C$11,$C$143:$AF$167,M$4-$G$4+5,FALSE))","v":3562},{"$f":"IF(N$4<ControlPanel!$D$59,VLOOKUP(\"Referenz\",$C$143:$AF$167,N$4-$G$4+5,FALSE),VLOOKUP($C$11,$C$143:$AF$167,N$4-$G$4+5,FALSE))","v":3662},{"$f":"IF(O$4<ControlPanel!$D$59,VLOOKUP(\"Referenz\",$C$143:$AF$167,O$4-$G$4+5,FALSE),VLOOKUP($C$11,$C$143:$AF$167,O$4-$G$4+5,FALSE))","v":3762},{"$f":"IF(P$4<ControlPanel!$D$59,VLOOKUP(\"Referenz\",$C$143:$AF$167,P$4-$G$4+5,FALSE),VLOOKUP($C$11,$C$143:$AF$167,P$4-$G$4+5,FALSE))","v":3862},{"$f":"IF(Q$4<ControlPanel!$D$59,VLOOKUP(\"Referenz\",$C$143:$AF$167,Q$4-$G$4+5,FALSE),VLOOKUP($C$11,$C$143:$AF$167,Q$4-$G$4+5,FALSE))","v":3962},{"$f":"IF(R$4<ControlPanel!$D$59,VLOOKUP(\"Referenz\",$C$143:$AF$167,R$4-$G$4+5,FALSE),VLOOKUP($C$11,$C$143:$AF$167,R$4-$G$4+5,FALSE))","v":4259},{"$f":"IF(S$4<ControlPanel!$D$59,VLOOKUP(\"Referenz\",$C$143:$AF$167,S$4-$G$4+5,FALSE),VLOOKUP($C$11,$C$143:$AF$167,S$4-$G$4+5,FALSE))","v":4270},{"$f":"IF(T$4<ControlPanel!$D$59,VLOOKUP(\"Referenz\",$C$143:$AF$167,T$4-$G$4+5,FALSE),VLOOKUP($C$11,$C$143:$AF$167,T$4-$G$4+5,FALSE))","v":4302},{"$f":"IF(U$4<ControlPanel!$D$59,VLOOKUP(\"Referenz\",$C$143:$AF$167,U$4-$G$4+5,FALSE),VLOOKUP($C$11,$C$143:$AF$167,U$4-$G$4+5,FALSE))","v":4360},{"$f":"IF(V$4<ControlPanel!$D$59,VLOOKUP(\"Referenz\",$C$143:$AF$167,V$4-$G$4+5,FALSE),VLOOKUP($C$11,$C$143:$AF$167,V$4-$G$4+5,FALSE))","v":4473.333333333333},{"$f":"IF(W$4<ControlPanel!$D$59,VLOOKUP(\"Referenz\",$C$143:$AF$167,W$4-$G$4+5,FALSE),VLOOKUP($C$11,$C$143:$AF$167,W$4-$G$4+5,FALSE))","v":4530},{"$f":"IF(X$4<ControlPanel!$D$59,VLOOKUP(\"Referenz\",$C$143:$AF$167,X$4-$G$4+5,FALSE),VLOOKUP($C$11,$C$143:$AF$167,X$4-$G$4+5,FALSE))","v":4564},{"$f":"IF(Y$4<ControlPanel!$D$59,VLOOKUP(\"Referenz\",$C$143:$AF$167,Y$4-$G$4+5,FALSE),VLOOKUP($C$11,$C$143:$AF$167,Y$4-$G$4+5,FALSE))","v":4586.666666666667},{"$f":"IF(Z$4<ControlPanel!$D$59,VLOOKUP(\"Referenz\",$C$143:$AF$167,Z$4-$G$4+5,FALSE),VLOOKUP($C$11,$C$143:$AF$167,Z$4-$G$4+5,FALSE))","v":4602.8571428571431},{"$f":"IF(AA$4<ControlPanel!$D$59,VLOOKUP(\"Referenz\",$C$143:$AF$167,AA$4-$G$4+5,FALSE),VLOOKUP($C$11,$C$143:$AF$167,AA$4-$G$4+5,FALSE))","v":4615},{"$f":"IF(AB$4<ControlPanel!$D$59,VLOOKUP(\"Referenz\",$C$143:$AF$167,AB$4-$G$4+5,FALSE),VLOOKUP($C$11,$C$143:$AF$167,AB$4-$G$4+5,FALSE))","v":4624.4444444444443},{"$f":"IF(AC$4<ControlPanel!$D$59,VLOOKUP(\"Referenz\",$C$143:$AF$167,AC$4-$G$4+5,FALSE),VLOOKUP($C$11,$C$143:$AF$167,AC$4-$G$4+5,FALSE))","v":4632},{"$f":"IF(AD$4<ControlPanel!$D$59,VLOOKUP(\"Referenz\",$C$143:$AF$167,AD$4-$G$4+5,FALSE),VLOOKUP($C$11,$C$143:$AF$167,AD$4-$G$4+5,FALSE))","v":4638.181818181818},{"$f":"IF(AE$4<ControlPanel!$D$59,VLOOKUP(\"Referenz\",$C$143:$AF$167,AE$4-$G$4+5,FALSE),VLOOKUP($C$11,$C$143:$AF$167,AE$4-$G$4+5,FALSE))","v":4643.333333333333},{"$f":"IF(AF$4<ControlPanel!$D$59,VLOOKUP(\"Referenz\",$C$143:$AF$167,AF$4-$G$4+5,FALSE),VLOOKUP($C$11,$C$143:$AF$167,AF$4-$G$4+5,FALSE))","v":4700}]
[null,"PV",{"$f":"ControlPanel!E36","v":"Referenz"},{"$f":"VLOOKUP($C$12,$C$169:$AF$193,2,FALSE)","v":"fh"},{"$f":"VLOOKUP($C$12,$C$169:$AF$193,3,FALSE)","v":"Anstieg auf 950h in 2035"},{"$f":"VLOOKUP($C$12,$C$169:$AF$193,4,FALSE)","v":"bis 2025 wie MFP Referenzszenario, danach lineare Anpassung auf 950h in 2035"},{"$f":"IF(G$4<ControlPanel!$D$59,VLOOKUP(\"Referenz\",$C$169:$AF$193,G$4-$G$4+5,FALSE),VLOOKUP($C$12,$C$169:$AF$193,G$4-$G$4+5,FALSE))","v":0},{"$f":"IF(H$4<ControlPanel!$D$59,VLOOKUP(\"Referenz\",$C$169:$AF$193,H$4-$G$4+5,FALSE),VLOOKUP($C$12,$C$169:$AF$193,H$4-$G$4+5,FALSE))","v":0},{"$f":"IF(I$4<ControlPanel!$D$59,VLOOKUP(\"Referenz\",$C$169:$AF$193,I$4-$G$4+5,FALSE),VLOOKUP($C$12,$C$169:$AF$193,I$4-$G$4+5,FALSE))","v":0},{"$f":"IF(J$4<ControlPanel!$D$59,VLOOKUP(\"Referenz\",$C$169:$AF$193,J$4-$G$4+5,FALSE),VLOOKUP($C$12,$C$169:$AF$193,J$4-$G$4+5,FALSE))","v":0},{"$f":"IF(K$4<ControlPanel!$D$59,VLOOKUP(\"Referenz\",$C$169:$AF$193,K$4-$G$4+5,FALSE),VLOOKUP($C$12,$C$169:$AF$193,K$4-$G$4+5,FALSE))","v":0},{"$f":"IF(L$4<ControlPanel!$D$59,VLOOKUP(\"Referenz\",$C$169:$AF$193,L$4-$G$4+5,FALSE),VLOOKUP($C$12,$C$169:$AF$193,L$4-$G$4+5,FALSE))","v":960},{"$f":"IF(M$4<ControlPanel!$D$59,VLOOKUP(\"Referenz\",$C$169:$AF$193,M$4-$G$4+5,FALSE),VLOOKUP($C$12,$C$169:$AF$193,M$4-$G$4+5,FALSE))","v":960},{"$f":"IF(N$4<ControlPanel!$D$59,VLOOKUP(\"Referenz\",$C$169:$AF$193,N$4-$G$4+5,FALSE),VLOOKUP($C$12,$C$169:$AF$193,N$4-$G$4+5,FALSE))","v":960},{"$f":"IF(O$4<ControlPanel!$D$59,VLOOKUP(\"Referenz\",$C$169:$AF$193,O$4-$G$4+5,FALSE),VLOOKUP($C$12,$C$169:$AF$193,O$4-$G$4+5,FALSE))","v":965},{"$f":"IF(P$4<ControlPanel!$D$59,VLOOKUP(\"Referenz\",$C$169:$AF$193,P$4-$G$4+5,FALSE),VLOOKUP($C$12,$C$169:$AF$193,P$4-$G$4+5,FALSE))","v":965},{"$f":"IF(Q$4<ControlPanel!$D$59,VLOOKUP(\"Referenz\",$C$169:$AF$193,Q$4-$G$4+5,FALSE),VLOOKUP($C$12,$C$169:$AF$193,Q$4-$G$4+5,FALSE))","v":965},{"$f":"IF(R$4<ControlPanel!$D$59,VLOOKUP(\"Referenz\",$C$169:$AF$193,R$4-$G$4+5,FALSE),VLOOKUP($C$12,$C$169:$AF$193,R$4-$G$4+5,FALSE))","v":965},{"$f":"IF(S$4<ControlPanel!$D$59,VLOOKUP(\"Referenz\",$C$169:$AF$193,S$4-$G$4+5,FALSE),VLOOKUP($C$12,$C$169:$AF$193,S$4-$G$4+5,FALSE))","v":884.96877931993924},{"$f":"IF(T$4<ControlPanel!$D$59,VLOOKUP(\"Referenz\",$C$169:$AF$193,T$4-$G$4+5,FALSE),VLOOKUP($C$12,$C$169:$AF$193,T$4-$G$4+5,FALSE))","v":899.03187575995446},{"$f":"IF(U$4<ControlPanel!$D$59,VLOOKUP(\"Referenz\",$C$169:$AF$193,U$4-$G$4+5,FALSE),VLOOKUP($C$12,$C$169:$AF$193,U$4-$G$4+5,FALSE))","v":900.07794920065294},{"$f":"IF(V$4<ControlPanel!$D$59,VLOOKUP(\"Referenz\",$C$169:$AF$193,V$4-$G$4+5,FALSE),VLOOKUP($C$12,$C$169:$AF$193,V$4-$G$4+5,FALSE))","v":900.01687241641127},{"$f":"IF(W$4<ControlPanel!$D$59,VLOOKUP(\"Referenz\",$C$169:$AF$193,W$4-$G$4+5,FALSE),VLOOKUP($C$12,$C$169:$AF$193,W$4-$G$4+5,FALSE))","v":904.26421610308171},{"$f":"IF(X$4<ControlPanel!$D$59,VLOOKUP(\"Referenz\",$C$169:$AF$193,X$4-$G$4+5,FALSE),VLOOKUP($C$12,$C$169:$AF$193,X$4-$G$4+5,FALSE))","v":908.51155978975214},{"$f":"IF(Y$4<ControlPanel!$D$59,VLOOKUP(\"Referenz\",$C$169:$AF$193,Y$4-$G$4+5,FALSE),VLOOKUP($C$12,$C$169:$AF$193,Y$4-$G$4+5,FALSE))","v":912.75890347642257},{"$f":"IF(Z$4<ControlPanel!$D$59,VLOOKUP(\"Referenz\",$C$169:$AF$193,Z$4-$G$4+5,FALSE),VLOOKUP($C$12,$C$169:$AF$193,Z$4-$G$4+5,FALSE))","v":917.00624716309301},{"$f":"IF(AA$4<ControlPanel!$D$59,VLOOKUP(\"Referenz\",$C$169:$AF$193,AA$4-$G$4+5,FALSE),VLOOKUP($C$12,$C$169:$AF$193,AA$4-$G$4+5,FALSE))","v":921.25359084976344},{"$f":"IF(AB$4<ControlPanel!$D$59,VLOOKUP(\"Referenz\",$C$169:$AF$193,AB$4-$G$4+5,FALSE),VLOOKUP($C$12,$C$169:$AF$193,AB$4-$G$4+5,FALSE))","v":925.50093453643387},{"$f":"IF(AC$4<ControlPanel!$D$59,VLOOKUP(\"Referenz\",$C$169:$AF$193,AC$4-$G$4+5,FALSE),VLOOKUP($C$12,$C$169:$AF$193,AC$4-$G$4+5,FALSE))","v":929.74827822310431},{"$f":"IF(AD$4<ControlPanel!$D$59,VLOOKUP(\"Referenz\",$C$169:$AF$193,AD$4-$G$4+5,FALSE),VLOOKUP($C$12,$C$169:$AF$193,AD$4-$G$4+5,FALSE))","v":933.99562190977474},{"$f":"IF(AE$4<ControlPanel!$D$59,VLOOKUP(\"Referenz\",$C$169:$AF$193,AE$4-$G$4+5,FALSE),VLOOKUP($C$12,$C$169:$AF$193,AE$4-$G$4+5,FALSE))","v":938.24296559644517},{"$f":"IF(AF$4<ControlPanel!$D$59,VLOOKUP(\"Referenz\",$C$169:$AF$193,AF$4-$G$4+5,FALSE),VLOOKUP($C$12,$C$169:$AF$193,AF$4-$G$4+5,FALSE))","v":950}]
[null,"Wasser","Referenz","fh","MFP Trend","bis 2025 wie MFP Referenzszenario, danach konstant",null,null,null,null,null,{"$f":"M13","v":3956},3956,3956,3956,{"$f":"Q13","v":3956},3956,3950,3950,3950,3960,3950,{"$f":"V13","v":3950},3950,3950,3950,3950,3950,3950,3950,3950,3950]
[]
[null,null,"MFP hoch","fh","MFP hoch","bis 2025 wie MFP oberes Szenario, danach konstant",null,null,null,null,null,null,null,null,null,null,4249,4237,4237,4237,4248,4237,{"$f":"V15","v":4237},4237,4237,4237,4237,4237,4237,4237,4237,4237]
[null,null,"MFP niedrig","fh","MFP niedrig","bis 2025 wie MFP unteres Szenario, danach konstant",null,null,null,null,null,null,null,null,null,null,3672,3662,3662,3662,3672,3662,{"$f":"V16","v":3662},3662,3662,3662,3662,3662,3662,3662,3662,3662]
[]
[]
[]
[]
[]
[]
[]
[]
[]
[]
[]
[]
[]
[]
[]
[]
[]
[]
[]
[]
[]
[]
[null,"Gase","Referenz","fh","MFP Trend","bis 2025 wie MFP Referenzszenario, danach konstant",null,null,null,null,null,2901,2901,3944,3767,3685,3372.3653395784545,4128.712871287129,4306.8592057761734,5080.7174887892379,5776.3975155279504,5222.2222222222226,{"$f":"V39","v":5222.2222222222226},5222.2222222222226,5222.2222222222226,5222.2222222222226,5222.2222222222226,5222.2222222222226,5222.2222222222226,5222.2222222222226,5222.2222222222226,5222.2222222222226]
[]
[null,null,"MFP hoch","as","MFP hoch","bis 2025 wie MFP oberes Szenario, danach konstant",null,null,null,null,null,null,null,null,null,null,3847.3282442748095,4367.7419354838712,2215.2777777777778,5451.4767932489449,5755.5555555555557,5344.5378151260502,{"$f":"V41","v":5344.5378151260502},5344.5378151260502,5344.5378151260502,5344.5378151260502,5344.5378151260502,5344.5378151260502,5344.5378151260502,5344.5378151260502,5344.5378151260502,5344.5378151260502]
[null,null,"MFP niedrig","as","MFP niedrig","bis 2025 wie MFP unteres Szenario, danach  konstant",null,null,null,null,null,null,null,null,null,null,3550.6493506493507,3931.9727891156463,4064.3939393939395,4877.4509803921574,5791.366906474821,5360,{"$f":"V42","v":5360},5360,5360,5360,5360,5360,5360,5360,5360,5360]
[]
[]
[]
[]
[]
[]
[]
[]
[]
[]
[]
[]
[]
[]
[]
[]
[]
[]
[]
[]
[]
[]
[null,"Biomasse","Referenz","fh","MFP Trend","konstant 4000 Volllaststunden",null,null,null,null,null,{"$f":"'D-Bestand Strommenge'!$K$18","v":5605},4000,4000,4000,4000,4000,4000,4000,4000,4000,4000,4000,4000,4000,4000,4000,4000,4000,4000,4000,4000]
[]
[null,null,"MFP hoch","fh","MFP hoch","bis 2025 wie MFP oberes Szenario, danach konstant",null,null,null,null,null,null,null,null,null,null,5541,5482,5456,5450,5424,5423,{"$f":"V67","v":5423},5423,5423,5423,5423,5423,5423,5423,5423,5423]
[null,null,"MFP niedrig","fh","MFP niedrig","bis 2025 wie MFP unteres Szenario, danach konstant",null,null,null,null,null,null,null,null,null,null,5014,4965,4946,4947,4931,4945,{"$f":"V68","v":4945},4945,4945,4945,4945,4945,4945,4945,4945,4945]
[null,null,"KNDE 2045","cl","so berechnet, dass Strommengen aus KNDE getroffen werden","Um KNDE Strommengen zu treffen muss auch für die Jahre 2015-2021 dieselbe hohe Volllaststundenzahl gelten, wie danach",null,null,null,null,null,6400,{"$f":"L69","v":6400},{"$f":"M69","v":6400},{"$f":"N69","v":6400},{"$f":"O69","v":6400},{"$f":"P69","v":6400},{"$f":"Q69","v":6400},{"$f":"R65","v":4000},{"$f":"S69","v":4000},{"$f":"T69","v":4000},4000,5700,5700,5700,5700,5700,3500,3500,3500,3500,3500]
[null,null,"EEG 2021","dr","im Mittel ca. 4290 hr","Biomethan 15% (§ 39j)",null,null,null,null,null,null,null,null,null,null,null,null,{"$f":"600/750*S65+150/750*8760*0.15","v":3462.8},{"$f":"600/750*T65+150/750*8760*0.15","v":3462.8},3462.8,3462.8,3462.8,3462.8,3462.8,3462.8,3462.8,3462.8,3462.8,3462.8,3462.8,3462.8]
[]
[]
[]
[]
[]
[]
[]
[]
[]
[]
[]
[]
[]
[]
[]
[]
[]
[]
[]
[]
[null,"Geothermie","Referenz","fh","MFP Trend","bis 2025 wie MFP Referenzszenario, danach konstant",null,null,null,null,null,4341,4341,6304,6304,6406,5457,5797,5797,5797,5815,5797,{"$f":"V91","v":5797},5797,5797,5797,5797,5797,5797,5797,5797,5797]
[]
[null,null,"MFP hoch","fh","MFP hoch","bis 2025 wie MFP oberes Szenario, danach konstant",null,null,null,null,null,null,null,null,null,null,6808,6787,6787,6787,6808,6787,{"$f":"V93","v":6787},6787,6787,6787,6787,6787,6787,6787,6787,6787]
[null,null,"MFP niedrig","fh","MFP niedrig","bis 2025 wie MFP unteres Szenario, danach linearer konstant",null,null,null,null,null,null,null,null,null,null,4822,4807,4807,4807,4822,4807,{"$f":"V94","v":4807},4807,4807,4807,4807,4807,4807,4807,4807,4807]
[]
[]
[]
[]
[]
[]
[]
[]
[]
[]
[]
[]
[]
[]
[]
[]
[]
[]
[]
[]
[]
[]
[null,"Wind Onshore","Referenz","fh","Anstieg auf 2600h in 2035","bis 2025 wie MFP hoch, danach degressiver Anstieg auf 2600h in 2035",null,null,null,null,null,2258.3528764765942,2316.6989503493969,2375.0450242222141,2433.3910980950168,2491.737171967834,{"$f":"P117","v":2491.737171967834},{"$f":"Q117","v":2491.737171967834},{"$f":"S119","v":2133},{"$f":"T119","v":2186},{"$f":"U119","v":2246},{"$f":"U117+(($AF$117-U117)/(W4-$T$4))","v":2364},{"$f":"V117+(($AF$117-V117)/(X4-$T$4))","v":2423},2458.4,2482,2498.8571428571427,2511.5,2521.3333333333335,{"$f":"AB117+(($AF$117-AB117)/(AD4-$T$4))","v":2529.2000000000003},2535.636363636364,{"$f":"AD117+(($AF$117-AD117)/(AF4-$T$4))","v":2541.0000000000005},2600]
[]
[null,null,"MFP hoch","fh","MFP hoch","bis 2025 wie MFP oberes Szenario, danach linearer Anstieg auf 2600h in 2035",null,null,null,null,null,null,null,null,null,null,2104,2082,2133,2186,2246,2288,{"$f":"V119+($AF119-$T119)/($AF$4-$T$4)","v":2322.5},2357,2391.5,2426,2460.5,2495,2529.5,2564,2598.5,{"$f":"AF117","v":2600}]
[null,null,"MFP niedrig","fh","MFP niedrig","bis 2025 wie MFP unteres Szenario, danach linearer Anstieg auf 2600h in 2035",null,null,null,null,null,null,null,null,null,null,1915,1684,1727,1776,1829,1865,{"$f":"V120+($AF120-$T120)/($AF$4-$T$4)","v":1933.6666666666667},2002.3333333333335,2071,2139.6666666666665,2208.333333333333,2276.9999999999995,2345.6666666666661,2414.3333333333326,2482.9999999999991,{"$f":"AF117","v":2600}]
[null,null,"MFP Trend","fh","MFP Trend","bis 2025 wie MFP Referenzszenario, danach linearer Anstieg auf 2600h in 2035",null,null,null,null,null,null,null,null,null,null,2004,1872,1918,1969,2025,2064,2116.5833333333335,2169.166666666667,2221.7500000000005,2274.3333333333339,2326.9166666666674,2379.5000000000009,2432.0833333333344,2484.6666666666679,{"$f":"AD121+($AF121-$T121)/($AF$4-$T$4)","v":2537.2500000000014},2600]
[null,null,"KNDE 2045","cl","so berechnet, dass Strommengen aus KNDE getroffen werden",null,null,null,null,null,null,null,null,null,null,null,null,null,1750,{"$f":"S122","v":1750},{"$f":"T122","v":1750},1750,1930,1930,1930,1930,1930,2040,2040,2040,2040,2040]
[]
[null,null,"EEG 2021","fh","EEG 2021",null,null,null,null,null,null,null,null,null,null,null,null,null,2080,2080,2080,2080,2080,2080,2080,2080,2080,2080,2080,2080,2080,2080]
[]
[]
[]
[]
[]
[]
[]
[]
[]
[]
[]
[]
[]
[]
[]
[]
[]
[]
[null,"Wind Offshore","Referenz","as/pl/fh","Anstieg auf 4700 h in 2035","bis 2025 wie MFP hoch, danach degressiver Anstieg auf 4700h in 2035",null,null,null,null,null,{"$f":"'D-Bestand Strommenge'!$K$21","v":3462},{"$f":"L143+100","v":3562},{"$f":"M143+100","v":3662},3762,3862,{"$f":"P143+100","v":3962},{"$f":"R145","v":4259},4270,4302,4360,{"$f":"U143+(($AF$143-U143)/(W4-$T$4))","v":4473.333333333333},4530,4564,4586.666666666667,4602.8571428571431,4615,4624.4444444444443,4632,4638.181818181818,{"$f":"AD143+(($AF$143-AD143)/(AF4-$T$4))","v":4643.333333333333},4700]
[]
[null,null,"MFP hoch","fh","MFP hoch","bis 2025 wie MFP oberes Szenario, danach linearer Anstieg auf 4700h in 2035",null,null,null,null,null,null,null,null,null,null,4084,4259,4270,4302,4360,4387,{"$f":"V145+($AF145-$T145)/($AF$4-$T$4)","v":4420.166666666667},4453.3333333333339,4486.5000000000009,4519.6666666666679,4552.8333333333348,4586.0000000000018,4619.1666666666688,4652.3333333333358,{"$f":"AD145+($AF145-$T145)/($AF$4-$T$4)","v":4685.5000000000027},4700]
[null,null,"MFP niedrig","fh","MFP niedrig","bis 2025 wie MFP unteres Szenario, danach linearer Anstieg auf 4000h in 2035",null,null,null,null,null,null,null,null,null,null,3676,3440,3442,3460,3505,3538,{"$f":"V146+($AF146-$T146)/($AF$4-$T$4)","v":3583},3628,3673,3718,3763,3808,3853,3898,{"$f":"AD146+($AF146-$T146)/($AF$4-$T$4)","v":3943},4000]
[null,null,"MFP Trend","fh","MFP Trend","bis 2025 wie MFP Trendszenario, danach linearer Anstieg auf 4300h in 2035",null,null,null,null,null,null,null,null,null,null,3868,3825,3831,3855,3907,3941,{"$f":"V147+($AF147-$T147)/($AF$4-$T$4)","v":3978.0833333333335},4015.166666666667,4052.2500000000005,4089.3333333333339,4126.416666666667,4163.5,4200.583333333333,4237.6666666666661,{"$f":"AD147+($AF147-$T147)/($AF$4-$T$4)","v":4274.7499999999991},4300]
[null,null,"KNDE 2045","cl","so berechnet, dass Strommengen aus KNDE getroffen werden",null,null,null,null,null,null,null,null,null,null,null,null,null,3800,{"$f":"S148","v":3800},{"$f":"T148","v":3800},3800,4000,4100,4150,4150,4150,3350,3350,3350,3350,3350]
[]
[null,null,"EEG 2021","fh","so berechnet, dass Strommengen aus EEG 2021 getroffen werden",null,null,null,null,null,null,null,null,null,null,null,null,null,4500,4600,4700,4700,4700,4700,4700,4700,4700,4700,4700,4700,4700,4700]
[]
[]
[]
[]
[]
[]
[]
[]
[]
[]
[]
[]
[]
[]
[]
[]
[]
[]
[null,"PV","Referenz","fh","Anstieg auf 950h in 2035","bis 2025 wie MFP Referenzszenario, danach lineare Anpassung auf 950h in 2035",null,null,null,null,null,{"$f":"'D-Bestand Strommenge'!$K$22","v":960},{"$f":"L169","v":960},{"$f":"M169","v":960},965,965,965,965,884.96877931993924,899.03187575995446,900.07794920065294,900.01687241641127,{"$f":"V169+($AF169-$T169)/($AF$4-$T$4)","v":904.26421610308171},908.51155978975214,912.75890347642257,917.00624716309301,921.25359084976344,925.50093453643387,929.74827822310431,933.99562190977474,{"$f":"AD169+($AF169-$T169)/($AF$4-$T$4)","v":938.24296559644517},950]
[]
[null,null,"MFP hoch","fh","MFP hoch","bis 2025 wie MFP oberes Szenario, danach lineare Anpassung auf 1050h in 2035",null,null,null,null,null,null,null,null,null,null,961.69675589679741,982.50075019347094,997.86608568486713,999.0944079692099,998.18991177495911,{"$f":"U171+($AF171-$T171)/($AF$4-$T$4)","v":1002.4320444441917},1006.6741771134242,1010.9163097826568,1015.1584424518893,1019.4005751211218,1023.6427077903544,1027.8848404595869,1032.1269731288194,1036.3691057980518,{"$f":"AD171+($AF171-$T171)/($AF$4-$T$4)","v":1040.6112384672842},1050]
[null,null,"MFP niedrig","fh","MFP niedrig","bis 2025 wie MFP unteres Szenario, danach lineare Anpassung auf 850h in 2035",null,null,null,null,null,null,null,null,null,null,817.96016421950912,832.23027803645061,845.22160113388429,846.62096885494771,846.53597090392975,{"$f":"U172+($AF172-$T172)/($AF$4-$T$4)","v":846.81755683268409},847.09914276143843,847.38072869019277,847.66231461894711,847.94390054770145,848.22548647645579,848.50707240521012,848.78865833396446,849.0702442627188,{"$f":"AD172+($AF172-$T172)/($AF$4-$T$4)","v":849.35183019147314},850]
[null,null,"KNDE 2045","cl","so berechnet, dass Strommengen aus KNDE getroffen werden",null,null,null,null,null,null,null,null,null,null,null,null,null,1010,{"$f":"S173","v":1010},{"$f":"T173","v":1010},1010,950,950,950,950,950,940,940,940,940,940]
[]
[null,null,"EEG 2021","fh","so berechnet, dass Strommengen aus EEG 2021 getroffen werden",null,null,null,null,null,null,null,null,null,null,null,null,null,915,{"$f":"S175+($AF175-$S175)/($AF$4-$S$4)","v":910},905,900,895,890,885,880,875,870,865,860,{"$f":"AD175+($AF175-$S175)/($AF$4-$S$4)","v":855},850]

{"sheet":"D-Dargebotsfaktor","index":17,"n_rows":170,"n_cols":32,"rows_kept":170,"cut":false,"hidden":true,"merged":[]}
[" ","Dargebotsfaktor"]
[]
[null,null,"Szenario","Bearbeiter","Beschreibung","Kommentar"]
[null,null,null,null,null,null,2010,2011,2012,2013,2014,2015,2016,2017,2018,2019,2020,2021,2022,2023,2024,2025,2026,2027,2028,2029,2030,2031,2032,2033,2034,2035]
[null,null,null,null,null,null,"-","-","-","-","-","-","-","-","-","-","-","-","-","-","-","-","-","-","-","-","-","-","-","-","-","-"]
[null,"Wasser",{"$f":"ControlPanel!I39","v":"Referenz"},{"$f":"VLOOKUP($C$6,$C$13:$AF$37,2,FALSE)","v":"mh"},{"$f":"VLOOKUP($C$6,$C$13:$AF$37,3,FALSE)","v":"100%"},{"$f":"VLOOKUP($C$6,$C$13:$AF$37,4,FALSE)","v":0},{"$f":"VLOOKUP($C$6,$C$13:$AF$37,G$4-$G$4+5,FALSE)","v":0},0,0,0,1,1,1,1,1,1,1,1,1,1,1,1,1,1,1,1,1,1,1,1,1,1]
[null,"Gase",{"$f":"ControlPanel!I40","v":"Referenz"},{"$f":"VLOOKUP($C$7,$C$39:$AF$63,2,FALSE)","v":"mh"},{"$f":"VLOOKUP($C$7,$C$39:$AF$63,3,FALSE)","v":"100%"},{"$f":"VLOOKUP($C$7,$C$39:$AF$63,4,FALSE)","v":0},{"$f":"VLOOKUP($C$7,$C$39:$AF$63,G$4-$G$4+5,FALSE)","v":0},0,0,0,1,1,1,1,1,1,1,1,1,1,1,1,1,1,1,1,1,1,1,1,1,1]
[null,"Biomasse",{"$f":"ControlPanel!I37","v":"Referenz"},{"$f":"VLOOKUP($C$8,$C$65:$AF$89,2,FALSE)","v":"mh"},{"$f":"VLOOKUP($C$8,$C$65:$AF$89,3,FALSE)","v":"100%"},{"$f":"VLOOKUP($C$8,$C$65:$AF$89,4,FALSE)","v":0},{"$f":"VLOOKUP($C$8,$C$65:$AF$89,G$4-$G$4+5,FALSE)","v":0},0,0,0,1,1,1,1,1,1,1,1,1,1,1,1,1,1,1,1,1,1,1,1,1,1]
[null,"Geothermie",{"$f":"ControlPanel!I38","v":"Referenz"},{"$f":"VLOOKUP($C$9,$C$91:$AF$115,2,FALSE)","v":"mh"},{"$f":"VLOOKUP($C$9,$C$91:$AF$115,3,FALSE)","v":"100%"},{"$f":"VLOOKUP($C$9,$C$91:$AF$115,4,FALSE)","v":0},{"$f":"VLOOKUP($C$9,$C$91:$AF$115,G$4-$G$4+5,FALSE)","v":0},0,0,0,1,1,1,1,1,1,1,1,1,1,1,1,1,1,1,1,1,1,1,1,1,1]
[null,"Wind Onshore",{"$f":"ControlPanel!I34","v":"Referenz"},{"$f":"VLOOKUP($C$10,$C$117:$AF$141,2,FALSE)","v":"mh"},{"$f":"VLOOKUP($C$10,$C$117:$AF$141,3,FALSE)","v":"100%"},{"$f":"VLOOKUP($C$10,$C$117:$AF$141,4,FALSE)","v":0},{"$f":"VLOOKUP($C$10,$C$117:$AF$141,G$4-$G$4+5,FALSE)","v":0},0,0,0,1,1,1,1,1,1,1,1,1,1,1,1,1,1,1,1,1,1,1,1,1,1]
[null,"Wind Offshore",{"$f":"ControlPanel!I35","v":"Referenz"},{"$f":"VLOOKUP($C$11,$C$143:$AF$167,2,FALSE)","v":"mh"},{"$f":"VLOOKUP($C$11,$C$143:$AF$167,3,FALSE)","v":"100%"},{"$f":"VLOOKUP($C$11,$C$143:$AF$167,4,FALSE)","v":0},{"$f":"VLOOKUP($C$11,$C$143:$AF$167,G$4-$G$4+5,FALSE)","v":0},0,0,0,1,1,1,1,1,1,1,1,1,1,1,1,1,1,1,1,1,1,1,1,1,1]
[null,"PV",{"$f":"ControlPanel!I36","v":"Referenz"},{"$f":"VLOOKUP($C$12,$C$169:$AF$193,2,FALSE)","v":"mh"},{"$f":"VLOOKUP($C$12,$C$169:$AF$193,3,FALSE)","v":"100%"},{"$f":"VLOOKUP($C$12,$C$169:$AF$193,4,FALSE)","v":0},{"$f":"VLOOKUP($C$12,$C$169:$AF$193,G$4-$G$4+5,FALSE)","v":0},0,0,0,1,1,1,1,1,1,1,1,1,1,1,1,1,1,1,1,1,1,1,1,1,1]
[null,"Wasser","Referenz","mh","100%",null,null,null,null,null,1,1,1,1,1,1,1,1,1,1,1,1,1,1,1,1,1,1,1,1,1,1]
[null,null,"110%","mh","110%",null,null,null,null,null,null,null,null,null,null,1.1000000000000001,1.1000000000000001,1.1000000000000001,1.1000000000000001,1.1000000000000001,1.1000000000000001,1.1000000000000001,1.1000000000000001,1.1000000000000001,1.1000000000000001,1.1000000000000001,1.1000000000000001,1.1000000000000001,1.1000000000000001,1.1000000000000001,1.1000000000000001,1.1000000000000001]
[]
[]
[]
[]
[]
[]
[]
[]
[]
[]
[]
[]
[]
[]
[]
[]
[]
[]
[]
[]
[]
[]
[]
[]
[null,"Gase","Referenz","mh","100%",null,null,null,null,null,1,1,1,1,1,1,1,1,1,1,1,1,1,1,1,1,1,1,1,1,1,1]
[null,null,"110%","mh","110%",null,null,null,null,null,null,null,null,null,null,1.1000000000000001,1.1000000000000001,1.1000000000000001,1.1000000000000001,1.1000000000000001,1.1000000000000001,1.1000000000000001,1.1000000000000001,1.1000000000000001,1.1000000000000001,1.1000000000000001,1.1000000000000001,1.1000000000000001,1.1000000000000001,1.1000000000000001,1.1000000000000001,1.1000000000000001]
[]
[]
[]
[]
[]
[]
[]
[]
[]
[]
[]
[]
[]
[]
[]
[]
[]
[]
[]
[]
[]
[]
[]
[]
[null,"Biomasse","Referenz","mh","100%",null,null,null,null,null,1,1,1,1,1,1,1,1,1,1,1,1,1,1,1,1,1,1,1,1,1,1]
[null,null,"110%","mh","110%",null,null,null,null,null,null,null,null,null,null,1.1000000000000001,1.1000000000000001,1.1000000000000001,1.1000000000000001,1.1000000000000001,1.1000000000000001,1.1000000000000001,1.1000000000000001,1.1000000000000001,1.1000000000000001,1.1000000000000001,1.1000000000000001,1.1000000000000001,1.1000000000000001,1.1000000000000001,1.1000000000000001,1.1000000000000001]
[]
[]
[]
[]
[]
[]
[]
[]
[]
[]
[]
[]
[]
[]
[]
[]
[]
[]
[]
[]
[]
[]
[]
[]
[null,"Geothermie","Referenz","mh","100%",null,null,null,null,null,1,1,1,1,1,1,1,1,1,1,1,1,1,1,1,1,1,1,1,1,1,1]
[null,null,"110%","mh","110%",null,null,null,null,null,null,null,null,null,null,1.1000000000000001,1.1000000000000001,1.1000000000000001,1.1000000000000001,1.1000000000000001,1.1000000000000001,1.1000000000000001,1.1000000000000001,1.1000000000000001,1.1000000000000001,1.1000000000000001,1.1000000000000001,1.1000000000000001,1.1000000000000001,1.1000000000000001,1.1000000000000001,1.1000000000000001]
[]
[]
[]
[]
[]
[]
[]
[]
[]
[]
[]
[]
[]
[]
[]
[]
[]
[]
[]
[]
[]
[]
[]
[]
[null,"Wind Onshore","Referenz","mh","100%",null,null,null,null,null,1,1,1,1,1,1,1,1,1,1,1,1,1,1,1,1,1,1,1,1,1,1]
[null,null,"110%","mh","110%",null,null,null,null,null,null,null,null,null,null,1.1000000000000001,1.1000000000000001,1.1000000000000001,1.1000000000000001,1.1000000000000001,1.1000000000000001,1.1000000000000001,1.1000000000000001,1.1000000000000001,1.1000000000000001,1.1000000000000001,1.1000000000000001,1.1000000000000001,1.1000000000000001,1.1000000000000001,1.1000000000000001,1.1000000000000001]
[]
[]
[]
[]
[]
[]
[]
[]
[]
[]
[]
[]
[]
[]
[]
[]
[]
[]
[]
[]
[]
[]
[]
[]
[null,"Wind Offshore","Referenz","mh","100%",null,null,null,null,null,1,1,1,1,1,1,1,1,1,1,1,1,1,1,1,1,1,1,1,1,1,1]
[null,null,"110%","mh","110%",null,null,null,null,null,null,null,null,null,null,1.1000000000000001,1.1000000000000001,1.1000000000000001,1.1000000000000001,1.1000000000000001,1.1000000000000001,1.1000000000000001,1.1000000000000001,1.1000000000000001,1.1000000000000001,1.1000000000000001,1.1000000000000001,1.1000000000000001,1.1000000000000001,1.1000000000000001,1.1000000000000001,1.1000000000000001]
[]
[]
[]
[]
[]
[]
[]
[]
[]
[]
[]
[]
[]
[]
[]
[]
[]
[]
[]
[]
[]
[]
[]
[]
[null,"PV","Referenz","mh","100%",null,null,null,null,null,1,1,1,1,1,1,1,1,1,1,1,1,1,1,1,1,1,1,1,1,1,1]
[null,null,"110%","mh","Dargebotsfaktor 110%",null,null,null,null,null,null,null,null,null,null,1.1000000000000001,1.1000000000000001,1.1000000000000001,1.1000000000000001,1.1000000000000001,1.1000000000000001,1.1000000000000001,1.1000000000000001,1.1000000000000001,1.1000000000000001,1.1000000000000001,1.1000000000000001,1.1000000000000001,1.1000000000000001,1.1000000000000001,1.1000000000000001,1.1000000000000001]

{"sheet":"D-Spot-Skalierungsfaktor","index":18,"n_rows":11,"n_cols":31,"rows_kept":11,"cut":false,"hidden":true,"merged":[]}
[" ","Spot-Skalierungsfaktor"]
[]
[null,"Szenario","Bearbeiter","Beschreibung","Kommentar"]
[null,null,null,null,null,2010,2011,2012,2013,2014,2015,2016,2017,2018,2019,2020,2021,2022,2023,2024,2025,2026,2027,2028,2029,2030,2031,2032,2033,2034,2035]
[null,null,null,null,null,"none","none","none","none","none","none","none","none","none","none","none","none","none","none","none","none","none","none","none","none","none","none","none","none","none","none"]
[null,{"$f":"ControlPanel!L27","v":"Referenz"},{"$f":"VLOOKUP($B$6,$B$7:$AE$25,2,FALSE)","v":"fh"},{"$f":"VLOOKUP($B$6,$B$7:$AE$25,3,FALSE)","v":"100%"},{"$f":"VLOOKUP($B$6,$B$7:$AE$25,4,FALSE)","v":0},{"$f":"IF(F$4<ControlPanel!$D$59-1,VLOOKUP(\"Referenz\",$B$7:$AE$25,F$4-$F$4+5,FALSE),VLOOKUP($B$6,$B$7:$AE$25,F$4-$F$4+5,FALSE))","v":0},{"$f":"IF(G$4<ControlPanel!$D$59-1,VLOOKUP(\"Referenz\",$B$7:$AE$25,G$4-$F$4+5,FALSE),VLOOKUP($B$6,$B$7:$AE$25,G$4-$F$4+5,FALSE))","v":0},{"$f":"IF(H$4<ControlPanel!$D$59-1,VLOOKUP(\"Referenz\",$B$7:$AE$25,H$4-$F$4+5,FALSE),VLOOKUP($B$6,$B$7:$AE$25,H$4-$F$4+5,FALSE))","v":0},{"$f":"IF(I$4<ControlPanel!$D$59-1,VLOOKUP(\"Referenz\",$B$7:$AE$25,I$4-$F$4+5,FALSE),VLOOKUP($B$6,$B$7:$AE$25,I$4-$F$4+5,FALSE))","v":0.68426197458455529},{"$f":"IF(J$4<ControlPanel!$D$59-1,VLOOKUP(\"Referenz\",$B$7:$AE$25,J$4-$F$4+5,FALSE),VLOOKUP($B$6,$B$7:$AE$25,J$4-$F$4+5,FALSE))","v":0.9},{"$f":"IF(K$4<ControlPanel!$D$59-1,VLOOKUP(\"Referenz\",$B$7:$AE$25,K$4-$F$4+5,FALSE),VLOOKUP($B$6,$B$7:$AE$25,K$4-$F$4+5,FALSE))","v":0.9},{"$f":"IF(L$4<ControlPanel!$D$59-1,VLOOKUP(\"Referenz\",$B$7:$AE$25,L$4-$F$4+5,FALSE),VLOOKUP($B$6,$B$7:$AE$25,L$4-$F$4+5,FALSE))","v":0.9},{"$f":"IF(M$4<ControlPanel!$D$59-1,VLOOKUP(\"Referenz\",$B$7:$AE$25,M$4-$F$4+5,FALSE),VLOOKUP($B$6,$B$7:$AE$25,M$4-$F$4+5,FALSE))","v":0.9},{"$f":"IF(N$4<ControlPanel!$D$59-1,VLOOKUP(\"Referenz\",$B$7:$AE$25,N$4-$F$4+5,FALSE),VLOOKUP($B$6,$B$7:$AE$25,N$4-$F$4+5,FALSE))","v":0.9},{"$f":"IF(O$4<ControlPanel!$D$59-1,VLOOKUP(\"Referenz\",$B$7:$AE$25,O$4-$F$4+5,FALSE),VLOOKUP($B$6,$B$7:$AE$25,O$4-$F$4+5,FALSE))","v":0.9},{"$f":"IF(P$4<ControlPanel!$D$59-1,VLOOKUP(\"Referenz\",$B$7:$AE$25,P$4-$F$4+5,FALSE),VLOOKUP($B$6,$B$7:$AE$25,P$4-$F$4+5,FALSE))","v":0.9},{"$f":"IF(Q$4<ControlPanel!$D$59-1,VLOOKUP(\"Referenz\",$B$7:$AE$25,Q$4-$F$4+5,FALSE),VLOOKUP($B$6,$B$7:$AE$25,Q$4-$F$4+5,FALSE))","v":1.39},{"$f":"IF(R$4<ControlPanel!$D$59-1,VLOOKUP(\"Referenz\",$B$7:$AE$25,R$4-$F$4+5,FALSE),VLOOKUP($B$6,$B$7:$AE$25,R$4-$F$4+5,FALSE))","v":1},{"$f":"IF(S$4<ControlPanel!$D$59-1,VLOOKUP(\"Referenz\",$B$7:$AE$25,S$4-$F$4+5,FALSE),VLOOKUP($B$6,$B$7:$AE$25,S$4-$F$4+5,FALSE))","v":1},{"$f":"IF(T$4<ControlPanel!$D$59-1,VLOOKUP(\"Referenz\",$B$7:$AE$25,T$4-$F$4+5,FALSE),VLOOKUP($B$6,$B$7:$AE$25,T$4-$F$4+5,FALSE))","v":1},{"$f":"IF(U$4<ControlPanel!$D$59-1,VLOOKUP(\"Referenz\",$B$7:$AE$25,U$4-$F$4+5,FALSE),VLOOKUP($B$6,$B$7:$AE$25,U$4-$F$4+5,FALSE))","v":1},{"$f":"IF(V$4<ControlPanel!$D$59-1,VLOOKUP(\"Referenz\",$B$7:$AE$25,V$4-$F$4+5,FALSE),VLOOKUP($B$6,$B$7:$AE$25,V$4-$F$4+5,FALSE))","v":1},{"$f":"IF(W$4<ControlPanel!$D$59-1,VLOOKUP(\"Referenz\",$B$7:$AE$25,W$4-$F$4+5,FALSE),VLOOKUP($B$6,$B$7:$AE$25,W$4-$F$4+5,FALSE))","v":1},{"$f":"IF(X$4<ControlPanel!$D$59-1,VLOOKUP(\"Referenz\",$B$7:$AE$25,X$4-$F$4+5,FALSE),VLOOKUP($B$6,$B$7:$AE$25,X$4-$F$4+5,FALSE))","v":1},{"$f":"IF(Y$4<ControlPanel!$D$59-1,VLOOKUP(\"Referenz\",$B$7:$AE$25,Y$4-$F$4+5,FALSE),VLOOKUP($B$6,$B$7:$AE$25,Y$4-$F$4+5,FALSE))","v":1},{"$f":"IF(Z$4<ControlPanel!$D$59-1,VLOOKUP(\"Referenz\",$B$7:$AE$25,Z$4-$F$4+5,FALSE),VLOOKUP($B$6,$B$7:$AE$25,Z$4-$F$4+5,FALSE))","v":1},{"$f":"IF(AA$4<ControlPanel!$D$59-1,VLOOKUP(\"Referenz\",$B$7:$AE$25,AA$4-$F$4+5,FALSE),VLOOKUP($B$6,$B$7:$AE$25,AA$4-$F$4+5,FALSE))","v":1},{"$f":"IF(AB$4<ControlPanel!$D$59-1,VLOOKUP(\"Referenz\",$B$7:$AE$25,AB$4-$F$4+5,FALSE),VLOOKUP($B$6,$B$7:$AE$25,AB$4-$F$4+5,FALSE))","v":1},{"$f":"IF(AC$4<ControlPanel!$D$59-1,VLOOKUP(\"Referenz\",$B$7:$AE$25,AC$4-$F$4+5,FALSE),VLOOKUP($B$6,$B$7:$AE$25,AC$4-$F$4+5,FALSE))","v":1},{"$f":"IF(AD$4<ControlPanel!$D$59-1,VLOOKUP(\"Referenz\",$B$7:$AE$25,AD$4-$F$4+5,FALSE),VLOOKUP($B$6,$B$7:$AE$25,AD$4-$F$4+5,FALSE))","v":1},{"$f":"IF(AE$4<ControlPanel!$D$59-1,VLOOKUP(\"Referenz\",$B$7:$AE$25,AE$4-$F$4+5,FALSE),VLOOKUP($B$6,$B$7:$AE$25,AE$4-$F$4+5,FALSE))","v":1}]
[null,"Referenz","fh","100%",null,null,null,null,{"$f":"35/51.15","v":0.68426197458455529},0.9,0.9,0.9,0.9,0.9,0.9,0.9,1.39,1,1,1,1,1,1,1,1,1,1,1,1,1,1]
[]
[null,"90%","fh","90%",null,null,null,null,null,null,null,null,null,null,null,1,1,1,1,1,1,1,1,1,1,1,1,1,1,1,1]
[null,"80%","cl","80%",null,null,null,null,null,null,null,null,null,null,null,0.8,0.8,0.8,0.8,0.8,0.8,0.8,0.8,0.8,0.8,0.8,0.8,0.8,0.8,0.8,0.8]
[null,"70%","cl","70%",null,null,null,null,null,null,null,null,null,null,null,0.7,0.7,0.7,0.7,0.7,0.7,0.7,0.7,0.7,0.7,0.7,0.7,0.7,0.7,0.7,0.7]

{"sheet":"D-Profilfaktoren","index":19,"n_rows":173,"n_cols":32,"rows_kept":173,"cut":false,"hidden":true,"merged":[]}
[" ","Profilfaktoren"]
[]
[null,null,"Szenario","Bearbeiter","Beschreibung","Kommentar"]
[null,null,null,null,null,null,2010,2011,2012,2013,2014,2015,2016,2017,2018,2019,2020,2021,2022,2023,2024,2025,2026,2027,2028,2029,2030,2031,2032,2033,2034,2035]
[null,null,null,null,null,null,"unit","unit","unit","unit","unit","unit","unit","unit","unit","unit","unit","unit","unit","unit","unit","unit","unit","unit","unit","unit","unit","unit","unit","unit","unit","unit"]
[null,"Wasser",{"$f":"ControlPanel!L39","v":"Referenz"},{"$f":"VLOOKUP($C$6,$C$13:$AF$37,2,FALSE)","v":"fh"},{"$f":"VLOOKUP($C$6,$C$13:$AF$37,3,FALSE)","v":"100%"},{"$f":"VLOOKUP($C$6,$C$13:$AF$37,4,FALSE)","v":"Werte bis 2025: MFP Referenzszenario, danach konstant 100%"},{"$f":"IF(G$4<ControlPanel!$D$59,VLOOKUP(\"Referenz\",$C$13:$AF$37,G$4-$G$4+5,FALSE),VLOOKUP($C$6,$C$13:$AF$37,G$4-$G$4+5,FALSE))","v":1},{"$f":"IF(H$4<ControlPanel!$D$59,VLOOKUP(\"Referenz\",$C$13:$AF$37,H$4-$G$4+5,FALSE),VLOOKUP($C$6,$C$13:$AF$37,H$4-$G$4+5,FALSE))","v":1},{"$f":"IF(I$4<ControlPanel!$D$59,VLOOKUP(\"Referenz\",$C$13:$AF$37,I$4-$G$4+5,FALSE),VLOOKUP($C$6,$C$13:$AF$37,I$4-$G$4+5,FALSE))","v":1},{"$f":"IF(J$4<ControlPanel!$D$59,VLOOKUP(\"Referenz\",$C$13:$AF$37,J$4-$G$4+5,FALSE),VLOOKUP($C$6,$C$13:$AF$37,J$4-$G$4+5,FALSE))","v":1},{"$f":"IF(K$4<ControlPanel!$D$59,VLOOKUP(\"Referenz\",$C$13:$AF$37,K$4-$G$4+5,FALSE),VLOOKUP($C$6,$C$13:$AF$37,K$4-$G$4+5,FALSE))","v":1},{"$f":"IF(L$4<ControlPanel!$D$59,VLOOKUP(\"Referenz\",$C$13:$AF$37,L$4-$G$4+5,FALSE),VLOOKUP($C$6,$C$13:$AF$37,L$4-$G$4+5,FALSE))","v":1},{"$f":"IF(M$4<ControlPanel!$D$59,VLOOKUP(\"Referenz\",$C$13:$AF$37,M$4-$G$4+5,FALSE),VLOOKUP($C$6,$C$13:$AF$37,M$4-$G$4+5,FALSE))","v":1},{"$f":"IF(N$4<ControlPanel!$D$59,VLOOKUP(\"Referenz\",$C$13:$AF$37,N$4-$G$4+5,FALSE),VLOOKUP($C$6,$C$13:$AF$37,N$4-$G$4+5,FALSE))","v":1},{"$f":"IF(O$4<ControlPanel!$D$59,VLOOKUP(\"Referenz\",$C$13:$AF$37,O$4-$G$4+5,FALSE),VLOOKUP($C$6,$C$13:$AF$37,O$4-$G$4+5,FALSE))","v":1},{"$f":"IF(P$4<ControlPanel!$D$59,VLOOKUP(\"Referenz\",$C$13:$AF$37,P$4-$G$4+5,FALSE),VLOOKUP($C$6,$C$13:$AF$37,P$4-$G$4+5,FALSE))","v":1},{"$f":"IF(Q$4<ControlPanel!$D$59,VLOOKUP(\"Referenz\",$C$13:$AF$37,Q$4-$G$4+5,FALSE),VLOOKUP($C$6,$C$13:$AF$37,Q$4-$G$4+5,FALSE))","v":1},{"$f":"IF(R$4<ControlPanel!$D$59,VLOOKUP(\"Referenz\",$C$13:$AF$37,R$4-$G$4+5,FALSE),VLOOKUP($C$6,$C$13:$AF$37,R$4-$G$4+5,FALSE))","v":1},{"$f":"IF(S$4<ControlPanel!$D$59,VLOOKUP(\"Referenz\",$C$13:$AF$37,S$4-$G$4+5,FALSE),VLOOKUP($C$6,$C$13:$AF$37,S$4-$G$4+5,FALSE))","v":1},{"$f":"IF(T$4<ControlPanel!$D$59,VLOOKUP(\"Referenz\",$C$13:$AF$37,T$4-$G$4+5,FALSE),VLOOKUP($C$6,$C$13:$AF$37,T$4-$G$4+5,FALSE))","v":1},{"$f":"IF(U$4<ControlPanel!$D$59,VLOOKUP(\"Referenz\",$C$13:$AF$37,U$4-$G$4+5,FALSE),VLOOKUP($C$6,$C$13:$AF$37,U$4-$G$4+5,FALSE))","v":1},{"$f":"IF(V$4<ControlPanel!$D$59,VLOOKUP(\"Referenz\",$C$13:$AF$37,V$4-$G$4+5,FALSE),VLOOKUP($C$6,$C$13:$AF$37,V$4-$G$4+5,FALSE))","v":1},{"$f":"IF(W$4<ControlPanel!$D$59,VLOOKUP(\"Referenz\",$C$13:$AF$37,W$4-$G$4+5,FALSE),VLOOKUP($C$6,$C$13:$AF$37,W$4-$G$4+5,FALSE))","v":1},{"$f":"IF(X$4<ControlPanel!$D$59,VLOOKUP(\"Referenz\",$C$13:$AF$37,X$4-$G$4+5,FALSE),VLOOKUP($C$6,$C$13:$AF$37,X$4-$G$4+5,FALSE))","v":1},{"$f":"IF(Y$4<ControlPanel!$D$59,VLOOKUP(\"Referenz\",$C$13:$AF$37,Y$4-$G$4+5,FALSE),VLOOKUP($C$6,$C$13:$AF$37,Y$4-$G$4+5,FALSE))","v":1},{"$f":"IF(Z$4<ControlPanel!$D$59,VLOOKUP(\"Referenz\",$C$13:$AF$37,Z$4-$G$4+5,FALSE),VLOOKUP($C$6,$C$13:$AF$37,Z$4-$G$4+5,FALSE))","v":1},{"$f":"IF(AA$4<ControlPanel!$D$59,VLOOKUP(\"Referenz\",$C$13:$AF$37,AA$4-$G$4+5,FALSE),VLOOKUP($C$6,$C$13:$AF$37,AA$4-$G$4+5,FALSE))","v":1},{"$f":"IF(AB$4<ControlPanel!$D$59,VLOOKUP(\"Referenz\",$C$13:$AF$37,AB$4-$G$4+5,FALSE),VLOOKUP($C$6,$C$13:$AF$37,AB$4-$G$4+5,FALSE))","v":1},{"$f":"IF(AC$4<ControlPanel!$D$59,VLOOKUP(\"Referenz\",$C$13:$AF$37,AC$4-$G$4+5,FALSE),VLOOKUP($C$6,$C$13:$AF$37,AC$4-$G$4+5,FALSE))","v":1},{"$f":"IF(AD$4<ControlPanel!$D$59,VLOOKUP(\"Referenz\",$C$13:$AF$37,AD$4-$G$4+5,FALSE),VLOOKUP($C$6,$C$13:$AF$37,AD$4-$G$4+5,FALSE))","v":1},{"$f":"IF(AE$4<ControlPanel!$D$59,VLOOKUP(\"Referenz\",$C$13:$AF$37,AE$4-$G$4+5,FALSE),VLOOKUP($C$6,$C$13:$AF$37,AE$4-$G$4+5,FALSE))","v":1},{"$f":"IF(AF$4<ControlPanel!$D$59,VLOOKUP(\"Referenz\",$C$13:$AF$37,AF$4-$G$4+5,FALSE),VLOOKUP($C$6,$C$13:$AF$37,AF$4-$G$4+5,FALSE))","v":1}]
[null,"Gase",{"$f":"ControlPanel!L40","v":"Referenz"},{"$f":"VLOOKUP($C$7,$C$39:$AF$63,2,FALSE)","v":"fh"},{"$f":"VLOOKUP($C$7,$C$39:$AF$63,3,FALSE)","v":"100%"},{"$f":"VLOOKUP($C$7,$C$39:$AF$63,4,FALSE)","v":"Werte bis 2025: MFP Referenzszenario, danach konstant 100%"},{"$f":"IF(G$4<ControlPanel!$D$59,VLOOKUP(\"Referenz\",$C$39:$AF$63,G$4-$G$4+5,FALSE),VLOOKUP($C$7,$C$39:$AF$63,G$4-$G$4+5,FALSE))","v":1},{"$f":"IF(H$4<ControlPanel!$D$59,VLOOKUP(\"Referenz\",$C$39:$AF$63,H$4-$G$4+5,FALSE),VLOOKUP($C$7,$C$39:$AF$63,H$4-$G$4+5,FALSE))","v":1},{"$f":"IF(I$4<ControlPanel!$D$59,VLOOKUP(\"Referenz\",$C$39:$AF$63,I$4-$G$4+5,FALSE),VLOOKUP($C$7,$C$39:$AF$63,I$4-$G$4+5,FALSE))","v":1},{"$f":"IF(J$4<ControlPanel!$D$59,VLOOKUP(\"Referenz\",$C$39:$AF$63,J$4-$G$4+5,FALSE),VLOOKUP($C$7,$C$39:$AF$63,J$4-$G$4+5,FALSE))","v":1},{"$f":"IF(K$4<ControlPanel!$D$59,VLOOKUP(\"Referenz\",$C$39:$AF$63,K$4-$G$4+5,FALSE),VLOOKUP($C$7,$C$39:$AF$63,K$4-$G$4+5,FALSE))","v":1},{"$f":"IF(L$4<ControlPanel!$D$59,VLOOKUP(\"Referenz\",$C$39:$AF$63,L$4-$G$4+5,FALSE),VLOOKUP($C$7,$C$39:$AF$63,L$4-$G$4+5,FALSE))","v":1},{"$f":"IF(M$4<ControlPanel!$D$59,VLOOKUP(\"Referenz\",$C$39:$AF$63,M$4-$G$4+5,FALSE),VLOOKUP($C$7,$C$39:$AF$63,M$4-$G$4+5,FALSE))","v":1},{"$f":"IF(N$4<ControlPanel!$D$59,VLOOKUP(\"Referenz\",$C$39:$AF$63,N$4-$G$4+5,FALSE),VLOOKUP($C$7,$C$39:$AF$63,N$4-$G$4+5,FALSE))","v":1},{"$f":"IF(O$4<ControlPanel!$D$59,VLOOKUP(\"Referenz\",$C$39:$AF$63,O$4-$G$4+5,FALSE),VLOOKUP($C$7,$C$39:$AF$63,O$4-$G$4+5,FALSE))","v":1},{"$f":"IF(P$4<ControlPanel!$D$59,VLOOKUP(\"Referenz\",$C$39:$AF$63,P$4-$G$4+5,FALSE),VLOOKUP($C$7,$C$39:$AF$63,P$4-$G$4+5,FALSE))","v":1},{"$f":"IF(Q$4<ControlPanel!$D$59,VLOOKUP(\"Referenz\",$C$39:$AF$63,Q$4-$G$4+5,FALSE),VLOOKUP($C$7,$C$39:$AF$63,Q$4-$G$4+5,FALSE))","v":1},{"$f":"IF(R$4<ControlPanel!$D$59,VLOOKUP(\"Referenz\",$C$39:$AF$63,R$4-$G$4+5,FALSE),VLOOKUP($C$7,$C$39:$AF$63,R$4-$G$4+5,FALSE))","v":1},{"$f":"IF(S$4<ControlPanel!$D$59,VLOOKUP(\"Referenz\",$C$39:$AF$63,S$4-$G$4+5,FALSE),VLOOKUP($C$7,$C$39:$AF$63,S$4-$G$4+5,FALSE))","v":1},{"$f":"IF(T$4<ControlPanel!$D$59,VLOOKUP(\"Referenz\",$C$39:$AF$63,T$4-$G$4+5,FALSE),VLOOKUP($C$7,$C$39:$AF$63,T$4-$G$4+5,FALSE))","v":1},{"$f":"IF(U$4<ControlPanel!$D$59,VLOOKUP(\"Referenz\",$C$39:$AF$63,U$4-$G$4+5,FALSE),VLOOKUP($C$7,$C$39:$AF$63,U$4-$G$4+5,FALSE))","v":1},{"$f":"IF(V$4<ControlPanel!$D$59,VLOOKUP(\"Referenz\",$C$39:$AF$63,V$4-$G$4+5,FALSE),VLOOKUP($C$7,$C$39:$AF$63,V$4-$G$4+5,FALSE))","v":1},{"$f":"IF(W$4<ControlPanel!$D$59,VLOOKUP(\"Referenz\",$C$39:$AF$63,W$4-$G$4+5,FALSE),VLOOKUP($C$7,$C$39:$AF$63,W$4-$G$4+5,FALSE))","v":1},{"$f":"IF(X$4<ControlPanel!$D$59,VLOOKUP(\"Referenz\",$C$39:$AF$63,X$4-$G$4+5,FALSE),VLOOKUP($C$7,$C$39:$AF$63,X$4-$G$4+5,FALSE))","v":1},{"$f":"IF(Y$4<ControlPanel!$D$59,VLOOKUP(\"Referenz\",$C$39:$AF$63,Y$4-$G$4+5,FALSE),VLOOKUP($C$7,$C$39:$AF$63,Y$4-$G$4+5,FALSE))","v":1},{"$f":"IF(Z$4<ControlPanel!$D$59,VLOOKUP(\"Referenz\",$C$39:$AF$63,Z$4-$G$4+5,FALSE),VLOOKUP($C$7,$C$39:$AF$63,Z$4-$G$4+5,FALSE))","v":1},{"$f":"IF(AA$4<ControlPanel!$D$59,VLOOKUP(\"Referenz\",$C$39:$AF$63,AA$4-$G$4+5,FALSE),VLOOKUP($C$7,$C$39:$AF$63,AA$4-$G$4+5,FALSE))","v":1},{"$f":"IF(AB$4<ControlPanel!$D$59,VLOOKUP(\"Referenz\",$C$39:$AF$63,AB$4-$G$4+5,FALSE),VLOOKUP($C$7,$C$39:$AF$63,AB$4-$G$4+5,FALSE))","v":1},{"$f":"IF(AC$4<ControlPanel!$D$59,VLOOKUP(\"Referenz\",$C$39:$AF$63,AC$4-$G$4+5,FALSE),VLOOKUP($C$7,$C$39:$AF$63,AC$4-$G$4+5,FALSE))","v":1},{"$f":"IF(AD$4<ControlPanel!$D$59,VLOOKUP(\"Referenz\",$C$39:$AF$63,AD$4-$G$4+5,FALSE),VLOOKUP($C$7,$C$39:$AF$63,AD$4-$G$4+5,FALSE))","v":1},{"$f":"IF(AE$4<ControlPanel!$D$59,VLOOKUP(\"Referenz\",$C$39:$AF$63,AE$4-$G$4+5,FALSE),VLOOKUP($C$7,$C$39:$AF$63,AE$4-$G$4+5,FALSE))","v":1},{"$f":"IF(AF$4<ControlPanel!$D$59,VLOOKUP(\"Referenz\",$C$39:$AF$63,AF$4-$G$4+5,FALSE),VLOOKUP($C$7,$C$39:$AF$63,AF$4-$G$4+5,FALSE))","v":1}]
[null,"Biomasse",{"$f":"ControlPanel!L37","v":"Referenz"},{"$f":"VLOOKUP($C$8,$C$65:$AF$89,2,FALSE)","v":"fh"},{"$f":"VLOOKUP($C$8,$C$65:$AF$89,3,FALSE)","v":"100%"},{"$f":"VLOOKUP($C$8,$C$65:$AF$89,4,FALSE)","v":"Werte bis 2025: MFP Referenzszenario, danach konstant 100%"},{"$f":"IF(G$4<ControlPanel!$D$59,VLOOKUP(\"Referenz\",$C$65:$AF$89,G$4-$G$4+5,FALSE),VLOOKUP($C$8,$C$65:$AF$89,G$4-$G$4+5,FALSE))","v":1},{"$f":"IF(H$4<ControlPanel!$D$59,VLOOKUP(\"Referenz\",$C$65:$AF$89,H$4-$G$4+5,FALSE),VLOOKUP($C$8,$C$65:$AF$89,H$4-$G$4+5,FALSE))","v":1},{"$f":"IF(I$4<ControlPanel!$D$59,VLOOKUP(\"Referenz\",$C$65:$AF$89,I$4-$G$4+5,FALSE),VLOOKUP($C$8,$C$65:$AF$89,I$4-$G$4+5,FALSE))","v":1},{"$f":"IF(J$4<ControlPanel!$D$59,VLOOKUP(\"Referenz\",$C$65:$AF$89,J$4-$G$4+5,FALSE),VLOOKUP($C$8,$C$65:$AF$89,J$4-$G$4+5,FALSE))","v":1},{"$f":"IF(K$4<ControlPanel!$D$59,VLOOKUP(\"Referenz\",$C$65:$AF$89,K$4-$G$4+5,FALSE),VLOOKUP($C$8,$C$65:$AF$89,K$4-$G$4+5,FALSE))","v":1},{"$f":"IF(L$4<ControlPanel!$D$59,VLOOKUP(\"Referenz\",$C$65:$AF$89,L$4-$G$4+5,FALSE),VLOOKUP($C$8,$C$65:$AF$89,L$4-$G$4+5,FALSE))","v":1},{"$f":"IF(M$4<ControlPanel!$D$59,VLOOKUP(\"Referenz\",$C$65:$AF$89,M$4-$G$4+5,FALSE),VLOOKUP($C$8,$C$65:$AF$89,M$4-$G$4+5,FALSE))","v":1},{"$f":"IF(N$4<ControlPanel!$D$59,VLOOKUP(\"Referenz\",$C$65:$AF$89,N$4-$G$4+5,FALSE),VLOOKUP($C$8,$C$65:$AF$89,N$4-$G$4+5,FALSE))","v":1},{"$f":"IF(O$4<ControlPanel!$D$59,VLOOKUP(\"Referenz\",$C$65:$AF$89,O$4-$G$4+5,FALSE),VLOOKUP($C$8,$C$65:$AF$89,O$4-$G$4+5,FALSE))","v":1},{"$f":"IF(P$4<ControlPanel!$D$59,VLOOKUP(\"Referenz\",$C$65:$AF$89,P$4-$G$4+5,FALSE),VLOOKUP($C$8,$C$65:$AF$89,P$4-$G$4+5,FALSE))","v":1},{"$f":"IF(Q$4<ControlPanel!$D$59,VLOOKUP(\"Referenz\",$C$65:$AF$89,Q$4-$G$4+5,FALSE),VLOOKUP($C$8,$C$65:$AF$89,Q$4-$G$4+5,FALSE))","v":1},{"$f":"IF(R$4<ControlPanel!$D$59,VLOOKUP(\"Referenz\",$C$65:$AF$89,R$4-$G$4+5,FALSE),VLOOKUP($C$8,$C$65:$AF$89,R$4-$G$4+5,FALSE))","v":1},{"$f":"IF(S$4<ControlPanel!$D$59,VLOOKUP(\"Referenz\",$C$65:$AF$89,S$4-$G$4+5,FALSE),VLOOKUP($C$8,$C$65:$AF$89,S$4-$G$4+5,FALSE))","v":1},{"$f":"IF(T$4<ControlPanel!$D$59,VLOOKUP(\"Referenz\",$C$65:$AF$89,T$4-$G$4+5,FALSE),VLOOKUP($C$8,$C$65:$AF$89,T$4-$G$4+5,FALSE))","v":1},{"$f":"IF(U$4<ControlPanel!$D$59,VLOOKUP(\"Referenz\",$C$65:$AF$89,U$4-$G$4+5,FALSE),VLOOKUP($C$8,$C$65:$AF$89,U$4-$G$4+5,FALSE))","v":1},{"$f":"IF(V$4<ControlPanel!$D$59,VLOOKUP(\"Referenz\",$C$65:$AF$89,V$4-$G$4+5,FALSE),VLOOKUP($C$8,$C$65:$AF$89,V$4-$G$4+5,FALSE))","v":1},{"$f":"IF(W$4<ControlPanel!$D$59,VLOOKUP(\"Referenz\",$C$65:$AF$89,W$4-$G$4+5,FALSE),VLOOKUP($C$8,$C$65:$AF$89,W$4-$G$4+5,FALSE))","v":1},{"$f":"IF(X$4<ControlPanel!$D$59,VLOOKUP(\"Referenz\",$C$65:$AF$89,X$4-$G$4+5,FALSE),VLOOKUP($C$8,$C$65:$AF$89,X$4-$G$4+5,FALSE))","v":1},{"$f":"IF(Y$4<ControlPanel!$D$59,VLOOKUP(\"Referenz\",$C$65:$AF$89,Y$4-$G$4+5,FALSE),VLOOKUP($C$8,$C$65:$AF$89,Y$4-$G$4+5,FALSE))","v":1},{"$f":"IF(Z$4<ControlPanel!$D$59,VLOOKUP(\"Referenz\",$C$65:$AF$89,Z$4-$G$4+5,FALSE),VLOOKUP($C$8,$C$65:$AF$89,Z$4-$G$4+5,FALSE))","v":1},{"$f":"IF(AA$4<ControlPanel!$D$59,VLOOKUP(\"Referenz\",$C$65:$AF$89,AA$4-$G$4+5,FALSE),VLOOKUP($C$8,$C$65:$AF$89,AA$4-$G$4+5,FALSE))","v":1},{"$f":"IF(AB$4<ControlPanel!$D$59,VLOOKUP(\"Referenz\",$C$65:$AF$89,AB$4-$G$4+5,FALSE),VLOOKUP($C$8,$C$65:$AF$89,AB$4-$G$4+5,FALSE))","v":1},{"$f":"IF(AC$4<ControlPanel!$D$59,VLOOKUP(\"Referenz\",$C$65:$AF$89,AC$4-$G$4+5,FALSE),VLOOKUP($C$8,$C$65:$AF$89,AC$4-$G$4+5,FALSE))","v":1},{"$f":"IF(AD$4<ControlPanel!$D$59,VLOOKUP(\"Referenz\",$C$65:$AF$89,AD$4-$G$4+5,FALSE),VLOOKUP($C$8,$C$65:$AF$89,AD$4-$G$4+5,FALSE))","v":1},{"$f":"IF(AE$4<ControlPanel!$D$59,VLOOKUP(\"Referenz\",$C$65:$AF$89,AE$4-$G$4+5,FALSE),VLOOKUP($C$8,$C$65:$AF$89,AE$4-$G$4+5,FALSE))","v":1},{"$f":"IF(AF$4<ControlPanel!$D$59,VLOOKUP(\"Referenz\",$C$65:$AF$89,AF$4-$G$4+5,FALSE),VLOOKUP($C$8,$C$65:$AF$89,AF$4-$G$4+5,FALSE))","v":1}]
[null,"Geothermie",{"$f":"ControlPanel!L38","v":"Referenz"},{"$f":"VLOOKUP($C$9,$C$91:$AF$115,2,FALSE)","v":"fh"},{"$f":"VLOOKUP($C$9,$C$91:$AF$115,3,FALSE)","v":"100%"},{"$f":"VLOOKUP($C$9,$C$91:$AF$115,4,FALSE)","v":"Werte bis 2025: MFP Referenzszenario, danach konstant 100%"},{"$f":"IF(G$4<ControlPanel!$D$59,VLOOKUP(\"Referenz\",$C$91:$AF$115,G$4-$G$4+5,FALSE),VLOOKUP($C$9,$C$91:$AF$115,G$4-$G$4+5,FALSE))","v":1},{"$f":"IF(H$4<ControlPanel!$D$59,VLOOKUP(\"Referenz\",$C$91:$AF$115,H$4-$G$4+5,FALSE),VLOOKUP($C$9,$C$91:$AF$115,H$4-$G$4+5,FALSE))","v":1},{"$f":"IF(I$4<ControlPanel!$D$59,VLOOKUP(\"Referenz\",$C$91:$AF$115,I$4-$G$4+5,FALSE),VLOOKUP($C$9,$C$91:$AF$115,I$4-$G$4+5,FALSE))","v":1},{"$f":"IF(J$4<ControlPanel!$D$59,VLOOKUP(\"Referenz\",$C$91:$AF$115,J$4-$G$4+5,FALSE),VLOOKUP($C$9,$C$91:$AF$115,J$4-$G$4+5,FALSE))","v":1},{"$f":"IF(K$4<ControlPanel!$D$59,VLOOKUP(\"Referenz\",$C$91:$AF$115,K$4-$G$4+5,FALSE),VLOOKUP($C$9,$C$91:$AF$115,K$4-$G$4+5,FALSE))","v":1},{"$f":"IF(L$4<ControlPanel!$D$59,VLOOKUP(\"Referenz\",$C$91:$AF$115,L$4-$G$4+5,FALSE),VLOOKUP($C$9,$C$91:$AF$115,L$4-$G$4+5,FALSE))","v":1},{"$f":"IF(M$4<ControlPanel!$D$59,VLOOKUP(\"Referenz\",$C$91:$AF$115,M$4-$G$4+5,FALSE),VLOOKUP($C$9,$C$91:$AF$115,M$4-$G$4+5,FALSE))","v":1},{"$f":"IF(N$4<ControlPanel!$D$59,VLOOKUP(\"Referenz\",$C$91:$AF$115,N$4-$G$4+5,FALSE),VLOOKUP($C$9,$C$91:$AF$115,N$4-$G$4+5,FALSE))","v":1},{"$f":"IF(O$4<ControlPanel!$D$59,VLOOKUP(\"Referenz\",$C$91:$AF$115,O$4-$G$4+5,FALSE),VLOOKUP($C$9,$C$91:$AF$115,O$4-$G$4+5,FALSE))","v":1},{"$f":"IF(P$4<ControlPanel!$D$59,VLOOKUP(\"Referenz\",$C$91:$AF$115,P$4-$G$4+5,FALSE),VLOOKUP($C$9,$C$91:$AF$115,P$4-$G$4+5,FALSE))","v":1},{"$f":"IF(Q$4<ControlPanel!$D$59,VLOOKUP(\"Referenz\",$C$91:$AF$115,Q$4-$G$4+5,FALSE),VLOOKUP($C$9,$C$91:$AF$115,Q$4-$G$4+5,FALSE))","v":1},{"$f":"IF(R$4<ControlPanel!$D$59,VLOOKUP(\"Referenz\",$C$91:$AF$115,R$4-$G$4+5,FALSE),VLOOKUP($C$9,$C$91:$AF$115,R$4-$G$4+5,FALSE))","v":1},{"$f":"IF(S$4<ControlPanel!$D$59,VLOOKUP(\"Referenz\",$C$91:$AF$115,S$4-$G$4+5,FALSE),VLOOKUP($C$9,$C$91:$AF$115,S$4-$G$4+5,FALSE))","v":1},{"$f":"IF(T$4<ControlPanel!$D$59,VLOOKUP(\"Referenz\",$C$91:$AF$115,T$4-$G$4+5,FALSE),VLOOKUP($C$9,$C$91:$AF$115,T$4-$G$4+5,FALSE))","v":1},{"$f":"IF(U$4<ControlPanel!$D$59,VLOOKUP(\"Referenz\",$C$91:$AF$115,U$4-$G$4+5,FALSE),VLOOKUP($C$9,$C$91:$AF$115,U$4-$G$4+5,FALSE))","v":1},{"$f":"IF(V$4<ControlPanel!$D$59,VLOOKUP(\"Referenz\",$C$91:$AF$115,V$4-$G$4+5,FALSE),VLOOKUP($C$9,$C$91:$AF$115,V$4-$G$4+5,FALSE))","v":1},{"$f":"IF(W$4<ControlPanel!$D$59,VLOOKUP(\"Referenz\",$C$91:$AF$115,W$4-$G$4+5,FALSE),VLOOKUP($C$9,$C$91:$AF$115,W$4-$G$4+5,FALSE))","v":1},{"$f":"IF(X$4<ControlPanel!$D$59,VLOOKUP(\"Referenz\",$C$91:$AF$115,X$4-$G$4+5,FALSE),VLOOKUP($C$9,$C$91:$AF$115,X$4-$G$4+5,FALSE))","v":1},{"$f":"IF(Y$4<ControlPanel!$D$59,VLOOKUP(\"Referenz\",$C$91:$AF$115,Y$4-$G$4+5,FALSE),VLOOKUP($C$9,$C$91:$AF$115,Y$4-$G$4+5,FALSE))","v":1},{"$f":"IF(Z$4<ControlPanel!$D$59,VLOOKUP(\"Referenz\",$C$91:$AF$115,Z$4-$G$4+5,FALSE),VLOOKUP($C$9,$C$91:$AF$115,Z$4-$G$4+5,FALSE))","v":1},{"$f":"IF(AA$4<ControlPanel!$D$59,VLOOKUP(\"Referenz\",$C$91:$AF$115,AA$4-$G$4+5,FALSE),VLOOKUP($C$9,$C$91:$AF$115,AA$4-$G$4+5,FALSE))","v":1},{"$f":"IF(AB$4<ControlPanel!$D$59,VLOOKUP(\"Referenz\",$C$91:$AF$115,AB$4-$G$4+5,FALSE),VLOOKUP($C$9,$C$91:$AF$115,AB$4-$G$4+5,FALSE))","v":1},{"$f":"IF(AC$4<ControlPanel!$D$59,VLOOKUP(\"Referenz\",$C$91:$AF$115,AC$4-$G$4+5,FALSE),VLOOKUP($C$9,$C$91:$AF$115,AC$4-$G$4+5,FALSE))","v":1},{"$f":"IF(AD$4<ControlPanel!$D$59,VLOOKUP(\"Referenz\",$C$91:$AF$115,AD$4-$G$4+5,FALSE),VLOOKUP($C$9,$C$91:$AF$115,AD$4-$G$4+5,FALSE))","v":1},{"$f":"IF(AE$4<ControlPanel!$D$59,VLOOKUP(\"Referenz\",$C$91:$AF$115,AE$4-$G$4+5,FALSE),VLOOKUP($C$9,$C$91:$AF$115,AE$4-$G$4+5,FALSE))","v":1},{"$f":"IF(AF$4<ControlPanel!$D$59,VLOOKUP(\"Referenz\",$C$91:$AF$115,AF$4-$G$4+5,FALSE),VLOOKUP($C$9,$C$91:$AF$115,AF$4-$G$4+5,FALSE))","v":1}]
[null,"Wind Onshore",{"$f":"ControlPanel!L34","v":"Referenz"},{"$f":"VLOOKUP($C$10,$C$117:$AF$141,2,FALSE)","v":"fh"},{"$f":"VLOOKUP($C$10,$C$117:$AF$141,3,FALSE)","v":"eigene Berechnung"},{"$f":"VLOOKUP($C$10,$C$117:$AF$141,4,FALSE)","v":"2020: ÜNB-Umlageberechnung 2020. Werte bis 2025: MFP Referenzszenario 2020, danach lineare Absenkung auf 60%"},{"$f":"IF(G$4<ControlPanel!$D$59,VLOOKUP(\"Referenz\",$C$117:$AF$141,G$4-$G$4+5,FALSE),VLOOKUP($C$10,$C$117:$AF$141,G$4-$G$4+5,FALSE))","v":0.82750000000000001},{"$f":"IF(H$4<ControlPanel!$D$59,VLOOKUP(\"Referenz\",$C$117:$AF$141,H$4-$G$4+5,FALSE),VLOOKUP($C$10,$C$117:$AF$141,H$4-$G$4+5,FALSE))","v":0.82},{"$f":"IF(I$4<ControlPanel!$D$59,VLOOKUP(\"Referenz\",$C$117:$AF$141,I$4-$G$4+5,FALSE),VLOOKUP($C$10,$C$117:$AF$141,I$4-$G$4+5,FALSE))","v":0.90500000000000003},{"$f":"IF(J$4<ControlPanel!$D$59,VLOOKUP(\"Referenz\",$C$117:$AF$141,J$4-$G$4+5,FALSE),VLOOKUP($C$10,$C$117:$AF$141,J$4-$G$4+5,FALSE))","v":0.88900000000000001},{"$f":"IF(K$4<ControlPanel!$D$59,VLOOKUP(\"Referenz\",$C$117:$AF$141,K$4-$G$4+5,FALSE),VLOOKUP($C$10,$C$117:$AF$141,K$4-$G$4+5,FALSE))","v":0.85099999999999998},{"$f":"IF(L$4<ControlPanel!$D$59,VLOOKUP(\"Referenz\",$C$117:$AF$141,L$4-$G$4+5,FALSE),VLOOKUP($C$10,$C$117:$AF$141,L$4-$G$4+5,FALSE))","v":0.84899999999999998},{"$f":"IF(M$4<ControlPanel!$D$59,VLOOKUP(\"Referenz\",$C$117:$AF$141,M$4-$G$4+5,FALSE),VLOOKUP($C$10,$C$117:$AF$141,M$4-$G$4+5,FALSE))","v":0.88},{"$f":"IF(N$4<ControlPanel!$D$59,VLOOKUP(\"Referenz\",$C$117:$AF$141,N$4-$G$4+5,FALSE),VLOOKUP($C$10,$C$117:$AF$141,N$4-$G$4+5,FALSE))","v":0.873},{"$f":"IF(O$4<ControlPanel!$D$59,VLOOKUP(\"Referenz\",$C$117:$AF$141,O$4-$G$4+5,FALSE),VLOOKUP($C$10,$C$117:$AF$141,O$4-$G$4+5,FALSE))","v":0.82699999999999996},{"$f":"IF(P$4<ControlPanel!$D$59,VLOOKUP(\"Referenz\",$C$117:$AF$141,P$4-$G$4+5,FALSE),VLOOKUP($C$10,$C$117:$AF$141,P$4-$G$4+5,FALSE))","v":0.78400000000000003},{"$f":"IF(Q$4<ControlPanel!$D$59,VLOOKUP(\"Referenz\",$C$117:$AF$141,Q$4-$G$4+5,FALSE),VLOOKUP($C$10,$C$117:$AF$141,Q$4-$G$4+5,FALSE))","v":0.89200000000000002},{"$f":"IF(R$4<ControlPanel!$D$59,VLOOKUP(\"Referenz\",$C$117:$AF$141,R$4-$G$4+5,FALSE),VLOOKUP($C$10,$C$117:$AF$141,R$4-$G$4+5,FALSE))","v":0.86899999999999999},{"$f":"IF(S$4<ControlPanel!$D$59,VLOOKUP(\"Referenz\",$C$117:$AF$141,S$4-$G$4+5,FALSE),VLOOKUP($C$10,$C$117:$AF$141,S$4-$G$4+5,FALSE))","v":0.88600000000000001},{"$f":"IF(T$4<ControlPanel!$D$59,VLOOKUP(\"Referenz\",$C$117:$AF$141,T$4-$G$4+5,FALSE),VLOOKUP($C$10,$C$117:$AF$141,T$4-$G$4+5,FALSE))","v":0.879},{"$f":"IF(U$4<ControlPanel!$D$59,VLOOKUP(\"Referenz\",$C$117:$AF$141,U$4-$G$4+5,FALSE),VLOOKUP($C$10,$C$117:$AF$141,U$4-$G$4+5,FALSE))","v":0.85199999999999998},{"$f":"IF(V$4<ControlPanel!$D$59,VLOOKUP(\"Referenz\",$C$117:$AF$141,V$4-$G$4+5,FALSE),VLOOKUP($C$10,$C$117:$AF$141,V$4-$G$4+5,FALSE))","v":0.89200000000000002},{"$f":"IF(W$4<ControlPanel!$D$59,VLOOKUP(\"Referenz\",$C$117:$AF$141,W$4-$G$4+5,FALSE),VLOOKUP($C$10,$C$117:$AF$141,W$4-$G$4+5,FALSE))","v":0.87},{"$f":"IF(X$4<ControlPanel!$D$59,VLOOKUP(\"Referenz\",$C$117:$AF$141,X$4-$G$4+5,FALSE),VLOOKUP($C$10,$C$117:$AF$141,X$4-$G$4+5,FALSE))","v":0.84799999999999998},{"$f":"IF(Y$4<ControlPanel!$D$59,VLOOKUP(\"Referenz\",$C$117:$AF$141,Y$4-$G$4+5,FALSE),VLOOKUP($C$10,$C$117:$AF$141,Y$4-$G$4+5,FALSE))","v":0.82599999999999996},{"$f":"IF(Z$4<ControlPanel!$D$59,VLOOKUP(\"Referenz\",$C$117:$AF$141,Z$4-$G$4+5,FALSE),VLOOKUP($C$10,$C$117:$AF$141,Z$4-$G$4+5,FALSE))","v":0.80399999999999994},{"$f":"IF(AA$4<ControlPanel!$D$59,VLOOKUP(\"Referenz\",$C$117:$AF$141,AA$4-$G$4+5,FALSE),VLOOKUP($C$10,$C$117:$AF$141,AA$4-$G$4+5,FALSE))","v":0.78199999999999992},{"$f":"IF(AB$4<ControlPanel!$D$59,VLOOKUP(\"Referenz\",$C$117:$AF$141,AB$4-$G$4+5,FALSE),VLOOKUP($C$10,$C$117:$AF$141,AB$4-$G$4+5,FALSE))","v":0.7599999999999999},{"$f":"IF(AC$4<ControlPanel!$D$59,VLOOKUP(\"Referenz\",$C$117:$AF$141,AC$4-$G$4+5,FALSE),VLOOKUP($C$10,$C$117:$AF$141,AC$4-$G$4+5,FALSE))","v":0.73799999999999988},{"$f":"IF(AD$4<ControlPanel!$D$59,VLOOKUP(\"Referenz\",$C$117:$AF$141,AD$4-$G$4+5,FALSE),VLOOKUP($C$10,$C$117:$AF$141,AD$4-$G$4+5,FALSE))","v":0.71599999999999986},{"$f":"IF(AE$4<ControlPanel!$D$59,VLOOKUP(\"Referenz\",$C$117:$AF$141,AE$4-$G$4+5,FALSE),VLOOKUP($C$10,$C$117:$AF$141,AE$4-$G$4+5,FALSE))","v":0.69399999999999984},{"$f":"IF(AF$4<ControlPanel!$D$59,VLOOKUP(\"Referenz\",$C$117:$AF$141,AF$4-$G$4+5,FALSE),VLOOKUP($C$10,$C$117:$AF$141,AF$4-$G$4+5,FALSE))","v":0.6}]
[null,"Wind Offshore",{"$f":"ControlPanel!L35","v":"Referenz"},{"$f":"VLOOKUP($C$11,$C$143:$AF$167,2,FALSE)","v":"fh"},{"$f":"VLOOKUP($C$11,$C$143:$AF$167,3,FALSE)","v":"eigene Berechnung"},{"$f":"VLOOKUP($C$11,$C$143:$AF$167,4,FALSE)","v":"2021: ÜNB-Umlageberechnung 2020. Werte bis 2025: MFP Referenzszenario 2020, danach lineare Absenkung auf 60%"},{"$f":"IF(G$4<ControlPanel!$D$59,VLOOKUP(\"Referenz\",$C$143:$AF$167,G$4-$G$4+5,FALSE),VLOOKUP($C$11,$C$143:$AF$167,G$4-$G$4+5,FALSE))","v":0.82750000000000001},{"$f":"IF(H$4<ControlPanel!$D$59,VLOOKUP(\"Referenz\",$C$143:$AF$167,H$4-$G$4+5,FALSE),VLOOKUP($C$11,$C$143:$AF$167,H$4-$G$4+5,FALSE))","v":0.82},{"$f":"IF(I$4<ControlPanel!$D$59,VLOOKUP(\"Referenz\",$C$143:$AF$167,I$4-$G$4+5,FALSE),VLOOKUP($C$11,$C$143:$AF$167,I$4-$G$4+5,FALSE))","v":1.02},{"$f":"IF(J$4<ControlPanel!$D$59,VLOOKUP(\"Referenz\",$C$143:$AF$167,J$4-$G$4+5,FALSE),VLOOKUP($C$11,$C$143:$AF$167,J$4-$G$4+5,FALSE))","v":0.997},{"$f":"IF(K$4<ControlPanel!$D$59,VLOOKUP(\"Referenz\",$C$143:$AF$167,K$4-$G$4+5,FALSE),VLOOKUP($C$11,$C$143:$AF$167,K$4-$G$4+5,FALSE))","v":0.91800000000000004},{"$f":"IF(L$4<ControlPanel!$D$59,VLOOKUP(\"Referenz\",$C$143:$AF$167,L$4-$G$4+5,FALSE),VLOOKUP($C$11,$C$143:$AF$167,L$4-$G$4+5,FALSE))","v":0.94099999999999995},{"$f":"IF(M$4<ControlPanel!$D$59,VLOOKUP(\"Referenz\",$C$143:$AF$167,M$4-$G$4+5,FALSE),VLOOKUP($C$11,$C$143:$AF$167,M$4-$G$4+5,FALSE))","v":0.98},{"$f":"IF(N$4<ControlPanel!$D$59,VLOOKUP(\"Referenz\",$C$143:$AF$167,N$4-$G$4+5,FALSE),VLOOKUP($C$11,$C$143:$AF$167,N$4-$G$4+5,FALSE))","v":0.92100000000000004},{"$f":"IF(O$4<ControlPanel!$D$59,VLOOKUP(\"Referenz\",$C$143:$AF$167,O$4-$G$4+5,FALSE),VLOOKUP($C$11,$C$143:$AF$167,O$4-$G$4+5,FALSE))","v":0.90600000000000003},{"$f":"IF(P$4<ControlPanel!$D$59,VLOOKUP(\"Referenz\",$C$143:$AF$167,P$4-$G$4+5,FALSE),VLOOKUP($C$11,$C$143:$AF$167,P$4-$G$4+5,FALSE))","v":0.91300000000000003},{"$f":"IF(Q$4<ControlPanel!$D$59,VLOOKUP(\"Referenz\",$C$143:$AF$167,Q$4-$G$4+5,FALSE),VLOOKUP($C$11,$C$143:$AF$167,Q$4-$G$4+5,FALSE))","v":0.92200000000000004},{"$f":"IF(R$4<ControlPanel!$D$59,VLOOKUP(\"Referenz\",$C$143:$AF$167,R$4-$G$4+5,FALSE),VLOOKUP($C$11,$C$143:$AF$167,R$4-$G$4+5,FALSE))","v":0.88800000000000001},{"$f":"IF(S$4<ControlPanel!$D$59,VLOOKUP(\"Referenz\",$C$143:$AF$167,S$4-$G$4+5,FALSE),VLOOKUP($C$11,$C$143:$AF$167,S$4-$G$4+5,FALSE))","v":0.90400000000000003},{"$f":"IF(T$4<ControlPanel!$D$59,VLOOKUP(\"Referenz\",$C$143:$AF$167,T$4-$G$4+5,FALSE),VLOOKUP($C$11,$C$143:$AF$167,T$4-$G$4+5,FALSE))","v":0.89600000000000002},{"$f":"IF(U$4<ControlPanel!$D$59,VLOOKUP(\"Referenz\",$C$143:$AF$167,U$4-$G$4+5,FALSE),VLOOKUP($C$11,$C$143:$AF$167,U$4-$G$4+5,FALSE))","v":0.878},{"$f":"IF(V$4<ControlPanel!$D$59,VLOOKUP(\"Referenz\",$C$143:$AF$167,V$4-$G$4+5,FALSE),VLOOKUP($C$11,$C$143:$AF$167,V$4-$G$4+5,FALSE))","v":0.92200000000000004},{"$f":"IF(W$4<ControlPanel!$D$59,VLOOKUP(\"Referenz\",$C$143:$AF$167,W$4-$G$4+5,FALSE),VLOOKUP($C$11,$C$143:$AF$167,W$4-$G$4+5,FALSE))","v":0.90630769230769237},{"$f":"IF(X$4<ControlPanel!$D$59,VLOOKUP(\"Referenz\",$C$143:$AF$167,X$4-$G$4+5,FALSE),VLOOKUP($C$11,$C$143:$AF$167,X$4-$G$4+5,FALSE))","v":0.8906153846153847},{"$f":"IF(Y$4<ControlPanel!$D$59,VLOOKUP(\"Referenz\",$C$143:$AF$167,Y$4-$G$4+5,FALSE),VLOOKUP($C$11,$C$143:$AF$167,Y$4-$G$4+5,FALSE))","v":0.87492307692307703},{"$f":"IF(Z$4<ControlPanel!$D$59,VLOOKUP(\"Referenz\",$C$143:$AF$167,Z$4-$G$4+5,FALSE),VLOOKUP($C$11,$C$143:$AF$167,Z$4-$G$4+5,FALSE))","v":0.85923076923076935},{"$f":"IF(AA$4<ControlPanel!$D$59,VLOOKUP(\"Referenz\",$C$143:$AF$167,AA$4-$G$4+5,FALSE),VLOOKUP($C$11,$C$143:$AF$167,AA$4-$G$4+5,FALSE))","v":0.84353846153846168},{"$f":"IF(AB$4<ControlPanel!$D$59,VLOOKUP(\"Referenz\",$C$143:$AF$167,AB$4-$G$4+5,FALSE),VLOOKUP($C$11,$C$143:$AF$167,AB$4-$G$4+5,FALSE))","v":0.82784615384615401},{"$f":"IF(AC$4<ControlPanel!$D$59,VLOOKUP(\"Referenz\",$C$143:$AF$167,AC$4-$G$4+5,FALSE),VLOOKUP($C$11,$C$143:$AF$167,AC$4-$G$4+5,FALSE))","v":0.81215384615384634},{"$f":"IF(AD$4<ControlPanel!$D$59,VLOOKUP(\"Referenz\",$C$143:$AF$167,AD$4-$G$4+5,FALSE),VLOOKUP($C$11,$C$143:$AF$167,AD$4-$G$4+5,FALSE))","v":0.79646153846153867},{"$f":"IF(AE$4<ControlPanel!$D$59,VLOOKUP(\"Referenz\",$C$143:$AF$167,AE$4-$G$4+5,FALSE),VLOOKUP($C$11,$C$143:$AF$167,AE$4-$G$4+5,FALSE))","v":0.78076923076923099},{"$f":"IF(AF$4<ControlPanel!$D$59,VLOOKUP(\"Referenz\",$C$143:$AF$167,AF$4-$G$4+5,FALSE),VLOOKUP($C$11,$C$143:$AF$167,AF$4-$G$4+5,FALSE))","v":0.7}]
[null,"PV",{"$f":"ControlPanel!L36","v":"Referenz"},{"$f":"VLOOKUP($C$12,$C$169:$AF$193,2,FALSE)","v":"fh"},{"$f":"VLOOKUP($C$12,$C$169:$AF$193,3,FALSE)","v":"eigene Berechnung"},{"$f":"VLOOKUP($C$12,$C$169:$AF$193,4,FALSE)","v":"2021: ÜNB-Umlageberechnung 2020. Werte bis 2025: MFP Referenzszenario 2020, danach lineare Absenkung auf 60%"},{"$f":"IF(G$4<ControlPanel!$D$59,VLOOKUP(\"Referenz\",$C$169:$AF$193,G$4-$G$4+5,FALSE),VLOOKUP($C$12,$C$169:$AF$193,G$4-$G$4+5,FALSE))","v":1.2},{"$f":"IF(H$4<ControlPanel!$D$59,VLOOKUP(\"Referenz\",$C$169:$AF$193,H$4-$G$4+5,FALSE),VLOOKUP($C$12,$C$169:$AF$193,H$4-$G$4+5,FALSE))","v":1.2},{"$f":"IF(I$4<ControlPanel!$D$59,VLOOKUP(\"Referenz\",$C$169:$AF$193,I$4-$G$4+5,FALSE),VLOOKUP($C$12,$C$169:$AF$193,I$4-$G$4+5,FALSE))","v":1.046},{"$f":"IF(J$4<ControlPanel!$D$59,VLOOKUP(\"Referenz\",$C$169:$AF$193,J$4-$G$4+5,FALSE),VLOOKUP($C$12,$C$169:$AF$193,J$4-$G$4+5,FALSE))","v":0.98099999999999998},{"$f":"IF(K$4<ControlPanel!$D$59,VLOOKUP(\"Referenz\",$C$169:$AF$193,K$4-$G$4+5,FALSE),VLOOKUP($C$12,$C$169:$AF$193,K$4-$G$4+5,FALSE))","v":1.0109999999999999},{"$f":"IF(L$4<ControlPanel!$D$59,VLOOKUP(\"Referenz\",$C$169:$AF$193,L$4-$G$4+5,FALSE),VLOOKUP($C$12,$C$169:$AF$193,L$4-$G$4+5,FALSE))","v":0.84899999999999998},{"$f":"IF(M$4<ControlPanel!$D$59,VLOOKUP(\"Referenz\",$C$169:$AF$193,M$4-$G$4+5,FALSE),VLOOKUP($C$12,$C$169:$AF$193,M$4-$G$4+5,FALSE))","v":0.98},{"$f":"IF(N$4<ControlPanel!$D$59,VLOOKUP(\"Referenz\",$C$169:$AF$193,N$4-$G$4+5,FALSE),VLOOKUP($C$12,$C$169:$AF$193,N$4-$G$4+5,FALSE))","v":0.997},{"$f":"IF(O$4<ControlPanel!$D$59,VLOOKUP(\"Referenz\",$C$169:$AF$193,O$4-$G$4+5,FALSE),VLOOKUP($C$12,$C$169:$AF$193,O$4-$G$4+5,FALSE))","v":0.95},{"$f":"IF(P$4<ControlPanel!$D$59,VLOOKUP(\"Referenz\",$C$169:$AF$193,P$4-$G$4+5,FALSE),VLOOKUP($C$12,$C$169:$AF$193,P$4-$G$4+5,FALSE))","v":0.98899999999999999},{"$f":"IF(Q$4<ControlPanel!$D$59,VLOOKUP(\"Referenz\",$C$169:$AF$193,Q$4-$G$4+5,FALSE),VLOOKUP($C$12,$C$169:$AF$193,Q$4-$G$4+5,FALSE))","v":0.95299999999999996},{"$f":"IF(R$4<ControlPanel!$D$59,VLOOKUP(\"Referenz\",$C$169:$AF$193,R$4-$G$4+5,FALSE),VLOOKUP($C$12,$C$169:$AF$193,R$4-$G$4+5,FALSE))","v":0.91500000000000004},{"$f":"IF(S$4<ControlPanel!$D$59,VLOOKUP(\"Referenz\",$C$169:$AF$193,S$4-$G$4+5,FALSE),VLOOKUP($C$12,$C$169:$AF$193,S$4-$G$4+5,FALSE))","v":0.88200000000000001},{"$f":"IF(T$4<ControlPanel!$D$59,VLOOKUP(\"Referenz\",$C$169:$AF$193,T$4-$G$4+5,FALSE),VLOOKUP($C$12,$C$169:$AF$193,T$4-$G$4+5,FALSE))","v":0.86899999999999999},{"$f":"IF(U$4<ControlPanel!$D$59,VLOOKUP(\"Referenz\",$C$169:$AF$193,U$4-$G$4+5,FALSE),VLOOKUP($C$12,$C$169:$AF$193,U$4-$G$4+5,FALSE))","v":0.86399999999999999},{"$f":"IF(V$4<ControlPanel!$D$59,VLOOKUP(\"Referenz\",$C$169:$AF$193,V$4-$G$4+5,FALSE),VLOOKUP($C$12,$C$169:$AF$193,V$4-$G$4+5,FALSE))","v":0.95299999999999996},{"$f":"IF(W$4<ControlPanel!$D$59,VLOOKUP(\"Referenz\",$C$169:$AF$193,W$4-$G$4+5,FALSE),VLOOKUP($C$12,$C$169:$AF$193,W$4-$G$4+5,FALSE))","v":0.93130769230769228},{"$f":"IF(X$4<ControlPanel!$D$59,VLOOKUP(\"Referenz\",$C$169:$AF$193,X$4-$G$4+5,FALSE),VLOOKUP($C$12,$C$169:$AF$193,X$4-$G$4+5,FALSE))","v":0.9096153846153846},{"$f":"IF(Y$4<ControlPanel!$D$59,VLOOKUP(\"Referenz\",$C$169:$AF$193,Y$4-$G$4+5,FALSE),VLOOKUP($C$12,$C$169:$AF$193,Y$4-$G$4+5,FALSE))","v":0.88792307692307693},{"$f":"IF(Z$4<ControlPanel!$D$59,VLOOKUP(\"Referenz\",$C$169:$AF$193,Z$4-$G$4+5,FALSE),VLOOKUP($C$12,$C$169:$AF$193,Z$4-$G$4+5,FALSE))","v":0.86623076923076925},{"$f":"IF(AA$4<ControlPanel!$D$59,VLOOKUP(\"Referenz\",$C$169:$AF$193,AA$4-$G$4+5,FALSE),VLOOKUP($C$12,$C$169:$AF$193,AA$4-$G$4+5,FALSE))","v":0.84453846153846157},{"$f":"IF(AB$4<ControlPanel!$D$59,VLOOKUP(\"Referenz\",$C$169:$AF$193,AB$4-$G$4+5,FALSE),VLOOKUP($C$12,$C$169:$AF$193,AB$4-$G$4+5,FALSE))","v":0.82284615384615389},{"$f":"IF(AC$4<ControlPanel!$D$59,VLOOKUP(\"Referenz\",$C$169:$AF$193,AC$4-$G$4+5,FALSE),VLOOKUP($C$12,$C$169:$AF$193,AC$4-$G$4+5,FALSE))","v":0.80115384615384622},{"$f":"IF(AD$4<ControlPanel!$D$59,VLOOKUP(\"Referenz\",$C$169:$AF$193,AD$4-$G$4+5,FALSE),VLOOKUP($C$12,$C$169:$AF$193,AD$4-$G$4+5,FALSE))","v":0.77946153846153854},{"$f":"IF(AE$4<ControlPanel!$D$59,VLOOKUP(\"Referenz\",$C$169:$AF$193,AE$4-$G$4+5,FALSE),VLOOKUP($C$12,$C$169:$AF$193,AE$4-$G$4+5,FALSE))","v":0.75776923076923086},{"$f":"IF(AF$4<ControlPanel!$D$59,VLOOKUP(\"Referenz\",$C$169:$AF$193,AF$4-$G$4+5,FALSE),VLOOKUP($C$12,$C$169:$AF$193,AF$4-$G$4+5,FALSE))","v":0.6}]
[null,"Wasser","Referenz","fh","100%","Werte bis 2025: MFP Referenzszenario, danach konstant 100%",1,1,1,1,1,1,1,1,1,1,1,1,1,1,1,1,1,1,1,1,1,1,1,1,1,1]
[]
[]
[]
[]
[]
[]
[]
[]
[]
[]
[]
[]
[]
[]
[]
[]
[]
[]
[]
[]
[]
[]
[]
[]
[]
[null,"Gase","Referenz","fh","100%","Werte bis 2025: MFP Referenzszenario, danach konstant 100%",1,1,1,1,1,1,1,1,1,1,1,1,1,1,1,1,1,1,1,1,1,1,1,1,1,1]
[]
[]
[]
[]
[]
[]
[]
[]
[]
[]
[]
[]
[]
[]
[]
[]
[]
[]
[]
[]
[]
[]
[]
[]
[]
[null,"Biomasse","Referenz","fh","100%","Werte bis 2025: MFP Referenzszenario, danach konstant 100%",1,1,1,1,1,1,1,1,1,1,1,1,1,1,1,1,1,1,1,1,1,1,1,1,1,1]
[]
[]
[]
[]
[]
[]
[]
[]
[]
[]
[]
[]
[]
[]
[]
[]
[]
[]
[]
[]
[]
[]
[]
[]
[]
[null,"Geothermie","Referenz","fh","100%","Werte bis 2025: MFP Referenzszenario, danach konstant 100%",1,1,1,1,1,1,1,1,1,1,1,1,1,1,1,1,1,1,1,1,1,1,1,1,1,1]
[]
[]
[]
[]
[]
[]
[]
[]
[]
[]
[]
[]
[]
[]
[]
[]
[]
[]
[]
[]
[]
[]
[]
[]
[]
[null,"Wind Onshore","Referenz","fh","eigene Berechnung","2020: ÜNB-Umlageberechnung 2020. Werte bis 2025: MFP Referenzszenario 2020, danach lineare Absenkung auf 60%",0.82750000000000001,0.82,0.90500000000000003,0.88900000000000001,0.85099999999999998,0.84899999999999998,0.88,0.873,0.82699999999999996,0.78400000000000003,0.89200000000000002,0.86899999999999999,0.88600000000000001,0.879,0.85199999999999998,0.89200000000000002,{"$f":"V117-($S117-$AF117)/($AF$4-$S$4)","v":0.87},0.84799999999999998,0.82599999999999996,0.80399999999999994,0.78199999999999992,0.7599999999999999,0.73799999999999988,0.71599999999999986,0.69399999999999984,0.6]
[]
[null,null,"MFP hoch","fh","MFP hoch","bis 2025 wie MFP oberes Szenario, danach wie Referenz",null,null,null,null,null,null,null,null,null,null,0.86699999999999999,0.78800000000000003,0.84299999999999997,0.85,0.81299999999999994,0.80400000000000005,{"$f":"V119-($S119-$AF119)/($AF$4-$S$4)","v":0.78530769230769237},0.7666153846153847,0.74792307692307702,0.72923076923076935,0.71053846153846167,0.691846153846154,0.67315384615384632,0.65446153846153865,0.63576923076923098,{"$f":"AF117","v":0.6}]
[null,null,"MFP niedrig","fh","MFP niedrig","bis 2025 wie MFP unteres Szenario, danach wie Referenz",null,null,null,null,null,null,null,null,null,null,0.90600000000000003,0.89900000000000002,0.90400000000000003,0.88900000000000001,0.86299999999999999,0.85299999999999998,{"$f":"V120-($S120-$AF120)/($AF$4-$S$4)","v":0.82961538461538464},0.80623076923076931,0.78284615384615397,0.75946153846153863,0.7360769230769233,0.71269230769230796,0.68930769230769262,0.66592307692307728,0.64253846153846195,{"$f":"AF117","v":0.6}]
[null,null,"KNDE 2045","dr","Klimaneutrales Deutschland 2045 (2021)",null,null,null,null,null,null,null,null,null,null,null,null,0.93107260202488162,0.92732507047286994,0.92612210590721766,0.91913720380071784,0.91462537833980806,0.88790896517525519,0.89255482304109834,0.87994123726052553,0.86251283088860997,0.87023256845170549,0.86348245652020994,0.85724397302492561,0.85504982512959427,0.8456298898613045,0.85253131911032998]
[]
[]
[]
[]
[]
[]
[]
[]
[]
[]
[]
[]
[]
[]
[]
[]
[]
[]
[]
[]
[]
[null,"Wind Offshore","Referenz","fh","eigene Berechnung","2021: ÜNB-Umlageberechnung 2020. Werte bis 2025: MFP Referenzszenario 2020, danach lineare Absenkung auf 60%",0.82750000000000001,0.82,1.02,0.997,0.91800000000000004,0.94099999999999995,0.98,0.92100000000000004,0.90600000000000003,0.91300000000000003,0.92200000000000004,0.88800000000000001,0.90400000000000003,0.89600000000000002,0.878,0.92200000000000004,{"$f":"V143-($S143-$AF143)/($AF$4-$S$4)","v":0.90630769230769237},0.8906153846153847,0.87492307692307703,0.85923076923076935,0.84353846153846168,0.82784615384615401,0.81215384615384634,0.79646153846153867,0.78076923076923099,0.7]
[]
[null,null,"MFP hoch","fh","MFP hoch","bis 2025 wie MFP oberes Szenario, danach wie Referenz",null,null,null,null,null,null,null,null,null,null,0.91,0.82799999999999996,0.872,0.878,0.85,0.84299999999999997,{"$f":"V145-($S145-$AF145)/($AF$4-$S$4)","v":0.8297692307692307},0.81653846153846144,0.80330769230769217,0.7900769230769229,0.77684615384615363,0.76361538461538436,0.75038461538461509,0.73715384615384583,0.72392307692307656,{"$f":"AF143","v":0.7}]
[null,null,"MFP niedrig","fh","MFP niedrig","bis 2025 wie MFP unteres Szenario, danach wie Referenz",null,null,null,null,null,null,null,null,null,null,0.93,0.91300000000000003,0.91500000000000004,0.90200000000000002,0.88300000000000001,0.878,{"$f":"V146-($S146-$AF146)/($AF$4-$S$4)","v":0.8614615384615385},0.844923076923077,0.8283846153846155,0.811846153846154,0.79530769230769249,0.77876923076923099,0.76223076923076949,0.74569230769230799,0.72915384615384649,{"$f":"AF143","v":0.7}]
[null,null,"KNDE 2045","dr","Klimaneutrales Deutschland 2045 (2021)",null,null,null,null,null,null,null,null,null,null,null,null,0.95462530728788553,0.95208129119236395,0.95139136511065636,0.94558261332358073,0.944266989827375,0.92717126109571668,0.92954388951205247,0.92064640956398947,0.90500466050575312,0.90550470528533877,0.89812512109978382,0.89141339687671772,0.88756757133978514,0.87639827932080994,0.8797541958834677]
[]
[]
[]
[]
[]
[]
[]
[]
[]
[]
[]
[]
[]
[]
[]
[]
[]
[]
[]
[]
[]
[null,"PV","Referenz","fh","eigene Berechnung","2021: ÜNB-Umlageberechnung 2020. Werte bis 2025: MFP Referenzszenario 2020, danach lineare Absenkung auf 60%",1.2,1.2,1.046,0.98099999999999998,1.0109999999999999,0.84899999999999998,0.98,0.997,0.95,0.98899999999999999,0.95299999999999996,0.91500000000000004,0.88200000000000001,0.86899999999999999,0.86399999999999999,0.95299999999999996,{"$f":"V169-($S169-$AF169)/($AF$4-$S$4)","v":0.93130769230769228},0.9096153846153846,0.88792307692307693,0.86623076923076925,0.84453846153846157,0.82284615384615389,0.80115384615384622,0.77946153846153854,0.75776923076923086,0.6]
[]
[null,null,"MFP hoch","fh","MFP hoch","bis 2025 wie MFP oberes Szenario, danach wie Referenz",null,null,null,null,null,null,null,null,null,null,0.94299999999999995,0.89200000000000002,0.86,0.85,0.83299999999999996,0.82599999999999996,{"$f":"V171-($S171-$AF171)/($AF$4-$S$4)","v":0.80599999999999994},0.78599999999999992,0.7659999999999999,0.74599999999999989,0.72599999999999987,0.70599999999999985,0.68599999999999983,0.66599999999999981,0.6459999999999998,{"$f":"AF169","v":0.6}]
[null,null,"MFP niedrig","fh","MFP niedrig","bis 2025 wie MFP unteres Szenario, danach wie Referenz",null,null,null,null,null,null,null,null,null,null,0.95599999999999996,0.92900000000000005,0.88600000000000001,0.872,0.871,0.873,{"$f":"V172-($S172-$AF172)/($AF$4-$S$4)","v":0.85099999999999998},0.82899999999999996,0.80699999999999994,0.78499999999999992,0.7629999999999999,0.74099999999999988,0.71899999999999986,0.69699999999999984,0.67499999999999982,{"$f":"AF169","v":0.6}]
[null,null,"KNDE 2045","dr","Klimaneutrales Deutschland 2045 (2021)",null,null,null,null,null,null,null,null,null,null,null,null,0.92657356369690858,0.90825917732216377,0.89715387266137248,0.87284883103460598,0.85359900359051843,0.78652033503542507,0.77016213825362556,0.72753247076882588,0.70335006208482842,0.68215317027059663,0.64767188929302533,0.62461657012356264,0.59414140754784517,0.56528076607483702,0.58317022662459583]

{"sheet":"D-Dauer Goldenes Ende","index":20,"n_rows":182,"n_cols":32,"rows_kept":182,"cut":false,"hidden":true,"merged":[]}
[" ","Dauer \"goldenes Ende\" (Jahre nach Ende der Förderperiode, in denen Anlagen ohne Förderung weiter betrieben werden)"]
[]
[null,null,"Szenario","Bearbeiter","Beschreibung","Kommentar"]
[null,null,null,null,null,null,2010,2011,2012,2013,2014,2015,2016,2017,2018,2019,2020,2021,2022,2023,2024,2025,2026,2027,2028,2029,2030,2031,2032,2033,2034,2035]
[null,null,null,null,null,null,"a","a","a","a","a","a","a","a","a","a","a","a","a","a","a","a","a","a","a","a","a","a","a","a","a","a"]
[null,"Wasser",{"$f":"ControlPanel!E50","v":"Referenz"},{"$f":"VLOOKUP($C$6,$C$13:$AF$37,2,FALSE)","v":"mh"},{"$f":"VLOOKUP($C$6,$C$13:$AF$37,3,FALSE)","v":"keine"},{"$f":"VLOOKUP($C$6,$C$13:$AF$37,4,FALSE)","v":0},{"$f":"IF(G$4<ControlPanel!$D$59,VLOOKUP(\"Referenz\",$C$13:$AF$37,G$4-$G$4+5,FALSE),VLOOKUP($C$6,$C$13:$AF$37,G$4-$G$4+5,FALSE))","v":0},{"$f":"IF(H$4<ControlPanel!$D$59,VLOOKUP(\"Referenz\",$C$13:$AF$37,H$4-$G$4+5,FALSE),VLOOKUP($C$6,$C$13:$AF$37,H$4-$G$4+5,FALSE))","v":0},{"$f":"IF(I$4<ControlPanel!$D$59,VLOOKUP(\"Referenz\",$C$13:$AF$37,I$4-$G$4+5,FALSE),VLOOKUP($C$6,$C$13:$AF$37,I$4-$G$4+5,FALSE))","v":0},{"$f":"IF(J$4<ControlPanel!$D$59,VLOOKUP(\"Referenz\",$C$13:$AF$37,J$4-$G$4+5,FALSE),VLOOKUP($C$6,$C$13:$AF$37,J$4-$G$4+5,FALSE))","v":0},{"$f":"IF(K$4<ControlPanel!$D$59,VLOOKUP(\"Referenz\",$C$13:$AF$37,K$4-$G$4+5,FALSE),VLOOKUP($C$6,$C$13:$AF$37,K$4-$G$4+5,FALSE))","v":0},{"$f":"IF(L$4<ControlPanel!$D$59,VLOOKUP(\"Referenz\",$C$13:$AF$37,L$4-$G$4+5,FALSE),VLOOKUP($C$6,$C$13:$AF$37,L$4-$G$4+5,FALSE))","v":0},{"$f":"IF(M$4<ControlPanel!$D$59,VLOOKUP(\"Referenz\",$C$13:$AF$37,M$4-$G$4+5,FALSE),VLOOKUP($C$6,$C$13:$AF$37,M$4-$G$4+5,FALSE))","v":0},{"$f":"IF(N$4<ControlPanel!$D$59,VLOOKUP(\"Referenz\",$C$13:$AF$37,N$4-$G$4+5,FALSE),VLOOKUP($C$6,$C$13:$AF$37,N$4-$G$4+5,FALSE))","v":0},{"$f":"IF(O$4<ControlPanel!$D$59,VLOOKUP(\"Referenz\",$C$13:$AF$37,O$4-$G$4+5,FALSE),VLOOKUP($C$6,$C$13:$AF$37,O$4-$G$4+5,FALSE))","v":0},{"$f":"IF(P$4<ControlPanel!$D$59,VLOOKUP(\"Referenz\",$C$13:$AF$37,P$4-$G$4+5,FALSE),VLOOKUP($C$6,$C$13:$AF$37,P$4-$G$4+5,FALSE))","v":0},{"$f":"IF(Q$4<ControlPanel!$D$59,VLOOKUP(\"Referenz\",$C$13:$AF$37,Q$4-$G$4+5,FALSE),VLOOKUP($C$6,$C$13:$AF$37,Q$4-$G$4+5,FALSE))","v":0},{"$f":"IF(R$4<ControlPanel!$D$59,VLOOKUP(\"Referenz\",$C$13:$AF$37,R$4-$G$4+5,FALSE),VLOOKUP($C$6,$C$13:$AF$37,R$4-$G$4+5,FALSE))","v":0},{"$f":"IF(S$4<ControlPanel!$D$59,VLOOKUP(\"Referenz\",$C$13:$AF$37,S$4-$G$4+5,FALSE),VLOOKUP($C$6,$C$13:$AF$37,S$4-$G$4+5,FALSE))","v":0},{"$f":"IF(T$4<ControlPanel!$D$59,VLOOKUP(\"Referenz\",$C$13:$AF$37,T$4-$G$4+5,FALSE),VLOOKUP($C$6,$C$13:$AF$37,T$4-$G$4+5,FALSE))","v":0},{"$f":"IF(U$4<ControlPanel!$D$59,VLOOKUP(\"Referenz\",$C$13:$AF$37,U$4-$G$4+5,FALSE),VLOOKUP($C$6,$C$13:$AF$37,U$4-$G$4+5,FALSE))","v":0},{"$f":"IF(V$4<ControlPanel!$D$59,VLOOKUP(\"Referenz\",$C$13:$AF$37,V$4-$G$4+5,FALSE),VLOOKUP($C$6,$C$13:$AF$37,V$4-$G$4+5,FALSE))","v":0},{"$f":"IF(W$4<ControlPanel!$D$59,VLOOKUP(\"Referenz\",$C$13:$AF$37,W$4-$G$4+5,FALSE),VLOOKUP($C$6,$C$13:$AF$37,W$4-$G$4+5,FALSE))","v":0},{"$f":"IF(X$4<ControlPanel!$D$59,VLOOKUP(\"Referenz\",$C$13:$AF$37,X$4-$G$4+5,FALSE),VLOOKUP($C$6,$C$13:$AF$37,X$4-$G$4+5,FALSE))","v":0},{"$f":"IF(Y$4<ControlPanel!$D$59,VLOOKUP(\"Referenz\",$C$13:$AF$37,Y$4-$G$4+5,FALSE),VLOOKUP($C$6,$C$13:$AF$37,Y$4-$G$4+5,FALSE))","v":0},{"$f":"IF(Z$4<ControlPanel!$D$59,VLOOKUP(\"Referenz\",$C$13:$AF$37,Z$4-$G$4+5,FALSE),VLOOKUP($C$6,$C$13:$AF$37,Z$4-$G$4+5,FALSE))","v":0},{"$f":"IF(AA$4<ControlPanel!$D$59,VLOOKUP(\"Referenz\",$C$13:$AF$37,AA$4-$G$4+5,FALSE),VLOOKUP($C$6,$C$13:$AF$37,AA$4-$G$4+5,FALSE))","v":0},{"$f":"IF(AB$4<ControlPanel!$D$59,VLOOKUP(\"Referenz\",$C$13:$AF$37,AB$4-$G$4+5,FALSE),VLOOKUP($C$6,$C$13:$AF$37,AB$4-$G$4+5,FALSE))","v":0},{"$f":"IF(AC$4<ControlPanel!$D$59,VLOOKUP(\"Referenz\",$C$13:$AF$37,AC$4-$G$4+5,FALSE),VLOOKUP($C$6,$C$13:$AF$37,AC$4-$G$4+5,FALSE))","v":0},{"$f":"IF(AD$4<ControlPanel!$D$59,VLOOKUP(\"Referenz\",$C$13:$AF$37,AD$4-$G$4+5,FALSE),VLOOKUP($C$6,$C$13:$AF$37,AD$4-$G$4+5,FALSE))","v":0},{"$f":"IF(AE$4<ControlPanel!$D$59,VLOOKUP(\"Referenz\",$C$13:$AF$37,AE$4-$G$4+5,FALSE),VLOOKUP($C$6,$C$13:$AF$37,AE$4-$G$4+5,FALSE))","v":0},{"$f":"IF(AF$4<ControlPanel!$D$59,VLOOKUP(\"Referenz\",$C$13:$AF$37,AF$4-$G$4+5,FALSE),VLOOKUP($C$6,$C$13:$AF$37,AF$4-$G$4+5,FALSE))","v":0}]
[null,"Gase",{"$f":"ControlPanel!E51","v":"Referenz"},{"$f":"VLOOKUP($C$7,$C$39:$AF$63,2,FALSE)","v":"mh"},{"$f":"VLOOKUP($C$7,$C$39:$AF$63,3,FALSE)","v":"keine"},{"$f":"VLOOKUP($C$7,$C$39:$AF$63,4,FALSE)","v":0},{"$f":"IF(G$4<ControlPanel!$D$59,VLOOKUP(\"Referenz\",$C$39:$AF$63,G$4-$G$4+5,FALSE),VLOOKUP($C$7,$C$39:$AF$63,G$4-$G$4+5,FALSE))","v":0},{"$f":"IF(H$4<ControlPanel!$D$59,VLOOKUP(\"Referenz\",$C$39:$AF$63,H$4-$G$4+5,FALSE),VLOOKUP($C$7,$C$39:$AF$63,H$4-$G$4+5,FALSE))","v":0},{"$f":"IF(I$4<ControlPanel!$D$59,VLOOKUP(\"Referenz\",$C$39:$AF$63,I$4-$G$4+5,FALSE),VLOOKUP($C$7,$C$39:$AF$63,I$4-$G$4+5,FALSE))","v":0},{"$f":"IF(J$4<ControlPanel!$D$59,VLOOKUP(\"Referenz\",$C$39:$AF$63,J$4-$G$4+5,FALSE),VLOOKUP($C$7,$C$39:$AF$63,J$4-$G$4+5,FALSE))","v":0},{"$f":"IF(K$4<ControlPanel!$D$59,VLOOKUP(\"Referenz\",$C$39:$AF$63,K$4-$G$4+5,FALSE),VLOOKUP($C$7,$C$39:$AF$63,K$4-$G$4+5,FALSE))","v":0},{"$f":"IF(L$4<ControlPanel!$D$59,VLOOKUP(\"Referenz\",$C$39:$AF$63,L$4-$G$4+5,FALSE),VLOOKUP($C$7,$C$39:$AF$63,L$4-$G$4+5,FALSE))","v":0},{"$f":"IF(M$4<ControlPanel!$D$59,VLOOKUP(\"Referenz\",$C$39:$AF$63,M$4-$G$4+5,FALSE),VLOOKUP($C$7,$C$39:$AF$63,M$4-$G$4+5,FALSE))","v":0},{"$f":"IF(N$4<ControlPanel!$D$59,VLOOKUP(\"Referenz\",$C$39:$AF$63,N$4-$G$4+5,FALSE),VLOOKUP($C$7,$C$39:$AF$63,N$4-$G$4+5,FALSE))","v":0},{"$f":"IF(O$4<ControlPanel!$D$59,VLOOKUP(\"Referenz\",$C$39:$AF$63,O$4-$G$4+5,FALSE),VLOOKUP($C$7,$C$39:$AF$63,O$4-$G$4+5,FALSE))","v":0},{"$f":"IF(P$4<ControlPanel!$D$59,VLOOKUP(\"Referenz\",$C$39:$AF$63,P$4-$G$4+5,FALSE),VLOOKUP($C$7,$C$39:$AF$63,P$4-$G$4+5,FALSE))","v":0},{"$f":"IF(Q$4<ControlPanel!$D$59,VLOOKUP(\"Referenz\",$C$39:$AF$63,Q$4-$G$4+5,FALSE),VLOOKUP($C$7,$C$39:$AF$63,Q$4-$G$4+5,FALSE))","v":0},{"$f":"IF(R$4<ControlPanel!$D$59,VLOOKUP(\"Referenz\",$C$39:$AF$63,R$4-$G$4+5,FALSE),VLOOKUP($C$7,$C$39:$AF$63,R$4-$G$4+5,FALSE))","v":0},{"$f":"IF(S$4<ControlPanel!$D$59,VLOOKUP(\"Referenz\",$C$39:$AF$63,S$4-$G$4+5,FALSE),VLOOKUP($C$7,$C$39:$AF$63,S$4-$G$4+5,FALSE))","v":0},{"$f":"IF(T$4<ControlPanel!$D$59,VLOOKUP(\"Referenz\",$C$39:$AF$63,T$4-$G$4+5,FALSE),VLOOKUP($C$7,$C$39:$AF$63,T$4-$G$4+5,FALSE))","v":0},{"$f":"IF(U$4<ControlPanel!$D$59,VLOOKUP(\"Referenz\",$C$39:$AF$63,U$4-$G$4+5,FALSE),VLOOKUP($C$7,$C$39:$AF$63,U$4-$G$4+5,FALSE))","v":0},{"$f":"IF(V$4<ControlPanel!$D$59,VLOOKUP(\"Referenz\",$C$39:$AF$63,V$4-$G$4+5,FALSE),VLOOKUP($C$7,$C$39:$AF$63,V$4-$G$4+5,FALSE))","v":0},{"$f":"IF(W$4<ControlPanel!$D$59,VLOOKUP(\"Referenz\",$C$39:$AF$63,W$4-$G$4+5,FALSE),VLOOKUP($C$7,$C$39:$AF$63,W$4-$G$4+5,FALSE))","v":0},{"$f":"IF(X$4<ControlPanel!$D$59,VLOOKUP(\"Referenz\",$C$39:$AF$63,X$4-$G$4+5,FALSE),VLOOKUP($C$7,$C$39:$AF$63,X$4-$G$4+5,FALSE))","v":0},{"$f":"IF(Y$4<ControlPanel!$D$59,VLOOKUP(\"Referenz\",$C$39:$AF$63,Y$4-$G$4+5,FALSE),VLOOKUP($C$7,$C$39:$AF$63,Y$4-$G$4+5,FALSE))","v":0},{"$f":"IF(Z$4<ControlPanel!$D$59,VLOOKUP(\"Referenz\",$C$39:$AF$63,Z$4-$G$4+5,FALSE),VLOOKUP($C$7,$C$39:$AF$63,Z$4-$G$4+5,FALSE))","v":0},{"$f":"IF(AA$4<ControlPanel!$D$59,VLOOKUP(\"Referenz\",$C$39:$AF$63,AA$4-$G$4+5,FALSE),VLOOKUP($C$7,$C$39:$AF$63,AA$4-$G$4+5,FALSE))","v":0},{"$f":"IF(AB$4<ControlPanel!$D$59,VLOOKUP(\"Referenz\",$C$39:$AF$63,AB$4-$G$4+5,FALSE),VLOOKUP($C$7,$C$39:$AF$63,AB$4-$G$4+5,FALSE))","v":0},{"$f":"IF(AC$4<ControlPanel!$D$59,VLOOKUP(\"Referenz\",$C$39:$AF$63,AC$4-$G$4+5,FALSE),VLOOKUP($C$7,$C$39:$AF$63,AC$4-$G$4+5,FALSE))","v":0},{"$f":"IF(AD$4<ControlPanel!$D$59,VLOOKUP(\"Referenz\",$C$39:$AF$63,AD$4-$G$4+5,FALSE),VLOOKUP($C$7,$C$39:$AF$63,AD$4-$G$4+5,FALSE))","v":0},{"$f":"IF(AE$4<ControlPanel!$D$59,VLOOKUP(\"Referenz\",$C$39:$AF$63,AE$4-$G$4+5,FALSE),VLOOKUP($C$7,$C$39:$AF$63,AE$4-$G$4+5,FALSE))","v":0},{"$f":"IF(AF$4<ControlPanel!$D$59,VLOOKUP(\"Referenz\",$C$39:$AF$63,AF$4-$G$4+5,FALSE),VLOOKUP($C$7,$C$39:$AF$63,AF$4-$G$4+5,FALSE))","v":0}]
[null,"Biomasse",{"$f":"ControlPanel!E48","v":"Referenz"},{"$f":"VLOOKUP($C$8,$C$65:$AF$89,2,FALSE)","v":"mh"},{"$f":"VLOOKUP($C$8,$C$65:$AF$89,3,FALSE)","v":"keine"},{"$f":"VLOOKUP($C$8,$C$65:$AF$89,4,FALSE)","v":0},{"$f":"IF(G$4<ControlPanel!$D$59,VLOOKUP(\"Referenz\",$C$65:$AF$89,G$4-$G$4+5,FALSE),VLOOKUP($C$8,$C$65:$AF$89,G$4-$G$4+5,FALSE))","v":0},{"$f":"IF(H$4<ControlPanel!$D$59,VLOOKUP(\"Referenz\",$C$65:$AF$89,H$4-$G$4+5,FALSE),VLOOKUP($C$8,$C$65:$AF$89,H$4-$G$4+5,FALSE))","v":0},{"$f":"IF(I$4<ControlPanel!$D$59,VLOOKUP(\"Referenz\",$C$65:$AF$89,I$4-$G$4+5,FALSE),VLOOKUP($C$8,$C$65:$AF$89,I$4-$G$4+5,FALSE))","v":0},{"$f":"IF(J$4<ControlPanel!$D$59,VLOOKUP(\"Referenz\",$C$65:$AF$89,J$4-$G$4+5,FALSE),VLOOKUP($C$8,$C$65:$AF$89,J$4-$G$4+5,FALSE))","v":0},{"$f":"IF(K$4<ControlPanel!$D$59,VLOOKUP(\"Referenz\",$C$65:$AF$89,K$4-$G$4+5,FALSE),VLOOKUP($C$8,$C$65:$AF$89,K$4-$G$4+5,FALSE))","v":0},{"$f":"IF(L$4<ControlPanel!$D$59,VLOOKUP(\"Referenz\",$C$65:$AF$89,L$4-$G$4+5,FALSE),VLOOKUP($C$8,$C$65:$AF$89,L$4-$G$4+5,FALSE))","v":0},{"$f":"IF(M$4<ControlPanel!$D$59,VLOOKUP(\"Referenz\",$C$65:$AF$89,M$4-$G$4+5,FALSE),VLOOKUP($C$8,$C$65:$AF$89,M$4-$G$4+5,FALSE))","v":0},{"$f":"IF(N$4<ControlPanel!$D$59,VLOOKUP(\"Referenz\",$C$65:$AF$89,N$4-$G$4+5,FALSE),VLOOKUP($C$8,$C$65:$AF$89,N$4-$G$4+5,FALSE))","v":0},{"$f":"IF(O$4<ControlPanel!$D$59,VLOOKUP(\"Referenz\",$C$65:$AF$89,O$4-$G$4+5,FALSE),VLOOKUP($C$8,$C$65:$AF$89,O$4-$G$4+5,FALSE))","v":0},{"$f":"IF(P$4<ControlPanel!$D$59,VLOOKUP(\"Referenz\",$C$65:$AF$89,P$4-$G$4+5,FALSE),VLOOKUP($C$8,$C$65:$AF$89,P$4-$G$4+5,FALSE))","v":0},{"$f":"IF(Q$4<ControlPanel!$D$59,VLOOKUP(\"Referenz\",$C$65:$AF$89,Q$4-$G$4+5,FALSE),VLOOKUP($C$8,$C$65:$AF$89,Q$4-$G$4+5,FALSE))","v":0},{"$f":"IF(R$4<ControlPanel!$D$59,VLOOKUP(\"Referenz\",$C$65:$AF$89,R$4-$G$4+5,FALSE),VLOOKUP($C$8,$C$65:$AF$89,R$4-$G$4+5,FALSE))","v":0},{"$f":"IF(S$4<ControlPanel!$D$59,VLOOKUP(\"Referenz\",$C$65:$AF$89,S$4-$G$4+5,FALSE),VLOOKUP($C$8,$C$65:$AF$89,S$4-$G$4+5,FALSE))","v":0},{"$f":"IF(T$4<ControlPanel!$D$59,VLOOKUP(\"Referenz\",$C$65:$AF$89,T$4-$G$4+5,FALSE),VLOOKUP($C$8,$C$65:$AF$89,T$4-$G$4+5,FALSE))","v":0},{"$f":"IF(U$4<ControlPanel!$D$59,VLOOKUP(\"Referenz\",$C$65:$AF$89,U$4-$G$4+5,FALSE),VLOOKUP($C$8,$C$65:$AF$89,U$4-$G$4+5,FALSE))","v":0},{"$f":"IF(V$4<ControlPanel!$D$59,VLOOKUP(\"Referenz\",$C$65:$AF$89,V$4-$G$4+5,FALSE),VLOOKUP($C$8,$C$65:$AF$89,V$4-$G$4+5,FALSE))","v":0},{"$f":"IF(W$4<ControlPanel!$D$59,VLOOKUP(\"Referenz\",$C$65:$AF$89,W$4-$G$4+5,FALSE),VLOOKUP($C$8,$C$65:$AF$89,W$4-$G$4+5,FALSE))","v":0},{"$f":"IF(X$4<ControlPanel!$D$59,VLOOKUP(\"Referenz\",$C$65:$AF$89,X$4-$G$4+5,FALSE),VLOOKUP($C$8,$C$65:$AF$89,X$4-$G$4+5,FALSE))","v":0},{"$f":"IF(Y$4<ControlPanel!$D$59,VLOOKUP(\"Referenz\",$C$65:$AF$89,Y$4-$G$4+5,FALSE),VLOOKUP($C$8,$C$65:$AF$89,Y$4-$G$4+5,FALSE))","v":0},{"$f":"IF(Z$4<ControlPanel!$D$59,VLOOKUP(\"Referenz\",$C$65:$AF$89,Z$4-$G$4+5,FALSE),VLOOKUP($C$8,$C$65:$AF$89,Z$4-$G$4+5,FALSE))","v":0},{"$f":"IF(AA$4<ControlPanel!$D$59,VLOOKUP(\"Referenz\",$C$65:$AF$89,AA$4-$G$4+5,FALSE),VLOOKUP($C$8,$C$65:$AF$89,AA$4-$G$4+5,FALSE))","v":0},{"$f":"IF(AB$4<ControlPanel!$D$59,VLOOKUP(\"Referenz\",$C$65:$AF$89,AB$4-$G$4+5,FALSE),VLOOKUP($C$8,$C$65:$AF$89,AB$4-$G$4+5,FALSE))","v":0},{"$f":"IF(AC$4<ControlPanel!$D$59,VLOOKUP(\"Referenz\",$C$65:$AF$89,AC$4-$G$4+5,FALSE),VLOOKUP($C$8,$C$65:$AF$89,AC$4-$G$4+5,FALSE))","v":0},{"$f":"IF(AD$4<ControlPanel!$D$59,VLOOKUP(\"Referenz\",$C$65:$AF$89,AD$4-$G$4+5,FALSE),VLOOKUP($C$8,$C$65:$AF$89,AD$4-$G$4+5,FALSE))","v":0},{"$f":"IF(AE$4<ControlPanel!$D$59,VLOOKUP(\"Referenz\",$C$65:$AF$89,AE$4-$G$4+5,FALSE),VLOOKUP($C$8,$C$65:$AF$89,AE$4-$G$4+5,FALSE))","v":0},{"$f":"IF(AF$4<ControlPanel!$D$59,VLOOKUP(\"Referenz\",$C$65:$AF$89,AF$4-$G$4+5,FALSE),VLOOKUP($C$8,$C$65:$AF$89,AF$4-$G$4+5,FALSE))","v":0}]
[null,"Geothermie",{"$f":"ControlPanel!E49","v":"Referenz"},{"$f":"VLOOKUP($C$9,$C$91:$AF$115,2,FALSE)","v":"mh"},{"$f":"VLOOKUP($C$9,$C$91:$AF$115,3,FALSE)","v":"keine"},{"$f":"VLOOKUP($C$9,$C$91:$AF$115,4,FALSE)","v":0},{"$f":"IF(G$4<ControlPanel!$D$59,VLOOKUP(\"Referenz\",$C$91:$AF$115,G$4-$G$4+5,FALSE),VLOOKUP($C$9,$C$91:$AF$115,G$4-$G$4+5,FALSE))","v":0},{"$f":"IF(H$4<ControlPanel!$D$59,VLOOKUP(\"Referenz\",$C$91:$AF$115,H$4-$G$4+5,FALSE),VLOOKUP($C$9,$C$91:$AF$115,H$4-$G$4+5,FALSE))","v":0},{"$f":"IF(I$4<ControlPanel!$D$59,VLOOKUP(\"Referenz\",$C$91:$AF$115,I$4-$G$4+5,FALSE),VLOOKUP($C$9,$C$91:$AF$115,I$4-$G$4+5,FALSE))","v":0},{"$f":"IF(J$4<ControlPanel!$D$59,VLOOKUP(\"Referenz\",$C$91:$AF$115,J$4-$G$4+5,FALSE),VLOOKUP($C$9,$C$91:$AF$115,J$4-$G$4+5,FALSE))","v":0},{"$f":"IF(K$4<ControlPanel!$D$59,VLOOKUP(\"Referenz\",$C$91:$AF$115,K$4-$G$4+5,FALSE),VLOOKUP($C$9,$C$91:$AF$115,K$4-$G$4+5,FALSE))","v":0},{"$f":"IF(L$4<ControlPanel!$D$59,VLOOKUP(\"Referenz\",$C$91:$AF$115,L$4-$G$4+5,FALSE),VLOOKUP($C$9,$C$91:$AF$115,L$4-$G$4+5,FALSE))","v":0},{"$f":"IF(M$4<ControlPanel!$D$59,VLOOKUP(\"Referenz\",$C$91:$AF$115,M$4-$G$4+5,FALSE),VLOOKUP($C$9,$C$91:$AF$115,M$4-$G$4+5,FALSE))","v":0},{"$f":"IF(N$4<ControlPanel!$D$59,VLOOKUP(\"Referenz\",$C$91:$AF$115,N$4-$G$4+5,FALSE),VLOOKUP($C$9,$C$91:$AF$115,N$4-$G$4+5,FALSE))","v":0},{"$f":"IF(O$4<ControlPanel!$D$59,VLOOKUP(\"Referenz\",$C$91:$AF$115,O$4-$G$4+5,FALSE),VLOOKUP($C$9,$C$91:$AF$115,O$4-$G$4+5,FALSE))","v":0},{"$f":"IF(P$4<ControlPanel!$D$59,VLOOKUP(\"Referenz\",$C$91:$AF$115,P$4-$G$4+5,FALSE),VLOOKUP($C$9,$C$91:$AF$115,P$4-$G$4+5,FALSE))","v":0},{"$f":"IF(Q$4<ControlPanel!$D$59,VLOOKUP(\"Referenz\",$C$91:$AF$115,Q$4-$G$4+5,FALSE),VLOOKUP($C$9,$C$91:$AF$115,Q$4-$G$4+5,FALSE))","v":0},{"$f":"IF(R$4<ControlPanel!$D$59,VLOOKUP(\"Referenz\",$C$91:$AF$115,R$4-$G$4+5,FALSE),VLOOKUP($C$9,$C$91:$AF$115,R$4-$G$4+5,FALSE))","v":0},{"$f":"IF(S$4<ControlPanel!$D$59,VLOOKUP(\"Referenz\",$C$91:$AF$115,S$4-$G$4+5,FALSE),VLOOKUP($C$9,$C$91:$AF$115,S$4-$G$4+5,FALSE))","v":0},{"$f":"IF(T$4<ControlPanel!$D$59,VLOOKUP(\"Referenz\",$C$91:$AF$115,T$4-$G$4+5,FALSE),VLOOKUP($C$9,$C$91:$AF$115,T$4-$G$4+5,FALSE))","v":0},{"$f":"IF(U$4<ControlPanel!$D$59,VLOOKUP(\"Referenz\",$C$91:$AF$115,U$4-$G$4+5,FALSE),VLOOKUP($C$9,$C$91:$AF$115,U$4-$G$4+5,FALSE))","v":0},{"$f":"IF(V$4<ControlPanel!$D$59,VLOOKUP(\"Referenz\",$C$91:$AF$115,V$4-$G$4+5,FALSE),VLOOKUP($C$9,$C$91:$AF$115,V$4-$G$4+5,FALSE))","v":0},{"$f":"IF(W$4<ControlPanel!$D$59,VLOOKUP(\"Referenz\",$C$91:$AF$115,W$4-$G$4+5,FALSE),VLOOKUP($C$9,$C$91:$AF$115,W$4-$G$4+5,FALSE))","v":0},{"$f":"IF(X$4<ControlPanel!$D$59,VLOOKUP(\"Referenz\",$C$91:$AF$115,X$4-$G$4+5,FALSE),VLOOKUP($C$9,$C$91:$AF$115,X$4-$G$4+5,FALSE))","v":0},{"$f":"IF(Y$4<ControlPanel!$D$59,VLOOKUP(\"Referenz\",$C$91:$AF$115,Y$4-$G$4+5,FALSE),VLOOKUP($C$9,$C$91:$AF$115,Y$4-$G$4+5,FALSE))","v":0},{"$f":"IF(Z$4<ControlPanel!$D$59,VLOOKUP(\"Referenz\",$C$91:$AF$115,Z$4-$G$4+5,FALSE),VLOOKUP($C$9,$C$91:$AF$115,Z$4-$G$4+5,FALSE))","v":0},{"$f":"IF(AA$4<ControlPanel!$D$59,VLOOKUP(\"Referenz\",$C$91:$AF$115,AA$4-$G$4+5,FALSE),VLOOKUP($C$9,$C$91:$AF$115,AA$4-$G$4+5,FALSE))","v":0},{"$f":"IF(AB$4<ControlPanel!$D$59,VLOOKUP(\"Referenz\",$C$91:$AF$115,AB$4-$G$4+5,FALSE),VLOOKUP($C$9,$C$91:$AF$115,AB$4-$G$4+5,FALSE))","v":0},{"$f":"IF(AC$4<ControlPanel!$D$59,VLOOKUP(\"Referenz\",$C$91:$AF$115,AC$4-$G$4+5,FALSE),VLOOKUP($C$9,$C$91:$AF$115,AC$4-$G$4+5,FALSE))","v":0},{"$f":"IF(AD$4<ControlPanel!$D$59,VLOOKUP(\"Referenz\",$C$91:$AF$115,AD$4-$G$4+5,FALSE),VLOOKUP($C$9,$C$91:$AF$115,AD$4-$G$4+5,FALSE))","v":0},{"$f":"IF(AE$4<ControlPanel!$D$59,VLOOKUP(\"Referenz\",$C$91:$AF$115,AE$4-$G$4+5,FALSE),VLOOKUP($C$9,$C$91:$AF$115,AE$4-$G$4+5,FALSE))","v":0},{"$f":"IF(AF$4<ControlPanel!$D$59,VLOOKUP(\"Referenz\",$C$91:$AF$115,AF$4-$G$4+5,FALSE),VLOOKUP($C$9,$C$91:$AF$115,AF$4-$G$4+5,FALSE))","v":0}]
[null,"Wind Onshore",{"$f":"ControlPanel!E45","v":"Referenz"},{"$f":"VLOOKUP($C$10,$C$117:$AF$141,2,FALSE)","v":"mh"},{"$f":"VLOOKUP($C$10,$C$117:$AF$141,3,FALSE)","v":"5 Jahre"},{"$f":"VLOOKUP($C$10,$C$117:$AF$141,4,FALSE)","v":0},{"$f":"IF(G$4<ControlPanel!$D$59,VLOOKUP(\"Referenz\",$C$117:$AF$141,G$4-$G$4+5,FALSE),VLOOKUP($C$10,$C$117:$AF$141,G$4-$G$4+5,FALSE))","v":0},{"$f":"IF(H$4<ControlPanel!$D$59,VLOOKUP(\"Referenz\",$C$117:$AF$141,H$4-$G$4+5,FALSE),VLOOKUP($C$10,$C$117:$AF$141,H$4-$G$4+5,FALSE))","v":0},{"$f":"IF(I$4<ControlPanel!$D$59,VLOOKUP(\"Referenz\",$C$117:$AF$141,I$4-$G$4+5,FALSE),VLOOKUP($C$10,$C$117:$AF$141,I$4-$G$4+5,FALSE))","v":0},{"$f":"IF(J$4<ControlPanel!$D$59,VLOOKUP(\"Referenz\",$C$117:$AF$141,J$4-$G$4+5,FALSE),VLOOKUP($C$10,$C$117:$AF$141,J$4-$G$4+5,FALSE))","v":0},{"$f":"IF(K$4<ControlPanel!$D$59,VLOOKUP(\"Referenz\",$C$117:$AF$141,K$4-$G$4+5,FALSE),VLOOKUP($C$10,$C$117:$AF$141,K$4-$G$4+5,FALSE))","v":0},{"$f":"IF(L$4<ControlPanel!$D$59,VLOOKUP(\"Referenz\",$C$117:$AF$141,L$4-$G$4+5,FALSE),VLOOKUP($C$10,$C$117:$AF$141,L$4-$G$4+5,FALSE))","v":0},{"$f":"IF(M$4<ControlPanel!$D$59,VLOOKUP(\"Referenz\",$C$117:$AF$141,M$4-$G$4+5,FALSE),VLOOKUP($C$10,$C$117:$AF$141,M$4-$G$4+5,FALSE))","v":0},{"$f":"IF(N$4<ControlPanel!$D$59,VLOOKUP(\"Referenz\",$C$117:$AF$141,N$4-$G$4+5,FALSE),VLOOKUP($C$10,$C$117:$AF$141,N$4-$G$4+5,FALSE))","v":0},{"$f":"IF(O$4<ControlPanel!$D$59,VLOOKUP(\"Referenz\",$C$117:$AF$141,O$4-$G$4+5,FALSE),VLOOKUP($C$10,$C$117:$AF$141,O$4-$G$4+5,FALSE))","v":0},{"$f":"IF(P$4<ControlPanel!$D$59,VLOOKUP(\"Referenz\",$C$117:$AF$141,P$4-$G$4+5,FALSE),VLOOKUP($C$10,$C$117:$AF$141,P$4-$G$4+5,FALSE))","v":0},{"$f":"IF(Q$4<ControlPanel!$D$59,VLOOKUP(\"Referenz\",$C$117:$AF$141,Q$4-$G$4+5,FALSE),VLOOKUP($C$10,$C$117:$AF$141,Q$4-$G$4+5,FALSE))","v":1},{"$f":"IF(R$4<ControlPanel!$D$59,VLOOKUP(\"Referenz\",$C$117:$AF$141,R$4-$G$4+5,FALSE),VLOOKUP($C$10,$C$117:$AF$141,R$4-$G$4+5,FALSE))","v":1},{"$f":"IF(S$4<ControlPanel!$D$59,VLOOKUP(\"Referenz\",$C$117:$AF$141,S$4-$G$4+5,FALSE),VLOOKUP($C$10,$C$117:$AF$141,S$4-$G$4+5,FALSE))","v":5},{"$f":"IF(T$4<ControlPanel!$D$59,VLOOKUP(\"Referenz\",$C$117:$AF$141,T$4-$G$4+5,FALSE),VLOOKUP($C$10,$C$117:$AF$141,T$4-$G$4+5,FALSE))","v":5},{"$f":"IF(U$4<ControlPanel!$D$59,VLOOKUP(\"Referenz\",$C$117:$AF$141,U$4-$G$4+5,FALSE),VLOOKUP($C$10,$C$117:$AF$141,U$4-$G$4+5,FALSE))","v":5},{"$f":"IF(V$4<ControlPanel!$D$59,VLOOKUP(\"Referenz\",$C$117:$AF$141,V$4-$G$4+5,FALSE),VLOOKUP($C$10,$C$117:$AF$141,V$4-$G$4+5,FALSE))","v":5},{"$f":"IF(W$4<ControlPanel!$D$59,VLOOKUP(\"Referenz\",$C$117:$AF$141,W$4-$G$4+5,FALSE),VLOOKUP($C$10,$C$117:$AF$141,W$4-$G$4+5,FALSE))","v":5},{"$f":"IF(X$4<ControlPanel!$D$59,VLOOKUP(\"Referenz\",$C$117:$AF$141,X$4-$G$4+5,FALSE),VLOOKUP($C$10,$C$117:$AF$141,X$4-$G$4+5,FALSE))","v":5},{"$f":"IF(Y$4<ControlPanel!$D$59,VLOOKUP(\"Referenz\",$C$117:$AF$141,Y$4-$G$4+5,FALSE),VLOOKUP($C$10,$C$117:$AF$141,Y$4-$G$4+5,FALSE))","v":5},{"$f":"IF(Z$4<ControlPanel!$D$59,VLOOKUP(\"Referenz\",$C$117:$AF$141,Z$4-$G$4+5,FALSE),VLOOKUP($C$10,$C$117:$AF$141,Z$4-$G$4+5,FALSE))","v":5},{"$f":"IF(AA$4<ControlPanel!$D$59,VLOOKUP(\"Referenz\",$C$117:$AF$141,AA$4-$G$4+5,FALSE),VLOOKUP($C$10,$C$117:$AF$141,AA$4-$G$4+5,FALSE))","v":5},{"$f":"IF(AB$4<ControlPanel!$D$59,VLOOKUP(\"Referenz\",$C$117:$AF$141,AB$4-$G$4+5,FALSE),VLOOKUP($C$10,$C$117:$AF$141,AB$4-$G$4+5,FALSE))","v":5},{"$f":"IF(AC$4<ControlPanel!$D$59,VLOOKUP(\"Referenz\",$C$117:$AF$141,AC$4-$G$4+5,FALSE),VLOOKUP($C$10,$C$117:$AF$141,AC$4-$G$4+5,FALSE))","v":5},{"$f":"IF(AD$4<ControlPanel!$D$59,VLOOKUP(\"Referenz\",$C$117:$AF$141,AD$4-$G$4+5,FALSE),VLOOKUP($C$10,$C$117:$AF$141,AD$4-$G$4+5,FALSE))","v":5},{"$f":"IF(AE$4<ControlPanel!$D$59,VLOOKUP(\"Referenz\",$C$117:$AF$141,AE$4-$G$4+5,FALSE),VLOOKUP($C$10,$C$117:$AF$141,AE$4-$G$4+5,FALSE))","v":5},{"$f":"IF(AF$4<ControlPanel!$D$59,VLOOKUP(\"Referenz\",$C$117:$AF$141,AF$4-$G$4+5,FALSE),VLOOKUP($C$10,$C$117:$AF$141,AF$4-$G$4+5,FALSE))","v":5}]
[null,"Wind Offshore",{"$f":"ControlPanel!E46","v":"Referenz"},{"$f":"VLOOKUP($C$11,$C$143:$AF$167,2,FALSE)","v":"mh"},{"$f":"VLOOKUP($C$11,$C$143:$AF$167,3,FALSE)","v":"keine"},{"$f":"VLOOKUP($C$11,$C$143:$AF$167,4,FALSE)","v":0},{"$f":"IF(G$4<ControlPanel!$D$59,VLOOKUP(\"Referenz\",$C$143:$AF$167,G$4-$G$4+5,FALSE),VLOOKUP($C$11,$C$143:$AF$167,G$4-$G$4+5,FALSE))","v":0},{"$f":"IF(H$4<ControlPanel!$D$59,VLOOKUP(\"Referenz\",$C$143:$AF$167,H$4-$G$4+5,FALSE),VLOOKUP($C$11,$C$143:$AF$167,H$4-$G$4+5,FALSE))","v":0},{"$f":"IF(I$4<ControlPanel!$D$59,VLOOKUP(\"Referenz\",$C$143:$AF$167,I$4-$G$4+5,FALSE),VLOOKUP($C$11,$C$143:$AF$167,I$4-$G$4+5,FALSE))","v":0},{"$f":"IF(J$4<ControlPanel!$D$59,VLOOKUP(\"Referenz\",$C$143:$AF$167,J$4-$G$4+5,FALSE),VLOOKUP($C$11,$C$143:$AF$167,J$4-$G$4+5,FALSE))","v":0},{"$f":"IF(K$4<ControlPanel!$D$59,VLOOKUP(\"Referenz\",$C$143:$AF$167,K$4-$G$4+5,FALSE),VLOOKUP($C$11,$C$143:$AF$167,K$4-$G$4+5,FALSE))","v":0},{"$f":"IF(L$4<ControlPanel!$D$59,VLOOKUP(\"Referenz\",$C$143:$AF$167,L$4-$G$4+5,FALSE),VLOOKUP($C$11,$C$143:$AF$167,L$4-$G$4+5,FALSE))","v":0},{"$f":"IF(M$4<ControlPanel!$D$59,VLOOKUP(\"Referenz\",$C$143:$AF$167,M$4-$G$4+5,FALSE),VLOOKUP($C$11,$C$143:$AF$167,M$4-$G$4+5,FALSE))","v":0},{"$f":"IF(N$4<ControlPanel!$D$59,VLOOKUP(\"Referenz\",$C$143:$AF$167,N$4-$G$4+5,FALSE),VLOOKUP($C$11,$C$143:$AF$167,N$4-$G$4+5,FALSE))","v":0},{"$f":"IF(O$4<ControlPanel!$D$59,VLOOKUP(\"Referenz\",$C$143:$AF$167,O$4-$G$4+5,FALSE),VLOOKUP($C$11,$C$143:$AF$167,O$4-$G$4+5,FALSE))","v":0},{"$f":"IF(P$4<ControlPanel!$D$59,VLOOKUP(\"Referenz\",$C$143:$AF$167,P$4-$G$4+5,FALSE),VLOOKUP($C$11,$C$143:$AF$167,P$4-$G$4+5,FALSE))","v":0},{"$f":"IF(Q$4<ControlPanel!$D$59,VLOOKUP(\"Referenz\",$C$143:$AF$167,Q$4-$G$4+5,FALSE),VLOOKUP($C$11,$C$143:$AF$167,Q$4-$G$4+5,FALSE))","v":0},{"$f":"IF(R$4<ControlPanel!$D$59,VLOOKUP(\"Referenz\",$C$143:$AF$167,R$4-$G$4+5,FALSE),VLOOKUP($C$11,$C$143:$AF$167,R$4-$G$4+5,FALSE))","v":0},{"$f":"IF(S$4<ControlPanel!$D$59,VLOOKUP(\"Referenz\",$C$143:$AF$167,S$4-$G$4+5,FALSE),VLOOKUP($C$11,$C$143:$AF$167,S$4-$G$4+5,FALSE))","v":0},{"$f":"IF(T$4<ControlPanel!$D$59,VLOOKUP(\"Referenz\",$C$143:$AF$167,T$4-$G$4+5,FALSE),VLOOKUP($C$11,$C$143:$AF$167,T$4-$G$4+5,FALSE))","v":0},{"$f":"IF(U$4<ControlPanel!$D$59,VLOOKUP(\"Referenz\",$C$143:$AF$167,U$4-$G$4+5,FALSE),VLOOKUP($C$11,$C$143:$AF$167,U$4-$G$4+5,FALSE))","v":0},{"$f":"IF(V$4<ControlPanel!$D$59,VLOOKUP(\"Referenz\",$C$143:$AF$167,V$4-$G$4+5,FALSE),VLOOKUP($C$11,$C$143:$AF$167,V$4-$G$4+5,FALSE))","v":0},{"$f":"IF(W$4<ControlPanel!$D$59,VLOOKUP(\"Referenz\",$C$143:$AF$167,W$4-$G$4+5,FALSE),VLOOKUP($C$11,$C$143:$AF$167,W$4-$G$4+5,FALSE))","v":0},{"$f":"IF(X$4<ControlPanel!$D$59,VLOOKUP(\"Referenz\",$C$143:$AF$167,X$4-$G$4+5,FALSE),VLOOKUP($C$11,$C$143:$AF$167,X$4-$G$4+5,FALSE))","v":0},{"$f":"IF(Y$4<ControlPanel!$D$59,VLOOKUP(\"Referenz\",$C$143:$AF$167,Y$4-$G$4+5,FALSE),VLOOKUP($C$11,$C$143:$AF$167,Y$4-$G$4+5,FALSE))","v":0},{"$f":"IF(Z$4<ControlPanel!$D$59,VLOOKUP(\"Referenz\",$C$143:$AF$167,Z$4-$G$4+5,FALSE),VLOOKUP($C$11,$C$143:$AF$167,Z$4-$G$4+5,FALSE))","v":0},{"$f":"IF(AA$4<ControlPanel!$D$59,VLOOKUP(\"Referenz\",$C$143:$AF$167,AA$4-$G$4+5,FALSE),VLOOKUP($C$11,$C$143:$AF$167,AA$4-$G$4+5,FALSE))","v":0},{"$f":"IF(AB$4<ControlPanel!$D$59,VLOOKUP(\"Referenz\",$C$143:$AF$167,AB$4-$G$4+5,FALSE),VLOOKUP($C$11,$C$143:$AF$167,AB$4-$G$4+5,FALSE))","v":0},{"$f":"IF(AC$4<ControlPanel!$D$59,VLOOKUP(\"Referenz\",$C$143:$AF$167,AC$4-$G$4+5,FALSE),VLOOKUP($C$11,$C$143:$AF$167,AC$4-$G$4+5,FALSE))","v":0},{"$f":"IF(AD$4<ControlPanel!$D$59,VLOOKUP(\"Referenz\",$C$143:$AF$167,AD$4-$G$4+5,FALSE),VLOOKUP($C$11,$C$143:$AF$167,AD$4-$G$4+5,FALSE))","v":0},{"$f":"IF(AE$4<ControlPanel!$D$59,VLOOKUP(\"Referenz\",$C$143:$AF$167,AE$4-$G$4+5,FALSE),VLOOKUP($C$11,$C$143:$AF$167,AE$4-$G$4+5,FALSE))","v":0},{"$f":"IF(AF$4<ControlPanel!$D$59,VLOOKUP(\"Referenz\",$C$143:$AF$167,AF$4-$G$4+5,FALSE),VLOOKUP($C$11,$C$143:$AF$167,AF$4-$G$4+5,FALSE))","v":0}]
[null,"PV",{"$f":"ControlPanel!E47","v":"Referenz"},{"$f":"VLOOKUP($C$12,$C$169:$AF$193,2,FALSE)","v":"mh"},{"$f":"VLOOKUP($C$12,$C$169:$AF$193,3,FALSE)","v":"5 Jahre"},{"$f":"VLOOKUP($C$12,$C$169:$AF$193,4,FALSE)","v":0},{"$f":"IF(G$4<ControlPanel!$D$59,VLOOKUP(\"Referenz\",$C$169:$AF$193,G$4-$G$4+5,FALSE),VLOOKUP($C$12,$C$169:$AF$193,G$4-$G$4+5,FALSE))","v":0},{"$f":"IF(H$4<ControlPanel!$D$59,VLOOKUP(\"Referenz\",$C$169:$AF$193,H$4-$G$4+5,FALSE),VLOOKUP($C$12,$C$169:$AF$193,H$4-$G$4+5,FALSE))","v":0},{"$f":"IF(I$4<ControlPanel!$D$59,VLOOKUP(\"Referenz\",$C$169:$AF$193,I$4-$G$4+5,FALSE),VLOOKUP($C$12,$C$169:$AF$193,I$4-$G$4+5,FALSE))","v":0},{"$f":"IF(J$4<ControlPanel!$D$59,VLOOKUP(\"Referenz\",$C$169:$AF$193,J$4-$G$4+5,FALSE),VLOOKUP($C$12,$C$169:$AF$193,J$4-$G$4+5,FALSE))","v":0},{"$f":"IF(K$4<ControlPanel!$D$59,VLOOKUP(\"Referenz\",$C$169:$AF$193,K$4-$G$4+5,FALSE),VLOOKUP($C$12,$C$169:$AF$193,K$4-$G$4+5,FALSE))","v":0},{"$f":"IF(L$4<ControlPanel!$D$59,VLOOKUP(\"Referenz\",$C$169:$AF$193,L$4-$G$4+5,FALSE),VLOOKUP($C$12,$C$169:$AF$193,L$4-$G$4+5,FALSE))","v":5},{"$f":"IF(M$4<ControlPanel!$D$59,VLOOKUP(\"Referenz\",$C$169:$AF$193,M$4-$G$4+5,FALSE),VLOOKUP($C$12,$C$169:$AF$193,M$4-$G$4+5,FALSE))","v":5},{"$f":"IF(N$4<ControlPanel!$D$59,VLOOKUP(\"Referenz\",$C$169:$AF$193,N$4-$G$4+5,FALSE),VLOOKUP($C$12,$C$169:$AF$193,N$4-$G$4+5,FALSE))","v":5},{"$f":"IF(O$4<ControlPanel!$D$59,VLOOKUP(\"Referenz\",$C$169:$AF$193,O$4-$G$4+5,FALSE),VLOOKUP($C$12,$C$169:$AF$193,O$4-$G$4+5,FALSE))","v":5},{"$f":"IF(P$4<ControlPanel!$D$59,VLOOKUP(\"Referenz\",$C$169:$AF$193,P$4-$G$4+5,FALSE),VLOOKUP($C$12,$C$169:$AF$193,P$4-$G$4+5,FALSE))","v":5},{"$f":"IF(Q$4<ControlPanel!$D$59,VLOOKUP(\"Referenz\",$C$169:$AF$193,Q$4-$G$4+5,FALSE),VLOOKUP($C$12,$C$169:$AF$193,Q$4-$G$4+5,FALSE))","v":5},{"$f":"IF(R$4<ControlPanel!$D$59,VLOOKUP(\"Referenz\",$C$169:$AF$193,R$4-$G$4+5,FALSE),VLOOKUP($C$12,$C$169:$AF$193,R$4-$G$4+5,FALSE))","v":5},{"$f":"IF(S$4<ControlPanel!$D$59,VLOOKUP(\"Referenz\",$C$169:$AF$193,S$4-$G$4+5,FALSE),VLOOKUP($C$12,$C$169:$AF$193,S$4-$G$4+5,FALSE))","v":5},{"$f":"IF(T$4<ControlPanel!$D$59,VLOOKUP(\"Referenz\",$C$169:$AF$193,T$4-$G$4+5,FALSE),VLOOKUP($C$12,$C$169:$AF$193,T$4-$G$4+5,FALSE))","v":5},{"$f":"IF(U$4<ControlPanel!$D$59,VLOOKUP(\"Referenz\",$C$169:$AF$193,U$4-$G$4+5,FALSE),VLOOKUP($C$12,$C$169:$AF$193,U$4-$G$4+5,FALSE))","v":5},{"$f":"IF(V$4<ControlPanel!$D$59,VLOOKUP(\"Referenz\",$C$169:$AF$193,V$4-$G$4+5,FALSE),VLOOKUP($C$12,$C$169:$AF$193,V$4-$G$4+5,FALSE))","v":5},{"$f":"IF(W$4<ControlPanel!$D$59,VLOOKUP(\"Referenz\",$C$169:$AF$193,W$4-$G$4+5,FALSE),VLOOKUP($C$12,$C$169:$AF$193,W$4-$G$4+5,FALSE))","v":5},{"$f":"IF(X$4<ControlPanel!$D$59,VLOOKUP(\"Referenz\",$C$169:$AF$193,X$4-$G$4+5,FALSE),VLOOKUP($C$12,$C$169:$AF$193,X$4-$G$4+5,FALSE))","v":5},{"$f":"IF(Y$4<ControlPanel!$D$59,VLOOKUP(\"Referenz\",$C$169:$AF$193,Y$4-$G$4+5,FALSE),VLOOKUP($C$12,$C$169:$AF$193,Y$4-$G$4+5,FALSE))","v":5},{"$f":"IF(Z$4<ControlPanel!$D$59,VLOOKUP(\"Referenz\",$C$169:$AF$193,Z$4-$G$4+5,FALSE),VLOOKUP($C$12,$C$169:$AF$193,Z$4-$G$4+5,FALSE))","v":5},{"$f":"IF(AA$4<ControlPanel!$D$59,VLOOKUP(\"Referenz\",$C$169:$AF$193,AA$4-$G$4+5,FALSE),VLOOKUP($C$12,$C$169:$AF$193,AA$4-$G$4+5,FALSE))","v":5},{"$f":"IF(AB$4<ControlPanel!$D$59,VLOOKUP(\"Referenz\",$C$169:$AF$193,AB$4-$G$4+5,FALSE),VLOOKUP($C$12,$C$169:$AF$193,AB$4-$G$4+5,FALSE))","v":5},{"$f":"IF(AC$4<ControlPanel!$D$59,VLOOKUP(\"Referenz\",$C$169:$AF$193,AC$4-$G$4+5,FALSE),VLOOKUP($C$12,$C$169:$AF$193,AC$4-$G$4+5,FALSE))","v":5},{"$f":"IF(AD$4<ControlPanel!$D$59,VLOOKUP(\"Referenz\",$C$169:$AF$193,AD$4-$G$4+5,FALSE),VLOOKUP($C$12,$C$169:$AF$193,AD$4-$G$4+5,FALSE))","v":5},{"$f":"IF(AE$4<ControlPanel!$D$59,VLOOKUP(\"Referenz\",$C$169:$AF$193,AE$4-$G$4+5,FALSE),VLOOKUP($C$12,$C$169:$AF$193,AE$4-$G$4+5,FALSE))","v":5},{"$f":"IF(AF$4<ControlPanel!$D$59,VLOOKUP(\"Referenz\",$C$169:$AF$193,AF$4-$G$4+5,FALSE),VLOOKUP($C$12,$C$169:$AF$193,AF$4-$G$4+5,FALSE))","v":5}]
[null,"Wasser","Referenz","mh","keine",null,0,0,0,0,0,0,0,0,0,0,0,0,0,0,0,0,0,0,0,0,0,0,0,0,0,0]
[null,null,"keine","mh","keine",null,null,null,null,null,null,0,0,0,0,0,0,0,0,0,0,0,0,0,0,0,0,0,0,0,0,0]
[null,null,"1 Jahr","mh","1 Jahr",null,null,null,null,null,null,1,1,1,1,1,1,1,1,1,1,1,1,1,1,1,1,1,1,1,1,1]
[null,null,"2 Jahre","mh","2 Jahre",null,null,null,null,null,null,null,null,null,null,null,2,2,2,2,2,2,2,2,2,2,2,2,2,2,2,2]
[null,null,"3 Jahre","mh","3 Jahre",null,null,null,null,null,null,null,null,null,null,null,3,3,3,3,3,3,3,3,3,3,3,3,3,3,3,3]
[null,null,"4 Jahre","mh","4 Jahre",null,null,null,null,null,null,null,null,null,null,null,4,4,4,4,4,4,4,4,4,4,4,4,4,4,4,4]
[null,null,"5 Jahre","mh","5 Jahre",null,null,null,null,null,null,null,null,null,null,null,5,5,5,5,5,5,5,5,5,5,5,5,5,5,5,5]
[null,null,"6 Jahre","mh","6 Jahre",null,null,null,null,null,null,null,null,null,null,null,6,6,6,6,6,6,6,6,6,6,6,6,6,6,6,6]
[null,null,"7 Jahre","mh","7 Jahre",null,null,null,null,null,null,null,null,null,null,null,7,7,7,7,7,7,7,7,7,7,7,7,7,7,7,7]
[null,null,"8 Jahre","mh","8 Jahre",null,null,null,null,null,null,null,null,null,null,null,8,8,8,8,8,8,8,8,8,8,8,8,8,8,8,8]
[null,null,"9 Jahre","mh","9 Jahre",null,null,null,null,null,null,null,null,null,null,null,9,9,9,9,9,9,9,9,9,9,9,9,9,9,9,9]
[null,null,"10 Jahre","mh","10 Jahre",null,null,null,null,null,null,null,null,null,null,null,10,10,10,10,10,10,10,10,10,10,10,10,10,10,10,10]
[]
[]
[]
[]
[]
[]
[]
[]
[]
[]
[]
[]
[]
[]
[null,"Gase","Referenz","mh","keine",null,0,0,0,0,0,0,0,0,0,0,0,0,0,0,0,0,0,0,0,0,0,0,0,0,0,0]
[null,null,"keine","mh","keine",null,null,null,null,null,null,0,0,0,0,0,0,0,0,0,0,0,0,0,0,0,0,0,0,0,0,0]
[null,null,"1 Jahr","mh","1 Jahr",null,null,null,null,null,null,1,1,1,1,1,1,1,1,1,1,1,1,1,1,1,1,1,1,1,1,1]
[null,null,"2 Jahre","mh","2 Jahre",null,null,null,null,null,null,null,null,null,null,null,2,2,2,2,2,2,2,2,2,2,2,2,2,2,2,2]
[null,null,"3 Jahre","mh","3 Jahre",null,null,null,null,null,null,null,null,null,null,null,3,3,3,3,3,3,3,3,3,3,3,3,3,3,3,3]
[null,null,"4 Jahre","mh","4 Jahre",null,null,null,null,null,null,null,null,null,null,null,4,4,4,4,4,4,4,4,4,4,4,4,4,4,4,4]
[null,null,"5 Jahre","mh","5 Jahre",null,null,null,null,null,null,null,null,null,null,null,5,5,5,5,5,5,5,5,5,5,5,5,5,5,5,5]
[null,null,"6 Jahre","mh","6 Jahre",null,null,null,null,null,null,null,null,null,null,null,6,6,6,6,6,6,6,6,6,6,6,6,6,6,6,6]
[null,null,"7 Jahre","mh","7 Jahre",null,null,null,null,null,null,null,null,null,null,null,7,7,7,7,7,7,7,7,7,7,7,7,7,7,7,7]
[null,null,"8 Jahre","mh","8 Jahre",null,null,null,null,null,null,null,null,null,null,null,8,8,8,8,8,8,8,8,8,8,8,8,8,8,8,8]
[null,null,"9 Jahre","mh","9 Jahre",null,null,null,null,null,null,null,null,null,null,null,9,9,9,9,9,9,9,9,9,9,9,9,9,9,9,9]
[null,null,"10 Jahre","mh","10 Jahre",null,null,null,null,null,null,null,null,null,null,null,10,10,10,10,10,10,10,10,10,10,10,10,10,10,10,10]
[]
[]
[]
[]
[]
[]
[]
[]
[]
[]
[]
[]
[]
[]
[null,"Biomasse","Referenz","mh","keine",null,0,0,0,0,0,0,0,0,0,0,0,0,0,0,0,0,0,0,0,0,0,0,0,0,0,0]
[null,null,"keine","mh","keine",null,null,null,null,null,null,0,0,0,0,0,0,0,0,0,0,0,0,0,0,0,0,0,0,0,0,0]
[null,null,"1 Jahr","mh","1 Jahr",null,null,null,null,null,null,1,1,1,1,1,1,1,1,1,1,1,1,1,1,1,1,1,1,1,1,1]
[null,null,"2 Jahre","mh","2 Jahre",null,null,null,null,null,null,null,null,null,null,null,2,2,2,2,2,2,2,2,2,2,2,2,2,2,2,2]
[null,null,"3 Jahre","mh","3 Jahre",null,null,null,null,null,null,null,null,null,null,null,3,3,3,3,3,3,3,3,3,3,3,3,3,3,3,3]
[null,null,"4 Jahre","mh","4 Jahre",null,null,null,null,null,null,null,null,null,null,null,4,4,4,4,4,4,4,4,4,4,4,4,4,4,4,4]
[null,null,"5 Jahre","mh","5 Jahre",null,null,null,null,null,null,null,null,null,null,null,5,5,5,5,5,5,5,5,5,5,5,5,5,5,5,5]
[null,null,"6 Jahre","mh","6 Jahre",null,null,null,null,null,null,null,null,null,null,null,6,6,6,6,6,6,6,6,6,6,6,6,6,6,6,6]
[null,null,"7 Jahre","mh","7 Jahre",null,null,null,null,null,null,null,null,null,null,null,7,7,7,7,7,7,7,7,7,7,7,7,7,7,7,7]
[null,null,"8 Jahre","mh","8 Jahre",null,null,null,null,null,null,null,null,null,null,null,8,8,8,8,8,8,8,8,8,8,8,8,8,8,8,8]
[null,null,"9 Jahre","mh","9 Jahre",null,null,null,null,null,null,null,null,null,null,null,9,9,9,9,9,9,9,9,9,9,9,9,9,9,9,9]
[null,null,"10 Jahre","mh","10 Jahre",null,null,null,null,null,null,null,null,null,null,null,10,10,10,10,10,10,10,10,10,10,10,10,10,10,10,10]
[]
[]
[]
[]
[]
[]
[]
[]
[]
[]
[]
[]
[]
[]
[null,"Geothermie","Referenz","mh","keine",null,0,0,0,0,0,0,0,0,0,0,0,0,0,0,0,0,0,0,0,0,0,0,0,0,0,0]
[null,null,"keine","mh","keine",null,null,null,null,null,null,0,0,0,0,0,0,0,0,0,0,0,0,0,0,0,0,0,0,0,0,0]
[null,null,"1 Jahr","mh","1 Jahr",null,null,null,null,null,null,1,1,1,1,1,1,1,1,1,1,1,1,1,1,1,1,1,1,1,1,1]
[null,null,"2 Jahre","mh","2 Jahre",null,null,null,null,null,null,null,null,null,null,null,2,2,2,2,2,2,2,2,2,2,2,2,2,2,2,2]
[null,null,"3 Jahre","mh","3 Jahre",null,null,null,null,null,null,null,null,null,null,null,3,3,3,3,3,3,3,3,3,3,3,3,3,3,3,3]
[null,null,"4 Jahre","mh","4 Jahre",null,null,null,null,null,null,null,null,null,null,null,4,4,4,4,4,4,4,4,4,4,4,4,4,4,4,4]
[null,null,"5 Jahre","mh","5 Jahre",null,null,null,null,null,null,null,null,null,null,null,5,5,5,5,5,5,5,5,5,5,5,5,5,5,5,5]
[null,null,"6 Jahre","mh","6 Jahre",null,null,null,null,null,null,null,null,null,null,null,6,6,6,6,6,6,6,6,6,6,6,6,6,6,6,6]
[null,null,"7 Jahre","mh","7 Jahre",null,null,null,null,null,null,null,null,null,null,null,7,7,7,7,7,7,7,7,7,7,7,7,7,7,7,7]
[null,null,"8 Jahre","mh","8 Jahre",null,null,null,null,null,null,null,null,null,null,null,8,8,8,8,8,8,8,8,8,8,8,8,8,8,8,8]
[null,null,"9 Jahre","mh","9 Jahre",null,null,null,null,null,null,null,null,null,null,null,9,9,9,9,9,9,9,9,9,9,9,9,9,9,9,9]
[null,null,"10 Jahre","mh","10 Jahre",null,null,null,null,null,null,null,null,null,null,null,10,10,10,10,10,10,10,10,10,10,10,10,10,10,10,10]
[]
[]
[]
[]
[]
[]
[]
[]
[]
[]
[]
[]
[]
[]
[null,"Wind Onshore","Referenz","mh","5 Jahre",null,0,0,0,0,0,0,0,0,0,0,1,1,5,{"$f":"S117","v":5},5,5,5,5,5,5,5,5,5,5,5,5]
[null,null,"keine","mh","keine",null,null,null,null,null,null,0,0,0,0,0,0,0,0,0,0,0,0,0,0,0,0,0,0,0,0,0]
[null,null,"1 Jahr","mh","1 Jahr",null,null,null,null,null,null,1,1,1,1,1,1,1,1,1,1,1,1,1,1,1,1,1,1,1,1,1]
[null,null,"2 Jahre","mh","2 Jahre",null,null,null,null,null,null,null,null,null,null,null,2,2,2,2,2,2,2,2,2,2,2,2,2,2,2,2]
[null,null,"3 Jahre","mh","3 Jahre",null,null,null,null,null,null,null,null,null,null,null,3,3,3,3,3,3,3,3,3,3,3,3,3,3,3,3]
[null,null,"4 Jahre","mh","4 Jahre",null,null,null,null,null,null,null,null,null,null,null,4,4,4,4,4,4,4,4,4,4,4,4,4,4,4,4]
[null,null,"5 Jahre","mh","5 Jahre",null,null,null,null,null,null,null,null,null,null,null,5,5,5,5,5,5,5,5,5,5,5,5,5,5,5,5]
[null,null,"6 Jahre","mh","6 Jahre",null,null,null,null,null,null,null,null,null,null,null,6,6,6,6,6,6,6,6,6,6,6,6,6,6,6,6]
[null,null,"7 Jahre","mh","7 Jahre",null,null,null,null,null,null,null,null,null,null,null,7,7,7,7,7,7,7,7,7,7,7,7,7,7,7,7]
[null,null,"8 Jahre","mh","8 Jahre",null,null,null,null,null,null,null,null,null,null,null,8,8,8,8,8,8,8,8,8,8,8,8,8,8,8,8]
[null,null,"9 Jahre","mh","9 Jahre",null,null,null,null,null,null,null,null,null,null,null,9,9,9,9,9,9,9,9,9,9,9,9,9,9,9,9]
[null,null,"10 Jahre","mh","10 Jahre",null,null,null,null,null,null,null,null,null,null,null,10,10,10,10,10,10,10,10,10,10,10,10,10,10,10,10]
[]
[null,null,"65% EE bis 2030","as/pl","5 Jahe",null,null,null,null,null,null,null,null,null,null,null,{"$f":"Q123","v":5},5,5,5,5,5,5,5,5,5,5,5,5,5,5,5]
[null,null,"EEG 2021","dr, cl","angepasst auf Zielleistungen aus EEG 2021",null,null,null,null,null,null,null,null,null,null,null,null,null,2,{"$f":"S131","v":2},{"$f":"T131","v":2},2,2,2,2,2,2,2,2,2,2,2]
[null,null,"KNDE 2045","cl","3 Jahre",null,null,null,null,null,null,null,null,null,null,null,1,1,3,3,{"$f":"T132","v":3},3,3,3,3,3,3,3,3,3,3,3]
[]
[]
[]
[]
[]
[]
[]
[]
[]
[]
[null,"Wind Offshore","Referenz","mh","keine",null,0,0,0,0,0,0,0,0,0,0,0,0,0,0,0,0,0,0,0,0,0,0,0,0,0,0]
[null,null,"keine","mh","keine",null,null,null,null,null,null,0,0,0,0,0,0,0,0,0,0,0,0,0,0,0,0,0,0,0,0,0]
[null,null,"1 Jahr","mh","1 Jahr",null,null,null,null,null,null,1,1,1,1,1,1,1,1,1,1,1,1,1,1,1,1,1,1,1,1,1]
[null,null,"2 Jahre","mh","2 Jahre",null,null,null,null,null,null,null,null,null,null,null,2,2,2,2,2,2,2,2,2,2,2,2,2,2,2,2]
[null,null,"3 Jahre","mh","3 Jahre",null,null,null,null,null,null,null,null,null,null,null,3,3,3,3,3,3,3,3,3,3,3,3,3,3,3,3]
[null,null,"4 Jahre","mh","4 Jahre",null,null,null,null,null,null,null,null,null,null,null,4,4,4,4,4,4,4,4,4,4,4,4,4,4,4,4]
[null,null,"5 Jahre","mh","5 Jahre",null,null,null,null,null,null,null,null,null,null,null,5,5,5,5,5,5,5,5,5,5,5,5,5,5,5,5]
[null,null,"6 Jahre","mh","6 Jahre",null,null,null,null,null,null,null,null,null,null,null,6,6,6,6,6,6,6,6,6,6,6,6,6,6,6,6]
[null,null,"7 Jahre","mh","7 Jahre",null,null,null,null,null,null,null,null,null,null,null,7,7,7,7,7,7,7,7,7,7,7,7,7,7,7,7]
[null,null,"8 Jahre","mh","8 Jahre",null,null,null,null,null,null,null,null,null,null,null,8,8,8,8,8,8,8,8,8,8,8,8,8,8,8,8]
[null,null,"9 Jahre","mh","9 Jahre",null,null,null,null,null,null,null,null,null,null,null,9,9,9,9,9,9,9,9,9,9,9,9,9,9,9,9]
[null,null,"10 Jahre","mh","10 Jahre",null,null,null,null,null,null,null,null,null,null,null,10,10,10,10,10,10,10,10,10,10,10,10,10,10,10,10]
[]
[]
[]
[]
[]
[]
[]
[]
[]
[]
[]
[]
[]
[]
[null,"PV","Referenz","mh","5 Jahre",null,null,null,null,null,null,5,5,5,5,5,5,5,5,5,5,5,5,5,5,5,5,5,5,5,5,5]
[null,null,"keine","mh","keine",null,null,null,null,null,null,0,0,0,0,0,0,0,0,0,0,0,0,0,0,0,0,0,0,0,0,0]
[null,null,"1 Jahr","mh","1 Jahr",null,null,null,null,null,null,1,1,1,1,1,1,1,1,1,1,1,1,1,1,1,1,1,1,1,1,1]
[null,null,"2 Jahre","mh","2 Jahre",null,null,null,null,null,null,null,null,null,null,null,2,2,2,2,2,2,2,2,2,2,2,2,2,2,2,2]
[null,null,"3 Jahre","mh","3 Jahre",null,null,null,null,null,null,null,null,null,null,null,3,3,3,3,3,3,3,3,3,3,3,3,3,3,3,3]
[null,null,"4 Jahre","mh","4 Jahre",null,null,null,null,null,null,null,null,null,null,null,4,4,4,4,4,4,4,4,4,4,4,4,4,4,4,4]
[null,null,"5 Jahre","mh","5 Jahre",null,null,null,null,null,null,null,null,null,null,null,5,5,5,5,5,5,5,5,5,5,5,5,5,5,5,5]
[null,null,"6 Jahre","mh","6 Jahre",null,null,null,null,null,null,null,null,null,null,null,6,6,6,6,6,6,6,6,6,6,6,6,6,6,6,6]
[null,null,"7 Jahre","mh","7 Jahre",null,null,null,null,null,null,null,null,null,null,null,7,7,7,7,7,7,7,7,7,7,7,7,7,7,7,7]
[null,null,"8 Jahre","mh","8 Jahre",null,null,null,null,null,null,null,null,null,null,null,8,8,8,8,8,8,8,8,8,8,8,8,8,8,8,8]
[null,null,"9 Jahre","mh","9 Jahre",null,null,null,null,null,null,null,null,null,null,null,9,9,9,9,9,9,9,9,9,9,9,9,9,9,9,9]
[null,null,"10 Jahre","mh","10 Jahre",null,null,null,null,null,null,null,null,null,null,null,10,10,10,10,10,10,10,10,10,10,10,10,10,10,10,10]
[]
[null,null,"EEG 2021","fh","3 Jahre","angepasst an die zu erreichenden Kapazitäten und Strommengen",null,null,null,null,null,null,null,null,null,null,3,3,3,3,3,3,3,3,3,3,3,3,3,3,3,3]

{"sheet":"D-Future Strompreis","index":21,"n_rows":16,"n_cols":31,"rows_kept":16,"cut":false,"hidden":true,"merged":[]}
[" ","Future Strompreis"]
[]
[null,"Szenario","Bearbeiter","Beschreibung","Kommentar"]
[null,null,null,null,null,2010,2011,2012,2013,2014,2015,2016,2017,2018,2019,2020,2021,2022,2023,2024,2025,2026,2027,2028,2029,2030,2031,2032,2033,2034,2035]
[null,null,null,null,null,"Euro/MWh","Euro/MWh","Euro/MWh","Euro/MWh","Euro/MWh","Euro/MWh","Euro/MWh","Euro/MWh","Euro/MWh","Euro/MWh","Euro/MWh","Euro/MWh","Euro/MWh","Euro/MWh","Euro/MWh","Euro/MWh","Euro/MWh","Euro/MWh","Euro/MWh","Euro/MWh","Euro/MWh","Euro/MWh","Euro/MWh","Euro/MWh","Euro/MWh","Euro/MWh"]
[null,{"$f":"ControlPanel!L19","v":"Referenz"},{"$f":"VLOOKUP($B$6,$B$7:$AE$25,2,FALSE)","v":"fh"},{"$f":"VLOOKUP($B$6,$B$7:$AE$25,3,FALSE)","v":"4,9 -> 6,5 ct/kWh"},{"$f":"VLOOKUP($B$6,$B$7:$AE$25,4,FALSE)","v":"2021: Referenzpreis aus 2020, 2022-2023 Futurepreise aus 07/2021, ab 2024 linear ansteigend auf 65 €/MWh in 2035"},{"$f":"IF(F$4<ControlPanel!$D$59,VLOOKUP(\"Referenz\",$B$7:$AE$25,F$4-$F$4+5,FALSE),VLOOKUP($B$6,$B$7:$AE$25,F$4-$F$4+5,FALSE))","v":53.650480000000002},{"$f":"IF(G$4<ControlPanel!$D$59,VLOOKUP(\"Referenz\",$B$7:$AE$25,G$4-$F$4+5,FALSE),VLOOKUP($B$6,$B$7:$AE$25,G$4-$F$4+5,FALSE))","v":50.739089999999997},{"$f":"IF(H$4<ControlPanel!$D$59,VLOOKUP(\"Referenz\",$B$7:$AE$25,H$4-$F$4+5,FALSE),VLOOKUP($B$6,$B$7:$AE$25,H$4-$F$4+5,FALSE))","v":55.22},{"$f":"IF(I$4<ControlPanel!$D$59,VLOOKUP(\"Referenz\",$B$7:$AE$25,I$4-$F$4+5,FALSE),VLOOKUP($B$6,$B$7:$AE$25,I$4-$F$4+5,FALSE))","v":51.15},{"$f":"IF(J$4<ControlPanel!$D$59,VLOOKUP(\"Referenz\",$B$7:$AE$25,J$4-$F$4+5,FALSE),VLOOKUP($B$6,$B$7:$AE$25,J$4-$F$4+5,FALSE))","v":41.45},{"$f":"IF(K$4<ControlPanel!$D$59,VLOOKUP(\"Referenz\",$B$7:$AE$25,K$4-$F$4+5,FALSE),VLOOKUP($B$6,$B$7:$AE$25,K$4-$F$4+5,FALSE))","v":35.67},{"$f":"IF(L$4<ControlPanel!$D$59,VLOOKUP(\"Referenz\",$B$7:$AE$25,L$4-$F$4+5,FALSE),VLOOKUP($B$6,$B$7:$AE$25,L$4-$F$4+5,FALSE))","v":31.26},{"$f":"IF(M$4<ControlPanel!$D$59,VLOOKUP(\"Referenz\",$B$7:$AE$25,M$4-$F$4+5,FALSE),VLOOKUP($B$6,$B$7:$AE$25,M$4-$F$4+5,FALSE))","v":26.75},{"$f":"IF(N$4<ControlPanel!$D$59,VLOOKUP(\"Referenz\",$B$7:$AE$25,N$4-$F$4+5,FALSE),VLOOKUP($B$6,$B$7:$AE$25,N$4-$F$4+5,FALSE))","v":32.22},{"$f":"IF(O$4<ControlPanel!$D$59,VLOOKUP(\"Referenz\",$B$7:$AE$25,O$4-$F$4+5,FALSE),VLOOKUP($B$6,$B$7:$AE$25,O$4-$F$4+5,FALSE))","v":46.28},{"$f":"IF(P$4<ControlPanel!$D$59,VLOOKUP(\"Referenz\",$B$7:$AE$25,P$4-$F$4+5,FALSE),VLOOKUP($B$6,$B$7:$AE$25,P$4-$F$4+5,FALSE))","v":49.34},{"$f":"IF(Q$4<ControlPanel!$D$59,VLOOKUP(\"Referenz\",$B$7:$AE$25,Q$4-$F$4+5,FALSE),VLOOKUP($B$6,$B$7:$AE$25,Q$4-$F$4+5,FALSE))","v":40.74},{"$f":"IF(R$4<ControlPanel!$D$59,VLOOKUP(\"Referenz\",$B$7:$AE$25,R$4-$F$4+5,FALSE),VLOOKUP($B$6,$B$7:$AE$25,R$4-$F$4+5,FALSE))","v":71.44},{"$f":"IF(S$4<ControlPanel!$D$59,VLOOKUP(\"Referenz\",$B$7:$AE$25,S$4-$F$4+5,FALSE),VLOOKUP($B$6,$B$7:$AE$25,S$4-$F$4+5,FALSE))","v":63.35},{"$f":"IF(T$4<ControlPanel!$D$59,VLOOKUP(\"Referenz\",$B$7:$AE$25,T$4-$F$4+5,FALSE),VLOOKUP($B$6,$B$7:$AE$25,T$4-$F$4+5,FALSE))","v":63.487500000000004},{"$f":"IF(U$4<ControlPanel!$D$59,VLOOKUP(\"Referenz\",$B$7:$AE$25,U$4-$F$4+5,FALSE),VLOOKUP($B$6,$B$7:$AE$25,U$4-$F$4+5,FALSE))","v":63.625},{"$f":"IF(V$4<ControlPanel!$D$59,VLOOKUP(\"Referenz\",$B$7:$AE$25,V$4-$F$4+5,FALSE),VLOOKUP($B$6,$B$7:$AE$25,V$4-$F$4+5,FALSE))","v":63.762500000000003},{"$f":"IF(W$4<ControlPanel!$D$59,VLOOKUP(\"Referenz\",$B$7:$AE$25,W$4-$F$4+5,FALSE),VLOOKUP($B$6,$B$7:$AE$25,W$4-$F$4+5,FALSE))","v":63.9},{"$f":"IF(X$4<ControlPanel!$D$59,VLOOKUP(\"Referenz\",$B$7:$AE$25,X$4-$F$4+5,FALSE),VLOOKUP($B$6,$B$7:$AE$25,X$4-$F$4+5,FALSE))","v":64.037499999999994},{"$f":"IF(Y$4<ControlPanel!$D$59,VLOOKUP(\"Referenz\",$B$7:$AE$25,Y$4-$F$4+5,FALSE),VLOOKUP($B$6,$B$7:$AE$25,Y$4-$F$4+5,FALSE))","v":64.174999999999997},{"$f":"IF(Z$4<ControlPanel!$D$59,VLOOKUP(\"Referenz\",$B$7:$AE$25,Z$4-$F$4+5,FALSE),VLOOKUP($B$6,$B$7:$AE$25,Z$4-$F$4+5,FALSE))","v":64.3125},{"$f":"IF(AA$4<ControlPanel!$D$59,VLOOKUP(\"Referenz\",$B$7:$AE$25,AA$4-$F$4+5,FALSE),VLOOKUP($B$6,$B$7:$AE$25,AA$4-$F$4+5,FALSE))","v":64.45},{"$f":"IF(AB$4<ControlPanel!$D$59,VLOOKUP(\"Referenz\",$B$7:$AE$25,AB$4-$F$4+5,FALSE),VLOOKUP($B$6,$B$7:$AE$25,AB$4-$F$4+5,FALSE))","v":64.587500000000006},{"$f":"IF(AC$4<ControlPanel!$D$59,VLOOKUP(\"Referenz\",$B$7:$AE$25,AC$4-$F$4+5,FALSE),VLOOKUP($B$6,$B$7:$AE$25,AC$4-$F$4+5,FALSE))","v":64.724999999999994},{"$f":"IF(AD$4<ControlPanel!$D$59,VLOOKUP(\"Referenz\",$B$7:$AE$25,AD$4-$F$4+5,FALSE),VLOOKUP($B$6,$B$7:$AE$25,AD$4-$F$4+5,FALSE))","v":64.862499999999997},{"$f":"IF(AE$4<ControlPanel!$D$59,VLOOKUP(\"Referenz\",$B$7:$AE$25,AE$4-$F$4+5,FALSE),VLOOKUP($B$6,$B$7:$AE$25,AE$4-$F$4+5,FALSE))","v":65}]
[null,"Referenz","fh",{"$f":"TEXT(P7/10,\"##,0\")&\" -> \"&TEXT(AE7/10,\"##,0\")&\" ct/kWh\"","v":"4,9 -> 6,5 ct/kWh"},"2021: Referenzpreis aus 2020, 2022-2023 Futurepreise aus 07/2021, ab 2024 linear ansteigend auf 65 €/MWh in 2035",53.650480000000002,50.739089999999997,55.22,51.15,41.45,35.67,31.26,26.75,32.22,46.28,49.34,40.74,71.44,63.35,{"$f":"$S7+($AE7-$S7)*(T$4-$S$4)/($AE$4-$S$4)","v":63.487500000000004},{"$f":"$S7+($AE7-$S7)*(U$4-$S$4)/($AE$4-$S$4)","v":63.625},63.762500000000003,63.9,64.037499999999994,64.174999999999997,64.3125,64.45,64.587500000000006,64.724999999999994,64.862499999999997,65]
[null,"sehr niedrig","fh",{"$f":"TEXT(P8/10,\"##,0\")&\" -> \"&TEXT(AE8/10,\"##,0\")&\" ct/kWh\"","v":"4,9 -> 6,2 ct/kWh"},"Konstant heutiger Wert (nominal bei einer Inflationsrate von 1,5%)",null,null,null,null,null,null,null,null,null,null,49.34,{"$f":"P8*1.015","v":50.080100000000002},{"$f":"Q8*1.015","v":50.831301499999995},{"$f":"R8*1.015","v":51.593771022499993},52.367677587837491,53.153192751655048,53.950490642929871,54.759748002573815,55.581144222612416,56.414861385951596,57.261084306740862,58.120000571341969,58.991800579912095,59.876677588610768,60.774827752439926,61.686450168726516]
[null,"niedrig","fh",{"$f":"TEXT(P9/10,\"##,0\")&\" -> \"&TEXT(AE9/10,\"##,0\")&\" ct/kWh\"","v":"4,9 -> 4,9 ct/kWh"},"Konstant heutiger Wert (real)",null,null,null,null,null,null,null,null,null,null,49.34,49.34,49.34,49.34,49.34,49.34,49.34,49.34,49.34,49.34,49.34,49.34,49.34,49.34,49.34,49.34]
[null,"mittel","fh","4,9 -> 5,5 ct/kWh",{"$f":"\"Anstieg auf \"&TEXT(AE10,\"##\")&\" €/MWh\"","v":"Anstieg auf 55 €/MWh"},null,null,null,null,null,null,null,null,null,null,49.34,{"$f":"P10+($AE10-$O7)/($AE$4-$O$4)","v":49.885000000000005},{"$f":"Q10+($AE10-$O7)/($AE$4-$O$4)","v":50.430000000000007},50.975000000000009,51.52000000000001,52.065000000000012,52.610000000000014,53.155000000000015,53.700000000000017,54.245000000000019,54.79000000000002,55.335000000000022,55.880000000000024,56.425000000000026,56.970000000000027,55]
[null,"hoch","fh","4,9 -> 6,5 ct/kWh",{"$f":"\"Anstieg auf \"&TEXT(AE11,\"##\")&\" €/MWh\"","v":"Anstieg auf 65 €/MWh"},null,null,null,null,null,null,null,null,null,null,49.34,{"$f":"P11+($AE11-$O7)/($AE$4-$O$4)","v":50.510000000000005},{"$f":"Q11+($AE11-$O7)/($AE$4-$O$4)","v":51.680000000000007},52.850000000000009,54.02000000000001,55.190000000000012,56.360000000000014,57.530000000000015,58.700000000000017,59.870000000000019,61.04000000000002,62.210000000000022,63.380000000000024,64.550000000000026,65.720000000000027,65]
[null,"Referenz alt","mh",{"$f":"TEXT(O12/10,\"##,0\")&\" -> \"&TEXT(AE12/10,\"##,0\")&\" ct/kWh\"","v":"4,6 -> 5,0 ct/kWh"},"2019: 42 €/MWh (Mittelwert PBYF 16.6.18- 15.9.18)\ndanach linearer Anstieg auf 50€/MWh in 2035 (entspricht Agora 2018: Stromnetze für 65 Prozent Erneuerbare bis 2030)",53.650480000000002,50.739089999999997,55.22,51.15,41.45,35.67,31.26,26.75,32.22,46.28,{"$f":"$O12+($AE12-$O12)*(P$4-$O$4)/($AE$4-$O$4)","v":46.512500000000003},{"$f":"$O12+($AE12-$O12)*(Q$4-$O$4)/($AE$4-$O$4)","v":46.745000000000005},{"$f":"$O12+($AE12-$O12)*(R$4-$O$4)/($AE$4-$O$4)","v":46.977499999999999},47.21,{"$f":"$O12+($AE12-$O12)*(T$4-$O$4)/($AE$4-$O$4)","v":47.442500000000003},47.674999999999997,47.907499999999999,48.14,48.372500000000002,48.605000000000004,48.837499999999999,49.07,49.302500000000002,49.534999999999997,{"$f":"$O12+($AE12-$O12)*(AD$4-$O$4)/($AE$4-$O$4)","v":49.767499999999998},50]
[null,"KNDE 2045","dr","Klimaneutrales Deutschland 2045 (2021)","Preise in Anlehnung an KNDE",null,null,null,null,null,null,null,null,null,null,37.521841125801302,56.6,52.304500000000004,52.328499999999998,{"$f":"$S13+($AE13-$S13)*(T$4-$S$4)/($AE$4-$S$4)","v":53.801124999999999},{"$f":"$S13+($AE13-$S13)*(U$4-$S$4)/($AE$4-$S$4)","v":55.27375},56.746375,58.219000000000001,59.691625000000002,61.164249999999996,62.636874999999996,64.109499999999997,65.582125000000005,67.054749999999999,68.527375000000006,70]
[null,"Futures 2021","cl","45 €/MWh 2021,52 €/MWh 2022, danach zwischen 49 und 52 €/MWh","Bis 2027 basierend auf PBYF, danach extrapoliert anhand CO2-Preisannahmen",null,null,null,null,null,null,null,null,null,null,null,45,52.304500000000004,52.328499999999998,49.795500000000011,48.726499999999994,48.994500000000002,49.393000000000001,49.770249999999997,50.147750000000002,50.529050000000005,50.910350000000008,51.291650000000011,51.672950000000014,52.054250000000017,52.435550000000021]
[null,"3* Future",null,null,null,null,null,null,null,null,null,null,null,null,null,null,null,{"$f":"3*R14","v":156.9135},{"$f":"3*S14","v":156.9855},149.38650000000004,146.17949999999999,146.98349999999999,148.179,149.31074999999998,150.44325000000001,151.58715000000001,152.73105000000004,153.87495000000004,155.01885000000004,156.16275000000005,157.30665000000005]
[null,"Hoch 2035",null,null,null,null,null,null,null,null,null,null,null,null,null,null,null,{"$f":"R14","v":52.304500000000004},{"$f":"S14","v":52.328499999999998},49.795500000000011,48.726499999999994,48.994500000000002,49.393000000000001,49.770249999999997,50.147750000000002,50.529050000000005,50.910350000000008,51.291650000000011,51.672950000000014,52.054250000000017,200]

{"sheet":"D-Liquiditätspuffer","index":22,"n_rows":18,"n_cols":31,"rows_kept":18,"cut":false,"hidden":true,"merged":[]}
[" ","Liquiditätspuffer"]
[]
[null,"Szenario","Bearbeiter","Beschreibung","Kommentar"]
[null,null,null,null,null,2010,2011,2012,2013,2014,2015,2016,2017,2018,2019,2020,2021,2022,2023,2024,2025,2026,2027,2028,2029,2030,2031,2032,2033,2034,2035]
[null,null,null,null,null,"none","none","none","none","none","none","none","none","none","none","none","none","none","none","none","none","none","none","none","none","none","none","none","none","none","none"]
[null,{"$f":"ControlPanel!L20","v":"Referenz"},{"$f":"VLOOKUP($B$6,$B$7:$AE$25,2,FALSE)","v":"fh"},{"$f":"VLOOKUP($B$6,$B$7:$AE$25,3,FALSE)","v":"ÜNB-Umlageberechnungen, danach 6%"},{"$f":"VLOOKUP($B$6,$B$7:$AE$25,4,FALSE)","v":"bis 2020: ÜNB-Jahresprognosen,\ndanach: 6%"},{"$f":"IF(F$4<ControlPanel!$D$59,VLOOKUP(\"Referenz\",$B$7:$AE$25,F$4-$F$4+5,FALSE),VLOOKUP($B$6,$B$7:$AE$25,F$4-$F$4+5,FALSE))","v":0},{"$f":"IF(G$4<ControlPanel!$D$59,VLOOKUP(\"Referenz\",$B$7:$AE$25,G$4-$F$4+5,FALSE),VLOOKUP($B$6,$B$7:$AE$25,G$4-$F$4+5,FALSE))","v":0},{"$f":"IF(H$4<ControlPanel!$D$59,VLOOKUP(\"Referenz\",$B$7:$AE$25,H$4-$F$4+5,FALSE),VLOOKUP($B$6,$B$7:$AE$25,H$4-$F$4+5,FALSE))","v":0.03},{"$f":"IF(I$4<ControlPanel!$D$59,VLOOKUP(\"Referenz\",$B$7:$AE$25,I$4-$F$4+5,FALSE),VLOOKUP($B$6,$B$7:$AE$25,I$4-$F$4+5,FALSE))","v":0.1},{"$f":"IF(J$4<ControlPanel!$D$59,VLOOKUP(\"Referenz\",$B$7:$AE$25,J$4-$F$4+5,FALSE),VLOOKUP($B$6,$B$7:$AE$25,J$4-$F$4+5,FALSE))","v":0.1},{"$f":"IF(K$4<ControlPanel!$D$59,VLOOKUP(\"Referenz\",$B$7:$AE$25,K$4-$F$4+5,FALSE),VLOOKUP($B$6,$B$7:$AE$25,K$4-$F$4+5,FALSE))","v":0.1},{"$f":"IF(L$4<ControlPanel!$D$59,VLOOKUP(\"Referenz\",$B$7:$AE$25,L$4-$F$4+5,FALSE),VLOOKUP($B$6,$B$7:$AE$25,L$4-$F$4+5,FALSE))","v":0.1},{"$f":"IF(M$4<ControlPanel!$D$59,VLOOKUP(\"Referenz\",$B$7:$AE$25,M$4-$F$4+5,FALSE),VLOOKUP($B$6,$B$7:$AE$25,M$4-$F$4+5,FALSE))","v":0.06},{"$f":"IF(N$4<ControlPanel!$D$59,VLOOKUP(\"Referenz\",$B$7:$AE$25,N$4-$F$4+5,FALSE),VLOOKUP($B$6,$B$7:$AE$25,N$4-$F$4+5,FALSE))","v":0.06},{"$f":"IF(O$4<ControlPanel!$D$59,VLOOKUP(\"Referenz\",$B$7:$AE$25,O$4-$F$4+5,FALSE),VLOOKUP($B$6,$B$7:$AE$25,O$4-$F$4+5,FALSE))","v":0.06},{"$f":"IF(P$4<ControlPanel!$D$59,VLOOKUP(\"Referenz\",$B$7:$AE$25,P$4-$F$4+5,FALSE),VLOOKUP($B$6,$B$7:$AE$25,P$4-$F$4+5,FALSE))","v":0.08},{"$f":"IF(Q$4<ControlPanel!$D$59,VLOOKUP(\"Referenz\",$B$7:$AE$25,Q$4-$F$4+5,FALSE),VLOOKUP($B$6,$B$7:$AE$25,Q$4-$F$4+5,FALSE))","v":0.1},{"$f":"IF(R$4<ControlPanel!$D$59,VLOOKUP(\"Referenz\",$B$7:$AE$25,R$4-$F$4+5,FALSE),VLOOKUP($B$6,$B$7:$AE$25,R$4-$F$4+5,FALSE))","v":0.06},{"$f":"IF(S$4<ControlPanel!$D$59,VLOOKUP(\"Referenz\",$B$7:$AE$25,S$4-$F$4+5,FALSE),VLOOKUP($B$6,$B$7:$AE$25,S$4-$F$4+5,FALSE))","v":0.06},{"$f":"IF(T$4<ControlPanel!$D$59,VLOOKUP(\"Referenz\",$B$7:$AE$25,T$4-$F$4+5,FALSE),VLOOKUP($B$6,$B$7:$AE$25,T$4-$F$4+5,FALSE))","v":0.06},{"$f":"IF(U$4<ControlPanel!$D$59,VLOOKUP(\"Referenz\",$B$7:$AE$25,U$4-$F$4+5,FALSE),VLOOKUP($B$6,$B$7:$AE$25,U$4-$F$4+5,FALSE))","v":0.06},{"$f":"IF(V$4<ControlPanel!$D$59,VLOOKUP(\"Referenz\",$B$7:$AE$25,V$4-$F$4+5,FALSE),VLOOKUP($B$6,$B$7:$AE$25,V$4-$F$4+5,FALSE))","v":0.06},{"$f":"IF(W$4<ControlPanel!$D$59,VLOOKUP(\"Referenz\",$B$7:$AE$25,W$4-$F$4+5,FALSE),VLOOKUP($B$6,$B$7:$AE$25,W$4-$F$4+5,FALSE))","v":0.06},{"$f":"IF(X$4<ControlPanel!$D$59,VLOOKUP(\"Referenz\",$B$7:$AE$25,X$4-$F$4+5,FALSE),VLOOKUP($B$6,$B$7:$AE$25,X$4-$F$4+5,FALSE))","v":0.06},{"$f":"IF(Y$4<ControlPanel!$D$59,VLOOKUP(\"Referenz\",$B$7:$AE$25,Y$4-$F$4+5,FALSE),VLOOKUP($B$6,$B$7:$AE$25,Y$4-$F$4+5,FALSE))","v":0.06},{"$f":"IF(Z$4<ControlPanel!$D$59,VLOOKUP(\"Referenz\",$B$7:$AE$25,Z$4-$F$4+5,FALSE),VLOOKUP($B$6,$B$7:$AE$25,Z$4-$F$4+5,FALSE))","v":0.06},{"$f":"IF(AA$4<ControlPanel!$D$59,VLOOKUP(\"Referenz\",$B$7:$AE$25,AA$4-$F$4+5,FALSE),VLOOKUP($B$6,$B$7:$AE$25,AA$4-$F$4+5,FALSE))","v":0.06},{"$f":"IF(AB$4<ControlPanel!$D$59,VLOOKUP(\"Referenz\",$B$7:$AE$25,AB$4-$F$4+5,FALSE),VLOOKUP($B$6,$B$7:$AE$25,AB$4-$F$4+5,FALSE))","v":0.06},{"$f":"IF(AC$4<ControlPanel!$D$59,VLOOKUP(\"Referenz\",$B$7:$AE$25,AC$4-$F$4+5,FALSE),VLOOKUP($B$6,$B$7:$AE$25,AC$4-$F$4+5,FALSE))","v":0.06},{"$f":"IF(AD$4<ControlPanel!$D$59,VLOOKUP(\"Referenz\",$B$7:$AE$25,AD$4-$F$4+5,FALSE),VLOOKUP($B$6,$B$7:$AE$25,AD$4-$F$4+5,FALSE))","v":0.06},{"$f":"IF(AE$4<ControlPanel!$D$59,VLOOKUP(\"Referenz\",$B$7:$AE$25,AE$4-$F$4+5,FALSE),VLOOKUP($B$6,$B$7:$AE$25,AE$4-$F$4+5,FALSE))","v":0.06}]
[null,"Referenz","fh","ÜNB-Umlageberechnungen, danach 6%","bis 2020: ÜNB-Jahresprognosen,\ndanach: 6%",0,0,0.03,0.1,0.1,0.1,0.1,0.06,0.06,0.06,0.08,0.1,0.06,0.06,0.06,0.06,0.06,0.06,0.06,0.06,0.06,0.06,0.06,0.06,0.06,0.06]
[null,{"$f":"P8*100&\"%\"","v":"0%"},"mh",{"$f":"B8&\" ab 2020\"","v":"0% ab 2020"},{"$f":"D8","v":"0% ab 2020"},null,null,null,null,null,null,null,null,null,null,0,0,0,0,0,0,0,0,0,0,0,0,0,0,0,0]
[null,{"$f":"P9*100&\"%\"","v":"1%"},"mh",{"$f":"B9&\" ab 2020\"","v":"1% ab 2020"},{"$f":"D9","v":"1% ab 2020"},null,null,null,null,null,null,null,null,null,null,0.01,0.01,0.01,0.01,0.01,0.01,0.01,0.01,0.01,0.01,0.01,0.01,0.01,0.01,0.01,0.01]
[null,"2%","mh","2% ab 2020","2% ab 2020",null,null,null,null,null,null,null,null,null,null,0.02,0.02,0.02,0.02,0.02,0.02,0.02,0.02,0.02,0.02,0.02,0.02,0.02,0.02,0.02,0.02]
[null,"3%","mh","3% ab 2020","3% ab 2020",null,null,null,null,null,null,null,null,null,null,0.03,0.03,0.03,0.03,0.03,0.03,0.03,0.03,0.03,0.03,0.03,0.03,0.03,0.03,0.03,0.03]
[null,"4%","mh","4% ab 2020","4% ab 2020",null,null,null,null,null,null,null,null,null,null,0.04,0.04,0.04,0.04,0.04,0.04,0.04,0.04,0.04,0.04,0.04,0.04,0.04,0.04,0.04,0.04]
[null,"5%","mh","5% ab 2020","5% ab 2020",null,null,null,null,null,null,null,null,null,null,0.05,0.05,0.05,0.05,0.05,0.05,0.05,0.05,0.05,0.05,0.05,0.05,0.05,0.05,0.05,0.05]
[null,"6%","mh","6% ab 2020","6% ab 2020",null,null,null,null,null,null,null,null,null,null,0.06,0.06,0.06,0.06,0.06,0.06,0.06,0.06,0.06,0.06,0.06,0.06,0.06,0.06,0.06,0.06]
[null,"7%","mh","7% ab 2020","7% ab 2020",null,null,null,null,null,null,null,null,null,null,7.0000000000000007E-2,7.0000000000000007E-2,7.0000000000000007E-2,7.0000000000000007E-2,7.0000000000000007E-2,7.0000000000000007E-2,7.0000000000000007E-2,7.0000000000000007E-2,7.0000000000000007E-2,7.0000000000000007E-2,7.0000000000000007E-2,7.0000000000000007E-2,7.0000000000000007E-2,7.0000000000000007E-2,7.0000000000000007E-2,7.0000000000000007E-2]
[null,"8%","mh","8% ab 2020","8% ab 2020",null,null,null,null,null,null,null,null,null,null,0.08,0.08,0.08,0.08,0.08,0.08,0.08,0.08,0.08,0.08,0.08,0.08,0.08,0.08,0.08,0.08]
[null,"9%","mh","9% ab 2020","9% ab 2020",null,null,null,null,null,null,null,null,null,null,0.09,0.09,0.09,0.09,0.09,0.09,0.09,0.09,0.09,0.09,0.09,0.09,0.09,0.09,0.09,0.09]
[null,"10%","mh","10% ab 2020","10% ab 2020",null,null,null,null,null,null,null,null,null,null,0.1,0.1,0.1,0.1,0.1,0.1,0.1,0.1,0.1,0.1,0.1,0.1,0.1,0.1,0.1,0.1]

{"sheet":"D-Nettostromverbrauch","index":23,"n_rows":17,"n_cols":31,"rows_kept":17,"cut":false,"hidden":true,"merged":[]}
[" ","Nettostromverbrauch"]
[]
[null,"Szenario","Bearbeiter","Beschreibung","Kommentar"]
[null,null,null,null,null,2010,2011,2012,2013,2014,2015,2016,2017,2018,2019,2020,2021,2022,2023,2024,2025,2026,2027,2028,2029,2030,2031,2032,2033,2034,2035]
[null,null,null,null,null,"TWh","TWh","TWh","TWh","TWh","TWh","TWh","TWh","TWh","TWh","TWh","TWh","TWh","TWh","TWh","TWh","TWh","TWh","TWh","TWh","TWh","TWh","TWh","TWh","TWh","TWh"]
[null,{"$f":"ControlPanel!L26","v":"Referenz"},{"$f":"VLOOKUP($B$6,$B$7:$AE$25,2,FALSE)","v":"fh"},{"$f":"VLOOKUP($B$6,$B$7:$AE$25,3,FALSE)","v":"2021: ÜNB-Umlageberechnung 2020. Danach ansteigend auf 600 TWh in 2030"},{"$f":"VLOOKUP($B$6,$B$7:$AE$25,4,FALSE)","v":"2021: ÜNB-Umlageberechnung 2020. Danach ansteigend auf 600 TWh in 2030"},{"$f":"IF(F$4<ControlPanel!$D$59,VLOOKUP(\"Referenz\",$B$7:$AE$25,F$4-$F$4+5,FALSE),VLOOKUP($B$6,$B$7:$AE$25,F$4-$F$4+5,FALSE))","v":535.4},{"$f":"IF(G$4<ControlPanel!$D$59,VLOOKUP(\"Referenz\",$B$7:$AE$25,G$4-$F$4+5,FALSE),VLOOKUP($B$6,$B$7:$AE$25,G$4-$F$4+5,FALSE))","v":536.79999999999995},{"$f":"IF(H$4<ControlPanel!$D$59,VLOOKUP(\"Referenz\",$B$7:$AE$25,H$4-$F$4+5,FALSE),VLOOKUP($B$6,$B$7:$AE$25,H$4-$F$4+5,FALSE))","v":540.29999999999995},{"$f":"IF(I$4<ControlPanel!$D$59,VLOOKUP(\"Referenz\",$B$7:$AE$25,I$4-$F$4+5,FALSE),VLOOKUP($B$6,$B$7:$AE$25,I$4-$F$4+5,FALSE))","v":537.10000000000014},{"$f":"IF(J$4<ControlPanel!$D$59,VLOOKUP(\"Referenz\",$B$7:$AE$25,J$4-$F$4+5,FALSE),VLOOKUP($B$6,$B$7:$AE$25,J$4-$F$4+5,FALSE))","v":529.87864653548297},{"$f":"IF(K$4<ControlPanel!$D$59,VLOOKUP(\"Referenz\",$B$7:$AE$25,K$4-$F$4+5,FALSE),VLOOKUP($B$6,$B$7:$AE$25,K$4-$F$4+5,FALSE))","v":520.6},{"$f":"IF(L$4<ControlPanel!$D$59,VLOOKUP(\"Referenz\",$B$7:$AE$25,L$4-$F$4+5,FALSE),VLOOKUP($B$6,$B$7:$AE$25,L$4-$F$4+5,FALSE))","v":511.6},{"$f":"IF(M$4<ControlPanel!$D$59,VLOOKUP(\"Referenz\",$B$7:$AE$25,M$4-$F$4+5,FALSE),VLOOKUP($B$6,$B$7:$AE$25,M$4-$F$4+5,FALSE))","v":521.90464399999996},{"$f":"IF(N$4<ControlPanel!$D$59,VLOOKUP(\"Referenz\",$B$7:$AE$25,N$4-$F$4+5,FALSE),VLOOKUP($B$6,$B$7:$AE$25,N$4-$F$4+5,FALSE))","v":524.64},{"$f":"IF(O$4<ControlPanel!$D$59,VLOOKUP(\"Referenz\",$B$7:$AE$25,O$4-$F$4+5,FALSE),VLOOKUP($B$6,$B$7:$AE$25,O$4-$F$4+5,FALSE))","v":536.23646499999995},{"$f":"IF(P$4<ControlPanel!$D$59,VLOOKUP(\"Referenz\",$B$7:$AE$25,P$4-$F$4+5,FALSE),VLOOKUP($B$6,$B$7:$AE$25,P$4-$F$4+5,FALSE))","v":538.51776999999993},{"$f":"IF(Q$4<ControlPanel!$D$59,VLOOKUP(\"Referenz\",$B$7:$AE$25,Q$4-$F$4+5,FALSE),VLOOKUP($B$6,$B$7:$AE$25,Q$4-$F$4+5,FALSE))","v":518.52683000000002},{"$f":"IF(R$4<ControlPanel!$D$59,VLOOKUP(\"Referenz\",$B$7:$AE$25,R$4-$F$4+5,FALSE),VLOOKUP($B$6,$B$7:$AE$25,R$4-$F$4+5,FALSE))","v":527.57940444444444},{"$f":"IF(S$4<ControlPanel!$D$59,VLOOKUP(\"Referenz\",$B$7:$AE$25,S$4-$F$4+5,FALSE),VLOOKUP($B$6,$B$7:$AE$25,S$4-$F$4+5,FALSE))","v":536.63197888888885},{"$f":"IF(T$4<ControlPanel!$D$59,VLOOKUP(\"Referenz\",$B$7:$AE$25,T$4-$F$4+5,FALSE),VLOOKUP($B$6,$B$7:$AE$25,T$4-$F$4+5,FALSE))","v":545.68455333333327},{"$f":"IF(U$4<ControlPanel!$D$59,VLOOKUP(\"Referenz\",$B$7:$AE$25,U$4-$F$4+5,FALSE),VLOOKUP($B$6,$B$7:$AE$25,U$4-$F$4+5,FALSE))","v":554.73712777777769},{"$f":"IF(V$4<ControlPanel!$D$59,VLOOKUP(\"Referenz\",$B$7:$AE$25,V$4-$F$4+5,FALSE),VLOOKUP($B$6,$B$7:$AE$25,V$4-$F$4+5,FALSE))","v":563.7897022222221},{"$f":"IF(W$4<ControlPanel!$D$59,VLOOKUP(\"Referenz\",$B$7:$AE$25,W$4-$F$4+5,FALSE),VLOOKUP($B$6,$B$7:$AE$25,W$4-$F$4+5,FALSE))","v":572.84227666666652},{"$f":"IF(X$4<ControlPanel!$D$59,VLOOKUP(\"Referenz\",$B$7:$AE$25,X$4-$F$4+5,FALSE),VLOOKUP($B$6,$B$7:$AE$25,X$4-$F$4+5,FALSE))","v":581.89485111111105},{"$f":"IF(Y$4<ControlPanel!$D$59,VLOOKUP(\"Referenz\",$B$7:$AE$25,Y$4-$F$4+5,FALSE),VLOOKUP($B$6,$B$7:$AE$25,Y$4-$F$4+5,FALSE))","v":590.94742555555558},{"$f":"IF(Z$4<ControlPanel!$D$59,VLOOKUP(\"Referenz\",$B$7:$AE$25,Z$4-$F$4+5,FALSE),VLOOKUP($B$6,$B$7:$AE$25,Z$4-$F$4+5,FALSE))","v":600},{"$f":"IF(AA$4<ControlPanel!$D$59,VLOOKUP(\"Referenz\",$B$7:$AE$25,AA$4-$F$4+5,FALSE),VLOOKUP($B$6,$B$7:$AE$25,AA$4-$F$4+5,FALSE))","v":609.05257444444442},{"$f":"IF(AB$4<ControlPanel!$D$59,VLOOKUP(\"Referenz\",$B$7:$AE$25,AB$4-$F$4+5,FALSE),VLOOKUP($B$6,$B$7:$AE$25,AB$4-$F$4+5,FALSE))","v":618.10514888888883},{"$f":"IF(AC$4<ControlPanel!$D$59,VLOOKUP(\"Referenz\",$B$7:$AE$25,AC$4-$F$4+5,FALSE),VLOOKUP($B$6,$B$7:$AE$25,AC$4-$F$4+5,FALSE))","v":627.15772333333325},{"$f":"IF(AD$4<ControlPanel!$D$59,VLOOKUP(\"Referenz\",$B$7:$AE$25,AD$4-$F$4+5,FALSE),VLOOKUP($B$6,$B$7:$AE$25,AD$4-$F$4+5,FALSE))","v":636.21029777777767},{"$f":"IF(AE$4<ControlPanel!$D$59,VLOOKUP(\"Referenz\",$B$7:$AE$25,AE$4-$F$4+5,FALSE),VLOOKUP($B$6,$B$7:$AE$25,AE$4-$F$4+5,FALSE))","v":645.26287222222209}]
[null,"Referenz","fh","2021: ÜNB-Umlageberechnung 2020. Danach ansteigend auf 600 TWh in 2030","2021: ÜNB-Umlageberechnung 2020. Danach ansteigend auf 600 TWh in 2030",535.4,536.79999999999995,540.29999999999995,537.10000000000014,529.87864653548297,520.6,511.6,521.90464399999996,524.64,536.23646499999995,538.51776999999993,518.52683000000002,{"$f":"($Z$7-Q7)/($Z$4-Q4)+Q7","v":527.57940444444444},536.63197888888885,545.68455333333327,554.73712777777769,563.7897022222221,572.84227666666652,581.89485111111105,590.94742555555558,600,{"$f":"Z7+Z7-Y7","v":609.05257444444442},{"$f":"AA7+AA7-Z7","v":618.10514888888883},627.15772333333325,636.21029777777767,645.26287222222209]
[null,"sehr niedrig","mh","2019: ÜNB-Umlageberechnung 2019. Danach Abnahme 1%/Jahr",null,null,null,null,null,null,null,null,null,null,null,{"$f":"O7*0.99","v":530.87410034999994},{"$f":"P8*0.99","v":525.56535934649992},{"$f":"Q8*0.99","v":520.3097057530349},{"$f":"R8*0.99","v":515.10660869550452},509.95554260854948,504.85598718246399,499.80742731063935,494.80935303753296,489.86125950715763,484.96264691208603,480.11302044296514,475.31189023853545,470.55877133615007,465.85318362278855,461.19465178656066,{"$f":"AD8*0.99","v":456.58270526869507}]
[null,"niedrig","mh","2019: ÜNB-Umlageberechnung 2019. Danach Abnahme 0,5%/Jahr",null,null,null,null,null,null,null,null,null,null,null,{"$f":"O7*0.995","v":533.55528267499994},{"$f":"P9*0.995","v":530.88750626162494},{"$f":"Q9*0.995","v":528.23306873031686},{"$f":"R9*0.995","v":525.59190338666531},522.96394386973202,520.34912415038332,517.74737852963142,515.15864163698325,512.58284842879834,510.01993418665433,507.46983451572106,504.93248534314245,502.40782291642671,499.89578380184457,497.39630488283535,494.90932335842115]
[null,"mittel","mh","2019: ÜNB-Umlageberechnung 2019. Danach konstant",null,null,null,null,null,null,null,null,null,null,null,{"$f":"O7","v":536.23646499999995},{"$f":"P10","v":536.23646499999995},{"$f":"Q10","v":536.23646499999995},{"$f":"R10","v":536.23646499999995},{"$f":"S10","v":536.23646499999995},536.23646499999995,536.23646499999995,536.23646499999995,536.23646499999995,536.23646499999995,536.23646499999995,536.23646499999995,536.23646499999995,536.23646499999995,536.23646499999995,536.23646499999995]
[null,"hoch","mh","2019: ÜNB-Umlageberechnung 2019. Danach Anstieg  0,5%/Jahr",null,null,null,null,null,null,null,null,null,null,null,{"$f":"O7*1.005","v":538.91764732499985},{"$f":"P11*1.005","v":541.61223556162474},{"$f":"Q11*1.005","v":544.32029673943282},{"$f":"R11*1.005","v":547.04189822312992},549.77710771424552,552.52599325281665,555.2886232190807,558.06506633517608,560.85539166685192,563.6596686251861,566.47796696831199,569.31035680315347,572.15690858716914,575.01769313010493,577.89278159575542,580.78224550373409]
[null,"sehr hoch","mh","2019: ÜNB-Umlageberechnung 2019. Danach Anstieg 1%/Jahr",null,null,null,null,null,null,null,null,null,null,null,{"$f":"O7*1.01","v":541.59882964999997},{"$f":"P12*1.01","v":547.01481794649999},{"$f":"Q12*1.01","v":552.484966125965},{"$f":"R12*1.01","v":558.00981578722462},563.5899139450969,569.22581308454789,574.91807121539341,580.66725192754734,586.47392444682282,592.338663691291,598.26205032820394,604.24467083148602,610.28711753980087,616.38998871519891,622.55388860235087,628.77942748837438]
[null,"MFP hoch","fh","MFP hoch","bis 2025 wie MFP oberes Szenario, danach konstant",null,null,null,null,null,null,null,null,null,null,507.16,533.79999999999995,532.08000000000004,530.58000000000004,529.65,529.54999999999995,{"$f":"U13","v":529.54999999999995},529.54999999999995,529.54999999999995,529.54999999999995,529.54999999999995,529.54999999999995,529.54999999999995,529.54999999999995,529.54999999999995,529.54999999999995]
[null,"MFP niedrig","fh","MFP niedrig","bis 2025 wie MFP unteres Szenario, danach konstant",null,null,null,null,null,null,null,null,null,null,460.33,505.24,500.08,496.35,492.11,488.51,{"$f":"U14","v":488.51},488.51,488.51,488.51,488.51,488.51,488.51,488.51,488.51,488.51]
[null,"KNDE 2045","dr","Klimaneutrales Deutschland 2045 (2021)",null,null,null,null,null,null,null,null,null,null,null,{"$f":"P7","v":538.51776999999993},{"$f":"P15+($U$15-$P$15)/5","v":537.054216},{"$f":"Q15+($U$15-$P$15)/5","v":535.59066200000007},534.12710800000013,532.6635540000002,531.20000000000005,{"$f":"U15+($Z$15-$U$15)/5","v":545.84},{"$f":"V15+($Z$15-$U$15)/5","v":560.48},{"$f":"W15+($Z$15-$U$15)/5","v":575.12},589.76,604.4,623.14792115538728,646.63914734610694,668.94668514385751,690.84279062790483,719.78285251580098]
[]
[null,"EEG 2021","fh","EEG 2021","Verbrauch bestimmt über Erreichung EE-Ziel",null,null,null,null,null,null,null,null,null,null,null,550,550,550,550,550,550,550,550,550,550,550,550,550,550,550]

{"sheet":"D-Privilegierter Letztverbrauch","index":24,"n_rows":15,"n_cols":31,"rows_kept":15,"cut":false,"hidden":true,"merged":[]}
[" ","Privilegierter Letztverbrauch"]
[]
[null,"Szenario","Titel","Beschreibung","Kommentar"]
[null,null,null,null,null,2010,2011,2012,2013,2014,2015,2016,2017,2018,2019,2020,2021,2022,2023,2024,2025,2026,2027,2028,2029,2030,2031,2032,2033,2034,2035]
[null,null,null,null,null,"TWh/a","TWh/a","TWh/a","TWh/a","TWh/a","TWh/a","TWh/a","TWh/a","TWh/a","TWh/a","TWh/a","TWh/a","TWh/a","TWh/a","TWh/a","TWh/a","TWh/a","TWh/a","TWh/a","TWh/a","TWh/a","TWh/a","TWh/a","TWh/a","TWh/a","TWh/a"]
[null,{"$f":"ControlPanel!E19","v":"Referenz"},{"$f":"VLOOKUP($B$6,$B$7:$AE$25,2,FALSE)","v":"fh"},{"$f":"VLOOKUP($B$6,$B$7:$AE$25,3,FALSE)","v":"MFP Referenz"},{"$f":"VLOOKUP($B$6,$B$7:$AE$25,4,FALSE)","v":"Bis 2025: MFP Trend. Danach konstant"},{"$f":"IF(F$4<ControlPanel!$D$59,VLOOKUP(\"Referenz\",$B$7:$AE$25,F$4-$F$4+5,FALSE),VLOOKUP($B$6,$B$7:$AE$25,F$4-$F$4+5,FALSE))","v":67.885999999999996},{"$f":"IF(G$4<ControlPanel!$D$59,VLOOKUP(\"Referenz\",$B$7:$AE$25,G$4-$F$4+5,FALSE),VLOOKUP($B$6,$B$7:$AE$25,G$4-$F$4+5,FALSE))","v":74.729966079999997},{"$f":"IF(H$4<ControlPanel!$D$59,VLOOKUP(\"Referenz\",$B$7:$AE$25,H$4-$F$4+5,FALSE),VLOOKUP($B$6,$B$7:$AE$25,H$4-$F$4+5,FALSE))","v":84.727446},{"$f":"IF(I$4<ControlPanel!$D$59,VLOOKUP(\"Referenz\",$B$7:$AE$25,I$4-$F$4+5,FALSE),VLOOKUP($B$6,$B$7:$AE$25,I$4-$F$4+5,FALSE))","v":96.225492000000003},{"$f":"IF(J$4<ControlPanel!$D$59,VLOOKUP(\"Referenz\",$B$7:$AE$25,J$4-$F$4+5,FALSE),VLOOKUP($B$6,$B$7:$AE$25,J$4-$F$4+5,FALSE))","v":106.52299099999999},{"$f":"IF(K$4<ControlPanel!$D$59,VLOOKUP(\"Referenz\",$B$7:$AE$25,K$4-$F$4+5,FALSE),VLOOKUP($B$6,$B$7:$AE$25,K$4-$F$4+5,FALSE))","v":110.247},{"$f":"IF(L$4<ControlPanel!$D$59,VLOOKUP(\"Referenz\",$B$7:$AE$25,L$4-$F$4+5,FALSE),VLOOKUP($B$6,$B$7:$AE$25,L$4-$F$4+5,FALSE))","v":103.9},{"$f":"IF(M$4<ControlPanel!$D$59,VLOOKUP(\"Referenz\",$B$7:$AE$25,M$4-$F$4+5,FALSE),VLOOKUP($B$6,$B$7:$AE$25,M$4-$F$4+5,FALSE))","v":114.145597},{"$f":"IF(N$4<ControlPanel!$D$59,VLOOKUP(\"Referenz\",$B$7:$AE$25,N$4-$F$4+5,FALSE),VLOOKUP($B$6,$B$7:$AE$25,N$4-$F$4+5,FALSE))","v":114.690017},{"$f":"IF(O$4<ControlPanel!$D$59,VLOOKUP(\"Referenz\",$B$7:$AE$25,O$4-$F$4+5,FALSE),VLOOKUP($B$6,$B$7:$AE$25,O$4-$F$4+5,FALSE))","v":113.926688},{"$f":"IF(P$4<ControlPanel!$D$59,VLOOKUP(\"Referenz\",$B$7:$AE$25,P$4-$F$4+5,FALSE),VLOOKUP($B$6,$B$7:$AE$25,P$4-$F$4+5,FALSE))","v":116.17166499999999},{"$f":"IF(Q$4<ControlPanel!$D$59,VLOOKUP(\"Referenz\",$B$7:$AE$25,Q$4-$F$4+5,FALSE),VLOOKUP($B$6,$B$7:$AE$25,Q$4-$F$4+5,FALSE))","v":112.73},{"$f":"IF(R$4<ControlPanel!$D$59,VLOOKUP(\"Referenz\",$B$7:$AE$25,R$4-$F$4+5,FALSE),VLOOKUP($B$6,$B$7:$AE$25,R$4-$F$4+5,FALSE))","v":111.65},{"$f":"IF(S$4<ControlPanel!$D$59,VLOOKUP(\"Referenz\",$B$7:$AE$25,S$4-$F$4+5,FALSE),VLOOKUP($B$6,$B$7:$AE$25,S$4-$F$4+5,FALSE))","v":110.48},{"$f":"IF(T$4<ControlPanel!$D$59,VLOOKUP(\"Referenz\",$B$7:$AE$25,T$4-$F$4+5,FALSE),VLOOKUP($B$6,$B$7:$AE$25,T$4-$F$4+5,FALSE))","v":109.19},{"$f":"IF(U$4<ControlPanel!$D$59,VLOOKUP(\"Referenz\",$B$7:$AE$25,U$4-$F$4+5,FALSE),VLOOKUP($B$6,$B$7:$AE$25,U$4-$F$4+5,FALSE))","v":107.92},{"$f":"IF(V$4<ControlPanel!$D$59,VLOOKUP(\"Referenz\",$B$7:$AE$25,V$4-$F$4+5,FALSE),VLOOKUP($B$6,$B$7:$AE$25,V$4-$F$4+5,FALSE))","v":107.92},{"$f":"IF(W$4<ControlPanel!$D$59,VLOOKUP(\"Referenz\",$B$7:$AE$25,W$4-$F$4+5,FALSE),VLOOKUP($B$6,$B$7:$AE$25,W$4-$F$4+5,FALSE))","v":107.92},{"$f":"IF(X$4<ControlPanel!$D$59,VLOOKUP(\"Referenz\",$B$7:$AE$25,X$4-$F$4+5,FALSE),VLOOKUP($B$6,$B$7:$AE$25,X$4-$F$4+5,FALSE))","v":107.92},{"$f":"IF(Y$4<ControlPanel!$D$59,VLOOKUP(\"Referenz\",$B$7:$AE$25,Y$4-$F$4+5,FALSE),VLOOKUP($B$6,$B$7:$AE$25,Y$4-$F$4+5,FALSE))","v":107.92},{"$f":"IF(Z$4<ControlPanel!$D$59,VLOOKUP(\"Referenz\",$B$7:$AE$25,Z$4-$F$4+5,FALSE),VLOOKUP($B$6,$B$7:$AE$25,Z$4-$F$4+5,FALSE))","v":107.92},{"$f":"IF(AA$4<ControlPanel!$D$59,VLOOKUP(\"Referenz\",$B$7:$AE$25,AA$4-$F$4+5,FALSE),VLOOKUP($B$6,$B$7:$AE$25,AA$4-$F$4+5,FALSE))","v":107.92},{"$f":"IF(AB$4<ControlPanel!$D$59,VLOOKUP(\"Referenz\",$B$7:$AE$25,AB$4-$F$4+5,FALSE),VLOOKUP($B$6,$B$7:$AE$25,AB$4-$F$4+5,FALSE))","v":107.92},{"$f":"IF(AC$4<ControlPanel!$D$59,VLOOKUP(\"Referenz\",$B$7:$AE$25,AC$4-$F$4+5,FALSE),VLOOKUP($B$6,$B$7:$AE$25,AC$4-$F$4+5,FALSE))","v":107.92},{"$f":"IF(AD$4<ControlPanel!$D$59,VLOOKUP(\"Referenz\",$B$7:$AE$25,AD$4-$F$4+5,FALSE),VLOOKUP($B$6,$B$7:$AE$25,AD$4-$F$4+5,FALSE))","v":107.92},{"$f":"IF(AE$4<ControlPanel!$D$59,VLOOKUP(\"Referenz\",$B$7:$AE$25,AE$4-$F$4+5,FALSE),VLOOKUP($B$6,$B$7:$AE$25,AE$4-$F$4+5,FALSE))","v":107.92}]
[null,"Referenz","fh","MFP Referenz","Bis 2025: MFP Trend. Danach konstant",67.885999999999996,74.729966079999997,84.727446,96.225492000000003,106.52299099999999,110.247,103.9,114.145597,114.690017,113.926688,116.17166499999999,112.73,111.65,110.48,109.19,107.92,{"$f":"U7","v":107.92},107.92,107.92,107.92,107.92,107.92,107.92,107.92,107.92,107.92]
[null,"Keine Privilegierung","cl","0 TWh",null,null,null,null,null,null,null,null,null,null,null,0,0,0,0,0,0,0,0,0,0,0,0,0,0,0,0]
[null,"niedrig","cl","65 TWh (Verbrauch, der für ETS-Strompreiskompensation berechtigt ist)","siehe \"Vorschlag für eine Reform der Umlage-Mechanismen im Erneuerbare Energien Gesetz (EEG)\", Öko-Institut 2014",null,null,null,null,null,null,null,null,null,null,65,65,65,65,65,65,65,65,65,65,65,65,65,65,65,65]
[null,"mittel","cl","Referenz - 20 TWh/a",null,null,null,null,null,null,null,null,null,null,null,{"$f":"P7-20","v":96.17166499999999},92.73,91.65,90.48,89.19,87.92,87.92,87.92,87.92,87.92,87.92,87.92,87.92,87.92,87.92,87.92]
[null,"hoch","cl","wie Referenz",null,null,null,null,null,null,null,null,null,null,null,{"$f":"P7","v":116.17166499999999},112.73,111.65,110.48,109.19,107.92,107.92,107.92,107.92,107.92,107.92,107.92,107.92,107.92,107.92,107.92]
[null,"sehr hoch","cl","Referenz + 20 TWh/a",null,null,null,null,null,null,null,null,null,null,null,{"$f":"P7+20","v":136.17166499999999},132.73000000000002,131.65,130.48000000000002,129.19,127.92,127.92,127.92,127.92,127.92,127.92,127.92,127.92,127.92,127.92,127.92]
[null,"MFP hoch","fh","MFP hoch","Bis 2025: MFP oberes Szenario. Danach konstant",null,null,null,null,null,null,null,null,null,null,110.95,117.12,116.02,114.89,113.74,112.61,{"$f":"U13","v":112.61},112.61,112.61,112.61,112.61,112.61,112.61,112.61,112.61,112.61]
[null,"MFP niedrig","fh","MFP niedrig","Bis 2025: MFP unteres Szenario. Danach konstant",null,null,null,null,null,null,null,null,null,null,96.86,108.99,107.65,106.12,104.47,102.84,{"$f":"U14","v":102.84},102.84,102.84,102.84,102.84,102.84,102.84,102.84,102.84,102.84]
[null,"KNDE 2045","dr","Klimaneutrales Deutschland 2045 (2021)",null,null,null,null,null,null,null,null,null,null,null,{"$f":"P7","v":116.17166499999999},{"$f":"P15+($U$15-$P$15)/5","v":115.70600616347524},115.24034732695048,114.77468849042573,114.30902965390098,113.8433708173762,{"$f":"U15+($Z$15-$U$15)/5","v":120.08798438038727},{"$f":"V15+($Z$15-$U$15)/5","v":126.33259794339834},{"$f":"W15+($Z$15-$U$15)/5","v":132.57721150640941},138.82182506942047,145.06643863243156,{"$f":"Z15+($AE$15-$Z$15)/5","v":150.75897816467355},{"$f":"AA15+($AE$15-$Z$15)/5","v":156.45151769691554},{"$f":"AB15+($AE$15-$Z$15)/5","v":162.14405722915754},167.83659676139953,173.52913629364156]

{"sheet":"D-Umlage priv. Letztverbrauch","index":25,"n_rows":13,"n_cols":31,"rows_kept":13,"cut":false,"hidden":true,"merged":[]}
[" ","Anteil an Umlage für privilegierte Letztverbraucher"]
[]
[null,"Szenario","Bearbeiter","Beschreibung","Kommentar"]
[null,null,null,null,null,2010,2011,2012,2013,2014,2015,2016,2017,2018,2019,2020,2021,2022,2023,2024,2025,2026,2027,2028,2029,2030,2031,2032,2033,2034,2035]
[null,null,null,null,null,"None","None","None","None","None","None","None","None","None","None","None","None","None","None","None","None","None","None","None","None","None","None","None","None","None","None"]
[null,{"$f":"ControlPanel!E20","v":"Referenz"},{"$f":"VLOOKUP($B$6,$B$7:$AE$25,2,FALSE)","v":"dr"},{"$f":"VLOOKUP($B$6,$B$7:$AE$25,3,FALSE)","v":"15% (gem. EEG 2021)"},{"$f":"VLOOKUP($B$6,$B$7:$AE$25,4,FALSE)","v":0},{"$f":"IF(F$4<ControlPanel!$D$59,VLOOKUP(\"Referenz\",$B$7:$AE$25,F$4-$F$4+5,FALSE),VLOOKUP($B$6,$B$7:$AE$25,F$4-$F$4+5,FALSE))","v":2.4421006724375267E-2},{"$f":"IF(G$4<ControlPanel!$D$59,VLOOKUP(\"Referenz\",$B$7:$AE$25,G$4-$F$4+5,FALSE),VLOOKUP($B$6,$B$7:$AE$25,G$4-$F$4+5,FALSE))","v":1.416149742259081E-2},{"$f":"IF(H$4<ControlPanel!$D$59,VLOOKUP(\"Referenz\",$B$7:$AE$25,H$4-$F$4+5,FALSE),VLOOKUP($B$6,$B$7:$AE$25,H$4-$F$4+5,FALSE))","v":1.3920264634567114E-2},{"$f":"IF(I$4<ControlPanel!$D$59,VLOOKUP(\"Referenz\",$B$7:$AE$25,I$4-$F$4+5,FALSE),VLOOKUP($B$6,$B$7:$AE$25,I$4-$F$4+5,FALSE))","v":6.442107437727964E-3},{"$f":"IF(J$4<ControlPanel!$D$59,VLOOKUP(\"Referenz\",$B$7:$AE$25,J$4-$F$4+5,FALSE),VLOOKUP($B$6,$B$7:$AE$25,J$4-$F$4+5,FALSE))","v":2.083534312096447E-2},{"$f":"IF(K$4<ControlPanel!$D$59,VLOOKUP(\"Referenz\",$B$7:$AE$25,K$4-$F$4+5,FALSE),VLOOKUP($B$6,$B$7:$AE$25,K$4-$F$4+5,FALSE))","v":0.15},{"$f":"IF(L$4<ControlPanel!$D$59,VLOOKUP(\"Referenz\",$B$7:$AE$25,L$4-$F$4+5,FALSE),VLOOKUP($B$6,$B$7:$AE$25,L$4-$F$4+5,FALSE))","v":0.15},{"$f":"IF(M$4<ControlPanel!$D$59,VLOOKUP(\"Referenz\",$B$7:$AE$25,M$4-$F$4+5,FALSE),VLOOKUP($B$6,$B$7:$AE$25,M$4-$F$4+5,FALSE))","v":0.15},{"$f":"IF(N$4<ControlPanel!$D$59,VLOOKUP(\"Referenz\",$B$7:$AE$25,N$4-$F$4+5,FALSE),VLOOKUP($B$6,$B$7:$AE$25,N$4-$F$4+5,FALSE))","v":0.15},{"$f":"IF(O$4<ControlPanel!$D$59,VLOOKUP(\"Referenz\",$B$7:$AE$25,O$4-$F$4+5,FALSE),VLOOKUP($B$6,$B$7:$AE$25,O$4-$F$4+5,FALSE))","v":0.15},{"$f":"IF(P$4<ControlPanel!$D$59,VLOOKUP(\"Referenz\",$B$7:$AE$25,P$4-$F$4+5,FALSE),VLOOKUP($B$6,$B$7:$AE$25,P$4-$F$4+5,FALSE))","v":0.15},{"$f":"IF(Q$4<ControlPanel!$D$59,VLOOKUP(\"Referenz\",$B$7:$AE$25,Q$4-$F$4+5,FALSE),VLOOKUP($B$6,$B$7:$AE$25,Q$4-$F$4+5,FALSE))","v":0.15},{"$f":"IF(R$4<ControlPanel!$D$59,VLOOKUP(\"Referenz\",$B$7:$AE$25,R$4-$F$4+5,FALSE),VLOOKUP($B$6,$B$7:$AE$25,R$4-$F$4+5,FALSE))","v":0.15},{"$f":"IF(S$4<ControlPanel!$D$59,VLOOKUP(\"Referenz\",$B$7:$AE$25,S$4-$F$4+5,FALSE),VLOOKUP($B$6,$B$7:$AE$25,S$4-$F$4+5,FALSE))","v":0.15},{"$f":"IF(T$4<ControlPanel!$D$59,VLOOKUP(\"Referenz\",$B$7:$AE$25,T$4-$F$4+5,FALSE),VLOOKUP($B$6,$B$7:$AE$25,T$4-$F$4+5,FALSE))","v":0.15},{"$f":"IF(U$4<ControlPanel!$D$59,VLOOKUP(\"Referenz\",$B$7:$AE$25,U$4-$F$4+5,FALSE),VLOOKUP($B$6,$B$7:$AE$25,U$4-$F$4+5,FALSE))","v":0.15},{"$f":"IF(V$4<ControlPanel!$D$59,VLOOKUP(\"Referenz\",$B$7:$AE$25,V$4-$F$4+5,FALSE),VLOOKUP($B$6,$B$7:$AE$25,V$4-$F$4+5,FALSE))","v":0.15},{"$f":"IF(W$4<ControlPanel!$D$59,VLOOKUP(\"Referenz\",$B$7:$AE$25,W$4-$F$4+5,FALSE),VLOOKUP($B$6,$B$7:$AE$25,W$4-$F$4+5,FALSE))","v":0.15},{"$f":"IF(X$4<ControlPanel!$D$59,VLOOKUP(\"Referenz\",$B$7:$AE$25,X$4-$F$4+5,FALSE),VLOOKUP($B$6,$B$7:$AE$25,X$4-$F$4+5,FALSE))","v":0.15},{"$f":"IF(Y$4<ControlPanel!$D$59,VLOOKUP(\"Referenz\",$B$7:$AE$25,Y$4-$F$4+5,FALSE),VLOOKUP($B$6,$B$7:$AE$25,Y$4-$F$4+5,FALSE))","v":0.15},{"$f":"IF(Z$4<ControlPanel!$D$59,VLOOKUP(\"Referenz\",$B$7:$AE$25,Z$4-$F$4+5,FALSE),VLOOKUP($B$6,$B$7:$AE$25,Z$4-$F$4+5,FALSE))","v":0.15},{"$f":"IF(AA$4<ControlPanel!$D$59,VLOOKUP(\"Referenz\",$B$7:$AE$25,AA$4-$F$4+5,FALSE),VLOOKUP($B$6,$B$7:$AE$25,AA$4-$F$4+5,FALSE))","v":0.15},{"$f":"IF(AB$4<ControlPanel!$D$59,VLOOKUP(\"Referenz\",$B$7:$AE$25,AB$4-$F$4+5,FALSE),VLOOKUP($B$6,$B$7:$AE$25,AB$4-$F$4+5,FALSE))","v":0.15},{"$f":"IF(AC$4<ControlPanel!$D$59,VLOOKUP(\"Referenz\",$B$7:$AE$25,AC$4-$F$4+5,FALSE),VLOOKUP($B$6,$B$7:$AE$25,AC$4-$F$4+5,FALSE))","v":0.15},{"$f":"IF(AD$4<ControlPanel!$D$59,VLOOKUP(\"Referenz\",$B$7:$AE$25,AD$4-$F$4+5,FALSE),VLOOKUP($B$6,$B$7:$AE$25,AD$4-$F$4+5,FALSE))","v":0.15},{"$f":"IF(AE$4<ControlPanel!$D$59,VLOOKUP(\"Referenz\",$B$7:$AE$25,AE$4-$F$4+5,FALSE),VLOOKUP($B$6,$B$7:$AE$25,AE$4-$F$4+5,FALSE))","v":0.15}]
[null,"Referenz","dr","15% (gem. EEG 2021)",null,2.4421006724375267E-2,1.416149742259081E-2,1.3920264634567114E-2,6.442107437727964E-3,2.083534312096447E-2,0.15,0.15,0.15,0.15,0.15,0.15,0.15,0.15,0.15,0.15,0.15,0.15,0.15,0.15,0.15,0.15,0.15,0.15,0.15,0.15,0.15]
[null,"sehr niedrig","cl","vollständig befreit",null,null,null,null,null,null,null,null,null,null,null,0,0,0,0,0,0,0,0,0,0,0,0,0,0,0,0]
[null,"niedrig","cl",0.05,null,null,null,null,null,null,null,null,null,null,null,0.05,0.05,0.05,0.05,0.05,0.05,0.05,0.05,0.05,0.05,0.05,0.05,0.05,0.05,0.05,0.05]
[null,"mittel","cl",0.25,null,null,null,null,null,null,null,null,null,null,null,0.25,0.25,0.25,0.25,0.25,0.25,0.25,0.25,0.25,0.25,0.25,0.25,0.25,0.25,0.25,0.25]
[null,"hoch","cl",0.5,null,null,null,null,null,null,null,null,null,null,null,0.5,0.5,0.5,0.5,0.5,0.5,0.5,0.5,0.5,0.5,0.5,0.5,0.5,0.5,0.5,0.5]
[null,"volle Beteiligung","cl",1,null,null,null,null,null,null,null,null,null,null,null,1,1,1,1,1,1,1,1,1,1,1,1,1,1,1,1]
[null,"KNDE 2045","dr","Klimaneutrales Deutschland 2045 (2021)",null,null,null,null,null,null,null,null,null,null,null,{"$f":"$U$13","v":0.15443759198601226},{"$f":"$U$13","v":0.15443759198601226},0.15443759198601226,0.15443759198601226,0.15443759198601226,0.15443759198601226,{"$f":"U13-($U$13-$Z$13)/5","v":0.14874243140291157},{"$f":"V13-($U$13-$Z$13)/5","v":0.14304727081981089},0.13735211023671021,0.13165694965360952,0.12596178907050881,{"$f":"Z13-($Z$13-$AE$13)/5","v":0.12460432874947634},{"$f":"AA13-($Z$13-$AE$13)/5","v":0.12324686842844387},{"$f":"AB13-($Z$13-$AE$13)/5","v":0.1218894081074114},0.12053194778637893,0.11917448746534647]

{"sheet":"D-Faktor Zusatzprivilegierung","index":26,"n_rows":13,"n_cols":31,"rows_kept":13,"cut":false,"hidden":true,"merged":[]}
[" ","Faktor für zusätzliche Privilegierung"]
[]
[null,"Szenario","Bearbeiter","Beschreibung","Kommentar"]
[null,null,null,null,null,2010,2011,2012,2013,2014,2015,2016,2017,2018,2019,2020,2021,2022,2023,2024,2025,2026,2027,2028,2029,2030,2031,2032,2033,2034,2035]
[null,null,null,null,null,"Mrd. Euro","Mrd. Euro","Mrd. Euro","Mrd. Euro","Mrd. Euro","Mrd. Euro","Mrd. Euro","Mrd. Euro","Mrd. Euro","Mrd. Euro","Mrd. Euro","Mrd. Euro","Mrd. Euro","Mrd. Euro","Mrd. Euro","Mrd. Euro","Mrd. Euro","Mrd. Euro","Mrd. Euro","Mrd. Euro","Mrd. Euro","Mrd. Euro","Mrd. Euro","Mrd. Euro","Mrd. Euro","Mrd. Euro"]
[null,{"$f":"ControlPanel!E21","v":"Referenz"},{"$f":"VLOOKUP($B$6,$B$7:$AE$25,2,FALSE)","v":"fh"},{"$f":"VLOOKUP($B$6,$B$7:$AE$25,3,FALSE)","v":"Bis 2021: ÜNB-Umlageberechnungen, danach konstant (wirkt wie vollständige Befreiung von 62% des priv. LV)"},{"$f":"VLOOKUP($B$6,$B$7:$AE$25,4,FALSE)","v":0},{"$f":"IF(F$4<ControlPanel!$D$59,VLOOKUP(\"Referenz\",$B$7:$AE$25,F$4-$F$4+5,FALSE),VLOOKUP($B$6,$B$7:$AE$25,F$4-$F$4+5,FALSE))","v":0},{"$f":"IF(G$4<ControlPanel!$D$59,VLOOKUP(\"Referenz\",$B$7:$AE$25,G$4-$F$4+5,FALSE),VLOOKUP($B$6,$B$7:$AE$25,G$4-$F$4+5,FALSE))","v":0},{"$f":"IF(H$4<ControlPanel!$D$59,VLOOKUP(\"Referenz\",$B$7:$AE$25,H$4-$F$4+5,FALSE),VLOOKUP($B$6,$B$7:$AE$25,H$4-$F$4+5,FALSE))","v":0},{"$f":"IF(I$4<ControlPanel!$D$59,VLOOKUP(\"Referenz\",$B$7:$AE$25,I$4-$F$4+5,FALSE),VLOOKUP($B$6,$B$7:$AE$25,I$4-$F$4+5,FALSE))","v":0},{"$f":"IF(J$4<ControlPanel!$D$59,VLOOKUP(\"Referenz\",$B$7:$AE$25,J$4-$F$4+5,FALSE),VLOOKUP($B$6,$B$7:$AE$25,J$4-$F$4+5,FALSE))","v":0},{"$f":"IF(K$4<ControlPanel!$D$59,VLOOKUP(\"Referenz\",$B$7:$AE$25,K$4-$F$4+5,FALSE),VLOOKUP($B$6,$B$7:$AE$25,K$4-$F$4+5,FALSE))","v":0.53400000000000003},{"$f":"IF(L$4<ControlPanel!$D$59,VLOOKUP(\"Referenz\",$B$7:$AE$25,L$4-$F$4+5,FALSE),VLOOKUP($B$6,$B$7:$AE$25,L$4-$F$4+5,FALSE))","v":0.502},{"$f":"IF(M$4<ControlPanel!$D$59,VLOOKUP(\"Referenz\",$B$7:$AE$25,M$4-$F$4+5,FALSE),VLOOKUP($B$6,$B$7:$AE$25,M$4-$F$4+5,FALSE))","v":0.61956606648897039},{"$f":"IF(N$4<ControlPanel!$D$59,VLOOKUP(\"Referenz\",$B$7:$AE$25,N$4-$F$4+5,FALSE),VLOOKUP($B$6,$B$7:$AE$25,N$4-$F$4+5,FALSE))","v":0.59982457576591419},{"$f":"IF(O$4<ControlPanel!$D$59,VLOOKUP(\"Referenz\",$B$7:$AE$25,O$4-$F$4+5,FALSE),VLOOKUP($B$6,$B$7:$AE$25,O$4-$F$4+5,FALSE))","v":0.61796806733819043},{"$f":"IF(P$4<ControlPanel!$D$59,VLOOKUP(\"Referenz\",$B$7:$AE$25,P$4-$F$4+5,FALSE),VLOOKUP($B$6,$B$7:$AE$25,P$4-$F$4+5,FALSE))","v":0.62235249305977924},{"$f":"IF(Q$4<ControlPanel!$D$59,VLOOKUP(\"Referenz\",$B$7:$AE$25,Q$4-$F$4+5,FALSE),VLOOKUP($B$6,$B$7:$AE$25,Q$4-$F$4+5,FALSE))","v":0.6181753273601267},{"$f":"IF(R$4<ControlPanel!$D$59,VLOOKUP(\"Referenz\",$B$7:$AE$25,R$4-$F$4+5,FALSE),VLOOKUP($B$6,$B$7:$AE$25,R$4-$F$4+5,FALSE))","v":0.6181753273601267},{"$f":"IF(S$4<ControlPanel!$D$59,VLOOKUP(\"Referenz\",$B$7:$AE$25,S$4-$F$4+5,FALSE),VLOOKUP($B$6,$B$7:$AE$25,S$4-$F$4+5,FALSE))","v":0.6181753273601267},{"$f":"IF(T$4<ControlPanel!$D$59,VLOOKUP(\"Referenz\",$B$7:$AE$25,T$4-$F$4+5,FALSE),VLOOKUP($B$6,$B$7:$AE$25,T$4-$F$4+5,FALSE))","v":0.6181753273601267},{"$f":"IF(U$4<ControlPanel!$D$59,VLOOKUP(\"Referenz\",$B$7:$AE$25,U$4-$F$4+5,FALSE),VLOOKUP($B$6,$B$7:$AE$25,U$4-$F$4+5,FALSE))","v":0.6181753273601267},{"$f":"IF(V$4<ControlPanel!$D$59,VLOOKUP(\"Referenz\",$B$7:$AE$25,V$4-$F$4+5,FALSE),VLOOKUP($B$6,$B$7:$AE$25,V$4-$F$4+5,FALSE))","v":0.6181753273601267},{"$f":"IF(W$4<ControlPanel!$D$59,VLOOKUP(\"Referenz\",$B$7:$AE$25,W$4-$F$4+5,FALSE),VLOOKUP($B$6,$B$7:$AE$25,W$4-$F$4+5,FALSE))","v":0.6181753273601267},{"$f":"IF(X$4<ControlPanel!$D$59,VLOOKUP(\"Referenz\",$B$7:$AE$25,X$4-$F$4+5,FALSE),VLOOKUP($B$6,$B$7:$AE$25,X$4-$F$4+5,FALSE))","v":0.6181753273601267},{"$f":"IF(Y$4<ControlPanel!$D$59,VLOOKUP(\"Referenz\",$B$7:$AE$25,Y$4-$F$4+5,FALSE),VLOOKUP($B$6,$B$7:$AE$25,Y$4-$F$4+5,FALSE))","v":0.6181753273601267},{"$f":"IF(Z$4<ControlPanel!$D$59,VLOOKUP(\"Referenz\",$B$7:$AE$25,Z$4-$F$4+5,FALSE),VLOOKUP($B$6,$B$7:$AE$25,Z$4-$F$4+5,FALSE))","v":0.6181753273601267},{"$f":"IF(AA$4<ControlPanel!$D$59,VLOOKUP(\"Referenz\",$B$7:$AE$25,AA$4-$F$4+5,FALSE),VLOOKUP($B$6,$B$7:$AE$25,AA$4-$F$4+5,FALSE))","v":0.6181753273601267},{"$f":"IF(AB$4<ControlPanel!$D$59,VLOOKUP(\"Referenz\",$B$7:$AE$25,AB$4-$F$4+5,FALSE),VLOOKUP($B$6,$B$7:$AE$25,AB$4-$F$4+5,FALSE))","v":0.6181753273601267},{"$f":"IF(AC$4<ControlPanel!$D$59,VLOOKUP(\"Referenz\",$B$7:$AE$25,AC$4-$F$4+5,FALSE),VLOOKUP($B$6,$B$7:$AE$25,AC$4-$F$4+5,FALSE))","v":0.6181753273601267},{"$f":"IF(AD$4<ControlPanel!$D$59,VLOOKUP(\"Referenz\",$B$7:$AE$25,AD$4-$F$4+5,FALSE),VLOOKUP($B$6,$B$7:$AE$25,AD$4-$F$4+5,FALSE))","v":0.6181753273601267},{"$f":"IF(AE$4<ControlPanel!$D$59,VLOOKUP(\"Referenz\",$B$7:$AE$25,AE$4-$F$4+5,FALSE),VLOOKUP($B$6,$B$7:$AE$25,AE$4-$F$4+5,FALSE))","v":0.6181753273601267}]
[null,"Referenz","fh","Bis 2021: ÜNB-Umlageberechnungen, danach konstant (wirkt wie vollständige Befreiung von 62% des priv. LV)",null,0,0,0,0,0,0.53400000000000003,0.502,0.61956606648897039,0.59982457576591419,0.61796806733819043,0.62235249305977924,0.6181753273601267,{"$f":"Q7","v":0.6181753273601267},0.6181753273601267,0.6181753273601267,0.6181753273601267,0.6181753273601267,0.6181753273601267,0.6181753273601267,0.6181753273601267,0.6181753273601267,0.6181753273601267,0.6181753273601267,0.6181753273601267,0.6181753273601267,0.6181753273601267]
[null,"keine Zusatz-privilegierung","cl","keine \nZusatzprivilegierung",null,null,null,null,null,null,null,null,null,null,null,0,0,0,0,0,0,0,0,0,0,0,0,0,0,0,0]
[null,"niedrig","cl","niedrige Zusatzprivilegierung - wirkt wie vollständige Befreiung von 20% des priv. LV",null,null,null,null,null,null,null,null,null,null,null,0.2,0.2,0.2,0.2,0.2,0.2,0.2,0.2,0.2,0.2,0.2,0.2,0.2,0.2,0.2,0.2]
[null,"mittel","cl","mittlere Zusatzprivilegierung - wirkt wie vollständige Befreiung von 40% des priv. LV",null,null,null,null,null,null,null,null,null,null,null,0.4,0.4,0.4,0.4,0.4,0.4,0.4,0.4,0.4,0.4,0.4,0.4,0.4,0.4,0.4,0.4]
[null,"hoch","cl","hohe Zusatzprivilegierung - wirkt wie vollständige Befreiung von 60% des priv. LV",null,null,null,null,null,null,null,null,null,null,null,0.6,0.6,0.6,0.6,0.6,0.6,0.6,0.6,0.6,0.6,0.6,0.6,0.6,0.6,0.6,0.6]
[null,"sehr hoch","cl","sehr hohe Zusatzprivilegierung - wirkt wie vollständige Befreiung von 80% des priv. LV",null,null,null,null,null,null,null,null,null,null,null,0.8,0.8,0.8,0.8,0.8,0.8,0.8,0.8,0.8,0.8,0.8,0.8,0.8,0.8,0.8,0.8]
[null,"KNDE 2045","dr","Klimaneutrales Deutschland 2045 (2021)",null,null,null,null,null,null,null,null,null,null,null,{"$f":"P7","v":0.62235249305977924},{"$f":"Q7","v":0.6181753273601267},0.6181753273601267,0.6181753273601267,0.6181753273601267,0.6181753273601267,{"$f":"U13-($U$13-$Z$13)/5","v":0.59054026188810138},{"$f":"V13-($U$13-$Z$13)/5","v":0.56290519641607606},0.53527013094405074,0.50763506547202542,0.48,{"$f":"Z13-($Z$13-$AE$13)/5","v":0.47199999999999998},{"$f":"AA13-($Z$13-$AE$13)/5","v":0.46399999999999997},{"$f":"AB13-($Z$13-$AE$13)/5","v":0.45599999999999996},0.44799999999999995,0.44]

{"sheet":"D-Umlage EV Bestand","index":27,"n_rows":12,"n_cols":31,"rows_kept":12,"cut":false,"hidden":true,"merged":[]}
[" ","Anteil an Umlage für Bestandsanlagen"]
[]
[null,"Szenario","Bearbeiter","Beschreibung","Kommentar"]
[null,null,null,null,null,2010,2011,2012,2013,2014,2015,2016,2017,2018,2019,2020,2021,2022,2023,2024,2025,2026,2027,2028,2029,2030,2031,2032,2033,2034,2035]
[null,null,null,null,null,"Euro/MWh","Euro/MWh","Euro/MWh","Euro/MWh","Euro/MWh","Euro/MWh","Euro/MWh","Euro/MWh","Euro/MWh","Euro/MWh","Euro/MWh","Euro/MWh","Euro/MWh","Euro/MWh","Euro/MWh","Euro/MWh","Euro/MWh","Euro/MWh","Euro/MWh","Euro/MWh","Euro/MWh","Euro/MWh","Euro/MWh","Euro/MWh","Euro/MWh","Euro/MWh"]
[null,{"$f":"ControlPanel!E29","v":"Referenz"},{"$f":"VLOOKUP($B$6,$B$7:$AE$25,2,FALSE)","v":"cl"},{"$f":"VLOOKUP($B$6,$B$7:$AE$25,3,FALSE)","v":"vollständig befreit (gem. EEG 2014)"},{"$f":"VLOOKUP($B$6,$B$7:$AE$25,4,FALSE)","v":0},{"$f":"IF(F$4<ControlPanel!$D$59,VLOOKUP(\"Referenz\",$B$7:$AE$25,F$4-$F$4+5,FALSE),VLOOKUP($B$6,$B$7:$AE$25,F$4-$F$4+5,FALSE))","v":0},{"$f":"IF(G$4<ControlPanel!$D$59,VLOOKUP(\"Referenz\",$B$7:$AE$25,G$4-$F$4+5,FALSE),VLOOKUP($B$6,$B$7:$AE$25,G$4-$F$4+5,FALSE))","v":0},{"$f":"IF(H$4<ControlPanel!$D$59,VLOOKUP(\"Referenz\",$B$7:$AE$25,H$4-$F$4+5,FALSE),VLOOKUP($B$6,$B$7:$AE$25,H$4-$F$4+5,FALSE))","v":0},{"$f":"IF(I$4<ControlPanel!$D$59,VLOOKUP(\"Referenz\",$B$7:$AE$25,I$4-$F$4+5,FALSE),VLOOKUP($B$6,$B$7:$AE$25,I$4-$F$4+5,FALSE))","v":0},{"$f":"IF(J$4<ControlPanel!$D$59,VLOOKUP(\"Referenz\",$B$7:$AE$25,J$4-$F$4+5,FALSE),VLOOKUP($B$6,$B$7:$AE$25,J$4-$F$4+5,FALSE))","v":0},{"$f":"IF(K$4<ControlPanel!$D$59,VLOOKUP(\"Referenz\",$B$7:$AE$25,K$4-$F$4+5,FALSE),VLOOKUP($B$6,$B$7:$AE$25,K$4-$F$4+5,FALSE))","v":0},{"$f":"IF(L$4<ControlPanel!$D$59,VLOOKUP(\"Referenz\",$B$7:$AE$25,L$4-$F$4+5,FALSE),VLOOKUP($B$6,$B$7:$AE$25,L$4-$F$4+5,FALSE))","v":0},{"$f":"IF(M$4<ControlPanel!$D$59,VLOOKUP(\"Referenz\",$B$7:$AE$25,M$4-$F$4+5,FALSE),VLOOKUP($B$6,$B$7:$AE$25,M$4-$F$4+5,FALSE))","v":0},{"$f":"IF(N$4<ControlPanel!$D$59,VLOOKUP(\"Referenz\",$B$7:$AE$25,N$4-$F$4+5,FALSE),VLOOKUP($B$6,$B$7:$AE$25,N$4-$F$4+5,FALSE))","v":0},{"$f":"IF(O$4<ControlPanel!$D$59,VLOOKUP(\"Referenz\",$B$7:$AE$25,O$4-$F$4+5,FALSE),VLOOKUP($B$6,$B$7:$AE$25,O$4-$F$4+5,FALSE))","v":0},{"$f":"IF(P$4<ControlPanel!$D$59,VLOOKUP(\"Referenz\",$B$7:$AE$25,P$4-$F$4+5,FALSE),VLOOKUP($B$6,$B$7:$AE$25,P$4-$F$4+5,FALSE))","v":0},{"$f":"IF(Q$4<ControlPanel!$D$59,VLOOKUP(\"Referenz\",$B$7:$AE$25,Q$4-$F$4+5,FALSE),VLOOKUP($B$6,$B$7:$AE$25,Q$4-$F$4+5,FALSE))","v":0},{"$f":"IF(R$4<ControlPanel!$D$59,VLOOKUP(\"Referenz\",$B$7:$AE$25,R$4-$F$4+5,FALSE),VLOOKUP($B$6,$B$7:$AE$25,R$4-$F$4+5,FALSE))","v":0},{"$f":"IF(S$4<ControlPanel!$D$59,VLOOKUP(\"Referenz\",$B$7:$AE$25,S$4-$F$4+5,FALSE),VLOOKUP($B$6,$B$7:$AE$25,S$4-$F$4+5,FALSE))","v":0},{"$f":"IF(T$4<ControlPanel!$D$59,VLOOKUP(\"Referenz\",$B$7:$AE$25,T$4-$F$4+5,FALSE),VLOOKUP($B$6,$B$7:$AE$25,T$4-$F$4+5,FALSE))","v":0},{"$f":"IF(U$4<ControlPanel!$D$59,VLOOKUP(\"Referenz\",$B$7:$AE$25,U$4-$F$4+5,FALSE),VLOOKUP($B$6,$B$7:$AE$25,U$4-$F$4+5,FALSE))","v":0},{"$f":"IF(V$4<ControlPanel!$D$59,VLOOKUP(\"Referenz\",$B$7:$AE$25,V$4-$F$4+5,FALSE),VLOOKUP($B$6,$B$7:$AE$25,V$4-$F$4+5,FALSE))","v":0},{"$f":"IF(W$4<ControlPanel!$D$59,VLOOKUP(\"Referenz\",$B$7:$AE$25,W$4-$F$4+5,FALSE),VLOOKUP($B$6,$B$7:$AE$25,W$4-$F$4+5,FALSE))","v":0},{"$f":"IF(X$4<ControlPanel!$D$59,VLOOKUP(\"Referenz\",$B$7:$AE$25,X$4-$F$4+5,FALSE),VLOOKUP($B$6,$B$7:$AE$25,X$4-$F$4+5,FALSE))","v":0},{"$f":"IF(Y$4<ControlPanel!$D$59,VLOOKUP(\"Referenz\",$B$7:$AE$25,Y$4-$F$4+5,FALSE),VLOOKUP($B$6,$B$7:$AE$25,Y$4-$F$4+5,FALSE))","v":0},{"$f":"IF(Z$4<ControlPanel!$D$59,VLOOKUP(\"Referenz\",$B$7:$AE$25,Z$4-$F$4+5,FALSE),VLOOKUP($B$6,$B$7:$AE$25,Z$4-$F$4+5,FALSE))","v":0},{"$f":"IF(AA$4<ControlPanel!$D$59,VLOOKUP(\"Referenz\",$B$7:$AE$25,AA$4-$F$4+5,FALSE),VLOOKUP($B$6,$B$7:$AE$25,AA$4-$F$4+5,FALSE))","v":0},{"$f":"IF(AB$4<ControlPanel!$D$59,VLOOKUP(\"Referenz\",$B$7:$AE$25,AB$4-$F$4+5,FALSE),VLOOKUP($B$6,$B$7:$AE$25,AB$4-$F$4+5,FALSE))","v":0},{"$f":"IF(AC$4<ControlPanel!$D$59,VLOOKUP(\"Referenz\",$B$7:$AE$25,AC$4-$F$4+5,FALSE),VLOOKUP($B$6,$B$7:$AE$25,AC$4-$F$4+5,FALSE))","v":0},{"$f":"IF(AD$4<ControlPanel!$D$59,VLOOKUP(\"Referenz\",$B$7:$AE$25,AD$4-$F$4+5,FALSE),VLOOKUP($B$6,$B$7:$AE$25,AD$4-$F$4+5,FALSE))","v":0},{"$f":"IF(AE$4<ControlPanel!$D$59,VLOOKUP(\"Referenz\",$B$7:$AE$25,AE$4-$F$4+5,FALSE),VLOOKUP($B$6,$B$7:$AE$25,AE$4-$F$4+5,FALSE))","v":0}]
[null,"Referenz","cl","vollständig befreit (gem. EEG 2014)",null,0,0,0,0,0,0,0,0,0,0,0,0,0,0,0,0,0,0,0,0,0,0,0,0,0,0]
[null,"keine Beteiligung","dr","0%",null,null,null,null,null,null,null,null,null,null,null,0,0,0,0,0,0,0,0,0,0,0,0,0,0,0,0]
[null,"niedrig","dr","25%",null,null,null,null,null,null,null,null,null,null,null,0.25,0.25,0.25,0.25,0.25,0.25,0.25,0.25,0.25,0.25,0.25,0.25,0.25,0.25,0.25,0.25]
[null,"mittel","dr","50%",null,null,null,null,null,null,null,null,null,null,null,0.5,0.5,0.5,0.5,0.5,0.5,0.5,0.5,0.5,0.5,0.5,0.5,0.5,0.5,0.5,0.5]
[null,"hoch","dr","75%",null,null,null,null,null,null,null,null,null,null,null,0.75,0.75,0.75,0.75,0.75,0.75,0.75,0.75,0.75,0.75,0.75,0.75,0.75,0.75,0.75,0.75]
[null,"volle Beteiligung","dr","100%",null,null,null,null,null,null,null,null,null,null,null,1,1,1,1,1,1,1,1,1,1,1,1,1,1,1,1]

{"sheet":"D-Eigenverbrauch KWK Neue","index":28,"n_rows":12,"n_cols":31,"rows_kept":12,"cut":false,"hidden":true,"merged":[]}
[" ","Eigenverbrauch KWK-und PV-Neuanlagen"]
[]
[null,"Szenario","Bearbeiter","Beschreibung","Kommentar"]
[null,null,null,null,null,2010,2011,2012,2013,2014,2015,2016,2017,2018,2019,2020,2021,2022,2023,2024,2025,2026,2027,2028,2029,2030,2031,2032,2033,2034,2035]
[null,null,null,null,null,"TWh/a","TWh/a","TWh/a","TWh/a","TWh/a","TWh/a","TWh/a","TWh/a","TWh/a","TWh/a","TWh/a","TWh/a","TWh/a","TWh/a","TWh/a","TWh/a","TWh/a","TWh/a","TWh/a","TWh/a","TWh/a","TWh/a","TWh/a","TWh/a","TWh/a","TWh/a"]
[null,{"$f":"ControlPanel!E26","v":"Referenz"},{"$f":"VLOOKUP($B$6,$B$7:$AE$25,2,FALSE)","v":"fh"},{"$f":"VLOOKUP($B$6,$B$7:$AE$25,3,FALSE)","v":"2021: ÜNB-Umlageberechnungen bis 2025, danach konstant"},{"$f":"VLOOKUP($B$6,$B$7:$AE$25,4,FALSE)","v":"2021-2025 gemäß ÜNB-Letztverbrauchsprognose Referenzszenario (Strommenge laut §61(1) S.1 Nr. 1). Ab 2026 konstante Strommenge."},{"$f":"IF(F$4<ControlPanel!$D$59,VLOOKUP(\"Referenz\",$B$7:$AE$25,F$4-$F$4+5,FALSE),VLOOKUP($B$6,$B$7:$AE$25,F$4-$F$4+5,FALSE))","v":0},{"$f":"IF(G$4<ControlPanel!$D$59,VLOOKUP(\"Referenz\",$B$7:$AE$25,G$4-$F$4+5,FALSE),VLOOKUP($B$6,$B$7:$AE$25,G$4-$F$4+5,FALSE))","v":0},{"$f":"IF(H$4<ControlPanel!$D$59,VLOOKUP(\"Referenz\",$B$7:$AE$25,H$4-$F$4+5,FALSE),VLOOKUP($B$6,$B$7:$AE$25,H$4-$F$4+5,FALSE))","v":0},{"$f":"IF(I$4<ControlPanel!$D$59,VLOOKUP(\"Referenz\",$B$7:$AE$25,I$4-$F$4+5,FALSE),VLOOKUP($B$6,$B$7:$AE$25,I$4-$F$4+5,FALSE))","v":0},{"$f":"IF(J$4<ControlPanel!$D$59,VLOOKUP(\"Referenz\",$B$7:$AE$25,J$4-$F$4+5,FALSE),VLOOKUP($B$6,$B$7:$AE$25,J$4-$F$4+5,FALSE))","v":0},{"$f":"IF(K$4<ControlPanel!$D$59,VLOOKUP(\"Referenz\",$B$7:$AE$25,K$4-$F$4+5,FALSE),VLOOKUP($B$6,$B$7:$AE$25,K$4-$F$4+5,FALSE))","v":0.2},{"$f":"IF(L$4<ControlPanel!$D$59,VLOOKUP(\"Referenz\",$B$7:$AE$25,L$4-$F$4+5,FALSE),VLOOKUP($B$6,$B$7:$AE$25,L$4-$F$4+5,FALSE))","v":0.52702499999999997},{"$f":"IF(M$4<ControlPanel!$D$59,VLOOKUP(\"Referenz\",$B$7:$AE$25,M$4-$F$4+5,FALSE),VLOOKUP($B$6,$B$7:$AE$25,M$4-$F$4+5,FALSE))","v":0.79537799999999992},{"$f":"IF(N$4<ControlPanel!$D$59,VLOOKUP(\"Referenz\",$B$7:$AE$25,N$4-$F$4+5,FALSE),VLOOKUP($B$6,$B$7:$AE$25,N$4-$F$4+5,FALSE))","v":1.2451939999999999},{"$f":"IF(O$4<ControlPanel!$D$59,VLOOKUP(\"Referenz\",$B$7:$AE$25,O$4-$F$4+5,FALSE),VLOOKUP($B$6,$B$7:$AE$25,O$4-$F$4+5,FALSE))","v":2.9838139999999997},{"$f":"IF(P$4<ControlPanel!$D$59,VLOOKUP(\"Referenz\",$B$7:$AE$25,P$4-$F$4+5,FALSE),VLOOKUP($B$6,$B$7:$AE$25,P$4-$F$4+5,FALSE))","v":3.2852449999999997},{"$f":"IF(Q$4<ControlPanel!$D$59,VLOOKUP(\"Referenz\",$B$7:$AE$25,Q$4-$F$4+5,FALSE),VLOOKUP($B$6,$B$7:$AE$25,Q$4-$F$4+5,FALSE))","v":5.1942199999999996},{"$f":"IF(R$4<ControlPanel!$D$59,VLOOKUP(\"Referenz\",$B$7:$AE$25,R$4-$F$4+5,FALSE),VLOOKUP($B$6,$B$7:$AE$25,R$4-$F$4+5,FALSE))","v":5.45},{"$f":"IF(S$4<ControlPanel!$D$59,VLOOKUP(\"Referenz\",$B$7:$AE$25,S$4-$F$4+5,FALSE),VLOOKUP($B$6,$B$7:$AE$25,S$4-$F$4+5,FALSE))","v":5.68},{"$f":"IF(T$4<ControlPanel!$D$59,VLOOKUP(\"Referenz\",$B$7:$AE$25,T$4-$F$4+5,FALSE),VLOOKUP($B$6,$B$7:$AE$25,T$4-$F$4+5,FALSE))","v":5.9},{"$f":"IF(U$4<ControlPanel!$D$59,VLOOKUP(\"Referenz\",$B$7:$AE$25,U$4-$F$4+5,FALSE),VLOOKUP($B$6,$B$7:$AE$25,U$4-$F$4+5,FALSE))","v":6.11},{"$f":"IF(V$4<ControlPanel!$D$59,VLOOKUP(\"Referenz\",$B$7:$AE$25,V$4-$F$4+5,FALSE),VLOOKUP($B$6,$B$7:$AE$25,V$4-$F$4+5,FALSE))","v":6.11},{"$f":"IF(W$4<ControlPanel!$D$59,VLOOKUP(\"Referenz\",$B$7:$AE$25,W$4-$F$4+5,FALSE),VLOOKUP($B$6,$B$7:$AE$25,W$4-$F$4+5,FALSE))","v":6.11},{"$f":"IF(X$4<ControlPanel!$D$59,VLOOKUP(\"Referenz\",$B$7:$AE$25,X$4-$F$4+5,FALSE),VLOOKUP($B$6,$B$7:$AE$25,X$4-$F$4+5,FALSE))","v":6.11},{"$f":"IF(Y$4<ControlPanel!$D$59,VLOOKUP(\"Referenz\",$B$7:$AE$25,Y$4-$F$4+5,FALSE),VLOOKUP($B$6,$B$7:$AE$25,Y$4-$F$4+5,FALSE))","v":6.11},{"$f":"IF(Z$4<ControlPanel!$D$59,VLOOKUP(\"Referenz\",$B$7:$AE$25,Z$4-$F$4+5,FALSE),VLOOKUP($B$6,$B$7:$AE$25,Z$4-$F$4+5,FALSE))","v":6.11},{"$f":"IF(AA$4<ControlPanel!$D$59,VLOOKUP(\"Referenz\",$B$7:$AE$25,AA$4-$F$4+5,FALSE),VLOOKUP($B$6,$B$7:$AE$25,AA$4-$F$4+5,FALSE))","v":6.11},{"$f":"IF(AB$4<ControlPanel!$D$59,VLOOKUP(\"Referenz\",$B$7:$AE$25,AB$4-$F$4+5,FALSE),VLOOKUP($B$6,$B$7:$AE$25,AB$4-$F$4+5,FALSE))","v":6.11},{"$f":"IF(AC$4<ControlPanel!$D$59,VLOOKUP(\"Referenz\",$B$7:$AE$25,AC$4-$F$4+5,FALSE),VLOOKUP($B$6,$B$7:$AE$25,AC$4-$F$4+5,FALSE))","v":6.11},{"$f":"IF(AD$4<ControlPanel!$D$59,VLOOKUP(\"Referenz\",$B$7:$AE$25,AD$4-$F$4+5,FALSE),VLOOKUP($B$6,$B$7:$AE$25,AD$4-$F$4+5,FALSE))","v":6.11},{"$f":"IF(AE$4<ControlPanel!$D$59,VLOOKUP(\"Referenz\",$B$7:$AE$25,AE$4-$F$4+5,FALSE),VLOOKUP($B$6,$B$7:$AE$25,AE$4-$F$4+5,FALSE))","v":6.11}]
[null,"Referenz","fh","2021: ÜNB-Umlageberechnungen bis 2025, danach konstant","2021-2025 gemäß ÜNB-Letztverbrauchsprognose Referenzszenario (Strommenge laut §61(1) S.1 Nr. 1). Ab 2026 konstante Strommenge.",0,0,0,0,0,0.2,0.52702499999999997,0.79537799999999992,1.2451939999999999,2.9838139999999997,3.2852449999999997,5.1942199999999996,5.45,5.68,5.9,6.11,{"$f":"U7","v":6.11},6.11,6.11,6.11,6.11,6.11,6.11,6.11,6.11,6.11]
[null,"kein Ausbau","mh","keine Neuanlagen",null,null,null,null,null,null,null,null,null,null,null,0,0,0,0,0,0,0,0,0,0,0,0,0,0,0,0]
[null,"niedrig","fh","50% weniger als in ÜNB-Letztverbrauchsprognose 2020","Referenzszenario -50%",null,null,null,null,null,null,null,null,null,null,{"$f":"0.5*P10","v":1.6426224999999999},{"$f":"0.5*Q10","v":2.5971099999999998},2.7250000000000001,2.84,2.95,3.0550000000000002,3.0550000000000002,3.0550000000000002,3.0550000000000002,3.0550000000000002,3.0550000000000002,3.0550000000000002,3.0550000000000002,3.0550000000000002,3.0550000000000002,3.0550000000000002]
[null,"mittel","fh","gemäß ÜNB Letztverbrauchsprognose 2021","wie Referenzszenario",null,null,null,null,null,null,null,null,null,null,{"$f":"P7","v":3.2852449999999997},{"$f":"Q7","v":5.1942199999999996},5.45,5.68,5.9,6.11,6.11,6.11,6.11,6.11,6.11,6.11,6.11,6.11,6.11,6.11]
[null,"hoch","fh","50% mehr als in ÜNB-Letztverbrauchsprognose 2021","Referenzszenario +50%",null,null,null,null,null,null,null,null,null,null,{"$f":"P10*1.5","v":4.9278674999999996},{"$f":"Q10*1.5","v":7.7913299999999994},8.1750000000000007,8.52,8.8500000000000014,9.1650000000000009,9.1650000000000009,9.1650000000000009,9.1650000000000009,9.1650000000000009,9.1650000000000009,9.1650000000000009,9.1650000000000009,9.1650000000000009,9.1650000000000009,9.1650000000000009]
[null,"sehr hoch","fh","100% mehr als in ÜNB-Letztverbrauchsprognose 2021","Referenzszenario +100%",null,null,null,null,null,null,null,null,null,null,{"$f":"P10*2","v":6.5704899999999995},{"$f":"Q10*2","v":10.388439999999999},10.9,11.36,11.8,12.22,12.22,12.22,12.22,12.22,12.22,12.22,12.22,12.22,12.22,12.22]

{"sheet":"D-Umlage Eigenverbrauch PV+KWK","index":29,"n_rows":12,"n_cols":31,"rows_kept":12,"cut":false,"hidden":true,"merged":[]}
[" ","Anteil an Umlage für Eigenverbrauch aus Solar- und KWK-Neuanlagen"]
[]
[null,"Szenario","Bearbeiter","Beschreibung","Kommentar"]
[null,null,null,null,null,2010,2011,2012,2013,2014,2015,2016,2017,2018,2019,2020,2021,2022,2023,2024,2025,2026,2027,2028,2029,2030,2031,2032,2033,2034,2035]
[null,null,null,null,null,"none","none","none","none","none","none","none","none","none","none","none","none","none","none","none","none","none","none","none","none","none","none","none","none","none","none"]
[null,{"$f":"ControlPanel!E28","v":"Referenz"},{"$f":"VLOOKUP($B$6,$B$7:$AE$25,2,FALSE)","v":"mh"},{"$f":"VLOOKUP($B$6,$B$7:$AE$25,3,FALSE)","v":"gem. EEG 2017, ab 2020 konstant 38%"},{"$f":"VLOOKUP($B$6,$B$7:$AE$25,4,FALSE)","v":0},{"$f":"IF(F$4<ControlPanel!$D$59,VLOOKUP(\"Referenz\",$B$7:$AE$25,F$4-$F$4+5,FALSE),VLOOKUP($B$6,$B$7:$AE$25,F$4-$F$4+5,FALSE))","v":0},{"$f":"IF(G$4<ControlPanel!$D$59,VLOOKUP(\"Referenz\",$B$7:$AE$25,G$4-$F$4+5,FALSE),VLOOKUP($B$6,$B$7:$AE$25,G$4-$F$4+5,FALSE))","v":0},{"$f":"IF(H$4<ControlPanel!$D$59,VLOOKUP(\"Referenz\",$B$7:$AE$25,H$4-$F$4+5,FALSE),VLOOKUP($B$6,$B$7:$AE$25,H$4-$F$4+5,FALSE))","v":0},{"$f":"IF(I$4<ControlPanel!$D$59,VLOOKUP(\"Referenz\",$B$7:$AE$25,I$4-$F$4+5,FALSE),VLOOKUP($B$6,$B$7:$AE$25,I$4-$F$4+5,FALSE))","v":0},{"$f":"IF(J$4<ControlPanel!$D$59,VLOOKUP(\"Referenz\",$B$7:$AE$25,J$4-$F$4+5,FALSE),VLOOKUP($B$6,$B$7:$AE$25,J$4-$F$4+5,FALSE))","v":0},{"$f":"IF(K$4<ControlPanel!$D$59,VLOOKUP(\"Referenz\",$B$7:$AE$25,K$4-$F$4+5,FALSE),VLOOKUP($B$6,$B$7:$AE$25,K$4-$F$4+5,FALSE))","v":0.3},{"$f":"IF(L$4<ControlPanel!$D$59,VLOOKUP(\"Referenz\",$B$7:$AE$25,L$4-$F$4+5,FALSE),VLOOKUP($B$6,$B$7:$AE$25,L$4-$F$4+5,FALSE))","v":0.35},{"$f":"IF(M$4<ControlPanel!$D$59,VLOOKUP(\"Referenz\",$B$7:$AE$25,M$4-$F$4+5,FALSE),VLOOKUP($B$6,$B$7:$AE$25,M$4-$F$4+5,FALSE))","v":0.40000062775558548},{"$f":"IF(N$4<ControlPanel!$D$59,VLOOKUP(\"Referenz\",$B$7:$AE$25,N$4-$F$4+5,FALSE),VLOOKUP($B$6,$B$7:$AE$25,N$4-$F$4+5,FALSE))","v":0.33640703685486462},{"$f":"IF(O$4<ControlPanel!$D$59,VLOOKUP(\"Referenz\",$B$7:$AE$25,O$4-$F$4+5,FALSE),VLOOKUP($B$6,$B$7:$AE$25,O$4-$F$4+5,FALSE))","v":0.36296708149217022},{"$f":"IF(P$4<ControlPanel!$D$59,VLOOKUP(\"Referenz\",$B$7:$AE$25,P$4-$F$4+5,FALSE),VLOOKUP($B$6,$B$7:$AE$25,P$4-$F$4+5,FALSE))","v":0.37707011244336597},{"$f":"IF(Q$4<ControlPanel!$D$59,VLOOKUP(\"Referenz\",$B$7:$AE$25,Q$4-$F$4+5,FALSE),VLOOKUP($B$6,$B$7:$AE$25,Q$4-$F$4+5,FALSE))","v":0.37707011244336597},{"$f":"IF(R$4<ControlPanel!$D$59,VLOOKUP(\"Referenz\",$B$7:$AE$25,R$4-$F$4+5,FALSE),VLOOKUP($B$6,$B$7:$AE$25,R$4-$F$4+5,FALSE))","v":0.37707011244336597},{"$f":"IF(S$4<ControlPanel!$D$59,VLOOKUP(\"Referenz\",$B$7:$AE$25,S$4-$F$4+5,FALSE),VLOOKUP($B$6,$B$7:$AE$25,S$4-$F$4+5,FALSE))","v":0.37707011244336597},{"$f":"IF(T$4<ControlPanel!$D$59,VLOOKUP(\"Referenz\",$B$7:$AE$25,T$4-$F$4+5,FALSE),VLOOKUP($B$6,$B$7:$AE$25,T$4-$F$4+5,FALSE))","v":0.37707011244336597},{"$f":"IF(U$4<ControlPanel!$D$59,VLOOKUP(\"Referenz\",$B$7:$AE$25,U$4-$F$4+5,FALSE),VLOOKUP($B$6,$B$7:$AE$25,U$4-$F$4+5,FALSE))","v":0.37707011244336597},{"$f":"IF(V$4<ControlPanel!$D$59,VLOOKUP(\"Referenz\",$B$7:$AE$25,V$4-$F$4+5,FALSE),VLOOKUP($B$6,$B$7:$AE$25,V$4-$F$4+5,FALSE))","v":0.37707011244336597},{"$f":"IF(W$4<ControlPanel!$D$59,VLOOKUP(\"Referenz\",$B$7:$AE$25,W$4-$F$4+5,FALSE),VLOOKUP($B$6,$B$7:$AE$25,W$4-$F$4+5,FALSE))","v":0.37707011244336597},{"$f":"IF(X$4<ControlPanel!$D$59,VLOOKUP(\"Referenz\",$B$7:$AE$25,X$4-$F$4+5,FALSE),VLOOKUP($B$6,$B$7:$AE$25,X$4-$F$4+5,FALSE))","v":0.37707011244336597},{"$f":"IF(Y$4<ControlPanel!$D$59,VLOOKUP(\"Referenz\",$B$7:$AE$25,Y$4-$F$4+5,FALSE),VLOOKUP($B$6,$B$7:$AE$25,Y$4-$F$4+5,FALSE))","v":0.37707011244336597},{"$f":"IF(Z$4<ControlPanel!$D$59,VLOOKUP(\"Referenz\",$B$7:$AE$25,Z$4-$F$4+5,FALSE),VLOOKUP($B$6,$B$7:$AE$25,Z$4-$F$4+5,FALSE))","v":0.37707011244336597},{"$f":"IF(AA$4<ControlPanel!$D$59,VLOOKUP(\"Referenz\",$B$7:$AE$25,AA$4-$F$4+5,FALSE),VLOOKUP($B$6,$B$7:$AE$25,AA$4-$F$4+5,FALSE))","v":0.37707011244336597},{"$f":"IF(AB$4<ControlPanel!$D$59,VLOOKUP(\"Referenz\",$B$7:$AE$25,AB$4-$F$4+5,FALSE),VLOOKUP($B$6,$B$7:$AE$25,AB$4-$F$4+5,FALSE))","v":0.37707011244336597},{"$f":"IF(AC$4<ControlPanel!$D$59,VLOOKUP(\"Referenz\",$B$7:$AE$25,AC$4-$F$4+5,FALSE),VLOOKUP($B$6,$B$7:$AE$25,AC$4-$F$4+5,FALSE))","v":0.37707011244336597},{"$f":"IF(AD$4<ControlPanel!$D$59,VLOOKUP(\"Referenz\",$B$7:$AE$25,AD$4-$F$4+5,FALSE),VLOOKUP($B$6,$B$7:$AE$25,AD$4-$F$4+5,FALSE))","v":0.37707011244336597},{"$f":"IF(AE$4<ControlPanel!$D$59,VLOOKUP(\"Referenz\",$B$7:$AE$25,AE$4-$F$4+5,FALSE),VLOOKUP($B$6,$B$7:$AE$25,AE$4-$F$4+5,FALSE))","v":0.37707011244336597}]
[null,"Referenz","mh","gem. EEG 2017, ab 2020 konstant 38%",null,0,0,0,0,0,0.3,0.35,0.40000062775558548,0.33640703685486462,0.36296708149217022,0.37707011244336597,{"$f":"P7","v":0.37707011244336597},0.37707011244336597,0.37707011244336597,0.37707011244336597,0.37707011244336597,0.37707011244336597,0.37707011244336597,0.37707011244336597,0.37707011244336597,0.37707011244336597,0.37707011244336597,0.37707011244336597,0.37707011244336597,0.37707011244336597,0.37707011244336597]
[null,"keine Beteiligung","mh","0%",null,null,null,null,null,null,null,null,null,null,null,0,0,0,0,0,0,0,0,0,0,0,0,0,0,0,0]
[null,"niedrig","mh","25%",null,null,null,null,null,null,null,null,null,null,null,0.25,0.25,0.25,0.25,0.25,0.25,0.25,0.25,0.25,0.25,0.25,0.25,0.25,0.25,0.25,0.25]
[null,"mittel","mh","50%",null,null,null,null,null,null,null,null,null,null,null,0.5,0.5,0.5,0.5,0.5,0.5,0.5,0.5,0.5,0.5,0.5,0.5,0.5,0.5,0.5,0.5]
[null,"hoch","mh","75%",null,null,null,null,null,null,null,null,null,null,null,0.75,0.75,0.75,0.75,0.75,0.75,0.75,0.75,0.75,0.75,0.75,0.75,0.75,0.75,0.75,0.75]
[null,"volle Beteiligung","mh","100%",null,null,null,null,null,null,null,null,null,null,null,1,1,1,1,1,1,1,1,1,1,1,1,1,1,1,1]

{"sheet":"D-vermiedene Netzentgelte","index":30,"n_rows":32,"n_cols":31,"rows_kept":32,"cut":false,"hidden":true,"merged":[]}
[" ","Vermiedene Netzentgelte für nicht-volatile Energieträger (Euro pro MWh zu vergütender Strommenge)"]
[]
[null,"Szenario","Bearbeiter","Beschreibung","Kommnetar"]
[null,null,null,null,null,2010,2011,2012,2013,2014,2015,2016,2017,2018,2019,2020,2021,2022,2023,2024,2025,2026,2027,2028,2029,2030,2031,2032,2033,2034,2035]
[null,null,null,null,null,"Euro/MWh","Euro/MWh","Euro/MWh","Euro/MWh","Euro/MWh","Euro/MWh","Euro/MWh","Euro/MWh","Euro/MWh","Euro/MWh","Euro/MWh","Euro/MWh","Euro/MWh","Euro/MWh","Euro/MWh","Euro/MWh","Euro/MWh","Euro/MWh","Euro/MWh","Euro/MWh","Euro/MWh","Euro/MWh","Euro/MWh","Euro/MWh","Euro/MWh","Euro/MWh"]
[null,{"$f":"ControlPanel!L28","v":"Referenz"},{"$f":"VLOOKUP($B$6,$B$7:$AE$25,2,FALSE)","v":"fh"},{"$f":"VLOOKUP($B$6,$B$7:$AE$25,3,FALSE)","v":"7.17€/MWh"},{"$f":"VLOOKUP($B$6,$B$7:$AE$25,4,FALSE)","v":"Steigung in 2021 gemäß ÜNB-Prognose, danach konstant (vgl. §120 Absatz 4, Satz 1 EnWG)"},{"$f":"IF(F$4<ControlPanel!$D$59,VLOOKUP(\"Referenz\",$B$7:$AE$25,F$4-$F$4+5,FALSE),VLOOKUP($B$6,$B$7:$AE$25,F$4-$F$4+5,FALSE))","v":3.6986274118651017},{"$f":"IF(G$4<ControlPanel!$D$59,VLOOKUP(\"Referenz\",$B$7:$AE$25,G$4-$F$4+5,FALSE),VLOOKUP($B$6,$B$7:$AE$25,G$4-$F$4+5,FALSE))","v":3.67623039746714},{"$f":"IF(H$4<ControlPanel!$D$59,VLOOKUP(\"Referenz\",$B$7:$AE$25,H$4-$F$4+5,FALSE),VLOOKUP($B$6,$B$7:$AE$25,H$4-$F$4+5,FALSE))","v":3.8466309856018386},{"$f":"IF(I$4<ControlPanel!$D$59,VLOOKUP(\"Referenz\",$B$7:$AE$25,I$4-$F$4+5,FALSE),VLOOKUP($B$6,$B$7:$AE$25,I$4-$F$4+5,FALSE))","v":3.7273122127772123},{"$f":"IF(J$4<ControlPanel!$D$59,VLOOKUP(\"Referenz\",$B$7:$AE$25,J$4-$F$4+5,FALSE),VLOOKUP($B$6,$B$7:$AE$25,J$4-$F$4+5,FALSE))","v":4.6460245701332967},{"$f":"IF(K$4<ControlPanel!$D$59,VLOOKUP(\"Referenz\",$B$7:$AE$25,K$4-$F$4+5,FALSE),VLOOKUP($B$6,$B$7:$AE$25,K$4-$F$4+5,FALSE))","v":4.6631872317218352},{"$f":"IF(L$4<ControlPanel!$D$59,VLOOKUP(\"Referenz\",$B$7:$AE$25,L$4-$F$4+5,FALSE),VLOOKUP($B$6,$B$7:$AE$25,L$4-$F$4+5,FALSE))","v":4.8191604494594991},{"$f":"IF(M$4<ControlPanel!$D$59,VLOOKUP(\"Referenz\",$B$7:$AE$25,M$4-$F$4+5,FALSE),VLOOKUP($B$6,$B$7:$AE$25,M$4-$F$4+5,FALSE))","v":7.7231242789896131},{"$f":"IF(N$4<ControlPanel!$D$59,VLOOKUP(\"Referenz\",$B$7:$AE$25,N$4-$F$4+5,FALSE),VLOOKUP($B$6,$B$7:$AE$25,N$4-$F$4+5,FALSE))","v":6.3391841590858826},{"$f":"IF(O$4<ControlPanel!$D$59,VLOOKUP(\"Referenz\",$B$7:$AE$25,O$4-$F$4+5,FALSE),VLOOKUP($B$6,$B$7:$AE$25,O$4-$F$4+5,FALSE))","v":7.3821193026159877},{"$f":"IF(P$4<ControlPanel!$D$59,VLOOKUP(\"Referenz\",$B$7:$AE$25,P$4-$F$4+5,FALSE),VLOOKUP($B$6,$B$7:$AE$25,P$4-$F$4+5,FALSE))","v":7.0575324728422038},{"$f":"IF(Q$4<ControlPanel!$D$59,VLOOKUP(\"Referenz\",$B$7:$AE$25,Q$4-$F$4+5,FALSE),VLOOKUP($B$6,$B$7:$AE$25,Q$4-$F$4+5,FALSE))","v":7.1727090185728217},{"$f":"IF(R$4<ControlPanel!$D$59,VLOOKUP(\"Referenz\",$B$7:$AE$25,R$4-$F$4+5,FALSE),VLOOKUP($B$6,$B$7:$AE$25,R$4-$F$4+5,FALSE))","v":7.1727090185728217},{"$f":"IF(S$4<ControlPanel!$D$59,VLOOKUP(\"Referenz\",$B$7:$AE$25,S$4-$F$4+5,FALSE),VLOOKUP($B$6,$B$7:$AE$25,S$4-$F$4+5,FALSE))","v":7.1727090185728217},{"$f":"IF(T$4<ControlPanel!$D$59,VLOOKUP(\"Referenz\",$B$7:$AE$25,T$4-$F$4+5,FALSE),VLOOKUP($B$6,$B$7:$AE$25,T$4-$F$4+5,FALSE))","v":7.1727090185728217},{"$f":"IF(U$4<ControlPanel!$D$59,VLOOKUP(\"Referenz\",$B$7:$AE$25,U$4-$F$4+5,FALSE),VLOOKUP($B$6,$B$7:$AE$25,U$4-$F$4+5,FALSE))","v":7.1727090185728217},{"$f":"IF(V$4<ControlPanel!$D$59,VLOOKUP(\"Referenz\",$B$7:$AE$25,V$4-$F$4+5,FALSE),VLOOKUP($B$6,$B$7:$AE$25,V$4-$F$4+5,FALSE))","v":7.1727090185728217},{"$f":"IF(W$4<ControlPanel!$D$59,VLOOKUP(\"Referenz\",$B$7:$AE$25,W$4-$F$4+5,FALSE),VLOOKUP($B$6,$B$7:$AE$25,W$4-$F$4+5,FALSE))","v":7.1727090185728217},{"$f":"IF(X$4<ControlPanel!$D$59,VLOOKUP(\"Referenz\",$B$7:$AE$25,X$4-$F$4+5,FALSE),VLOOKUP($B$6,$B$7:$AE$25,X$4-$F$4+5,FALSE))","v":7.1727090185728217},{"$f":"IF(Y$4<ControlPanel!$D$59,VLOOKUP(\"Referenz\",$B$7:$AE$25,Y$4-$F$4+5,FALSE),VLOOKUP($B$6,$B$7:$AE$25,Y$4-$F$4+5,FALSE))","v":7.1727090185728217},{"$f":"IF(Z$4<ControlPanel!$D$59,VLOOKUP(\"Referenz\",$B$7:$AE$25,Z$4-$F$4+5,FALSE),VLOOKUP($B$6,$B$7:$AE$25,Z$4-$F$4+5,FALSE))","v":7.1727090185728217},{"$f":"IF(AA$4<ControlPanel!$D$59,VLOOKUP(\"Referenz\",$B$7:$AE$25,AA$4-$F$4+5,FALSE),VLOOKUP($B$6,$B$7:$AE$25,AA$4-$F$4+5,FALSE))","v":7.1727090185728217},{"$f":"IF(AB$4<ControlPanel!$D$59,VLOOKUP(\"Referenz\",$B$7:$AE$25,AB$4-$F$4+5,FALSE),VLOOKUP($B$6,$B$7:$AE$25,AB$4-$F$4+5,FALSE))","v":7.1727090185728217},{"$f":"IF(AC$4<ControlPanel!$D$59,VLOOKUP(\"Referenz\",$B$7:$AE$25,AC$4-$F$4+5,FALSE),VLOOKUP($B$6,$B$7:$AE$25,AC$4-$F$4+5,FALSE))","v":7.1727090185728217},{"$f":"IF(AD$4<ControlPanel!$D$59,VLOOKUP(\"Referenz\",$B$7:$AE$25,AD$4-$F$4+5,FALSE),VLOOKUP($B$6,$B$7:$AE$25,AD$4-$F$4+5,FALSE))","v":7.1727090185728217},{"$f":"IF(AE$4<ControlPanel!$D$59,VLOOKUP(\"Referenz\",$B$7:$AE$25,AE$4-$F$4+5,FALSE),VLOOKUP($B$6,$B$7:$AE$25,AE$4-$F$4+5,FALSE))","v":7.1727090185728217}]
[null,"Referenz","fh","7.17€/MWh","Steigung in 2021 gemäß ÜNB-Prognose, danach konstant (vgl. §120 Absatz 4, Satz 1 EnWG)",3.6986274118651017,3.67623039746714,3.8466309856018386,3.7273122127772123,4.6460245701332967,4.6631872317218352,4.8191604494594991,7.7231242789896131,6.3391841590858826,7.3821193026159877,7.0575324728422038,7.1727090185728217,{"$f":"Q7","v":7.1727090185728217},7.1727090185728217,7.1727090185728217,7.1727090185728217,7.1727090185728217,7.1727090185728217,7.1727090185728217,7.1727090185728217,7.1727090185728217,7.1727090185728217,7.1727090185728217,7.1727090185728217,7.1727090185728217,7.1727090185728217]
[]
[]
[]
[]
[]
[]
[]
[]
[]
[]
[]
[]
[]
[]
[]
[]
[]
[]
[]
[null,"Skalierungsfaktor Vermiedene Netzentgelte für volatile Energieträger (-)"]
[]
[null,"Szenario","Bearbeiter","Beschreibung","Kommnetar"]
[null,null,null,null,null,2010,2011,2012,2013,2014,2015,2016,2017,2018,2019,2020,2021,2022,2023,2024,2025,2026,2027,2028,2029,2030,2031,2032,2033,2034,2035]
[null,null,null,null,null,"-","-","-","-","-","-","-","-","-","-","-","-","-","-","-","-","-","-","-","-","-","-","-","-","-","-"]
[null,"Referenz","aj/fp/mmk","Absenkung auf Null bis 2020","Anteil fluktuierender Erzeugung wird in zwei Jahresschritten um jeweils ein Drittel vermindert, ab 2020 auf 0 gesetzt",1,1,1,1,1,1,1,0.54572012421639449,0.43362051792281486,0.17143660748488035,0,0,0,0,0,0,0,0,0,0,0,0,0,0,0,0]

{"sheet":"D-Sonstige Kosten","index":31,"n_rows":7,"n_cols":31,"rows_kept":7,"cut":false,"hidden":true,"merged":[]}
[" ","Sonstige Kosten [Mrd. Euro]"]
[]
[null,"Szenario","Bearbeiter","Beschreibung","Kommentar"]
[null,null,null,null,null,2010,2011,2012,2013,2014,2015,2016,2017,2018,2019,2020,2021,2022,2023,2024,2025,2026,2027,2028,2029,2030,2031,2032,2033,2034,2035]
[null,null,null,null,null,"Mrd. Euro","Mrd. Euro","Mrd. Euro","Mrd. Euro","Mrd. Euro","Mrd. Euro","Mrd. Euro","Mrd. Euro","Mrd. Euro","Mrd. Euro","Mrd. Euro","Mrd. Euro","Mrd. Euro","Mrd. Euro","Mrd. Euro","Mrd. Euro","Mrd. Euro","Mrd. Euro","Mrd. Euro","Mrd. Euro","Mrd. Euro","Mrd. Euro","Mrd. Euro","Mrd. Euro","Mrd. Euro","Mrd. Euro"]
[null,{"$f":"ControlPanel!L29","v":"Referenz"},{"$f":"VLOOKUP($B$6,$B$7:$AE$25,2,FALSE)","v":"fh"},{"$f":"VLOOKUP($B$6,$B$7:$AE$25,3,FALSE)","v":"0,06Mrd. €"},{"$f":"VLOOKUP($B$6,$B$7:$AE$25,4,FALSE)","v":"0,060 Mrd. € (Wert abgeleitet aus ÜNB-Jahresprognose für 2021)"},{"$f":"IF(F$4<ControlPanel!$D$59,VLOOKUP(\"Referenz\",$B$7:$AE$25,F$4-$F$4+5,FALSE),VLOOKUP($B$6,$B$7:$AE$25,F$4-$F$4+5,FALSE))","v":0.38450000000000001},{"$f":"IF(G$4<ControlPanel!$D$59,VLOOKUP(\"Referenz\",$B$7:$AE$25,G$4-$F$4+5,FALSE),VLOOKUP($B$6,$B$7:$AE$25,G$4-$F$4+5,FALSE))","v":0.42218865985000004},{"$f":"IF(H$4<ControlPanel!$D$59,VLOOKUP(\"Referenz\",$B$7:$AE$25,H$4-$F$4+5,FALSE),VLOOKUP($B$6,$B$7:$AE$25,H$4-$F$4+5,FALSE))","v":0.23028867101000003},{"$f":"IF(I$4<ControlPanel!$D$59,VLOOKUP(\"Referenz\",$B$7:$AE$25,I$4-$F$4+5,FALSE),VLOOKUP($B$6,$B$7:$AE$25,I$4-$F$4+5,FALSE))","v":0.15466122681000002},{"$f":"IF(J$4<ControlPanel!$D$59,VLOOKUP(\"Referenz\",$B$7:$AE$25,J$4-$F$4+5,FALSE),VLOOKUP($B$6,$B$7:$AE$25,J$4-$F$4+5,FALSE))","v":0.29887697133000007},{"$f":"IF(K$4<ControlPanel!$D$59,VLOOKUP(\"Referenz\",$B$7:$AE$25,K$4-$F$4+5,FALSE),VLOOKUP($B$6,$B$7:$AE$25,K$4-$F$4+5,FALSE))","v":0.19595140036000003},{"$f":"IF(L$4<ControlPanel!$D$59,VLOOKUP(\"Referenz\",$B$7:$AE$25,L$4-$F$4+5,FALSE),VLOOKUP($B$6,$B$7:$AE$25,L$4-$F$4+5,FALSE))","v":0.13908307713999998},{"$f":"IF(M$4<ControlPanel!$D$59,VLOOKUP(\"Referenz\",$B$7:$AE$25,M$4-$F$4+5,FALSE),VLOOKUP($B$6,$B$7:$AE$25,M$4-$F$4+5,FALSE))","v":0.14340741743000002},{"$f":"IF(N$4<ControlPanel!$D$59,VLOOKUP(\"Referenz\",$B$7:$AE$25,N$4-$F$4+5,FALSE),VLOOKUP($B$6,$B$7:$AE$25,N$4-$F$4+5,FALSE))","v":6.8122188890000004E-2},{"$f":"IF(O$4<ControlPanel!$D$59,VLOOKUP(\"Referenz\",$B$7:$AE$25,O$4-$F$4+5,FALSE),VLOOKUP($B$6,$B$7:$AE$25,O$4-$F$4+5,FALSE))","v":7.0404653730000002E-2},{"$f":"IF(P$4<ControlPanel!$D$59,VLOOKUP(\"Referenz\",$B$7:$AE$25,P$4-$F$4+5,FALSE),VLOOKUP($B$6,$B$7:$AE$25,P$4-$F$4+5,FALSE))","v":6.4167895450000012E-2},{"$f":"IF(Q$4<ControlPanel!$D$59,VLOOKUP(\"Referenz\",$B$7:$AE$25,Q$4-$F$4+5,FALSE),VLOOKUP($B$6,$B$7:$AE$25,Q$4-$F$4+5,FALSE))","v":5.9920528000000001E-2},{"$f":"IF(R$4<ControlPanel!$D$59,VLOOKUP(\"Referenz\",$B$7:$AE$25,R$4-$F$4+5,FALSE),VLOOKUP($B$6,$B$7:$AE$25,R$4-$F$4+5,FALSE))","v":5.9920528000000001E-2},{"$f":"IF(S$4<ControlPanel!$D$59,VLOOKUP(\"Referenz\",$B$7:$AE$25,S$4-$F$4+5,FALSE),VLOOKUP($B$6,$B$7:$AE$25,S$4-$F$4+5,FALSE))","v":5.9920528000000001E-2},{"$f":"IF(T$4<ControlPanel!$D$59,VLOOKUP(\"Referenz\",$B$7:$AE$25,T$4-$F$4+5,FALSE),VLOOKUP($B$6,$B$7:$AE$25,T$4-$F$4+5,FALSE))","v":5.9920528000000001E-2},{"$f":"IF(U$4<ControlPanel!$D$59,VLOOKUP(\"Referenz\",$B$7:$AE$25,U$4-$F$4+5,FALSE),VLOOKUP($B$6,$B$7:$AE$25,U$4-$F$4+5,FALSE))","v":5.9920528000000001E-2},{"$f":"IF(V$4<ControlPanel!$D$59,VLOOKUP(\"Referenz\",$B$7:$AE$25,V$4-$F$4+5,FALSE),VLOOKUP($B$6,$B$7:$AE$25,V$4-$F$4+5,FALSE))","v":5.9920528000000001E-2},{"$f":"IF(W$4<ControlPanel!$D$59,VLOOKUP(\"Referenz\",$B$7:$AE$25,W$4-$F$4+5,FALSE),VLOOKUP($B$6,$B$7:$AE$25,W$4-$F$4+5,FALSE))","v":5.9920528000000001E-2},{"$f":"IF(X$4<ControlPanel!$D$59,VLOOKUP(\"Referenz\",$B$7:$AE$25,X$4-$F$4+5,FALSE),VLOOKUP($B$6,$B$7:$AE$25,X$4-$F$4+5,FALSE))","v":5.9920528000000001E-2},{"$f":"IF(Y$4<ControlPanel!$D$59,VLOOKUP(\"Referenz\",$B$7:$AE$25,Y$4-$F$4+5,FALSE),VLOOKUP($B$6,$B$7:$AE$25,Y$4-$F$4+5,FALSE))","v":5.9920528000000001E-2},{"$f":"IF(Z$4<ControlPanel!$D$59,VLOOKUP(\"Referenz\",$B$7:$AE$25,Z$4-$F$4+5,FALSE),VLOOKUP($B$6,$B$7:$AE$25,Z$4-$F$4+5,FALSE))","v":5.9920528000000001E-2},{"$f":"IF(AA$4<ControlPanel!$D$59,VLOOKUP(\"Referenz\",$B$7:$AE$25,AA$4-$F$4+5,FALSE),VLOOKUP($B$6,$B$7:$AE$25,AA$4-$F$4+5,FALSE))","v":5.9920528000000001E-2},{"$f":"IF(AB$4<ControlPanel!$D$59,VLOOKUP(\"Referenz\",$B$7:$AE$25,AB$4-$F$4+5,FALSE),VLOOKUP($B$6,$B$7:$AE$25,AB$4-$F$4+5,FALSE))","v":5.9920528000000001E-2},{"$f":"IF(AC$4<ControlPanel!$D$59,VLOOKUP(\"Referenz\",$B$7:$AE$25,AC$4-$F$4+5,FALSE),VLOOKUP($B$6,$B$7:$AE$25,AC$4-$F$4+5,FALSE))","v":5.9920528000000001E-2},{"$f":"IF(AD$4<ControlPanel!$D$59,VLOOKUP(\"Referenz\",$B$7:$AE$25,AD$4-$F$4+5,FALSE),VLOOKUP($B$6,$B$7:$AE$25,AD$4-$F$4+5,FALSE))","v":5.9920528000000001E-2},{"$f":"IF(AE$4<ControlPanel!$D$59,VLOOKUP(\"Referenz\",$B$7:$AE$25,AE$4-$F$4+5,FALSE),VLOOKUP($B$6,$B$7:$AE$25,AE$4-$F$4+5,FALSE))","v":5.9920528000000001E-2}]
[null,"Referenz","fh","0,06Mrd. €","0,060 Mrd. € (Wert abgeleitet aus ÜNB-Jahresprognose für 2021)",0.38450000000000001,0.42218865985000004,0.23028867101000003,0.15466122681000002,0.29887697133000007,0.19595140036000003,0.13908307713999998,0.14340741743000002,6.8122188890000004E-2,7.0404653730000002E-2,6.4167895450000012E-2,5.9920528000000001E-2,{"$f":"Q7","v":5.9920528000000001E-2},5.9920528000000001E-2,5.9920528000000001E-2,5.9920528000000001E-2,5.9920528000000001E-2,5.9920528000000001E-2,5.9920528000000001E-2,5.9920528000000001E-2,5.9920528000000001E-2,5.9920528000000001E-2,5.9920528000000001E-2,5.9920528000000001E-2,5.9920528000000001E-2,5.9920528000000001E-2]

{"sheet":"D-Inflationsrate","index":32,"n_rows":10,"n_cols":31,"rows_kept":10,"cut":false,"hidden":true,"merged":[]}
[" ","Inflationsrate für Umrechnung von nominalen und realen Zahlungsströmen"]
[]
[null,"Szenario","Bearbeiter","Beschreibung","Kommentar"]
[null,null,null,null,null,2010,2011,2012,2013,2014,2015,2016,2017,2018,2019,2020,2021,2022,2023,2024,2025,2026,2027,2028,2029,2030,2031,2032,2033,2034,2035]
[null,null,null,null,null,"%","%","%","%","%","%","%","%","%","%","%","%","%","%","%","%","%","%","%","%","%","%","%","%","%","%"]
[null,{"$f":"ControlPanel!L30","v":"Referenz"},{"$f":"VLOOKUP($B$6,$B$7:$AE$25,2,FALSE)","v":"mh"},{"$f":"VLOOKUP($B$6,$B$7:$AE$25,3,FALSE)","v":"1,5% pro Jahr"},{"$f":"VLOOKUP($B$6,$B$7:$AE$25,4,FALSE)","v":"Bis 2015 Jährlicher Zuwachs der Verbraucherpreisindizes des statistitschen Bundesamts. Ab 2016: 1,5% pro Jahr."},{"$f":"IF(F$4<ControlPanel!$D$59,VLOOKUP(\"Referenz\",$B$7:$AE$25,F$4-$F$4+5,FALSE),VLOOKUP($B$6,$B$7:$AE$25,F$4-$F$4+5,FALSE))","v":1.1000000000000001E-2},{"$f":"IF(G$4<ControlPanel!$D$59,VLOOKUP(\"Referenz\",$B$7:$AE$25,G$4-$F$4+5,FALSE),VLOOKUP($B$6,$B$7:$AE$25,G$4-$F$4+5,FALSE))","v":2.1000000000000001E-2},{"$f":"IF(H$4<ControlPanel!$D$59,VLOOKUP(\"Referenz\",$B$7:$AE$25,H$4-$F$4+5,FALSE),VLOOKUP($B$6,$B$7:$AE$25,H$4-$F$4+5,FALSE))","v":0.02},{"$f":"IF(I$4<ControlPanel!$D$59,VLOOKUP(\"Referenz\",$B$7:$AE$25,I$4-$F$4+5,FALSE),VLOOKUP($B$6,$B$7:$AE$25,I$4-$F$4+5,FALSE))","v":1.4999999999999999E-2},{"$f":"IF(J$4<ControlPanel!$D$59,VLOOKUP(\"Referenz\",$B$7:$AE$25,J$4-$F$4+5,FALSE),VLOOKUP($B$6,$B$7:$AE$25,J$4-$F$4+5,FALSE))","v":9.0000000000000011E-3},{"$f":"IF(K$4<ControlPanel!$D$59,VLOOKUP(\"Referenz\",$B$7:$AE$25,K$4-$F$4+5,FALSE),VLOOKUP($B$6,$B$7:$AE$25,K$4-$F$4+5,FALSE))","v":3.0000000000000001E-3},{"$f":"IF(L$4<ControlPanel!$D$59,VLOOKUP(\"Referenz\",$B$7:$AE$25,L$4-$F$4+5,FALSE),VLOOKUP($B$6,$B$7:$AE$25,L$4-$F$4+5,FALSE))","v":1.4999999999999999E-2},{"$f":"IF(M$4<ControlPanel!$D$59,VLOOKUP(\"Referenz\",$B$7:$AE$25,M$4-$F$4+5,FALSE),VLOOKUP($B$6,$B$7:$AE$25,M$4-$F$4+5,FALSE))","v":1.4999999999999999E-2},{"$f":"IF(N$4<ControlPanel!$D$59,VLOOKUP(\"Referenz\",$B$7:$AE$25,N$4-$F$4+5,FALSE),VLOOKUP($B$6,$B$7:$AE$25,N$4-$F$4+5,FALSE))","v":1.4999999999999999E-2},{"$f":"IF(O$4<ControlPanel!$D$59,VLOOKUP(\"Referenz\",$B$7:$AE$25,O$4-$F$4+5,FALSE),VLOOKUP($B$6,$B$7:$AE$25,O$4-$F$4+5,FALSE))","v":1.4999999999999999E-2},{"$f":"IF(P$4<ControlPanel!$D$59,VLOOKUP(\"Referenz\",$B$7:$AE$25,P$4-$F$4+5,FALSE),VLOOKUP($B$6,$B$7:$AE$25,P$4-$F$4+5,FALSE))","v":1.4999999999999999E-2},{"$f":"IF(Q$4<ControlPanel!$D$59,VLOOKUP(\"Referenz\",$B$7:$AE$25,Q$4-$F$4+5,FALSE),VLOOKUP($B$6,$B$7:$AE$25,Q$4-$F$4+5,FALSE))","v":1.4999999999999999E-2},{"$f":"IF(R$4<ControlPanel!$D$59,VLOOKUP(\"Referenz\",$B$7:$AE$25,R$4-$F$4+5,FALSE),VLOOKUP($B$6,$B$7:$AE$25,R$4-$F$4+5,FALSE))","v":1.4999999999999999E-2},{"$f":"IF(S$4<ControlPanel!$D$59,VLOOKUP(\"Referenz\",$B$7:$AE$25,S$4-$F$4+5,FALSE),VLOOKUP($B$6,$B$7:$AE$25,S$4-$F$4+5,FALSE))","v":1.4999999999999999E-2},{"$f":"IF(T$4<ControlPanel!$D$59,VLOOKUP(\"Referenz\",$B$7:$AE$25,T$4-$F$4+5,FALSE),VLOOKUP($B$6,$B$7:$AE$25,T$4-$F$4+5,FALSE))","v":1.4999999999999999E-2},{"$f":"IF(U$4<ControlPanel!$D$59,VLOOKUP(\"Referenz\",$B$7:$AE$25,U$4-$F$4+5,FALSE),VLOOKUP($B$6,$B$7:$AE$25,U$4-$F$4+5,FALSE))","v":1.4999999999999999E-2},{"$f":"IF(V$4<ControlPanel!$D$59,VLOOKUP(\"Referenz\",$B$7:$AE$25,V$4-$F$4+5,FALSE),VLOOKUP($B$6,$B$7:$AE$25,V$4-$F$4+5,FALSE))","v":1.4999999999999999E-2},{"$f":"IF(W$4<ControlPanel!$D$59,VLOOKUP(\"Referenz\",$B$7:$AE$25,W$4-$F$4+5,FALSE),VLOOKUP($B$6,$B$7:$AE$25,W$4-$F$4+5,FALSE))","v":1.4999999999999999E-2},{"$f":"IF(X$4<ControlPanel!$D$59,VLOOKUP(\"Referenz\",$B$7:$AE$25,X$4-$F$4+5,FALSE),VLOOKUP($B$6,$B$7:$AE$25,X$4-$F$4+5,FALSE))","v":1.4999999999999999E-2},{"$f":"IF(Y$4<ControlPanel!$D$59,VLOOKUP(\"Referenz\",$B$7:$AE$25,Y$4-$F$4+5,FALSE),VLOOKUP($B$6,$B$7:$AE$25,Y$4-$F$4+5,FALSE))","v":1.4999999999999999E-2},{"$f":"IF(Z$4<ControlPanel!$D$59,VLOOKUP(\"Referenz\",$B$7:$AE$25,Z$4-$F$4+5,FALSE),VLOOKUP($B$6,$B$7:$AE$25,Z$4-$F$4+5,FALSE))","v":1.4999999999999999E-2},{"$f":"IF(AA$4<ControlPanel!$D$59,VLOOKUP(\"Referenz\",$B$7:$AE$25,AA$4-$F$4+5,FALSE),VLOOKUP($B$6,$B$7:$AE$25,AA$4-$F$4+5,FALSE))","v":1.4999999999999999E-2},{"$f":"IF(AB$4<ControlPanel!$D$59,VLOOKUP(\"Referenz\",$B$7:$AE$25,AB$4-$F$4+5,FALSE),VLOOKUP($B$6,$B$7:$AE$25,AB$4-$F$4+5,FALSE))","v":1.4999999999999999E-2},{"$f":"IF(AC$4<ControlPanel!$D$59,VLOOKUP(\"Referenz\",$B$7:$AE$25,AC$4-$F$4+5,FALSE),VLOOKUP($B$6,$B$7:$AE$25,AC$4-$F$4+5,FALSE))","v":1.4999999999999999E-2},{"$f":"IF(AD$4<ControlPanel!$D$59,VLOOKUP(\"Referenz\",$B$7:$AE$25,AD$4-$F$4+5,FALSE),VLOOKUP($B$6,$B$7:$AE$25,AD$4-$F$4+5,FALSE))","v":1.4999999999999999E-2},{"$f":"IF(AE$4<ControlPanel!$D$59,VLOOKUP(\"Referenz\",$B$7:$AE$25,AE$4-$F$4+5,FALSE),VLOOKUP($B$6,$B$7:$AE$25,AE$4-$F$4+5,FALSE))","v":1.4999999999999999E-2}]
[null,"Referenz","mh","1,5% pro Jahr","Bis 2015 Jährlicher Zuwachs der Verbraucherpreisindizes des statistitschen Bundesamts. Ab 2016: 1,5% pro Jahr.",1.1000000000000001E-2,2.1000000000000001E-2,0.02,1.4999999999999999E-2,9.0000000000000011E-3,3.0000000000000001E-3,1.4999999999999999E-2,1.4999999999999999E-2,1.4999999999999999E-2,1.4999999999999999E-2,1.4999999999999999E-2,1.4999999999999999E-2,1.4999999999999999E-2,1.4999999999999999E-2,1.4999999999999999E-2,1.4999999999999999E-2,1.4999999999999999E-2,1.4999999999999999E-2,1.4999999999999999E-2,1.4999999999999999E-2,1.4999999999999999E-2,1.4999999999999999E-2,1.4999999999999999E-2,1.4999999999999999E-2,1.4999999999999999E-2,1.4999999999999999E-2]
[null,"2,0%","mh","2,0% pro Jahr",null,null,null,null,null,null,null,null,null,null,null,0.02,0.02,0.02,0.02,0.02,0.02,0.02,0.02,0.02,0.02,0.02,0.02,0.02,0.02,0.02,0.02]
[null,"1,5%","mh","1,5% pro Jahr",null,null,null,null,null,null,null,null,null,null,null,1.4999999999999999E-2,1.4999999999999999E-2,1.4999999999999999E-2,1.4999999999999999E-2,1.4999999999999999E-2,1.4999999999999999E-2,1.4999999999999999E-2,1.4999999999999999E-2,1.4999999999999999E-2,1.4999999999999999E-2,1.4999999999999999E-2,1.4999999999999999E-2,1.4999999999999999E-2,1.4999999999999999E-2,1.4999999999999999E-2,1.4999999999999999E-2]
[null,"1,0%","mh","1,0% pro Jahr",null,null,null,null,null,null,null,null,null,null,null,0.01,0.01,0.01,0.01,0.01,0.01,0.01,0.01,0.01,0.01,0.01,0.01,0.01,0.01,0.01,0.01]

{"sheet":"D-Prognosefehler Kontostand","index":33,"n_rows":11,"n_cols":6,"rows_kept":11,"cut":false,"hidden":true,"merged":[]}
[" ","Prognosefehler Kontostand"]
[]
[null,"Szenario","Bearbeiter","Beschreibung","Kommentar","Wert"]
[]
[null,null,null,null,null,"Mrd. Euro"]
[null,{"$f":"ControlPanel!L22","v":"keine Abweichung"},{"$f":"VLOOKUP($B$6,$B$7:$F$25,2,FALSE)","v":"mh"},{"$f":"VLOOKUP($B$6,$B$7:$F$25,3,FALSE)","v":"keine Abweichung"},{"$f":"VLOOKUP($B$6,$B$7:$F$25,4,FALSE)","v":0},{"$f":"VLOOKUP($B$6,$B$7:$F$25,5,FALSE)","v":0}]
[null,"-2 Mrd. Euro","mh","-2 Mrd. Euro",null,-2]
[null,"-1 Mrd. Euro","mh","-1 Mrd. Euro",null,-1]
[null,"keine Abweichung","mh","keine Abweichung",null,0]
[null,"+1 Mrd. Euro","mh","+1 Mrd. Euro",null,1]
[null,"+2 Mrd. Euro","mh","+2 Mrd. Euro",null,2]

{"sheet":"D-Kontostand aktuelles Jahr","index":34,"n_rows":12,"n_cols":6,"rows_kept":12,"cut":false,"hidden":true,"merged":[]}
[" ","Kontostand am 30.9. des aktuellen Jahres"]
[]
[null,"Szenario","Bearbeiter","Beschreibung","Kommentar","Wert"]
[]
[null,null,null,null,null,"Mrd. Euro"]
[null,{"$f":"ControlPanel!L21","v":"endogen"},{"$f":"VLOOKUP($B$6,$B$7:$F$25,2,FALSE)","v":"mh"},{"$f":"VLOOKUP($B$6,$B$7:$F$25,3,FALSE)","v":"wird endogen berechnet"},{"$f":"VLOOKUP($B$6,$B$7:$F$25,4,FALSE)","v":0},{"$f":"VLOOKUP($B$6,$B$7:$F$25,5,FALSE)","v":0}]
[null,"endogen","mh","wird endogen berechnet",null,0]
[null,"-2 Mrd. Euro","mh","-2 Mrd. Euro",null,-2]
[null,"0 Mrd. Euro","mh","0 Mrd. Euro",null,0]
[null,"2 Mrd. Euro","mh","2 Mrd. Euro",null,2]
[null,"4 Mrd. Euro","mh","4 Mrd. Euro",null,4]
[null,"6 Mrd. Euro","mh","6 Mrd. Euro",null,6]

{"sheet":"D-Anteil Eigenverbrauch EE neu","index":35,"n_rows":14,"n_cols":32,"rows_kept":14,"cut":false,"hidden":true,"merged":[]}
[" ","Anteil Eigenverbrauch EE-Neuanlagen (ab 2015)"]
[]
[null,null,"Szenario","Bearbeiter","Beschreibung","Kommentar"]
[null,null,null,null,null,null,2010,2011,2012,2013,2014,2015,2016,2017,2018,2019,2020,2021,2022,2023,2024,2025,2026,2027,2028,2029,2030,2031,2032,2033,2034,2035]
[null,null,null,null,null,null,"none","none","none","none","none","none","none","none","none","none","none","none","none","none","none","none","none","none","none","none","none","none","none","none","none","none"]
[null,"Wasser","Referenz","cl",0,0,0,0,0,0,0,0,0,0,0,0,0,0,0,0,0,0,0,0,0,0,0,0,0,0,0,0]
[null,"Gase","Referenz","cl",0,0,0,0,0,0,0,0,0,0,0,0,0,0,0,0,0,0,0,0,0,0,0,0,0,0,0,0]
[null,"Biomasse","Referenz","cl",0,0,0,0,0,0,0,0,0,0,0,0,0,0,0,0,0,0,0,0,0,0,0,0,0,0,0,0]
[null,"Geothermie","Referenz","cl",0,0,0,0,0,0,0,0,0,0,0,0,0,0,0,0,0,0,0,0,0,0,0,0,0,0,0,0]
[null,"Wind onshore","Referenz","cl",0,0,0,0,0,0,0,0,0,0,0,0,0,0,0,0,0,0,0,0,0,0,0,0,0,0,0,0]
[null,"Wind offshore","Referenz","cl",0,0,0,0,0,0,0,0,0,0,0,0,0,0,0,0,0,0,0,0,0,0,0,0,0,0,0,0]
[null,"PV",{"$f":"ControlPanel!E27","v":"Referenz"},{"$f":"VLOOKUP($C$12,$C$13:$AF$37,2,FALSE)","v":"dr"},{"$f":"VLOOKUP($C$12,$C$13:$AF$37,3,FALSE)","v":"9%"},{"$f":"VLOOKUP($C$12,$C$13:$AF$37,4,FALSE)","v":"ÜNB Jahresprognose danach MFP Trend"},{"$f":"IF(G$4<ControlPanel!$D$59,VLOOKUP(\"Referenz\",$C$13:$AF$37,G$4-$G$4+5,FALSE),VLOOKUP($C$12,$C$13:$AF$37,G$4-$G$4+5,FALSE))","v":0},{"$f":"IF(H$4<ControlPanel!$D$59,VLOOKUP(\"Referenz\",$C$13:$AF$37,H$4-$G$4+5,FALSE),VLOOKUP($C$12,$C$13:$AF$37,H$4-$G$4+5,FALSE))","v":0},{"$f":"IF(I$4<ControlPanel!$D$59,VLOOKUP(\"Referenz\",$C$13:$AF$37,I$4-$G$4+5,FALSE),VLOOKUP($C$12,$C$13:$AF$37,I$4-$G$4+5,FALSE))","v":0},{"$f":"IF(J$4<ControlPanel!$D$59,VLOOKUP(\"Referenz\",$C$13:$AF$37,J$4-$G$4+5,FALSE),VLOOKUP($C$12,$C$13:$AF$37,J$4-$G$4+5,FALSE))","v":0},{"$f":"IF(K$4<ControlPanel!$D$59,VLOOKUP(\"Referenz\",$C$13:$AF$37,K$4-$G$4+5,FALSE),VLOOKUP($C$12,$C$13:$AF$37,K$4-$G$4+5,FALSE))","v":0},{"$f":"IF(L$4<ControlPanel!$D$59,VLOOKUP(\"Referenz\",$C$13:$AF$37,L$4-$G$4+5,FALSE),VLOOKUP($C$12,$C$13:$AF$37,L$4-$G$4+5,FALSE))","v":0.20025000000000001},{"$f":"IF(M$4<ControlPanel!$D$59,VLOOKUP(\"Referenz\",$C$13:$AF$37,M$4-$G$4+5,FALSE),VLOOKUP($C$12,$C$13:$AF$37,M$4-$G$4+5,FALSE))","v":0.26},{"$f":"IF(N$4<ControlPanel!$D$59,VLOOKUP(\"Referenz\",$C$13:$AF$37,N$4-$G$4+5,FALSE),VLOOKUP($C$12,$C$13:$AF$37,N$4-$G$4+5,FALSE))","v":0.123},{"$f":"IF(O$4<ControlPanel!$D$59,VLOOKUP(\"Referenz\",$C$13:$AF$37,O$4-$G$4+5,FALSE),VLOOKUP($C$12,$C$13:$AF$37,O$4-$G$4+5,FALSE))","v":0.123},{"$f":"IF(P$4<ControlPanel!$D$59,VLOOKUP(\"Referenz\",$C$13:$AF$37,P$4-$G$4+5,FALSE),VLOOKUP($C$12,$C$13:$AF$37,P$4-$G$4+5,FALSE))","v":8.6282704209457411E-2},{"$f":"IF(Q$4<ControlPanel!$D$59,VLOOKUP(\"Referenz\",$C$13:$AF$37,Q$4-$G$4+5,FALSE),VLOOKUP($C$12,$C$13:$AF$37,Q$4-$G$4+5,FALSE))","v":5.896218016593225E-2},{"$f":"IF(R$4<ControlPanel!$D$59,VLOOKUP(\"Referenz\",$C$13:$AF$37,R$4-$G$4+5,FALSE),VLOOKUP($C$12,$C$13:$AF$37,R$4-$G$4+5,FALSE))","v":6.7386075190170966E-2},{"$f":"IF(S$4<ControlPanel!$D$59,VLOOKUP(\"Referenz\",$C$13:$AF$37,S$4-$G$4+5,FALSE),VLOOKUP($C$12,$C$13:$AF$37,S$4-$G$4+5,FALSE))","v":0.09},{"$f":"IF(T$4<ControlPanel!$D$59,VLOOKUP(\"Referenz\",$C$13:$AF$37,T$4-$G$4+5,FALSE),VLOOKUP($C$12,$C$13:$AF$37,T$4-$G$4+5,FALSE))","v":0.09},{"$f":"IF(U$4<ControlPanel!$D$59,VLOOKUP(\"Referenz\",$C$13:$AF$37,U$4-$G$4+5,FALSE),VLOOKUP($C$12,$C$13:$AF$37,U$4-$G$4+5,FALSE))","v":0.09},{"$f":"IF(V$4<ControlPanel!$D$59,VLOOKUP(\"Referenz\",$C$13:$AF$37,V$4-$G$4+5,FALSE),VLOOKUP($C$12,$C$13:$AF$37,V$4-$G$4+5,FALSE))","v":0.09},{"$f":"IF(W$4<ControlPanel!$D$59,VLOOKUP(\"Referenz\",$C$13:$AF$37,W$4-$G$4+5,FALSE),VLOOKUP($C$12,$C$13:$AF$37,W$4-$G$4+5,FALSE))","v":0.09},{"$f":"IF(X$4<ControlPanel!$D$59,VLOOKUP(\"Referenz\",$C$13:$AF$37,X$4-$G$4+5,FALSE),VLOOKUP($C$12,$C$13:$AF$37,X$4-$G$4+5,FALSE))","v":0.09},{"$f":"IF(Y$4<ControlPanel!$D$59,VLOOKUP(\"Referenz\",$C$13:$AF$37,Y$4-$G$4+5,FALSE),VLOOKUP($C$12,$C$13:$AF$37,Y$4-$G$4+5,FALSE))","v":0.09},{"$f":"IF(Z$4<ControlPanel!$D$59,VLOOKUP(\"Referenz\",$C$13:$AF$37,Z$4-$G$4+5,FALSE),VLOOKUP($C$12,$C$13:$AF$37,Z$4-$G$4+5,FALSE))","v":0.09},{"$f":"IF(AA$4<ControlPanel!$D$59,VLOOKUP(\"Referenz\",$C$13:$AF$37,AA$4-$G$4+5,FALSE),VLOOKUP($C$12,$C$13:$AF$37,AA$4-$G$4+5,FALSE))","v":0.09},{"$f":"IF(AB$4<ControlPanel!$D$59,VLOOKUP(\"Referenz\",$C$13:$AF$37,AB$4-$G$4+5,FALSE),VLOOKUP($C$12,$C$13:$AF$37,AB$4-$G$4+5,FALSE))","v":0.09},{"$f":"IF(AC$4<ControlPanel!$D$59,VLOOKUP(\"Referenz\",$C$13:$AF$37,AC$4-$G$4+5,FALSE),VLOOKUP($C$12,$C$13:$AF$37,AC$4-$G$4+5,FALSE))","v":0.09},{"$f":"IF(AD$4<ControlPanel!$D$59,VLOOKUP(\"Referenz\",$C$13:$AF$37,AD$4-$G$4+5,FALSE),VLOOKUP($C$12,$C$13:$AF$37,AD$4-$G$4+5,FALSE))","v":0.09},{"$f":"IF(AE$4<ControlPanel!$D$59,VLOOKUP(\"Referenz\",$C$13:$AF$37,AE$4-$G$4+5,FALSE),VLOOKUP($C$12,$C$13:$AF$37,AE$4-$G$4+5,FALSE))","v":0.09},{"$f":"IF(AF$4<ControlPanel!$D$59,VLOOKUP(\"Referenz\",$C$13:$AF$37,AF$4-$G$4+5,FALSE),VLOOKUP($C$12,$C$13:$AF$37,AF$4-$G$4+5,FALSE))","v":0.09}]
[null,"PV","Referenz","dr","9%","ÜNB Jahresprognose danach MFP Trend",null,null,null,null,null,0.20025000000000001,0.26,0.123,0.123,8.6282704209457411E-2,5.896218016593225E-2,6.7386075190170966E-2,0.09,0.09,0.09,0.09,0.09,0.09,0.09,0.09,0.09,0.09,0.09,0.09,0.09,0.09]
[null,null,"Anstieg 20%","dr"," Anstieg auf 20% bis 2035","ÜNB Jahresprognose, MFP Trend danach linear auf 20%",null,null,null,null,null,null,null,null,null,null,null,null,0.09,{"$f":"S14+($AF$14-$S$14)/13","v":9.8461538461538461E-2},{"$f":"T14+($AF$14-$S$14)/13","v":0.10692307692307693},0.11538461538461539,0.12384615384615386,0.13230769230769232,0.14076923076923079,0.14923076923076925,0.15769230769230771,0.16615384615384618,0.17461538461538464,0.18307692307692311,0.19153846153846157,0.2]

{"sheet":"D-Zuschuss","index":36,"n_rows":14,"n_cols":31,"rows_kept":14,"cut":false,"hidden":true,"merged":[]}
[" ","Jährliche Zuschüsse aus dem Bundeshaushalt zur Senkung der Umlage"]
[]
[null,"Szenario","Bearbeiter","Beschreibung","Kommentar"]
[null,null,null,null,null,2010,2011,2012,2013,2014,2015,2016,2017,2018,2019,2020,2021,2022,2023,2024,2025,2026,2027,2028,2029,2030,2031,2032,2033,2034,2035]
[null,null,null,null,null,"Mrd. €","Mrd. €","Mrd. €","Mrd. €","Mrd. €","Mrd. €","Mrd. €","Mrd. €","Mrd. €","Mrd. €","Mrd. €","Mrd. €","Mrd. €","Mrd. €","Mrd. €","Mrd. €","Mrd. €","Mrd. €","Mrd. €","Mrd. €","Mrd. €","Mrd. €","Mrd. €","Mrd. €","Mrd. €","Mrd. €"]
[null,{"$f":"ControlPanel!I45","v":"Referenz"},{"$f":"VLOOKUP($B$6,$B$7:$AE$25,2,FALSE)","v":"fh"},{"$f":"VLOOKUP($B$6,$B$7:$AE$25,3,FALSE)","v":"6,5 ct/kWh in 2021 und 6,0 ct/kWh in 2022 werden erreicht"},{"$f":"VLOOKUP($B$6,$B$7:$AE$25,4,FALSE)","v":"Die festgelegten 6,5 ct/kWh im Jahr 2021 und 6,0 ct/kWh in 2022 werden erreicht. Danach konstant 5 Mrd."},{"$f":"IF(F$4<ControlPanel!$D$59,VLOOKUP(\"Referenz\",$B$7:$AE$25,F$4-$F$4+5,FALSE),VLOOKUP($B$6,$B$7:$AE$25,F$4-$F$4+5,FALSE))","v":0},{"$f":"IF(G$4<ControlPanel!$D$59,VLOOKUP(\"Referenz\",$B$7:$AE$25,G$4-$F$4+5,FALSE),VLOOKUP($B$6,$B$7:$AE$25,G$4-$F$4+5,FALSE))","v":0},{"$f":"IF(H$4<ControlPanel!$D$59,VLOOKUP(\"Referenz\",$B$7:$AE$25,H$4-$F$4+5,FALSE),VLOOKUP($B$6,$B$7:$AE$25,H$4-$F$4+5,FALSE))","v":0},{"$f":"IF(I$4<ControlPanel!$D$59,VLOOKUP(\"Referenz\",$B$7:$AE$25,I$4-$F$4+5,FALSE),VLOOKUP($B$6,$B$7:$AE$25,I$4-$F$4+5,FALSE))","v":0},{"$f":"IF(J$4<ControlPanel!$D$59,VLOOKUP(\"Referenz\",$B$7:$AE$25,J$4-$F$4+5,FALSE),VLOOKUP($B$6,$B$7:$AE$25,J$4-$F$4+5,FALSE))","v":0},{"$f":"IF(K$4<ControlPanel!$D$59,VLOOKUP(\"Referenz\",$B$7:$AE$25,K$4-$F$4+5,FALSE),VLOOKUP($B$6,$B$7:$AE$25,K$4-$F$4+5,FALSE))","v":0},{"$f":"IF(L$4<ControlPanel!$D$59,VLOOKUP(\"Referenz\",$B$7:$AE$25,L$4-$F$4+5,FALSE),VLOOKUP($B$6,$B$7:$AE$25,L$4-$F$4+5,FALSE))","v":0},{"$f":"IF(M$4<ControlPanel!$D$59,VLOOKUP(\"Referenz\",$B$7:$AE$25,M$4-$F$4+5,FALSE),VLOOKUP($B$6,$B$7:$AE$25,M$4-$F$4+5,FALSE))","v":0},{"$f":"IF(N$4<ControlPanel!$D$59,VLOOKUP(\"Referenz\",$B$7:$AE$25,N$4-$F$4+5,FALSE),VLOOKUP($B$6,$B$7:$AE$25,N$4-$F$4+5,FALSE))","v":0},{"$f":"IF(O$4<ControlPanel!$D$59,VLOOKUP(\"Referenz\",$B$7:$AE$25,O$4-$F$4+5,FALSE),VLOOKUP($B$6,$B$7:$AE$25,O$4-$F$4+5,FALSE))","v":0},{"$f":"IF(P$4<ControlPanel!$D$59,VLOOKUP(\"Referenz\",$B$7:$AE$25,P$4-$F$4+5,FALSE),VLOOKUP($B$6,$B$7:$AE$25,P$4-$F$4+5,FALSE))","v":0},{"$f":"IF(Q$4<ControlPanel!$D$59,VLOOKUP(\"Referenz\",$B$7:$AE$25,Q$4-$F$4+5,FALSE),VLOOKUP($B$6,$B$7:$AE$25,Q$4-$F$4+5,FALSE))","v":10.8},{"$f":"IF(R$4<ControlPanel!$D$59,VLOOKUP(\"Referenz\",$B$7:$AE$25,R$4-$F$4+5,FALSE),VLOOKUP($B$6,$B$7:$AE$25,R$4-$F$4+5,FALSE))","v":0},{"$f":"IF(S$4<ControlPanel!$D$59,VLOOKUP(\"Referenz\",$B$7:$AE$25,S$4-$F$4+5,FALSE),VLOOKUP($B$6,$B$7:$AE$25,S$4-$F$4+5,FALSE))","v":5},{"$f":"IF(T$4<ControlPanel!$D$59,VLOOKUP(\"Referenz\",$B$7:$AE$25,T$4-$F$4+5,FALSE),VLOOKUP($B$6,$B$7:$AE$25,T$4-$F$4+5,FALSE))","v":5},{"$f":"IF(U$4<ControlPanel!$D$59,VLOOKUP(\"Referenz\",$B$7:$AE$25,U$4-$F$4+5,FALSE),VLOOKUP($B$6,$B$7:$AE$25,U$4-$F$4+5,FALSE))","v":5},{"$f":"IF(V$4<ControlPanel!$D$59,VLOOKUP(\"Referenz\",$B$7:$AE$25,V$4-$F$4+5,FALSE),VLOOKUP($B$6,$B$7:$AE$25,V$4-$F$4+5,FALSE))","v":5},{"$f":"IF(W$4<ControlPanel!$D$59,VLOOKUP(\"Referenz\",$B$7:$AE$25,W$4-$F$4+5,FALSE),VLOOKUP($B$6,$B$7:$AE$25,W$4-$F$4+5,FALSE))","v":5},{"$f":"IF(X$4<ControlPanel!$D$59,VLOOKUP(\"Referenz\",$B$7:$AE$25,X$4-$F$4+5,FALSE),VLOOKUP($B$6,$B$7:$AE$25,X$4-$F$4+5,FALSE))","v":5},{"$f":"IF(Y$4<ControlPanel!$D$59,VLOOKUP(\"Referenz\",$B$7:$AE$25,Y$4-$F$4+5,FALSE),VLOOKUP($B$6,$B$7:$AE$25,Y$4-$F$4+5,FALSE))","v":5},{"$f":"IF(Z$4<ControlPanel!$D$59,VLOOKUP(\"Referenz\",$B$7:$AE$25,Z$4-$F$4+5,FALSE),VLOOKUP($B$6,$B$7:$AE$25,Z$4-$F$4+5,FALSE))","v":5},{"$f":"IF(AA$4<ControlPanel!$D$59,VLOOKUP(\"Referenz\",$B$7:$AE$25,AA$4-$F$4+5,FALSE),VLOOKUP($B$6,$B$7:$AE$25,AA$4-$F$4+5,FALSE))","v":5},{"$f":"IF(AB$4<ControlPanel!$D$59,VLOOKUP(\"Referenz\",$B$7:$AE$25,AB$4-$F$4+5,FALSE),VLOOKUP($B$6,$B$7:$AE$25,AB$4-$F$4+5,FALSE))","v":5},{"$f":"IF(AC$4<ControlPanel!$D$59,VLOOKUP(\"Referenz\",$B$7:$AE$25,AC$4-$F$4+5,FALSE),VLOOKUP($B$6,$B$7:$AE$25,AC$4-$F$4+5,FALSE))","v":5},{"$f":"IF(AD$4<ControlPanel!$D$59,VLOOKUP(\"Referenz\",$B$7:$AE$25,AD$4-$F$4+5,FALSE),VLOOKUP($B$6,$B$7:$AE$25,AD$4-$F$4+5,FALSE))","v":5},{"$f":"IF(AE$4<ControlPanel!$D$59,VLOOKUP(\"Referenz\",$B$7:$AE$25,AE$4-$F$4+5,FALSE),VLOOKUP($B$6,$B$7:$AE$25,AE$4-$F$4+5,FALSE))","v":5}]
[null,"Referenz","fh","6,5 ct/kWh in 2021 und 6,0 ct/kWh in 2022 werden erreicht","Die festgelegten 6,5 ct/kWh im Jahr 2021 und 6,0 ct/kWh in 2022 werden erreicht. Danach konstant 5 Mrd.",null,null,null,null,null,null,null,null,null,null,null,10.8,0,5,5,5,5,5,5,5,5,5,5,5,5,5]
[null,"10 Mrd€/a","mh","10 Mrd€/a","Konstant 10 Mrd/a",null,null,null,null,null,null,null,null,null,null,null,10,10,10,10,10,10,10,10,10,10,10,10,10,10,10]
[null,"5 Mrd€/a","mh","5 Mrd€/a","Konstant 5 Mrd/a",null,null,null,null,null,null,null,null,null,null,null,5,5,5,5,5,5,5,5,5,5,5,5,5,5,5]
[null,"keine","mh","keine","keine Zuzahlung",null,null,null,null,null,null,null,null,null,null,null,0,0,0,0,0,0,0,0,0,0,0,0,0,0,0]
[null,"Alle Mittel","fh","maximal verfügbare Mittel aus Bundeshaushalt","Gesamte Verwendung der maximal eingeplanten Mittel aus dem Bundeshauhalt in 2021 und 2022, danach konstant 5 Mrd",null,null,null,null,null,null,null,null,null,null,null,10.8,0,5,5,5,5,5,5,5,5,5,5,5,5,5]
[]
[]
[null,null,null,null,null,null,null,null,null,null,null,null,null,null,null,null,null,null,4.1085000000000003]

{"sheet":"D-Strommenge ges.","index":37,"n_rows":12,"n_cols":32,"rows_kept":12,"cut":false,"hidden":true,"merged":[]}
[" ","Insgesamt erzeugte EE-Strommenge laut ÜNB-Jahresprognosen (TWh)"]
[]
[null,null,"Szenario","Bearbeiter","Beschreibung","Kommentar"]
[null,null,null,null,null,null,2010,2011,2012,2013,2014,2015,2016,2017,2018,2019,2020,2021,2022,2023,2024,2025,2026,2027,2028,2029,2030,2031,2032,2033,2034,2035]
[null,null,null,null,null,null,"TWh","TWh","TWh","TWh","TWh","TWh","TWh","TWh","TWh","TWh","TWh","TWh","TWh","TWh","TWh","TWh","TWh","TWh","TWh","TWh","TWh","TWh","TWh","TWh","TWh","TWh"]
[null,"Wasser","Historisch","fh","ÜNB Jahresprognose",null,5.444,6.0667459999999993,5.8298559999999995,6.2952879999999993,6.154331,6.0918529999999995,6.2462140000000002,6.2808169999999999,5.9237959999999994,6.5145869999999997,6.250337,6.378431,0,0,0,0,0,0,0,0,0,0,0,0,0,0]
[null,"Gase","Historisch","fh","ÜNB Jahresprognose",null,1.835,1.993012,1.667049,1.9069669999999999,1.824149,1.6785699999999999,1.607626,1.3880729999999999,1.6777449999999998,1.7078559999999998,1.4397339999999998,1.2507809999999999,0,0,0,0,0,0,0,0,0,0,0,0,0,0]
[null,"Biomasse","Historisch","fh","ÜNB Jahresprognose",null,26.262,27.776935999999999,30.355590999999997,33.165135999999997,34.944730999999997,38.357603999999995,40.238844999999998,40.770392999999999,41.554488999999997,41.351619999999997,41.746690000000001,40.206693999999999,0,0,0,0,0,0,0,0,0,0,0,0,0,0]
[null,"Geothermie","Historisch","fh","ÜNB Jahresprognose",null,3.5999999999999997E-2,6.1612E-2,0.10724,7.6874999999999999E-2,0.130407,0.15870499999999998,0.18035599999999999,0.189524,0.25728000000000001,0.28638599999999997,0.214729,0.26771400000000001,0,0,0,0,0,0,0,0,0,0,0,0,0,0]
[null,"Wind Onshore","Historisch","fh","ÜNB Jahresprognose",null,47.704000000000001,53.882748999999997,50.125189999999996,55.830889999999997,62.190390000000001,66.872687999999997,75.948886000000002,82.001902999999999,92.724075999999997,98.799182999999999,102.08820399999999,101.185739,0,0,0,0,0,0,0,0,0,0,0,0,0,0]
[null,"Wind Offshore","Historisch","fh","ÜNB Jahresprognose",null,0.65400000000000003,1.1467909999999999,1.361415,2.4940419999999999,7.397958,11.231204,15.379543999999999,20.033355,22.564405999999998,26.466161,29.940075999999998,29.638939999999998,0,0,0,0,0,0,0,0,0,0,0,0,0,0]
[null,"PV","Historisch","fh","ÜNB Jahresprognose",null,8.2959999999999994,19.399286999999998,24.072319,34.673694999999995,36.594586999999997,36.096958000000001,36.82555,36.562143999999996,39.173614999999998,41.877699,43.939245999999997,49.344335000000001,0,0,0,0,0,0,0,0,0,0,0,0,0,0]

{"sheet":"D-Strommenge FV+DM","index":38,"n_rows":25,"n_cols":32,"rows_kept":25,"cut":false,"hidden":true,"merged":[]}
[" ","fest vergütete und mit Marktprämie vergütete Strommenge laut ÜNB-Jahresprognosen (TWh)"]
[null,"Strommenge Festvergütung"]
[null,null,"Szenario","Bearbeiter","Beschreibung","Kommentar"]
[null,null,null,null,null,null,2010,2011,2012,2013,2014,2015,2016,2017,2018,2019,2020,2021,2022,2023,2024,2025,2026,2027,2028,2029,2030,2031,2032,2033,2034,2035]
[null,null,null,null,null,null,"TWh","TWh","TWh","TWh","TWh","TWh","TWh","TWh","TWh","TWh","TWh","TWh","TWh","TWh","TWh","TWh","TWh","TWh","TWh","TWh","TWh","TWh","TWh","TWh","TWh","TWh"]
[null,"Wasser","Historisch","fh","ÜNB Jahresprognose",null,5.444,2.0696829999999999,2.6419329999999999,1.4335309999999999,2.6266479999999999,2.5155029999999998,2.4509639999999999,3.2915449999999997,2.4494499999999997,2.4839579999999999,2.2986149999999999,2.250448,0,0,0,0,0,0,0,0,0,0,0,0,0,0]
[null,"Gase","Historisch","fh","ÜNB Jahresprognose",null,1.835,0.19930099999999998,0.434035,0.26808399999999999,0.274088,0.72458999999999996,0.67505300000000001,0.48945699999999998,0.40027299999999999,0.30525099999999999,0.23846799999999999,0.12540099999999998,0,0,0,0,0,0,0,0,0,0,0,0,0,0]
[null,"Biomasse","Historisch","fh","ÜNB Jahresprognose",null,26.262,24.314577,23.696601999999999,11.950588999999999,12.996518,9.971876,11.098848,9.7514399999999988,10.333107999999999,9.4306009999999993,7.5909040000000001,6.6323159999999994,0,0,0,0,0,0,0,0,0,0,0,0,0,0]
[null,"Geothermie","Historisch","fh","ÜNB Jahresprognose",null,3.5999999999999997E-2,6.1612E-2,9.0604999999999991E-2,7.6874999999999999E-2,0.113607,7.9647999999999997E-2,8.2011000000000001E-2,8.3442999999999989E-2,3.2674000000000002E-2,5.3082999999999998E-2,7.8399999999999997E-3,1.1445E-2,0,0,0,0,0,0,0,0,0,0,0,0,0,0]
[null,"Wind Onshore","Historisch","fh","ÜNB Jahresprognose",null,47.704000000000001,50.803851999999999,41.210659,8.037706,8.9237459999999995,9.3738069999999993,8.1825499999999991,6.2020169999999997,4.9509549999999996,3.3705379999999998,3.5940459999999996,2.3290289999999998,0,0,0,0,0,0,0,0,0,0,0,0,0,0]
[null,"Wind Offshore","Historisch","fh","ÜNB Jahresprognose",null,0.65400000000000003,1.1467909999999999,0.91880899999999999,0,0,0,0,0,0,0,0,0,0,0,0,0,0,0,0,0,0,0,0,0,0,0]
[null,"PV","Historisch","fh","ÜNB Jahresprognose",null,8.2959999999999994,19.399286999999998,22.864761999999999,29.414850999999999,28.987663999999999,27.794584999999998,27.602309999999999,26.451788999999998,27.684709999999999,26.884110999999997,27.468408,28.536632999999998,0,0,0,0,0,0,0,0,0,0,0,0,0,0]
[]
[]
[null,"Strommenge Marktprämie"]
[null,null,"Szenario","Bearbeiter","Beschreibung","Kommentar"]
[null,null,null,null,null,null,2010,2011,2012,2013,2014,2015,2016,2017,2018,2019,2020,2021,2022,2023,2024,2025,2026,2027,2028,2029,2030,2031,2032,2033,2034,2035]
[null,null,null,null,null,null,"TWh","TWh","TWh","TWh","TWh","TWh","TWh","TWh","TWh","TWh","TWh","TWh","TWh","TWh","TWh","TWh","TWh","TWh","TWh","TWh","TWh","TWh","TWh","TWh","TWh","TWh"]
[null,"Wasser","Historisch","fh","ÜNB Jahresprognose",null,0,0,2.1817889999999998,4.2967389999999996,2.8318239999999997,3.5763499999999997,3.7087819999999998,2.8920019999999997,3.0121289999999998,3.465357,3.2058839999999997,3.3938739999999998,0,0,0,0,0,0,0,0,0,0,0,0,0,0]
[null,"Gase","Historisch","fh","ÜNB Jahresprognose",null,0,0,0.29039300000000001,1.1700359999999999,0.52149199999999996,0.95397999999999994,0.9315199999999999,0.88699699999999992,0.90645399999999998,0.92375699999999994,0.75774799999999998,0.72676399999999997,0,0,0,0,0,0,0,0,0,0,0,0,0,0]
[null,"Biomasse","Historisch","fh","ÜNB Jahresprognose",null,0,0,5.9434979999999999,21.214547,21.925464999999999,28.385728,29.123989999999999,31.014032999999998,31.204751999999999,31.842124999999999,34.123956,33.524949999999997,0,0,0,0,0,0,0,0,0,0,0,0,0,0]
[null,"Geothermie","Historisch","fh","ÜNB Jahresprognose",null,0,0,1.6635E-2,0,1.6799999999999999E-2,7.9057000000000002E-2,9.8345000000000002E-2,0.10608099999999999,0.17315,0.17602599999999999,0.16394300000000001,0.20272599999999999,0,0,0,0,0,0,0,0,0,0,0,0,0,0]
[null,"Wind Onshore","Historisch","fh","ÜNB Jahresprognose",null,0,0,7.3871079999999996,46.901826999999997,51.661167999999996,57.498880999999997,67.570857000000004,75.744242,87.745678999999996,95.400548999999998,98.452184000000003,97.184866999999997,0,0,0,0,0,0,0,0,0,0,0,0,0,0]
[null,"Wind Offshore","Historisch","fh","ÜNB Jahresprognose",null,0,0,0.442606,2.4940419999999999,7.397958,11.231204,15.379543999999999,20.033355,22.564405999999998,26.466161,29.940075999999998,29.638939999999998,0,0,0,0,0,0,0,0,0,0,0,0,0,0]
[null,"PV","Historisch","fh","ÜNB Jahresprognose",null,0,0,0.63546899999999995,2.9213830000000001,4.8185699999999994,6.293679,6.9605349999999993,8.0043569999999988,9.0451540000000001,11.590814,12.871558,15.710374999999999,0,0,0,0,0,0,0,0,0,0,0,0,0,0]

{"sheet":"D-Mittlerer Vergütungssatz","index":39,"n_rows":12,"n_cols":32,"rows_kept":12,"cut":false,"hidden":true,"merged":[]}
[" ","Mittlerer Vergütungssatz für historische Jahre und das aktuelle (laut ÜNB-Jahresprognosen)"]
[]
[null,null,"Szenario","Bearbeiter","Beschreibung","Kommentar"]
[null,null,null,null,null,null,2010,2011,2012,2013,2014,2015,2016,2017,2018,2019,2020,2021,2022,2023,2024,2025,2026,2027,2028,2029,2030,2031,2032,2033,2034,2035]
[null,null,null,null,null,null,"Euro/MWh","Euro/MWh","Euro/MWh","Euro/MWh","Euro/MWh","Euro/MWh","Euro/MWh","Euro/MWh","Euro/MWh","Euro/MWh","Euro/MWh","Euro/MWh","Euro/MWh","Euro/MWh","Euro/MWh","Euro/MWh","Euro/MWh","Euro/MWh","Euro/MWh","Euro/MWh","Euro/MWh","Euro/MWh","Euro/MWh","Euro/MWh","Euro/MWh","Euro/MWh"]
[null,"Wasser","Historisch","fh","Abgeleitet aus ÜNB-Jahresprognosen",null,76.040000000000006,78.580579248126398,85.426349075311549,84.973326885251481,93.580358696572972,90.888126814616172,94.021995549816509,95.471944662181755,93.257752565695739,94.128858532452895,94.824277922477592,96.066608000039679,0,0,0,0,0,0,0,0,0,0,0,0,0,0]
[null,"Gase","Historisch","fh","Abgeleitet aus ÜNB-Jahresprognosen",null,70.59,70.623810216707398,72.333594863809779,75.078609851750898,80.301227083888492,69.689921182911647,70.331521816935805,69.72914314608407,69.58740425505863,71.700386816033742,69.098674383868556,71.292092493824555,0,0,0,0,0,0,0,0,0,0,0,0,0,0]
[null,"Biomasse","Historisch","fh","Abgeleitet aus ÜNB-Jahresprognosen",null,150.44,174.78292585554749,171.71219457964042,182.43185910801026,184.3941182048568,185.81088443376183,187.10187197631356,188.59316836578836,191.10109988815023,196.13070462077062,192.3639566092275,197.60807852307477,0,0,0,0,0,0,0,0,0,0,0,0,0,0]
[null,"Geothermie","Historisch","fh","Abgeleitet aus ÜNB-Jahresprognosen",null,150,212.46439005388561,221.27270328235733,235.75585040650407,243.3346397049238,245.37903027629881,243.88965712257979,247.41502395474978,241.0595654539801,251.13132613734075,245.91407182317226,248.65452372169901,0,0,0,0,0,0,0,0,0,0,0,0,0,0]
[null,"Wind Onshore","Historisch","fh","Abgeleitet aus ÜNB-Jahresprognosen",null,87.77,88.470056975207314,89.579894563937472,97.55029244575941,100.74631823317601,92.874953538580655,91.555496018812718,88.105159748659176,85.970286785170643,88.681513062623281,84.943185603231001,87.658156173485565,0,0,0,0,0,0,0,0,0,0,0,0,0,0]
[null,"Wind Offshore","Historisch","fh","Abgeleitet aus ÜNB-Jahresprognosen",null,150,150.00002964794805,159.55374326447114,189.09737949685689,191.11269267192381,182.24269170072949,183.62361985504901,181.73716679008584,185.91972037730574,187.42134928446933,184.61609509608459,185.38314339176773,0,0,0,0,0,0,0,0,0,0,0,0,0,0]
[null,"PV","Historisch","fh","Abgeleitet aus ÜNB-Jahresprognosen",null,468.01,413.44926826434391,371.1522047462546,315.53756947644092,313.88797913696925,316.55085116684148,306.12648368500913,292.27348099233154,288.19142295217864,273.54643342384685,264.37474625040585,249.07864310282855,0,0,0,0,0,0,0,0,0,0,0,0,0,0]

{"sheet":"D-Kontostand Vorjahr","index":40,"n_rows":6,"n_cols":31,"rows_kept":6,"cut":false,"hidden":true,"merged":[]}
[" ","Kontostand September"]
[]
[null,"Szenario","Bearbeiter","Beschreibung","Kommentar"]
[null,null,null,null,null,2010,2011,2012,2013,2014,2015,2016,2017,2018,2019,2020,2021,2022,2023,2024,2025,2026,2027,2028,2029,2030,2031,2032,2033,2034,2035]
[null,null,null,null,null,"Mrd. Euro","Mrd. Euro","Mrd. Euro","Mrd. Euro","Mrd. Euro","Mrd. Euro","Mrd. Euro","Mrd. Euro","Mrd. Euro","Mrd. Euro","Mrd. Euro","Mrd. Euro","Mrd. Euro","Mrd. Euro","Mrd. Euro","Mrd. Euro","Mrd. Euro","Mrd. Euro","Mrd. Euro","Mrd. Euro","Mrd. Euro","Mrd. Euro","Mrd. Euro","Mrd. Euro","Mrd. Euro","Mrd. Euro"]
[null,"Historisch","fh","ÜNB-Jahresprognosen",null,0,-1.11629894236,-0.71124112144000007,-2.5889139132900003,-2.1969250054800002,1.38074493721,2.5211899999999998,1.9478101488699999,3.3292301430700002,3.6518353547200002,2.19040541733,-4.0803942770500008]

{"sheet":"D-Bestand Kapazität","index":41,"n_rows":12,"n_cols":32,"rows_kept":12,"cut":false,"hidden":true,"merged":[]}
[" ","Verbleibende Kapazitäten von Anlagen, die bis Ende 2014 gebaut wurden"]
[]
[null,null,"Szenario","Bearbeiter","Beschreibung","Kommentar"]
[null,null,null,null,null,null,2010,2011,2012,2013,2014,2015,2016,2017,2018,2019,2020,2021,2022,2023,2024,2025,2026,2027,2028,2029,2030,2031,2032,2033,2034,2035]
[null,null,null,null,null,null,"GW","GW","GW","GW","GW","GW","GW","GW","GW","GW","GW","GW","GW","GW","GW","GW","GW","GW","GW","GW","GW","GW","GW","GW","GW","GW"]
[null,"Wasser","Historisch","mh","Eigene Berechnungen","Eigene Berechnungen, basierend auf \"Konzept, Gestaltungselemente und Implikationen eines EEG-Vorleistungsfonds. Öko-Institut 2014\"",null,null,null,null,1.5617438099999998,1.5617438099999998,1.5617438099999998,1.5617438099999998,1.5617438099999998,1.5617438099999998,1.5617438099999998,1.5617438099999998,1.5617438099999998,1.5617438099999998,1.5617438099999998,1.5617438099999998,1.5617438099999998,1.5617438099999998,1.5617438099999998,1.5617438099999998,1.45086618,1.3595179899999998,1.2860902400000001,1.2395648899999998,1.1316575499999999,1.1188063499999998]
[null,"Gase","Historisch","mh","Eigene Berechnungen","2014 aus EE in Zahlen; danach eigene Berechnungen",null,null,null,null,0.50447248999999994,0.50447248999999994,0.50447248999999994,0.50447248999999994,0.50447248999999994,0.50447248999999994,0.50447248999999994,0.32682229000000002,0.27378529000000001,0.21108429000000001,0.13316929,6.6771990000000003E-2,5.3154990000000006E-2,4.4618990000000004E-2,3.6103990000000002E-2,3.0399990000000002E-2,2.0893000000000005E-2,1.7971000000000004E-2,8.7540000000000014E-3,6.9640000000000006E-3,5.836E-3,0]
[null,"Biomasse","Historisch","mh","Eigene Berechnungen","2014 aus EE in Zahlen; danach eigene Berechnungen",null,null,null,null,6.7990000000000004,{"$f":"K8","v":6.7990000000000004},{"$f":"L8","v":6.7990000000000004},6.7990000000000004,6.7990000000000004,6.7990000000000004,6.7990000000000004,6.6231892300000004,6.4349554299999987,6.2947062699999998,6.0627479199999996,5.4902409299999997,4.7945024299999996,3.9465003999999988,3.3060079999999994,2.9487315999999995,2.4935236000000001,1.8564320000000003,0.80025794000000006,0.46639323999999999,0.21003932999999994,0]
[null,"Geothermie","Historisch","mh","Eigene Berechnungen","2014 aus EE in Zahlen; danach eigene Berechnungen",null,null,null,null,3.3985000000000001E-2,3.3985000000000001E-2,3.3985000000000001E-2,3.3985000000000001E-2,3.3985000000000001E-2,3.3985000000000001E-2,3.3985000000000001E-2,3.3985000000000001E-2,3.3985000000000001E-2,3.3985000000000001E-2,3.3985000000000001E-2,3.3765000000000003E-2,3.3765000000000003E-2,3.3765000000000003E-2,3.0765000000000001E-2,3.0765000000000001E-2,2.6615000000000003E-2,2.6615000000000003E-2,2.6615000000000003E-2,1.4815E-2,3.5000000000000001E-3,0]
[null,"Wind Onshore","Historisch","mh","Eigene Berechnungen","2014 aus EE in Zahlen; danach eigene Berechnungen",0,0,0,0,37.619999999999997,{"$f":"37.46456948+0.044","v":37.508569479999998},{"$f":"37.16456948","v":37.164569479999997},36.764569479999999,36.264569479999999,35.664569479999997,34.964569480000002,33.158776369999998,30.565102570000001,27.51489948,24.797031480000001,22.74326048,20.92921698,18.699378980000002,17.013132779999999,16.241268779999999,13.541928859999999,12.115269209999999,10.238786949999998,7.8176624199999987,4.7852306299999992,0]
[null,"Wind Offshore","Historisch","mh","Eigene Berechnungen","2014 aus EE in Zahlen; danach eigene Berechnungen",null,null,null,null,0.99399999999999999,{"$f":"K11","v":0.99399999999999999},{"$f":"L11","v":0.99399999999999999},0.99399999999999999,0.99399999999999999,0.99399999999999999,0.99399999999999999,0.99399999999999999,0.99399999999999999,0.99399999999999999,0.99399999999999999,0.99399999999999999,0.99399999999999999,0.99399999999999999,0.99399999999999999,0.99399999999999999,0.96219999999999994,0.9171999999999999,0.80889999999999995,0.72889999999999999,0.4889,0]
[null,"PV","Historisch","mh","Eigene Berechnungen","2014 aus EE in Zahlen; danach eigene Berechnungen",null,null,null,null,37.9,{"$f":"K12","v":37.9},{"$f":"L12","v":37.9},37.9,37.9,37.9,37.9,37.776027506000062,37.667388816000063,37.557167266000064,37.414720716000062,36.758691416000062,35.834089356000064,34.989494406000063,33.735743280000058,31.75620017000006,27.317740330000046,19.723863990000012,11.723473930000008,4.8811800499999842,1.7455592899999977,0]

{"sheet":"D-Bestand Strommenge","index":42,"n_rows":22,"n_cols":32,"rows_kept":22,"cut":false,"hidden":true,"merged":[]}
[" ","Verbleibende Strommengen von Anlagen, die bis Ende 2014 gebaut wurden"]
[]
[null,null,"Szenario","Bearbeiter","Beschreibung","Kommentar"]
[null,null,null,null,null,null,2010,2011,2012,2013,2014,2015,2016,2017,2018,2019,2020,2021,2022,2023,2024,2025,2026,2027,2028,2029,2030,2031,2032,2033,2034,2035]
[null,null,null,null,null,null,"TWh/a","TWh/a","TWh/a","TWh/a","TWh/a","TWh/a","TWh/a","TWh/a","TWh/a","TWh/a","TWh/a","TWh/a","TWh/a","TWh/a","TWh/a","TWh/a","TWh/a","TWh/a","TWh/a","TWh/a","TWh/a","TWh/a","TWh/a","TWh/a","TWh/a","TWh/a"]
[null,"Wasser","Historisch","mh","Eigene Berechnungen","Eigene Berechnungen, basierend auf \"Konzept, Gestaltungselemente und Implikationen eines EEG-Vorleistungsfonds. Öko-Institut 2014\"",null,null,null,null,6.3400577197004209,6.3653839009576823,6.3653839009576823,6.3653839009576823,6.3653839009576823,6.3653839009576823,6.3653839009576823,6.3653839009576823,6.3653839009576823,6.3653839009576823,6.3653839009576823,6.3653839009576823,6.3653839009576823,6.3653839009576823,6.3653839009576823,6.3653839009576823,5.8264018677620077,5.3606672290276043,5.0397223665748268,4.8537221589924613,4.2530569317466336,4.2024045692321126]
[null,"Gase","Historisch","mh","Eigene Berechnungen","Eigene Berechnungen, basierend auf \"Konzept, Gestaltungselemente und Implikationen eines EEG-Vorleistungsfonds. Öko-Institut 2014\"",null,null,null,null,1.4340048917520307,1.4380650412409677,1.4380650412409677,1.4380650412409677,1.4380650412409677,1.4380650412409677,1.4380650412409677,1.1116422809573945,1.0106083811612576,0.74197769522039103,0.43927686747089773,0.15582886179697539,0.12537230832477717,0.10047524852672238,9.6752700738409095E-2,9.3619703214801536E-2,5.5079993384563354E-2,4.8352437199624974E-2,1.5104555416539968E-2,1.2367230452041226E-2,8.1202989778740627E-3,0]
[null,"Biomasse","Historisch","mh","Eigene Berechnungen","Eigene Berechnungen, basierend auf \"Konzept, Gestaltungselemente und Implikationen eines EEG-Vorleistungsfonds. Öko-Institut 2014\"",null,null,null,null,{"$f":"'D-Bestand Kapazität'!K8*'D-Bestand Strommenge'!$K18/10^3","v":38.108395000000002},{"$f":"'D-Bestand Kapazität'!L8*'D-Bestand Strommenge'!$K18/10^3","v":38.108395000000002},{"$f":"'D-Bestand Kapazität'!M8*'D-Bestand Strommenge'!$K18/10^3","v":38.108395000000002},{"$f":"'D-Bestand Kapazität'!N8*'D-Bestand Strommenge'!$K18/10^3","v":38.108395000000002},{"$f":"'D-Bestand Kapazität'!O8*'D-Bestand Strommenge'!$K18/10^3","v":38.108395000000002},{"$f":"'D-Bestand Kapazität'!P8*'D-Bestand Strommenge'!$K18/10^3","v":38.108395000000002},{"$f":"'D-Bestand Kapazität'!Q8*'D-Bestand Strommenge'!$K18/10^3","v":38.108395000000002},{"$f":"'D-Bestand Kapazität'!R8*'D-Bestand Strommenge'!$K18/10^3","v":37.122975634150002},{"$f":"'D-Bestand Kapazität'!S8*'D-Bestand Strommenge'!$K18/10^3","v":36.067925185149996},{"$f":"'D-Bestand Kapazität'!T8*'D-Bestand Strommenge'!$K18/10^3","v":35.281828643349996},{"$f":"'D-Bestand Kapazität'!U8*'D-Bestand Strommenge'!$K18/10^3","v":33.981702091599999},{"$f":"'D-Bestand Kapazität'!V8*'D-Bestand Strommenge'!$K18/10^3","v":30.77280041265},{"$f":"'D-Bestand Kapazität'!W8*'D-Bestand Strommenge'!$K18/10^3","v":26.873186120149999},{"$f":"'D-Bestand Kapazität'!X8*'D-Bestand Strommenge'!$K18/10^3","v":22.120134741999994},{"$f":"'D-Bestand Kapazität'!Y8*'D-Bestand Strommenge'!$K18/10^3","v":18.530174839999997},{"$f":"'D-Bestand Kapazität'!Z8*'D-Bestand Strommenge'!$K18/10^3","v":16.527640617999996},{"$f":"'D-Bestand Kapazität'!AA8*'D-Bestand Strommenge'!$K18/10^3","v":13.976199778},{"$f":"'D-Bestand Kapazität'!AB8*'D-Bestand Strommenge'!$K18/10^3","v":10.405301360000001},{"$f":"'D-Bestand Kapazität'!AC8*'D-Bestand Strommenge'!$K18/10^3","v":4.4854457537000005},{"$f":"'D-Bestand Kapazität'!AD8*'D-Bestand Strommenge'!$K18/10^3","v":2.6141341102000002},{"$f":"'D-Bestand Kapazität'!AE8*'D-Bestand Strommenge'!$K18/10^3","v":1.1772704446499997},{"$f":"'D-Bestand Kapazität'!AF8*'D-Bestand Strommenge'!$K18/10^3","v":0}]
[null,"Geothermie","Historisch","mh","Eigene Berechnungen","Eigene Berechnungen, basierend auf \"Konzept, Gestaltungselemente und Implikationen eines EEG-Vorleistungsfonds. Öko-Institut 2014\"",null,null,null,null,0.14134193593954347,0.14968884020373421,0.14968884020373421,0.14968884020373421,0.14968884020373421,0.14968884020373421,0.14968884020373421,0.14968884020373421,0.14968884020373421,0.14968884020373421,0.14968884020373421,0.14968884020373421,0.14968884020373421,0.14968884020373421,0.14968884020373421,0.14968884020373421,0.14027279747116281,0.14027279747116281,0.14027279747116281,8.0174710482014119E-2,1.6693808528381489E-2,0]
[null,"Wind Onshore","Historisch","cl","Eigene Berechnungen","Eigene Berechnungen, basierend auf D-Bestand Kapazität und Volllaststunden-Annahme",0,0,0,0,{"$f":"'D-Bestand Kapazität'!K10*'D-Bestand Strommenge'!$K20/10^3","v":61.583939999999998},{"$f":"'D-Bestand Kapazität'!L10*'D-Bestand Strommenge'!$K20/10^3","v":61.401528238759994},{"$f":"'D-Bestand Kapazität'!M10*'D-Bestand Strommenge'!$K20/10^3","v":60.838400238759995},{"$f":"'D-Bestand Kapazität'!N10*'D-Bestand Strommenge'!$K20/10^3","v":60.183600238759993},{"$f":"'D-Bestand Kapazität'!O10*'D-Bestand Strommenge'!$K20/10^3","v":59.365100238759993},{"$f":"'D-Bestand Kapazität'!P10*'D-Bestand Strommenge'!$K20/10^3","v":58.382900238759994},{"$f":"'D-Bestand Kapazität'!Q10*'D-Bestand Strommenge'!$K20/10^3","v":57.237000238760004},{"$f":"'D-Bestand Kapazität'!R10*'D-Bestand Strommenge'!$K20/10^3","v":54.280916917689993},{"$f":"'D-Bestand Kapazität'!S10*'D-Bestand Strommenge'!$K20/10^3","v":50.035072907089997},{"$f":"'D-Bestand Kapazität'!T10*'D-Bestand Strommenge'!$K20/10^3","v":45.04189044876},{"$f":"'D-Bestand Kapazität'!U10*'D-Bestand Strommenge'!$K20/10^3","v":40.592740532759997},{"$f":"'D-Bestand Kapazität'!V10*'D-Bestand Strommenge'!$K20/10^3","v":37.230717405759997},{"$f":"'D-Bestand Kapazität'!W10*'D-Bestand Strommenge'!$K20/10^3","v":34.261128196259996},{"$f":"'D-Bestand Kapazität'!X10*'D-Bestand Strommenge'!$K20/10^3","v":30.610883390260007},{"$f":"'D-Bestand Kapazität'!Y10*'D-Bestand Strommenge'!$K20/10^3","v":27.850498360859998},{"$f":"'D-Bestand Kapazität'!Z10*'D-Bestand Strommenge'!$K20/10^3","v":26.586956992859999},{"$f":"'D-Bestand Kapazität'!AA10*'D-Bestand Strommenge'!$K20/10^3","v":22.168137543819999},{"$f":"'D-Bestand Kapazität'!AB10*'D-Bestand Strommenge'!$K20/10^3","v":19.832695696769999},{"$f":"'D-Bestand Kapazität'!AC10*'D-Bestand Strommenge'!$K20/10^3","v":16.760894237149998},{"$f":"'D-Bestand Kapazität'!AD10*'D-Bestand Strommenge'!$K20/10^3","v":12.797513381539998},{"$f":"'D-Bestand Kapazität'!AE10*'D-Bestand Strommenge'!$K20/10^3","v":7.8334225413099983},{"$f":"'D-Bestand Kapazität'!AF10*'D-Bestand Strommenge'!$K20/10^3","v":0}]
[null,"Wind Offshore","Historisch","cl","Eigene Berechnungen","Eigene Berechnungen, basierend auf D-Bestand Kapazität und Volllaststunden-Annahme",null,null,null,null,{"$f":"'D-Bestand Kapazität'!K11*'D-Bestand Strommenge'!$K21/10^3","v":3.4412280000000002},{"$f":"'D-Bestand Kapazität'!L11*'D-Bestand Strommenge'!$K21/10^3","v":3.4412280000000002},{"$f":"'D-Bestand Kapazität'!M11*'D-Bestand Strommenge'!$K21/10^3","v":3.4412280000000002},{"$f":"'D-Bestand Kapazität'!N11*'D-Bestand Strommenge'!$K21/10^3","v":3.4412280000000002},{"$f":"'D-Bestand Kapazität'!O11*'D-Bestand Strommenge'!$K21/10^3","v":3.4412280000000002},{"$f":"'D-Bestand Kapazität'!P11*'D-Bestand Strommenge'!$K21/10^3","v":3.4412280000000002},{"$f":"'D-Bestand Kapazität'!Q11*'D-Bestand Strommenge'!$K21/10^3","v":3.4412280000000002},{"$f":"'D-Bestand Kapazität'!R11*'D-Bestand Strommenge'!$K21/10^3","v":3.4412280000000002},{"$f":"'D-Bestand Kapazität'!S11*'D-Bestand Strommenge'!$K21/10^3","v":3.4412280000000002},{"$f":"'D-Bestand Kapazität'!T11*'D-Bestand Strommenge'!$K21/10^3","v":3.4412280000000002},{"$f":"'D-Bestand Kapazität'!U11*'D-Bestand Strommenge'!$K21/10^3","v":3.4412280000000002},{"$f":"'D-Bestand Kapazität'!V11*'D-Bestand Strommenge'!$K21/10^3","v":3.4412280000000002},{"$f":"'D-Bestand Kapazität'!W11*'D-Bestand Strommenge'!$K21/10^3","v":3.4412280000000002},{"$f":"'D-Bestand Kapazität'!X11*'D-Bestand Strommenge'!$K21/10^3","v":3.4412280000000002},{"$f":"'D-Bestand Kapazität'!Y11*'D-Bestand Strommenge'!$K21/10^3","v":3.4412280000000002},{"$f":"'D-Bestand Kapazität'!Z11*'D-Bestand Strommenge'!$K21/10^3","v":3.4412280000000002},{"$f":"'D-Bestand Kapazität'!AA11*'D-Bestand Strommenge'!$K21/10^3","v":3.3311363999999997},{"$f":"'D-Bestand Kapazität'!AB11*'D-Bestand Strommenge'!$K21/10^3","v":3.1753463999999996},{"$f":"'D-Bestand Kapazität'!AC11*'D-Bestand Strommenge'!$K21/10^3","v":2.8004118},{"$f":"'D-Bestand Kapazität'!AD11*'D-Bestand Strommenge'!$K21/10^3","v":2.5234517999999997},{"$f":"'D-Bestand Kapazität'!AE11*'D-Bestand Strommenge'!$K21/10^3","v":1.6925717999999998},{"$f":"'D-Bestand Kapazität'!AF11*'D-Bestand Strommenge'!$K21/10^3","v":0}]
[null,"PV","Historisch","cl","Eigene Berechnungen","Eigene Berechnungen, basierend auf D-Bestand Kapazität und Volllaststunden-Annahme",null,null,null,null,{"$f":"'D-Bestand Kapazität'!K12*'D-Bestand Strommenge'!$K22/10^3","v":36.384},{"$f":"'D-Bestand Kapazität'!L12*'D-Bestand Strommenge'!$K22/10^3","v":36.384},{"$f":"'D-Bestand Kapazität'!M12*'D-Bestand Strommenge'!$K22/10^3","v":36.384},{"$f":"'D-Bestand Kapazität'!N12*'D-Bestand Strommenge'!$K22/10^3","v":36.384},{"$f":"'D-Bestand Kapazität'!O12*'D-Bestand Strommenge'!$K22/10^3","v":36.384},{"$f":"'D-Bestand Kapazität'!P12*'D-Bestand Strommenge'!$K22/10^3","v":36.384},{"$f":"'D-Bestand Kapazität'!Q12*'D-Bestand Strommenge'!$K22/10^3","v":36.384},{"$f":"'D-Bestand Kapazität'!R12*'D-Bestand Strommenge'!$K22/10^3","v":36.264986405760055},{"$f":"'D-Bestand Kapazität'!S12*'D-Bestand Strommenge'!$K22/10^3","v":36.160693263360059},{"$f":"'D-Bestand Kapazität'!T12*'D-Bestand Strommenge'!$K22/10^3","v":36.054880575360059},{"$f":"'D-Bestand Kapazität'!U12*'D-Bestand Strommenge'!$K22/10^3","v":35.918131887360062},{"$f":"'D-Bestand Kapazität'!V12*'D-Bestand Strommenge'!$K22/10^3","v":35.28834375936006},{"$f":"'D-Bestand Kapazität'!W12*'D-Bestand Strommenge'!$K22/10^3","v":34.400725781760059},{"$f":"'D-Bestand Kapazität'!X12*'D-Bestand Strommenge'!$K22/10^3","v":33.589914629760059},{"$f":"'D-Bestand Kapazität'!Y12*'D-Bestand Strommenge'!$K22/10^3","v":32.386313548800054},{"$f":"'D-Bestand Kapazität'!Z12*'D-Bestand Strommenge'!$K22/10^3","v":30.485952163200057},{"$f":"'D-Bestand Kapazität'!AA12*'D-Bestand Strommenge'!$K22/10^3","v":26.225030716800042},{"$f":"'D-Bestand Kapazität'!AB12*'D-Bestand Strommenge'!$K22/10^3","v":18.934909430400008},{"$f":"'D-Bestand Kapazität'!AC12*'D-Bestand Strommenge'!$K22/10^3","v":11.254534972800007},{"$f":"'D-Bestand Kapazität'!AD12*'D-Bestand Strommenge'!$K22/10^3","v":4.6859328479999851},{"$f":"'D-Bestand Kapazität'!AE12*'D-Bestand Strommenge'!$K22/10^3","v":1.6757369183999977},{"$f":"'D-Bestand Kapazität'!AF12*'D-Bestand Strommenge'!$K22/10^3","v":0}]
[]
[]
[null,"Volllaststunden",null,null,null,null,null,null,null,null,"2000-2014"]
[null,"Wasser"]
[null,"Gase"]
[null,"Biomasse","historisch","cl","Eigene Berechnung","so gewählt, dass mit Volllaststunden für Neubau aus Kohortenscharfen Daten die Gesamtstromerzeugung in den Jahren 2014-2020 kumuliert mit EEG in Zahlen übereinstimmt",null,null,null,null,5605]
[null,"Geothermie"]
[null,"Wind Onshore","historisch","cl","Eigene Berechnung","so gewählt, dass mit Volllaststunden für Neubau aus Kohortenscharfen Daten die Gesamtstromerzeugung in den Jahren 2014-2020 kumuliert mit EE in Zahlen übereinstimmt",null,null,null,null,1637]
[null,"Wind Offshore","historisch","cl","Eigene Berechnung","so gewählt, dass mit Volllaststunden für Neubau aus Kohortenscharfen Daten die Gesamtstromerzeugung in den Jahren 2014-2020 kumuliert mit EE in Zahlen übereinstimmt",null,null,null,null,3462]
[null,"PV","historisch","cl","Eigene Berechnung","so gewählt, dass mit Volllaststunden für Neubau aus Kohortenscharfen Daten die Gesamtstromerzeugung in den Jahren 2014-2020 kumuliert mit EE in Zahlen übereinstimmt",null,null,null,null,960]

{"sheet":"D-Bestand Zahlungen","index":43,"n_rows":12,"n_cols":32,"rows_kept":12,"cut":false,"hidden":true,"merged":[]}
[" ","Verbleibende Zahlungen für Anlagen, die bis Ende 2014 gebaut wurden (nominal)"]
[]
[null,null,"Szenario","Bearbeiter","Beschreibung","Kommentar"]
[null,null,null,null,null,null,2010,2011,2012,2013,2014,2015,2016,2017,2018,2019,2020,2021,2022,2023,2024,2025,2026,2027,2028,2029,2030,2031,2032,2033,2034,2035]
[null,null,null,null,null,null,"Mrd. €","Mrd. €","Mrd. €","Mrd. €","Mrd. €","Mrd. €","Mrd. €","Mrd. €","Mrd. €","Mrd. €","Mrd. €","Mrd. €","Mrd. €","Mrd. €","Mrd. €","Mrd. €","Mrd. €","Mrd. €","Mrd. €","Mrd. €","Mrd. €","Mrd. €","Mrd. €","Mrd. €","Mrd. €","Mrd. €"]
[null,"Wasser","Historisch","cl","Eigene Berechnungen","Eigene Berechnungen, basierend auf bisher angesetzten spezifischen Zahlungen, multipliziert mit Strommengen aus Blatt d-Bestand Strommenge",null,null,null,null,{"$f":"'D-Bestand Strommenge'!K6*'Nebenrechnung_Bestand Zahlungen'!K27","v":0.59286870539361292},{"$f":"'D-Bestand Strommenge'!L6*'Nebenrechnung_Bestand Zahlungen'!L27","v":0.59589834152286625},{"$f":"'D-Bestand Strommenge'!M6*'Nebenrechnung_Bestand Zahlungen'!M27","v":0.59589834152286625},{"$f":"'D-Bestand Strommenge'!N6*'Nebenrechnung_Bestand Zahlungen'!N27","v":0.59589834152286625},{"$f":"'D-Bestand Strommenge'!O6*'Nebenrechnung_Bestand Zahlungen'!O27","v":0.59589834152286625},{"$f":"'D-Bestand Strommenge'!P6*'Nebenrechnung_Bestand Zahlungen'!P27","v":0.59589834152286625},{"$f":"'D-Bestand Strommenge'!Q6*'Nebenrechnung_Bestand Zahlungen'!Q27","v":0.59589834152286625},{"$f":"'D-Bestand Strommenge'!R6*'Nebenrechnung_Bestand Zahlungen'!R27","v":0.59589834152286625},{"$f":"'D-Bestand Strommenge'!S6*'Nebenrechnung_Bestand Zahlungen'!S27","v":0.59589834152286625},{"$f":"'D-Bestand Strommenge'!T6*'Nebenrechnung_Bestand Zahlungen'!T27","v":0.59589834152286625},{"$f":"'D-Bestand Strommenge'!U6*'Nebenrechnung_Bestand Zahlungen'!U27","v":0.59589834152286625},{"$f":"'D-Bestand Strommenge'!V6*'Nebenrechnung_Bestand Zahlungen'!V27","v":0.59589834152286625},{"$f":"'D-Bestand Strommenge'!W6*'Nebenrechnung_Bestand Zahlungen'!W27","v":0.59589834152286625},{"$f":"'D-Bestand Strommenge'!X6*'Nebenrechnung_Bestand Zahlungen'!X27","v":0.59589834152286625},{"$f":"'D-Bestand Strommenge'!Y6*'Nebenrechnung_Bestand Zahlungen'!Y27","v":0.59589834152286625},{"$f":"'D-Bestand Strommenge'!Z6*'Nebenrechnung_Bestand Zahlungen'!Z27","v":0.59589834152286625},{"$f":"'D-Bestand Strommenge'!AA6*'Nebenrechnung_Bestand Zahlungen'!AA27","v":0.54195695216777517},{"$f":"'D-Bestand Strommenge'!AB6*'Nebenrechnung_Bestand Zahlungen'!AB27","v":0.50533948832503828},{"$f":"'D-Bestand Strommenge'!AC6*'Nebenrechnung_Bestand Zahlungen'!AC27","v":0.47262537548595118},{"$f":"'D-Bestand Strommenge'!AD6*'Nebenrechnung_Bestand Zahlungen'!AD27","v":0.45094447604902621},{"$f":"'D-Bestand Strommenge'!AE6*'Nebenrechnung_Bestand Zahlungen'!AE27","v":0.40388984807890255},{"$f":"'D-Bestand Strommenge'!AF6*'Nebenrechnung_Bestand Zahlungen'!AF27","v":0.39783057582039583}]
[null,"Gase","Historisch","cl","Eigene Berechnungen","Eigene Berechnungen, basierend auf bisher angesetzten spezifischen Zahlungen, multipliziert mit Strommengen aus Blatt d-Bestand Strommenge",null,null,null,null,{"$f":"'D-Bestand Strommenge'!K7*'Nebenrechnung_Bestand Zahlungen'!K28","v":0.10088070045763399},{"$f":"'D-Bestand Strommenge'!L7*'Nebenrechnung_Bestand Zahlungen'!L28","v":0.10116121574165485},{"$f":"'D-Bestand Strommenge'!M7*'Nebenrechnung_Bestand Zahlungen'!M28","v":0.10116121574165485},{"$f":"'D-Bestand Strommenge'!N7*'Nebenrechnung_Bestand Zahlungen'!N28","v":0.10116121574165485},{"$f":"'D-Bestand Strommenge'!O7*'Nebenrechnung_Bestand Zahlungen'!O28","v":0.10116121574165485},{"$f":"'D-Bestand Strommenge'!P7*'Nebenrechnung_Bestand Zahlungen'!P28","v":0.10116121574165485},{"$f":"'D-Bestand Strommenge'!Q7*'Nebenrechnung_Bestand Zahlungen'!Q28","v":0.10116121574165485},{"$f":"'D-Bestand Strommenge'!R7*'Nebenrechnung_Bestand Zahlungen'!R28","v":7.9133545585612253E-2},{"$f":"'D-Bestand Strommenge'!S7*'Nebenrechnung_Bestand Zahlungen'!S28","v":7.1727150881228011E-2},{"$f":"'D-Bestand Strommenge'!T7*'Nebenrechnung_Bestand Zahlungen'!T28","v":5.2864086060311559E-2},{"$f":"'D-Bestand Strommenge'!U7*'Nebenrechnung_Bestand Zahlungen'!U28","v":3.1357929537542545E-2},{"$f":"'D-Bestand Strommenge'!V7*'Nebenrechnung_Bestand Zahlungen'!V28","v":1.1322285335139877E-2},{"$f":"'D-Bestand Strommenge'!W7*'Nebenrechnung_Bestand Zahlungen'!W28","v":9.0650761329917826E-3},{"$f":"'D-Bestand Strommenge'!X7*'Nebenrechnung_Bestand Zahlungen'!X28","v":7.244575089586645E-3},{"$f":"'D-Bestand Strommenge'!Y7*'Nebenrechnung_Bestand Zahlungen'!Y28","v":6.9699990613540114E-3},{"$f":"'D-Bestand Strommenge'!Z7*'Nebenrechnung_Bestand Zahlungen'!Z28","v":6.741430146899088E-3},{"$f":"'D-Bestand Strommenge'!AA7*'Nebenrechnung_Bestand Zahlungen'!AA28","v":3.8404013457238352E-3},{"$f":"'D-Bestand Strommenge'!AB7*'Nebenrechnung_Bestand Zahlungen'!AB28","v":3.1931576106920341E-3},{"$f":"'D-Bestand Strommenge'!AC7*'Nebenrechnung_Bestand Zahlungen'!AC28","v":1.0846120363654757E-3},{"$f":"'D-Bestand Strommenge'!AD7*'Nebenrechnung_Bestand Zahlungen'!AD28","v":8.5736373947492236E-4},{"$f":"'D-Bestand Strommenge'!AE7*'Nebenrechnung_Bestand Zahlungen'!AE28","v":5.6103056804173075E-4},{"$f":"'D-Bestand Strommenge'!AF7*'Nebenrechnung_Bestand Zahlungen'!AF28","v":0}]
[null,"Biomasse","Historisch","cl","Eigene Berechnungen","Eigene Berechnungen, basierend auf bisher angesetzten spezifischen Zahlungen, multipliziert mit Strommengen aus Blatt d-Bestand Strommenge",null,null,null,null,{"$f":"'D-Bestand Strommenge'!K8*'Nebenrechnung_Bestand Zahlungen'!K29","v":7.2799949454380881},{"$f":"'D-Bestand Strommenge'!L8*'Nebenrechnung_Bestand Zahlungen'!L29","v":7.2822097617115737},{"$f":"'D-Bestand Strommenge'!M8*'Nebenrechnung_Bestand Zahlungen'!M29","v":7.2822097617115737},{"$f":"'D-Bestand Strommenge'!N8*'Nebenrechnung_Bestand Zahlungen'!N29","v":7.2822097617115737},{"$f":"'D-Bestand Strommenge'!O8*'Nebenrechnung_Bestand Zahlungen'!O29","v":7.2822097617115737},{"$f":"'D-Bestand Strommenge'!P8*'Nebenrechnung_Bestand Zahlungen'!P29","v":7.2822097617115737},{"$f":"'D-Bestand Strommenge'!Q8*'Nebenrechnung_Bestand Zahlungen'!Q29","v":7.2822097617115737},{"$f":"'D-Bestand Strommenge'!R8*'Nebenrechnung_Bestand Zahlungen'!R29","v":7.1835599193497597},{"$f":"'D-Bestand Strommenge'!S8*'Nebenrechnung_Bestand Zahlungen'!S29","v":7.0063821479103723},{"$f":"'D-Bestand Strommenge'!T8*'Nebenrechnung_Bestand Zahlungen'!T29","v":6.8884682715222976},{"$f":"'D-Bestand Strommenge'!U8*'Nebenrechnung_Bestand Zahlungen'!U29","v":6.7127656435478675},{"$f":"'D-Bestand Strommenge'!V8*'Nebenrechnung_Bestand Zahlungen'!V29","v":6.2423181166542427},{"$f":"'D-Bestand Strommenge'!W8*'Nebenrechnung_Bestand Zahlungen'!W29","v":5.4761455165830508},{"$f":"'D-Bestand Strommenge'!X8*'Nebenrechnung_Bestand Zahlungen'!X29","v":4.5511637155272862},{"$f":"'D-Bestand Strommenge'!Y8*'Nebenrechnung_Bestand Zahlungen'!Y29","v":3.8293232180234993},{"$f":"'D-Bestand Strommenge'!Z8*'Nebenrechnung_Bestand Zahlungen'!Z29","v":3.4436416618349535},{"$f":"'D-Bestand Strommenge'!AA8*'Nebenrechnung_Bestand Zahlungen'!AA29","v":2.9305329049374462},{"$f":"'D-Bestand Strommenge'!AB8*'Nebenrechnung_Bestand Zahlungen'!AB29","v":2.1644259699180277},{"$f":"'D-Bestand Strommenge'!AC8*'Nebenrechnung_Bestand Zahlungen'!AC29","v":0.89513810954450024},{"$f":"'D-Bestand Strommenge'!AD8*'Nebenrechnung_Bestand Zahlungen'!AD29","v":0.51884364039180542},{"$f":"'D-Bestand Strommenge'!AE8*'Nebenrechnung_Bestand Zahlungen'!AE29","v":0.23001388790139352},{"$f":"'D-Bestand Strommenge'!AF8*'Nebenrechnung_Bestand Zahlungen'!AF29","v":0}]
[null,"Geothermie","Historisch","cl","Eigene Berechnungen","Eigene Berechnungen, basierend auf bisher angesetzten spezifischen Zahlungen, multipliziert mit Strommengen aus Blatt d-Bestand Strommenge",null,null,null,null,{"$f":"'D-Bestand Strommenge'!K9*'Nebenrechnung_Bestand Zahlungen'!K30","v":3.5347562923361824E-2},{"$f":"'D-Bestand Strommenge'!L9*'Nebenrechnung_Bestand Zahlungen'!L30","v":3.7412390998028656E-2},{"$f":"'D-Bestand Strommenge'!M9*'Nebenrechnung_Bestand Zahlungen'!M30","v":3.7412390998028656E-2},{"$f":"'D-Bestand Strommenge'!N9*'Nebenrechnung_Bestand Zahlungen'!N30","v":3.7412390998028656E-2},{"$f":"'D-Bestand Strommenge'!O9*'Nebenrechnung_Bestand Zahlungen'!O30","v":3.7412390998028656E-2},{"$f":"'D-Bestand Strommenge'!P9*'Nebenrechnung_Bestand Zahlungen'!P30","v":3.7412390998028656E-2},{"$f":"'D-Bestand Strommenge'!Q9*'Nebenrechnung_Bestand Zahlungen'!Q30","v":3.7412390998028656E-2},{"$f":"'D-Bestand Strommenge'!R9*'Nebenrechnung_Bestand Zahlungen'!R30","v":3.7412390998028656E-2},{"$f":"'D-Bestand Strommenge'!S9*'Nebenrechnung_Bestand Zahlungen'!S30","v":3.7412390998028656E-2},{"$f":"'D-Bestand Strommenge'!T9*'Nebenrechnung_Bestand Zahlungen'!T30","v":3.7412390998028656E-2},{"$f":"'D-Bestand Strommenge'!U9*'Nebenrechnung_Bestand Zahlungen'!U30","v":3.7412390998028656E-2},{"$f":"'D-Bestand Strommenge'!V9*'Nebenrechnung_Bestand Zahlungen'!V30","v":3.7412390998028656E-2},{"$f":"'D-Bestand Strommenge'!W9*'Nebenrechnung_Bestand Zahlungen'!W30","v":3.7412390998028656E-2},{"$f":"'D-Bestand Strommenge'!X9*'Nebenrechnung_Bestand Zahlungen'!X30","v":3.7412390998028656E-2},{"$f":"'D-Bestand Strommenge'!Y9*'Nebenrechnung_Bestand Zahlungen'!Y30","v":3.7412390998028656E-2},{"$f":"'D-Bestand Strommenge'!Z9*'Nebenrechnung_Bestand Zahlungen'!Z30","v":3.7412390998028656E-2},{"$f":"'D-Bestand Strommenge'!AA9*'Nebenrechnung_Bestand Zahlungen'!AA30","v":3.5255721675931898E-2},{"$f":"'D-Bestand Strommenge'!AB9*'Nebenrechnung_Bestand Zahlungen'!AB30","v":3.5255721675931898E-2},{"$f":"'D-Bestand Strommenge'!AC9*'Nebenrechnung_Bestand Zahlungen'!AC30","v":3.5255721675931898E-2},{"$f":"'D-Bestand Strommenge'!AD9*'Nebenrechnung_Bestand Zahlungen'!AD30","v":2.0118844946834122E-2},{"$f":"'D-Bestand Strommenge'!AE9*'Nebenrechnung_Bestand Zahlungen'!AE30","v":4.1296561493336659E-3},{"$f":"'D-Bestand Strommenge'!AF9*'Nebenrechnung_Bestand Zahlungen'!AF30","v":0}]
[null,"Wind Onshore","Historisch","cl","Eigene Berechnungen","Eigene Berechnungen, basierend auf bisher angesetzten spezifischen Zahlungen, multipliziert mit Strommengen aus Blatt d-Bestand Strommenge",0,0,0,0,{"$f":"'D-Bestand Strommenge'!K10*'Nebenrechnung_Bestand Zahlungen'!K31","v":5.913608732102106},{"$f":"'D-Bestand Strommenge'!L10*'Nebenrechnung_Bestand Zahlungen'!L31","v":5.9080181485994006},{"$f":"'D-Bestand Strommenge'!M10*'Nebenrechnung_Bestand Zahlungen'!M31","v":5.8559783800617975},{"$f":"'D-Bestand Strommenge'!N10*'Nebenrechnung_Bestand Zahlungen'!N31","v":5.7958207532086137},{"$f":"'D-Bestand Strommenge'!O10*'Nebenrechnung_Bestand Zahlungen'!O31","v":5.7206040650143537},{"$f":"'D-Bestand Strommenge'!P10*'Nebenrechnung_Bestand Zahlungen'!P31","v":5.5391983038891324},{"$f":"'D-Bestand Strommenge'!Q10*'Nebenrechnung_Bestand Zahlungen'!Q31","v":5.3450702699699582},{"$f":"'D-Bestand Strommenge'!R10*'Nebenrechnung_Bestand Zahlungen'!R31","v":5.0040482709215501},{"$f":"'D-Bestand Strommenge'!S10*'Nebenrechnung_Bestand Zahlungen'!S31","v":4.5933769461465612},{"$f":"'D-Bestand Strommenge'!T10*'Nebenrechnung_Bestand Zahlungen'!T31","v":4.1397134228611003},{"$f":"'D-Bestand Strommenge'!U10*'Nebenrechnung_Bestand Zahlungen'!U31","v":3.7472829262103087},{"$f":"'D-Bestand Strommenge'!V10*'Nebenrechnung_Bestand Zahlungen'!V31","v":3.4352475905939217},{"$f":"'D-Bestand Strommenge'!W10*'Nebenrechnung_Bestand Zahlungen'!W31","v":3.1723216082086347},{"$f":"'D-Bestand Strommenge'!X10*'Nebenrechnung_Bestand Zahlungen'!X31","v":2.9186027412083968},{"$f":"'D-Bestand Strommenge'!Y10*'Nebenrechnung_Bestand Zahlungen'!Y31","v":2.5442182293103834},{"$f":"'D-Bestand Strommenge'!Z10*'Nebenrechnung_Bestand Zahlungen'!Z31","v":2.3488502345062381},{"$f":"'D-Bestand Strommenge'!AA10*'Nebenrechnung_Bestand Zahlungen'!AA31","v":1.9616616738554147},{"$f":"'D-Bestand Strommenge'!AB10*'Nebenrechnung_Bestand Zahlungen'!AB31","v":1.6397653312195617},{"$f":"'D-Bestand Strommenge'!AC10*'Nebenrechnung_Bestand Zahlungen'!AC31","v":1.212221907437363},{"$f":"'D-Bestand Strommenge'!AD10*'Nebenrechnung_Bestand Zahlungen'!AD31","v":0.62948449664969264},{"$f":"'D-Bestand Strommenge'!AE10*'Nebenrechnung_Bestand Zahlungen'!AE31","v":0.38775441579484493},{"$f":"'D-Bestand Strommenge'!AF10*'Nebenrechnung_Bestand Zahlungen'!AF31","v":0}]
[null,"Wind Offshore","Historisch","cl","Eigene Berechnungen","Eigene Berechnungen, basierend auf bisher angesetzten spezifischen Zahlungen, multipliziert mit Strommengen aus Blatt d-Bestand Strommenge",null,null,null,null,{"$f":"'D-Bestand Strommenge'!K11*'Nebenrechnung_Bestand Zahlungen'!K32","v":0.60716545563098923},{"$f":"'D-Bestand Strommenge'!L11*'Nebenrechnung_Bestand Zahlungen'!L32","v":0.60356357547678685},{"$f":"'D-Bestand Strommenge'!M11*'Nebenrechnung_Bestand Zahlungen'!M32","v":0.60356357547678685},{"$f":"'D-Bestand Strommenge'!N11*'Nebenrechnung_Bestand Zahlungen'!N32","v":0.60356357547678685},{"$f":"'D-Bestand Strommenge'!O11*'Nebenrechnung_Bestand Zahlungen'!O32","v":0.60356357547678685},{"$f":"'D-Bestand Strommenge'!P11*'Nebenrechnung_Bestand Zahlungen'!P32","v":0.60356357547678685},{"$f":"'D-Bestand Strommenge'!Q11*'Nebenrechnung_Bestand Zahlungen'!Q32","v":0.60356357547678685},{"$f":"'D-Bestand Strommenge'!R11*'Nebenrechnung_Bestand Zahlungen'!R32","v":0.59254805064153393},{"$f":"'D-Bestand Strommenge'!S11*'Nebenrechnung_Bestand Zahlungen'!S32","v":0.56103308229646875},{"$f":"'D-Bestand Strommenge'!T11*'Nebenrechnung_Bestand Zahlungen'!T32","v":0.49277975552190662},{"$f":"'D-Bestand Strommenge'!U11*'Nebenrechnung_Bestand Zahlungen'!U32","v":0.46000856913702937},{"$f":"'D-Bestand Strommenge'!V11*'Nebenrechnung_Bestand Zahlungen'!V32","v":0.35126853272283842},{"$f":"'D-Bestand Strommenge'!W11*'Nebenrechnung_Bestand Zahlungen'!W32","v":0.15540393694483204},{"$f":"'D-Bestand Strommenge'!X11*'Nebenrechnung_Bestand Zahlungen'!X32","v":0.10890415353008552},{"$f":"'D-Bestand Strommenge'!Y11*'Nebenrechnung_Bestand Zahlungen'!Y32","v":0.10880177353992368},{"$f":"'D-Bestand Strommenge'!Z11*'Nebenrechnung_Bestand Zahlungen'!Z32","v":0.10865322218164962},{"$f":"'D-Bestand Strommenge'!AA11*'Nebenrechnung_Bestand Zahlungen'!AA32","v":0.1045481204783134},{"$f":"'D-Bestand Strommenge'!AB11*'Nebenrechnung_Bestand Zahlungen'!AB32","v":9.8851901663614142E-2},{"$f":"'D-Bestand Strommenge'!AC11*'Nebenrechnung_Bestand Zahlungen'!AC32","v":8.5362751275515861E-2},{"$f":"'D-Bestand Strommenge'!AD11*'Nebenrechnung_Bestand Zahlungen'!AD32","v":7.5324521014464643E-2},{"$f":"'D-Bestand Strommenge'!AE11*'Nebenrechnung_Bestand Zahlungen'!AE32","v":4.6121585919529411E-2},{"$f":"'D-Bestand Strommenge'!AF11*'Nebenrechnung_Bestand Zahlungen'!AF32","v":0}]
[null,"PV","Historisch","cl","Eigene Berechnungen","Eigene Berechnungen, basierend auf bisher angesetzten spezifischen Zahlungen, multipliziert mit Strommengen aus Blatt d-Bestand Strommenge",null,null,null,null,{"$f":"'D-Bestand Strommenge'!K12*'Nebenrechnung_Bestand Zahlungen'!K33","v":11.066647591016324},{"$f":"'D-Bestand Strommenge'!L12*'Nebenrechnung_Bestand Zahlungen'!L33","v":10.908026153270542},{"$f":"'D-Bestand Strommenge'!M12*'Nebenrechnung_Bestand Zahlungen'!M33","v":10.908026153270542},{"$f":"'D-Bestand Strommenge'!N12*'Nebenrechnung_Bestand Zahlungen'!N33","v":10.908026153270542},{"$f":"'D-Bestand Strommenge'!O12*'Nebenrechnung_Bestand Zahlungen'!O33","v":10.908026153270542},{"$f":"'D-Bestand Strommenge'!P12*'Nebenrechnung_Bestand Zahlungen'!P33","v":10.908026153270542},{"$f":"'D-Bestand Strommenge'!Q12*'Nebenrechnung_Bestand Zahlungen'!Q33","v":10.908026153270542},{"$f":"'D-Bestand Strommenge'!R12*'Nebenrechnung_Bestand Zahlungen'!R33","v":10.86119713155138},{"$f":"'D-Bestand Strommenge'!S12*'Nebenrechnung_Bestand Zahlungen'!S33","v":10.811821691314007},{"$f":"'D-Bestand Strommenge'!T12*'Nebenrechnung_Bestand Zahlungen'!T33","v":10.762723491319454},{"$f":"'D-Bestand Strommenge'!U12*'Nebenrechnung_Bestand Zahlungen'!U33","v":10.700911781188493},{"$f":"'D-Bestand Strommenge'!V12*'Nebenrechnung_Bestand Zahlungen'!V33","v":10.350049468665192},{"$f":"'D-Bestand Strommenge'!W12*'Nebenrechnung_Bestand Zahlungen'!W33","v":9.8807645450106261},{"$f":"'D-Bestand Strommenge'!X12*'Nebenrechnung_Bestand Zahlungen'!X33","v":9.4713339193349313},{"$f":"'D-Bestand Strommenge'!Y12*'Nebenrechnung_Bestand Zahlungen'!Y33","v":8.8991898717387148},{"$f":"'D-Bestand Strommenge'!Z12*'Nebenrechnung_Bestand Zahlungen'!Z33","v":8.0374772613756083},{"$f":"'D-Bestand Strommenge'!AA12*'Nebenrechnung_Bestand Zahlungen'!AA33","v":6.2929346397361767},{"$f":"'D-Bestand Strommenge'!AB12*'Nebenrechnung_Bestand Zahlungen'!AB33","v":3.7425659024949911},{"$f":"'D-Bestand Strommenge'!AC12*'Nebenrechnung_Bestand Zahlungen'!AC33","v":1.7293195011654334},{"$f":"'D-Bestand Strommenge'!AD12*'Nebenrechnung_Bestand Zahlungen'!AD33","v":0.49607269647010133},{"$f":"'D-Bestand Strommenge'!AE12*'Nebenrechnung_Bestand Zahlungen'!AE33","v":0.15176649063590028},{"$f":"'D-Bestand Strommenge'!AF12*'Nebenrechnung_Bestand Zahlungen'!AF33","v":0}]

{"sheet":"Nebenrechnung_Bestand Zahlungen","index":44,"n_rows":33,"n_cols":32,"rows_kept":33,"cut":false,"hidden":true,"merged":[]}
[]
[]
[]
[null,"Strommengen"]
[null,"Originalwerte"]
[null,"Wasser","Historisch","mh","Eigene Berechnungen","Eigene Berechnungen, basierend auf \"Konzept, Gestaltungselemente und Implikationen eines EEG-Vorleistungsfonds. Öko-Institut 2014\"",null,null,null,null,6.3400577197004209,6.3653839009576823,6.3653839009576823,6.3653839009576823,6.3653839009576823,6.3653839009576823,6.3653839009576823,6.3653839009576823,6.3653839009576823,6.3653839009576823,6.3653839009576823,6.3653839009576823,6.3653839009576823,6.3653839009576823,6.3653839009576823,6.3653839009576823,5.8264018677620077,5.3606672290276043,5.0397223665748268,4.8537221589924613,4.2530569317466336,4.2024045692321126]
[null,"Gase","Historisch","mh","Eigene Berechnungen","Eigene Berechnungen, basierend auf \"Konzept, Gestaltungselemente und Implikationen eines EEG-Vorleistungsfonds. Öko-Institut 2014\"",null,null,null,null,1.4340048917520307,1.4380650412409677,1.4380650412409677,1.4380650412409677,1.4380650412409677,1.4380650412409677,1.4380650412409677,1.1116422809573945,1.0106083811612576,0.74197769522039103,0.43927686747089773,0.15582886179697539,0.12537230832477717,0.10047524852672238,9.6752700738409095E-2,9.3619703214801536E-2,5.5079993384563354E-2,4.8352437199624974E-2,1.5104555416539968E-2,1.2367230452041226E-2,8.1202989778740627E-3,0]
[null,"Biomasse","Historisch","mh","Eigene Berechnungen","Eigene Berechnungen, basierend auf \"Konzept, Gestaltungselemente und Implikationen eines EEG-Vorleistungsfonds. Öko-Institut 2014\"",null,null,null,null,40.915066042624225,41.469756491772493,41.469756491772493,41.469756491772493,41.469756491772493,41.469756491772493,41.469756491772493,39.812821991692502,38.829714281829894,38.049447462908155,36.913188946941609,33.879601480015921,29.979942877482884,24.884416561314495,20.958547637788435,18.738437533081804,15.850866075480793,11.467408760352546,4.2173214392664056,2.5538934635614163,1.1093808982965405,0]
[null,"Geothermie","Historisch","mh","Eigene Berechnungen","Eigene Berechnungen, basierend auf \"Konzept, Gestaltungselemente und Implikationen eines EEG-Vorleistungsfonds. Öko-Institut 2014\"",null,null,null,null,0.14134193593954347,0.14968884020373421,0.14968884020373421,0.14968884020373421,0.14968884020373421,0.14968884020373421,0.14968884020373421,0.14968884020373421,0.14968884020373421,0.14968884020373421,0.14968884020373421,0.14968884020373421,0.14968884020373421,0.14968884020373421,0.14968884020373421,0.14968884020373421,0.14027279747116281,0.14027279747116281,0.14027279747116281,8.0174710482014119E-2,1.6693808528381489E-2,0]
[null,"Wind Onshore","Historisch","mh","Eigene Berechnungen","Eigene Berechnungen, basierend auf \"Konzept, Gestaltungselemente und Implikationen eines EEG-Vorleistungsfonds. Öko-Institut 2014\"",0,0,0,0,57.653383999388126,62.502124577836618,62.110842784472524,61.589133726653721,60.936997404380229,60.154433817652034,59.241442966469144,56.886196411384716,53.273860613123752,48.985144127866754,44.953859251545786,41.695299693943618,38.889800126336475,35.265691742050741,32.453041205988214,31.191017671164577,26.534990416467974,23.848804711831974,20.453990621840415,15.896470455695573,9.6974811568969788,0]
[null,"Wind Offshore","Historisch","mh","Eigene Berechnungen","Eigene Berechnungen, basierend auf \"Konzept, Gestaltungselemente und Implikationen eines EEG-Vorleistungsfonds. Öko-Institut 2014\"",null,null,null,null,3.0914397264392286,4.110547332443411,4.110547332443411,4.110547332443411,4.110547332443411,4.110547332443411,4.110547332443411,4.110547332443411,4.110547332443411,4.110547332443411,4.110547332443411,4.110547332443411,4.110547332443411,4.110547332443411,4.110547332443411,4.110547332443411,3.9601506745242956,3.7744742876370232,3.3082822149057258,2.9793310655848093,2.0382152120083648,0]
[null,"PV","Historisch","mh","Eigene Berechnungen","Eigene Berechnungen, basierend auf \"Konzept, Gestaltungselemente und Implikationen eines EEG-Vorleistungsfonds. Öko-Institut 2014\"",null,null,null,null,32.345105654434903,33.019049930170183,33.019049930170183,33.019049930170183,33.019049930170183,33.019049930170183,33.019049930170183,32.96986412434994,32.889992363151684,32.802643428256573,32.682146189674363,32.118403998686745,31.31927480670873,30.581886338374783,29.468001652940707,27.712738361025213,23.700450799975101,16.920444701113084,9.8246758626833426,3.8973169441729065,1.3478885514705552,0]
[]
[]
[null,"Zahlungen"]
[null,"Originalwerte"]
[null,"Wasser","Historisch","mh","Eigene Berechnungen","Eigene Berechnungen, basierend auf \"Konzept, Gestaltungselemente und Implikationen eines EEG-Vorleistungsfonds. Öko-Institut 2014\"",null,null,null,null,0.59286870539361292,0.59589834152286625,0.59589834152286625,0.59589834152286625,0.59589834152286625,0.59589834152286625,0.59589834152286625,0.59589834152286625,0.59589834152286625,0.59589834152286625,0.59589834152286625,0.59589834152286625,0.59589834152286625,0.59589834152286625,0.59589834152286625,0.59589834152286625,0.54195695216777517,0.50533948832503828,0.47262537548595118,0.45094447604902621,0.4038898480789026,0.39783057582039583]
[null,"Gase","Historisch","mh","Eigene Berechnungen","Eigene Berechnungen, basierend auf \"Konzept, Gestaltungselemente und Implikationen eines EEG-Vorleistungsfonds. Öko-Institut 2014\"",null,null,null,null,0.10088070045763398,0.10116121574165485,0.10116121574165485,0.10116121574165485,0.10116121574165485,0.10116121574165485,0.10116121574165485,7.9133545585612253E-2,7.1727150881228011E-2,5.2864086060311559E-2,3.1357929537542545E-2,1.1322285335139877E-2,9.0650761329917826E-3,7.2445750895866442E-3,6.9699990613540114E-3,6.741430146899088E-3,3.8404013457238352E-3,3.1931576106920346E-3,1.0846120363654757E-3,8.5736373947492247E-4,5.6103056804173075E-4,0]
[null,"Biomasse","Historisch","mh","Eigene Berechnungen","Eigene Berechnungen, basierend auf \"Konzept, Gestaltungselemente und Implikationen eines EEG-Vorleistungsfonds. Öko-Institut 2014\"",null,null,null,null,7.8161642331714543,7.9245390822727533,7.9245390822727533,7.9245390822727533,7.9245390822727533,7.9245390822727533,7.9245390822727533,7.7040643280932235,7.5428740510054375,7.4288216250548311,7.2918533006053305,6.8725383217574079,6.1092320442362009,5.1199079506909477,4.3311546587347163,3.9042756106600809,3.3236133815912274,2.3853568935530132,0.84162987310065895,0.50688730032510243,0.21674969820259962,0]
[null,"Geothermie","Historisch","mh","Eigene Berechnungen","Eigene Berechnungen, basierend auf \"Konzept, Gestaltungselemente und Implikationen eines EEG-Vorleistungsfonds. Öko-Institut 2014\"",null,null,null,null,3.5347562923361824E-2,3.7412390998028656E-2,3.7412390998028656E-2,3.7412390998028656E-2,3.7412390998028656E-2,3.7412390998028656E-2,3.7412390998028656E-2,3.7412390998028656E-2,3.7412390998028656E-2,3.7412390998028656E-2,3.7412390998028656E-2,3.7412390998028656E-2,3.7412390998028656E-2,3.7412390998028656E-2,3.7412390998028656E-2,3.7412390998028656E-2,3.5255721675931898E-2,3.5255721675931898E-2,3.5255721675931898E-2,2.0118844946834122E-2,4.1296561493336659E-3,0]
[null,"Wind Onshore","Historisch","mh","Eigene Berechnungen","Eigene Berechnungen, basierend auf \"Konzept, Gestaltungselemente und Implikationen eines EEG-Vorleistungsfonds. Öko-Institut 2014\"",0,0,0,0,5.5361763968660895,6.0139168669547871,5.9784568806193468,5.9311768988387614,5.8720769216130293,5.7072762129233041,5.5322549090503328,5.2442237337911122,4.8907078366197974,4.5021302757619548,4.1498757420585815,3.8471909163520843,3.6009016566231895,3.362416669808018,2.9646729463510626,2.755600394248884,2.3480851114899872,1.9718168299157017,1.4793229511201422,0.78191609611789203,0.48002531726640046,0]
[null,"Wind Offshore","Historisch","mh","Eigene Berechnungen","Eigene Berechnungen, basierend auf \"Konzept, Gestaltungselemente und Implikationen eines EEG-Vorleistungsfonds. Öko-Institut 2014\"",null,null,null,null,0.54544930183620921,0.72095677622526411,0.72095677622526411,0.72095677622526411,0.72095677622526411,0.72095677622526411,0.72095677622526411,0.70779873025242745,0.67015409610936971,0.5886254876290351,0.54948030085984612,0.41959031199187452,0.18563002464811498,0.13008602678610678,0.12996373387338628,0.12978628925492908,0.12428980987762621,0.1175033883274389,0.10084376585622522,8.893242401487135E-2,5.5540165577103229E-2,0]
[null,"PV","Historisch","mh","Eigene Berechnungen","Eigene Berechnungen, basierend auf \"Konzept, Gestaltungselemente und Implikationen eines EEG-Vorleistungsfonds. Öko-Institut 2014\"",null,null,null,null,9.8381674794365797,9.8992046007707302,9.8992046007707302,9.8992046007707302,9.8992046007707302,9.8992046007707302,9.8992046007707302,9.8743231184046909,9.8339025269570541,9.7918998861958393,9.7368305315089039,9.4203080911896588,8.9956933481227033,8.6231614633896339,8.0972890432583959,7.306332544077935,5.6871387273907796,3.344398325548267,1.5096140003144618,0.41258647705966339,0.12207424266830158,0]
[]
[null,"Spezifische Zahlungen (€/MWh)"]
[null,"aus Originalwerten berechnet, wird auf Blatt D-Bestand Zahlungen verwendet"]
[null,"Wasser",null,"cl","aus historischen Daten berechnet",null,null,null,null,null,{"$f":"K17/'Nebenrechnung_Bestand Zahlungen'!K6","v":9.3511562765650508E-2},{"$f":"L17/'Nebenrechnung_Bestand Zahlungen'!L6","v":9.3615459930580527E-2},{"$f":"M17/'Nebenrechnung_Bestand Zahlungen'!M6","v":9.3615459930580527E-2},{"$f":"N17/'Nebenrechnung_Bestand Zahlungen'!N6","v":9.3615459930580527E-2},{"$f":"O17/'Nebenrechnung_Bestand Zahlungen'!O6","v":9.3615459930580527E-2},{"$f":"P17/'Nebenrechnung_Bestand Zahlungen'!P6","v":9.3615459930580527E-2},{"$f":"Q17/'Nebenrechnung_Bestand Zahlungen'!Q6","v":9.3615459930580527E-2},{"$f":"R17/'Nebenrechnung_Bestand Zahlungen'!R6","v":9.3615459930580527E-2},{"$f":"S17/'Nebenrechnung_Bestand Zahlungen'!S6","v":9.3615459930580527E-2},{"$f":"T17/'Nebenrechnung_Bestand Zahlungen'!T6","v":9.3615459930580527E-2},{"$f":"U17/'Nebenrechnung_Bestand Zahlungen'!U6","v":9.3615459930580527E-2},{"$f":"V17/'Nebenrechnung_Bestand Zahlungen'!V6","v":9.3615459930580527E-2},{"$f":"W17/'Nebenrechnung_Bestand Zahlungen'!W6","v":9.3615459930580527E-2},{"$f":"X17/'Nebenrechnung_Bestand Zahlungen'!X6","v":9.3615459930580527E-2},{"$f":"Y17/'Nebenrechnung_Bestand Zahlungen'!Y6","v":9.3615459930580527E-2},{"$f":"Z17/'Nebenrechnung_Bestand Zahlungen'!Z6","v":9.3615459930580527E-2},{"$f":"AA17/'Nebenrechnung_Bestand Zahlungen'!AA6","v":9.3017434167469715E-2},{"$f":"AB17/'Nebenrechnung_Bestand Zahlungen'!AB6","v":9.4268020515928225E-2},{"$f":"AC17/'Nebenrechnung_Bestand Zahlungen'!AC6","v":9.3780042055603169E-2},{"$f":"AD17/'Nebenrechnung_Bestand Zahlungen'!AD6","v":9.290694054532235E-2},{"$f":"AE17/'Nebenrechnung_Bestand Zahlungen'!AE6","v":9.4964599477636011E-2},{"$f":"AF17/'Nebenrechnung_Bestand Zahlungen'!AF6","v":9.4667367043409084E-2}]
[null,"Gase",null,"cl","aus historischen Daten berechnet",null,null,null,null,null,{"$f":"K18/'Nebenrechnung_Bestand Zahlungen'!K7","v":7.0348923520323917E-2},{"$f":"L18/'Nebenrechnung_Bestand Zahlungen'!L7","v":7.0345368839756034E-2},{"$f":"M18/'Nebenrechnung_Bestand Zahlungen'!M7","v":7.0345368839756034E-2},{"$f":"N18/'Nebenrechnung_Bestand Zahlungen'!N7","v":7.0345368839756034E-2},{"$f":"O18/'Nebenrechnung_Bestand Zahlungen'!O7","v":7.0345368839756034E-2},{"$f":"P18/'Nebenrechnung_Bestand Zahlungen'!P7","v":7.0345368839756034E-2},{"$f":"Q18/'Nebenrechnung_Bestand Zahlungen'!Q7","v":7.0345368839756034E-2},{"$f":"R18/'Nebenrechnung_Bestand Zahlungen'!R7","v":7.1186160279419222E-2},{"$f":"S18/'Nebenrechnung_Bestand Zahlungen'!S7","v":7.0974229205192862E-2},{"$f":"T18/'Nebenrechnung_Bestand Zahlungen'!T7","v":7.1247540729117528E-2},{"$f":"U18/'Nebenrechnung_Bestand Zahlungen'!U7","v":7.1385342274186608E-2},{"$f":"V18/'Nebenrechnung_Bestand Zahlungen'!V7","v":7.2658461369571783E-2},{"$f":"W18/'Nebenrechnung_Bestand Zahlungen'!W7","v":7.2305250291066575E-2},{"$f":"X18/'Nebenrechnung_Bestand Zahlungen'!X7","v":7.2103082060651774E-2},{"$f":"Y18/'Nebenrechnung_Bestand Zahlungen'!Y7","v":7.2039323017957332E-2},{"$f":"Z18/'Nebenrechnung_Bestand Zahlungen'!Z7","v":7.2008668211984345E-2},{"$f":"AA18/'Nebenrechnung_Bestand Zahlungen'!AA7","v":6.9724070569698746E-2},{"$f":"AB18/'Nebenrechnung_Bestand Zahlungen'!AB7","v":6.6039227712740831E-2},{"$f":"AC18/'Nebenrechnung_Bestand Zahlungen'!AC7","v":7.1806948728712072E-2},{"$f":"AD18/'Nebenrechnung_Bestand Zahlungen'!AD7","v":6.9325443784660254E-2},{"$f":"AE18/'Nebenrechnung_Bestand Zahlungen'!AE7","v":6.9089890602600887E-2},0]
[null,"Biomasse",null,"cl","aus historischen Daten berechnet",null,null,null,null,null,{"$f":"K19/'Nebenrechnung_Bestand Zahlungen'!K8","v":0.19103389018189004},{"$f":"L19/'Nebenrechnung_Bestand Zahlungen'!L8","v":0.19109200903663284},{"$f":"M19/'Nebenrechnung_Bestand Zahlungen'!M8","v":0.19109200903663284},{"$f":"N19/'Nebenrechnung_Bestand Zahlungen'!N8","v":0.19109200903663284},{"$f":"O19/'Nebenrechnung_Bestand Zahlungen'!O8","v":0.19109200903663284},{"$f":"P19/'Nebenrechnung_Bestand Zahlungen'!P8","v":0.19109200903663284},{"$f":"Q19/'Nebenrechnung_Bestand Zahlungen'!Q8","v":0.19109200903663284},{"$f":"R19/'Nebenrechnung_Bestand Zahlungen'!R8","v":0.19350711511233198},{"$f":"S19/'Nebenrechnung_Bestand Zahlungen'!S8","v":0.19425520353455383},{"$f":"T19/'Nebenrechnung_Bestand Zahlungen'!T8","v":0.19524124843854013},{"$f":"U19/'Nebenrechnung_Bestand Zahlungen'!U8","v":0.19754059480167147},{"$f":"V19/'Nebenrechnung_Bestand Zahlungen'!V8","v":0.20285180526138166},{"$f":"W19/'Nebenrechnung_Bestand Zahlungen'!W8","v":0.2037773076887574},{"$f":"X19/'Nebenrechnung_Bestand Zahlungen'!X8","v":0.20574755843986295},{"$f":"Y19/'Nebenrechnung_Bestand Zahlungen'!Y8","v":0.20665337759023},{"$f":"Z19/'Nebenrechnung_Bestand Zahlungen'!Z8","v":0.20835651872079897},{"$f":"AA19/'Nebenrechnung_Bestand Zahlungen'!AA8","v":0.20968023865474586},{"$f":"AB19/'Nebenrechnung_Bestand Zahlungen'!AB8","v":0.20801184848316853},{"$f":"AC19/'Nebenrechnung_Bestand Zahlungen'!AC8","v":0.19956502847149796},{"$f":"AD19/'Nebenrechnung_Bestand Zahlungen'!AD8","v":0.1984762902436211},{"$f":"AE19/'Nebenrechnung_Bestand Zahlungen'!AE8","v":0.19537897086151365},0]
[null,"Geothermie",null,"cl","aus historischen Daten berechnet",null,null,null,null,null,{"$f":"K20/'Nebenrechnung_Bestand Zahlungen'!K9","v":0.25008545898565532},{"$f":"L20/'Nebenrechnung_Bestand Zahlungen'!L9","v":0.24993440357416402},{"$f":"M20/'Nebenrechnung_Bestand Zahlungen'!M9","v":0.24993440357416402},{"$f":"N20/'Nebenrechnung_Bestand Zahlungen'!N9","v":0.24993440357416402},{"$f":"O20/'Nebenrechnung_Bestand Zahlungen'!O9","v":0.24993440357416402},{"$f":"P20/'Nebenrechnung_Bestand Zahlungen'!P9","v":0.24993440357416402},{"$f":"Q20/'Nebenrechnung_Bestand Zahlungen'!Q9","v":0.24993440357416402},{"$f":"R20/'Nebenrechnung_Bestand Zahlungen'!R9","v":0.24993440357416402},{"$f":"S20/'Nebenrechnung_Bestand Zahlungen'!S9","v":0.24993440357416402},{"$f":"T20/'Nebenrechnung_Bestand Zahlungen'!T9","v":0.24993440357416402},{"$f":"U20/'Nebenrechnung_Bestand Zahlungen'!U9","v":0.24993440357416402},{"$f":"V20/'Nebenrechnung_Bestand Zahlungen'!V9","v":0.24993440357416402},{"$f":"W20/'Nebenrechnung_Bestand Zahlungen'!W9","v":0.24993440357416402},{"$f":"X20/'Nebenrechnung_Bestand Zahlungen'!X9","v":0.24993440357416402},{"$f":"Y20/'Nebenrechnung_Bestand Zahlungen'!Y9","v":0.24993440357416402},{"$f":"Z20/'Nebenrechnung_Bestand Zahlungen'!Z9","v":0.24993440357416402},{"$f":"AA20/'Nebenrechnung_Bestand Zahlungen'!AA9","v":0.25133684015377072},{"$f":"AB20/'Nebenrechnung_Bestand Zahlungen'!AB9","v":0.25133684015377072},{"$f":"AC20/'Nebenrechnung_Bestand Zahlungen'!AC9","v":0.25133684015377072},{"$f":"AD20/'Nebenrechnung_Bestand Zahlungen'!AD9","v":0.25093754409437441},{"$f":"AE20/'Nebenrechnung_Bestand Zahlungen'!AE9","v":0.24737651341290706},0]
[null,"Wind Onshore",null,"cl","aus historischen Daten berechnet",null,null,null,null,null,{"$f":"K21/'Nebenrechnung_Bestand Zahlungen'!K10","v":9.6025176890307859E-2},{"$f":"L21/'Nebenrechnung_Bestand Zahlungen'!L10","v":9.6219399061633404E-2},{"$f":"M21/'Nebenrechnung_Bestand Zahlungen'!M10","v":9.6254641099700847E-2},{"$f":"N21/'Nebenrechnung_Bestand Zahlungen'!N10","v":9.6302327049486422E-2},{"$f":"O21/'Nebenrechnung_Bestand Zahlungen'!O10","v":9.6363082720431786E-2},{"$f":"P21/'Nebenrechnung_Bestand Zahlungen'!P10","v":9.4877066422467612E-2},{"$f":"Q21/'Nebenrechnung_Bestand Zahlungen'!Q10","v":9.3384877748194081E-2},{"$f":"R21/'Nebenrechnung_Bestand Zahlungen'!R10","v":9.2187983458524539E-2},{"$f":"S21/'Nebenrechnung_Bestand Zahlungen'!S10","v":9.180314286092861E-2},{"$f":"T21/'Nebenrechnung_Bestand Zahlungen'!T10","v":9.1908074497238743E-2},{"$f":"U21/'Nebenrechnung_Bestand Zahlungen'!U10","v":9.2314115209494133E-2},{"$f":"V21/'Nebenrechnung_Bestand Zahlungen'!V10","v":9.2269175292938391E-2},{"$f":"W21/'Nebenrechnung_Bestand Zahlungen'!W10","v":9.2592444417955E-2},{"$f":"X21/'Nebenrechnung_Bestand Zahlungen'!X10","v":9.5345263447609588E-2},{"$f":"Y21/'Nebenrechnung_Bestand Zahlungen'!Y10","v":9.1352700276485121E-2},{"$f":"Z21/'Nebenrechnung_Bestand Zahlungen'!Z10","v":8.8345959830492385E-2},{"$f":"AA21/'Nebenrechnung_Bestand Zahlungen'!AA10","v":8.849014356653899E-2},{"$f":"AB21/'Nebenrechnung_Bestand Zahlungen'!AB10","v":8.2679901728468397E-2},{"$f":"AC21/'Nebenrechnung_Bestand Zahlungen'!AC10","v":7.2324417199084223E-2},{"$f":"AD21/'Nebenrechnung_Bestand Zahlungen'!AD10","v":4.9188031915458189E-2},{"$f":"AE21/'Nebenrechnung_Bestand Zahlungen'!AE10","v":4.9500000000000002E-2},0]
[null,"Wind Offshore",null,"cl","aus historischen Daten berechnet",null,null,null,null,null,{"$f":"K22/'Nebenrechnung_Bestand Zahlungen'!K11","v":0.17643860146174248},{"$f":"L22/'Nebenrechnung_Bestand Zahlungen'!L11","v":0.17539191691942144},{"$f":"M22/'Nebenrechnung_Bestand Zahlungen'!M11","v":0.17539191691942144},{"$f":"N22/'Nebenrechnung_Bestand Zahlungen'!N11","v":0.17539191691942144},{"$f":"O22/'Nebenrechnung_Bestand Zahlungen'!O11","v":0.17539191691942144},{"$f":"P22/'Nebenrechnung_Bestand Zahlungen'!P11","v":0.17539191691942144},{"$f":"Q22/'Nebenrechnung_Bestand Zahlungen'!Q11","v":0.17539191691942144},{"$f":"R22/'Nebenrechnung_Bestand Zahlungen'!R11","v":0.17219087216584716},{"$f":"S22/'Nebenrechnung_Bestand Zahlungen'!S11","v":0.16303281337257186},{"$f":"T22/'Nebenrechnung_Bestand Zahlungen'!T11","v":0.14319881028571968},{"$f":"U22/'Nebenrechnung_Bestand Zahlungen'!U11","v":0.13367570214383626},{"$f":"V22/'Nebenrechnung_Bestand Zahlungen'!V11","v":0.10207650661997357},{"$f":"W22/'Nebenrechnung_Bestand Zahlungen'!W11","v":4.5159442194714225E-2},{"$f":"X22/'Nebenrechnung_Bestand Zahlungen'!X11","v":3.164688696305084E-2},{"$f":"Y22/'Nebenrechnung_Bestand Zahlungen'!Y11","v":3.1617135958420563E-2},{"$f":"Z22/'Nebenrechnung_Bestand Zahlungen'!Z11","v":3.1573967834055056E-2},{"$f":"AA22/'Nebenrechnung_Bestand Zahlungen'!AA11","v":3.1385121449338853E-2},{"$f":"AB22/'Nebenrechnung_Bestand Zahlungen'!AB11","v":3.1131060744621172E-2},{"$f":"AC22/'Nebenrechnung_Bestand Zahlungen'!AC11","v":3.048221382138008E-2},{"$f":"AD22/'Nebenrechnung_Bestand Zahlungen'!AD11","v":2.9849795829056315E-2},{"$f":"AE22/'Nebenrechnung_Bestand Zahlungen'!AE11","v":2.7249411764705883E-2},0]
[null,"PV",null,"cl","aus historischen Daten berechnet",null,null,null,null,null,{"$f":"K23/'Nebenrechnung_Bestand Zahlungen'!K12","v":0.30416247776540029},{"$f":"L23/'Nebenrechnung_Bestand Zahlungen'!L12","v":0.29980282963034693},{"$f":"M23/'Nebenrechnung_Bestand Zahlungen'!M12","v":0.29980282963034693},{"$f":"N23/'Nebenrechnung_Bestand Zahlungen'!N12","v":0.29980282963034693},{"$f":"O23/'Nebenrechnung_Bestand Zahlungen'!O12","v":0.29980282963034693},{"$f":"P23/'Nebenrechnung_Bestand Zahlungen'!P12","v":0.29980282963034693},{"$f":"Q23/'Nebenrechnung_Bestand Zahlungen'!Q12","v":0.29980282963034693},{"$f":"R23/'Nebenrechnung_Bestand Zahlungen'!R12","v":0.29949541439304855},{"$f":"S23/'Nebenrechnung_Bestand Zahlungen'!S12","v":0.29899376133557487},{"$f":"T23/'Nebenrechnung_Bestand Zahlungen'!T12","v":0.29850947554308943},{"$f":"U23/'Nebenrechnung_Bestand Zahlungen'!U12","v":0.29792506511047828},{"$f":"V23/'Nebenrechnung_Bestand Zahlungen'!V12","v":0.29329938348041318},{"$f":"W23/'Nebenrechnung_Bestand Zahlungen'!W12","v":0.28722546750015376},{"$f":"X23/'Nebenrechnung_Bestand Zahlungen'!X12","v":0.28196957401444239},{"$f":"Y23/'Nebenrechnung_Bestand Zahlungen'!Y12","v":0.27478242802563241},{"$f":"Z23/'Nebenrechnung_Bestand Zahlungen'!Z12","v":0.26364527564527701},{"$f":"AA23/'Nebenrechnung_Bestand Zahlungen'!AA12","v":0.23995909509859426},{"$f":"AB23/'Nebenrechnung_Bestand Zahlungen'!AB12","v":0.19765428064241486},{"$f":"AC23/'Nebenrechnung_Bestand Zahlungen'!AC12","v":0.15365534918544904},{"$f":"AD23/'Nebenrechnung_Bestand Zahlungen'!AD12","v":0.10586423505446335},{"$f":"AE23/'Nebenrechnung_Bestand Zahlungen'!AE12","v":9.0567015006632251E-2},0]

{"sheet":"D-Grünstromprivileg","index":45,"n_rows":6,"n_cols":31,"rows_kept":6,"cut":false,"hidden":true,"merged":[]}
[" ","Anteil Grünstromprivileg"]
[]
[null,"Szenario","Bearbeiter","Beschreibung","Kommentar"]
[null,null,null,null,null,2010,2011,2012,2013,2014,2015,2016,2017,2018,2019,2020,2021,2022,2023,2024,2025,2026,2027,2028,2029,2030,2031,2032,2033,2034,2035]
[null,null,null,null,null,"TWh/a","TWh/a","TWh/a","TWh/a","TWh/a","TWh/a","TWh/a","TWh/a","TWh/a","TWh/a","TWh/a","TWh/a","TWh/a","TWh/a","TWh/a","TWh/a","TWh/a","TWh/a","TWh/a","TWh/a","TWh/a","TWh/a","TWh/a","TWh/a","TWh/a","TWh/a"]
[null,"Referenz","mh","ÜNB-Jahresprognosen und Prognos 2012; ab 2015 kein Grünstromprivileg mehr",null,0,24.664059639999998,6.3188509999999996,2.5983429999999998,5.9772400000000001,0,0,0,0]

{"sheet":"D-Eigenverbrauch fossil Bestand","index":46,"n_rows":27,"n_cols":31,"rows_kept":27,"cut":false,"hidden":true,"merged":[]}
[" ","Eigenverbrauch fossile Bestandsanlagen*"]
[]
[null,"Szenario","Bearbeiter","Beschreibung","Kommentar"]
[null,null,null,null,null,2010,2011,2012,2013,2014,2015,2016,2017,2018,2019,2020,2021,2022,2023,2024,2025,2026,2027,2028,2029,2030,2031,2032,2033,2034,2035]
[null,null,null,null,null,"TWh/a","TWh/a","TWh/a","TWh/a","TWh/a","TWh/a","TWh/a","TWh/a","TWh/a","TWh/a","TWh/a","TWh/a","TWh/a","TWh/a","TWh/a","TWh/a","TWh/a","TWh/a","TWh/a","TWh/a","TWh/a","TWh/a","TWh/a","TWh/a","TWh/a","TWh/a"]
[null,"Referenz","fh","Eigenversorgung nach §61(3) aus ÜNB-Umlageberechnung für 2020","Eigenversorgung nach §61(3) aus ÜNB-Umlageberechnung für 2020",66.919000000000011,54.256241999999979,62.173272999999973,52.680143000000065,44.33,57.291305999999999,48.547290999999994,60.951926519999994,61.173551851607797,69.750429999999994,68.086641999999998,60.732941999999994,{"$f":"Q6","v":60.732941999999994},60.732941999999994,60.732941999999994,60.732941999999994,60.732941999999994,60.732941999999994,60.732941999999994,60.732941999999994,60.732941999999994,60.732941999999994,60.732941999999994,60.732941999999994,60.732941999999994,60.732941999999994]
[]
[]
[]
[]
[]
[]
[]
[]
[]
[]
[]
[]
[]
[]
[]
[]
[]
[]
[]
[]
[null,"* ab 2019 inklusive Pumpstrom"]

{"sheet":"D-Eigenverbrauch fossile Neue","index":47,"n_rows":6,"n_cols":31,"rows_kept":6,"cut":false,"hidden":true,"merged":[]}
[" ","Eigenverbrauch fossile Nicht-KWK-Neuanlagen"]
[]
[null,"Szenario","Bearbeiter","Beschreibung","Kommentar"]
[null,null,null,null,null,2010,2011,2012,2013,2014,2015,2016,2017,2018,2019,2020,2021,2022,2023,2024,2025,2026,2027,2028,2029,2030,2031,2032,2033,2034,2035]
[null,null,null,null,null,"TWh/a","TWh/a","TWh/a","TWh/a","TWh/a","TWh/a","TWh/a","TWh/a","TWh/a","TWh/a","TWh/a","TWh/a","TWh/a","TWh/a","TWh/a","TWh/a","TWh/a","TWh/a","TWh/a","TWh/a","TWh/a","TWh/a","TWh/a","TWh/a","TWh/a","TWh/a"]
[null,"Referenz","fh","Kein Neubau",null,0,0,0,0,0,0,0,1.1745889999999999,1.5439479999999999,2.5107649999999997,3.6564139999999998,3.8827539999999998,{"$f":"Q6","v":3.8827539999999998},{"$f":"R6","v":3.8827539999999998},3.8827539999999998,3.8827539999999998,3.8827539999999998,3.8827539999999998,3.8827539999999998,3.8827539999999998,3.8827539999999998,3.8827539999999998,3.8827539999999998,3.8827539999999998,3.8827539999999998,3.8827539999999998]

{"sheet":"D-Eigenverbrauch EE-Bestand","index":48,"n_rows":12,"n_cols":32,"rows_kept":12,"cut":false,"hidden":true,"merged":[]}
[" ","Eigenverbrauch EE-Bestand"]
[]
[null,null,"Szenario","Bearbeiter","Beschreibung","Kommentar"]
[null,null,null,null,null,null,2010,2011,2012,2013,2014,2015,2016,2017,2018,2019,2020,2021,2022,2023,2024,2025,2026,2027,2028,2029,2030,2031,2032,2033,2034,2035]
[null,null,null,null,null,null,"TWh","TWh","TWh","TWh","TWh","TWh","TWh","TWh","TWh","TWh","TWh","TWh","TWh","TWh","TWh","TWh","TWh","TWh","TWh","TWh","TWh","TWh","TWh","TWh","TWh","TWh"]
[null,"Wasser","Referenz","dr","ÜNB-Jahresprognosen",null,0,0,0,0,0,0,0,0,0,0,0,0,0,0,0,0,0,0,0,0,0,0,0,0,0,0]
[null,"Gase","Referenz","dr","ÜNB-Jahresprognosen",null,0,0,0,0,0,0,0,0,0,0,0,0,0,0,0,0,0,0,0,0,0,0,0,0,0,0]
[null,"Biomasse","Referenz","dr","ÜNB-Jahresprognosen",null,0,0,0,0,0,0,0,0,0,0,0,0,0,0,0,0,0,0,0,0,0,0,0,0,0,0]
[null,"Geothermie","Referenz","dr","ÜNB-Jahresprognosen",null,0,0,0,0,0,0,0,0,0,0,0,0,0,0,0,0,0,0,0,0,0,0,0,0,0,0]
[null,"Wind Onshore","Referenz","dr","ÜNB-Jahresprognosen",null,0,0,0,0,0,0,0,0,0,0,0,0,0,0,0,0,0,0,0,0,0,0,0,0,0,0]
[null,"Wind Offshore","Referenz","dr","ÜNB-Jahresprognosen",null,0,0,0,0,0,0,0,0,0,0,0,0,0,0,0,0,0,0,0,0,0,0,0,0,0,0]
[null,"PV","Referenz","fp/as/fh","ÜNB-Jahresprognosen","Historischer Wert aus ÜNB-Jahresprognose, abzüglich EV für Neuanlagen (der mit  Prozentwert Anteil EV PV berechnet wird) . Werte für Folgejahre 2022 mit Wachstum von 1 %, danach entsprechend der Sterbekurve für Bestandsanlagen und Degradration abskaliert.",0,0,0.57208800000000004,2.3374609999999998,2.7879685354829888,2.0086940000000002,2.2527089999999999,1.6616164800000002,1.800618148392207,2.0329390000000003,2.4753820000000002,3.1455769999999998,{"$f":"R12+R12*0.01","v":3.1770327699999998},2.0868880918641164,2.0500092058269064,1.9976632048994638,1.9512618602287659,1.8813020629850441,1.7739679916827171,1.5292463091134123,1.1231382177961986,0.71114051333572914,0.29259267837014319,0.11073023140455976,5.5428415282797027E-3,5.5428415282797027E-3]

{"sheet":"D-Umlagereduktion Grünstrom","index":49,"n_rows":6,"n_cols":31,"rows_kept":6,"cut":false,"hidden":true,"merged":[]}
[" ","Umlage-Reduktion Grünstromprivileg"]
[]
[null,"Szenario","Bearbeiter","Beschreibung","Kommentar"]
[null,null,null,null,null,2010,2011,2012,2013,2014,2015,2016,2017,2018,2019,2020,2021,2022,2023,2024,2025,2026,2027,2028,2029,2030,2031,2032,2033,2034,2035]
[null,null,null,null,null,"Euro/MWh","Euro/MWh","Euro/MWh","Euro/MWh","Euro/MWh","Euro/MWh","Euro/MWh","Euro/MWh","Euro/MWh","Euro/MWh","Euro/MWh","Euro/MWh","Euro/MWh","Euro/MWh","Euro/MWh","Euro/MWh","Euro/MWh","Euro/MWh","Euro/MWh","Euro/MWh","Euro/MWh","Euro/MWh","Euro/MWh","Euro/MWh","Euro/MWh","Euro/MWh"]
[null,"Referenz","mh","ÜNB-Jahresprognosen. Abzug von Umlage in Höhe der Umlage (100% Befreiung) von 2009-2011, Abzug von 2ct/kWh in 2012 und 2013.",null,20.47,35.31,20,20,20]

{"sheet":"D-Umlage Eigenverb fossile Neue","index":50,"n_rows":6,"n_cols":31,"rows_kept":6,"cut":false,"hidden":true,"merged":[]}
[" ","Anteil an Umlage für Eigenverbrauch aus fossilen Nicht-KWK-Neuanlagen"]
[]
[null,"Szenario","Bearbeiter","Beschreibung","Kommentar"]
[null,null,null,null,null,2010,2011,2012,2013,2014,2015,2016,2017,2018,2019,2020,2021,2022,2023,2024,2025,2026,2027,2028,2029,2030,2031,2032,2033,2034,2035]
[null,null,null,null,null,"none","none","none","none","none","none","none","none","none","none","none","none","none","none","none","none","none","none","none","none","none","none","none","none","none","none"]
[null,"Referenz","mh","100% (gem. EEG 2014)",null,0,0,0,0,0,1,1,1,1,1,1,1,1,1,1,1,1,1,1,1,1,1,1,1,1,1]

{"sheet":"D-Vergütung Eigenverbrauch","index":51,"n_rows":12,"n_cols":32,"rows_kept":12,"cut":false,"hidden":true,"merged":[]}
[" ","Vergütung Eigenverbrauch"]
[]
[null,null,"Szenario","Bearbeiter","Beschreibung","Kommentar"]
[null,null,null,null,null,null,2010,2011,2012,2013,2014,2015,2016,2017,2018,2019,2020,2021,2022,2023,2024,2025,2026,2027,2028,2029,2030,2031,2032,2033,2034,2035]
[null,null,null,null,null,null,"Euro/MWh","Euro/MWh","Euro/MWh","Euro/MWh","Euro/MWh","Euro/MWh","Euro/MWh","Euro/MWh","Euro/MWh","Euro/MWh","Euro/MWh","Euro/MWh","Euro/MWh","Euro/MWh","Euro/MWh","Euro/MWh","Euro/MWh","Euro/MWh","Euro/MWh","Euro/MWh","Euro/MWh","Euro/MWh","Euro/MWh","Euro/MWh","Euro/MWh","Euro/MWh"]
[null,"Wasser","Referenz","cl",0,null,0,0,0,0,0,0,0,0,0,0,0,0,0,0,0,0,0,0,0,0,0,0,0,0,0,0]
[null,"Gase","Referenz","cl",0,null,0,0,0,0,0,0,0,0,0,0,0,0,0,0,0,0,0,0,0,0,0,0,0,0,0,0]
[null,"Biomasse","Referenz","cl",0,null,0,0,0,0,0,0,0,0,0,0,0,0,0,0,0,0,0,0,0,0,0,0,0,0,0,0]
[null,"Geothermie","Referenz","cl",0,null,0,0,0,0,0,0,0,0,0,0,0,0,0,0,0,0,0,0,0,0,0,0,0,0,0,0]
[null,"Wind Onshore","Referenz","cl",0,null,0,0,0,0,0,0,0,0,0,0,0,0,0,0,0,0,0,0,0,0,0,0,0,0,0,0]
[null,"Wind Offshore","Referenz","cl",0,null,0,0,0,0,0,0,0,0,0,0,0,0,0,0,0,0,0,0,0,0,0,0,0,0,0,0]
[null,"PV","Referenz","fh","Historische Werte aus ÜNB-Jahresprognosen. Quotient aus Eigenverbrauch und Vergütungszahlungen für Eigenverbrauch",null,0,0,117.34452741536268,42.446530658693341,42.446530658693341,61.584873056821998,55.353612472804969,116.59227181465116,56.297696752497401,41.435472923873455,37.246225444316316,28.583544616898731,0,0,0,0,0,0,0,0,0,0,0,0,0,0]

{"sheet":"D-Managementprämie_Bestand","index":52,"n_rows":27,"n_cols":32,"rows_kept":27,"cut":false,"hidden":true,"merged":[]}
[" ","Zahlungen für Managementprämie für Bestandsanlagen (gebaut 2012 bis 2014) Berechnung für Prognosejahre [Mrd. Euro] (real)"]
[null,"REAL"]
[null,null,"Szenario","Bearbeiter","Beschreibung","Kommentar"]
[null,null,null,null,null,null,2010,2011,2012,2013,2014,2015,2016,2017,2018,2019,2020,2021,2022,2023,2024,2025,2026,2027,2028,2029,2030,2031,2032,2033,2034,2035]
[null,null,null,null,null,null,"Mrd. Euro","Mrd. Euro","Mrd. Euro","Mrd. Euro","Mrd. Euro","Mrd. Euro","Mrd. Euro","Mrd. Euro","Mrd. Euro","Mrd. Euro","Mrd. Euro","Mrd. Euro","Mrd. Euro","Mrd. Euro","Mrd. Euro","Mrd. Euro","Mrd. Euro","Mrd. Euro","Mrd. Euro","Mrd. Euro","Mrd. Euro","Mrd. Euro","Mrd. Euro","Mrd. Euro","Mrd. Euro","Mrd. Euro"]
[null,"Wasser","Referenz","cl",null,"Managementprämie aus den ÜNB-Prognosen, Fortschreibung für Folgejahre",0,0,0,0,0,5.6636480000000003E-3,7.4175630000000003E-3,5.7840040000000006E-3,6.0242580000000002E-3,0,{"$f":"Q21/Q$14","v":0},{"$f":"R21/R$14","v":0},5.9352295566502469E-3,5.8475168045815252E-3,5.7611003000803207E-3,5.6759608867786426E-3,5.59207969140753E-3,5.5094381196133316E-3,5.4280178518357949E-3,5.3478008392470891E-3,5.2687692997508279E-3,5.1909057140402245E-3,5.1141928217145081E-3,5.0386136174527174E-3,4.9641513472440564E-3,4.890789504673948E-3]
[null,"Gase","Referenz","cl",null,"Managementprämie aus den ÜNB-Prognosen, Fortschreibung für Folgejahre",0,0,0,0,0,1.0429840000000001E-3,1.8630400000000001E-3,1.7739950000000002E-3,1.812908E-3,0,{"$f":"Q22/Q$14","v":0},0,1.7861162561576356E-3,1.7597204494163902E-3,1.7337147284890546E-3,1.708093328560645E-3,1.6828505700104879E-3,1.6579808571531905E-3,1.6334786769982175E-3,1.6093385980278005E-3,1.5855552689929072E-3,1.5621234177270024E-3,1.5390378499773422E-3,1.5162934482535393E-3,1.4938851706931423E-3,1.4718080499439826E-3]
[null,"Biomasse","Referenz","cl",null,"Managementprämie aus den ÜNB-Prognosen, Fortschreibung für Folgejahre",0,0,0,0,0,4.3850929999999996E-2,5.8247980000000005E-2,6.2028065000000007E-2,6.2409504000000005E-2,0,{"$f":"Q23/Q$14","v":0},0,6.1487196059113312E-2,6.0578518284840711E-2,5.9683269246148488E-2,5.8801250488816258E-2,5.7932266491444596E-2,5.7076124622112909E-2,5.6232635095677753E-2,5.5401610931702226E-2,5.4582867913007128E-2,5.3776224544834612E-2,5.2981502014615385E-2,5.2198524152330436E-2,5.1427117391458561E-2,5.0667110730501043E-2]
[null,"Geothermie","Referenz","cl",null,"Managementprämie aus den ÜNB-Prognosen, Fortschreibung für Folgejahre",0,0,0,0,0,3.3599999999999997E-5,1.9669000000000002E-4,2.1216200000000001E-4,3.4630000000000001E-4,0,{"$f":"Q24/Q$14","v":0},0,3.4118226600985226E-4,3.3614016355650473E-4,3.3117257493251703E-4,3.2627839894829269E-4,3.2145655068797316E-4,3.1670596126893909E-4,3.1202557760486618E-4,3.0741436217228196E-4,3.0287129278057341E-4,2.9839536234539253E-4,2.939855786654114E-4,2.8964096420237579E-4,2.8536055586440964E-4,2.8114340479252185E-4]
[null,"Wind Onshore","Referenz","cl",null,"Managementprämie aus den ÜNB-Prognosen, Fortschreibung für Folgejahre",0,0,0,0,0,0.206644672,0.27028342599999999,0.30297696900000004,0.350982717,0,{"$f":"Q25/Q$14","v":0},0,0.34579578029556651,0.34068549782814445,0.33565073677649704,0.33069038106058823,0.32580333109417564,0.32098850354105979,0.31624483107493584,0.31157126214279396,0.30696676073181672,0.30243030613972094,0.29796089274849358,0.29355752980147154,0.28921924118371578,0.28494506520563134]
[null,"Wind Offshore","Referenz","cl",null,"Managementprämie aus den ÜNB-Prognosen, Fortschreibung für Folgejahre",0,0,0,0,0,2.9591831999999998E-2,6.1518174000000002E-2,8.013342200000001E-2,9.025762200000001E-2,0,{"$f":"Q26/Q$14","v":0},0,8.892376551724139E-2,8.7609621199252627E-2,8.631489773325382E-2,8.5039308111580142E-2,8.3782569568059254E-2,8.2544403515329337E-2,8.1324535483083105E-2,8.0122695057224733E-2,7.8938615819925853E-2,7.7772035290567351E-2,7.6622694867554061E-2,7.549033977098922E-2,7.4374718986196284E-2,7.3275585208075159E-2]
[null,"PV","Referenz","cl",null,"Managementprämie aus den ÜNB-Prognosen, Fortschreibung für Folgejahre",0,0,0,0,0,1.9274279999999998E-2,2.7842141000000001E-2,3.2017428000000001E-2,3.6180617000000005E-2,0,{"$f":"Q27/Q$14","v":0},0,3.5645928078817744E-2,3.5119140964352459E-2,3.4600138881135431E-2,3.408880677944378E-2,3.3585031309796835E-2,3.3088700797829398E-2,3.2599705219536361E-2,3.2117936176883119E-2,3.1643286873776474E-2,3.1175652092390618E-2,3.0714928169842975E-2,3.0261012975214756E-2,2.9813805886911092E-2,2.9373207770355757E-2]
[null,null,null,null,null,null,null,null,null,null,null,{"$f":"'D-Inflationsrate'!L6","v":1.4999999999999999E-2},{"$f":"'D-Inflationsrate'!M6","v":1.4999999999999999E-2},{"$f":"'D-Inflationsrate'!N6","v":1.4999999999999999E-2},{"$f":"'D-Inflationsrate'!O6","v":1.4999999999999999E-2},{"$f":"'D-Inflationsrate'!P6","v":1.4999999999999999E-2},{"$f":"'D-Inflationsrate'!Q6","v":1.4999999999999999E-2},{"$f":"'D-Inflationsrate'!R6","v":1.4999999999999999E-2},{"$f":"'D-Inflationsrate'!S6","v":1.4999999999999999E-2},{"$f":"'D-Inflationsrate'!T6","v":1.4999999999999999E-2},{"$f":"'D-Inflationsrate'!U6","v":1.4999999999999999E-2},{"$f":"'D-Inflationsrate'!V6","v":1.4999999999999999E-2},{"$f":"'D-Inflationsrate'!W6","v":1.4999999999999999E-2},{"$f":"'D-Inflationsrate'!X6","v":1.4999999999999999E-2},{"$f":"'D-Inflationsrate'!Y6","v":1.4999999999999999E-2},{"$f":"'D-Inflationsrate'!Z6","v":1.4999999999999999E-2},{"$f":"'D-Inflationsrate'!AA6","v":1.4999999999999999E-2},{"$f":"'D-Inflationsrate'!AB6","v":1.4999999999999999E-2},{"$f":"'D-Inflationsrate'!AC6","v":1.4999999999999999E-2},{"$f":"'D-Inflationsrate'!AD6","v":1.4999999999999999E-2},{"$f":"'D-Inflationsrate'!AE6","v":1.4999999999999999E-2},{"$f":"'D-Inflationsrate'!AF6","v":0}]
[null,null,null,null,null,null,null,null,null,null,null,{"$f":"IF(L4<ControlPanel!$D$60,M14/(1+M13),IF(L4>ControlPanel!$D$60,K14*(1+K13),1))","v":0.91454219251787172},{"$f":"IF(M4<ControlPanel!$D$60,N14/(1+N13),IF(M4>ControlPanel!$D$60,L14*(1+L13),1))","v":0.92826032540563974},{"$f":"IF(N4<ControlPanel!$D$60,O14/(1+O13),IF(N4>ControlPanel!$D$60,M14*(1+M13),1))","v":0.94218423028672427},{"$f":"IF(O4<ControlPanel!$D$60,P14/(1+P13),IF(O4>ControlPanel!$D$60,N14*(1+N13),1))","v":0.95631699374102508},{"$f":"IF(P4<ControlPanel!$D$60,Q14/(1+Q13),IF(P4>ControlPanel!$D$60,O14*(1+O13),1))","v":0.97066174864714039},{"$f":"IF(Q4<ControlPanel!$D$60,R14/(1+R13),IF(Q4>ControlPanel!$D$60,P14*(1+P13),1))","v":0.98522167487684742},{"$f":"IF(R4<ControlPanel!$D$60,S14/(1+S13),IF(R4>ControlPanel!$D$60,Q14*(1+Q13),1))","v":1},{"$f":"IF(S4<ControlPanel!$D$60,T14/(1+T13),IF(S4>ControlPanel!$D$60,R14*(1+R13),1))","v":1.0149999999999999},{"$f":"IF(T4<ControlPanel!$D$60,U14/(1+U13),IF(T4>ControlPanel!$D$60,S14*(1+S13),1))","v":1.0302249999999997},{"$f":"IF(U4<ControlPanel!$D$60,V14/(1+V13),IF(U4>ControlPanel!$D$60,T14*(1+T13),1))","v":1.0456783749999996},{"$f":"IF(V4<ControlPanel!$D$60,W14/(1+W13),IF(V4>ControlPanel!$D$60,U14*(1+U13),1))","v":1.0613635506249994},{"$f":"IF(W4<ControlPanel!$D$60,X14/(1+X13),IF(W4>ControlPanel!$D$60,V14*(1+V13),1))","v":1.0772840038843743},{"$f":"IF(X4<ControlPanel!$D$60,Y14/(1+Y13),IF(X4>ControlPanel!$D$60,W14*(1+W13),1))","v":1.0934432639426397},{"$f":"IF(Y4<ControlPanel!$D$60,Z14/(1+Z13),IF(Y4>ControlPanel!$D$60,X14*(1+X13),1))","v":1.1098449129017791},{"$f":"IF(Z4<ControlPanel!$D$60,AA14/(1+AA13),IF(Z4>ControlPanel!$D$60,Y14*(1+Y13),1))","v":1.1264925865953057},{"$f":"IF(AA4<ControlPanel!$D$60,AB14/(1+AB13),IF(AA4>ControlPanel!$D$60,Z14*(1+Z13),1))","v":1.1433899753942351},{"$f":"IF(AB4<ControlPanel!$D$60,AC14/(1+AC13),IF(AB4>ControlPanel!$D$60,AA14*(1+AA13),1))","v":1.1605408250251485},{"$f":"IF(AC4<ControlPanel!$D$60,AD14/(1+AD13),IF(AC4>ControlPanel!$D$60,AB14*(1+AB13),1))","v":1.1779489374005256},{"$f":"IF(AD4<ControlPanel!$D$60,AE14/(1+AE13),IF(AD4>ControlPanel!$D$60,AC14*(1+AC13),1))","v":1.1956181714615335},{"$f":"IF(AE4<ControlPanel!$D$60,AF14/(1+AF13),IF(AE4>ControlPanel!$D$60,AD14*(1+AD13),1))","v":1.2135524440334564},{"$f":"IF(AF4<ControlPanel!$D$60,AG14/(1+AG13),IF(AF4>ControlPanel!$D$60,AE14*(1+AE13),1))","v":1.2317557306939582}]
[null,"NOMINAL"]
[null,"Zahlungen für Managementprämie für Bestandsanlagen (gebaut 2012 bis 2014) Berechnung für Prognosejahre [Mrd. Euro] (nominal)"]
[]
[null,null,"Szenario","Bearbeiter","Beschreibung","Kommentar"]
[null,null,null,null,null,null,2010,2011,2012,2013,2014,2015,2016,2017,2018,2019,2020,2021,2022,2023,2024,2025,2026,2027,2028,2029,2030,2031,2032,2033,2034,2035]
[null,null,null,null,null,null,"Mrd. Euro","Mrd. Euro","Mrd. Euro","Mrd. Euro","Mrd. Euro","Mrd. Euro","Mrd. Euro","Mrd. Euro","Mrd. Euro","Mrd. Euro","Mrd. Euro","Mrd. Euro","Mrd. Euro","Mrd. Euro","Mrd. Euro","Mrd. Euro","Mrd. Euro","Mrd. Euro","Mrd. Euro","Mrd. Euro","Mrd. Euro","Mrd. Euro","Mrd. Euro","Mrd. Euro","Mrd. Euro","Mrd. Euro"]
[null,"Wasser","Referenz","cl",null,"Managementprämie aus den ÜNB-Prognosen, Fortschreibung für Folgejahre",0,0,0,0,0,5.6636480000000003E-3,7.4175630000000003E-3,5.7840040000000006E-3,6.0242580000000002E-3,0,null,0,6.0242580000000002E-3,6.0242580000000002E-3,6.0242580000000002E-3,6.0242580000000002E-3,6.0242580000000002E-3,6.0242580000000002E-3,6.0242580000000002E-3,6.0242580000000002E-3,6.0242580000000002E-3,6.0242580000000002E-3,6.0242580000000002E-3,6.0242580000000002E-3,6.0242580000000002E-3,6.0242580000000002E-3]
[null,"Gase","Referenz","cl",null,"Managementprämie aus den ÜNB-Prognosen, Fortschreibung für Folgejahre",0,0,0,0,0,1.0429840000000001E-3,1.8630400000000001E-3,1.7739950000000002E-3,1.812908E-3,0,null,0,1.812908E-3,1.812908E-3,1.812908E-3,1.812908E-3,1.812908E-3,1.812908E-3,1.812908E-3,1.812908E-3,1.812908E-3,1.812908E-3,1.812908E-3,1.812908E-3,1.812908E-3,1.812908E-3]
[null,"Biomasse","Referenz","cl",null,"Managementprämie aus den ÜNB-Prognosen, Fortschreibung für Folgejahre",0,0,0,0,0,4.3850929999999996E-2,5.8247980000000005E-2,6.2028065000000007E-2,6.2409504000000005E-2,0,null,0,6.2409504000000005E-2,6.2409504000000005E-2,6.2409504000000005E-2,6.2409504000000005E-2,6.2409504000000005E-2,6.2409504000000005E-2,6.2409504000000005E-2,6.2409504000000005E-2,6.2409504000000005E-2,6.2409504000000005E-2,6.2409504000000005E-2,6.2409504000000005E-2,6.2409504000000005E-2,6.2409504000000005E-2]
[null,"Geothermie","Referenz","cl",null,"Managementprämie aus den ÜNB-Prognosen, Fortschreibung für Folgejahre",0,0,0,0,0,3.3599999999999997E-5,1.9669000000000002E-4,2.1216200000000001E-4,3.4630000000000001E-4,0,null,0,3.4630000000000001E-4,3.4630000000000001E-4,3.4630000000000001E-4,3.4630000000000001E-4,3.4630000000000001E-4,3.4630000000000001E-4,3.4630000000000001E-4,3.4630000000000001E-4,3.4630000000000001E-4,3.4630000000000001E-4,3.4630000000000001E-4,3.4630000000000001E-4,3.4630000000000001E-4,3.4630000000000001E-4]
[null,"Wind Onshore","Referenz","cl",null,"Managementprämie aus den ÜNB-Prognosen, Fortschreibung für Folgejahre",0,0,0,0,0,0.206644672,0.27028342599999999,0.30297696900000004,0.350982717,0,null,0,0.350982717,0.350982717,0.350982717,0.350982717,0.350982717,0.350982717,0.350982717,0.350982717,0.350982717,0.350982717,0.350982717,0.350982717,0.350982717,0.350982717]
[null,"Wind Offshore","Referenz","cl",null,"Managementprämie aus den ÜNB-Prognosen, Fortschreibung für Folgejahre",0,0,0,0,0,2.9591831999999998E-2,6.1518174000000002E-2,8.013342200000001E-2,9.025762200000001E-2,0,null,0,9.025762200000001E-2,9.025762200000001E-2,9.025762200000001E-2,9.025762200000001E-2,9.025762200000001E-2,9.025762200000001E-2,9.025762200000001E-2,9.025762200000001E-2,9.025762200000001E-2,9.025762200000001E-2,9.025762200000001E-2,9.025762200000001E-2,9.025762200000001E-2,9.025762200000001E-2]
[null,"PV","Referenz","cl",null,"Managementprämie aus den ÜNB-Prognosen, Fortschreibung für Folgejahre",0,0,0,0,0,1.9274279999999998E-2,2.7842141000000001E-2,3.2017428000000001E-2,3.6180617000000005E-2,0,null,0,3.6180617000000005E-2,3.6180617000000005E-2,3.6180617000000005E-2,3.6180617000000005E-2,3.6180617000000005E-2,3.6180617000000005E-2,3.6180617000000005E-2,3.6180617000000005E-2,3.6180617000000005E-2,3.6180617000000005E-2,3.6180617000000005E-2,3.6180617000000005E-2,3.6180617000000005E-2,3.6180617000000005E-2]

{"sheet":"D-Netzverl. u. KW-Eigenverbr.","index":53,"n_rows":6,"n_cols":31,"rows_kept":6,"cut":false,"hidden":true,"merged":[]}
[" ","Netzverluste und KW-Eigenverbrauch --> wird zu Nettostromverbrauch hinzuaddiert, um Bruttostromverbrauch zu berechnen"]
[]
[null,"Szenario","Bearbeiter","Beschreibung","Kommentar"]
[null,null,null,null,null,2010,2011,2012,2013,2014,2015,2016,2017,2018,2019,2020,2021,2022,2023,2024,2025,2026,2027,2028,2029,2030,2031,2032,2033,2034,2035]
[null,null,null,null,null,"TWh","TWh","TWh","TWh","TWh","TWh","TWh","TWh","TWh","TWh","TWh","TWh","TWh","TWh","TWh","TWh","TWh","TWh","TWh","TWh","TWh","TWh","TWh","TWh","TWh","TWh"]
[null,"Referenz","fh","Daten auf Basis von AGEB","Daten auf Basis von AGEB",79.900000000000006,70,66.8,66.8,68.099999999999994,79,86.5,77.2,70.3,62,62,62,{"$f":"($AE$6-Q6)/($AE$4-Q4)+Q6","v":59.714285714285715},57.428571428571431,55.142857142857146,52.857142857142861,50.571428571428577,48.285714285714292,46.000000000000007,43.714285714285722,41.428571428571438,39.142857142857153,36.857142857142861,34.571428571428577,32.285714285714292,30]

{"sheet":"D-Kapazitäten 2009","index":54,"n_rows":12,"n_cols":7,"rows_kept":12,"cut":false,"hidden":true,"merged":[]}
[" ","EE-Kapzitäten Ende 2009"]
[]
[null,null,"Szenario","Bearbeiter","Beschreibung","Kommentar","Wert"]
[]
[null,null,null,null,null,null,"GW"]
[null,"Wasser","Referenz","dr","historische Werte",null,1.2230000000000001]
[null,"Gase","Referenz","dr","historische Werte",null,0.55000000000000004]
[null,"Biomasse","Referenz","dr","historische Werte",null,4.2930000000000001]
[null,"Geothermie","Referenz","dr","historische Werte",null,7.1500000000000001E-3]
[null,"Wind Onshore","Referenz","dr","historische Werte",null,25.632000000000001]
[null,"Wind Offshore","Referenz","dr","historische Werte",null,3.5000000000000003E-2]
[null,"PV","Referenz","cl","historische Werte",null,10.566000000000001]

{"sheet":"D-Rückbau vor 2015","index":55,"n_rows":12,"n_cols":32,"rows_kept":12,"cut":false,"hidden":true,"merged":[]}
[" ","Rückbau von Bestandsanlagen vor 2015. Wird nur für Zubaugrafik verwendet."]
[]
[null,null,"Szenario","Bearbeiter","Beschreibung","Kommentar"]
[null,null,null,null,null,null,2010,2011,2012,2013,2014,2015,2016,2017,2018,2019,2020,2021,2022,2023,2024,2025,2026,2027,2028,2029,2030,2031,2032,2033,2034,2035]
[null,null,null,null,null,null,"GW","GW","GW","GW","GW","GW","GW","GW","GW","GW","GW","GW","GW","GW","GW","GW","GW","GW","GW","GW","GW","GW","GW","GW","GW","GW"]
[null,"Wasser","Referenz","mh","Referenz","Eigene Berechnungen, basierend auf \"Konzept, Gestaltungselemente und Implikationen eines EEG-Vorleistungsfonds. Öko-Institut 2014\"",1.5110000000000401E-2,1.9075899999999812E-2,1.3823499999999989E-2,1.3043600000000044E-2,1.2535300000000138E-2]
[null,"Gase","Referenz","mh","Referenz","Eigene Berechnungen, basierend auf \"Konzept, Gestaltungselemente und Implikationen eines EEG-Vorleistungsfonds. Öko-Institut 2014\"",8.435999999999888E-3,2.639000000000058E-3,7.8029999999998934E-3,7.2572000000000747E-3,8.3369999999999278E-3]
[null,"Biomasse","Referenz","mh","Referenz","Eigene Berechnungen, basierend auf \"Konzept, Gestaltungselemente und Implikationen eines EEG-Vorleistungsfonds. Öko-Institut 2014\"",0,0,0,0,0]
[null,"Geothermie","Referenz","mh","Referenz","Eigene Berechnungen, basierend auf \"Konzept, Gestaltungselemente und Implikationen eines EEG-Vorleistungsfonds. Öko-Institut 2014\"",0,0,0,0,0]
[null,"Wind Onshore","Referenz","mh","Referenz","Eigene Berechnungen, basierend auf \"Konzept, Gestaltungselemente und Implikationen eines EEG-Vorleistungsfonds. Öko-Institut 2014\"",{"$f":"0.055+0.221","v":0.27600000000000002},{"$f":"0.051+0.34","v":0.39100000000000001},{"$f":"0.068+0.154","v":0.222},{"$f":"0.152+0.586","v":0.73799999999999999},{"$f":"0.292-0.292","v":0}]
[null,"Wind Offshore","Referenz","mh","Referenz","Eigene Berechnungen, basierend auf \"Konzept, Gestaltungselemente und Implikationen eines EEG-Vorleistungsfonds. Öko-Institut 2014\"",0,0,0,0,0]
[null,"PV","Referenz","mh","Referenz","Eigene Berechnungen, basierend auf \"Konzept, Gestaltungselemente und Implikationen eines EEG-Vorleistungsfonds. Öko-Institut 2014\"",0,0,0,0,0]

{"sheet":"D-EE-Kapazitäten nicht EEG","index":56,"n_rows":12,"n_cols":32,"rows_kept":12,"cut":false,"hidden":true,"merged":[]}
[" ","EE-Erzeugungskapazitäten von Anlagen, die nicht EEG-gefördert sind. Dies ist momentan nur für Wasserkraft und Biomasse (Stromerzeugung aus Hausmüll) relevant. Leistungen von Anlagen, die das Ende der Förderperiode bereits überschritten haben, werden an anderer Stelle berücksichtigt"]
[]
[null,null,"Szenario","Bearbeiter","Beschreibung","Kommentar"]
[null,null,null,null,null,null,2010,2011,2012,2013,2014,2015,2016,2017,2018,2019,2020,2021,2022,2023,2024,2025,2026,2027,2028,2029,2030,2031,2032,2033,2034,2035]
[null,null,null,null,null,null,"GW","GW","GW","GW","GW","GW","GW","GW","GW","GW","GW","GW","GW","GW","GW","GW","GW","GW","GW","GW","GW","GW","GW","GW","GW","GW"]
[null,"Wasser","Referenz","mh","4,1GW","2011-2015: installierte Leistung BNetzA-Kraftwerksliste (Stand 31.12.2015) Laufwasser+Speicherwasser ohne Pumpspeicher, abzüglich der installierten Leistung von EEG-geförderten Anlagen gemäß ÜNB-Mittelfristprognose 2015. Ab 2015 konstant. Für 2010 Werte von 2011 verwendet (BNetzA-Krafwerksliste enthält erst Daten ab 2011)",3.8975169999999988,3.8975169999999988,3.8347169999999986,3.964421269999999,4.1173359999999999,4.0858899999999991,4.0858899999999991,4.0858899999999991,4.0858899999999991,4.0858899999999991,4.0858899999999991,4.0858899999999991,4.0858899999999991,4.0858899999999991,4.0858899999999991,4.0858899999999991,4.0858899999999991,4.0858899999999991,4.0858899999999991,4.0858899999999991,4.0858899999999991,4.0858899999999991,4.0858899999999991,4.0858899999999991,4.0858899999999991,4.0858899999999991]
[null,"Gase","Referenz","mh","-","keine Stromproduktion außerhalb EEG",0,0,0,0,0,0,0,0,0,0,0,0,0,0,0,0,0,0,0,0,0,0,0,0,0,0]
[null,"Biomasse","Referenz","mh","1,5GW","2011-2015: installierte Leistung BNetzA-Kraftwerksliste (Stand 31.12.2015) Biomasse+erneuerbarer Anteil Abfall, abzüglich der installierten Leistung von EEG-geförderten Anlagen gemäß ÜNB-Mittelfristprognose 2015. Ab 2015 konstant. Für 2010 Werte von 2011 verwendet (BNetzA-Krafwerksliste enthält erst Daten ab 2011)",0.94257419999999925,0.94257419999999925,0.93184419999999868,1.3050080999999993,1.3916451999999984,1.4620892599999982,1.4620892599999982,1.4620892599999982,1.4620892599999982,1.4620892599999982,1.4620892599999982,1.4620892599999982,1.4620892599999982,1.4620892599999982,1.4620892599999982,1.4620892599999982,1.4620892599999982,1.4620892599999982,1.4620892599999982,1.4620892599999982,1.4620892599999982,1.4620892599999982,1.4620892599999982,1.4620892599999982,1.4620892599999982,1.4620892599999982]
[null,"Geothermie","Referenz","mh","-","keine Stromproduktion außerhalb EEG",0,0,0,0,0,0,0,0,0,0,0,0,0,0,0,0,0,0,0,0,0,0,0,0,0,0]
[null,"Wind Onshore","Referenz","mh","-","keine Stromproduktion außerhalb EEG",0,0,0,0,0,0,0,0,0,0,0,0,0,0,0,0,0,0,0,0,0,0,0,0,0,0]
[null,"Wind Offshore","Referenz","mh","-","keine Stromproduktion außerhalb EEG",0,0,0,0,0,0,0,0,0,0,0,0,0,0,0,0,0,0,0,0,0,0,0,0,0,0]
[null,"PV","Referenz","mh","-","keine Stromproduktion außerhalb EEG"]

{"sheet":"D-EE-Strommengen nicht EEG","index":57,"n_rows":12,"n_cols":32,"rows_kept":12,"cut":false,"hidden":true,"merged":[]}
[" ","EE-Strommengen, die nicht EEG-gefördert sind. Dies ist momentan nur für Wasserkraft und Biomasse (Stromerzeugung aus Hausmüll) relevant. Strom aus Anlagen, die das Ende der Förderperiode bereits überschritten haben, wird an anderer Stelle berücksichtigt"]
[]
[null,null,"Szenario","Bearbeiter","Beschreibung","Kommentar"]
[null,null,null,null,null,null,2010,2011,2012,2013,2014,2015,2016,2017,2018,2019,2020,2021,2022,2023,2024,2025,2026,2027,2028,2029,2030,2031,2032,2033,2034,2035]
[null,null,null,null,null,null,"TWh/a","TWh/a","TWh/a","TWh/a","TWh/a","TWh/a","TWh/a","TWh/a","TWh/a","TWh/a","TWh/a","TWh/a","TWh/a","TWh/a","TWh/a","TWh/a","TWh/a","TWh/a","TWh/a","TWh/a","TWh/a","TWh/a","TWh/a","TWh/a","TWh/a","TWh/a"]
[null,"Wasser","Referenz","mh","14,65 TWh/a","Annahme: Anlagen, die nicht EEG-gefördert sind, produzieren ab 2014 13,95 TWh/a. Quelle: Differenz aus Stromerzeugung Wasserkraft gesamt gemäß AG Energiebilanzen im Jahr 2014 und Strommenge Wasserkraft gemäß EEG-Jahresabrechnung für das Jahr 2014.",15.556000000000001,11.633254000000001,16.270144000000002,16.704712000000001,13.95,13.95,13.95,13.95,13.95,13.95,13.95,13.95,13.95,13.95,13.95,13.95,13.95,13.95,13.95,13.95,13.95,13.95,13.95,13.95,13.95,13.95]
[null,"Gase","Referenz","mh","-","keine Stromproduktion außerhalb EEG",0,0,0,0,0,0,0,0,0,0,0,0,0,0,0,0,0,0,0,0,0,0,0,0,0,0]
[null,"Biomasse","Referenz","mh",5.8,"Erzeugung aus biogenem Anteil des Hausmülls (wird gem. AG Energiebilanzen als \"Erneuerbar\" bilanziert). Quelle 2010-2015: AG Energiebilanzen, danach konstant",4.7,4.8,5,5.4,6.1,5.8,5.8,5.8,5.8,5.8,5.8,5.8,5.8,5.8,5.8,5.8,5.8,5.8,5.8,5.8,5.8,5.8,5.8,5.8,5.8,5.8]
[null,"Geothermie","Referenz","mh","-","keine Stromproduktion außerhalb EEG",0,0,0,0,0,0,0,0,0,0,0,0,0,0,0,0,0,0,0,0,0,0,0,0,0,0]
[null,"Wind Onshore","Referenz","mh","-","keine Stromproduktion außerhalb EEG",0,0,0,0,0,0,0,0,0,0,0,0,0,0,0,0,0,0,0,0,0,0,0,0,0,0]
[null,"Wind Offshore","Referenz","mh","-","keine Stromproduktion außerhalb EEG",0,0,0,0,0,0,0,0,0,0,0,0,0,0,0,0,0,0,0,0,0,0,0,0,0,0]
[null,"PV","Referenz","mh","-","keine Stromproduktion außerhalb EEG"]

{"sheet":"D-Profilfaktoren_Marktprämie","index":58,"n_rows":16,"n_cols":32,"rows_kept":16,"cut":false,"hidden":true,"merged":[]}
[" ","Profilfaktoren (Marktwertfaktoren), die von den ÜNB bei der Berechnung der Vermarktungserlöse von Marktprämien-Anlagen verwendet werden. "]
[]
[null,null,"Szenario","Bearbeiter","Beschreibung","Kommentar"]
[null,null,null,null,null,null,2010,2011,2012,2013,2014,2015,2016,2017,2018,2019,2020,2021,2022,2023,2024,2025,2026,2027,2028,2029,2030,2031,2032,2033,2034,2035]
[null,null,null,null,"ÜNB",null,"TWh/a","TWh/a","TWh/a","TWh/a","TWh/a","TWh/a","TWh/a","TWh/a","TWh/a","TWh/a","TWh/a","TWh/a","TWh/a","TWh/a","TWh/a","TWh/a","TWh/a","TWh/a","TWh/a","TWh/a","TWh/a","TWh/a","TWh/a","TWh/a","TWh/a","TWh/a"]
[null,"Wasser","Referenz","fh","ÜNB","Quelle: ÜNB-Umlageberechnungen",0,0,0.997,0.99499999999999988,0.999,0.98105590087551808,0.9956912515825258,1.0116209702340726,0.9709722384042121,0.86677709396424174,0.90209234807398175,0.856711414157037]
[null,"Gase","Referenz","fh","ÜNB","Quelle: ÜNB-Umlageberechnungen",0,0,1,1,1.0009999999999999,0.97717321179556171,1.0002629114025319,1.0049373882866919,0.97058959073921358,0.86662455275027428,0.90281181980152869,0.8571700494579414]
[null,"Biomasse","Referenz","fh","ÜNB","Quelle: ÜNB-Umlageberechnungen",0,0,1,1,1,0.97709594916872755,1.0002385970999215,1.0063944731686187,0.9705803052660652,0.86662613565660029,0.903426744754666,0.85645616834366967]
[null,"Geothermie","Referenz","fh","ÜNB","Quelle: ÜNB-Umlageberechnungen",0,0,1,1,1.0009999999999999,0.9704087662222286,1.0002616235355399,1.0008007458944923,0.9576555779076602,0.86672159719942365,0.90252197726556671,0.85439545882115719]
[null,"Wind Onshore","Referenz","fh","ÜNB","Quelle: ÜNB-Umlageberechnungen",0,0,0.90500000000000003,0.88900000000000012,0.85099999999999998,0.87804199451939391,0.88474320646636939,0.88556376387505709,0.79928775421656872,0.67846507330943984,0.76098384865625657,0.74498851826199786]
[null,"Wind Offshore","Referenz","fh","ÜNB","Quelle: ÜNB-Umlageberechnungen",0,0,1.02,0.997,0.91799999999999993,0.93555612050472214,0.9825534567397779,0.92131005898091034,0.88317632340840491,0.79026862178293367,0.78878831448197484,0.76115118938091875]
[null,"PV","Referenz","fh","ÜNB","Quelle: ÜNB-Umlageberechnungen",0,0,1.046,0.98100000000000009,1.0109999999999999,0.94011333796182017,0.97823510223085741,1.0007946618334671,0.9155231610892961,0.85632717217267751,0.8187078708852541,0.78547462477492302]
[]
[]
[]
[null,"Diese Werte werden von den ÜNB nicht direkt berichtet, können aber berechnet werden (Vermarktungserlöse von Anlagenbetreibern, die Marktprämie erhalten / (Strommenge Marktprämie * Strompreis))"]